{"text_format":"1","workbook":"xlsx","n_sheets":48,"sheets":["Instructions","rules","Home","INSTRUCTIONS - READ THIS FIRST","country","Country profile","Data coll & an","Prev & Ctrl","Lab dx","Dog popn","IEC","Cross-cutting issues","Legislation","linked mastersheet","SUMMARY (Score)","SUMMARY (S0-S5)","priorit","Prioritisation","masterlist","NW Introduction","NW country","SUMMARY (Workplan)","rawdca","DCA","DCAgantt","rawpco","PCO","PCOgantt","rawlab","LAB","LABgantt","rawdpm","DPM","DPMgantt","rawiec","IECnw","IECgantt","rawcci","CCI","CCIgantt","rawleg","LEG","LEGgantt","rawgantt","Gantt (stage)","Gantt (component)","Distribution graph","Budget"],"not_rendered":{"charts":2,"images":6,"macros":1,"external_links":1,"defined_names":35,"comments":0,"pivot_tables":2},"unopened":[],"bounds":{"document_bytes":16777216,"sheet_cells":100000,"rows_first":2000,"rows_last":500,"rows_between":2000,"halvings":0,"cell_chars":16384,"cell_head_chars":4096},"cells_cut":0,"cells_raw":0,"read":"whole","date_system":"1900"}

{"sheet":"Instructions","index":0,"n_rows":8,"n_cols":1,"rows_kept":8,"cut":false,"hidden":false,"merged":[]}
["How to use this tool:"]
[]
["1.   Make sure that you click on Enable Macros or Enable Content on the yellow bar located near the upper left portion of your screen before using the SARE-PWARE tool."]
["2.   The details for completing the PWARE is based on SARE. Answer all required sections in the SARE tool before opening the PWARE sections. "]
["3.   Please click Calculate SARE Score after you have finished answering the second section under SARE. You do not need to click Calculate SARE Score after every worksheet in that section. If you have already moved to another section and needed to view or edit any of the worksheets in the second section of SARE, you would need to click Calculate SARE Score again. This might take a while depending on your computer as it refreshes all worksheets in this file."]
["4. If you cannot see the Gantt charts, please click Refresh Gantt Charts in the home page."]
[]
["5. You may save all the Practical Workplan worksheets as PDF by clicking on the button at the lower right. Make sure that you have finished filling out all the worksheets before saving the file to PDF."]

{"sheet":"rules","index":1,"n_rows":40,"n_cols":10,"rows_kept":40,"cut":false,"hidden":true,"merged":[[7,1,7,4],[2,1,2,4],[3,1,3,4],[4,1,4,4],[5,1,5,4],[6,1,6,4]]}
["RULES FOR STAGE PROGRESSION"]
[]
["SCORE","RULE"]
["+ 1","All critical activities accomplished"]
["+ 0.5","50% or more of the critical activities checked"]
["+ 0.5","Not all but at least 1 critical activity checked, AND 50% +1 of all activities checked"]
["+ 0","At least 1 critical activity checked, AND 50% or less of all activities checked"]
["+ 0","No critical activity accomplished"]
[]
[]
[]
[]
[]
[null,"Number of components per stage"]
[]
[null,"Count of ID","Column Labels"]
[null,"Row Labels","CCI","DCA","DPM","IEC","LAB","LEG","PCO","Grand Total"]
[null,0,1,2,null,1,2,2,null,8]
[null,1,5,9,3,10,2,7,6,42]
[null,2,3,5,4,3,3,1,8,27]
[null,3,1,3,3,2,2,2,6,19]
[null,4,1,2,null,1,3,null,3,10]
[null,5,null,1,2,2,1,null,3,9]
[null,"Grand Total",11,22,12,19,13,12,26,115]
[]
[]
[]
[null,"Number of critical activities per stage"]
[]
[null,"KEY","KEY"]
[]
[null,"Count of ID","Column Labels"]
[null,"Row Labels","CCI","DCA","DPM","IEC","LAB","LEG","PCO","Grand Total"]
[null,0,null,1,null,null,2,null,null,3]
[null,1,null,2,null,1,1,3,3,10]
[null,2,2,2,null,1,null,null,2,7]
[null,3,null,3,null,2,null,1,4,10]
[null,4,null,2,null,1,1,null,2,6]
[null,5,null,1,2,2,1,null,3,9]
[null,"Grand Total",2,11,2,7,5,4,14,45]

{"sheet":"Home","index":2,"n_rows":0,"n_cols":0,"rows_kept":0,"cut":false,"hidden":false,"merged":[]}

{"sheet":"INSTRUCTIONS - READ THIS FIRST","index":3,"n_rows":22,"n_cols":3,"rows_kept":22,"cut":false,"hidden":true,"merged":[[35,2,35,8],[36,2,36,8],[41,1,52,8],[56,1,59,8],[29,2,29,8],[26,2,26,8],[26,11,26,17],[27,2,27,8],[27,11,27,17],[28,2,28,8],[28,11,28,17],[25,2,25,8],[25,11,25,17],[8,9,8,11],[21,2,21,8],[23,0,23,2],[24,2,24,8],[24,11,24,17]]}
[]
[]
[]
[]
[]
[]
[]
[]
[]
[]
[]
[]
[]
[]
[]
[]
[]
[]
[]
[]
[]
[null,null,"\n"]

{"sheet":"country","index":4,"n_rows":249,"n_cols":1,"rows_kept":249,"cut":false,"hidden":true,"merged":[]}
["Afghanistan"]
["Åland Islands"]
["Albania"]
["Algeria"]
["American Samoa"]
["Andorra"]
["Angola"]
["Anguilla"]
["Antarctica"]
["Antigua and Barbuda"]
["Argentina"]
["Armenia"]
["Aruba"]
["Australia"]
["Austria"]
["Azerbaijan"]
["Bahamas"]
["Bahrain"]
["Bangladesh"]
["Barbados"]
["Belarus"]
["Belgium"]
["Belize"]
["Benin"]
["Bermuda"]
["Bhutan"]
["Bolivia (Plurinational State of)"]
["Bonaire, Sint Eustatius and Saba"]
["Bosnia and Herzegovina"]
["Botswana"]
["Bouvet Island"]
["Brazil"]
["British Indian Ocean Territory"]
["Brunei Darussalam"]
["Bulgaria"]
["Burkina Faso"]
["Burundi"]
["Cabo Verde"]
["Cambodia"]
["Cameroon"]
["Canada"]
["Cayman Islands"]
["Central African Republic"]
["Chad"]
["Chile"]
["China"]
["Christmas Island"]
["Cocos (Keeling) Islands"]
["Colombia"]
["Comoros"]
["Congo"]
["Congo (Democratic Republic of the)"]
["Cook Islands"]
["Costa Rica"]
["Côte d'Ivoire"]
["Croatia"]
["Cuba"]
["Curaçao"]
["Cyprus"]
["Czechia"]
["Denmark"]
["Djibouti"]
["Dominica"]
["Dominican Republic"]
["Ecuador"]
["Egypt"]
["El Salvador"]
["Equatorial Guinea"]
["Eritrea"]
["Estonia"]
["Ethiopia"]
["Falkland Islands (Malvinas)"]
["Faroe Islands"]
["Fiji"]
["Finland"]
["France"]
["French Guiana"]
["French Polynesia"]
["French Southern Territories"]
["Gabon"]
["Gambia"]
["Georgia"]
["Germany"]
["Ghana"]
["Gibraltar"]
["Greece"]
["Greenland"]
["Grenada"]
["Guadeloupe"]
["Guam"]
["Guatemala"]
["Guernsey"]
["Guinea"]
["Guinea-Bissau"]
["Guyana"]
["Haiti"]
["Heard Island and McDonald Islands"]
["Holy See"]
["Honduras"]
["Hong Kong"]
["Hungary"]
["Iceland"]
["India"]
["Indonesia"]
["Iran (Islamic Republic of)"]
["Iraq"]
["Ireland"]
["Isle of Man"]
["Israel"]
["Italy"]
["Jamaica"]
["Japan"]
["Jersey"]
["Jordan"]
["Kazakhstan"]
["Kenya"]
["Kiribati"]
["Korea (Democratic People's Republic of)"]
["Korea (Republic of)"]
["Kuwait"]
["Kyrgyzstan"]
["Lao People's Democratic Republic"]
["Latvia"]
["Lebanon"]
["Lesotho"]
["Liberia"]
["Libya"]
["Liechtenstein"]
["Lithuania"]
["Luxembourg"]
["Macao"]
["Macedonia (the former Yugoslav Republic of)"]
["Madagascar"]
["Malawi"]
["Malaysia"]
["Maldives"]
["Mali"]
["Malta"]
["Marshall Islands"]
["Martinique"]
["Mauritania"]
["Mauritius"]
["Mayotte"]
["Mexico"]
["Micronesia (Federated States of)"]
["Moldova (Republic of)"]
["Monaco"]
["Mongolia"]
["Montenegro"]
["Montserrat"]
["Morocco"]
["Mozambique"]
["Myanmar"]
["Namibia"]
["Nauru"]
["Nepal"]
["Netherlands"]
["New Caledonia"]
["New Zealand"]
["Nicaragua"]
["Niger"]
["Nigeria"]
["Niue"]
["Norfolk Island"]
["Northern Mariana Islands"]
["Norway"]
["Oman"]
["Pakistan"]
["Palau"]
["Palestine, State of"]
["Panama"]
["Papua New Guinea"]
["Paraguay"]
["Peru"]
["Philippines"]
["Pitcairn"]
["Poland"]
["Portugal"]
["Puerto Rico"]
["Qatar"]
["Réunion"]
["Romania"]
["Russian Federation"]
["Rwanda"]
["Saint Barthélemy"]
["Saint Helena, Ascension and Tristan da Cunha"]
["Saint Kitts and Nevis"]
["Saint Lucia"]
["Saint Martin (French part)"]
["Saint Pierre and Miquelon"]
["Saint Vincent and the Grenadines"]
["Samoa"]
["San Marino"]
["Sao Tome and Principe"]
["Saudi Arabia"]
["Senegal"]
["Serbia"]
["Seychelles"]
["Sierra Leone"]
["Singapore"]
["Sint Maarten (Dutch part)"]
["Slovakia"]
["Slovenia"]
["Solomon Islands"]
["Somalia"]
["South Africa"]
["South Georgia and the South Sandwich Islands"]
["South Sudan"]
["Spain"]
["Sri Lanka"]
["Sudan"]
["Suriname"]
["Svalbard and Jan Mayen"]
["Swaziland"]
["Sweden"]
["Switzerland"]
["Syrian Arab Republic"]
["Taiwan, Province of China[a]"]
["Tajikistan"]
["Tanzania, United Republic of"]
["Thailand"]
["Timor-Leste"]
["Togo"]
["Tokelau"]
["Tonga"]
["Trinidad and Tobago"]
["Tunisia"]
["Turkey"]
["Turkmenistan"]
["Turks and Caicos Islands"]
["Tuvalu"]
["Uganda"]
["Ukraine"]
["United Arab Emirates"]
["United Kingdom of Great Britain and Northern Ireland"]
["United States of America"]
["United States Minor Outlying Islands"]
["Uruguay"]
["Uzbekistan"]
["Vanuatu"]
["Venezuela (Bolivarian Republic of)"]
["Viet Nam"]
["Virgin Islands (British)"]
["Virgin Islands (U.S.)"]
["Wallis and Futuna"]
["Western Sahara"]
["Yemen"]
["Zambia"]
["Zimbabwe"]

{"sheet":"Country profile","index":5,"n_rows":20,"n_cols":13,"rows_kept":20,"cut":false,"hidden":true,"merged":[[20,3,20,10],[28,3,28,10],[29,3,29,10],[22,3,22,10],[23,3,23,10],[24,3,24,10],[25,3,25,10],[26,3,26,10],[27,3,27,10],[2,2,2,3],[4,2,4,4],[14,5,14,10],[15,5,15,10],[16,5,16,10],[4,5,4,10],[2,4,2,10],[5,5,5,10],[6,5,6,10],[9,5,9,10],[5,1,6,1],[5,3,5,4],[6,3,6,4],[19,1,29,1],[9,2,9,4],[10,1,11,1],[10,3,10,4],[11,3,11,4],[14,2,14,4],[15,1,16,1],[15,3,15,4],[16,3,16,4],[21,3,21,10],[10,5,10,10],[11,5,11,10],[19,3,19,10]]}
[]
[]
[null,null,"Country:",null,"Swaziland",null,null,null,null,null,null,null,"(You may select your country's name from the drop-down list)"]
[]
[null,null,"Prepared by:",null,null,"dr G O ginindza"]
[null,"HUMAN HEALTH:",null,"Designation:",null,"medical officer"]
[null,null,null,"Office:",null,"human health"]
[null,null,null,"Date prepared:",null,"date",13,"month",9,"year",2018]
[]
[null,null,"Prepared by:",null,null,"dr B S kunene"]
[null,"ANIMAL HEALTH:",null,"Designation:",null,"VETERNARY SURGEON"]
[null,null,null,"Office:",null,"VETE RNARY OFFICER"]
[null,null,null,"Date prepared:",null,"date",13,"month",9,"year",2018]
[]
[null,null,"Prepared by:"]
[null,"OTHERS:",null,"Designation:"]
[null,null,null,"Office:"]
[null,null,null,"Date prepared:",null,"date",null,"month",null,"year"]
[]
[null,"NAMES OF\nMEMBERS OF\nNATIONAL RABIES \nTASK FORCE:"]

{"sheet":"Data coll & an","index":6,"n_rows":50,"n_cols":12,"rows_kept":50,"cut":false,"hidden":true,"merged":[[3,7,3,10]]}
[]
[null,"Instructions: Enter \"0\" under Status if No or None, or \"1\" if Yes"]
[]
["ID","STAGE","subcomponent","ACHIEVEMENTS / ACTIVITIES","OTHER IMPORTANT INFORMATION\n(please include in REMARKS)","STATUS","REMARKS","RABIES BLUEPRINT REFERENCES AND OTHER LINKS"]
[{"$f":"IFERROR(INDEX(masterlist!$A$2:$F$200,SMALL(IF(masterlist!$B$2:$B$200=\"DCA\",ROW(masterlist!$A$2:$F$200)-1),ROW(1:1)),3),\"\")","v":"DCA-Sur-0-1"},{"$f":"IFERROR(INDEX(masterlist!$E$2:$E$200,MATCH(A5,masterlist!$C$2:$C$200,0)),\"\")","v":0},{"$f":"IFERROR(INDEX(masterlist!$D$2:$D$200,MATCH(A5,masterlist!$C$2:$C$200,0)),\"\")","v":"Surveillance"},{"$f":"IFERROR(INDEX(masterlist!$G$2:$G$200,MATCH(A5,masterlist!$C$2:$C$200,0)),\"\")","v":"Does the national authority report at least one confirmed rabies case to the WHO, OIE or PARACON?"},{"$f":"IFERROR(INDEX(masterlist!$H$2:$H$200,MATCH(A5,masterlist!$C$2:$C$200,0)),\"\")","v":"Year of last reported rabies case"},1,null,{"$f":"IFERROR(HYPERLINK(INDEX(masterlist!$M$2:$M$200,MATCH(A5,masterlist!$C$2:$C$200,0)),INDEX(masterlist!$L$2:$L$200,MATCH(A5,masterlist!$C$2:$C$200,0))),\"\")","v":"WHO Collaborating Centres and OIE Reference Laboratories"},{"$f":"IFERROR(HYPERLINK(INDEX(masterlist!$O$2:$O$200,MATCH(A5,masterlist!$C$2:$C$200,0)),INDEX(masterlist!$N$2:$N$200,MATCH(A5,masterlist!$C$2:$C$200,0))),\"\")","v":0},{"$f":"IFERROR(HYPERLINK(INDEX(masterlist!$Q$2:$Q$200,MATCH(A5,masterlist!$C$2:$C$200,0)),INDEX(masterlist!$P$2:$P$200,MATCH(A5,masterlist!$C$2:$C$200,0))),\"\")","v":0},{"$f":"IFERROR(HYPERLINK(INDEX(masterlist!$S$2:$S$200,MATCH(A5,masterlist!$C$2:$C$200,0)),INDEX(masterlist!$R$2:$R$200,MATCH(A5,masterlist!$C$2:$C$200,0))),\"\")","v":0},{"$f":"IFERROR(HYPERLINK(INDEX(masterlist!$U$2:$U$200,MATCH(A5,masterlist!$C$2:$C$200,0)),INDEX(masterlist!$T$2:$T$200,MATCH(A5,masterlist!$C$2:$C$200,0))),\"\")","v":0}]
[{"$f":"IFERROR(INDEX(masterlist!$A$2:$F$200,SMALL(IF(masterlist!$B$2:$B$200=\"DCA\",ROW(masterlist!$A$2:$F$200)-1),ROW(2:2)),3),\"\")","v":"DCA-Sur-0-2"},{"$f":"IFERROR(INDEX(masterlist!$E$2:$E$200,MATCH(A6,masterlist!$C$2:$C$200,0)),\"\")","v":0},{"$f":"IFERROR(INDEX(masterlist!$D$2:$D$200,MATCH(A6,masterlist!$C$2:$C$200,0)),\"\")","v":"Surveillance"},{"$f":"IFERROR(INDEX(masterlist!$G$2:$G$200,MATCH(A6,masterlist!$C$2:$C$200,0)),\"\")","v":"Have there been reports on rabies in the country? "},{"$f":"IFERROR(INDEX(masterlist!$H$2:$H$200,MATCH(A6,masterlist!$C$2:$C$200,0)),\"\")","v":"e.g. media, newspaper, Twitter, Facebook, etc."},1,null,{"$f":"IFERROR(HYPERLINK(INDEX(masterlist!$M$2:$M$200,MATCH(A6,masterlist!$C$2:$C$200,0)),INDEX(masterlist!$L$2:$L$200,MATCH(A6,masterlist!$C$2:$C$200,0))),\"\")","v":0},{"$f":"IFERROR(HYPERLINK(INDEX(masterlist!$O$2:$O$200,MATCH(A6,masterlist!$C$2:$C$200,0)),INDEX(masterlist!$N$2:$N$200,MATCH(A6,masterlist!$C$2:$C$200,0))),\"\")","v":0},{"$f":"IFERROR(HYPERLINK(INDEX(masterlist!$Q$2:$Q$200,MATCH(A6,masterlist!$C$2:$C$200,0)),INDEX(masterlist!$P$2:$P$200,MATCH(A6,masterlist!$C$2:$C$200,0))),\"\")","v":0},{"$f":"IFERROR(HYPERLINK(INDEX(masterlist!$S$2:$S$200,MATCH(A6,masterlist!$C$2:$C$200,0)),INDEX(masterlist!$R$2:$R$200,MATCH(A6,masterlist!$C$2:$C$200,0))),\"\")","v":0},{"$f":"IFERROR(HYPERLINK(INDEX(masterlist!$U$2:$U$200,MATCH(A6,masterlist!$C$2:$C$200,0)),INDEX(masterlist!$T$2:$T$200,MATCH(A6,masterlist!$C$2:$C$200,0))),\"\")","v":0}]
[{"$f":"IFERROR(INDEX(masterlist!$A$2:$F$200,SMALL(IF(masterlist!$B$2:$B$200=\"DCA\",ROW(masterlist!$A$2:$F$200)-1),ROW(3:3)),3),\"\")","v":"DCA-Sur-1-3"},{"$f":"IFERROR(INDEX(masterlist!$E$2:$E$200,MATCH(A7,masterlist!$C$2:$C$200,0)),\"\")","v":1},{"$f":"IFERROR(INDEX(masterlist!$D$2:$D$200,MATCH(A7,masterlist!$C$2:$C$200,0)),\"\")","v":"Surveillance"},{"$f":"IFERROR(INDEX(masterlist!$G$2:$G$200,MATCH(A7,masterlist!$C$2:$C$200,0)),\"\")","v":"Are dog rabies cases reported from a local to the national level? "},{"$f":"IFERROR(INDEX(masterlist!$H$2:$H$200,MATCH(A7,masterlist!$C$2:$C$200,0)),\"\")","v":" "},1,null,{"$f":"IFERROR(HYPERLINK(INDEX(masterlist!$M$2:$M$200,MATCH(A7,masterlist!$C$2:$C$200,0)),INDEX(masterlist!$L$2:$L$200,MATCH(A7,masterlist!$C$2:$C$200,0))),\"\")","v":"3.1.3-Infrastructure-surveillance"},{"$f":"IFERROR(HYPERLINK(INDEX(masterlist!$O$2:$O$200,MATCH(A7,masterlist!$C$2:$C$200,0)),INDEX(masterlist!$N$2:$N$200,MATCH(A7,masterlist!$C$2:$C$200,0))),\"\")","v":"Challenges of animal health information systems and surveillance for animal diseases and zoonoses "},{"$f":"IFERROR(HYPERLINK(INDEX(masterlist!$Q$2:$Q$200,MATCH(A7,masterlist!$C$2:$C$200,0)),INDEX(masterlist!$P$2:$P$200,MATCH(A7,masterlist!$C$2:$C$200,0))),\"\")","v":"Zoonotic diseases : a guide to establishing collaboration"},{"$f":"IFERROR(HYPERLINK(INDEX(masterlist!$S$2:$S$200,MATCH(A7,masterlist!$C$2:$C$200,0)),INDEX(masterlist!$R$2:$R$200,MATCH(A7,masterlist!$C$2:$C$200,0))),\"\")","v":" 6. Reporting of rabies data"},{"$f":"IFERROR(HYPERLINK(INDEX(masterlist!$U$2:$U$200,MATCH(A7,masterlist!$C$2:$C$200,0)),INDEX(masterlist!$T$2:$T$200,MATCH(A7,masterlist!$C$2:$C$200,0))),\"\")","v":0}]
[{"$f":"IFERROR(INDEX(masterlist!$A$2:$F$200,SMALL(IF(masterlist!$B$2:$B$200=\"DCA\",ROW(masterlist!$A$2:$F$200)-1),ROW(4:4)),3),\"\")","v":"DCA-Sur-1-4"},{"$f":"IFERROR(INDEX(masterlist!$E$2:$E$200,MATCH(A8,masterlist!$C$2:$C$200,0)),\"\")","v":1},{"$f":"IFERROR(INDEX(masterlist!$D$2:$D$200,MATCH(A8,masterlist!$C$2:$C$200,0)),\"\")","v":"Surveillance"},{"$f":"IFERROR(INDEX(masterlist!$G$2:$G$200,MATCH(A8,masterlist!$C$2:$C$200,0)),\"\")","v":"Are human rabies cases reported from a local to the national level? "},{"$f":"IFERROR(INDEX(masterlist!$H$2:$H$200,MATCH(A8,masterlist!$C$2:$C$200,0)),\"\")","v":" "},1,null,{"$f":"IFERROR(HYPERLINK(INDEX(masterlist!$M$2:$M$200,MATCH(A8,masterlist!$C$2:$C$200,0)),INDEX(masterlist!$L$2:$L$200,MATCH(A8,masterlist!$C$2:$C$200,0))),\"\")","v":"3.1.3-Infrastructure-surveillance"},{"$f":"IFERROR(HYPERLINK(INDEX(masterlist!$O$2:$O$200,MATCH(A8,masterlist!$C$2:$C$200,0)),INDEX(masterlist!$N$2:$N$200,MATCH(A8,masterlist!$C$2:$C$200,0))),\"\")","v":"Challenges of animal health information systems and surveillance for animal diseases and zoonoses "},{"$f":"IFERROR(HYPERLINK(INDEX(masterlist!$Q$2:$Q$200,MATCH(A8,masterlist!$C$2:$C$200,0)),INDEX(masterlist!$P$2:$P$200,MATCH(A8,masterlist!$C$2:$C$200,0))),\"\")","v":"Zoonotic diseases : a guide to establishing collaboration"},{"$f":"IFERROR(HYPERLINK(INDEX(masterlist!$S$2:$S$200,MATCH(A8,masterlist!$C$2:$C$200,0)),INDEX(masterlist!$R$2:$R$200,MATCH(A8,masterlist!$C$2:$C$200,0))),\"\")","v":" 6. Reporting of rabies data"},{"$f":"IFERROR(HYPERLINK(INDEX(masterlist!$U$2:$U$200,MATCH(A8,masterlist!$C$2:$C$200,0)),INDEX(masterlist!$T$2:$T$200,MATCH(A8,masterlist!$C$2:$C$200,0))),\"\")","v":0}]
[{"$f":"IFERROR(INDEX(masterlist!$A$2:$F$200,SMALL(IF(masterlist!$B$2:$B$200=\"DCA\",ROW(masterlist!$A$2:$F$200)-1),ROW(5:5)),3),\"\")","v":"DCA-Sur-1-5"},{"$f":"IFERROR(INDEX(masterlist!$E$2:$E$200,MATCH(A9,masterlist!$C$2:$C$200,0)),\"\")","v":1},{"$f":"IFERROR(INDEX(masterlist!$D$2:$D$200,MATCH(A9,masterlist!$C$2:$C$200,0)),\"\")","v":"Surveillance"},{"$f":"IFERROR(INDEX(masterlist!$G$2:$G$200,MATCH(A9,masterlist!$C$2:$C$200,0)),\"\")","v":"Are you reporting all of the human or animal rabies cases that have been tested to a relevant international database such as WHO, OIE or PARACON?"},{"$f":"IFERROR(INDEX(masterlist!$H$2:$H$200,MATCH(A9,masterlist!$C$2:$C$200,0)),\"\")","v":" "},1,null,{"$f":"IFERROR(HYPERLINK(INDEX(masterlist!$M$2:$M$200,MATCH(A9,masterlist!$C$2:$C$200,0)),INDEX(masterlist!$L$2:$L$200,MATCH(A9,masterlist!$C$2:$C$200,0))),\"\")","v":"6.7 International databases"},{"$f":"IFERROR(HYPERLINK(INDEX(masterlist!$O$2:$O$200,MATCH(A9,masterlist!$C$2:$C$200,0)),INDEX(masterlist!$N$2:$N$200,MATCH(A9,masterlist!$C$2:$C$200,0))),\"\")","v":0},{"$f":"IFERROR(HYPERLINK(INDEX(masterlist!$Q$2:$Q$200,MATCH(A9,masterlist!$C$2:$C$200,0)),INDEX(masterlist!$P$2:$P$200,MATCH(A9,masterlist!$C$2:$C$200,0))),\"\")","v":0},{"$f":"IFERROR(HYPERLINK(INDEX(masterlist!$S$2:$S$200,MATCH(A9,masterlist!$C$2:$C$200,0)),INDEX(masterlist!$R$2:$R$200,MATCH(A9,masterlist!$C$2:$C$200,0))),\"\")","v":0},{"$f":"IFERROR(HYPERLINK(INDEX(masterlist!$U$2:$U$200,MATCH(A9,masterlist!$C$2:$C$200,0)),INDEX(masterlist!$T$2:$T$200,MATCH(A9,masterlist!$C$2:$C$200,0))),\"\")","v":0}]
[{"$f":"IFERROR(INDEX(masterlist!$A$2:$F$200,SMALL(IF(masterlist!$B$2:$B$200=\"DCA\",ROW(masterlist!$A$2:$F$200)-1),ROW(6:6)),3),\"\")","v":"DCA-Sur-1-6"},{"$f":"IFERROR(INDEX(masterlist!$E$2:$E$200,MATCH(A10,masterlist!$C$2:$C$200,0)),\"\")","v":1},{"$f":"IFERROR(INDEX(masterlist!$D$2:$D$200,MATCH(A10,masterlist!$C$2:$C$200,0)),\"\")","v":"Surveillance"},{"$f":"IFERROR(INDEX(masterlist!$G$2:$G$200,MATCH(A10,masterlist!$C$2:$C$200,0)),\"\")","v":"Is there capacity to analyze dog rabies data at the national level? "},{"$f":"IFERROR(INDEX(masterlist!$H$2:$H$200,MATCH(A10,masterlist!$C$2:$C$200,0)),\"\")","v":"For example, data analysis infrastructure in place for other diseases/programmes, adequately trained staff, sufficient technology, etc. "},1,null,{"$f":"IFERROR(HYPERLINK(INDEX(masterlist!$M$2:$M$200,MATCH(A10,masterlist!$C$2:$C$200,0)),INDEX(masterlist!$L$2:$L$200,MATCH(A10,masterlist!$C$2:$C$200,0))),\"\")","v":"3.1.3-Infrastructure-surveillance"},{"$f":"IFERROR(HYPERLINK(INDEX(masterlist!$O$2:$O$200,MATCH(A10,masterlist!$C$2:$C$200,0)),INDEX(masterlist!$N$2:$N$200,MATCH(A10,masterlist!$C$2:$C$200,0))),\"\")","v":"Challenges of animal health information systems and surveillance for animal diseases and zoonoses "},{"$f":"IFERROR(HYPERLINK(INDEX(masterlist!$Q$2:$Q$200,MATCH(A10,masterlist!$C$2:$C$200,0)),INDEX(masterlist!$P$2:$P$200,MATCH(A10,masterlist!$C$2:$C$200,0))),\"\")","v":"2.3 Animal rabies surveillance"},{"$f":"IFERROR(HYPERLINK(INDEX(masterlist!$S$2:$S$200,MATCH(A10,masterlist!$C$2:$C$200,0)),INDEX(masterlist!$R$2:$R$200,MATCH(A10,masterlist!$C$2:$C$200,0))),\"\")","v":0},{"$f":"IFERROR(HYPERLINK(INDEX(masterlist!$U$2:$U$200,MATCH(A10,masterlist!$C$2:$C$200,0)),INDEX(masterlist!$T$2:$T$200,MATCH(A10,masterlist!$C$2:$C$200,0))),\"\")","v":0}]
[{"$f":"IFERROR(INDEX(masterlist!$A$2:$F$200,SMALL(IF(masterlist!$B$2:$B$200=\"DCA\",ROW(masterlist!$A$2:$F$200)-1),ROW(7:7)),3),\"\")","v":"DCA-Sur-1-7"},{"$f":"IFERROR(INDEX(masterlist!$E$2:$E$200,MATCH(A11,masterlist!$C$2:$C$200,0)),\"\")","v":1},{"$f":"IFERROR(INDEX(masterlist!$D$2:$D$200,MATCH(A11,masterlist!$C$2:$C$200,0)),\"\")","v":"Surveillance"},{"$f":"IFERROR(INDEX(masterlist!$G$2:$G$200,MATCH(A11,masterlist!$C$2:$C$200,0)),\"\")","v":"Is there capacity to analyze human rabies data at the national level? "},{"$f":"IFERROR(INDEX(masterlist!$H$2:$H$200,MATCH(A11,masterlist!$C$2:$C$200,0)),\"\")","v":"For example, data analysis infrastructure in place for other diseases/programmes, adequately trained staff, sufficient technology, etc."},1,null,{"$f":"IFERROR(HYPERLINK(INDEX(masterlist!$M$2:$M$200,MATCH(A11,masterlist!$C$2:$C$200,0)),INDEX(masterlist!$L$2:$L$200,MATCH(A11,masterlist!$C$2:$C$200,0))),\"\")","v":"3.1.3-Infrastructure-surveillance"},{"$f":"IFERROR(HYPERLINK(INDEX(masterlist!$O$2:$O$200,MATCH(A11,masterlist!$C$2:$C$200,0)),INDEX(masterlist!$N$2:$N$200,MATCH(A11,masterlist!$C$2:$C$200,0))),\"\")","v":"Challenges of animal health information systems and surveillance for animal diseases and zoonoses "},{"$f":"IFERROR(HYPERLINK(INDEX(masterlist!$Q$2:$Q$200,MATCH(A11,masterlist!$C$2:$C$200,0)),INDEX(masterlist!$P$2:$P$200,MATCH(A11,masterlist!$C$2:$C$200,0))),\"\")","v":"2.2 Human rabies surveillance"},{"$f":"IFERROR(HYPERLINK(INDEX(masterlist!$S$2:$S$200,MATCH(A11,masterlist!$C$2:$C$200,0)),INDEX(masterlist!$R$2:$R$200,MATCH(A11,masterlist!$C$2:$C$200,0))),\"\")","v":0},{"$f":"IFERROR(HYPERLINK(INDEX(masterlist!$U$2:$U$200,MATCH(A11,masterlist!$C$2:$C$200,0)),INDEX(masterlist!$T$2:$T$200,MATCH(A11,masterlist!$C$2:$C$200,0))),\"\")","v":0}]
[{"$f":"IFERROR(INDEX(masterlist!$A$2:$F$200,SMALL(IF(masterlist!$B$2:$B$200=\"DCA\",ROW(masterlist!$A$2:$F$200)-1),ROW(8:8)),3),\"\")","v":"DCA-Sur-1-8"},{"$f":"IFERROR(INDEX(masterlist!$E$2:$E$200,MATCH(A12,masterlist!$C$2:$C$200,0)),\"\")","v":1},{"$f":"IFERROR(INDEX(masterlist!$D$2:$D$200,MATCH(A12,masterlist!$C$2:$C$200,0)),\"\")","v":"Surveillance"},{"$f":"IFERROR(INDEX(masterlist!$G$2:$G$200,MATCH(A12,masterlist!$C$2:$C$200,0)),\"\")","v":"Has an animal rabies surveillance* system been established at the national level?"},{"$f":"IFERROR(INDEX(masterlist!$H$2:$H$200,MATCH(A12,masterlist!$C$2:$C$200,0)),\"\")","v":" "},1,null,{"$f":"IFERROR(HYPERLINK(INDEX(masterlist!$M$2:$M$200,MATCH(A12,masterlist!$C$2:$C$200,0)),INDEX(masterlist!$L$2:$L$200,MATCH(A12,masterlist!$C$2:$C$200,0))),\"\")","v":"3.1.3-Infrastructure-surveillance"},{"$f":"IFERROR(HYPERLINK(INDEX(masterlist!$O$2:$O$200,MATCH(A12,masterlist!$C$2:$C$200,0)),INDEX(masterlist!$N$2:$N$200,MATCH(A12,masterlist!$C$2:$C$200,0))),\"\")","v":"Challenges of animal health information systems and surveillance for animal diseases and zoonoses "},{"$f":"IFERROR(HYPERLINK(INDEX(masterlist!$Q$2:$Q$200,MATCH(A12,masterlist!$C$2:$C$200,0)),INDEX(masterlist!$P$2:$P$200,MATCH(A12,masterlist!$C$2:$C$200,0))),\"\")","v":"Zoonotic diseases : a guide to establishing collaboration"},{"$f":"IFERROR(HYPERLINK(INDEX(masterlist!$S$2:$S$200,MATCH(A12,masterlist!$C$2:$C$200,0)),INDEX(masterlist!$R$2:$R$200,MATCH(A12,masterlist!$C$2:$C$200,0))),\"\")","v":"2.3 Animal rabies surveillance"},{"$f":"IFERROR(HYPERLINK(INDEX(masterlist!$U$2:$U$200,MATCH(A12,masterlist!$C$2:$C$200,0)),INDEX(masterlist!$T$2:$T$200,MATCH(A12,masterlist!$C$2:$C$200,0))),\"\")","v":0}]
[{"$f":"IFERROR(INDEX(masterlist!$A$2:$F$200,SMALL(IF(masterlist!$B$2:$B$200=\"DCA\",ROW(masterlist!$A$2:$F$200)-1),ROW(9:9)),3),\"\")","v":"DCA-Sur-1-9"},{"$f":"IFERROR(INDEX(masterlist!$E$2:$E$200,MATCH(A13,masterlist!$C$2:$C$200,0)),\"\")","v":1},{"$f":"IFERROR(INDEX(masterlist!$D$2:$D$200,MATCH(A13,masterlist!$C$2:$C$200,0)),\"\")","v":"Surveillance"},{"$f":"IFERROR(INDEX(masterlist!$G$2:$G$200,MATCH(A13,masterlist!$C$2:$C$200,0)),\"\")","v":"Has a human rabies surveillance* system been established at the national level?"},{"$f":"IFERROR(INDEX(masterlist!$H$2:$H$200,MATCH(A13,masterlist!$C$2:$C$200,0)),\"\")","v":" "},1,null,{"$f":"IFERROR(HYPERLINK(INDEX(masterlist!$M$2:$M$200,MATCH(A13,masterlist!$C$2:$C$200,0)),INDEX(masterlist!$L$2:$L$200,MATCH(A13,masterlist!$C$2:$C$200,0))),\"\")","v":"3.1.3-Infrastructure-surveillance"},{"$f":"IFERROR(HYPERLINK(INDEX(masterlist!$O$2:$O$200,MATCH(A13,masterlist!$C$2:$C$200,0)),INDEX(masterlist!$N$2:$N$200,MATCH(A13,masterlist!$C$2:$C$200,0))),\"\")","v":"Challenges of animal health information systems and surveillance for animal diseases and zoonoses "},{"$f":"IFERROR(HYPERLINK(INDEX(masterlist!$Q$2:$Q$200,MATCH(A13,masterlist!$C$2:$C$200,0)),INDEX(masterlist!$P$2:$P$200,MATCH(A13,masterlist!$C$2:$C$200,0))),\"\")","v":"Zoonotic diseases : a guide to establishing collaboration"},{"$f":"IFERROR(HYPERLINK(INDEX(masterlist!$S$2:$S$200,MATCH(A13,masterlist!$C$2:$C$200,0)),INDEX(masterlist!$R$2:$R$200,MATCH(A13,masterlist!$C$2:$C$200,0))),\"\")","v":"2.2 Human rabies surveillance "},{"$f":"IFERROR(HYPERLINK(INDEX(masterlist!$U$2:$U$200,MATCH(A13,masterlist!$C$2:$C$200,0)),INDEX(masterlist!$T$2:$T$200,MATCH(A13,masterlist!$C$2:$C$200,0))),\"\")","v":0}]
[{"$f":"IFERROR(INDEX(masterlist!$A$2:$F$200,SMALL(IF(masterlist!$B$2:$B$200=\"DCA\",ROW(masterlist!$A$2:$F$200)-1),ROW(10:10)),3),\"\")","v":"DCA-Sur-1-10"},{"$f":"IFERROR(INDEX(masterlist!$E$2:$E$200,MATCH(A14,masterlist!$C$2:$C$200,0)),\"\")","v":1},{"$f":"IFERROR(INDEX(masterlist!$D$2:$D$200,MATCH(A14,masterlist!$C$2:$C$200,0)),\"\")","v":"Surveillance"},{"$f":"IFERROR(INDEX(masterlist!$G$2:$G$200,MATCH(A14,masterlist!$C$2:$C$200,0)),\"\")","v":"Are human bite case data collected and used for decision-making?"},{"$f":"IFERROR(INDEX(masterlist!$H$2:$H$200,MATCH(A14,masterlist!$C$2:$C$200,0)),\"\")","v":" "},1,null,{"$f":"IFERROR(HYPERLINK(INDEX(masterlist!$M$2:$M$200,MATCH(A14,masterlist!$C$2:$C$200,0)),INDEX(masterlist!$L$2:$L$200,MATCH(A14,masterlist!$C$2:$C$200,0))),\"\")","v":"5.3.1-Rabies-surveillance"},{"$f":"IFERROR(HYPERLINK(INDEX(masterlist!$O$2:$O$200,MATCH(A14,masterlist!$C$2:$C$200,0)),INDEX(masterlist!$N$2:$N$200,MATCH(A14,masterlist!$C$2:$C$200,0))),\"\")","v":0},{"$f":"IFERROR(HYPERLINK(INDEX(masterlist!$Q$2:$Q$200,MATCH(A14,masterlist!$C$2:$C$200,0)),INDEX(masterlist!$P$2:$P$200,MATCH(A14,masterlist!$C$2:$C$200,0))),\"\")","v":0},{"$f":"IFERROR(HYPERLINK(INDEX(masterlist!$S$2:$S$200,MATCH(A14,masterlist!$C$2:$C$200,0)),INDEX(masterlist!$R$2:$R$200,MATCH(A14,masterlist!$C$2:$C$200,0))),\"\")","v":0},{"$f":"IFERROR(HYPERLINK(INDEX(masterlist!$U$2:$U$200,MATCH(A14,masterlist!$C$2:$C$200,0)),INDEX(masterlist!$T$2:$T$200,MATCH(A14,masterlist!$C$2:$C$200,0))),\"\")","v":0}]
[{"$f":"IFERROR(INDEX(masterlist!$A$2:$F$200,SMALL(IF(masterlist!$B$2:$B$200=\"DCA\",ROW(masterlist!$A$2:$F$200)-1),ROW(11:11)),3),\"\")","v":"DCA-Sur-1-11"},{"$f":"IFERROR(INDEX(masterlist!$E$2:$E$200,MATCH(A15,masterlist!$C$2:$C$200,0)),\"\")","v":1},{"$f":"IFERROR(INDEX(masterlist!$D$2:$D$200,MATCH(A15,masterlist!$C$2:$C$200,0)),\"\")","v":"Surveillance"},{"$f":"IFERROR(INDEX(masterlist!$G$2:$G$200,MATCH(A15,masterlist!$C$2:$C$200,0)),\"\")","v":"Have dog population studies and KAP surveys been conducted to determine size, turn-over and accessibility of dogs for vaccination on a small scale?"},{"$f":"IFERROR(INDEX(masterlist!$H$2:$H$200,MATCH(A15,masterlist!$C$2:$C$200,0)),\"\")","v":"Mention the years in which the studies were conducted"},0,null,{"$f":"IFERROR(HYPERLINK(INDEX(masterlist!$M$2:$M$200,MATCH(A15,masterlist!$C$2:$C$200,0)),INDEX(masterlist!$L$2:$L$200,MATCH(A15,masterlist!$C$2:$C$200,0))),\"\")","v":"5.4.1-estimate the number of dogs"},{"$f":"IFERROR(HYPERLINK(INDEX(masterlist!$O$2:$O$200,MATCH(A15,masterlist!$C$2:$C$200,0)),INDEX(masterlist!$N$2:$N$200,MATCH(A15,masterlist!$C$2:$C$200,0))),\"\")","v":0},{"$f":"IFERROR(HYPERLINK(INDEX(masterlist!$Q$2:$Q$200,MATCH(A15,masterlist!$C$2:$C$200,0)),INDEX(masterlist!$P$2:$P$200,MATCH(A15,masterlist!$C$2:$C$200,0))),\"\")","v":0},{"$f":"IFERROR(HYPERLINK(INDEX(masterlist!$S$2:$S$200,MATCH(A15,masterlist!$C$2:$C$200,0)),INDEX(masterlist!$R$2:$R$200,MATCH(A15,masterlist!$C$2:$C$200,0))),\"\")","v":0},{"$f":"IFERROR(HYPERLINK(INDEX(masterlist!$U$2:$U$200,MATCH(A15,masterlist!$C$2:$C$200,0)),INDEX(masterlist!$T$2:$T$200,MATCH(A15,masterlist!$C$2:$C$200,0))),\"\")","v":0}]
[{"$f":"IFERROR(INDEX(masterlist!$A$2:$F$200,SMALL(IF(masterlist!$B$2:$B$200=\"DCA\",ROW(masterlist!$A$2:$F$200)-1),ROW(12:12)),3),\"\")","v":"DCA-Sur-2-12"},{"$f":"IFERROR(INDEX(masterlist!$E$2:$E$200,MATCH(A16,masterlist!$C$2:$C$200,0)),\"\")","v":2},{"$f":"IFERROR(INDEX(masterlist!$D$2:$D$200,MATCH(A16,masterlist!$C$2:$C$200,0)),\"\")","v":"Surveillance"},{"$f":"IFERROR(INDEX(masterlist!$G$2:$G$200,MATCH(A16,masterlist!$C$2:$C$200,0)),\"\")","v":"Are human rabies surveillance systems, including feedback mechanisms, functioning and coordinated between administrative levels (national, province, district, municipal, etc.)? "},{"$f":"IFERROR(INDEX(masterlist!$H$2:$H$200,MATCH(A16,masterlist!$C$2:$C$200,0)),\"\")","v":"Timeliness (e.g. monthly or real time) of reporting and feedback, feedback mechanisms established and stakeholders involved with clear reporting channels. (Follows on from establishment of data analysis capacity above)"},1,null,{"$f":"IFERROR(HYPERLINK(INDEX(masterlist!$M$2:$M$200,MATCH(A16,masterlist!$C$2:$C$200,0)),INDEX(masterlist!$L$2:$L$200,MATCH(A16,masterlist!$C$2:$C$200,0))),\"\")","v":"5.1.1-epidemiology-of-rabies"},{"$f":"IFERROR(HYPERLINK(INDEX(masterlist!$O$2:$O$200,MATCH(A16,masterlist!$C$2:$C$200,0)),INDEX(masterlist!$N$2:$N$200,MATCH(A16,masterlist!$C$2:$C$200,0))),\"\")","v":"WHO International Health Regulations"},{"$f":"IFERROR(HYPERLINK(INDEX(masterlist!$Q$2:$Q$200,MATCH(A16,masterlist!$C$2:$C$200,0)),INDEX(masterlist!$P$2:$P$200,MATCH(A16,masterlist!$C$2:$C$200,0))),\"\")","v":0},{"$f":"IFERROR(HYPERLINK(INDEX(masterlist!$S$2:$S$200,MATCH(A16,masterlist!$C$2:$C$200,0)),INDEX(masterlist!$R$2:$R$200,MATCH(A16,masterlist!$C$2:$C$200,0))),\"\")","v":0},{"$f":"IFERROR(HYPERLINK(INDEX(masterlist!$U$2:$U$200,MATCH(A16,masterlist!$C$2:$C$200,0)),INDEX(masterlist!$T$2:$T$200,MATCH(A16,masterlist!$C$2:$C$200,0))),\"\")","v":0}]
[{"$f":"IFERROR(INDEX(masterlist!$A$2:$F$200,SMALL(IF(masterlist!$B$2:$B$200=\"DCA\",ROW(masterlist!$A$2:$F$200)-1),ROW(13:13)),3),\"\")","v":"DCA-Sur-2-13"},{"$f":"IFERROR(INDEX(masterlist!$E$2:$E$200,MATCH(A17,masterlist!$C$2:$C$200,0)),\"\")","v":2},{"$f":"IFERROR(INDEX(masterlist!$D$2:$D$200,MATCH(A17,masterlist!$C$2:$C$200,0)),\"\")","v":"Surveillance"},{"$f":"IFERROR(INDEX(masterlist!$G$2:$G$200,MATCH(A17,masterlist!$C$2:$C$200,0)),\"\")","v":"Are animal rabies surveillance systems, including feedback mechanisms, functioning and coordinated between administrative levels (national, province, district, municipal, etc.)?"},{"$f":"IFERROR(INDEX(masterlist!$H$2:$H$200,MATCH(A17,masterlist!$C$2:$C$200,0)),\"\")","v":"Timeliness (e.g. monthly or real time) of reporting and feedback, feedback mechanisms established and stakeholders involved with clear reporting channels. (Follows on from establishment of data analysis capacity above)"},1,null,{"$f":"IFERROR(HYPERLINK(INDEX(masterlist!$M$2:$M$200,MATCH(A17,masterlist!$C$2:$C$200,0)),INDEX(masterlist!$L$2:$L$200,MATCH(A17,masterlist!$C$2:$C$200,0))),\"\")","v":"5.1.1-epidemiology-of-rabies"},{"$f":"IFERROR(HYPERLINK(INDEX(masterlist!$O$2:$O$200,MATCH(A17,masterlist!$C$2:$C$200,0)),INDEX(masterlist!$N$2:$N$200,MATCH(A17,masterlist!$C$2:$C$200,0))),\"\")","v":"OIE Terrestrial Animal Health Code"},{"$f":"IFERROR(HYPERLINK(INDEX(masterlist!$Q$2:$Q$200,MATCH(A17,masterlist!$C$2:$C$200,0)),INDEX(masterlist!$P$2:$P$200,MATCH(A17,masterlist!$C$2:$C$200,0))),\"\")","v":0},{"$f":"IFERROR(HYPERLINK(INDEX(masterlist!$S$2:$S$200,MATCH(A17,masterlist!$C$2:$C$200,0)),INDEX(masterlist!$R$2:$R$200,MATCH(A17,masterlist!$C$2:$C$200,0))),\"\")","v":0},{"$f":"IFERROR(HYPERLINK(INDEX(masterlist!$U$2:$U$200,MATCH(A17,masterlist!$C$2:$C$200,0)),INDEX(masterlist!$T$2:$T$200,MATCH(A17,masterlist!$C$2:$C$200,0))),\"\")","v":0}]
[{"$f":"IFERROR(INDEX(masterlist!$A$2:$F$200,SMALL(IF(masterlist!$B$2:$B$200=\"DCA\",ROW(masterlist!$A$2:$F$200)-1),ROW(14:14)),3),\"\")","v":"DCA-Sur-2-14"},{"$f":"IFERROR(INDEX(masterlist!$E$2:$E$200,MATCH(A18,masterlist!$C$2:$C$200,0)),\"\")","v":2},{"$f":"IFERROR(INDEX(masterlist!$D$2:$D$200,MATCH(A18,masterlist!$C$2:$C$200,0)),\"\")","v":"Surveillance"},{"$f":"IFERROR(INDEX(masterlist!$G$2:$G$200,MATCH(A18,masterlist!$C$2:$C$200,0)),\"\")","v":"Have linked human and animal rabies surveillance systems, including agreed SOPs, been established?"},{"$f":"IFERROR(INDEX(masterlist!$H$2:$H$200,MATCH(A18,masterlist!$C$2:$C$200,0)),\"\")","v":"Please describe the surveillance systems briefly, showing how data are shared. Note: Implementation of these linked measures is covered under 'Prevention and Control'"},1,null,{"$f":"IFERROR(HYPERLINK(INDEX(masterlist!$M$2:$M$200,MATCH(A18,masterlist!$C$2:$C$200,0)),INDEX(masterlist!$L$2:$L$200,MATCH(A18,masterlist!$C$2:$C$200,0))),\"\")","v":0},{"$f":"IFERROR(HYPERLINK(INDEX(masterlist!$O$2:$O$200,MATCH(A18,masterlist!$C$2:$C$200,0)),INDEX(masterlist!$N$2:$N$200,MATCH(A18,masterlist!$C$2:$C$200,0))),\"\")","v":0},{"$f":"IFERROR(HYPERLINK(INDEX(masterlist!$Q$2:$Q$200,MATCH(A18,masterlist!$C$2:$C$200,0)),INDEX(masterlist!$P$2:$P$200,MATCH(A18,masterlist!$C$2:$C$200,0))),\"\")","v":0},{"$f":"IFERROR(HYPERLINK(INDEX(masterlist!$S$2:$S$200,MATCH(A18,masterlist!$C$2:$C$200,0)),INDEX(masterlist!$R$2:$R$200,MATCH(A18,masterlist!$C$2:$C$200,0))),\"\")","v":0},{"$f":"IFERROR(HYPERLINK(INDEX(masterlist!$U$2:$U$200,MATCH(A18,masterlist!$C$2:$C$200,0)),INDEX(masterlist!$T$2:$T$200,MATCH(A18,masterlist!$C$2:$C$200,0))),\"\")","v":0}]
[{"$f":"IFERROR(INDEX(masterlist!$A$2:$F$200,SMALL(IF(masterlist!$B$2:$B$200=\"DCA\",ROW(masterlist!$A$2:$F$200)-1),ROW(15:15)),3),\"\")","v":"DCA-Sur-2-15"},{"$f":"IFERROR(INDEX(masterlist!$E$2:$E$200,MATCH(A19,masterlist!$C$2:$C$200,0)),\"\")","v":2},{"$f":"IFERROR(INDEX(masterlist!$D$2:$D$200,MATCH(A19,masterlist!$C$2:$C$200,0)),\"\")","v":"Surveillance"},{"$f":"IFERROR(INDEX(masterlist!$G$2:$G$200,MATCH(A19,masterlist!$C$2:$C$200,0)),\"\")","v":"Is information on the epidemiology of rabies regularly shared with all stakeholders?"},{"$f":"IFERROR(INDEX(masterlist!$H$2:$H$200,MATCH(A19,masterlist!$C$2:$C$200,0)),\"\")","v":"Stakeholders involved - for example, policy makers, educators, NGOs and other relevant individuals and organisations"},1,null,{"$f":"IFERROR(HYPERLINK(INDEX(masterlist!$M$2:$M$200,MATCH(A19,masterlist!$C$2:$C$200,0)),INDEX(masterlist!$L$2:$L$200,MATCH(A19,masterlist!$C$2:$C$200,0))),\"\")","v":"5.1.1-epidemiology-of-rabies"},{"$f":"IFERROR(HYPERLINK(INDEX(masterlist!$O$2:$O$200,MATCH(A19,masterlist!$C$2:$C$200,0)),INDEX(masterlist!$N$2:$N$200,MATCH(A19,masterlist!$C$2:$C$200,0))),\"\")","v":"WHO International Health Regulations"},{"$f":"IFERROR(HYPERLINK(INDEX(masterlist!$Q$2:$Q$200,MATCH(A19,masterlist!$C$2:$C$200,0)),INDEX(masterlist!$P$2:$P$200,MATCH(A19,masterlist!$C$2:$C$200,0))),\"\")","v":"OIE Terrestrial Animal Health Code"},{"$f":"IFERROR(HYPERLINK(INDEX(masterlist!$S$2:$S$200,MATCH(A19,masterlist!$C$2:$C$200,0)),INDEX(masterlist!$R$2:$R$200,MATCH(A19,masterlist!$C$2:$C$200,0))),\"\")","v":"2. Roles-and-Responsibilities"},{"$f":"IFERROR(HYPERLINK(INDEX(masterlist!$U$2:$U$200,MATCH(A19,masterlist!$C$2:$C$200,0)),INDEX(masterlist!$T$2:$T$200,MATCH(A19,masterlist!$C$2:$C$200,0))),\"\")","v":0}]
[{"$f":"IFERROR(INDEX(masterlist!$A$2:$F$200,SMALL(IF(masterlist!$B$2:$B$200=\"DCA\",ROW(masterlist!$A$2:$F$200)-1),ROW(16:16)),3),\"\")","v":"DCA-Sur-2-16"},{"$f":"IFERROR(INDEX(masterlist!$E$2:$E$200,MATCH(A20,masterlist!$C$2:$C$200,0)),\"\")","v":2},{"$f":"IFERROR(INDEX(masterlist!$D$2:$D$200,MATCH(A20,masterlist!$C$2:$C$200,0)),\"\")","v":"Surveillance"},{"$f":"IFERROR(INDEX(masterlist!$G$2:$G$200,MATCH(A20,masterlist!$C$2:$C$200,0)),\"\")","v":"Is the on-going surveillance system for rabies being maintained?"},{"$f":"IFERROR(INDEX(masterlist!$H$2:$H$200,MATCH(A20,masterlist!$C$2:$C$200,0)),\"\")","v":"e.g. dog meat markets, opportunistic sampling (roadkill), human bite cases, etc."},1,null,{"$f":"IFERROR(HYPERLINK(INDEX(masterlist!$M$2:$M$200,MATCH(A20,masterlist!$C$2:$C$200,0)),INDEX(masterlist!$L$2:$L$200,MATCH(A20,masterlist!$C$2:$C$200,0))),\"\")","v":"WHO International Health Regulations"},{"$f":"IFERROR(HYPERLINK(INDEX(masterlist!$O$2:$O$200,MATCH(A20,masterlist!$C$2:$C$200,0)),INDEX(masterlist!$N$2:$N$200,MATCH(A20,masterlist!$C$2:$C$200,0))),\"\")","v":"OIE Terrestrial Animal Health Code"},{"$f":"IFERROR(HYPERLINK(INDEX(masterlist!$Q$2:$Q$200,MATCH(A20,masterlist!$C$2:$C$200,0)),INDEX(masterlist!$P$2:$P$200,MATCH(A20,masterlist!$C$2:$C$200,0))),\"\")","v":0},{"$f":"IFERROR(HYPERLINK(INDEX(masterlist!$S$2:$S$200,MATCH(A20,masterlist!$C$2:$C$200,0)),INDEX(masterlist!$R$2:$R$200,MATCH(A20,masterlist!$C$2:$C$200,0))),\"\")","v":0},{"$f":"IFERROR(HYPERLINK(INDEX(masterlist!$U$2:$U$200,MATCH(A20,masterlist!$C$2:$C$200,0)),INDEX(masterlist!$T$2:$T$200,MATCH(A20,masterlist!$C$2:$C$200,0))),\"\")","v":0}]
[{"$f":"IFERROR(INDEX(masterlist!$A$2:$F$200,SMALL(IF(masterlist!$B$2:$B$200=\"DCA\",ROW(masterlist!$A$2:$F$200)-1),ROW(17:17)),3),\"\")","v":"DCA-Sur-3-17"},{"$f":"IFERROR(INDEX(masterlist!$E$2:$E$200,MATCH(A21,masterlist!$C$2:$C$200,0)),\"\")","v":3},{"$f":"IFERROR(INDEX(masterlist!$D$2:$D$200,MATCH(A21,masterlist!$C$2:$C$200,0)),\"\")","v":"Surveillance"},{"$f":"IFERROR(INDEX(masterlist!$G$2:$G$200,MATCH(A21,masterlist!$C$2:$C$200,0)),\"\")","v":"As your country nears human rabies elimination, have field investigations for all suspected human rabies cases been conducted? "},{"$f":"IFERROR(INDEX(masterlist!$H$2:$H$200,MATCH(A21,masterlist!$C$2:$C$200,0)),\"\")","v":"Data shared between human and animal sectors in real time and joint actions taken"},0,null,{"$f":"IFERROR(HYPERLINK(INDEX(masterlist!$M$2:$M$200,MATCH(A21,masterlist!$C$2:$C$200,0)),INDEX(masterlist!$L$2:$L$200,MATCH(A21,masterlist!$C$2:$C$200,0))),\"\")","v":"2.2 Human rabies surveillance "},{"$f":"IFERROR(HYPERLINK(INDEX(masterlist!$O$2:$O$200,MATCH(A21,masterlist!$C$2:$C$200,0)),INDEX(masterlist!$N$2:$N$200,MATCH(A21,masterlist!$C$2:$C$200,0))),\"\")","v":0},{"$f":"IFERROR(HYPERLINK(INDEX(masterlist!$Q$2:$Q$200,MATCH(A21,masterlist!$C$2:$C$200,0)),INDEX(masterlist!$P$2:$P$200,MATCH(A21,masterlist!$C$2:$C$200,0))),\"\")","v":0},{"$f":"IFERROR(HYPERLINK(INDEX(masterlist!$S$2:$S$200,MATCH(A21,masterlist!$C$2:$C$200,0)),INDEX(masterlist!$R$2:$R$200,MATCH(A21,masterlist!$C$2:$C$200,0))),\"\")","v":0},{"$f":"IFERROR(HYPERLINK(INDEX(masterlist!$U$2:$U$200,MATCH(A21,masterlist!$C$2:$C$200,0)),INDEX(masterlist!$T$2:$T$200,MATCH(A21,masterlist!$C$2:$C$200,0))),\"\")","v":0}]
[{"$f":"IFERROR(INDEX(masterlist!$A$2:$F$200,SMALL(IF(masterlist!$B$2:$B$200=\"DCA\",ROW(masterlist!$A$2:$F$200)-1),ROW(18:18)),3),\"\")","v":"DCA-Sur-3-18"},{"$f":"IFERROR(INDEX(masterlist!$E$2:$E$200,MATCH(A22,masterlist!$C$2:$C$200,0)),\"\")","v":3},{"$f":"IFERROR(INDEX(masterlist!$D$2:$D$200,MATCH(A22,masterlist!$C$2:$C$200,0)),\"\")","v":"Surveillance"},{"$f":"IFERROR(INDEX(masterlist!$G$2:$G$200,MATCH(A22,masterlist!$C$2:$C$200,0)),\"\")","v":"As your country nears human rabies elimination, is epidemiological data being collected to provide evidence of dog-transmitted human rabies-free zones?"},{"$f":"IFERROR(INDEX(masterlist!$H$2:$H$200,MATCH(A22,masterlist!$C$2:$C$200,0)),\"\")","v":" "},0,null,{"$f":"IFERROR(HYPERLINK(INDEX(masterlist!$M$2:$M$200,MATCH(A22,masterlist!$C$2:$C$200,0)),INDEX(masterlist!$L$2:$L$200,MATCH(A22,masterlist!$C$2:$C$200,0))),\"\")","v":0},{"$f":"IFERROR(HYPERLINK(INDEX(masterlist!$O$2:$O$200,MATCH(A22,masterlist!$C$2:$C$200,0)),INDEX(masterlist!$N$2:$N$200,MATCH(A22,masterlist!$C$2:$C$200,0))),\"\")","v":0},{"$f":"IFERROR(HYPERLINK(INDEX(masterlist!$Q$2:$Q$200,MATCH(A22,masterlist!$C$2:$C$200,0)),INDEX(masterlist!$P$2:$P$200,MATCH(A22,masterlist!$C$2:$C$200,0))),\"\")","v":0},{"$f":"IFERROR(HYPERLINK(INDEX(masterlist!$S$2:$S$200,MATCH(A22,masterlist!$C$2:$C$200,0)),INDEX(masterlist!$R$2:$R$200,MATCH(A22,masterlist!$C$2:$C$200,0))),\"\")","v":0},{"$f":"IFERROR(HYPERLINK(INDEX(masterlist!$U$2:$U$200,MATCH(A22,masterlist!$C$2:$C$200,0)),INDEX(masterlist!$T$2:$T$200,MATCH(A22,masterlist!$C$2:$C$200,0))),\"\")","v":0}]
[{"$f":"IFERROR(INDEX(masterlist!$A$2:$F$200,SMALL(IF(masterlist!$B$2:$B$200=\"DCA\",ROW(masterlist!$A$2:$F$200)-1),ROW(19:19)),3),\"\")","v":"DCA-Sur-3-19"},{"$f":"IFERROR(INDEX(masterlist!$E$2:$E$200,MATCH(A23,masterlist!$C$2:$C$200,0)),\"\")","v":3},{"$f":"IFERROR(INDEX(masterlist!$D$2:$D$200,MATCH(A23,masterlist!$C$2:$C$200,0)),\"\")","v":"Surveillance"},{"$f":"IFERROR(INDEX(masterlist!$G$2:$G$200,MATCH(A23,masterlist!$C$2:$C$200,0)),\"\")","v":"Now that there are very few animal rabies cases in your country, are field investigations and laboratory confirmations conducted for all suspected rabies outbreaks in dogs?"},{"$f":"IFERROR(INDEX(masterlist!$H$2:$H$200,MATCH(A23,masterlist!$C$2:$C$200,0)),\"\")","v":" "},1,null,{"$f":"IFERROR(HYPERLINK(INDEX(masterlist!$M$2:$M$200,MATCH(A23,masterlist!$C$2:$C$200,0)),INDEX(masterlist!$L$2:$L$200,MATCH(A23,masterlist!$C$2:$C$200,0))),\"\")","v":0},{"$f":"IFERROR(HYPERLINK(INDEX(masterlist!$O$2:$O$200,MATCH(A23,masterlist!$C$2:$C$200,0)),INDEX(masterlist!$N$2:$N$200,MATCH(A23,masterlist!$C$2:$C$200,0))),\"\")","v":0},{"$f":"IFERROR(HYPERLINK(INDEX(masterlist!$Q$2:$Q$200,MATCH(A23,masterlist!$C$2:$C$200,0)),INDEX(masterlist!$P$2:$P$200,MATCH(A23,masterlist!$C$2:$C$200,0))),\"\")","v":0},{"$f":"IFERROR(HYPERLINK(INDEX(masterlist!$S$2:$S$200,MATCH(A23,masterlist!$C$2:$C$200,0)),INDEX(masterlist!$R$2:$R$200,MATCH(A23,masterlist!$C$2:$C$200,0))),\"\")","v":0},{"$f":"IFERROR(HYPERLINK(INDEX(masterlist!$U$2:$U$200,MATCH(A23,masterlist!$C$2:$C$200,0)),INDEX(masterlist!$T$2:$T$200,MATCH(A23,masterlist!$C$2:$C$200,0))),\"\")","v":0}]
[{"$f":"IFERROR(INDEX(masterlist!$A$2:$F$200,SMALL(IF(masterlist!$B$2:$B$200=\"DCA\",ROW(masterlist!$A$2:$F$200)-1),ROW(20:20)),3),\"\")","v":"DCA-Sur-4-20"},{"$f":"IFERROR(INDEX(masterlist!$E$2:$E$200,MATCH(A24,masterlist!$C$2:$C$200,0)),\"\")","v":4},{"$f":"IFERROR(INDEX(masterlist!$D$2:$D$200,MATCH(A24,masterlist!$C$2:$C$200,0)),\"\")","v":"Surveillance"},{"$f":"IFERROR(INDEX(masterlist!$G$2:$G$200,MATCH(A24,masterlist!$C$2:$C$200,0)),\"\")","v":"As there are no more laboratory confirmed human rabies cases, are existing surveillance activities for all suspected cases in humans maintained in the country?"},{"$f":"IFERROR(INDEX(masterlist!$H$2:$H$200,MATCH(A24,masterlist!$C$2:$C$200,0)),\"\")","v":"e.g. clinical investigation of all patients presenting with encephalitic symptoms."},1,null,{"$f":"IFERROR(HYPERLINK(INDEX(masterlist!$M$2:$M$200,MATCH(A24,masterlist!$C$2:$C$200,0)),INDEX(masterlist!$L$2:$L$200,MATCH(A24,masterlist!$C$2:$C$200,0))),\"\")","v":0},{"$f":"IFERROR(HYPERLINK(INDEX(masterlist!$O$2:$O$200,MATCH(A24,masterlist!$C$2:$C$200,0)),INDEX(masterlist!$N$2:$N$200,MATCH(A24,masterlist!$C$2:$C$200,0))),\"\")","v":0},{"$f":"IFERROR(HYPERLINK(INDEX(masterlist!$Q$2:$Q$200,MATCH(A24,masterlist!$C$2:$C$200,0)),INDEX(masterlist!$P$2:$P$200,MATCH(A24,masterlist!$C$2:$C$200,0))),\"\")","v":0},{"$f":"IFERROR(HYPERLINK(INDEX(masterlist!$S$2:$S$200,MATCH(A24,masterlist!$C$2:$C$200,0)),INDEX(masterlist!$R$2:$R$200,MATCH(A24,masterlist!$C$2:$C$200,0))),\"\")","v":0},{"$f":"IFERROR(HYPERLINK(INDEX(masterlist!$U$2:$U$200,MATCH(A24,masterlist!$C$2:$C$200,0)),INDEX(masterlist!$T$2:$T$200,MATCH(A24,masterlist!$C$2:$C$200,0))),\"\")","v":0}]
[{"$f":"IFERROR(INDEX(masterlist!$A$2:$F$200,SMALL(IF(masterlist!$B$2:$B$200=\"DCA\",ROW(masterlist!$A$2:$F$200)-1),ROW(21:21)),3),\"\")","v":"DCA-Sur-4-21"},{"$f":"IFERROR(INDEX(masterlist!$E$2:$E$200,MATCH(A25,masterlist!$C$2:$C$200,0)),\"\")","v":4},{"$f":"IFERROR(INDEX(masterlist!$D$2:$D$200,MATCH(A25,masterlist!$C$2:$C$200,0)),\"\")","v":"Surveillance"},{"$f":"IFERROR(INDEX(masterlist!$G$2:$G$200,MATCH(A25,masterlist!$C$2:$C$200,0)),\"\")","v":"As your country nears dog-rabies elimination, has the epidemiological data from the routine surveillance of all animals (not only dogs) been used to refine the national rabies strategy?"},{"$f":"IFERROR(INDEX(masterlist!$H$2:$H$200,MATCH(A25,masterlist!$C$2:$C$200,0)),\"\")","v":"e.g. working animals, livestock and wildlife"},0,null,{"$f":"IFERROR(HYPERLINK(INDEX(masterlist!$M$2:$M$200,MATCH(A25,masterlist!$C$2:$C$200,0)),INDEX(masterlist!$L$2:$L$200,MATCH(A25,masterlist!$C$2:$C$200,0))),\"\")","v":"WHO International Health Regulations"},{"$f":"IFERROR(HYPERLINK(INDEX(masterlist!$O$2:$O$200,MATCH(A25,masterlist!$C$2:$C$200,0)),INDEX(masterlist!$N$2:$N$200,MATCH(A25,masterlist!$C$2:$C$200,0))),\"\")","v":0},{"$f":"IFERROR(HYPERLINK(INDEX(masterlist!$Q$2:$Q$200,MATCH(A25,masterlist!$C$2:$C$200,0)),INDEX(masterlist!$P$2:$P$200,MATCH(A25,masterlist!$C$2:$C$200,0))),\"\")","v":0},{"$f":"IFERROR(HYPERLINK(INDEX(masterlist!$S$2:$S$200,MATCH(A25,masterlist!$C$2:$C$200,0)),INDEX(masterlist!$R$2:$R$200,MATCH(A25,masterlist!$C$2:$C$200,0))),\"\")","v":0},{"$f":"IFERROR(HYPERLINK(INDEX(masterlist!$U$2:$U$200,MATCH(A25,masterlist!$C$2:$C$200,0)),INDEX(masterlist!$T$2:$T$200,MATCH(A25,masterlist!$C$2:$C$200,0))),\"\")","v":0}]
[{"$f":"IFERROR(INDEX(masterlist!$A$2:$F$200,SMALL(IF(masterlist!$B$2:$B$200=\"DCA\",ROW(masterlist!$A$2:$F$200)-1),ROW(22:22)),3),\"\")","v":"DCA-Sur-5-22"},{"$f":"IFERROR(INDEX(masterlist!$E$2:$E$200,MATCH(A26,masterlist!$C$2:$C$200,0)),\"\")","v":5},{"$f":"IFERROR(INDEX(masterlist!$D$2:$D$200,MATCH(A26,masterlist!$C$2:$C$200,0)),\"\")","v":"Surveillance"},{"$f":"IFERROR(INDEX(masterlist!$G$2:$G$200,MATCH(A26,masterlist!$C$2:$C$200,0)),\"\")","v":"Has freedom from dog-transmitted rabies in the entire country been verified by the absence of canine variant cases for at least a 2 year period?"},{"$f":"IFERROR(INDEX(masterlist!$H$2:$H$200,MATCH(A26,masterlist!$C$2:$C$200,0)),\"\")","v":" "},0,null,{"$f":"IFERROR(HYPERLINK(INDEX(masterlist!$M$2:$M$200,MATCH(A26,masterlist!$C$2:$C$200,0)),INDEX(masterlist!$L$2:$L$200,MATCH(A26,masterlist!$C$2:$C$200,0))),\"\")","v":"5.4.17 Keeping an area rabies-free"},{"$f":"IFERROR(HYPERLINK(INDEX(masterlist!$O$2:$O$200,MATCH(A26,masterlist!$C$2:$C$200,0)),INDEX(masterlist!$N$2:$N$200,MATCH(A26,masterlist!$C$2:$C$200,0))),\"\")","v":0},{"$f":"IFERROR(HYPERLINK(INDEX(masterlist!$Q$2:$Q$200,MATCH(A26,masterlist!$C$2:$C$200,0)),INDEX(masterlist!$P$2:$P$200,MATCH(A26,masterlist!$C$2:$C$200,0))),\"\")","v":0},{"$f":"IFERROR(HYPERLINK(INDEX(masterlist!$S$2:$S$200,MATCH(A26,masterlist!$C$2:$C$200,0)),INDEX(masterlist!$R$2:$R$200,MATCH(A26,masterlist!$C$2:$C$200,0))),\"\")","v":0},{"$f":"IFERROR(HYPERLINK(INDEX(masterlist!$U$2:$U$200,MATCH(A26,masterlist!$C$2:$C$200,0)),INDEX(masterlist!$T$2:$T$200,MATCH(A26,masterlist!$C$2:$C$200,0))),\"\")","v":0}]
[{"$f":"IFERROR(INDEX(masterlist!$A$2:$F$200,SMALL(IF(masterlist!$B$2:$B$200=\"DCA\",ROW(masterlist!$A$2:$F$200)-1),ROW(23:23)),3),\"\")","v":""},{"$f":"IFERROR(INDEX(masterlist!$E$2:$E$200,MATCH(A27,masterlist!$C$2:$C$200,0)),\"\")","v":""},{"$f":"IFERROR(INDEX(masterlist!$D$2:$D$200,MATCH(A27,masterlist!$C$2:$C$200,0)),\"\")","v":""},{"$f":"IFERROR(INDEX(masterlist!$G$2:$G$200,MATCH(A27,masterlist!$C$2:$C$200,0)),\"\")","v":""},{"$f":"IFERROR(INDEX(masterlist!$H$2:$H$200,MATCH(A27,masterlist!$C$2:$C$200,0)),\"\")","v":""},null,null,{"$f":"IFERROR(HYPERLINK(INDEX(masterlist!$M$2:$M$200,MATCH(A27,masterlist!$C$2:$C$200,0)),INDEX(masterlist!$L$2:$L$200,MATCH(A27,masterlist!$C$2:$C$200,0))),\"\")","v":""},{"$f":"IFERROR(HYPERLINK(INDEX(masterlist!$O$2:$O$200,MATCH(A27,masterlist!$C$2:$C$200,0)),INDEX(masterlist!$N$2:$N$200,MATCH(A27,masterlist!$C$2:$C$200,0))),\"\")","v":""},{"$f":"IFERROR(HYPERLINK(INDEX(masterlist!$Q$2:$Q$200,MATCH(A27,masterlist!$C$2:$C$200,0)),INDEX(masterlist!$P$2:$P$200,MATCH(A27,masterlist!$C$2:$C$200,0))),\"\")","v":""},{"$f":"IFERROR(HYPERLINK(INDEX(masterlist!$S$2:$S$200,MATCH(A27,masterlist!$C$2:$C$200,0)),INDEX(masterlist!$R$2:$R$200,MATCH(A27,masterlist!$C$2:$C$200,0))),\"\")","v":""},{"$f":"IFERROR(HYPERLINK(INDEX(masterlist!$U$2:$U$200,MATCH(A27,masterlist!$C$2:$C$200,0)),INDEX(masterlist!$T$2:$T$200,MATCH(A27,masterlist!$C$2:$C$200,0))),\"\")","v":""}]
[{"$f":"IFERROR(INDEX(masterlist!$A$2:$F$200,SMALL(IF(masterlist!$B$2:$B$200=\"DCA\",ROW(masterlist!$A$2:$F$200)-1),ROW(24:24)),3),\"\")","v":""},{"$f":"IFERROR(INDEX(masterlist!$E$2:$E$200,MATCH(A28,masterlist!$C$2:$C$200,0)),\"\")","v":""},{"$f":"IFERROR(INDEX(masterlist!$D$2:$D$200,MATCH(A28,masterlist!$C$2:$C$200,0)),\"\")","v":""},{"$f":"IFERROR(INDEX(masterlist!$G$2:$G$200,MATCH(A28,masterlist!$C$2:$C$200,0)),\"\")","v":""},{"$f":"IFERROR(INDEX(masterlist!$H$2:$H$200,MATCH(A28,masterlist!$C$2:$C$200,0)),\"\")","v":""},null,null,{"$f":"IFERROR(HYPERLINK(INDEX(masterlist!$M$2:$M$200,MATCH(A28,masterlist!$C$2:$C$200,0)),INDEX(masterlist!$L$2:$L$200,MATCH(A28,masterlist!$C$2:$C$200,0))),\"\")","v":""},{"$f":"IFERROR(HYPERLINK(INDEX(masterlist!$O$2:$O$200,MATCH(A28,masterlist!$C$2:$C$200,0)),INDEX(masterlist!$N$2:$N$200,MATCH(A28,masterlist!$C$2:$C$200,0))),\"\")","v":""},{"$f":"IFERROR(HYPERLINK(INDEX(masterlist!$Q$2:$Q$200,MATCH(A28,masterlist!$C$2:$C$200,0)),INDEX(masterlist!$P$2:$P$200,MATCH(A28,masterlist!$C$2:$C$200,0))),\"\")","v":""},{"$f":"IFERROR(HYPERLINK(INDEX(masterlist!$S$2:$S$200,MATCH(A28,masterlist!$C$2:$C$200,0)),INDEX(masterlist!$R$2:$R$200,MATCH(A28,masterlist!$C$2:$C$200,0))),\"\")","v":""},{"$f":"IFERROR(HYPERLINK(INDEX(masterlist!$U$2:$U$200,MATCH(A28,masterlist!$C$2:$C$200,0)),INDEX(masterlist!$T$2:$T$200,MATCH(A28,masterlist!$C$2:$C$200,0))),\"\")","v":""}]
[{"$f":"IFERROR(INDEX(masterlist!$A$2:$F$200,SMALL(IF(masterlist!$B$2:$B$200=\"DCA\",ROW(masterlist!$A$2:$F$200)-1),ROW(25:25)),3),\"\")","v":""},{"$f":"IFERROR(INDEX(masterlist!$E$2:$E$200,MATCH(A29,masterlist!$C$2:$C$200,0)),\"\")","v":""},{"$f":"IFERROR(INDEX(masterlist!$D$2:$D$200,MATCH(A29,masterlist!$C$2:$C$200,0)),\"\")","v":""},{"$f":"IFERROR(INDEX(masterlist!$G$2:$G$200,MATCH(A29,masterlist!$C$2:$C$200,0)),\"\")","v":""},{"$f":"IFERROR(INDEX(masterlist!$H$2:$H$200,MATCH(A29,masterlist!$C$2:$C$200,0)),\"\")","v":""},null,null,{"$f":"IFERROR(HYPERLINK(INDEX(masterlist!$M$2:$M$200,MATCH(A29,masterlist!$C$2:$C$200,0)),INDEX(masterlist!$L$2:$L$200,MATCH(A29,masterlist!$C$2:$C$200,0))),\"\")","v":""},{"$f":"IFERROR(HYPERLINK(INDEX(masterlist!$O$2:$O$200,MATCH(A29,masterlist!$C$2:$C$200,0)),INDEX(masterlist!$N$2:$N$200,MATCH(A29,masterlist!$C$2:$C$200,0))),\"\")","v":""},{"$f":"IFERROR(HYPERLINK(INDEX(masterlist!$Q$2:$Q$200,MATCH(A29,masterlist!$C$2:$C$200,0)),INDEX(masterlist!$P$2:$P$200,MATCH(A29,masterlist!$C$2:$C$200,0))),\"\")","v":""},{"$f":"IFERROR(HYPERLINK(INDEX(masterlist!$S$2:$S$200,MATCH(A29,masterlist!$C$2:$C$200,0)),INDEX(masterlist!$R$2:$R$200,MATCH(A29,masterlist!$C$2:$C$200,0))),\"\")","v":""},{"$f":"IFERROR(HYPERLINK(INDEX(masterlist!$U$2:$U$200,MATCH(A29,masterlist!$C$2:$C$200,0)),INDEX(masterlist!$T$2:$T$200,MATCH(A29,masterlist!$C$2:$C$200,0))),\"\")","v":""}]
[{"$f":"IFERROR(INDEX(masterlist!$A$2:$F$200,SMALL(IF(masterlist!$B$2:$B$200=\"DCA\",ROW(masterlist!$A$2:$F$200)-1),ROW(26:26)),3),\"\")","v":""},{"$f":"IFERROR(INDEX(masterlist!$E$2:$E$200,MATCH(A30,masterlist!$C$2:$C$200,0)),\"\")","v":""},{"$f":"IFERROR(INDEX(masterlist!$D$2:$D$200,MATCH(A30,masterlist!$C$2:$C$200,0)),\"\")","v":""},{"$f":"IFERROR(INDEX(masterlist!$G$2:$G$200,MATCH(A30,masterlist!$C$2:$C$200,0)),\"\")","v":""},{"$f":"IFERROR(INDEX(masterlist!$H$2:$H$200,MATCH(A30,masterlist!$C$2:$C$200,0)),\"\")","v":""},null,null,{"$f":"IFERROR(HYPERLINK(INDEX(masterlist!$M$2:$M$200,MATCH(A30,masterlist!$C$2:$C$200,0)),INDEX(masterlist!$L$2:$L$200,MATCH(A30,masterlist!$C$2:$C$200,0))),\"\")","v":""},{"$f":"IFERROR(HYPERLINK(INDEX(masterlist!$O$2:$O$200,MATCH(A30,masterlist!$C$2:$C$200,0)),INDEX(masterlist!$N$2:$N$200,MATCH(A30,masterlist!$C$2:$C$200,0))),\"\")","v":""},{"$f":"IFERROR(HYPERLINK(INDEX(masterlist!$Q$2:$Q$200,MATCH(A30,masterlist!$C$2:$C$200,0)),INDEX(masterlist!$P$2:$P$200,MATCH(A30,masterlist!$C$2:$C$200,0))),\"\")","v":""},{"$f":"IFERROR(HYPERLINK(INDEX(masterlist!$S$2:$S$200,MATCH(A30,masterlist!$C$2:$C$200,0)),INDEX(masterlist!$R$2:$R$200,MATCH(A30,masterlist!$C$2:$C$200,0))),\"\")","v":""},{"$f":"IFERROR(HYPERLINK(INDEX(masterlist!$U$2:$U$200,MATCH(A30,masterlist!$C$2:$C$200,0)),INDEX(masterlist!$T$2:$T$200,MATCH(A30,masterlist!$C$2:$C$200,0))),\"\")","v":""}]
[{"$f":"IFERROR(INDEX(masterlist!$A$2:$F$200,SMALL(IF(masterlist!$B$2:$B$200=\"DCA\",ROW(masterlist!$A$2:$F$200)-1),ROW(27:27)),3),\"\")","v":""},{"$f":"IFERROR(INDEX(masterlist!$E$2:$E$200,MATCH(A31,masterlist!$C$2:$C$200,0)),\"\")","v":""},{"$f":"IFERROR(INDEX(masterlist!$D$2:$D$200,MATCH(A31,masterlist!$C$2:$C$200,0)),\"\")","v":""},{"$f":"IFERROR(INDEX(masterlist!$G$2:$G$200,MATCH(A31,masterlist!$C$2:$C$200,0)),\"\")","v":""},{"$f":"IFERROR(INDEX(masterlist!$H$2:$H$200,MATCH(A31,masterlist!$C$2:$C$200,0)),\"\")","v":""},null,null,{"$f":"IFERROR(HYPERLINK(INDEX(masterlist!$M$2:$M$200,MATCH(A31,masterlist!$C$2:$C$200,0)),INDEX(masterlist!$L$2:$L$200,MATCH(A31,masterlist!$C$2:$C$200,0))),\"\")","v":""},{"$f":"IFERROR(HYPERLINK(INDEX(masterlist!$O$2:$O$200,MATCH(A31,masterlist!$C$2:$C$200,0)),INDEX(masterlist!$N$2:$N$200,MATCH(A31,masterlist!$C$2:$C$200,0))),\"\")","v":""},{"$f":"IFERROR(HYPERLINK(INDEX(masterlist!$Q$2:$Q$200,MATCH(A31,masterlist!$C$2:$C$200,0)),INDEX(masterlist!$P$2:$P$200,MATCH(A31,masterlist!$C$2:$C$200,0))),\"\")","v":""},{"$f":"IFERROR(HYPERLINK(INDEX(masterlist!$S$2:$S$200,MATCH(A31,masterlist!$C$2:$C$200,0)),INDEX(masterlist!$R$2:$R$200,MATCH(A31,masterlist!$C$2:$C$200,0))),\"\")","v":""},{"$f":"IFERROR(HYPERLINK(INDEX(masterlist!$U$2:$U$200,MATCH(A31,masterlist!$C$2:$C$200,0)),INDEX(masterlist!$T$2:$T$200,MATCH(A31,masterlist!$C$2:$C$200,0))),\"\")","v":""}]
[{"$f":"IFERROR(INDEX(masterlist!$A$2:$F$200,SMALL(IF(masterlist!$B$2:$B$200=\"DCA\",ROW(masterlist!$A$2:$F$200)-1),ROW(28:28)),3),\"\")","v":""},{"$f":"IFERROR(INDEX(masterlist!$E$2:$E$200,MATCH(A32,masterlist!$C$2:$C$200,0)),\"\")","v":""},{"$f":"IFERROR(INDEX(masterlist!$D$2:$D$200,MATCH(A32,masterlist!$C$2:$C$200,0)),\"\")","v":""},{"$f":"IFERROR(INDEX(masterlist!$G$2:$G$200,MATCH(A32,masterlist!$C$2:$C$200,0)),\"\")","v":""},{"$f":"IFERROR(INDEX(masterlist!$H$2:$H$200,MATCH(A32,masterlist!$C$2:$C$200,0)),\"\")","v":""},null,null,{"$f":"IFERROR(HYPERLINK(INDEX(masterlist!$M$2:$M$200,MATCH(A32,masterlist!$C$2:$C$200,0)),INDEX(masterlist!$L$2:$L$200,MATCH(A32,masterlist!$C$2:$C$200,0))),\"\")","v":""},{"$f":"IFERROR(HYPERLINK(INDEX(masterlist!$O$2:$O$200,MATCH(A32,masterlist!$C$2:$C$200,0)),INDEX(masterlist!$N$2:$N$200,MATCH(A32,masterlist!$C$2:$C$200,0))),\"\")","v":""},{"$f":"IFERROR(HYPERLINK(INDEX(masterlist!$Q$2:$Q$200,MATCH(A32,masterlist!$C$2:$C$200,0)),INDEX(masterlist!$P$2:$P$200,MATCH(A32,masterlist!$C$2:$C$200,0))),\"\")","v":""},{"$f":"IFERROR(HYPERLINK(INDEX(masterlist!$S$2:$S$200,MATCH(A32,masterlist!$C$2:$C$200,0)),INDEX(masterlist!$R$2:$R$200,MATCH(A32,masterlist!$C$2:$C$200,0))),\"\")","v":""},{"$f":"IFERROR(HYPERLINK(INDEX(masterlist!$U$2:$U$200,MATCH(A32,masterlist!$C$2:$C$200,0)),INDEX(masterlist!$T$2:$T$200,MATCH(A32,masterlist!$C$2:$C$200,0))),\"\")","v":""}]
[{"$f":"IFERROR(INDEX(masterlist!$A$2:$F$200,SMALL(IF(masterlist!$B$2:$B$200=\"DCA\",ROW(masterlist!$A$2:$F$200)-1),ROW(29:29)),3),\"\")","v":""},{"$f":"IFERROR(INDEX(masterlist!$E$2:$E$200,MATCH(A33,masterlist!$C$2:$C$200,0)),\"\")","v":""},{"$f":"IFERROR(INDEX(masterlist!$D$2:$D$200,MATCH(A33,masterlist!$C$2:$C$200,0)),\"\")","v":""},{"$f":"IFERROR(INDEX(masterlist!$G$2:$G$200,MATCH(A33,masterlist!$C$2:$C$200,0)),\"\")","v":""},{"$f":"IFERROR(INDEX(masterlist!$H$2:$H$200,MATCH(A33,masterlist!$C$2:$C$200,0)),\"\")","v":""},null,null,{"$f":"IFERROR(HYPERLINK(INDEX(masterlist!$M$2:$M$200,MATCH(A33,masterlist!$C$2:$C$200,0)),INDEX(masterlist!$L$2:$L$200,MATCH(A33,masterlist!$C$2:$C$200,0))),\"\")","v":""},{"$f":"IFERROR(HYPERLINK(INDEX(masterlist!$O$2:$O$200,MATCH(A33,masterlist!$C$2:$C$200,0)),INDEX(masterlist!$N$2:$N$200,MATCH(A33,masterlist!$C$2:$C$200,0))),\"\")","v":""},{"$f":"IFERROR(HYPERLINK(INDEX(masterlist!$Q$2:$Q$200,MATCH(A33,masterlist!$C$2:$C$200,0)),INDEX(masterlist!$P$2:$P$200,MATCH(A33,masterlist!$C$2:$C$200,0))),\"\")","v":""},{"$f":"IFERROR(HYPERLINK(INDEX(masterlist!$S$2:$S$200,MATCH(A33,masterlist!$C$2:$C$200,0)),INDEX(masterlist!$R$2:$R$200,MATCH(A33,masterlist!$C$2:$C$200,0))),\"\")","v":""},{"$f":"IFERROR(HYPERLINK(INDEX(masterlist!$U$2:$U$200,MATCH(A33,masterlist!$C$2:$C$200,0)),INDEX(masterlist!$T$2:$T$200,MATCH(A33,masterlist!$C$2:$C$200,0))),\"\")","v":""}]
[{"$f":"IFERROR(INDEX(masterlist!$A$2:$F$200,SMALL(IF(masterlist!$B$2:$B$200=\"DCA\",ROW(masterlist!$A$2:$F$200)-1),ROW(30:30)),3),\"\")","v":""},{"$f":"IFERROR(INDEX(masterlist!$E$2:$E$200,MATCH(A34,masterlist!$C$2:$C$200,0)),\"\")","v":""},{"$f":"IFERROR(INDEX(masterlist!$D$2:$D$200,MATCH(A34,masterlist!$C$2:$C$200,0)),\"\")","v":""},{"$f":"IFERROR(INDEX(masterlist!$G$2:$G$200,MATCH(A34,masterlist!$C$2:$C$200,0)),\"\")","v":""},{"$f":"IFERROR(INDEX(masterlist!$H$2:$H$200,MATCH(A34,masterlist!$C$2:$C$200,0)),\"\")","v":""},null,null,{"$f":"IFERROR(HYPERLINK(INDEX(masterlist!$M$2:$M$200,MATCH(A34,masterlist!$C$2:$C$200,0)),INDEX(masterlist!$L$2:$L$200,MATCH(A34,masterlist!$C$2:$C$200,0))),\"\")","v":""},{"$f":"IFERROR(HYPERLINK(INDEX(masterlist!$O$2:$O$200,MATCH(A34,masterlist!$C$2:$C$200,0)),INDEX(masterlist!$N$2:$N$200,MATCH(A34,masterlist!$C$2:$C$200,0))),\"\")","v":""},{"$f":"IFERROR(HYPERLINK(INDEX(masterlist!$Q$2:$Q$200,MATCH(A34,masterlist!$C$2:$C$200,0)),INDEX(masterlist!$P$2:$P$200,MATCH(A34,masterlist!$C$2:$C$200,0))),\"\")","v":""},{"$f":"IFERROR(HYPERLINK(INDEX(masterlist!$S$2:$S$200,MATCH(A34,masterlist!$C$2:$C$200,0)),INDEX(masterlist!$R$2:$R$200,MATCH(A34,masterlist!$C$2:$C$200,0))),\"\")","v":""},{"$f":"IFERROR(HYPERLINK(INDEX(masterlist!$U$2:$U$200,MATCH(A34,masterlist!$C$2:$C$200,0)),INDEX(masterlist!$T$2:$T$200,MATCH(A34,masterlist!$C$2:$C$200,0))),\"\")","v":""}]
[{"$f":"IFERROR(INDEX(masterlist!$A$2:$F$200,SMALL(IF(masterlist!$B$2:$B$200=\"DCA\",ROW(masterlist!$A$2:$F$200)-1),ROW(31:31)),3),\"\")","v":""},{"$f":"IFERROR(INDEX(masterlist!$E$2:$E$200,MATCH(A35,masterlist!$C$2:$C$200,0)),\"\")","v":""},{"$f":"IFERROR(INDEX(masterlist!$D$2:$D$200,MATCH(A35,masterlist!$C$2:$C$200,0)),\"\")","v":""},{"$f":"IFERROR(INDEX(masterlist!$G$2:$G$200,MATCH(A35,masterlist!$C$2:$C$200,0)),\"\")","v":""},{"$f":"IFERROR(INDEX(masterlist!$H$2:$H$200,MATCH(A35,masterlist!$C$2:$C$200,0)),\"\")","v":""},null,null,{"$f":"IFERROR(HYPERLINK(INDEX(masterlist!$M$2:$M$200,MATCH(A35,masterlist!$C$2:$C$200,0)),INDEX(masterlist!$L$2:$L$200,MATCH(A35,masterlist!$C$2:$C$200,0))),\"\")","v":""},{"$f":"IFERROR(HYPERLINK(INDEX(masterlist!$O$2:$O$200,MATCH(A35,masterlist!$C$2:$C$200,0)),INDEX(masterlist!$N$2:$N$200,MATCH(A35,masterlist!$C$2:$C$200,0))),\"\")","v":""},{"$f":"IFERROR(HYPERLINK(INDEX(masterlist!$Q$2:$Q$200,MATCH(A35,masterlist!$C$2:$C$200,0)),INDEX(masterlist!$P$2:$P$200,MATCH(A35,masterlist!$C$2:$C$200,0))),\"\")","v":""},{"$f":"IFERROR(HYPERLINK(INDEX(masterlist!$S$2:$S$200,MATCH(A35,masterlist!$C$2:$C$200,0)),INDEX(masterlist!$R$2:$R$200,MATCH(A35,masterlist!$C$2:$C$200,0))),\"\")","v":""},{"$f":"IFERROR(HYPERLINK(INDEX(masterlist!$U$2:$U$200,MATCH(A35,masterlist!$C$2:$C$200,0)),INDEX(masterlist!$T$2:$T$200,MATCH(A35,masterlist!$C$2:$C$200,0))),\"\")","v":""}]
[{"$f":"IFERROR(INDEX(masterlist!$A$2:$F$200,SMALL(IF(masterlist!$B$2:$B$200=\"DCA\",ROW(masterlist!$A$2:$F$200)-1),ROW(32:32)),3),\"\")","v":""},{"$f":"IFERROR(INDEX(masterlist!$E$2:$E$200,MATCH(A36,masterlist!$C$2:$C$200,0)),\"\")","v":""},{"$f":"IFERROR(INDEX(masterlist!$D$2:$D$200,MATCH(A36,masterlist!$C$2:$C$200,0)),\"\")","v":""},{"$f":"IFERROR(INDEX(masterlist!$G$2:$G$200,MATCH(A36,masterlist!$C$2:$C$200,0)),\"\")","v":""},{"$f":"IFERROR(INDEX(masterlist!$H$2:$H$200,MATCH(A36,masterlist!$C$2:$C$200,0)),\"\")","v":""},null,null,{"$f":"IFERROR(HYPERLINK(INDEX(masterlist!$M$2:$M$200,MATCH(A36,masterlist!$C$2:$C$200,0)),INDEX(masterlist!$L$2:$L$200,MATCH(A36,masterlist!$C$2:$C$200,0))),\"\")","v":""},{"$f":"IFERROR(HYPERLINK(INDEX(masterlist!$O$2:$O$200,MATCH(A36,masterlist!$C$2:$C$200,0)),INDEX(masterlist!$N$2:$N$200,MATCH(A36,masterlist!$C$2:$C$200,0))),\"\")","v":""},{"$f":"IFERROR(HYPERLINK(INDEX(masterlist!$Q$2:$Q$200,MATCH(A36,masterlist!$C$2:$C$200,0)),INDEX(masterlist!$P$2:$P$200,MATCH(A36,masterlist!$C$2:$C$200,0))),\"\")","v":""},{"$f":"IFERROR(HYPERLINK(INDEX(masterlist!$S$2:$S$200,MATCH(A36,masterlist!$C$2:$C$200,0)),INDEX(masterlist!$R$2:$R$200,MATCH(A36,masterlist!$C$2:$C$200,0))),\"\")","v":""},{"$f":"IFERROR(HYPERLINK(INDEX(masterlist!$U$2:$U$200,MATCH(A36,masterlist!$C$2:$C$200,0)),INDEX(masterlist!$T$2:$T$200,MATCH(A36,masterlist!$C$2:$C$200,0))),\"\")","v":""}]
[{"$f":"IFERROR(INDEX(masterlist!$A$2:$F$200,SMALL(IF(masterlist!$B$2:$B$200=\"DCA\",ROW(masterlist!$A$2:$F$200)-1),ROW(33:33)),3),\"\")","v":""},{"$f":"IFERROR(INDEX(masterlist!$E$2:$E$200,MATCH(A37,masterlist!$C$2:$C$200,0)),\"\")","v":""},{"$f":"IFERROR(INDEX(masterlist!$D$2:$D$200,MATCH(A37,masterlist!$C$2:$C$200,0)),\"\")","v":""},{"$f":"IFERROR(INDEX(masterlist!$G$2:$G$200,MATCH(A37,masterlist!$C$2:$C$200,0)),\"\")","v":""},{"$f":"IFERROR(INDEX(masterlist!$H$2:$H$200,MATCH(A37,masterlist!$C$2:$C$200,0)),\"\")","v":""},null,null,{"$f":"IFERROR(HYPERLINK(INDEX(masterlist!$M$2:$M$200,MATCH(A37,masterlist!$C$2:$C$200,0)),INDEX(masterlist!$L$2:$L$200,MATCH(A37,masterlist!$C$2:$C$200,0))),\"\")","v":""},{"$f":"IFERROR(HYPERLINK(INDEX(masterlist!$O$2:$O$200,MATCH(A37,masterlist!$C$2:$C$200,0)),INDEX(masterlist!$N$2:$N$200,MATCH(A37,masterlist!$C$2:$C$200,0))),\"\")","v":""},{"$f":"IFERROR(HYPERLINK(INDEX(masterlist!$Q$2:$Q$200,MATCH(A37,masterlist!$C$2:$C$200,0)),INDEX(masterlist!$P$2:$P$200,MATCH(A37,masterlist!$C$2:$C$200,0))),\"\")","v":""},{"$f":"IFERROR(HYPERLINK(INDEX(masterlist!$S$2:$S$200,MATCH(A37,masterlist!$C$2:$C$200,0)),INDEX(masterlist!$R$2:$R$200,MATCH(A37,masterlist!$C$2:$C$200,0))),\"\")","v":""},{"$f":"IFERROR(HYPERLINK(INDEX(masterlist!$U$2:$U$200,MATCH(A37,masterlist!$C$2:$C$200,0)),INDEX(masterlist!$T$2:$T$200,MATCH(A37,masterlist!$C$2:$C$200,0))),\"\")","v":""}]
[{"$f":"IFERROR(INDEX(masterlist!$A$2:$F$200,SMALL(IF(masterlist!$B$2:$B$200=\"DCA\",ROW(masterlist!$A$2:$F$200)-1),ROW(34:34)),3),\"\")","v":""},{"$f":"IFERROR(INDEX(masterlist!$E$2:$E$200,MATCH(A38,masterlist!$C$2:$C$200,0)),\"\")","v":""},{"$f":"IFERROR(INDEX(masterlist!$D$2:$D$200,MATCH(A38,masterlist!$C$2:$C$200,0)),\"\")","v":""},{"$f":"IFERROR(INDEX(masterlist!$G$2:$G$200,MATCH(A38,masterlist!$C$2:$C$200,0)),\"\")","v":""},{"$f":"IFERROR(INDEX(masterlist!$H$2:$H$200,MATCH(A38,masterlist!$C$2:$C$200,0)),\"\")","v":""},null,null,{"$f":"IFERROR(HYPERLINK(INDEX(masterlist!$M$2:$M$200,MATCH(A38,masterlist!$C$2:$C$200,0)),INDEX(masterlist!$L$2:$L$200,MATCH(A38,masterlist!$C$2:$C$200,0))),\"\")","v":""},{"$f":"IFERROR(HYPERLINK(INDEX(masterlist!$O$2:$O$200,MATCH(A38,masterlist!$C$2:$C$200,0)),INDEX(masterlist!$N$2:$N$200,MATCH(A38,masterlist!$C$2:$C$200,0))),\"\")","v":""},{"$f":"IFERROR(HYPERLINK(INDEX(masterlist!$Q$2:$Q$200,MATCH(A38,masterlist!$C$2:$C$200,0)),INDEX(masterlist!$P$2:$P$200,MATCH(A38,masterlist!$C$2:$C$200,0))),\"\")","v":""},{"$f":"IFERROR(HYPERLINK(INDEX(masterlist!$S$2:$S$200,MATCH(A38,masterlist!$C$2:$C$200,0)),INDEX(masterlist!$R$2:$R$200,MATCH(A38,masterlist!$C$2:$C$200,0))),\"\")","v":""},{"$f":"IFERROR(HYPERLINK(INDEX(masterlist!$U$2:$U$200,MATCH(A38,masterlist!$C$2:$C$200,0)),INDEX(masterlist!$T$2:$T$200,MATCH(A38,masterlist!$C$2:$C$200,0))),\"\")","v":""}]
[{"$f":"IFERROR(INDEX(masterlist!$A$2:$F$200,SMALL(IF(masterlist!$B$2:$B$200=\"DCA\",ROW(masterlist!$A$2:$F$200)-1),ROW(35:35)),3),\"\")","v":""},{"$f":"IFERROR(INDEX(masterlist!$E$2:$E$200,MATCH(A39,masterlist!$C$2:$C$200,0)),\"\")","v":""},{"$f":"IFERROR(INDEX(masterlist!$D$2:$D$200,MATCH(A39,masterlist!$C$2:$C$200,0)),\"\")","v":""},{"$f":"IFERROR(INDEX(masterlist!$G$2:$G$200,MATCH(A39,masterlist!$C$2:$C$200,0)),\"\")","v":""},{"$f":"IFERROR(INDEX(masterlist!$H$2:$H$200,MATCH(A39,masterlist!$C$2:$C$200,0)),\"\")","v":""},null,null,{"$f":"IFERROR(HYPERLINK(INDEX(masterlist!$M$2:$M$200,MATCH(A39,masterlist!$C$2:$C$200,0)),INDEX(masterlist!$L$2:$L$200,MATCH(A39,masterlist!$C$2:$C$200,0))),\"\")","v":""},{"$f":"IFERROR(HYPERLINK(INDEX(masterlist!$O$2:$O$200,MATCH(A39,masterlist!$C$2:$C$200,0)),INDEX(masterlist!$N$2:$N$200,MATCH(A39,masterlist!$C$2:$C$200,0))),\"\")","v":""},{"$f":"IFERROR(HYPERLINK(INDEX(masterlist!$Q$2:$Q$200,MATCH(A39,masterlist!$C$2:$C$200,0)),INDEX(masterlist!$P$2:$P$200,MATCH(A39,masterlist!$C$2:$C$200,0))),\"\")","v":""},{"$f":"IFERROR(HYPERLINK(INDEX(masterlist!$S$2:$S$200,MATCH(A39,masterlist!$C$2:$C$200,0)),INDEX(masterlist!$R$2:$R$200,MATCH(A39,masterlist!$C$2:$C$200,0))),\"\")","v":""},{"$f":"IFERROR(HYPERLINK(INDEX(masterlist!$U$2:$U$200,MATCH(A39,masterlist!$C$2:$C$200,0)),INDEX(masterlist!$T$2:$T$200,MATCH(A39,masterlist!$C$2:$C$200,0))),\"\")","v":""}]
[{"$f":"IFERROR(INDEX(masterlist!$A$2:$F$200,SMALL(IF(masterlist!$B$2:$B$200=\"DCA\",ROW(masterlist!$A$2:$F$200)-1),ROW(36:36)),3),\"\")","v":""},{"$f":"IFERROR(INDEX(masterlist!$E$2:$E$200,MATCH(A40,masterlist!$C$2:$C$200,0)),\"\")","v":""},{"$f":"IFERROR(INDEX(masterlist!$D$2:$D$200,MATCH(A40,masterlist!$C$2:$C$200,0)),\"\")","v":""},{"$f":"IFERROR(INDEX(masterlist!$G$2:$G$200,MATCH(A40,masterlist!$C$2:$C$200,0)),\"\")","v":""},{"$f":"IFERROR(INDEX(masterlist!$H$2:$H$200,MATCH(A40,masterlist!$C$2:$C$200,0)),\"\")","v":""},null,null,{"$f":"IFERROR(HYPERLINK(INDEX(masterlist!$M$2:$M$200,MATCH(A40,masterlist!$C$2:$C$200,0)),INDEX(masterlist!$L$2:$L$200,MATCH(A40,masterlist!$C$2:$C$200,0))),\"\")","v":""},{"$f":"IFERROR(HYPERLINK(INDEX(masterlist!$O$2:$O$200,MATCH(A40,masterlist!$C$2:$C$200,0)),INDEX(masterlist!$N$2:$N$200,MATCH(A40,masterlist!$C$2:$C$200,0))),\"\")","v":""},{"$f":"IFERROR(HYPERLINK(INDEX(masterlist!$Q$2:$Q$200,MATCH(A40,masterlist!$C$2:$C$200,0)),INDEX(masterlist!$P$2:$P$200,MATCH(A40,masterlist!$C$2:$C$200,0))),\"\")","v":""},{"$f":"IFERROR(HYPERLINK(INDEX(masterlist!$S$2:$S$200,MATCH(A40,masterlist!$C$2:$C$200,0)),INDEX(masterlist!$R$2:$R$200,MATCH(A40,masterlist!$C$2:$C$200,0))),\"\")","v":""},{"$f":"IFERROR(HYPERLINK(INDEX(masterlist!$U$2:$U$200,MATCH(A40,masterlist!$C$2:$C$200,0)),INDEX(masterlist!$T$2:$T$200,MATCH(A40,masterlist!$C$2:$C$200,0))),\"\")","v":""}]
[{"$f":"IFERROR(INDEX(masterlist!$A$2:$F$200,SMALL(IF(masterlist!$B$2:$B$200=\"DCA\",ROW(masterlist!$A$2:$F$200)-1),ROW(37:37)),3),\"\")","v":""},{"$f":"IFERROR(INDEX(masterlist!$E$2:$E$200,MATCH(A41,masterlist!$C$2:$C$200,0)),\"\")","v":""},{"$f":"IFERROR(INDEX(masterlist!$D$2:$D$200,MATCH(A41,masterlist!$C$2:$C$200,0)),\"\")","v":""},{"$f":"IFERROR(INDEX(masterlist!$G$2:$G$200,MATCH(A41,masterlist!$C$2:$C$200,0)),\"\")","v":""},{"$f":"IFERROR(INDEX(masterlist!$H$2:$H$200,MATCH(A41,masterlist!$C$2:$C$200,0)),\"\")","v":""},null,null,{"$f":"IFERROR(HYPERLINK(INDEX(masterlist!$M$2:$M$200,MATCH(A41,masterlist!$C$2:$C$200,0)),INDEX(masterlist!$L$2:$L$200,MATCH(A41,masterlist!$C$2:$C$200,0))),\"\")","v":""},{"$f":"IFERROR(HYPERLINK(INDEX(masterlist!$O$2:$O$200,MATCH(A41,masterlist!$C$2:$C$200,0)),INDEX(masterlist!$N$2:$N$200,MATCH(A41,masterlist!$C$2:$C$200,0))),\"\")","v":""},{"$f":"IFERROR(HYPERLINK(INDEX(masterlist!$Q$2:$Q$200,MATCH(A41,masterlist!$C$2:$C$200,0)),INDEX(masterlist!$P$2:$P$200,MATCH(A41,masterlist!$C$2:$C$200,0))),\"\")","v":""},{"$f":"IFERROR(HYPERLINK(INDEX(masterlist!$S$2:$S$200,MATCH(A41,masterlist!$C$2:$C$200,0)),INDEX(masterlist!$R$2:$R$200,MATCH(A41,masterlist!$C$2:$C$200,0))),\"\")","v":""},{"$f":"IFERROR(HYPERLINK(INDEX(masterlist!$U$2:$U$200,MATCH(A41,masterlist!$C$2:$C$200,0)),INDEX(masterlist!$T$2:$T$200,MATCH(A41,masterlist!$C$2:$C$200,0))),\"\")","v":""}]
[{"$f":"IFERROR(INDEX(masterlist!$A$2:$F$200,SMALL(IF(masterlist!$B$2:$B$200=\"DCA\",ROW(masterlist!$A$2:$F$200)-1),ROW(38:38)),3),\"\")","v":""},{"$f":"IFERROR(INDEX(masterlist!$E$2:$E$200,MATCH(A42,masterlist!$C$2:$C$200,0)),\"\")","v":""},{"$f":"IFERROR(INDEX(masterlist!$D$2:$D$200,MATCH(A42,masterlist!$C$2:$C$200,0)),\"\")","v":""},{"$f":"IFERROR(INDEX(masterlist!$G$2:$G$200,MATCH(A42,masterlist!$C$2:$C$200,0)),\"\")","v":""},{"$f":"IFERROR(INDEX(masterlist!$H$2:$H$200,MATCH(A42,masterlist!$C$2:$C$200,0)),\"\")","v":""},null,null,{"$f":"IFERROR(HYPERLINK(INDEX(masterlist!$M$2:$M$200,MATCH(A42,masterlist!$C$2:$C$200,0)),INDEX(masterlist!$L$2:$L$200,MATCH(A42,masterlist!$C$2:$C$200,0))),\"\")","v":""},{"$f":"IFERROR(HYPERLINK(INDEX(masterlist!$O$2:$O$200,MATCH(A42,masterlist!$C$2:$C$200,0)),INDEX(masterlist!$N$2:$N$200,MATCH(A42,masterlist!$C$2:$C$200,0))),\"\")","v":""},{"$f":"IFERROR(HYPERLINK(INDEX(masterlist!$Q$2:$Q$200,MATCH(A42,masterlist!$C$2:$C$200,0)),INDEX(masterlist!$P$2:$P$200,MATCH(A42,masterlist!$C$2:$C$200,0))),\"\")","v":""},{"$f":"IFERROR(HYPERLINK(INDEX(masterlist!$S$2:$S$200,MATCH(A42,masterlist!$C$2:$C$200,0)),INDEX(masterlist!$R$2:$R$200,MATCH(A42,masterlist!$C$2:$C$200,0))),\"\")","v":""},{"$f":"IFERROR(HYPERLINK(INDEX(masterlist!$U$2:$U$200,MATCH(A42,masterlist!$C$2:$C$200,0)),INDEX(masterlist!$T$2:$T$200,MATCH(A42,masterlist!$C$2:$C$200,0))),\"\")","v":""}]
[{"$f":"IFERROR(INDEX(masterlist!$A$2:$F$200,SMALL(IF(masterlist!$B$2:$B$200=\"DCA\",ROW(masterlist!$A$2:$F$200)-1),ROW(39:39)),3),\"\")","v":""},{"$f":"IFERROR(INDEX(masterlist!$E$2:$E$200,MATCH(A43,masterlist!$C$2:$C$200,0)),\"\")","v":""},{"$f":"IFERROR(INDEX(masterlist!$D$2:$D$200,MATCH(A43,masterlist!$C$2:$C$200,0)),\"\")","v":""},{"$f":"IFERROR(INDEX(masterlist!$G$2:$G$200,MATCH(A43,masterlist!$C$2:$C$200,0)),\"\")","v":""},{"$f":"IFERROR(INDEX(masterlist!$H$2:$H$200,MATCH(A43,masterlist!$C$2:$C$200,0)),\"\")","v":""},null,null,{"$f":"IFERROR(HYPERLINK(INDEX(masterlist!$M$2:$M$200,MATCH(A43,masterlist!$C$2:$C$200,0)),INDEX(masterlist!$L$2:$L$200,MATCH(A43,masterlist!$C$2:$C$200,0))),\"\")","v":""},{"$f":"IFERROR(HYPERLINK(INDEX(masterlist!$O$2:$O$200,MATCH(A43,masterlist!$C$2:$C$200,0)),INDEX(masterlist!$N$2:$N$200,MATCH(A43,masterlist!$C$2:$C$200,0))),\"\")","v":""},{"$f":"IFERROR(HYPERLINK(INDEX(masterlist!$Q$2:$Q$200,MATCH(A43,masterlist!$C$2:$C$200,0)),INDEX(masterlist!$P$2:$P$200,MATCH(A43,masterlist!$C$2:$C$200,0))),\"\")","v":""},{"$f":"IFERROR(HYPERLINK(INDEX(masterlist!$S$2:$S$200,MATCH(A43,masterlist!$C$2:$C$200,0)),INDEX(masterlist!$R$2:$R$200,MATCH(A43,masterlist!$C$2:$C$200,0))),\"\")","v":""},{"$f":"IFERROR(HYPERLINK(INDEX(masterlist!$U$2:$U$200,MATCH(A43,masterlist!$C$2:$C$200,0)),INDEX(masterlist!$T$2:$T$200,MATCH(A43,masterlist!$C$2:$C$200,0))),\"\")","v":""}]
[{"$f":"IFERROR(INDEX(masterlist!$A$2:$F$200,SMALL(IF(masterlist!$B$2:$B$200=\"DCA\",ROW(masterlist!$A$2:$F$200)-1),ROW(40:40)),3),\"\")","v":""},{"$f":"IFERROR(INDEX(masterlist!$E$2:$E$200,MATCH(A44,masterlist!$C$2:$C$200,0)),\"\")","v":""},{"$f":"IFERROR(INDEX(masterlist!$D$2:$D$200,MATCH(A44,masterlist!$C$2:$C$200,0)),\"\")","v":""},{"$f":"IFERROR(INDEX(masterlist!$G$2:$G$200,MATCH(A44,masterlist!$C$2:$C$200,0)),\"\")","v":""},{"$f":"IFERROR(INDEX(masterlist!$H$2:$H$200,MATCH(A44,masterlist!$C$2:$C$200,0)),\"\")","v":""},null,null,{"$f":"IFERROR(HYPERLINK(INDEX(masterlist!$M$2:$M$200,MATCH(A44,masterlist!$C$2:$C$200,0)),INDEX(masterlist!$L$2:$L$200,MATCH(A44,masterlist!$C$2:$C$200,0))),\"\")","v":""},{"$f":"IFERROR(HYPERLINK(INDEX(masterlist!$O$2:$O$200,MATCH(A44,masterlist!$C$2:$C$200,0)),INDEX(masterlist!$N$2:$N$200,MATCH(A44,masterlist!$C$2:$C$200,0))),\"\")","v":""},{"$f":"IFERROR(HYPERLINK(INDEX(masterlist!$Q$2:$Q$200,MATCH(A44,masterlist!$C$2:$C$200,0)),INDEX(masterlist!$P$2:$P$200,MATCH(A44,masterlist!$C$2:$C$200,0))),\"\")","v":""},{"$f":"IFERROR(HYPERLINK(INDEX(masterlist!$S$2:$S$200,MATCH(A44,masterlist!$C$2:$C$200,0)),INDEX(masterlist!$R$2:$R$200,MATCH(A44,masterlist!$C$2:$C$200,0))),\"\")","v":""},{"$f":"IFERROR(HYPERLINK(INDEX(masterlist!$U$2:$U$200,MATCH(A44,masterlist!$C$2:$C$200,0)),INDEX(masterlist!$T$2:$T$200,MATCH(A44,masterlist!$C$2:$C$200,0))),\"\")","v":""}]
[{"$f":"IFERROR(INDEX(masterlist!$A$2:$F$200,SMALL(IF(masterlist!$B$2:$B$200=\"DCA\",ROW(masterlist!$A$2:$F$200)-1),ROW(41:41)),3),\"\")","v":""},{"$f":"IFERROR(INDEX(masterlist!$E$2:$E$200,MATCH(A45,masterlist!$C$2:$C$200,0)),\"\")","v":""},{"$f":"IFERROR(INDEX(masterlist!$D$2:$D$200,MATCH(A45,masterlist!$C$2:$C$200,0)),\"\")","v":""},{"$f":"IFERROR(INDEX(masterlist!$G$2:$G$200,MATCH(A45,masterlist!$C$2:$C$200,0)),\"\")","v":""},{"$f":"IFERROR(INDEX(masterlist!$H$2:$H$200,MATCH(A45,masterlist!$C$2:$C$200,0)),\"\")","v":""},null,null,{"$f":"IFERROR(HYPERLINK(INDEX(masterlist!$M$2:$M$200,MATCH(A45,masterlist!$C$2:$C$200,0)),INDEX(masterlist!$L$2:$L$200,MATCH(A45,masterlist!$C$2:$C$200,0))),\"\")","v":""},{"$f":"IFERROR(HYPERLINK(INDEX(masterlist!$O$2:$O$200,MATCH(A45,masterlist!$C$2:$C$200,0)),INDEX(masterlist!$N$2:$N$200,MATCH(A45,masterlist!$C$2:$C$200,0))),\"\")","v":""},{"$f":"IFERROR(HYPERLINK(INDEX(masterlist!$Q$2:$Q$200,MATCH(A45,masterlist!$C$2:$C$200,0)),INDEX(masterlist!$P$2:$P$200,MATCH(A45,masterlist!$C$2:$C$200,0))),\"\")","v":""},{"$f":"IFERROR(HYPERLINK(INDEX(masterlist!$S$2:$S$200,MATCH(A45,masterlist!$C$2:$C$200,0)),INDEX(masterlist!$R$2:$R$200,MATCH(A45,masterlist!$C$2:$C$200,0))),\"\")","v":""},{"$f":"IFERROR(HYPERLINK(INDEX(masterlist!$U$2:$U$200,MATCH(A45,masterlist!$C$2:$C$200,0)),INDEX(masterlist!$T$2:$T$200,MATCH(A45,masterlist!$C$2:$C$200,0))),\"\")","v":""}]
[{"$f":"IFERROR(INDEX(masterlist!$A$2:$F$200,SMALL(IF(masterlist!$B$2:$B$200=\"DCA\",ROW(masterlist!$A$2:$F$200)-1),ROW(42:42)),3),\"\")","v":""},{"$f":"IFERROR(INDEX(masterlist!$E$2:$E$200,MATCH(A46,masterlist!$C$2:$C$200,0)),\"\")","v":""},{"$f":"IFERROR(INDEX(masterlist!$D$2:$D$200,MATCH(A46,masterlist!$C$2:$C$200,0)),\"\")","v":""},{"$f":"IFERROR(INDEX(masterlist!$G$2:$G$200,MATCH(A46,masterlist!$C$2:$C$200,0)),\"\")","v":""},{"$f":"IFERROR(INDEX(masterlist!$H$2:$H$200,MATCH(A46,masterlist!$C$2:$C$200,0)),\"\")","v":""},null,null,{"$f":"IFERROR(HYPERLINK(INDEX(masterlist!$M$2:$M$200,MATCH(A46,masterlist!$C$2:$C$200,0)),INDEX(masterlist!$L$2:$L$200,MATCH(A46,masterlist!$C$2:$C$200,0))),\"\")","v":""},{"$f":"IFERROR(HYPERLINK(INDEX(masterlist!$O$2:$O$200,MATCH(A46,masterlist!$C$2:$C$200,0)),INDEX(masterlist!$N$2:$N$200,MATCH(A46,masterlist!$C$2:$C$200,0))),\"\")","v":""},{"$f":"IFERROR(HYPERLINK(INDEX(masterlist!$Q$2:$Q$200,MATCH(A46,masterlist!$C$2:$C$200,0)),INDEX(masterlist!$P$2:$P$200,MATCH(A46,masterlist!$C$2:$C$200,0))),\"\")","v":""},{"$f":"IFERROR(HYPERLINK(INDEX(masterlist!$S$2:$S$200,MATCH(A46,masterlist!$C$2:$C$200,0)),INDEX(masterlist!$R$2:$R$200,MATCH(A46,masterlist!$C$2:$C$200,0))),\"\")","v":""},{"$f":"IFERROR(HYPERLINK(INDEX(masterlist!$U$2:$U$200,MATCH(A46,masterlist!$C$2:$C$200,0)),INDEX(masterlist!$T$2:$T$200,MATCH(A46,masterlist!$C$2:$C$200,0))),\"\")","v":""}]
[{"$f":"IFERROR(INDEX(masterlist!$A$2:$F$200,SMALL(IF(masterlist!$B$2:$B$200=\"DCA\",ROW(masterlist!$A$2:$F$200)-1),ROW(43:43)),3),\"\")","v":""},{"$f":"IFERROR(INDEX(masterlist!$E$2:$E$200,MATCH(A47,masterlist!$C$2:$C$200,0)),\"\")","v":""},{"$f":"IFERROR(INDEX(masterlist!$D$2:$D$200,MATCH(A47,masterlist!$C$2:$C$200,0)),\"\")","v":""},{"$f":"IFERROR(INDEX(masterlist!$G$2:$G$200,MATCH(A47,masterlist!$C$2:$C$200,0)),\"\")","v":""},{"$f":"IFERROR(INDEX(masterlist!$H$2:$H$200,MATCH(A47,masterlist!$C$2:$C$200,0)),\"\")","v":""},null,null,{"$f":"IFERROR(HYPERLINK(INDEX(masterlist!$M$2:$M$200,MATCH(A47,masterlist!$C$2:$C$200,0)),INDEX(masterlist!$L$2:$L$200,MATCH(A47,masterlist!$C$2:$C$200,0))),\"\")","v":""},{"$f":"IFERROR(HYPERLINK(INDEX(masterlist!$O$2:$O$200,MATCH(A47,masterlist!$C$2:$C$200,0)),INDEX(masterlist!$N$2:$N$200,MATCH(A47,masterlist!$C$2:$C$200,0))),\"\")","v":""},{"$f":"IFERROR(HYPERLINK(INDEX(masterlist!$Q$2:$Q$200,MATCH(A47,masterlist!$C$2:$C$200,0)),INDEX(masterlist!$P$2:$P$200,MATCH(A47,masterlist!$C$2:$C$200,0))),\"\")","v":""},{"$f":"IFERROR(HYPERLINK(INDEX(masterlist!$S$2:$S$200,MATCH(A47,masterlist!$C$2:$C$200,0)),INDEX(masterlist!$R$2:$R$200,MATCH(A47,masterlist!$C$2:$C$200,0))),\"\")","v":""},{"$f":"IFERROR(HYPERLINK(INDEX(masterlist!$U$2:$U$200,MATCH(A47,masterlist!$C$2:$C$200,0)),INDEX(masterlist!$T$2:$T$200,MATCH(A47,masterlist!$C$2:$C$200,0))),\"\")","v":""}]
[{"$f":"IFERROR(INDEX(masterlist!$A$2:$F$200,SMALL(IF(masterlist!$B$2:$B$200=\"DCA\",ROW(masterlist!$A$2:$F$200)-1),ROW(44:44)),3),\"\")","v":""},{"$f":"IFERROR(INDEX(masterlist!$E$2:$E$200,MATCH(A48,masterlist!$C$2:$C$200,0)),\"\")","v":""},{"$f":"IFERROR(INDEX(masterlist!$D$2:$D$200,MATCH(A48,masterlist!$C$2:$C$200,0)),\"\")","v":""},{"$f":"IFERROR(INDEX(masterlist!$G$2:$G$200,MATCH(A48,masterlist!$C$2:$C$200,0)),\"\")","v":""},{"$f":"IFERROR(INDEX(masterlist!$H$2:$H$200,MATCH(A48,masterlist!$C$2:$C$200,0)),\"\")","v":""},null,null,{"$f":"IFERROR(HYPERLINK(INDEX(masterlist!$M$2:$M$200,MATCH(A48,masterlist!$C$2:$C$200,0)),INDEX(masterlist!$L$2:$L$200,MATCH(A48,masterlist!$C$2:$C$200,0))),\"\")","v":""},{"$f":"IFERROR(HYPERLINK(INDEX(masterlist!$O$2:$O$200,MATCH(A48,masterlist!$C$2:$C$200,0)),INDEX(masterlist!$N$2:$N$200,MATCH(A48,masterlist!$C$2:$C$200,0))),\"\")","v":""},{"$f":"IFERROR(HYPERLINK(INDEX(masterlist!$Q$2:$Q$200,MATCH(A48,masterlist!$C$2:$C$200,0)),INDEX(masterlist!$P$2:$P$200,MATCH(A48,masterlist!$C$2:$C$200,0))),\"\")","v":""},{"$f":"IFERROR(HYPERLINK(INDEX(masterlist!$S$2:$S$200,MATCH(A48,masterlist!$C$2:$C$200,0)),INDEX(masterlist!$R$2:$R$200,MATCH(A48,masterlist!$C$2:$C$200,0))),\"\")","v":""},{"$f":"IFERROR(HYPERLINK(INDEX(masterlist!$U$2:$U$200,MATCH(A48,masterlist!$C$2:$C$200,0)),INDEX(masterlist!$T$2:$T$200,MATCH(A48,masterlist!$C$2:$C$200,0))),\"\")","v":""}]
[{"$f":"IFERROR(INDEX(masterlist!$A$2:$F$200,SMALL(IF(masterlist!$B$2:$B$200=\"DCA\",ROW(masterlist!$A$2:$F$200)-1),ROW(45:45)),3),\"\")","v":""},{"$f":"IFERROR(INDEX(masterlist!$E$2:$E$200,MATCH(A49,masterlist!$C$2:$C$200,0)),\"\")","v":""},{"$f":"IFERROR(INDEX(masterlist!$D$2:$D$200,MATCH(A49,masterlist!$C$2:$C$200,0)),\"\")","v":""},{"$f":"IFERROR(INDEX(masterlist!$G$2:$G$200,MATCH(A49,masterlist!$C$2:$C$200,0)),\"\")","v":""},{"$f":"IFERROR(INDEX(masterlist!$H$2:$H$200,MATCH(A49,masterlist!$C$2:$C$200,0)),\"\")","v":""},null,null,{"$f":"IFERROR(HYPERLINK(INDEX(masterlist!$M$2:$M$200,MATCH(A49,masterlist!$C$2:$C$200,0)),INDEX(masterlist!$L$2:$L$200,MATCH(A49,masterlist!$C$2:$C$200,0))),\"\")","v":""},{"$f":"IFERROR(HYPERLINK(INDEX(masterlist!$O$2:$O$200,MATCH(A49,masterlist!$C$2:$C$200,0)),INDEX(masterlist!$N$2:$N$200,MATCH(A49,masterlist!$C$2:$C$200,0))),\"\")","v":""},{"$f":"IFERROR(HYPERLINK(INDEX(masterlist!$Q$2:$Q$200,MATCH(A49,masterlist!$C$2:$C$200,0)),INDEX(masterlist!$P$2:$P$200,MATCH(A49,masterlist!$C$2:$C$200,0))),\"\")","v":""},{"$f":"IFERROR(HYPERLINK(INDEX(masterlist!$S$2:$S$200,MATCH(A49,masterlist!$C$2:$C$200,0)),INDEX(masterlist!$R$2:$R$200,MATCH(A49,masterlist!$C$2:$C$200,0))),\"\")","v":""},{"$f":"IFERROR(HYPERLINK(INDEX(masterlist!$U$2:$U$200,MATCH(A49,masterlist!$C$2:$C$200,0)),INDEX(masterlist!$T$2:$T$200,MATCH(A49,masterlist!$C$2:$C$200,0))),\"\")","v":""}]
[{"$f":"IFERROR(INDEX(masterlist!$A$2:$F$200,SMALL(IF(masterlist!$B$2:$B$200=\"DCA\",ROW(masterlist!$A$2:$F$200)-1),ROW(46:46)),3),\"\")","v":""},{"$f":"IFERROR(INDEX(masterlist!$E$2:$E$200,MATCH(A50,masterlist!$C$2:$C$200,0)),\"\")","v":""},{"$f":"IFERROR(INDEX(masterlist!$D$2:$D$200,MATCH(A50,masterlist!$C$2:$C$200,0)),\"\")","v":""},{"$f":"IFERROR(INDEX(masterlist!$G$2:$G$200,MATCH(A50,masterlist!$C$2:$C$200,0)),\"\")","v":""},{"$f":"IFERROR(INDEX(masterlist!$H$2:$H$200,MATCH(A50,masterlist!$C$2:$C$200,0)),\"\")","v":""},null,null,{"$f":"IFERROR(HYPERLINK(INDEX(masterlist!$M$2:$M$200,MATCH(A50,masterlist!$C$2:$C$200,0)),INDEX(masterlist!$L$2:$L$200,MATCH(A50,masterlist!$C$2:$C$200,0))),\"\")","v":""},{"$f":"IFERROR(HYPERLINK(INDEX(masterlist!$O$2:$O$200,MATCH(A50,masterlist!$C$2:$C$200,0)),INDEX(masterlist!$N$2:$N$200,MATCH(A50,masterlist!$C$2:$C$200,0))),\"\")","v":""},{"$f":"IFERROR(HYPERLINK(INDEX(masterlist!$Q$2:$Q$200,MATCH(A50,masterlist!$C$2:$C$200,0)),INDEX(masterlist!$P$2:$P$200,MATCH(A50,masterlist!$C$2:$C$200,0))),\"\")","v":""},{"$f":"IFERROR(HYPERLINK(INDEX(masterlist!$S$2:$S$200,MATCH(A50,masterlist!$C$2:$C$200,0)),INDEX(masterlist!$R$2:$R$200,MATCH(A50,masterlist!$C$2:$C$200,0))),\"\")","v":""},{"$f":"IFERROR(HYPERLINK(INDEX(masterlist!$U$2:$U$200,MATCH(A50,masterlist!$C$2:$C$200,0)),INDEX(masterlist!$T$2:$T$200,MATCH(A50,masterlist!$C$2:$C$200,0))),\"\")","v":""}]

{"sheet":"Prev & Ctrl","index":7,"n_rows":50,"n_cols":12,"rows_kept":50,"cut":false,"hidden":true,"merged":[[3,7,3,9]]}
[]
[null,"Instructions: Enter \"0\" under Status if No or None, or \"1\" if Yes"]
[]
["ID","STAGE","subcomponent","ACHIEVEMENTS / ACTIVITIES","OTHER IMPORTANT INFORMATION\n(please include in REMARKS)","STATUS","REMARKS","Rabies Blueprint references and other links"]
[{"$f":"IFERROR(INDEX(masterlist!$A$2:$F$200,SMALL(IF(masterlist!$B$2:$B$200=\"PCO\",ROW(masterlist!$A$2:$F$200)-1),ROW(1:1)),3),\"\")","v":"PCO-Hum-1-1"},{"$f":"IFERROR(INDEX(masterlist!$E$2:$E$200,MATCH(A5,masterlist!$C$2:$C$200,0)),\"\")","v":1},{"$f":"IFERROR(INDEX(masterlist!$D$2:$D$200,MATCH(A5,masterlist!$C$2:$C$200,0)),\"\")","v":"Human vaccines"},{"$f":"IFERROR(INDEX(masterlist!$G$2:$G$200,MATCH(A5,masterlist!$C$2:$C$200,0)),\"\")","v":"Are vaccines for human rabies prophylaxis available in one or more parts of the country?"},{"$f":"IFERROR(INDEX(masterlist!$H$2:$H$200,MATCH(A5,masterlist!$C$2:$C$200,0)),\"\")","v":" "},1,null,{"$f":"IFERROR(HYPERLINK(INDEX(masterlist!$M$2:$M$200,MATCH(A5,masterlist!$C$2:$C$200,0)),INDEX(masterlist!$L$2:$L$200,MATCH(A5,masterlist!$C$2:$C$200,0))),\"\")","v":"5.5.3-human-biologics"},{"$f":"IFERROR(HYPERLINK(INDEX(masterlist!$O$2:$O$200,MATCH(A5,masterlist!$C$2:$C$200,0)),INDEX(masterlist!$N$2:$N$200,MATCH(A5,masterlist!$C$2:$C$200,0))),\"\")","v":"Human-vaccination-supply"},{"$f":"IFERROR(HYPERLINK(INDEX(masterlist!$Q$2:$Q$200,MATCH(A5,masterlist!$C$2:$C$200,0)),INDEX(masterlist!$P$2:$P$200,MATCH(A5,masterlist!$C$2:$C$200,0))),\"\")","v":0},{"$f":"IFERROR(HYPERLINK(INDEX(masterlist!$S$2:$S$200,MATCH(A5,masterlist!$C$2:$C$200,0)),INDEX(masterlist!$R$2:$R$200,MATCH(A5,masterlist!$C$2:$C$200,0))),\"\")","v":0},{"$f":"IFERROR(HYPERLINK(INDEX(masterlist!$U$2:$U$200,MATCH(A5,masterlist!$C$2:$C$200,0)),INDEX(masterlist!$T$2:$T$200,MATCH(A5,masterlist!$C$2:$C$200,0))),\"\")","v":0}]
[{"$f":"IFERROR(INDEX(masterlist!$A$2:$F$200,SMALL(IF(masterlist!$B$2:$B$200=\"PCO\",ROW(masterlist!$A$2:$F$200)-1),ROW(2:2)),3),\"\")","v":"PCO-Hum-1-2"},{"$f":"IFERROR(INDEX(masterlist!$E$2:$E$200,MATCH(A6,masterlist!$C$2:$C$200,0)),\"\")","v":1},{"$f":"IFERROR(INDEX(masterlist!$D$2:$D$200,MATCH(A6,masterlist!$C$2:$C$200,0)),\"\")","v":"Human vaccines"},{"$f":"IFERROR(INDEX(masterlist!$G$2:$G$200,MATCH(A6,masterlist!$C$2:$C$200,0)),\"\")","v":"Has the supply and access to nationally licensed human rabies vaccines for PrEP for professionals at risk been ensured in local areas?"},{"$f":"IFERROR(INDEX(masterlist!$H$2:$H$200,MATCH(A6,masterlist!$C$2:$C$200,0)),\"\")","v":" "},1,null,{"$f":"IFERROR(HYPERLINK(INDEX(masterlist!$M$2:$M$200,MATCH(A6,masterlist!$C$2:$C$200,0)),INDEX(masterlist!$L$2:$L$200,MATCH(A6,masterlist!$C$2:$C$200,0))),\"\")","v":0},{"$f":"IFERROR(HYPERLINK(INDEX(masterlist!$O$2:$O$200,MATCH(A6,masterlist!$C$2:$C$200,0)),INDEX(masterlist!$N$2:$N$200,MATCH(A6,masterlist!$C$2:$C$200,0))),\"\")","v":0},{"$f":"IFERROR(HYPERLINK(INDEX(masterlist!$Q$2:$Q$200,MATCH(A6,masterlist!$C$2:$C$200,0)),INDEX(masterlist!$P$2:$P$200,MATCH(A6,masterlist!$C$2:$C$200,0))),\"\")","v":0},{"$f":"IFERROR(HYPERLINK(INDEX(masterlist!$S$2:$S$200,MATCH(A6,masterlist!$C$2:$C$200,0)),INDEX(masterlist!$R$2:$R$200,MATCH(A6,masterlist!$C$2:$C$200,0))),\"\")","v":0},{"$f":"IFERROR(HYPERLINK(INDEX(masterlist!$U$2:$U$200,MATCH(A6,masterlist!$C$2:$C$200,0)),INDEX(masterlist!$T$2:$T$200,MATCH(A6,masterlist!$C$2:$C$200,0))),\"\")","v":0}]
[{"$f":"IFERROR(INDEX(masterlist!$A$2:$F$200,SMALL(IF(masterlist!$B$2:$B$200=\"PCO\",ROW(masterlist!$A$2:$F$200)-1),ROW(3:3)),3),\"\")","v":"PCO-Hum-2-3"},{"$f":"IFERROR(INDEX(masterlist!$E$2:$E$200,MATCH(A7,masterlist!$C$2:$C$200,0)),\"\")","v":2},{"$f":"IFERROR(INDEX(masterlist!$D$2:$D$200,MATCH(A7,masterlist!$C$2:$C$200,0)),\"\")","v":"Human vaccines"},{"$f":"IFERROR(INDEX(masterlist!$G$2:$G$200,MATCH(A7,masterlist!$C$2:$C$200,0)),\"\")","v":"Has an assessment* been done to determine the availability and access to PEP (and PreP)?"},{"$f":"IFERROR(INDEX(masterlist!$H$2:$H$200,MATCH(A7,masterlist!$C$2:$C$200,0)),\"\")","v":" "},0,null,{"$f":"IFERROR(HYPERLINK(INDEX(masterlist!$M$2:$M$200,MATCH(A7,masterlist!$C$2:$C$200,0)),INDEX(masterlist!$L$2:$L$200,MATCH(A7,masterlist!$C$2:$C$200,0))),\"\")","v":"3.1-Infrastructure"},{"$f":"IFERROR(HYPERLINK(INDEX(masterlist!$O$2:$O$200,MATCH(A7,masterlist!$C$2:$C$200,0)),INDEX(masterlist!$N$2:$N$200,MATCH(A7,masterlist!$C$2:$C$200,0))),\"\")","v":0},{"$f":"IFERROR(HYPERLINK(INDEX(masterlist!$Q$2:$Q$200,MATCH(A7,masterlist!$C$2:$C$200,0)),INDEX(masterlist!$P$2:$P$200,MATCH(A7,masterlist!$C$2:$C$200,0))),\"\")","v":0},{"$f":"IFERROR(HYPERLINK(INDEX(masterlist!$S$2:$S$200,MATCH(A7,masterlist!$C$2:$C$200,0)),INDEX(masterlist!$R$2:$R$200,MATCH(A7,masterlist!$C$2:$C$200,0))),\"\")","v":0},{"$f":"IFERROR(HYPERLINK(INDEX(masterlist!$U$2:$U$200,MATCH(A7,masterlist!$C$2:$C$200,0)),INDEX(masterlist!$T$2:$T$200,MATCH(A7,masterlist!$C$2:$C$200,0))),\"\")","v":0}]
[{"$f":"IFERROR(INDEX(masterlist!$A$2:$F$200,SMALL(IF(masterlist!$B$2:$B$200=\"PCO\",ROW(masterlist!$A$2:$F$200)-1),ROW(4:4)),3),\"\")","v":"PCO-Hum-2-4"},{"$f":"IFERROR(INDEX(masterlist!$E$2:$E$200,MATCH(A8,masterlist!$C$2:$C$200,0)),\"\")","v":2},{"$f":"IFERROR(INDEX(masterlist!$D$2:$D$200,MATCH(A8,masterlist!$C$2:$C$200,0)),\"\")","v":"Human vaccines"},{"$f":"IFERROR(INDEX(masterlist!$G$2:$G$200,MATCH(A8,masterlist!$C$2:$C$200,0)),\"\")","v":"Are WHO pre-qualified human rabies vaccines available and accessible in most parts of the country?"},{"$f":"IFERROR(INDEX(masterlist!$H$2:$H$200,MATCH(A8,masterlist!$C$2:$C$200,0)),\"\")","v":"Areas available and accessible"},1,null,{"$f":"IFERROR(HYPERLINK(INDEX(masterlist!$M$2:$M$200,MATCH(A8,masterlist!$C$2:$C$200,0)),INDEX(masterlist!$L$2:$L$200,MATCH(A8,masterlist!$C$2:$C$200,0))),\"\")","v":"WHO expert consultation on rabies"},{"$f":"IFERROR(HYPERLINK(INDEX(masterlist!$O$2:$O$200,MATCH(A8,masterlist!$C$2:$C$200,0)),INDEX(masterlist!$N$2:$N$200,MATCH(A8,masterlist!$C$2:$C$200,0))),\"\")","v":"WHO vaccines position papers"},{"$f":"IFERROR(HYPERLINK(INDEX(masterlist!$Q$2:$Q$200,MATCH(A8,masterlist!$C$2:$C$200,0)),INDEX(masterlist!$P$2:$P$200,MATCH(A8,masterlist!$C$2:$C$200,0))),\"\")","v":0},{"$f":"IFERROR(HYPERLINK(INDEX(masterlist!$S$2:$S$200,MATCH(A8,masterlist!$C$2:$C$200,0)),INDEX(masterlist!$R$2:$R$200,MATCH(A8,masterlist!$C$2:$C$200,0))),\"\")","v":0},{"$f":"IFERROR(HYPERLINK(INDEX(masterlist!$U$2:$U$200,MATCH(A8,masterlist!$C$2:$C$200,0)),INDEX(masterlist!$T$2:$T$200,MATCH(A8,masterlist!$C$2:$C$200,0))),\"\")","v":0}]
[{"$f":"IFERROR(INDEX(masterlist!$A$2:$F$200,SMALL(IF(masterlist!$B$2:$B$200=\"PCO\",ROW(masterlist!$A$2:$F$200)-1),ROW(5:5)),3),\"\")","v":"PCO-Hum-2-5"},{"$f":"IFERROR(INDEX(masterlist!$E$2:$E$200,MATCH(A9,masterlist!$C$2:$C$200,0)),\"\")","v":2},{"$f":"IFERROR(INDEX(masterlist!$D$2:$D$200,MATCH(A9,masterlist!$C$2:$C$200,0)),\"\")","v":"Human vaccines"},{"$f":"IFERROR(INDEX(masterlist!$G$2:$G$200,MATCH(A9,masterlist!$C$2:$C$200,0)),\"\")","v":"Are any human biologics that are not WHO-pre-qualified being phased out? (e.g. nerve tissue vaccines, low quality vaccines)"},{"$f":"IFERROR(INDEX(masterlist!$H$2:$H$200,MATCH(A9,masterlist!$C$2:$C$200,0)),\"\")","v":"If only WHO pre-qualified humans rabies vaccines are being used, mark the status as \"1\"\n"},1,null,{"$f":"IFERROR(HYPERLINK(INDEX(masterlist!$M$2:$M$200,MATCH(A9,masterlist!$C$2:$C$200,0)),INDEX(masterlist!$L$2:$L$200,MATCH(A9,masterlist!$C$2:$C$200,0))),\"\")","v":"WHO prequalified vaccines list"},{"$f":"IFERROR(HYPERLINK(INDEX(masterlist!$O$2:$O$200,MATCH(A9,masterlist!$C$2:$C$200,0)),INDEX(masterlist!$N$2:$N$200,MATCH(A9,masterlist!$C$2:$C$200,0))),\"\")","v":0},{"$f":"IFERROR(HYPERLINK(INDEX(masterlist!$Q$2:$Q$200,MATCH(A9,masterlist!$C$2:$C$200,0)),INDEX(masterlist!$P$2:$P$200,MATCH(A9,masterlist!$C$2:$C$200,0))),\"\")","v":0},{"$f":"IFERROR(HYPERLINK(INDEX(masterlist!$S$2:$S$200,MATCH(A9,masterlist!$C$2:$C$200,0)),INDEX(masterlist!$R$2:$R$200,MATCH(A9,masterlist!$C$2:$C$200,0))),\"\")","v":0},{"$f":"IFERROR(HYPERLINK(INDEX(masterlist!$U$2:$U$200,MATCH(A9,masterlist!$C$2:$C$200,0)),INDEX(masterlist!$T$2:$T$200,MATCH(A9,masterlist!$C$2:$C$200,0))),\"\")","v":0}]
[{"$f":"IFERROR(INDEX(masterlist!$A$2:$F$200,SMALL(IF(masterlist!$B$2:$B$200=\"PCO\",ROW(masterlist!$A$2:$F$200)-1),ROW(6:6)),3),\"\")","v":"PCO-Hum-3-6"},{"$f":"IFERROR(INDEX(masterlist!$E$2:$E$200,MATCH(A10,masterlist!$C$2:$C$200,0)),\"\")","v":3},{"$f":"IFERROR(INDEX(masterlist!$D$2:$D$200,MATCH(A10,masterlist!$C$2:$C$200,0)),\"\")","v":"Human vaccines"},{"$f":"IFERROR(INDEX(masterlist!$G$2:$G$200,MATCH(A10,masterlist!$C$2:$C$200,0)),\"\")","v":"Are WHO pre-qualified vaccines and RIG available and accessible to high risk and exposed individuals throughout the country?"},{"$f":"IFERROR(INDEX(masterlist!$H$2:$H$200,MATCH(A10,masterlist!$C$2:$C$200,0)),\"\")","v":" "},1,null,{"$f":"IFERROR(HYPERLINK(INDEX(masterlist!$M$2:$M$200,MATCH(A10,masterlist!$C$2:$C$200,0)),INDEX(masterlist!$L$2:$L$200,MATCH(A10,masterlist!$C$2:$C$200,0))),\"\")","v":"WHO prequalified vaccines list"},{"$f":"IFERROR(HYPERLINK(INDEX(masterlist!$O$2:$O$200,MATCH(A10,masterlist!$C$2:$C$200,0)),INDEX(masterlist!$N$2:$N$200,MATCH(A10,masterlist!$C$2:$C$200,0))),\"\")","v":0},{"$f":"IFERROR(HYPERLINK(INDEX(masterlist!$Q$2:$Q$200,MATCH(A10,masterlist!$C$2:$C$200,0)),INDEX(masterlist!$P$2:$P$200,MATCH(A10,masterlist!$C$2:$C$200,0))),\"\")","v":0},{"$f":"IFERROR(HYPERLINK(INDEX(masterlist!$S$2:$S$200,MATCH(A10,masterlist!$C$2:$C$200,0)),INDEX(masterlist!$R$2:$R$200,MATCH(A10,masterlist!$C$2:$C$200,0))),\"\")","v":0},{"$f":"IFERROR(HYPERLINK(INDEX(masterlist!$U$2:$U$200,MATCH(A10,masterlist!$C$2:$C$200,0)),INDEX(masterlist!$T$2:$T$200,MATCH(A10,masterlist!$C$2:$C$200,0))),\"\")","v":0}]
[{"$f":"IFERROR(INDEX(masterlist!$A$2:$F$200,SMALL(IF(masterlist!$B$2:$B$200=\"PCO\",ROW(masterlist!$A$2:$F$200)-1),ROW(7:7)),3),\"\")","v":"PCO-Hum-5-7"},{"$f":"IFERROR(INDEX(masterlist!$E$2:$E$200,MATCH(A11,masterlist!$C$2:$C$200,0)),\"\")","v":5},{"$f":"IFERROR(INDEX(masterlist!$D$2:$D$200,MATCH(A11,masterlist!$C$2:$C$200,0)),\"\")","v":"Human vaccines"},{"$f":"IFERROR(INDEX(masterlist!$G$2:$G$200,MATCH(A11,masterlist!$C$2:$C$200,0)),\"\")","v":"Now that your country is free from human and animal rabies, have modified protocols for PEP administration for rabies-free areas been implemented?"},{"$f":"IFERROR(INDEX(masterlist!$H$2:$H$200,MATCH(A11,masterlist!$C$2:$C$200,0)),\"\")","v":"Modification of protocols includes improved risk-assessment before the administration of PEP, as the country is now free from endemic rabies. "},0,null,{"$f":"IFERROR(HYPERLINK(INDEX(masterlist!$M$2:$M$200,MATCH(A11,masterlist!$C$2:$C$200,0)),INDEX(masterlist!$L$2:$L$200,MATCH(A11,masterlist!$C$2:$C$200,0))),\"\")","v":"WHO expert consultation on rabies"},{"$f":"IFERROR(HYPERLINK(INDEX(masterlist!$O$2:$O$200,MATCH(A11,masterlist!$C$2:$C$200,0)),INDEX(masterlist!$N$2:$N$200,MATCH(A11,masterlist!$C$2:$C$200,0))),\"\")","v":0},{"$f":"IFERROR(HYPERLINK(INDEX(masterlist!$Q$2:$Q$200,MATCH(A11,masterlist!$C$2:$C$200,0)),INDEX(masterlist!$P$2:$P$200,MATCH(A11,masterlist!$C$2:$C$200,0))),\"\")","v":"Guidelines on human prophylaxis"},{"$f":"IFERROR(HYPERLINK(INDEX(masterlist!$S$2:$S$200,MATCH(A11,masterlist!$C$2:$C$200,0)),INDEX(masterlist!$R$2:$R$200,MATCH(A11,masterlist!$C$2:$C$200,0))),\"\")","v":0},{"$f":"IFERROR(HYPERLINK(INDEX(masterlist!$U$2:$U$200,MATCH(A11,masterlist!$C$2:$C$200,0)),INDEX(masterlist!$T$2:$T$200,MATCH(A11,masterlist!$C$2:$C$200,0))),\"\")","v":0}]
[{"$f":"IFERROR(INDEX(masterlist!$A$2:$F$200,SMALL(IF(masterlist!$B$2:$B$200=\"PCO\",ROW(masterlist!$A$2:$F$200)-1),ROW(8:8)),3),\"\")","v":"PCO-Dog-1-8"},{"$f":"IFERROR(INDEX(masterlist!$E$2:$E$200,MATCH(A12,masterlist!$C$2:$C$200,0)),\"\")","v":1},{"$f":"IFERROR(INDEX(masterlist!$D$2:$D$200,MATCH(A12,masterlist!$C$2:$C$200,0)),\"\")","v":"Dog vaccines"},{"$f":"IFERROR(INDEX(masterlist!$G$2:$G$200,MATCH(A12,masterlist!$C$2:$C$200,0)),\"\")","v":"Are dog rabies vaccines available in at least one location in the country?"},{"$f":"IFERROR(INDEX(masterlist!$H$2:$H$200,MATCH(A12,masterlist!$C$2:$C$200,0)),\"\")","v":" "},1,null,{"$f":"IFERROR(HYPERLINK(INDEX(masterlist!$M$2:$M$200,MATCH(A12,masterlist!$C$2:$C$200,0)),INDEX(masterlist!$L$2:$L$200,MATCH(A12,masterlist!$C$2:$C$200,0))),\"\")","v":"3.1-Infrastructure"},{"$f":"IFERROR(HYPERLINK(INDEX(masterlist!$O$2:$O$200,MATCH(A12,masterlist!$C$2:$C$200,0)),INDEX(masterlist!$N$2:$N$200,MATCH(A12,masterlist!$C$2:$C$200,0))),\"\")","v":0},{"$f":"IFERROR(HYPERLINK(INDEX(masterlist!$Q$2:$Q$200,MATCH(A12,masterlist!$C$2:$C$200,0)),INDEX(masterlist!$P$2:$P$200,MATCH(A12,masterlist!$C$2:$C$200,0))),\"\")","v":0},{"$f":"IFERROR(HYPERLINK(INDEX(masterlist!$S$2:$S$200,MATCH(A12,masterlist!$C$2:$C$200,0)),INDEX(masterlist!$R$2:$R$200,MATCH(A12,masterlist!$C$2:$C$200,0))),\"\")","v":0},{"$f":"IFERROR(HYPERLINK(INDEX(masterlist!$U$2:$U$200,MATCH(A12,masterlist!$C$2:$C$200,0)),INDEX(masterlist!$T$2:$T$200,MATCH(A12,masterlist!$C$2:$C$200,0))),\"\")","v":0}]
[{"$f":"IFERROR(INDEX(masterlist!$A$2:$F$200,SMALL(IF(masterlist!$B$2:$B$200=\"PCO\",ROW(masterlist!$A$2:$F$200)-1),ROW(9:9)),3),\"\")","v":"PCO-Dog-1-9"},{"$f":"IFERROR(INDEX(masterlist!$E$2:$E$200,MATCH(A13,masterlist!$C$2:$C$200,0)),\"\")","v":1},{"$f":"IFERROR(INDEX(masterlist!$D$2:$D$200,MATCH(A13,masterlist!$C$2:$C$200,0)),\"\")","v":"Dog vaccines"},{"$f":"IFERROR(INDEX(masterlist!$G$2:$G$200,MATCH(A13,masterlist!$C$2:$C$200,0)),\"\")","v":"Has dog vaccination been initiated in some parts of the country? "},{"$f":"IFERROR(INDEX(masterlist!$H$2:$H$200,MATCH(A13,masterlist!$C$2:$C$200,0)),\"\")","v":"Areas covered"},1,null,{"$f":"IFERROR(HYPERLINK(INDEX(masterlist!$M$2:$M$200,MATCH(A13,masterlist!$C$2:$C$200,0)),INDEX(masterlist!$L$2:$L$200,MATCH(A13,masterlist!$C$2:$C$200,0))),\"\")","v":"5.4-What-are-we-going-to-do-dog-component"},{"$f":"IFERROR(HYPERLINK(INDEX(masterlist!$O$2:$O$200,MATCH(A13,masterlist!$C$2:$C$200,0)),INDEX(masterlist!$N$2:$N$200,MATCH(A13,masterlist!$C$2:$C$200,0))),\"\")","v":0},{"$f":"IFERROR(HYPERLINK(INDEX(masterlist!$Q$2:$Q$200,MATCH(A13,masterlist!$C$2:$C$200,0)),INDEX(masterlist!$P$2:$P$200,MATCH(A13,masterlist!$C$2:$C$200,0))),\"\")","v":0},{"$f":"IFERROR(HYPERLINK(INDEX(masterlist!$S$2:$S$200,MATCH(A13,masterlist!$C$2:$C$200,0)),INDEX(masterlist!$R$2:$R$200,MATCH(A13,masterlist!$C$2:$C$200,0))),\"\")","v":0},{"$f":"IFERROR(HYPERLINK(INDEX(masterlist!$U$2:$U$200,MATCH(A13,masterlist!$C$2:$C$200,0)),INDEX(masterlist!$T$2:$T$200,MATCH(A13,masterlist!$C$2:$C$200,0))),\"\")","v":0}]
[{"$f":"IFERROR(INDEX(masterlist!$A$2:$F$200,SMALL(IF(masterlist!$B$2:$B$200=\"PCO\",ROW(masterlist!$A$2:$F$200)-1),ROW(10:10)),3),\"\")","v":"PCO-Dog-2-10"},{"$f":"IFERROR(INDEX(masterlist!$E$2:$E$200,MATCH(A14,masterlist!$C$2:$C$200,0)),\"\")","v":2},{"$f":"IFERROR(INDEX(masterlist!$D$2:$D$200,MATCH(A14,masterlist!$C$2:$C$200,0)),\"\")","v":"Dog vaccines"},{"$f":"IFERROR(INDEX(masterlist!$G$2:$G$200,MATCH(A14,masterlist!$C$2:$C$200,0)),\"\")","v":"Are only quality dog vaccines in accordance with OIE standards being used?"},{"$f":"IFERROR(INDEX(masterlist!$H$2:$H$200,MATCH(A14,masterlist!$C$2:$C$200,0)),\"\")","v":" "},1,null,{"$f":"IFERROR(HYPERLINK(INDEX(masterlist!$M$2:$M$200,MATCH(A14,masterlist!$C$2:$C$200,0)),INDEX(masterlist!$L$2:$L$200,MATCH(A14,masterlist!$C$2:$C$200,0))),\"\")","v":"OIE terrestrial-manual"},{"$f":"IFERROR(HYPERLINK(INDEX(masterlist!$O$2:$O$200,MATCH(A14,masterlist!$C$2:$C$200,0)),INDEX(masterlist!$N$2:$N$200,MATCH(A14,masterlist!$C$2:$C$200,0))),\"\")","v":0},{"$f":"IFERROR(HYPERLINK(INDEX(masterlist!$Q$2:$Q$200,MATCH(A14,masterlist!$C$2:$C$200,0)),INDEX(masterlist!$P$2:$P$200,MATCH(A14,masterlist!$C$2:$C$200,0))),\"\")","v":0},{"$f":"IFERROR(HYPERLINK(INDEX(masterlist!$S$2:$S$200,MATCH(A14,masterlist!$C$2:$C$200,0)),INDEX(masterlist!$R$2:$R$200,MATCH(A14,masterlist!$C$2:$C$200,0))),\"\")","v":0},{"$f":"IFERROR(HYPERLINK(INDEX(masterlist!$U$2:$U$200,MATCH(A14,masterlist!$C$2:$C$200,0)),INDEX(masterlist!$T$2:$T$200,MATCH(A14,masterlist!$C$2:$C$200,0))),\"\")","v":0}]
[{"$f":"IFERROR(INDEX(masterlist!$A$2:$F$200,SMALL(IF(masterlist!$B$2:$B$200=\"PCO\",ROW(masterlist!$A$2:$F$200)-1),ROW(11:11)),3),\"\")","v":"PCO-Dog-3-11"},{"$f":"IFERROR(INDEX(masterlist!$E$2:$E$200,MATCH(A15,masterlist!$C$2:$C$200,0)),\"\")","v":3},{"$f":"IFERROR(INDEX(masterlist!$D$2:$D$200,MATCH(A15,masterlist!$C$2:$C$200,0)),\"\")","v":"Dog vaccines"},{"$f":"IFERROR(INDEX(masterlist!$G$2:$G$200,MATCH(A15,masterlist!$C$2:$C$200,0)),\"\")","v":"Are mass dog vaccination campaigns reaching at least 70% of the total dog population conducted according to the plan described in the national rabies strategy? "},{"$f":"IFERROR(INDEX(masterlist!$H$2:$H$200,MATCH(A15,masterlist!$C$2:$C$200,0)),\"\")","v":" "},1,null,{"$f":"IFERROR(HYPERLINK(INDEX(masterlist!$M$2:$M$200,MATCH(A15,masterlist!$C$2:$C$200,0)),INDEX(masterlist!$L$2:$L$200,MATCH(A15,masterlist!$C$2:$C$200,0))),\"\")","v":"5.4.13-Vaccination campaign-coverage"},{"$f":"IFERROR(HYPERLINK(INDEX(masterlist!$O$2:$O$200,MATCH(A15,masterlist!$C$2:$C$200,0)),INDEX(masterlist!$N$2:$N$200,MATCH(A15,masterlist!$C$2:$C$200,0))),\"\")","v":0},{"$f":"IFERROR(HYPERLINK(INDEX(masterlist!$Q$2:$Q$200,MATCH(A15,masterlist!$C$2:$C$200,0)),INDEX(masterlist!$P$2:$P$200,MATCH(A15,masterlist!$C$2:$C$200,0))),\"\")","v":0},{"$f":"IFERROR(HYPERLINK(INDEX(masterlist!$S$2:$S$200,MATCH(A15,masterlist!$C$2:$C$200,0)),INDEX(masterlist!$R$2:$R$200,MATCH(A15,masterlist!$C$2:$C$200,0))),\"\")","v":0},{"$f":"IFERROR(HYPERLINK(INDEX(masterlist!$U$2:$U$200,MATCH(A15,masterlist!$C$2:$C$200,0)),INDEX(masterlist!$T$2:$T$200,MATCH(A15,masterlist!$C$2:$C$200,0))),\"\")","v":0}]
[{"$f":"IFERROR(INDEX(masterlist!$A$2:$F$200,SMALL(IF(masterlist!$B$2:$B$200=\"PCO\",ROW(masterlist!$A$2:$F$200)-1),ROW(12:12)),3),\"\")","v":"PCO-Dog-3-12"},{"$f":"IFERROR(INDEX(masterlist!$E$2:$E$200,MATCH(A16,masterlist!$C$2:$C$200,0)),\"\")","v":3},{"$f":"IFERROR(INDEX(masterlist!$D$2:$D$200,MATCH(A16,masterlist!$C$2:$C$200,0)),\"\")","v":"Dog vaccines"},{"$f":"IFERROR(INDEX(masterlist!$G$2:$G$200,MATCH(A16,masterlist!$C$2:$C$200,0)),\"\")","v":"Are post-vaccination surveys* in dogs being carried out to evaluate vaccination coverage?"},{"$f":"IFERROR(INDEX(masterlist!$H$2:$H$200,MATCH(A16,masterlist!$C$2:$C$200,0)),\"\")","v":"Briefly describe post-vaccination survey"},0,null,{"$f":"IFERROR(HYPERLINK(INDEX(masterlist!$M$2:$M$200,MATCH(A16,masterlist!$C$2:$C$200,0)),INDEX(masterlist!$L$2:$L$200,MATCH(A16,masterlist!$C$2:$C$200,0))),\"\")","v":"5.6-Evaluation"},{"$f":"IFERROR(HYPERLINK(INDEX(masterlist!$O$2:$O$200,MATCH(A16,masterlist!$C$2:$C$200,0)),INDEX(masterlist!$N$2:$N$200,MATCH(A16,masterlist!$C$2:$C$200,0))),\"\")","v":0},{"$f":"IFERROR(HYPERLINK(INDEX(masterlist!$Q$2:$Q$200,MATCH(A16,masterlist!$C$2:$C$200,0)),INDEX(masterlist!$P$2:$P$200,MATCH(A16,masterlist!$C$2:$C$200,0))),\"\")","v":0},{"$f":"IFERROR(HYPERLINK(INDEX(masterlist!$S$2:$S$200,MATCH(A16,masterlist!$C$2:$C$200,0)),INDEX(masterlist!$R$2:$R$200,MATCH(A16,masterlist!$C$2:$C$200,0))),\"\")","v":0},{"$f":"IFERROR(HYPERLINK(INDEX(masterlist!$U$2:$U$200,MATCH(A16,masterlist!$C$2:$C$200,0)),INDEX(masterlist!$T$2:$T$200,MATCH(A16,masterlist!$C$2:$C$200,0))),\"\")","v":0}]
[{"$f":"IFERROR(INDEX(masterlist!$A$2:$F$200,SMALL(IF(masterlist!$B$2:$B$200=\"PCO\",ROW(masterlist!$A$2:$F$200)-1),ROW(13:13)),3),\"\")","v":"PCO-Dog-4-13"},{"$f":"IFERROR(INDEX(masterlist!$E$2:$E$200,MATCH(A17,masterlist!$C$2:$C$200,0)),\"\")","v":4},{"$f":"IFERROR(INDEX(masterlist!$D$2:$D$200,MATCH(A17,masterlist!$C$2:$C$200,0)),\"\")","v":"Dog vaccines"},{"$f":"IFERROR(INDEX(masterlist!$G$2:$G$200,MATCH(A17,masterlist!$C$2:$C$200,0)),\"\")","v":"Now that there are very few animal rabies cases in your country, are dog vaccination campaigns maintained in zones where dog rabies is still present or where otherwise justified (e.g. risk of introduction)?"},{"$f":"IFERROR(INDEX(masterlist!$H$2:$H$200,MATCH(A17,masterlist!$C$2:$C$200,0)),\"\")","v":" "},1,null,{"$f":"IFERROR(HYPERLINK(INDEX(masterlist!$M$2:$M$200,MATCH(A17,masterlist!$C$2:$C$200,0)),INDEX(masterlist!$L$2:$L$200,MATCH(A17,masterlist!$C$2:$C$200,0))),\"\")","v":0},{"$f":"IFERROR(HYPERLINK(INDEX(masterlist!$O$2:$O$200,MATCH(A17,masterlist!$C$2:$C$200,0)),INDEX(masterlist!$N$2:$N$200,MATCH(A17,masterlist!$C$2:$C$200,0))),\"\")","v":0},{"$f":"IFERROR(HYPERLINK(INDEX(masterlist!$Q$2:$Q$200,MATCH(A17,masterlist!$C$2:$C$200,0)),INDEX(masterlist!$P$2:$P$200,MATCH(A17,masterlist!$C$2:$C$200,0))),\"\")","v":0},{"$f":"IFERROR(HYPERLINK(INDEX(masterlist!$S$2:$S$200,MATCH(A17,masterlist!$C$2:$C$200,0)),INDEX(masterlist!$R$2:$R$200,MATCH(A17,masterlist!$C$2:$C$200,0))),\"\")","v":0},{"$f":"IFERROR(HYPERLINK(INDEX(masterlist!$U$2:$U$200,MATCH(A17,masterlist!$C$2:$C$200,0)),INDEX(masterlist!$T$2:$T$200,MATCH(A17,masterlist!$C$2:$C$200,0))),\"\")","v":0}]
[{"$f":"IFERROR(INDEX(masterlist!$A$2:$F$200,SMALL(IF(masterlist!$B$2:$B$200=\"PCO\",ROW(masterlist!$A$2:$F$200)-1),ROW(14:14)),3),\"\")","v":"PCO-Dog-5-14"},{"$f":"IFERROR(INDEX(masterlist!$E$2:$E$200,MATCH(A18,masterlist!$C$2:$C$200,0)),\"\")","v":5},{"$f":"IFERROR(INDEX(masterlist!$D$2:$D$200,MATCH(A18,masterlist!$C$2:$C$200,0)),\"\")","v":"Dog vaccines"},{"$f":"IFERROR(INDEX(masterlist!$G$2:$G$200,MATCH(A18,masterlist!$C$2:$C$200,0)),\"\")","v":"Even though you are rabies free based on successful mass vaccination campaigns, are strategic dog vaccination campaigns maintained where justifiable?"},{"$f":"IFERROR(INDEX(masterlist!$H$2:$H$200,MATCH(A18,masterlist!$C$2:$C$200,0)),\"\")","v":"e.g. areas bordering endemic countries, ports of entry"},0,null,{"$f":"IFERROR(HYPERLINK(INDEX(masterlist!$M$2:$M$200,MATCH(A18,masterlist!$C$2:$C$200,0)),INDEX(masterlist!$L$2:$L$200,MATCH(A18,masterlist!$C$2:$C$200,0))),\"\")","v":"5.4-What-are-we-going-to-do-dog-component"},{"$f":"IFERROR(HYPERLINK(INDEX(masterlist!$O$2:$O$200,MATCH(A18,masterlist!$C$2:$C$200,0)),INDEX(masterlist!$N$2:$N$200,MATCH(A18,masterlist!$C$2:$C$200,0))),\"\")","v":0},{"$f":"IFERROR(HYPERLINK(INDEX(masterlist!$Q$2:$Q$200,MATCH(A18,masterlist!$C$2:$C$200,0)),INDEX(masterlist!$P$2:$P$200,MATCH(A18,masterlist!$C$2:$C$200,0))),\"\")","v":0},{"$f":"IFERROR(HYPERLINK(INDEX(masterlist!$S$2:$S$200,MATCH(A18,masterlist!$C$2:$C$200,0)),INDEX(masterlist!$R$2:$R$200,MATCH(A18,masterlist!$C$2:$C$200,0))),\"\")","v":0},{"$f":"IFERROR(HYPERLINK(INDEX(masterlist!$U$2:$U$200,MATCH(A18,masterlist!$C$2:$C$200,0)),INDEX(masterlist!$T$2:$T$200,MATCH(A18,masterlist!$C$2:$C$200,0))),\"\")","v":0}]
[{"$f":"IFERROR(INDEX(masterlist!$A$2:$F$200,SMALL(IF(masterlist!$B$2:$B$200=\"PCO\",ROW(masterlist!$A$2:$F$200)-1),ROW(15:15)),3),\"\")","v":"PCO-Out-1-15"},{"$f":"IFERROR(INDEX(masterlist!$E$2:$E$200,MATCH(A19,masterlist!$C$2:$C$200,0)),\"\")","v":1},{"$f":"IFERROR(INDEX(masterlist!$D$2:$D$200,MATCH(A19,masterlist!$C$2:$C$200,0)),\"\")","v":"Outbreak response and other rabies control activities"},{"$f":"IFERROR(INDEX(masterlist!$G$2:$G$200,MATCH(A19,masterlist!$C$2:$C$200,0)),\"\")","v":"Have Standard Operating Procedures (SOPs) for coordinated action on reported outbreaks* at a local level been established?"},{"$f":"IFERROR(INDEX(masterlist!$H$2:$H$200,MATCH(A19,masterlist!$C$2:$C$200,0)),\"\")","v":" "},1,null,{"$f":"IFERROR(HYPERLINK(INDEX(masterlist!$M$2:$M$200,MATCH(A19,masterlist!$C$2:$C$200,0)),INDEX(masterlist!$L$2:$L$200,MATCH(A19,masterlist!$C$2:$C$200,0))),\"\")","v":"Challenges of animal health information systems and surveillance for animal diseases and zoonoses"},{"$f":"IFERROR(HYPERLINK(INDEX(masterlist!$O$2:$O$200,MATCH(A19,masterlist!$C$2:$C$200,0)),INDEX(masterlist!$N$2:$N$200,MATCH(A19,masterlist!$C$2:$C$200,0))),\"\")","v":0},{"$f":"IFERROR(HYPERLINK(INDEX(masterlist!$Q$2:$Q$200,MATCH(A19,masterlist!$C$2:$C$200,0)),INDEX(masterlist!$P$2:$P$200,MATCH(A19,masterlist!$C$2:$C$200,0))),\"\")","v":0},{"$f":"IFERROR(HYPERLINK(INDEX(masterlist!$S$2:$S$200,MATCH(A19,masterlist!$C$2:$C$200,0)),INDEX(masterlist!$R$2:$R$200,MATCH(A19,masterlist!$C$2:$C$200,0))),\"\")","v":0},{"$f":"IFERROR(HYPERLINK(INDEX(masterlist!$U$2:$U$200,MATCH(A19,masterlist!$C$2:$C$200,0)),INDEX(masterlist!$T$2:$T$200,MATCH(A19,masterlist!$C$2:$C$200,0))),\"\")","v":0}]
[{"$f":"IFERROR(INDEX(masterlist!$A$2:$F$200,SMALL(IF(masterlist!$B$2:$B$200=\"PCO\",ROW(masterlist!$A$2:$F$200)-1),ROW(16:16)),3),\"\")","v":"PCO-Out-1-16"},{"$f":"IFERROR(INDEX(masterlist!$E$2:$E$200,MATCH(A20,masterlist!$C$2:$C$200,0)),\"\")","v":1},{"$f":"IFERROR(INDEX(masterlist!$D$2:$D$200,MATCH(A20,masterlist!$C$2:$C$200,0)),\"\")","v":"Outbreak response and other rabies control activities"},{"$f":"IFERROR(INDEX(masterlist!$G$2:$G$200,MATCH(A20,masterlist!$C$2:$C$200,0)),\"\")","v":"Has Integrated Bite Case Management (IBCM)* been implemented at a local level? "},{"$f":"IFERROR(INDEX(masterlist!$H$2:$H$200,MATCH(A20,masterlist!$C$2:$C$200,0)),\"\")","v":" "},1,null,{"$f":"IFERROR(HYPERLINK(INDEX(masterlist!$M$2:$M$200,MATCH(A20,masterlist!$C$2:$C$200,0)),INDEX(masterlist!$L$2:$L$200,MATCH(A20,masterlist!$C$2:$C$200,0))),\"\")","v":"Operational-activities"},{"$f":"IFERROR(HYPERLINK(INDEX(masterlist!$O$2:$O$200,MATCH(A20,masterlist!$C$2:$C$200,0)),INDEX(masterlist!$N$2:$N$200,MATCH(A20,masterlist!$C$2:$C$200,0))),\"\")","v":0},{"$f":"IFERROR(HYPERLINK(INDEX(masterlist!$Q$2:$Q$200,MATCH(A20,masterlist!$C$2:$C$200,0)),INDEX(masterlist!$P$2:$P$200,MATCH(A20,masterlist!$C$2:$C$200,0))),\"\")","v":0},{"$f":"IFERROR(HYPERLINK(INDEX(masterlist!$S$2:$S$200,MATCH(A20,masterlist!$C$2:$C$200,0)),INDEX(masterlist!$R$2:$R$200,MATCH(A20,masterlist!$C$2:$C$200,0))),\"\")","v":0},{"$f":"IFERROR(HYPERLINK(INDEX(masterlist!$U$2:$U$200,MATCH(A20,masterlist!$C$2:$C$200,0)),INDEX(masterlist!$T$2:$T$200,MATCH(A20,masterlist!$C$2:$C$200,0))),\"\")","v":0}]
[{"$f":"IFERROR(INDEX(masterlist!$A$2:$F$200,SMALL(IF(masterlist!$B$2:$B$200=\"PCO\",ROW(masterlist!$A$2:$F$200)-1),ROW(17:17)),3),\"\")","v":"PCO-Out-2-17"},{"$f":"IFERROR(INDEX(masterlist!$E$2:$E$200,MATCH(A21,masterlist!$C$2:$C$200,0)),\"\")","v":2},{"$f":"IFERROR(INDEX(masterlist!$D$2:$D$200,MATCH(A21,masterlist!$C$2:$C$200,0)),\"\")","v":"Outbreak response and other rabies control activities"},{"$f":"IFERROR(INDEX(masterlist!$G$2:$G$200,MATCH(A21,masterlist!$C$2:$C$200,0)),\"\")","v":"Have IBCM SOPs, including sharing of information between sectors, been agreed upon at a national level?"},{"$f":"IFERROR(INDEX(masterlist!$H$2:$H$200,MATCH(A21,masterlist!$C$2:$C$200,0)),\"\")","v":"Sectors involved. Please explain how the information is shared between sectors"},1,null,{"$f":"IFERROR(HYPERLINK(INDEX(masterlist!$M$2:$M$200,MATCH(A21,masterlist!$C$2:$C$200,0)),INDEX(masterlist!$L$2:$L$200,MATCH(A21,masterlist!$C$2:$C$200,0))),\"\")","v":"WHO expert consultation on rabies"},{"$f":"IFERROR(HYPERLINK(INDEX(masterlist!$O$2:$O$200,MATCH(A21,masterlist!$C$2:$C$200,0)),INDEX(masterlist!$N$2:$N$200,MATCH(A21,masterlist!$C$2:$C$200,0))),\"\")","v":"Challenges of animal health information systems and surveillance for animal diseases and zoonoses "},{"$f":"IFERROR(HYPERLINK(INDEX(masterlist!$Q$2:$Q$200,MATCH(A21,masterlist!$C$2:$C$200,0)),INDEX(masterlist!$P$2:$P$200,MATCH(A21,masterlist!$C$2:$C$200,0))),\"\")","v":"Zoonotic diseases: A guide to collaboration"},{"$f":"IFERROR(HYPERLINK(INDEX(masterlist!$S$2:$S$200,MATCH(A21,masterlist!$C$2:$C$200,0)),INDEX(masterlist!$R$2:$R$200,MATCH(A21,masterlist!$C$2:$C$200,0))),\"\")","v":0},{"$f":"IFERROR(HYPERLINK(INDEX(masterlist!$U$2:$U$200,MATCH(A21,masterlist!$C$2:$C$200,0)),INDEX(masterlist!$T$2:$T$200,MATCH(A21,masterlist!$C$2:$C$200,0))),\"\")","v":0}]
[{"$f":"IFERROR(INDEX(masterlist!$A$2:$F$200,SMALL(IF(masterlist!$B$2:$B$200=\"PCO\",ROW(masterlist!$A$2:$F$200)-1),ROW(18:18)),3),\"\")","v":"PCO-Out-2-18"},{"$f":"IFERROR(INDEX(masterlist!$E$2:$E$200,MATCH(A22,masterlist!$C$2:$C$200,0)),\"\")","v":2},{"$f":"IFERROR(INDEX(masterlist!$D$2:$D$200,MATCH(A22,masterlist!$C$2:$C$200,0)),\"\")","v":"Outbreak response and other rabies control activities"},{"$f":"IFERROR(INDEX(masterlist!$G$2:$G$200,MATCH(A22,masterlist!$C$2:$C$200,0)),\"\")","v":"Is there active response to outbreaks in line with established SOPs?"},{"$f":"IFERROR(INDEX(masterlist!$H$2:$H$200,MATCH(A22,masterlist!$C$2:$C$200,0)),\"\")","v":" "},1,null,{"$f":"IFERROR(HYPERLINK(INDEX(masterlist!$M$2:$M$200,MATCH(A22,masterlist!$C$2:$C$200,0)),INDEX(masterlist!$L$2:$L$200,MATCH(A22,masterlist!$C$2:$C$200,0))),\"\")","v":"5.4-What-are-we-going-to-do-dog-component"},{"$f":"IFERROR(HYPERLINK(INDEX(masterlist!$O$2:$O$200,MATCH(A22,masterlist!$C$2:$C$200,0)),INDEX(masterlist!$N$2:$N$200,MATCH(A22,masterlist!$C$2:$C$200,0))),\"\")","v":0},{"$f":"IFERROR(HYPERLINK(INDEX(masterlist!$Q$2:$Q$200,MATCH(A22,masterlist!$C$2:$C$200,0)),INDEX(masterlist!$P$2:$P$200,MATCH(A22,masterlist!$C$2:$C$200,0))),\"\")","v":0},{"$f":"IFERROR(HYPERLINK(INDEX(masterlist!$S$2:$S$200,MATCH(A22,masterlist!$C$2:$C$200,0)),INDEX(masterlist!$R$2:$R$200,MATCH(A22,masterlist!$C$2:$C$200,0))),\"\")","v":0},{"$f":"IFERROR(HYPERLINK(INDEX(masterlist!$U$2:$U$200,MATCH(A22,masterlist!$C$2:$C$200,0)),INDEX(masterlist!$T$2:$T$200,MATCH(A22,masterlist!$C$2:$C$200,0))),\"\")","v":0}]
[{"$f":"IFERROR(INDEX(masterlist!$A$2:$F$200,SMALL(IF(masterlist!$B$2:$B$200=\"PCO\",ROW(masterlist!$A$2:$F$200)-1),ROW(19:19)),3),\"\")","v":"PCO-Out-2-19"},{"$f":"IFERROR(INDEX(masterlist!$E$2:$E$200,MATCH(A23,masterlist!$C$2:$C$200,0)),\"\")","v":2},{"$f":"IFERROR(INDEX(masterlist!$D$2:$D$200,MATCH(A23,masterlist!$C$2:$C$200,0)),\"\")","v":"Outbreak response and other rabies control activities"},{"$f":"IFERROR(INDEX(masterlist!$G$2:$G$200,MATCH(A23,masterlist!$C$2:$C$200,0)),\"\")","v":"Are SOPs available for the observation of rabies suspect dogs? "},{"$f":"IFERROR(INDEX(masterlist!$H$2:$H$200,MATCH(A23,masterlist!$C$2:$C$200,0)),\"\")","v":"e.g. dogs  involved in biting incidents"},1,null,{"$f":"IFERROR(HYPERLINK(INDEX(masterlist!$M$2:$M$200,MATCH(A23,masterlist!$C$2:$C$200,0)),INDEX(masterlist!$L$2:$L$200,MATCH(A23,masterlist!$C$2:$C$200,0))),\"\")","v":"Guidelines-animal-shelters"},{"$f":"IFERROR(HYPERLINK(INDEX(masterlist!$O$2:$O$200,MATCH(A23,masterlist!$C$2:$C$200,0)),INDEX(masterlist!$N$2:$N$200,MATCH(A23,masterlist!$C$2:$C$200,0))),\"\")","v":"WHO expert consultation on rabies"},{"$f":"IFERROR(HYPERLINK(INDEX(masterlist!$Q$2:$Q$200,MATCH(A23,masterlist!$C$2:$C$200,0)),INDEX(masterlist!$P$2:$P$200,MATCH(A23,masterlist!$C$2:$C$200,0))),\"\")","v":0},{"$f":"IFERROR(HYPERLINK(INDEX(masterlist!$S$2:$S$200,MATCH(A23,masterlist!$C$2:$C$200,0)),INDEX(masterlist!$R$2:$R$200,MATCH(A23,masterlist!$C$2:$C$200,0))),\"\")","v":0},{"$f":"IFERROR(HYPERLINK(INDEX(masterlist!$U$2:$U$200,MATCH(A23,masterlist!$C$2:$C$200,0)),INDEX(masterlist!$T$2:$T$200,MATCH(A23,masterlist!$C$2:$C$200,0))),\"\")","v":0}]
[{"$f":"IFERROR(INDEX(masterlist!$A$2:$F$200,SMALL(IF(masterlist!$B$2:$B$200=\"PCO\",ROW(masterlist!$A$2:$F$200)-1),ROW(20:20)),3),\"\")","v":"PCO-Out-2-20"},{"$f":"IFERROR(INDEX(masterlist!$E$2:$E$200,MATCH(A24,masterlist!$C$2:$C$200,0)),\"\")","v":2},{"$f":"IFERROR(INDEX(masterlist!$D$2:$D$200,MATCH(A24,masterlist!$C$2:$C$200,0)),\"\")","v":"Outbreak response and other rabies control activities"},{"$f":"IFERROR(INDEX(masterlist!$G$2:$G$200,MATCH(A24,masterlist!$C$2:$C$200,0)),\"\")","v":"Have facilities been established for the observation of rabies-suspected dogs?"},{"$f":"IFERROR(INDEX(masterlist!$H$2:$H$200,MATCH(A24,masterlist!$C$2:$C$200,0)),\"\")","v":"Home quarantine is adequate so long as the owner ensures the dog is provided sufficient food, water and shelter during the observation period."},0,null,{"$f":"IFERROR(HYPERLINK(INDEX(masterlist!$M$2:$M$200,MATCH(A24,masterlist!$C$2:$C$200,0)),INDEX(masterlist!$L$2:$L$200,MATCH(A24,masterlist!$C$2:$C$200,0))),\"\")","v":"Guidelines-animal-shelters"},{"$f":"IFERROR(HYPERLINK(INDEX(masterlist!$O$2:$O$200,MATCH(A24,masterlist!$C$2:$C$200,0)),INDEX(masterlist!$N$2:$N$200,MATCH(A24,masterlist!$C$2:$C$200,0))),\"\")","v":"ICAM animal shelter guidelines"},{"$f":"IFERROR(HYPERLINK(INDEX(masterlist!$Q$2:$Q$200,MATCH(A24,masterlist!$C$2:$C$200,0)),INDEX(masterlist!$P$2:$P$200,MATCH(A24,masterlist!$C$2:$C$200,0))),\"\")","v":0},{"$f":"IFERROR(HYPERLINK(INDEX(masterlist!$S$2:$S$200,MATCH(A24,masterlist!$C$2:$C$200,0)),INDEX(masterlist!$R$2:$R$200,MATCH(A24,masterlist!$C$2:$C$200,0))),\"\")","v":0},{"$f":"IFERROR(HYPERLINK(INDEX(masterlist!$U$2:$U$200,MATCH(A24,masterlist!$C$2:$C$200,0)),INDEX(masterlist!$T$2:$T$200,MATCH(A24,masterlist!$C$2:$C$200,0))),\"\")","v":0}]
[{"$f":"IFERROR(INDEX(masterlist!$A$2:$F$200,SMALL(IF(masterlist!$B$2:$B$200=\"PCO\",ROW(masterlist!$A$2:$F$200)-1),ROW(21:21)),3),\"\")","v":"PCO-Out-3-21"},{"$f":"IFERROR(INDEX(masterlist!$E$2:$E$200,MATCH(A25,masterlist!$C$2:$C$200,0)),\"\")","v":3},{"$f":"IFERROR(INDEX(masterlist!$D$2:$D$200,MATCH(A25,masterlist!$C$2:$C$200,0)),\"\")","v":"Outbreak response and other rabies control activities"},{"$f":"IFERROR(INDEX(masterlist!$G$2:$G$200,MATCH(A25,masterlist!$C$2:$C$200,0)),\"\")","v":"Is there capacity to conduct field investigations and planned outbreak responses for human rabies cases in the entire country?"},{"$f":"IFERROR(INDEX(masterlist!$H$2:$H$200,MATCH(A25,masterlist!$C$2:$C$200,0)),\"\")","v":"Agencies of personnel involved in field investigations and outbreak response"},0,null,{"$f":"IFERROR(HYPERLINK(INDEX(masterlist!$M$2:$M$200,MATCH(A25,masterlist!$C$2:$C$200,0)),INDEX(masterlist!$L$2:$L$200,MATCH(A25,masterlist!$C$2:$C$200,0))),\"\")","v":"WHO International Health Regulations"},{"$f":"IFERROR(HYPERLINK(INDEX(masterlist!$O$2:$O$200,MATCH(A25,masterlist!$C$2:$C$200,0)),INDEX(masterlist!$N$2:$N$200,MATCH(A25,masterlist!$C$2:$C$200,0))),\"\")","v":"Challenges of animal health information systems and surveillance for animal diseases and zoonoses "},{"$f":"IFERROR(HYPERLINK(INDEX(masterlist!$Q$2:$Q$200,MATCH(A25,masterlist!$C$2:$C$200,0)),INDEX(masterlist!$P$2:$P$200,MATCH(A25,masterlist!$C$2:$C$200,0))),\"\")","v":0},{"$f":"IFERROR(HYPERLINK(INDEX(masterlist!$S$2:$S$200,MATCH(A25,masterlist!$C$2:$C$200,0)),INDEX(masterlist!$R$2:$R$200,MATCH(A25,masterlist!$C$2:$C$200,0))),\"\")","v":0},{"$f":"IFERROR(HYPERLINK(INDEX(masterlist!$U$2:$U$200,MATCH(A25,masterlist!$C$2:$C$200,0)),INDEX(masterlist!$T$2:$T$200,MATCH(A25,masterlist!$C$2:$C$200,0))),\"\")","v":0}]
[{"$f":"IFERROR(INDEX(masterlist!$A$2:$F$200,SMALL(IF(masterlist!$B$2:$B$200=\"PCO\",ROW(masterlist!$A$2:$F$200)-1),ROW(22:22)),3),\"\")","v":"PCO-Out-3-22"},{"$f":"IFERROR(INDEX(masterlist!$E$2:$E$200,MATCH(A26,masterlist!$C$2:$C$200,0)),\"\")","v":3},{"$f":"IFERROR(INDEX(masterlist!$D$2:$D$200,MATCH(A26,masterlist!$C$2:$C$200,0)),\"\")","v":"Outbreak response and other rabies control activities"},{"$f":"IFERROR(INDEX(masterlist!$G$2:$G$200,MATCH(A26,masterlist!$C$2:$C$200,0)),\"\")","v":"Have potential rabies-free zones been identified where animal rabies cases caused by the canine rabies variant have been absent for at least a 2 year period?"},{"$f":"IFERROR(INDEX(masterlist!$H$2:$H$200,MATCH(A26,masterlist!$C$2:$C$200,0)),\"\")","v":"Names of rabies-free zones"},0,null,{"$f":"IFERROR(HYPERLINK(INDEX(masterlist!$M$2:$M$200,MATCH(A26,masterlist!$C$2:$C$200,0)),INDEX(masterlist!$L$2:$L$200,MATCH(A26,masterlist!$C$2:$C$200,0))),\"\")","v":"5.4.17 Keeping an area rabies-free"},{"$f":"IFERROR(HYPERLINK(INDEX(masterlist!$O$2:$O$200,MATCH(A26,masterlist!$C$2:$C$200,0)),INDEX(masterlist!$N$2:$N$200,MATCH(A26,masterlist!$C$2:$C$200,0))),\"\")","v":0},{"$f":"IFERROR(HYPERLINK(INDEX(masterlist!$Q$2:$Q$200,MATCH(A26,masterlist!$C$2:$C$200,0)),INDEX(masterlist!$P$2:$P$200,MATCH(A26,masterlist!$C$2:$C$200,0))),\"\")","v":0},{"$f":"IFERROR(HYPERLINK(INDEX(masterlist!$S$2:$S$200,MATCH(A26,masterlist!$C$2:$C$200,0)),INDEX(masterlist!$R$2:$R$200,MATCH(A26,masterlist!$C$2:$C$200,0))),\"\")","v":0},{"$f":"IFERROR(HYPERLINK(INDEX(masterlist!$U$2:$U$200,MATCH(A26,masterlist!$C$2:$C$200,0)),INDEX(masterlist!$T$2:$T$200,MATCH(A26,masterlist!$C$2:$C$200,0))),\"\")","v":0}]
[{"$f":"IFERROR(INDEX(masterlist!$A$2:$F$200,SMALL(IF(masterlist!$B$2:$B$200=\"PCO\",ROW(masterlist!$A$2:$F$200)-1),ROW(23:23)),3),\"\")","v":"PCO-Out-3-23"},{"$f":"IFERROR(INDEX(masterlist!$E$2:$E$200,MATCH(A27,masterlist!$C$2:$C$200,0)),\"\")","v":3},{"$f":"IFERROR(INDEX(masterlist!$D$2:$D$200,MATCH(A27,masterlist!$C$2:$C$200,0)),\"\")","v":"Outbreak response and other rabies control activities"},{"$f":"IFERROR(INDEX(masterlist!$G$2:$G$200,MATCH(A27,masterlist!$C$2:$C$200,0)),\"\")","v":"Has dialogue been initiated with neighbouring countries to prevent the re-introduction of rabies into designated rabies-free zones?"},{"$f":"IFERROR(INDEX(masterlist!$H$2:$H$200,MATCH(A27,masterlist!$C$2:$C$200,0)),\"\")","v":" "},1,null,{"$f":"IFERROR(HYPERLINK(INDEX(masterlist!$M$2:$M$200,MATCH(A27,masterlist!$C$2:$C$200,0)),INDEX(masterlist!$L$2:$L$200,MATCH(A27,masterlist!$C$2:$C$200,0))),\"\")","v":"5.4.17-successful-maintenance"},{"$f":"IFERROR(HYPERLINK(INDEX(masterlist!$O$2:$O$200,MATCH(A27,masterlist!$C$2:$C$200,0)),INDEX(masterlist!$N$2:$N$200,MATCH(A27,masterlist!$C$2:$C$200,0))),\"\")","v":"Challenges of animal health information systems and surveillance for animal diseases and zoonoses "},{"$f":"IFERROR(HYPERLINK(INDEX(masterlist!$Q$2:$Q$200,MATCH(A27,masterlist!$C$2:$C$200,0)),INDEX(masterlist!$P$2:$P$200,MATCH(A27,masterlist!$C$2:$C$200,0))),\"\")","v":0},{"$f":"IFERROR(HYPERLINK(INDEX(masterlist!$S$2:$S$200,MATCH(A27,masterlist!$C$2:$C$200,0)),INDEX(masterlist!$R$2:$R$200,MATCH(A27,masterlist!$C$2:$C$200,0))),\"\")","v":0},{"$f":"IFERROR(HYPERLINK(INDEX(masterlist!$U$2:$U$200,MATCH(A27,masterlist!$C$2:$C$200,0)),INDEX(masterlist!$T$2:$T$200,MATCH(A27,masterlist!$C$2:$C$200,0))),\"\")","v":0}]
[{"$f":"IFERROR(INDEX(masterlist!$A$2:$F$200,SMALL(IF(masterlist!$B$2:$B$200=\"PCO\",ROW(masterlist!$A$2:$F$200)-1),ROW(24:24)),3),\"\")","v":"PCO-Out-4-24"},{"$f":"IFERROR(INDEX(masterlist!$E$2:$E$200,MATCH(A28,masterlist!$C$2:$C$200,0)),\"\")","v":4},{"$f":"IFERROR(INDEX(masterlist!$D$2:$D$200,MATCH(A28,masterlist!$C$2:$C$200,0)),\"\")","v":"Outbreak response and other rabies control activities"},{"$f":"IFERROR(INDEX(masterlist!$G$2:$G$200,MATCH(A28,masterlist!$C$2:$C$200,0)),\"\")","v":"Is there capacity to conduct field investigations and planned outbreak responses for animal rabies cases in the entire country?"},{"$f":"IFERROR(INDEX(masterlist!$H$2:$H$200,MATCH(A28,masterlist!$C$2:$C$200,0)),\"\")","v":" "},1,null,{"$f":"IFERROR(HYPERLINK(INDEX(masterlist!$M$2:$M$200,MATCH(A28,masterlist!$C$2:$C$200,0)),INDEX(masterlist!$L$2:$L$200,MATCH(A28,masterlist!$C$2:$C$200,0))),\"\")","v":0},{"$f":"IFERROR(HYPERLINK(INDEX(masterlist!$O$2:$O$200,MATCH(A28,masterlist!$C$2:$C$200,0)),INDEX(masterlist!$N$2:$N$200,MATCH(A28,masterlist!$C$2:$C$200,0))),\"\")","v":0},{"$f":"IFERROR(HYPERLINK(INDEX(masterlist!$Q$2:$Q$200,MATCH(A28,masterlist!$C$2:$C$200,0)),INDEX(masterlist!$P$2:$P$200,MATCH(A28,masterlist!$C$2:$C$200,0))),\"\")","v":0},{"$f":"IFERROR(HYPERLINK(INDEX(masterlist!$S$2:$S$200,MATCH(A28,masterlist!$C$2:$C$200,0)),INDEX(masterlist!$R$2:$R$200,MATCH(A28,masterlist!$C$2:$C$200,0))),\"\")","v":0},{"$f":"IFERROR(HYPERLINK(INDEX(masterlist!$U$2:$U$200,MATCH(A28,masterlist!$C$2:$C$200,0)),INDEX(masterlist!$T$2:$T$200,MATCH(A28,masterlist!$C$2:$C$200,0))),\"\")","v":0}]
[{"$f":"IFERROR(INDEX(masterlist!$A$2:$F$200,SMALL(IF(masterlist!$B$2:$B$200=\"PCO\",ROW(masterlist!$A$2:$F$200)-1),ROW(25:25)),3),\"\")","v":"PCO-Out-4-25"},{"$f":"IFERROR(INDEX(masterlist!$E$2:$E$200,MATCH(A29,masterlist!$C$2:$C$200,0)),\"\")","v":4},{"$f":"IFERROR(INDEX(masterlist!$D$2:$D$200,MATCH(A29,masterlist!$C$2:$C$200,0)),\"\")","v":"Outbreak response and other rabies control activities"},{"$f":"IFERROR(INDEX(masterlist!$G$2:$G$200,MATCH(A29,masterlist!$C$2:$C$200,0)),\"\")","v":"Now that there are very few animal rabies cases in your country, has an emergency response/contingency plan been developed to address any reintroduced case of animal rabies involving a canine variant in rabies-free zones?"},{"$f":"IFERROR(INDEX(masterlist!$H$2:$H$200,MATCH(A29,masterlist!$C$2:$C$200,0)),\"\")","v":" "},0,null,{"$f":"IFERROR(HYPERLINK(INDEX(masterlist!$M$2:$M$200,MATCH(A29,masterlist!$C$2:$C$200,0)),INDEX(masterlist!$L$2:$L$200,MATCH(A29,masterlist!$C$2:$C$200,0))),\"\")","v":"5.4.20 Reintroduction response "},{"$f":"IFERROR(HYPERLINK(INDEX(masterlist!$O$2:$O$200,MATCH(A29,masterlist!$C$2:$C$200,0)),INDEX(masterlist!$N$2:$N$200,MATCH(A29,masterlist!$C$2:$C$200,0))),\"\")","v":0},{"$f":"IFERROR(HYPERLINK(INDEX(masterlist!$Q$2:$Q$200,MATCH(A29,masterlist!$C$2:$C$200,0)),INDEX(masterlist!$P$2:$P$200,MATCH(A29,masterlist!$C$2:$C$200,0))),\"\")","v":0},{"$f":"IFERROR(HYPERLINK(INDEX(masterlist!$S$2:$S$200,MATCH(A29,masterlist!$C$2:$C$200,0)),INDEX(masterlist!$R$2:$R$200,MATCH(A29,masterlist!$C$2:$C$200,0))),\"\")","v":0},{"$f":"IFERROR(HYPERLINK(INDEX(masterlist!$U$2:$U$200,MATCH(A29,masterlist!$C$2:$C$200,0)),INDEX(masterlist!$T$2:$T$200,MATCH(A29,masterlist!$C$2:$C$200,0))),\"\")","v":0}]
[{"$f":"IFERROR(INDEX(masterlist!$A$2:$F$200,SMALL(IF(masterlist!$B$2:$B$200=\"PCO\",ROW(masterlist!$A$2:$F$200)-1),ROW(26:26)),3),\"\")","v":"PCO-Out-5-26"},{"$f":"IFERROR(INDEX(masterlist!$E$2:$E$200,MATCH(A30,masterlist!$C$2:$C$200,0)),\"\")","v":5},{"$f":"IFERROR(INDEX(masterlist!$D$2:$D$200,MATCH(A30,masterlist!$C$2:$C$200,0)),\"\")","v":"Outbreak response and other rabies control activities"},{"$f":"IFERROR(INDEX(masterlist!$G$2:$G$200,MATCH(A30,masterlist!$C$2:$C$200,0)),\"\")","v":"Even though you are rabies free based on successful mass vaccination campaigns, has the capacity for outbreak and re-introduction response been maintained?"},{"$f":"IFERROR(INDEX(masterlist!$H$2:$H$200,MATCH(A30,masterlist!$C$2:$C$200,0)),\"\")","v":" "},0,null,{"$f":"IFERROR(HYPERLINK(INDEX(masterlist!$M$2:$M$200,MATCH(A30,masterlist!$C$2:$C$200,0)),INDEX(masterlist!$L$2:$L$200,MATCH(A30,masterlist!$C$2:$C$200,0))),\"\")","v":"5.4.17-successful-maintenance"},{"$f":"IFERROR(HYPERLINK(INDEX(masterlist!$O$2:$O$200,MATCH(A30,masterlist!$C$2:$C$200,0)),INDEX(masterlist!$N$2:$N$200,MATCH(A30,masterlist!$C$2:$C$200,0))),\"\")","v":0},{"$f":"IFERROR(HYPERLINK(INDEX(masterlist!$Q$2:$Q$200,MATCH(A30,masterlist!$C$2:$C$200,0)),INDEX(masterlist!$P$2:$P$200,MATCH(A30,masterlist!$C$2:$C$200,0))),\"\")","v":0},{"$f":"IFERROR(HYPERLINK(INDEX(masterlist!$S$2:$S$200,MATCH(A30,masterlist!$C$2:$C$200,0)),INDEX(masterlist!$R$2:$R$200,MATCH(A30,masterlist!$C$2:$C$200,0))),\"\")","v":0},{"$f":"IFERROR(HYPERLINK(INDEX(masterlist!$U$2:$U$200,MATCH(A30,masterlist!$C$2:$C$200,0)),INDEX(masterlist!$T$2:$T$200,MATCH(A30,masterlist!$C$2:$C$200,0))),\"\")","v":0}]
[{"$f":"IFERROR(INDEX(masterlist!$A$2:$F$200,SMALL(IF(masterlist!$B$2:$B$200=\"PCO\",ROW(masterlist!$A$2:$F$200)-1),ROW(27:27)),3),\"\")","v":""},{"$f":"IFERROR(INDEX(masterlist!$E$2:$E$200,MATCH(A31,masterlist!$C$2:$C$200,0)),\"\")","v":""},{"$f":"IFERROR(INDEX(masterlist!$D$2:$D$200,MATCH(A31,masterlist!$C$2:$C$200,0)),\"\")","v":""},{"$f":"IFERROR(INDEX(masterlist!$G$2:$G$200,MATCH(A31,masterlist!$C$2:$C$200,0)),\"\")","v":""},{"$f":"IFERROR(INDEX(masterlist!$H$2:$H$200,MATCH(A31,masterlist!$C$2:$C$200,0)),\"\")","v":""},null,null,{"$f":"IFERROR(HYPERLINK(INDEX(masterlist!$M$2:$M$200,MATCH(A31,masterlist!$C$2:$C$200,0)),INDEX(masterlist!$L$2:$L$200,MATCH(A31,masterlist!$C$2:$C$200,0))),\"\")","v":""},{"$f":"IFERROR(HYPERLINK(INDEX(masterlist!$O$2:$O$200,MATCH(A31,masterlist!$C$2:$C$200,0)),INDEX(masterlist!$N$2:$N$200,MATCH(A31,masterlist!$C$2:$C$200,0))),\"\")","v":""},{"$f":"IFERROR(HYPERLINK(INDEX(masterlist!$Q$2:$Q$200,MATCH(A31,masterlist!$C$2:$C$200,0)),INDEX(masterlist!$P$2:$P$200,MATCH(A31,masterlist!$C$2:$C$200,0))),\"\")","v":""},{"$f":"IFERROR(HYPERLINK(INDEX(masterlist!$S$2:$S$200,MATCH(A31,masterlist!$C$2:$C$200,0)),INDEX(masterlist!$R$2:$R$200,MATCH(A31,masterlist!$C$2:$C$200,0))),\"\")","v":""},{"$f":"IFERROR(HYPERLINK(INDEX(masterlist!$U$2:$U$200,MATCH(A31,masterlist!$C$2:$C$200,0)),INDEX(masterlist!$T$2:$T$200,MATCH(A31,masterlist!$C$2:$C$200,0))),\"\")","v":""}]
[{"$f":"IFERROR(INDEX(masterlist!$A$2:$F$200,SMALL(IF(masterlist!$B$2:$B$200=\"PCO\",ROW(masterlist!$A$2:$F$200)-1),ROW(28:28)),3),\"\")","v":""},{"$f":"IFERROR(INDEX(masterlist!$E$2:$E$200,MATCH(A32,masterlist!$C$2:$C$200,0)),\"\")","v":""},{"$f":"IFERROR(INDEX(masterlist!$D$2:$D$200,MATCH(A32,masterlist!$C$2:$C$200,0)),\"\")","v":""},{"$f":"IFERROR(INDEX(masterlist!$G$2:$G$200,MATCH(A32,masterlist!$C$2:$C$200,0)),\"\")","v":""},{"$f":"IFERROR(INDEX(masterlist!$H$2:$H$200,MATCH(A32,masterlist!$C$2:$C$200,0)),\"\")","v":""},null,null,{"$f":"IFERROR(HYPERLINK(INDEX(masterlist!$M$2:$M$200,MATCH(A32,masterlist!$C$2:$C$200,0)),INDEX(masterlist!$L$2:$L$200,MATCH(A32,masterlist!$C$2:$C$200,0))),\"\")","v":""},{"$f":"IFERROR(HYPERLINK(INDEX(masterlist!$O$2:$O$200,MATCH(A32,masterlist!$C$2:$C$200,0)),INDEX(masterlist!$N$2:$N$200,MATCH(A32,masterlist!$C$2:$C$200,0))),\"\")","v":""},{"$f":"IFERROR(HYPERLINK(INDEX(masterlist!$Q$2:$Q$200,MATCH(A32,masterlist!$C$2:$C$200,0)),INDEX(masterlist!$P$2:$P$200,MATCH(A32,masterlist!$C$2:$C$200,0))),\"\")","v":""},{"$f":"IFERROR(HYPERLINK(INDEX(masterlist!$S$2:$S$200,MATCH(A32,masterlist!$C$2:$C$200,0)),INDEX(masterlist!$R$2:$R$200,MATCH(A32,masterlist!$C$2:$C$200,0))),\"\")","v":""},{"$f":"IFERROR(HYPERLINK(INDEX(masterlist!$U$2:$U$200,MATCH(A32,masterlist!$C$2:$C$200,0)),INDEX(masterlist!$T$2:$T$200,MATCH(A32,masterlist!$C$2:$C$200,0))),\"\")","v":""}]
[{"$f":"IFERROR(INDEX(masterlist!$A$2:$F$200,SMALL(IF(masterlist!$B$2:$B$200=\"PCO\",ROW(masterlist!$A$2:$F$200)-1),ROW(29:29)),3),\"\")","v":""},{"$f":"IFERROR(INDEX(masterlist!$E$2:$E$200,MATCH(A33,masterlist!$C$2:$C$200,0)),\"\")","v":""},{"$f":"IFERROR(INDEX(masterlist!$D$2:$D$200,MATCH(A33,masterlist!$C$2:$C$200,0)),\"\")","v":""},{"$f":"IFERROR(INDEX(masterlist!$G$2:$G$200,MATCH(A33,masterlist!$C$2:$C$200,0)),\"\")","v":""},{"$f":"IFERROR(INDEX(masterlist!$H$2:$H$200,MATCH(A33,masterlist!$C$2:$C$200,0)),\"\")","v":""},null,null,{"$f":"IFERROR(HYPERLINK(INDEX(masterlist!$M$2:$M$200,MATCH(A33,masterlist!$C$2:$C$200,0)),INDEX(masterlist!$L$2:$L$200,MATCH(A33,masterlist!$C$2:$C$200,0))),\"\")","v":""},{"$f":"IFERROR(HYPERLINK(INDEX(masterlist!$O$2:$O$200,MATCH(A33,masterlist!$C$2:$C$200,0)),INDEX(masterlist!$N$2:$N$200,MATCH(A33,masterlist!$C$2:$C$200,0))),\"\")","v":""},{"$f":"IFERROR(HYPERLINK(INDEX(masterlist!$Q$2:$Q$200,MATCH(A33,masterlist!$C$2:$C$200,0)),INDEX(masterlist!$P$2:$P$200,MATCH(A33,masterlist!$C$2:$C$200,0))),\"\")","v":""},{"$f":"IFERROR(HYPERLINK(INDEX(masterlist!$S$2:$S$200,MATCH(A33,masterlist!$C$2:$C$200,0)),INDEX(masterlist!$R$2:$R$200,MATCH(A33,masterlist!$C$2:$C$200,0))),\"\")","v":""},{"$f":"IFERROR(HYPERLINK(INDEX(masterlist!$U$2:$U$200,MATCH(A33,masterlist!$C$2:$C$200,0)),INDEX(masterlist!$T$2:$T$200,MATCH(A33,masterlist!$C$2:$C$200,0))),\"\")","v":""}]
[{"$f":"IFERROR(INDEX(masterlist!$A$2:$F$200,SMALL(IF(masterlist!$B$2:$B$200=\"PCO\",ROW(masterlist!$A$2:$F$200)-1),ROW(30:30)),3),\"\")","v":""},{"$f":"IFERROR(INDEX(masterlist!$E$2:$E$200,MATCH(A34,masterlist!$C$2:$C$200,0)),\"\")","v":""},{"$f":"IFERROR(INDEX(masterlist!$D$2:$D$200,MATCH(A34,masterlist!$C$2:$C$200,0)),\"\")","v":""},{"$f":"IFERROR(INDEX(masterlist!$G$2:$G$200,MATCH(A34,masterlist!$C$2:$C$200,0)),\"\")","v":""},{"$f":"IFERROR(INDEX(masterlist!$H$2:$H$200,MATCH(A34,masterlist!$C$2:$C$200,0)),\"\")","v":""},null,null,{"$f":"IFERROR(HYPERLINK(INDEX(masterlist!$M$2:$M$200,MATCH(A34,masterlist!$C$2:$C$200,0)),INDEX(masterlist!$L$2:$L$200,MATCH(A34,masterlist!$C$2:$C$200,0))),\"\")","v":""},{"$f":"IFERROR(HYPERLINK(INDEX(masterlist!$O$2:$O$200,MATCH(A34,masterlist!$C$2:$C$200,0)),INDEX(masterlist!$N$2:$N$200,MATCH(A34,masterlist!$C$2:$C$200,0))),\"\")","v":""},{"$f":"IFERROR(HYPERLINK(INDEX(masterlist!$Q$2:$Q$200,MATCH(A34,masterlist!$C$2:$C$200,0)),INDEX(masterlist!$P$2:$P$200,MATCH(A34,masterlist!$C$2:$C$200,0))),\"\")","v":""},{"$f":"IFERROR(HYPERLINK(INDEX(masterlist!$S$2:$S$200,MATCH(A34,masterlist!$C$2:$C$200,0)),INDEX(masterlist!$R$2:$R$200,MATCH(A34,masterlist!$C$2:$C$200,0))),\"\")","v":""},{"$f":"IFERROR(HYPERLINK(INDEX(masterlist!$U$2:$U$200,MATCH(A34,masterlist!$C$2:$C$200,0)),INDEX(masterlist!$T$2:$T$200,MATCH(A34,masterlist!$C$2:$C$200,0))),\"\")","v":""}]
[{"$f":"IFERROR(INDEX(masterlist!$A$2:$F$200,SMALL(IF(masterlist!$B$2:$B$200=\"PCO\",ROW(masterlist!$A$2:$F$200)-1),ROW(31:31)),3),\"\")","v":""},{"$f":"IFERROR(INDEX(masterlist!$E$2:$E$200,MATCH(A35,masterlist!$C$2:$C$200,0)),\"\")","v":""},{"$f":"IFERROR(INDEX(masterlist!$D$2:$D$200,MATCH(A35,masterlist!$C$2:$C$200,0)),\"\")","v":""},{"$f":"IFERROR(INDEX(masterlist!$G$2:$G$200,MATCH(A35,masterlist!$C$2:$C$200,0)),\"\")","v":""},{"$f":"IFERROR(INDEX(masterlist!$H$2:$H$200,MATCH(A35,masterlist!$C$2:$C$200,0)),\"\")","v":""},null,null,{"$f":"IFERROR(HYPERLINK(INDEX(masterlist!$M$2:$M$200,MATCH(A35,masterlist!$C$2:$C$200,0)),INDEX(masterlist!$L$2:$L$200,MATCH(A35,masterlist!$C$2:$C$200,0))),\"\")","v":""},{"$f":"IFERROR(HYPERLINK(INDEX(masterlist!$O$2:$O$200,MATCH(A35,masterlist!$C$2:$C$200,0)),INDEX(masterlist!$N$2:$N$200,MATCH(A35,masterlist!$C$2:$C$200,0))),\"\")","v":""},{"$f":"IFERROR(HYPERLINK(INDEX(masterlist!$Q$2:$Q$200,MATCH(A35,masterlist!$C$2:$C$200,0)),INDEX(masterlist!$P$2:$P$200,MATCH(A35,masterlist!$C$2:$C$200,0))),\"\")","v":""},{"$f":"IFERROR(HYPERLINK(INDEX(masterlist!$S$2:$S$200,MATCH(A35,masterlist!$C$2:$C$200,0)),INDEX(masterlist!$R$2:$R$200,MATCH(A35,masterlist!$C$2:$C$200,0))),\"\")","v":""},{"$f":"IFERROR(HYPERLINK(INDEX(masterlist!$U$2:$U$200,MATCH(A35,masterlist!$C$2:$C$200,0)),INDEX(masterlist!$T$2:$T$200,MATCH(A35,masterlist!$C$2:$C$200,0))),\"\")","v":""}]
[{"$f":"IFERROR(INDEX(masterlist!$A$2:$F$200,SMALL(IF(masterlist!$B$2:$B$200=\"PCO\",ROW(masterlist!$A$2:$F$200)-1),ROW(32:32)),3),\"\")","v":""},{"$f":"IFERROR(INDEX(masterlist!$E$2:$E$200,MATCH(A36,masterlist!$C$2:$C$200,0)),\"\")","v":""},{"$f":"IFERROR(INDEX(masterlist!$D$2:$D$200,MATCH(A36,masterlist!$C$2:$C$200,0)),\"\")","v":""},{"$f":"IFERROR(INDEX(masterlist!$G$2:$G$200,MATCH(A36,masterlist!$C$2:$C$200,0)),\"\")","v":""},{"$f":"IFERROR(INDEX(masterlist!$H$2:$H$200,MATCH(A36,masterlist!$C$2:$C$200,0)),\"\")","v":""},null,null,{"$f":"IFERROR(HYPERLINK(INDEX(masterlist!$M$2:$M$200,MATCH(A36,masterlist!$C$2:$C$200,0)),INDEX(masterlist!$L$2:$L$200,MATCH(A36,masterlist!$C$2:$C$200,0))),\"\")","v":""},{"$f":"IFERROR(HYPERLINK(INDEX(masterlist!$O$2:$O$200,MATCH(A36,masterlist!$C$2:$C$200,0)),INDEX(masterlist!$N$2:$N$200,MATCH(A36,masterlist!$C$2:$C$200,0))),\"\")","v":""},{"$f":"IFERROR(HYPERLINK(INDEX(masterlist!$Q$2:$Q$200,MATCH(A36,masterlist!$C$2:$C$200,0)),INDEX(masterlist!$P$2:$P$200,MATCH(A36,masterlist!$C$2:$C$200,0))),\"\")","v":""},{"$f":"IFERROR(HYPERLINK(INDEX(masterlist!$S$2:$S$200,MATCH(A36,masterlist!$C$2:$C$200,0)),INDEX(masterlist!$R$2:$R$200,MATCH(A36,masterlist!$C$2:$C$200,0))),\"\")","v":""},{"$f":"IFERROR(HYPERLINK(INDEX(masterlist!$U$2:$U$200,MATCH(A36,masterlist!$C$2:$C$200,0)),INDEX(masterlist!$T$2:$T$200,MATCH(A36,masterlist!$C$2:$C$200,0))),\"\")","v":""}]
[{"$f":"IFERROR(INDEX(masterlist!$A$2:$F$200,SMALL(IF(masterlist!$B$2:$B$200=\"PCO\",ROW(masterlist!$A$2:$F$200)-1),ROW(33:33)),3),\"\")","v":""},{"$f":"IFERROR(INDEX(masterlist!$E$2:$E$200,MATCH(A37,masterlist!$C$2:$C$200,0)),\"\")","v":""},{"$f":"IFERROR(INDEX(masterlist!$D$2:$D$200,MATCH(A37,masterlist!$C$2:$C$200,0)),\"\")","v":""},{"$f":"IFERROR(INDEX(masterlist!$G$2:$G$200,MATCH(A37,masterlist!$C$2:$C$200,0)),\"\")","v":""},{"$f":"IFERROR(INDEX(masterlist!$H$2:$H$200,MATCH(A37,masterlist!$C$2:$C$200,0)),\"\")","v":""},null,null,{"$f":"IFERROR(HYPERLINK(INDEX(masterlist!$M$2:$M$200,MATCH(A37,masterlist!$C$2:$C$200,0)),INDEX(masterlist!$L$2:$L$200,MATCH(A37,masterlist!$C$2:$C$200,0))),\"\")","v":""},{"$f":"IFERROR(HYPERLINK(INDEX(masterlist!$O$2:$O$200,MATCH(A37,masterlist!$C$2:$C$200,0)),INDEX(masterlist!$N$2:$N$200,MATCH(A37,masterlist!$C$2:$C$200,0))),\"\")","v":""},{"$f":"IFERROR(HYPERLINK(INDEX(masterlist!$Q$2:$Q$200,MATCH(A37,masterlist!$C$2:$C$200,0)),INDEX(masterlist!$P$2:$P$200,MATCH(A37,masterlist!$C$2:$C$200,0))),\"\")","v":""},{"$f":"IFERROR(HYPERLINK(INDEX(masterlist!$S$2:$S$200,MATCH(A37,masterlist!$C$2:$C$200,0)),INDEX(masterlist!$R$2:$R$200,MATCH(A37,masterlist!$C$2:$C$200,0))),\"\")","v":""},{"$f":"IFERROR(HYPERLINK(INDEX(masterlist!$U$2:$U$200,MATCH(A37,masterlist!$C$2:$C$200,0)),INDEX(masterlist!$T$2:$T$200,MATCH(A37,masterlist!$C$2:$C$200,0))),\"\")","v":""}]
[{"$f":"IFERROR(INDEX(masterlist!$A$2:$F$200,SMALL(IF(masterlist!$B$2:$B$200=\"PCO\",ROW(masterlist!$A$2:$F$200)-1),ROW(34:34)),3),\"\")","v":""},{"$f":"IFERROR(INDEX(masterlist!$E$2:$E$200,MATCH(A38,masterlist!$C$2:$C$200,0)),\"\")","v":""},{"$f":"IFERROR(INDEX(masterlist!$D$2:$D$200,MATCH(A38,masterlist!$C$2:$C$200,0)),\"\")","v":""},{"$f":"IFERROR(INDEX(masterlist!$G$2:$G$200,MATCH(A38,masterlist!$C$2:$C$200,0)),\"\")","v":""},{"$f":"IFERROR(INDEX(masterlist!$H$2:$H$200,MATCH(A38,masterlist!$C$2:$C$200,0)),\"\")","v":""},null,null,{"$f":"IFERROR(HYPERLINK(INDEX(masterlist!$M$2:$M$200,MATCH(A38,masterlist!$C$2:$C$200,0)),INDEX(masterlist!$L$2:$L$200,MATCH(A38,masterlist!$C$2:$C$200,0))),\"\")","v":""},{"$f":"IFERROR(HYPERLINK(INDEX(masterlist!$O$2:$O$200,MATCH(A38,masterlist!$C$2:$C$200,0)),INDEX(masterlist!$N$2:$N$200,MATCH(A38,masterlist!$C$2:$C$200,0))),\"\")","v":""},{"$f":"IFERROR(HYPERLINK(INDEX(masterlist!$Q$2:$Q$200,MATCH(A38,masterlist!$C$2:$C$200,0)),INDEX(masterlist!$P$2:$P$200,MATCH(A38,masterlist!$C$2:$C$200,0))),\"\")","v":""},{"$f":"IFERROR(HYPERLINK(INDEX(masterlist!$S$2:$S$200,MATCH(A38,masterlist!$C$2:$C$200,0)),INDEX(masterlist!$R$2:$R$200,MATCH(A38,masterlist!$C$2:$C$200,0))),\"\")","v":""},{"$f":"IFERROR(HYPERLINK(INDEX(masterlist!$U$2:$U$200,MATCH(A38,masterlist!$C$2:$C$200,0)),INDEX(masterlist!$T$2:$T$200,MATCH(A38,masterlist!$C$2:$C$200,0))),\"\")","v":""}]
[{"$f":"IFERROR(INDEX(masterlist!$A$2:$F$200,SMALL(IF(masterlist!$B$2:$B$200=\"PCO\",ROW(masterlist!$A$2:$F$200)-1),ROW(35:35)),3),\"\")","v":""},{"$f":"IFERROR(INDEX(masterlist!$E$2:$E$200,MATCH(A39,masterlist!$C$2:$C$200,0)),\"\")","v":""},{"$f":"IFERROR(INDEX(masterlist!$D$2:$D$200,MATCH(A39,masterlist!$C$2:$C$200,0)),\"\")","v":""},{"$f":"IFERROR(INDEX(masterlist!$G$2:$G$200,MATCH(A39,masterlist!$C$2:$C$200,0)),\"\")","v":""},{"$f":"IFERROR(INDEX(masterlist!$H$2:$H$200,MATCH(A39,masterlist!$C$2:$C$200,0)),\"\")","v":""},null,null,{"$f":"IFERROR(HYPERLINK(INDEX(masterlist!$M$2:$M$200,MATCH(A39,masterlist!$C$2:$C$200,0)),INDEX(masterlist!$L$2:$L$200,MATCH(A39,masterlist!$C$2:$C$200,0))),\"\")","v":""},{"$f":"IFERROR(HYPERLINK(INDEX(masterlist!$O$2:$O$200,MATCH(A39,masterlist!$C$2:$C$200,0)),INDEX(masterlist!$N$2:$N$200,MATCH(A39,masterlist!$C$2:$C$200,0))),\"\")","v":""},{"$f":"IFERROR(HYPERLINK(INDEX(masterlist!$Q$2:$Q$200,MATCH(A39,masterlist!$C$2:$C$200,0)),INDEX(masterlist!$P$2:$P$200,MATCH(A39,masterlist!$C$2:$C$200,0))),\"\")","v":""},{"$f":"IFERROR(HYPERLINK(INDEX(masterlist!$S$2:$S$200,MATCH(A39,masterlist!$C$2:$C$200,0)),INDEX(masterlist!$R$2:$R$200,MATCH(A39,masterlist!$C$2:$C$200,0))),\"\")","v":""},{"$f":"IFERROR(HYPERLINK(INDEX(masterlist!$U$2:$U$200,MATCH(A39,masterlist!$C$2:$C$200,0)),INDEX(masterlist!$T$2:$T$200,MATCH(A39,masterlist!$C$2:$C$200,0))),\"\")","v":""}]
[{"$f":"IFERROR(INDEX(masterlist!$A$2:$F$200,SMALL(IF(masterlist!$B$2:$B$200=\"PCO\",ROW(masterlist!$A$2:$F$200)-1),ROW(36:36)),3),\"\")","v":""},{"$f":"IFERROR(INDEX(masterlist!$E$2:$E$200,MATCH(A40,masterlist!$C$2:$C$200,0)),\"\")","v":""},{"$f":"IFERROR(INDEX(masterlist!$D$2:$D$200,MATCH(A40,masterlist!$C$2:$C$200,0)),\"\")","v":""},{"$f":"IFERROR(INDEX(masterlist!$G$2:$G$200,MATCH(A40,masterlist!$C$2:$C$200,0)),\"\")","v":""},{"$f":"IFERROR(INDEX(masterlist!$H$2:$H$200,MATCH(A40,masterlist!$C$2:$C$200,0)),\"\")","v":""},null,null,{"$f":"IFERROR(HYPERLINK(INDEX(masterlist!$M$2:$M$200,MATCH(A40,masterlist!$C$2:$C$200,0)),INDEX(masterlist!$L$2:$L$200,MATCH(A40,masterlist!$C$2:$C$200,0))),\"\")","v":""},{"$f":"IFERROR(HYPERLINK(INDEX(masterlist!$O$2:$O$200,MATCH(A40,masterlist!$C$2:$C$200,0)),INDEX(masterlist!$N$2:$N$200,MATCH(A40,masterlist!$C$2:$C$200,0))),\"\")","v":""},{"$f":"IFERROR(HYPERLINK(INDEX(masterlist!$Q$2:$Q$200,MATCH(A40,masterlist!$C$2:$C$200,0)),INDEX(masterlist!$P$2:$P$200,MATCH(A40,masterlist!$C$2:$C$200,0))),\"\")","v":""},{"$f":"IFERROR(HYPERLINK(INDEX(masterlist!$S$2:$S$200,MATCH(A40,masterlist!$C$2:$C$200,0)),INDEX(masterlist!$R$2:$R$200,MATCH(A40,masterlist!$C$2:$C$200,0))),\"\")","v":""},{"$f":"IFERROR(HYPERLINK(INDEX(masterlist!$U$2:$U$200,MATCH(A40,masterlist!$C$2:$C$200,0)),INDEX(masterlist!$T$2:$T$200,MATCH(A40,masterlist!$C$2:$C$200,0))),\"\")","v":""}]
[{"$f":"IFERROR(INDEX(masterlist!$A$2:$F$200,SMALL(IF(masterlist!$B$2:$B$200=\"PCO\",ROW(masterlist!$A$2:$F$200)-1),ROW(37:37)),3),\"\")","v":""},{"$f":"IFERROR(INDEX(masterlist!$E$2:$E$200,MATCH(A41,masterlist!$C$2:$C$200,0)),\"\")","v":""},{"$f":"IFERROR(INDEX(masterlist!$D$2:$D$200,MATCH(A41,masterlist!$C$2:$C$200,0)),\"\")","v":""},{"$f":"IFERROR(INDEX(masterlist!$G$2:$G$200,MATCH(A41,masterlist!$C$2:$C$200,0)),\"\")","v":""},{"$f":"IFERROR(INDEX(masterlist!$H$2:$H$200,MATCH(A41,masterlist!$C$2:$C$200,0)),\"\")","v":""},null,null,{"$f":"IFERROR(HYPERLINK(INDEX(masterlist!$M$2:$M$200,MATCH(A41,masterlist!$C$2:$C$200,0)),INDEX(masterlist!$L$2:$L$200,MATCH(A41,masterlist!$C$2:$C$200,0))),\"\")","v":""},{"$f":"IFERROR(HYPERLINK(INDEX(masterlist!$O$2:$O$200,MATCH(A41,masterlist!$C$2:$C$200,0)),INDEX(masterlist!$N$2:$N$200,MATCH(A41,masterlist!$C$2:$C$200,0))),\"\")","v":""},{"$f":"IFERROR(HYPERLINK(INDEX(masterlist!$Q$2:$Q$200,MATCH(A41,masterlist!$C$2:$C$200,0)),INDEX(masterlist!$P$2:$P$200,MATCH(A41,masterlist!$C$2:$C$200,0))),\"\")","v":""},{"$f":"IFERROR(HYPERLINK(INDEX(masterlist!$S$2:$S$200,MATCH(A41,masterlist!$C$2:$C$200,0)),INDEX(masterlist!$R$2:$R$200,MATCH(A41,masterlist!$C$2:$C$200,0))),\"\")","v":""},{"$f":"IFERROR(HYPERLINK(INDEX(masterlist!$U$2:$U$200,MATCH(A41,masterlist!$C$2:$C$200,0)),INDEX(masterlist!$T$2:$T$200,MATCH(A41,masterlist!$C$2:$C$200,0))),\"\")","v":""}]
[{"$f":"IFERROR(INDEX(masterlist!$A$2:$F$200,SMALL(IF(masterlist!$B$2:$B$200=\"PCO\",ROW(masterlist!$A$2:$F$200)-1),ROW(38:38)),3),\"\")","v":""},{"$f":"IFERROR(INDEX(masterlist!$E$2:$E$200,MATCH(A42,masterlist!$C$2:$C$200,0)),\"\")","v":""},{"$f":"IFERROR(INDEX(masterlist!$D$2:$D$200,MATCH(A42,masterlist!$C$2:$C$200,0)),\"\")","v":""},{"$f":"IFERROR(INDEX(masterlist!$G$2:$G$200,MATCH(A42,masterlist!$C$2:$C$200,0)),\"\")","v":""},{"$f":"IFERROR(INDEX(masterlist!$H$2:$H$200,MATCH(A42,masterlist!$C$2:$C$200,0)),\"\")","v":""},null,null,{"$f":"IFERROR(HYPERLINK(INDEX(masterlist!$M$2:$M$200,MATCH(A42,masterlist!$C$2:$C$200,0)),INDEX(masterlist!$L$2:$L$200,MATCH(A42,masterlist!$C$2:$C$200,0))),\"\")","v":""},{"$f":"IFERROR(HYPERLINK(INDEX(masterlist!$O$2:$O$200,MATCH(A42,masterlist!$C$2:$C$200,0)),INDEX(masterlist!$N$2:$N$200,MATCH(A42,masterlist!$C$2:$C$200,0))),\"\")","v":""},{"$f":"IFERROR(HYPERLINK(INDEX(masterlist!$Q$2:$Q$200,MATCH(A42,masterlist!$C$2:$C$200,0)),INDEX(masterlist!$P$2:$P$200,MATCH(A42,masterlist!$C$2:$C$200,0))),\"\")","v":""},{"$f":"IFERROR(HYPERLINK(INDEX(masterlist!$S$2:$S$200,MATCH(A42,masterlist!$C$2:$C$200,0)),INDEX(masterlist!$R$2:$R$200,MATCH(A42,masterlist!$C$2:$C$200,0))),\"\")","v":""},{"$f":"IFERROR(HYPERLINK(INDEX(masterlist!$U$2:$U$200,MATCH(A42,masterlist!$C$2:$C$200,0)),INDEX(masterlist!$T$2:$T$200,MATCH(A42,masterlist!$C$2:$C$200,0))),\"\")","v":""}]
[{"$f":"IFERROR(INDEX(masterlist!$A$2:$F$200,SMALL(IF(masterlist!$B$2:$B$200=\"PCO\",ROW(masterlist!$A$2:$F$200)-1),ROW(39:39)),3),\"\")","v":""},{"$f":"IFERROR(INDEX(masterlist!$E$2:$E$200,MATCH(A43,masterlist!$C$2:$C$200,0)),\"\")","v":""},{"$f":"IFERROR(INDEX(masterlist!$D$2:$D$200,MATCH(A43,masterlist!$C$2:$C$200,0)),\"\")","v":""},{"$f":"IFERROR(INDEX(masterlist!$G$2:$G$200,MATCH(A43,masterlist!$C$2:$C$200,0)),\"\")","v":""},{"$f":"IFERROR(INDEX(masterlist!$H$2:$H$200,MATCH(A43,masterlist!$C$2:$C$200,0)),\"\")","v":""},null,null,{"$f":"IFERROR(HYPERLINK(INDEX(masterlist!$M$2:$M$200,MATCH(A43,masterlist!$C$2:$C$200,0)),INDEX(masterlist!$L$2:$L$200,MATCH(A43,masterlist!$C$2:$C$200,0))),\"\")","v":""},{"$f":"IFERROR(HYPERLINK(INDEX(masterlist!$O$2:$O$200,MATCH(A43,masterlist!$C$2:$C$200,0)),INDEX(masterlist!$N$2:$N$200,MATCH(A43,masterlist!$C$2:$C$200,0))),\"\")","v":""},{"$f":"IFERROR(HYPERLINK(INDEX(masterlist!$Q$2:$Q$200,MATCH(A43,masterlist!$C$2:$C$200,0)),INDEX(masterlist!$P$2:$P$200,MATCH(A43,masterlist!$C$2:$C$200,0))),\"\")","v":""},{"$f":"IFERROR(HYPERLINK(INDEX(masterlist!$S$2:$S$200,MATCH(A43,masterlist!$C$2:$C$200,0)),INDEX(masterlist!$R$2:$R$200,MATCH(A43,masterlist!$C$2:$C$200,0))),\"\")","v":""},{"$f":"IFERROR(HYPERLINK(INDEX(masterlist!$U$2:$U$200,MATCH(A43,masterlist!$C$2:$C$200,0)),INDEX(masterlist!$T$2:$T$200,MATCH(A43,masterlist!$C$2:$C$200,0))),\"\")","v":""}]
[{"$f":"IFERROR(INDEX(masterlist!$A$2:$F$200,SMALL(IF(masterlist!$B$2:$B$200=\"PCO\",ROW(masterlist!$A$2:$F$200)-1),ROW(40:40)),3),\"\")","v":""},{"$f":"IFERROR(INDEX(masterlist!$E$2:$E$200,MATCH(A44,masterlist!$C$2:$C$200,0)),\"\")","v":""},{"$f":"IFERROR(INDEX(masterlist!$D$2:$D$200,MATCH(A44,masterlist!$C$2:$C$200,0)),\"\")","v":""},{"$f":"IFERROR(INDEX(masterlist!$G$2:$G$200,MATCH(A44,masterlist!$C$2:$C$200,0)),\"\")","v":""},{"$f":"IFERROR(INDEX(masterlist!$H$2:$H$200,MATCH(A44,masterlist!$C$2:$C$200,0)),\"\")","v":""},null,null,{"$f":"IFERROR(HYPERLINK(INDEX(masterlist!$M$2:$M$200,MATCH(A44,masterlist!$C$2:$C$200,0)),INDEX(masterlist!$L$2:$L$200,MATCH(A44,masterlist!$C$2:$C$200,0))),\"\")","v":""},{"$f":"IFERROR(HYPERLINK(INDEX(masterlist!$O$2:$O$200,MATCH(A44,masterlist!$C$2:$C$200,0)),INDEX(masterlist!$N$2:$N$200,MATCH(A44,masterlist!$C$2:$C$200,0))),\"\")","v":""},{"$f":"IFERROR(HYPERLINK(INDEX(masterlist!$Q$2:$Q$200,MATCH(A44,masterlist!$C$2:$C$200,0)),INDEX(masterlist!$P$2:$P$200,MATCH(A44,masterlist!$C$2:$C$200,0))),\"\")","v":""},{"$f":"IFERROR(HYPERLINK(INDEX(masterlist!$S$2:$S$200,MATCH(A44,masterlist!$C$2:$C$200,0)),INDEX(masterlist!$R$2:$R$200,MATCH(A44,masterlist!$C$2:$C$200,0))),\"\")","v":""},{"$f":"IFERROR(HYPERLINK(INDEX(masterlist!$U$2:$U$200,MATCH(A44,masterlist!$C$2:$C$200,0)),INDEX(masterlist!$T$2:$T$200,MATCH(A44,masterlist!$C$2:$C$200,0))),\"\")","v":""}]
[{"$f":"IFERROR(INDEX(masterlist!$A$2:$F$200,SMALL(IF(masterlist!$B$2:$B$200=\"PCO\",ROW(masterlist!$A$2:$F$200)-1),ROW(41:41)),3),\"\")","v":""},{"$f":"IFERROR(INDEX(masterlist!$E$2:$E$200,MATCH(A45,masterlist!$C$2:$C$200,0)),\"\")","v":""},{"$f":"IFERROR(INDEX(masterlist!$D$2:$D$200,MATCH(A45,masterlist!$C$2:$C$200,0)),\"\")","v":""},{"$f":"IFERROR(INDEX(masterlist!$G$2:$G$200,MATCH(A45,masterlist!$C$2:$C$200,0)),\"\")","v":""},{"$f":"IFERROR(INDEX(masterlist!$H$2:$H$200,MATCH(A45,masterlist!$C$2:$C$200,0)),\"\")","v":""},null,null,{"$f":"IFERROR(HYPERLINK(INDEX(masterlist!$M$2:$M$200,MATCH(A45,masterlist!$C$2:$C$200,0)),INDEX(masterlist!$L$2:$L$200,MATCH(A45,masterlist!$C$2:$C$200,0))),\"\")","v":""},{"$f":"IFERROR(HYPERLINK(INDEX(masterlist!$O$2:$O$200,MATCH(A45,masterlist!$C$2:$C$200,0)),INDEX(masterlist!$N$2:$N$200,MATCH(A45,masterlist!$C$2:$C$200,0))),\"\")","v":""},{"$f":"IFERROR(HYPERLINK(INDEX(masterlist!$Q$2:$Q$200,MATCH(A45,masterlist!$C$2:$C$200,0)),INDEX(masterlist!$P$2:$P$200,MATCH(A45,masterlist!$C$2:$C$200,0))),\"\")","v":""},{"$f":"IFERROR(HYPERLINK(INDEX(masterlist!$S$2:$S$200,MATCH(A45,masterlist!$C$2:$C$200,0)),INDEX(masterlist!$R$2:$R$200,MATCH(A45,masterlist!$C$2:$C$200,0))),\"\")","v":""},{"$f":"IFERROR(HYPERLINK(INDEX(masterlist!$U$2:$U$200,MATCH(A45,masterlist!$C$2:$C$200,0)),INDEX(masterlist!$T$2:$T$200,MATCH(A45,masterlist!$C$2:$C$200,0))),\"\")","v":""}]
[{"$f":"IFERROR(INDEX(masterlist!$A$2:$F$200,SMALL(IF(masterlist!$B$2:$B$200=\"PCO\",ROW(masterlist!$A$2:$F$200)-1),ROW(42:42)),3),\"\")","v":""},{"$f":"IFERROR(INDEX(masterlist!$E$2:$E$200,MATCH(A46,masterlist!$C$2:$C$200,0)),\"\")","v":""},{"$f":"IFERROR(INDEX(masterlist!$D$2:$D$200,MATCH(A46,masterlist!$C$2:$C$200,0)),\"\")","v":""},{"$f":"IFERROR(INDEX(masterlist!$G$2:$G$200,MATCH(A46,masterlist!$C$2:$C$200,0)),\"\")","v":""},{"$f":"IFERROR(INDEX(masterlist!$H$2:$H$200,MATCH(A46,masterlist!$C$2:$C$200,0)),\"\")","v":""},null,null,{"$f":"IFERROR(HYPERLINK(INDEX(masterlist!$M$2:$M$200,MATCH(A46,masterlist!$C$2:$C$200,0)),INDEX(masterlist!$L$2:$L$200,MATCH(A46,masterlist!$C$2:$C$200,0))),\"\")","v":""},{"$f":"IFERROR(HYPERLINK(INDEX(masterlist!$O$2:$O$200,MATCH(A46,masterlist!$C$2:$C$200,0)),INDEX(masterlist!$N$2:$N$200,MATCH(A46,masterlist!$C$2:$C$200,0))),\"\")","v":""},{"$f":"IFERROR(HYPERLINK(INDEX(masterlist!$Q$2:$Q$200,MATCH(A46,masterlist!$C$2:$C$200,0)),INDEX(masterlist!$P$2:$P$200,MATCH(A46,masterlist!$C$2:$C$200,0))),\"\")","v":""},{"$f":"IFERROR(HYPERLINK(INDEX(masterlist!$S$2:$S$200,MATCH(A46,masterlist!$C$2:$C$200,0)),INDEX(masterlist!$R$2:$R$200,MATCH(A46,masterlist!$C$2:$C$200,0))),\"\")","v":""},{"$f":"IFERROR(HYPERLINK(INDEX(masterlist!$U$2:$U$200,MATCH(A46,masterlist!$C$2:$C$200,0)),INDEX(masterlist!$T$2:$T$200,MATCH(A46,masterlist!$C$2:$C$200,0))),\"\")","v":""}]
[{"$f":"IFERROR(INDEX(masterlist!$A$2:$F$200,SMALL(IF(masterlist!$B$2:$B$200=\"PCO\",ROW(masterlist!$A$2:$F$200)-1),ROW(43:43)),3),\"\")","v":""},{"$f":"IFERROR(INDEX(masterlist!$E$2:$E$200,MATCH(A47,masterlist!$C$2:$C$200,0)),\"\")","v":""},{"$f":"IFERROR(INDEX(masterlist!$D$2:$D$200,MATCH(A47,masterlist!$C$2:$C$200,0)),\"\")","v":""},{"$f":"IFERROR(INDEX(masterlist!$G$2:$G$200,MATCH(A47,masterlist!$C$2:$C$200,0)),\"\")","v":""},{"$f":"IFERROR(INDEX(masterlist!$H$2:$H$200,MATCH(A47,masterlist!$C$2:$C$200,0)),\"\")","v":""},null,null,{"$f":"IFERROR(HYPERLINK(INDEX(masterlist!$M$2:$M$200,MATCH(A47,masterlist!$C$2:$C$200,0)),INDEX(masterlist!$L$2:$L$200,MATCH(A47,masterlist!$C$2:$C$200,0))),\"\")","v":""},{"$f":"IFERROR(HYPERLINK(INDEX(masterlist!$O$2:$O$200,MATCH(A47,masterlist!$C$2:$C$200,0)),INDEX(masterlist!$N$2:$N$200,MATCH(A47,masterlist!$C$2:$C$200,0))),\"\")","v":""},{"$f":"IFERROR(HYPERLINK(INDEX(masterlist!$Q$2:$Q$200,MATCH(A47,masterlist!$C$2:$C$200,0)),INDEX(masterlist!$P$2:$P$200,MATCH(A47,masterlist!$C$2:$C$200,0))),\"\")","v":""},{"$f":"IFERROR(HYPERLINK(INDEX(masterlist!$S$2:$S$200,MATCH(A47,masterlist!$C$2:$C$200,0)),INDEX(masterlist!$R$2:$R$200,MATCH(A47,masterlist!$C$2:$C$200,0))),\"\")","v":""},{"$f":"IFERROR(HYPERLINK(INDEX(masterlist!$U$2:$U$200,MATCH(A47,masterlist!$C$2:$C$200,0)),INDEX(masterlist!$T$2:$T$200,MATCH(A47,masterlist!$C$2:$C$200,0))),\"\")","v":""}]
[{"$f":"IFERROR(INDEX(masterlist!$A$2:$F$200,SMALL(IF(masterlist!$B$2:$B$200=\"PCO\",ROW(masterlist!$A$2:$F$200)-1),ROW(44:44)),3),\"\")","v":""},{"$f":"IFERROR(INDEX(masterlist!$E$2:$E$200,MATCH(A48,masterlist!$C$2:$C$200,0)),\"\")","v":""},{"$f":"IFERROR(INDEX(masterlist!$D$2:$D$200,MATCH(A48,masterlist!$C$2:$C$200,0)),\"\")","v":""},{"$f":"IFERROR(INDEX(masterlist!$G$2:$G$200,MATCH(A48,masterlist!$C$2:$C$200,0)),\"\")","v":""},{"$f":"IFERROR(INDEX(masterlist!$H$2:$H$200,MATCH(A48,masterlist!$C$2:$C$200,0)),\"\")","v":""},null,null,{"$f":"IFERROR(HYPERLINK(INDEX(masterlist!$M$2:$M$200,MATCH(A48,masterlist!$C$2:$C$200,0)),INDEX(masterlist!$L$2:$L$200,MATCH(A48,masterlist!$C$2:$C$200,0))),\"\")","v":""},{"$f":"IFERROR(HYPERLINK(INDEX(masterlist!$O$2:$O$200,MATCH(A48,masterlist!$C$2:$C$200,0)),INDEX(masterlist!$N$2:$N$200,MATCH(A48,masterlist!$C$2:$C$200,0))),\"\")","v":""},{"$f":"IFERROR(HYPERLINK(INDEX(masterlist!$Q$2:$Q$200,MATCH(A48,masterlist!$C$2:$C$200,0)),INDEX(masterlist!$P$2:$P$200,MATCH(A48,masterlist!$C$2:$C$200,0))),\"\")","v":""},{"$f":"IFERROR(HYPERLINK(INDEX(masterlist!$S$2:$S$200,MATCH(A48,masterlist!$C$2:$C$200,0)),INDEX(masterlist!$R$2:$R$200,MATCH(A48,masterlist!$C$2:$C$200,0))),\"\")","v":""},{"$f":"IFERROR(HYPERLINK(INDEX(masterlist!$U$2:$U$200,MATCH(A48,masterlist!$C$2:$C$200,0)),INDEX(masterlist!$T$2:$T$200,MATCH(A48,masterlist!$C$2:$C$200,0))),\"\")","v":""}]
[{"$f":"IFERROR(INDEX(masterlist!$A$2:$F$200,SMALL(IF(masterlist!$B$2:$B$200=\"PCO\",ROW(masterlist!$A$2:$F$200)-1),ROW(45:45)),3),\"\")","v":""},{"$f":"IFERROR(INDEX(masterlist!$E$2:$E$200,MATCH(A49,masterlist!$C$2:$C$200,0)),\"\")","v":""},{"$f":"IFERROR(INDEX(masterlist!$D$2:$D$200,MATCH(A49,masterlist!$C$2:$C$200,0)),\"\")","v":""},{"$f":"IFERROR(INDEX(masterlist!$G$2:$G$200,MATCH(A49,masterlist!$C$2:$C$200,0)),\"\")","v":""},{"$f":"IFERROR(INDEX(masterlist!$H$2:$H$200,MATCH(A49,masterlist!$C$2:$C$200,0)),\"\")","v":""},null,null,{"$f":"IFERROR(HYPERLINK(INDEX(masterlist!$M$2:$M$200,MATCH(A49,masterlist!$C$2:$C$200,0)),INDEX(masterlist!$L$2:$L$200,MATCH(A49,masterlist!$C$2:$C$200,0))),\"\")","v":""},{"$f":"IFERROR(HYPERLINK(INDEX(masterlist!$O$2:$O$200,MATCH(A49,masterlist!$C$2:$C$200,0)),INDEX(masterlist!$N$2:$N$200,MATCH(A49,masterlist!$C$2:$C$200,0))),\"\")","v":""},{"$f":"IFERROR(HYPERLINK(INDEX(masterlist!$Q$2:$Q$200,MATCH(A49,masterlist!$C$2:$C$200,0)),INDEX(masterlist!$P$2:$P$200,MATCH(A49,masterlist!$C$2:$C$200,0))),\"\")","v":""},{"$f":"IFERROR(HYPERLINK(INDEX(masterlist!$S$2:$S$200,MATCH(A49,masterlist!$C$2:$C$200,0)),INDEX(masterlist!$R$2:$R$200,MATCH(A49,masterlist!$C$2:$C$200,0))),\"\")","v":""},{"$f":"IFERROR(HYPERLINK(INDEX(masterlist!$U$2:$U$200,MATCH(A49,masterlist!$C$2:$C$200,0)),INDEX(masterlist!$T$2:$T$200,MATCH(A49,masterlist!$C$2:$C$200,0))),\"\")","v":""}]
[{"$f":"IFERROR(INDEX(masterlist!$A$2:$F$200,SMALL(IF(masterlist!$B$2:$B$200=\"PCO\",ROW(masterlist!$A$2:$F$200)-1),ROW(46:46)),3),\"\")","v":""},{"$f":"IFERROR(INDEX(masterlist!$E$2:$E$200,MATCH(A50,masterlist!$C$2:$C$200,0)),\"\")","v":""},{"$f":"IFERROR(INDEX(masterlist!$D$2:$D$200,MATCH(A50,masterlist!$C$2:$C$200,0)),\"\")","v":""},{"$f":"IFERROR(INDEX(masterlist!$G$2:$G$200,MATCH(A50,masterlist!$C$2:$C$200,0)),\"\")","v":""},{"$f":"IFERROR(INDEX(masterlist!$H$2:$H$200,MATCH(A50,masterlist!$C$2:$C$200,0)),\"\")","v":""},null,null,{"$f":"IFERROR(HYPERLINK(INDEX(masterlist!$M$2:$M$200,MATCH(A50,masterlist!$C$2:$C$200,0)),INDEX(masterlist!$L$2:$L$200,MATCH(A50,masterlist!$C$2:$C$200,0))),\"\")","v":""},{"$f":"IFERROR(HYPERLINK(INDEX(masterlist!$O$2:$O$200,MATCH(A50,masterlist!$C$2:$C$200,0)),INDEX(masterlist!$N$2:$N$200,MATCH(A50,masterlist!$C$2:$C$200,0))),\"\")","v":""},{"$f":"IFERROR(HYPERLINK(INDEX(masterlist!$Q$2:$Q$200,MATCH(A50,masterlist!$C$2:$C$200,0)),INDEX(masterlist!$P$2:$P$200,MATCH(A50,masterlist!$C$2:$C$200,0))),\"\")","v":""},{"$f":"IFERROR(HYPERLINK(INDEX(masterlist!$S$2:$S$200,MATCH(A50,masterlist!$C$2:$C$200,0)),INDEX(masterlist!$R$2:$R$200,MATCH(A50,masterlist!$C$2:$C$200,0))),\"\")","v":""},{"$f":"IFERROR(HYPERLINK(INDEX(masterlist!$U$2:$U$200,MATCH(A50,masterlist!$C$2:$C$200,0)),INDEX(masterlist!$T$2:$T$200,MATCH(A50,masterlist!$C$2:$C$200,0))),\"\")","v":""}]

{"sheet":"Lab dx","index":8,"n_rows":50,"n_cols":12,"rows_kept":50,"cut":false,"hidden":true,"merged":[[3,7,3,11]]}
[]
[null,"Instructions: Enter \"0\" under Status if No or None, or \"1\" if Yes"]
[]
["ID","STAGE","subcomponent","ACHIEVEMENTS / ACTIVITIES","OTHER IMPORTANT INFORMATION\n(please include in REMARKS)","STATUS","REMARKS","Rabies Blueprint references and other links"]
[{"$f":"IFERROR(INDEX(masterlist!$A$2:$F$200,SMALL(IF(masterlist!$B$2:$B$200=\"LAB\",ROW(masterlist!$A$2:$F$200)-1),ROW(1:1)),3),\"\")","v":"LAB-Spe-0-1"},{"$f":"IFERROR(INDEX(masterlist!$E$2:$E$200,MATCH(A5,masterlist!$C$2:$C$200,0)),\"\")","v":0},{"$f":"IFERROR(INDEX(masterlist!$D$2:$D$200,MATCH(A5,masterlist!$C$2:$C$200,0)),\"\")","v":"Specimen referral"},{"$f":"IFERROR(INDEX(masterlist!$G$2:$G$200,MATCH(A5,masterlist!$C$2:$C$200,0)),\"\")","v":"Have contacts with an international rabies reference laboratory or international collaborating/reference center been established?"},{"$f":"IFERROR(INDEX(masterlist!$H$2:$H$200,MATCH(A5,masterlist!$C$2:$C$200,0)),\"\")","v":"Names of international rabies reference laboratories or collaborating/reference centers"},1,null,{"$f":"IFERROR(HYPERLINK(INDEX(masterlist!$M$2:$M$200,MATCH(A5,masterlist!$C$2:$C$200,0)),INDEX(masterlist!$L$2:$L$200,MATCH(A5,masterlist!$C$2:$C$200,0))),\"\")","v":"3.1.7 Which laboratories are-available"},{"$f":"IFERROR(HYPERLINK(INDEX(masterlist!$O$2:$O$200,MATCH(A5,masterlist!$C$2:$C$200,0)),INDEX(masterlist!$N$2:$N$200,MATCH(A5,masterlist!$C$2:$C$200,0))),\"\")","v":"OIE reference laboratories"},{"$f":"IFERROR(HYPERLINK(INDEX(masterlist!$Q$2:$Q$200,MATCH(A5,masterlist!$C$2:$C$200,0)),INDEX(masterlist!$P$2:$P$200,MATCH(A5,masterlist!$C$2:$C$200,0))),\"\")","v":"WHO collaborating centres"},{"$f":"IFERROR(HYPERLINK(INDEX(masterlist!$S$2:$S$200,MATCH(A5,masterlist!$C$2:$C$200,0)),INDEX(masterlist!$R$2:$R$200,MATCH(A5,masterlist!$C$2:$C$200,0))),\"\")","v":"FAO reference centre"},{"$f":"IFERROR(HYPERLINK(INDEX(masterlist!$U$2:$U$200,MATCH(A5,masterlist!$C$2:$C$200,0)),INDEX(masterlist!$T$2:$T$200,MATCH(A5,masterlist!$C$2:$C$200,0))),\"\")","v":"WHO expert consultation on rabies"}]
[{"$f":"IFERROR(INDEX(masterlist!$A$2:$F$200,SMALL(IF(masterlist!$B$2:$B$200=\"LAB\",ROW(masterlist!$A$2:$F$200)-1),ROW(2:2)),3),\"\")","v":"LAB-Spe-0-2"},{"$f":"IFERROR(INDEX(masterlist!$E$2:$E$200,MATCH(A6,masterlist!$C$2:$C$200,0)),\"\")","v":0},{"$f":"IFERROR(INDEX(masterlist!$D$2:$D$200,MATCH(A6,masterlist!$C$2:$C$200,0)),\"\")","v":"Specimen referral"},{"$f":"IFERROR(INDEX(masterlist!$G$2:$G$200,MATCH(A6,masterlist!$C$2:$C$200,0)),\"\")","v":"If there is no laboratory diagnosis in your country, has at least one human or animal rabies suspect sample been submitted to an international rabies reference laboratory for confirmation?"},{"$f":"IFERROR(INDEX(masterlist!$H$2:$H$200,MATCH(A6,masterlist!$C$2:$C$200,0)),\"\")","v":"If there has been any functional laboratory diagnosis in your country, mark this activity as \"complete\".\nYear of most recent specimen referral;\nName of international rabies reference laboratory"},1,null,{"$f":"IFERROR(HYPERLINK(INDEX(masterlist!$M$2:$M$200,MATCH(A6,masterlist!$C$2:$C$200,0)),INDEX(masterlist!$L$2:$L$200,MATCH(A6,masterlist!$C$2:$C$200,0))),\"\")","v":"Simple-techniques-for animal brain-sampling"},{"$f":"IFERROR(HYPERLINK(INDEX(masterlist!$O$2:$O$200,MATCH(A6,masterlist!$C$2:$C$200,0)),INDEX(masterlist!$N$2:$N$200,MATCH(A6,masterlist!$C$2:$C$200,0))),\"\")","v":"3.6 Human samples"},{"$f":"IFERROR(HYPERLINK(INDEX(masterlist!$Q$2:$Q$200,MATCH(A6,masterlist!$C$2:$C$200,0)),INDEX(masterlist!$P$2:$P$200,MATCH(A6,masterlist!$C$2:$C$200,0))),\"\")","v":0},{"$f":"IFERROR(HYPERLINK(INDEX(masterlist!$S$2:$S$200,MATCH(A6,masterlist!$C$2:$C$200,0)),INDEX(masterlist!$R$2:$R$200,MATCH(A6,masterlist!$C$2:$C$200,0))),\"\")","v":0},{"$f":"IFERROR(HYPERLINK(INDEX(masterlist!$U$2:$U$200,MATCH(A6,masterlist!$C$2:$C$200,0)),INDEX(masterlist!$T$2:$T$200,MATCH(A6,masterlist!$C$2:$C$200,0))),\"\")","v":0}]
[{"$f":"IFERROR(INDEX(masterlist!$A$2:$F$200,SMALL(IF(masterlist!$B$2:$B$200=\"LAB\",ROW(masterlist!$A$2:$F$200)-1),ROW(3:3)),3),\"\")","v":"LAB-Lab-1-3"},{"$f":"IFERROR(INDEX(masterlist!$E$2:$E$200,MATCH(A7,masterlist!$C$2:$C$200,0)),\"\")","v":1},{"$f":"IFERROR(INDEX(masterlist!$D$2:$D$200,MATCH(A7,masterlist!$C$2:$C$200,0)),\"\")","v":"Laboratory capacity and testing"},{"$f":"IFERROR(INDEX(masterlist!$G$2:$G$200,MATCH(A7,masterlist!$C$2:$C$200,0)),\"\")","v":"Is rabies diagnosis being conducted in at least one national laboratory (veterinary or medical laboratory)?"},{"$f":"IFERROR(INDEX(masterlist!$H$2:$H$200,MATCH(A7,masterlist!$C$2:$C$200,0)),\"\")","v":" "},1,null,{"$f":"IFERROR(HYPERLINK(INDEX(masterlist!$M$2:$M$200,MATCH(A7,masterlist!$C$2:$C$200,0)),INDEX(masterlist!$L$2:$L$200,MATCH(A7,masterlist!$C$2:$C$200,0))),\"\")","v":"3.1.8 Minimum laboratory requirements"},{"$f":"IFERROR(HYPERLINK(INDEX(masterlist!$O$2:$O$200,MATCH(A7,masterlist!$C$2:$C$200,0)),INDEX(masterlist!$N$2:$N$200,MATCH(A7,masterlist!$C$2:$C$200,0))),\"\")","v":"OIE Manual of Diagnostic Tests and Vaccines  for Terrestrial Animals  "},{"$f":"IFERROR(HYPERLINK(INDEX(masterlist!$Q$2:$Q$200,MATCH(A7,masterlist!$C$2:$C$200,0)),INDEX(masterlist!$P$2:$P$200,MATCH(A7,masterlist!$C$2:$C$200,0))),\"\")","v":" Laboratory biorisk management/"},{"$f":"IFERROR(HYPERLINK(INDEX(masterlist!$S$2:$S$200,MATCH(A7,masterlist!$C$2:$C$200,0)),INDEX(masterlist!$R$2:$R$200,MATCH(A7,masterlist!$C$2:$C$200,0))),\"\")","v":"4. Laboratory rabies diagnosis"},{"$f":"IFERROR(HYPERLINK(INDEX(masterlist!$U$2:$U$200,MATCH(A7,masterlist!$C$2:$C$200,0)),INDEX(masterlist!$T$2:$T$200,MATCH(A7,masterlist!$C$2:$C$200,0))),\"\")","v":0}]
[{"$f":"IFERROR(INDEX(masterlist!$A$2:$F$200,SMALL(IF(masterlist!$B$2:$B$200=\"LAB\",ROW(masterlist!$A$2:$F$200)-1),ROW(4:4)),3),\"\")","v":"LAB-Lab-1-4"},{"$f":"IFERROR(INDEX(masterlist!$E$2:$E$200,MATCH(A8,masterlist!$C$2:$C$200,0)),\"\")","v":1},{"$f":"IFERROR(INDEX(masterlist!$D$2:$D$200,MATCH(A8,masterlist!$C$2:$C$200,0)),\"\")","v":"Laboratory capacity and testing"},{"$f":"IFERROR(INDEX(masterlist!$G$2:$G$200,MATCH(A8,masterlist!$C$2:$C$200,0)),\"\")","v":"Have several rabies suspect samples of animals or humans been submitted to a national laboratory and analysed? "},{"$f":"IFERROR(INDEX(masterlist!$H$2:$H$200,MATCH(A8,masterlist!$C$2:$C$200,0)),\"\")","v":"Name of national laboratory;\nLaboratory test used"},1,null,{"$f":"IFERROR(HYPERLINK(INDEX(masterlist!$M$2:$M$200,MATCH(A8,masterlist!$C$2:$C$200,0)),INDEX(masterlist!$L$2:$L$200,MATCH(A8,masterlist!$C$2:$C$200,0))),\"\")","v":"Simple-techniques-for animal brain-sampling"},{"$f":"IFERROR(HYPERLINK(INDEX(masterlist!$O$2:$O$200,MATCH(A8,masterlist!$C$2:$C$200,0)),INDEX(masterlist!$N$2:$N$200,MATCH(A8,masterlist!$C$2:$C$200,0))),\"\")","v":"Manual of Diagnostic Tests and Vaccines for Terrestrial Animals 2016"},{"$f":"IFERROR(HYPERLINK(INDEX(masterlist!$Q$2:$Q$200,MATCH(A8,masterlist!$C$2:$C$200,0)),INDEX(masterlist!$P$2:$P$200,MATCH(A8,masterlist!$C$2:$C$200,0))),\"\")","v":"WHO guidance on regulations for the transport of infectious substances"},{"$f":"IFERROR(HYPERLINK(INDEX(masterlist!$S$2:$S$200,MATCH(A8,masterlist!$C$2:$C$200,0)),INDEX(masterlist!$R$2:$R$200,MATCH(A8,masterlist!$C$2:$C$200,0))),\"\")","v":0},{"$f":"IFERROR(HYPERLINK(INDEX(masterlist!$U$2:$U$200,MATCH(A8,masterlist!$C$2:$C$200,0)),INDEX(masterlist!$T$2:$T$200,MATCH(A8,masterlist!$C$2:$C$200,0))),\"\")","v":0}]
[{"$f":"IFERROR(INDEX(masterlist!$A$2:$F$200,SMALL(IF(masterlist!$B$2:$B$200=\"LAB\",ROW(masterlist!$A$2:$F$200)-1),ROW(5:5)),3),\"\")","v":"LAB-Lab-2-5"},{"$f":"IFERROR(INDEX(masterlist!$E$2:$E$200,MATCH(A9,masterlist!$C$2:$C$200,0)),\"\")","v":2},{"$f":"IFERROR(INDEX(masterlist!$D$2:$D$200,MATCH(A9,masterlist!$C$2:$C$200,0)),\"\")","v":"Laboratory capacity and testing"},{"$f":"IFERROR(INDEX(masterlist!$G$2:$G$200,MATCH(A9,masterlist!$C$2:$C$200,0)),\"\")","v":"Does your country undergo proficiency testing with an internationally recognised laboratory? "},{"$f":"IFERROR(INDEX(masterlist!$H$2:$H$200,MATCH(A9,masterlist!$C$2:$C$200,0)),\"\")","v":"e.g OIE reference lab, WHO collaborating centre etc."},1,null,{"$f":"IFERROR(HYPERLINK(INDEX(masterlist!$M$2:$M$200,MATCH(A9,masterlist!$C$2:$C$200,0)),INDEX(masterlist!$L$2:$L$200,MATCH(A9,masterlist!$C$2:$C$200,0))),\"\")","v":"6.7 International databases"},{"$f":"IFERROR(HYPERLINK(INDEX(masterlist!$O$2:$O$200,MATCH(A9,masterlist!$C$2:$C$200,0)),INDEX(masterlist!$N$2:$N$200,MATCH(A9,masterlist!$C$2:$C$200,0))),\"\")","v":0},{"$f":"IFERROR(HYPERLINK(INDEX(masterlist!$Q$2:$Q$200,MATCH(A9,masterlist!$C$2:$C$200,0)),INDEX(masterlist!$P$2:$P$200,MATCH(A9,masterlist!$C$2:$C$200,0))),\"\")","v":0},{"$f":"IFERROR(HYPERLINK(INDEX(masterlist!$S$2:$S$200,MATCH(A9,masterlist!$C$2:$C$200,0)),INDEX(masterlist!$R$2:$R$200,MATCH(A9,masterlist!$C$2:$C$200,0))),\"\")","v":0},{"$f":"IFERROR(HYPERLINK(INDEX(masterlist!$U$2:$U$200,MATCH(A9,masterlist!$C$2:$C$200,0)),INDEX(masterlist!$T$2:$T$200,MATCH(A9,masterlist!$C$2:$C$200,0))),\"\")","v":0}]
[{"$f":"IFERROR(INDEX(masterlist!$A$2:$F$200,SMALL(IF(masterlist!$B$2:$B$200=\"LAB\",ROW(masterlist!$A$2:$F$200)-1),ROW(6:6)),3),\"\")","v":"LAB-Lab-2-6"},{"$f":"IFERROR(INDEX(masterlist!$E$2:$E$200,MATCH(A10,masterlist!$C$2:$C$200,0)),\"\")","v":2},{"$f":"IFERROR(INDEX(masterlist!$D$2:$D$200,MATCH(A10,masterlist!$C$2:$C$200,0)),\"\")","v":"Laboratory capacity and testing"},{"$f":"IFERROR(INDEX(masterlist!$G$2:$G$200,MATCH(A10,masterlist!$C$2:$C$200,0)),\"\")","v":"Has capacity for regular sample collection and transportation been established and functioning?"},{"$f":"IFERROR(INDEX(masterlist!$H$2:$H$200,MATCH(A10,masterlist!$C$2:$C$200,0)),\"\")","v":"Capacity includes the following: costing and payment system for sample transport, contact persons, transport companies/vehicles, packaging etc. "},1,null,{"$f":"IFERROR(HYPERLINK(INDEX(masterlist!$M$2:$M$200,MATCH(A10,masterlist!$C$2:$C$200,0)),INDEX(masterlist!$L$2:$L$200,MATCH(A10,masterlist!$C$2:$C$200,0))),\"\")","v":"OIE Manual of Diagnostic Tests and Vaccines  for Terrestrial Animals "},{"$f":"IFERROR(HYPERLINK(INDEX(masterlist!$O$2:$O$200,MATCH(A10,masterlist!$C$2:$C$200,0)),INDEX(masterlist!$N$2:$N$200,MATCH(A10,masterlist!$C$2:$C$200,0))),\"\")","v":"Laboratory biorisk management"},{"$f":"IFERROR(HYPERLINK(INDEX(masterlist!$Q$2:$Q$200,MATCH(A10,masterlist!$C$2:$C$200,0)),INDEX(masterlist!$P$2:$P$200,MATCH(A10,masterlist!$C$2:$C$200,0))),\"\")","v":"5.3.1-Rabies-surveillance"},{"$f":"IFERROR(HYPERLINK(INDEX(masterlist!$S$2:$S$200,MATCH(A10,masterlist!$C$2:$C$200,0)),INDEX(masterlist!$R$2:$R$200,MATCH(A10,masterlist!$C$2:$C$200,0))),\"\")","v":0},{"$f":"IFERROR(HYPERLINK(INDEX(masterlist!$U$2:$U$200,MATCH(A10,masterlist!$C$2:$C$200,0)),INDEX(masterlist!$T$2:$T$200,MATCH(A10,masterlist!$C$2:$C$200,0))),\"\")","v":0}]
[{"$f":"IFERROR(INDEX(masterlist!$A$2:$F$200,SMALL(IF(masterlist!$B$2:$B$200=\"LAB\",ROW(masterlist!$A$2:$F$200)-1),ROW(7:7)),3),\"\")","v":"LAB-Lab-2-7"},{"$f":"IFERROR(INDEX(masterlist!$E$2:$E$200,MATCH(A11,masterlist!$C$2:$C$200,0)),\"\")","v":2},{"$f":"IFERROR(INDEX(masterlist!$D$2:$D$200,MATCH(A11,masterlist!$C$2:$C$200,0)),\"\")","v":"Laboratory capacity and testing"},{"$f":"IFERROR(INDEX(masterlist!$G$2:$G$200,MATCH(A11,masterlist!$C$2:$C$200,0)),\"\")","v":"Is there routine laboratory diagnosis of animal rabies cases in country?"},{"$f":"IFERROR(INDEX(masterlist!$H$2:$H$200,MATCH(A11,masterlist!$C$2:$C$200,0)),\"\")","v":"e.g. if at least some suspect samples are diagnosed most (if not all) months of the year. \nNames and locations of laboratories; Frequency of diagnosis"},1,null,{"$f":"IFERROR(HYPERLINK(INDEX(masterlist!$M$2:$M$200,MATCH(A11,masterlist!$C$2:$C$200,0)),INDEX(masterlist!$L$2:$L$200,MATCH(A11,masterlist!$C$2:$C$200,0))),\"\")","v":"3.1.8 Minimum laboratory requirements"},{"$f":"IFERROR(HYPERLINK(INDEX(masterlist!$O$2:$O$200,MATCH(A11,masterlist!$C$2:$C$200,0)),INDEX(masterlist!$N$2:$N$200,MATCH(A11,masterlist!$C$2:$C$200,0))),\"\")","v":"Laboratory biorisk management"},{"$f":"IFERROR(HYPERLINK(INDEX(masterlist!$Q$2:$Q$200,MATCH(A11,masterlist!$C$2:$C$200,0)),INDEX(masterlist!$P$2:$P$200,MATCH(A11,masterlist!$C$2:$C$200,0))),\"\")","v":0},{"$f":"IFERROR(HYPERLINK(INDEX(masterlist!$S$2:$S$200,MATCH(A11,masterlist!$C$2:$C$200,0)),INDEX(masterlist!$R$2:$R$200,MATCH(A11,masterlist!$C$2:$C$200,0))),\"\")","v":0},{"$f":"IFERROR(HYPERLINK(INDEX(masterlist!$U$2:$U$200,MATCH(A11,masterlist!$C$2:$C$200,0)),INDEX(masterlist!$T$2:$T$200,MATCH(A11,masterlist!$C$2:$C$200,0))),\"\")","v":0}]
[{"$f":"IFERROR(INDEX(masterlist!$A$2:$F$200,SMALL(IF(masterlist!$B$2:$B$200=\"LAB\",ROW(masterlist!$A$2:$F$200)-1),ROW(8:8)),3),\"\")","v":"LAB-Lab-3-8"},{"$f":"IFERROR(INDEX(masterlist!$E$2:$E$200,MATCH(A12,masterlist!$C$2:$C$200,0)),\"\")","v":3},{"$f":"IFERROR(INDEX(masterlist!$D$2:$D$200,MATCH(A12,masterlist!$C$2:$C$200,0)),\"\")","v":"Laboratory capacity and testing"},{"$f":"IFERROR(INDEX(masterlist!$G$2:$G$200,MATCH(A12,masterlist!$C$2:$C$200,0)),\"\")","v":"Is access to reliable laboratory diagnosis available throughout the country for animal samples (and if possible also for human and wildlife samples)?"},{"$f":"IFERROR(INDEX(masterlist!$H$2:$H$200,MATCH(A12,masterlist!$C$2:$C$200,0)),\"\")","v":"Names and locations of laboratories"},1,null,{"$f":"IFERROR(HYPERLINK(INDEX(masterlist!$M$2:$M$200,MATCH(A12,masterlist!$C$2:$C$200,0)),INDEX(masterlist!$L$2:$L$200,MATCH(A12,masterlist!$C$2:$C$200,0))),\"\")","v":"3.1.8-laboratory diagnosis"},{"$f":"IFERROR(HYPERLINK(INDEX(masterlist!$O$2:$O$200,MATCH(A12,masterlist!$C$2:$C$200,0)),INDEX(masterlist!$N$2:$N$200,MATCH(A12,masterlist!$C$2:$C$200,0))),\"\")","v":"4. Laboratory rabies diagnosis"},{"$f":"IFERROR(HYPERLINK(INDEX(masterlist!$Q$2:$Q$200,MATCH(A12,masterlist!$C$2:$C$200,0)),INDEX(masterlist!$P$2:$P$200,MATCH(A12,masterlist!$C$2:$C$200,0))),\"\")","v":0},{"$f":"IFERROR(HYPERLINK(INDEX(masterlist!$S$2:$S$200,MATCH(A12,masterlist!$C$2:$C$200,0)),INDEX(masterlist!$R$2:$R$200,MATCH(A12,masterlist!$C$2:$C$200,0))),\"\")","v":0},{"$f":"IFERROR(HYPERLINK(INDEX(masterlist!$U$2:$U$200,MATCH(A12,masterlist!$C$2:$C$200,0)),INDEX(masterlist!$T$2:$T$200,MATCH(A12,masterlist!$C$2:$C$200,0))),\"\")","v":0}]
[{"$f":"IFERROR(INDEX(masterlist!$A$2:$F$200,SMALL(IF(masterlist!$B$2:$B$200=\"LAB\",ROW(masterlist!$A$2:$F$200)-1),ROW(9:9)),3),\"\")","v":"LAB-Lab-3-9"},{"$f":"IFERROR(INDEX(masterlist!$E$2:$E$200,MATCH(A13,masterlist!$C$2:$C$200,0)),\"\")","v":3},{"$f":"IFERROR(INDEX(masterlist!$D$2:$D$200,MATCH(A13,masterlist!$C$2:$C$200,0)),\"\")","v":"Laboratory capacity and testing"},{"$f":"IFERROR(INDEX(masterlist!$G$2:$G$200,MATCH(A13,masterlist!$C$2:$C$200,0)),\"\")","v":"Do you regularly assess your capacity to accurately diagnose suspect rabies samples (both human and animal)"},{"$f":"IFERROR(INDEX(masterlist!$H$2:$H$200,MATCH(A13,masterlist!$C$2:$C$200,0)),\"\")","v":"e.g. diagnostic twinning, submission of samples to international laboratory, molecular confirmation (e.g. PCR)"},1,null,{"$f":"IFERROR(HYPERLINK(INDEX(masterlist!$M$2:$M$200,MATCH(A13,masterlist!$C$2:$C$200,0)),INDEX(masterlist!$L$2:$L$200,MATCH(A13,masterlist!$C$2:$C$200,0))),\"\")","v":0},{"$f":"IFERROR(HYPERLINK(INDEX(masterlist!$O$2:$O$200,MATCH(A13,masterlist!$C$2:$C$200,0)),INDEX(masterlist!$N$2:$N$200,MATCH(A13,masterlist!$C$2:$C$200,0))),\"\")","v":0},{"$f":"IFERROR(HYPERLINK(INDEX(masterlist!$Q$2:$Q$200,MATCH(A13,masterlist!$C$2:$C$200,0)),INDEX(masterlist!$P$2:$P$200,MATCH(A13,masterlist!$C$2:$C$200,0))),\"\")","v":0},{"$f":"IFERROR(HYPERLINK(INDEX(masterlist!$S$2:$S$200,MATCH(A13,masterlist!$C$2:$C$200,0)),INDEX(masterlist!$R$2:$R$200,MATCH(A13,masterlist!$C$2:$C$200,0))),\"\")","v":0},{"$f":"IFERROR(HYPERLINK(INDEX(masterlist!$U$2:$U$200,MATCH(A13,masterlist!$C$2:$C$200,0)),INDEX(masterlist!$T$2:$T$200,MATCH(A13,masterlist!$C$2:$C$200,0))),\"\")","v":0}]
[{"$f":"IFERROR(INDEX(masterlist!$A$2:$F$200,SMALL(IF(masterlist!$B$2:$B$200=\"LAB\",ROW(masterlist!$A$2:$F$200)-1),ROW(10:10)),3),\"\")","v":"LAB-Lab-4-10"},{"$f":"IFERROR(INDEX(masterlist!$E$2:$E$200,MATCH(A14,masterlist!$C$2:$C$200,0)),\"\")","v":4},{"$f":"IFERROR(INDEX(masterlist!$D$2:$D$200,MATCH(A14,masterlist!$C$2:$C$200,0)),\"\")","v":"Laboratory capacity and testing"},{"$f":"IFERROR(INDEX(masterlist!$G$2:$G$200,MATCH(A14,masterlist!$C$2:$C$200,0)),\"\")","v":"Now that there are very few animal rabies cases in your country, is there maintenance of existing surveillance activities, including ongoing laboratory investigation, for all suspected cases in dogs in the country?"},{"$f":"IFERROR(INDEX(masterlist!$H$2:$H$200,MATCH(A14,masterlist!$C$2:$C$200,0)),\"\")","v":" "},1,null,{"$f":"IFERROR(HYPERLINK(INDEX(masterlist!$M$2:$M$200,MATCH(A14,masterlist!$C$2:$C$200,0)),INDEX(masterlist!$L$2:$L$200,MATCH(A14,masterlist!$C$2:$C$200,0))),\"\")","v":"OIE Terrestrial Animal Health Code"},{"$f":"IFERROR(HYPERLINK(INDEX(masterlist!$O$2:$O$200,MATCH(A14,masterlist!$C$2:$C$200,0)),INDEX(masterlist!$N$2:$N$200,MATCH(A14,masterlist!$C$2:$C$200,0))),\"\")","v":0},{"$f":"IFERROR(HYPERLINK(INDEX(masterlist!$Q$2:$Q$200,MATCH(A14,masterlist!$C$2:$C$200,0)),INDEX(masterlist!$P$2:$P$200,MATCH(A14,masterlist!$C$2:$C$200,0))),\"\")","v":0},{"$f":"IFERROR(HYPERLINK(INDEX(masterlist!$S$2:$S$200,MATCH(A14,masterlist!$C$2:$C$200,0)),INDEX(masterlist!$R$2:$R$200,MATCH(A14,masterlist!$C$2:$C$200,0))),\"\")","v":0},{"$f":"IFERROR(HYPERLINK(INDEX(masterlist!$U$2:$U$200,MATCH(A14,masterlist!$C$2:$C$200,0)),INDEX(masterlist!$T$2:$T$200,MATCH(A14,masterlist!$C$2:$C$200,0))),\"\")","v":0}]
[{"$f":"IFERROR(INDEX(masterlist!$A$2:$F$200,SMALL(IF(masterlist!$B$2:$B$200=\"LAB\",ROW(masterlist!$A$2:$F$200)-1),ROW(11:11)),3),\"\")","v":"LAB-Lab-4-11"},{"$f":"IFERROR(INDEX(masterlist!$E$2:$E$200,MATCH(A15,masterlist!$C$2:$C$200,0)),\"\")","v":4},{"$f":"IFERROR(INDEX(masterlist!$D$2:$D$200,MATCH(A15,masterlist!$C$2:$C$200,0)),\"\")","v":"Laboratory capacity and testing"},{"$f":"IFERROR(INDEX(masterlist!$G$2:$G$200,MATCH(A15,masterlist!$C$2:$C$200,0)),\"\")","v":"Are terrestrial wildlife (carnivore) samples submitted for rabies laboratory diagnosis?"},{"$f":"IFERROR(INDEX(masterlist!$H$2:$H$200,MATCH(A15,masterlist!$C$2:$C$200,0)),\"\")","v":" "},1,null,{"$f":"IFERROR(HYPERLINK(INDEX(masterlist!$M$2:$M$200,MATCH(A15,masterlist!$C$2:$C$200,0)),INDEX(masterlist!$L$2:$L$200,MATCH(A15,masterlist!$C$2:$C$200,0))),\"\")","v":0},{"$f":"IFERROR(HYPERLINK(INDEX(masterlist!$O$2:$O$200,MATCH(A15,masterlist!$C$2:$C$200,0)),INDEX(masterlist!$N$2:$N$200,MATCH(A15,masterlist!$C$2:$C$200,0))),\"\")","v":0},{"$f":"IFERROR(HYPERLINK(INDEX(masterlist!$Q$2:$Q$200,MATCH(A15,masterlist!$C$2:$C$200,0)),INDEX(masterlist!$P$2:$P$200,MATCH(A15,masterlist!$C$2:$C$200,0))),\"\")","v":0},{"$f":"IFERROR(HYPERLINK(INDEX(masterlist!$S$2:$S$200,MATCH(A15,masterlist!$C$2:$C$200,0)),INDEX(masterlist!$R$2:$R$200,MATCH(A15,masterlist!$C$2:$C$200,0))),\"\")","v":0},{"$f":"IFERROR(HYPERLINK(INDEX(masterlist!$U$2:$U$200,MATCH(A15,masterlist!$C$2:$C$200,0)),INDEX(masterlist!$T$2:$T$200,MATCH(A15,masterlist!$C$2:$C$200,0))),\"\")","v":0}]
[{"$f":"IFERROR(INDEX(masterlist!$A$2:$F$200,SMALL(IF(masterlist!$B$2:$B$200=\"LAB\",ROW(masterlist!$A$2:$F$200)-1),ROW(12:12)),3),\"\")","v":"LAB-Lab-4-12"},{"$f":"IFERROR(INDEX(masterlist!$E$2:$E$200,MATCH(A16,masterlist!$C$2:$C$200,0)),\"\")","v":4},{"$f":"IFERROR(INDEX(masterlist!$D$2:$D$200,MATCH(A16,masterlist!$C$2:$C$200,0)),\"\")","v":"Laboratory capacity and testing"},{"$f":"IFERROR(INDEX(masterlist!$G$2:$G$200,MATCH(A16,masterlist!$C$2:$C$200,0)),\"\")","v":"Is there regular characterization and analysis of circulating rabies virus variants by a national or international laboratory?"},{"$f":"IFERROR(INDEX(masterlist!$H$2:$H$200,MATCH(A16,masterlist!$C$2:$C$200,0)),\"\")","v":"Name of laboratory/institute where molecular tests are being performed"},0,null,{"$f":"IFERROR(HYPERLINK(INDEX(masterlist!$M$2:$M$200,MATCH(A16,masterlist!$C$2:$C$200,0)),INDEX(masterlist!$L$2:$L$200,MATCH(A16,masterlist!$C$2:$C$200,0))),\"\")","v":"OIE reference laboratories"},{"$f":"IFERROR(HYPERLINK(INDEX(masterlist!$O$2:$O$200,MATCH(A16,masterlist!$C$2:$C$200,0)),INDEX(masterlist!$N$2:$N$200,MATCH(A16,masterlist!$C$2:$C$200,0))),\"\")","v":"WHO collaborating centres  "},{"$f":"IFERROR(HYPERLINK(INDEX(masterlist!$Q$2:$Q$200,MATCH(A16,masterlist!$C$2:$C$200,0)),INDEX(masterlist!$P$2:$P$200,MATCH(A16,masterlist!$C$2:$C$200,0))),\"\")","v":"WHO expert consultation on rabies"},{"$f":"IFERROR(HYPERLINK(INDEX(masterlist!$S$2:$S$200,MATCH(A16,masterlist!$C$2:$C$200,0)),INDEX(masterlist!$R$2:$R$200,MATCH(A16,masterlist!$C$2:$C$200,0))),\"\")","v":"FAO reference centre"},{"$f":"IFERROR(HYPERLINK(INDEX(masterlist!$U$2:$U$200,MATCH(A16,masterlist!$C$2:$C$200,0)),INDEX(masterlist!$T$2:$T$200,MATCH(A16,masterlist!$C$2:$C$200,0))),\"\")","v":0}]
[{"$f":"IFERROR(INDEX(masterlist!$A$2:$F$200,SMALL(IF(masterlist!$B$2:$B$200=\"LAB\",ROW(masterlist!$A$2:$F$200)-1),ROW(13:13)),3),\"\")","v":"LAB-Lab-5-13"},{"$f":"IFERROR(INDEX(masterlist!$E$2:$E$200,MATCH(A17,masterlist!$C$2:$C$200,0)),\"\")","v":5},{"$f":"IFERROR(INDEX(masterlist!$D$2:$D$200,MATCH(A17,masterlist!$C$2:$C$200,0)),\"\")","v":"Laboratory capacity and testing"},{"$f":"IFERROR(INDEX(masterlist!$G$2:$G$200,MATCH(A17,masterlist!$C$2:$C$200,0)),\"\")","v":"Even though you are rabies-free based on successful mass vaccination campaigns, are there on-going laboratory investigations of all suspected cases in domestic and terrestrial wild animal (carnivore) species in the country?"},{"$f":"IFERROR(INDEX(masterlist!$H$2:$H$200,MATCH(A17,masterlist!$C$2:$C$200,0)),\"\")","v":" "},1,null,{"$f":"IFERROR(HYPERLINK(INDEX(masterlist!$M$2:$M$200,MATCH(A17,masterlist!$C$2:$C$200,0)),INDEX(masterlist!$L$2:$L$200,MATCH(A17,masterlist!$C$2:$C$200,0))),\"\")","v":"OIE Terrestrial Animal Health Code"},{"$f":"IFERROR(HYPERLINK(INDEX(masterlist!$O$2:$O$200,MATCH(A17,masterlist!$C$2:$C$200,0)),INDEX(masterlist!$N$2:$N$200,MATCH(A17,masterlist!$C$2:$C$200,0))),\"\")","v":0},{"$f":"IFERROR(HYPERLINK(INDEX(masterlist!$Q$2:$Q$200,MATCH(A17,masterlist!$C$2:$C$200,0)),INDEX(masterlist!$P$2:$P$200,MATCH(A17,masterlist!$C$2:$C$200,0))),\"\")","v":0},{"$f":"IFERROR(HYPERLINK(INDEX(masterlist!$S$2:$S$200,MATCH(A17,masterlist!$C$2:$C$200,0)),INDEX(masterlist!$R$2:$R$200,MATCH(A17,masterlist!$C$2:$C$200,0))),\"\")","v":0},{"$f":"IFERROR(HYPERLINK(INDEX(masterlist!$U$2:$U$200,MATCH(A17,masterlist!$C$2:$C$200,0)),INDEX(masterlist!$T$2:$T$200,MATCH(A17,masterlist!$C$2:$C$200,0))),\"\")","v":0}]
[{"$f":"IFERROR(INDEX(masterlist!$A$2:$F$200,SMALL(IF(masterlist!$B$2:$B$200=\"LAB\",ROW(masterlist!$A$2:$F$200)-1),ROW(14:14)),3),\"\")","v":""},{"$f":"IFERROR(INDEX(masterlist!$E$2:$E$200,MATCH(A18,masterlist!$C$2:$C$200,0)),\"\")","v":""},{"$f":"IFERROR(INDEX(masterlist!$D$2:$D$200,MATCH(A18,masterlist!$C$2:$C$200,0)),\"\")","v":""},{"$f":"IFERROR(INDEX(masterlist!$G$2:$G$200,MATCH(A18,masterlist!$C$2:$C$200,0)),\"\")","v":""},{"$f":"IFERROR(INDEX(masterlist!$H$2:$H$200,MATCH(A18,masterlist!$C$2:$C$200,0)),\"\")","v":""},null,null,{"$f":"IFERROR(HYPERLINK(INDEX(masterlist!$M$2:$M$200,MATCH(A18,masterlist!$C$2:$C$200,0)),INDEX(masterlist!$L$2:$L$200,MATCH(A18,masterlist!$C$2:$C$200,0))),\"\")","v":""},{"$f":"IFERROR(HYPERLINK(INDEX(masterlist!$O$2:$O$200,MATCH(A18,masterlist!$C$2:$C$200,0)),INDEX(masterlist!$N$2:$N$200,MATCH(A18,masterlist!$C$2:$C$200,0))),\"\")","v":""},{"$f":"IFERROR(HYPERLINK(INDEX(masterlist!$Q$2:$Q$200,MATCH(A18,masterlist!$C$2:$C$200,0)),INDEX(masterlist!$P$2:$P$200,MATCH(A18,masterlist!$C$2:$C$200,0))),\"\")","v":""},{"$f":"IFERROR(HYPERLINK(INDEX(masterlist!$S$2:$S$200,MATCH(A18,masterlist!$C$2:$C$200,0)),INDEX(masterlist!$R$2:$R$200,MATCH(A18,masterlist!$C$2:$C$200,0))),\"\")","v":""},{"$f":"IFERROR(HYPERLINK(INDEX(masterlist!$U$2:$U$200,MATCH(A18,masterlist!$C$2:$C$200,0)),INDEX(masterlist!$T$2:$T$200,MATCH(A18,masterlist!$C$2:$C$200,0))),\"\")","v":""}]
[{"$f":"IFERROR(INDEX(masterlist!$A$2:$F$200,SMALL(IF(masterlist!$B$2:$B$200=\"LAB\",ROW(masterlist!$A$2:$F$200)-1),ROW(15:15)),3),\"\")","v":""},{"$f":"IFERROR(INDEX(masterlist!$E$2:$E$200,MATCH(A19,masterlist!$C$2:$C$200,0)),\"\")","v":""},{"$f":"IFERROR(INDEX(masterlist!$D$2:$D$200,MATCH(A19,masterlist!$C$2:$C$200,0)),\"\")","v":""},{"$f":"IFERROR(INDEX(masterlist!$G$2:$G$200,MATCH(A19,masterlist!$C$2:$C$200,0)),\"\")","v":""},{"$f":"IFERROR(INDEX(masterlist!$H$2:$H$200,MATCH(A19,masterlist!$C$2:$C$200,0)),\"\")","v":""},null,null,{"$f":"IFERROR(HYPERLINK(INDEX(masterlist!$M$2:$M$200,MATCH(A19,masterlist!$C$2:$C$200,0)),INDEX(masterlist!$L$2:$L$200,MATCH(A19,masterlist!$C$2:$C$200,0))),\"\")","v":""},{"$f":"IFERROR(HYPERLINK(INDEX(masterlist!$O$2:$O$200,MATCH(A19,masterlist!$C$2:$C$200,0)),INDEX(masterlist!$N$2:$N$200,MATCH(A19,masterlist!$C$2:$C$200,0))),\"\")","v":""},{"$f":"IFERROR(HYPERLINK(INDEX(masterlist!$Q$2:$Q$200,MATCH(A19,masterlist!$C$2:$C$200,0)),INDEX(masterlist!$P$2:$P$200,MATCH(A19,masterlist!$C$2:$C$200,0))),\"\")","v":""},{"$f":"IFERROR(HYPERLINK(INDEX(masterlist!$S$2:$S$200,MATCH(A19,masterlist!$C$2:$C$200,0)),INDEX(masterlist!$R$2:$R$200,MATCH(A19,masterlist!$C$2:$C$200,0))),\"\")","v":""},{"$f":"IFERROR(HYPERLINK(INDEX(masterlist!$U$2:$U$200,MATCH(A19,masterlist!$C$2:$C$200,0)),INDEX(masterlist!$T$2:$T$200,MATCH(A19,masterlist!$C$2:$C$200,0))),\"\")","v":""}]
[{"$f":"IFERROR(INDEX(masterlist!$A$2:$F$200,SMALL(IF(masterlist!$B$2:$B$200=\"LAB\",ROW(masterlist!$A$2:$F$200)-1),ROW(16:16)),3),\"\")","v":""},{"$f":"IFERROR(INDEX(masterlist!$E$2:$E$200,MATCH(A20,masterlist!$C$2:$C$200,0)),\"\")","v":""},{"$f":"IFERROR(INDEX(masterlist!$D$2:$D$200,MATCH(A20,masterlist!$C$2:$C$200,0)),\"\")","v":""},{"$f":"IFERROR(INDEX(masterlist!$G$2:$G$200,MATCH(A20,masterlist!$C$2:$C$200,0)),\"\")","v":""},{"$f":"IFERROR(INDEX(masterlist!$H$2:$H$200,MATCH(A20,masterlist!$C$2:$C$200,0)),\"\")","v":""},null,null,{"$f":"IFERROR(HYPERLINK(INDEX(masterlist!$M$2:$M$200,MATCH(A20,masterlist!$C$2:$C$200,0)),INDEX(masterlist!$L$2:$L$200,MATCH(A20,masterlist!$C$2:$C$200,0))),\"\")","v":""},{"$f":"IFERROR(HYPERLINK(INDEX(masterlist!$O$2:$O$200,MATCH(A20,masterlist!$C$2:$C$200,0)),INDEX(masterlist!$N$2:$N$200,MATCH(A20,masterlist!$C$2:$C$200,0))),\"\")","v":""},{"$f":"IFERROR(HYPERLINK(INDEX(masterlist!$Q$2:$Q$200,MATCH(A20,masterlist!$C$2:$C$200,0)),INDEX(masterlist!$P$2:$P$200,MATCH(A20,masterlist!$C$2:$C$200,0))),\"\")","v":""},{"$f":"IFERROR(HYPERLINK(INDEX(masterlist!$S$2:$S$200,MATCH(A20,masterlist!$C$2:$C$200,0)),INDEX(masterlist!$R$2:$R$200,MATCH(A20,masterlist!$C$2:$C$200,0))),\"\")","v":""},{"$f":"IFERROR(HYPERLINK(INDEX(masterlist!$U$2:$U$200,MATCH(A20,masterlist!$C$2:$C$200,0)),INDEX(masterlist!$T$2:$T$200,MATCH(A20,masterlist!$C$2:$C$200,0))),\"\")","v":""}]
[{"$f":"IFERROR(INDEX(masterlist!$A$2:$F$200,SMALL(IF(masterlist!$B$2:$B$200=\"LAB\",ROW(masterlist!$A$2:$F$200)-1),ROW(17:17)),3),\"\")","v":""},{"$f":"IFERROR(INDEX(masterlist!$E$2:$E$200,MATCH(A21,masterlist!$C$2:$C$200,0)),\"\")","v":""},{"$f":"IFERROR(INDEX(masterlist!$D$2:$D$200,MATCH(A21,masterlist!$C$2:$C$200,0)),\"\")","v":""},{"$f":"IFERROR(INDEX(masterlist!$G$2:$G$200,MATCH(A21,masterlist!$C$2:$C$200,0)),\"\")","v":""},{"$f":"IFERROR(INDEX(masterlist!$H$2:$H$200,MATCH(A21,masterlist!$C$2:$C$200,0)),\"\")","v":""},null,null,{"$f":"IFERROR(HYPERLINK(INDEX(masterlist!$M$2:$M$200,MATCH(A21,masterlist!$C$2:$C$200,0)),INDEX(masterlist!$L$2:$L$200,MATCH(A21,masterlist!$C$2:$C$200,0))),\"\")","v":""},{"$f":"IFERROR(HYPERLINK(INDEX(masterlist!$O$2:$O$200,MATCH(A21,masterlist!$C$2:$C$200,0)),INDEX(masterlist!$N$2:$N$200,MATCH(A21,masterlist!$C$2:$C$200,0))),\"\")","v":""},{"$f":"IFERROR(HYPERLINK(INDEX(masterlist!$Q$2:$Q$200,MATCH(A21,masterlist!$C$2:$C$200,0)),INDEX(masterlist!$P$2:$P$200,MATCH(A21,masterlist!$C$2:$C$200,0))),\"\")","v":""},{"$f":"IFERROR(HYPERLINK(INDEX(masterlist!$S$2:$S$200,MATCH(A21,masterlist!$C$2:$C$200,0)),INDEX(masterlist!$R$2:$R$200,MATCH(A21,masterlist!$C$2:$C$200,0))),\"\")","v":""},{"$f":"IFERROR(HYPERLINK(INDEX(masterlist!$U$2:$U$200,MATCH(A21,masterlist!$C$2:$C$200,0)),INDEX(masterlist!$T$2:$T$200,MATCH(A21,masterlist!$C$2:$C$200,0))),\"\")","v":""}]
[{"$f":"IFERROR(INDEX(masterlist!$A$2:$F$200,SMALL(IF(masterlist!$B$2:$B$200=\"LAB\",ROW(masterlist!$A$2:$F$200)-1),ROW(18:18)),3),\"\")","v":""},{"$f":"IFERROR(INDEX(masterlist!$E$2:$E$200,MATCH(A22,masterlist!$C$2:$C$200,0)),\"\")","v":""},{"$f":"IFERROR(INDEX(masterlist!$D$2:$D$200,MATCH(A22,masterlist!$C$2:$C$200,0)),\"\")","v":""},{"$f":"IFERROR(INDEX(masterlist!$G$2:$G$200,MATCH(A22,masterlist!$C$2:$C$200,0)),\"\")","v":""},{"$f":"IFERROR(INDEX(masterlist!$H$2:$H$200,MATCH(A22,masterlist!$C$2:$C$200,0)),\"\")","v":""},null,null,{"$f":"IFERROR(HYPERLINK(INDEX(masterlist!$M$2:$M$200,MATCH(A22,masterlist!$C$2:$C$200,0)),INDEX(masterlist!$L$2:$L$200,MATCH(A22,masterlist!$C$2:$C$200,0))),\"\")","v":""},{"$f":"IFERROR(HYPERLINK(INDEX(masterlist!$O$2:$O$200,MATCH(A22,masterlist!$C$2:$C$200,0)),INDEX(masterlist!$N$2:$N$200,MATCH(A22,masterlist!$C$2:$C$200,0))),\"\")","v":""},{"$f":"IFERROR(HYPERLINK(INDEX(masterlist!$Q$2:$Q$200,MATCH(A22,masterlist!$C$2:$C$200,0)),INDEX(masterlist!$P$2:$P$200,MATCH(A22,masterlist!$C$2:$C$200,0))),\"\")","v":""},{"$f":"IFERROR(HYPERLINK(INDEX(masterlist!$S$2:$S$200,MATCH(A22,masterlist!$C$2:$C$200,0)),INDEX(masterlist!$R$2:$R$200,MATCH(A22,masterlist!$C$2:$C$200,0))),\"\")","v":""},{"$f":"IFERROR(HYPERLINK(INDEX(masterlist!$U$2:$U$200,MATCH(A22,masterlist!$C$2:$C$200,0)),INDEX(masterlist!$T$2:$T$200,MATCH(A22,masterlist!$C$2:$C$200,0))),\"\")","v":""}]
[{"$f":"IFERROR(INDEX(masterlist!$A$2:$F$200,SMALL(IF(masterlist!$B$2:$B$200=\"LAB\",ROW(masterlist!$A$2:$F$200)-1),ROW(19:19)),3),\"\")","v":""},{"$f":"IFERROR(INDEX(masterlist!$E$2:$E$200,MATCH(A23,masterlist!$C$2:$C$200,0)),\"\")","v":""},{"$f":"IFERROR(INDEX(masterlist!$D$2:$D$200,MATCH(A23,masterlist!$C$2:$C$200,0)),\"\")","v":""},{"$f":"IFERROR(INDEX(masterlist!$G$2:$G$200,MATCH(A23,masterlist!$C$2:$C$200,0)),\"\")","v":""},{"$f":"IFERROR(INDEX(masterlist!$H$2:$H$200,MATCH(A23,masterlist!$C$2:$C$200,0)),\"\")","v":""},null,null,{"$f":"IFERROR(HYPERLINK(INDEX(masterlist!$M$2:$M$200,MATCH(A23,masterlist!$C$2:$C$200,0)),INDEX(masterlist!$L$2:$L$200,MATCH(A23,masterlist!$C$2:$C$200,0))),\"\")","v":""},{"$f":"IFERROR(HYPERLINK(INDEX(masterlist!$O$2:$O$200,MATCH(A23,masterlist!$C$2:$C$200,0)),INDEX(masterlist!$N$2:$N$200,MATCH(A23,masterlist!$C$2:$C$200,0))),\"\")","v":""},{"$f":"IFERROR(HYPERLINK(INDEX(masterlist!$Q$2:$Q$200,MATCH(A23,masterlist!$C$2:$C$200,0)),INDEX(masterlist!$P$2:$P$200,MATCH(A23,masterlist!$C$2:$C$200,0))),\"\")","v":""},{"$f":"IFERROR(HYPERLINK(INDEX(masterlist!$S$2:$S$200,MATCH(A23,masterlist!$C$2:$C$200,0)),INDEX(masterlist!$R$2:$R$200,MATCH(A23,masterlist!$C$2:$C$200,0))),\"\")","v":""},{"$f":"IFERROR(HYPERLINK(INDEX(masterlist!$U$2:$U$200,MATCH(A23,masterlist!$C$2:$C$200,0)),INDEX(masterlist!$T$2:$T$200,MATCH(A23,masterlist!$C$2:$C$200,0))),\"\")","v":""}]
[{"$f":"IFERROR(INDEX(masterlist!$A$2:$F$200,SMALL(IF(masterlist!$B$2:$B$200=\"LAB\",ROW(masterlist!$A$2:$F$200)-1),ROW(20:20)),3),\"\")","v":""},{"$f":"IFERROR(INDEX(masterlist!$E$2:$E$200,MATCH(A24,masterlist!$C$2:$C$200,0)),\"\")","v":""},{"$f":"IFERROR(INDEX(masterlist!$D$2:$D$200,MATCH(A24,masterlist!$C$2:$C$200,0)),\"\")","v":""},{"$f":"IFERROR(INDEX(masterlist!$G$2:$G$200,MATCH(A24,masterlist!$C$2:$C$200,0)),\"\")","v":""},{"$f":"IFERROR(INDEX(masterlist!$H$2:$H$200,MATCH(A24,masterlist!$C$2:$C$200,0)),\"\")","v":""},null,null,{"$f":"IFERROR(HYPERLINK(INDEX(masterlist!$M$2:$M$200,MATCH(A24,masterlist!$C$2:$C$200,0)),INDEX(masterlist!$L$2:$L$200,MATCH(A24,masterlist!$C$2:$C$200,0))),\"\")","v":""},{"$f":"IFERROR(HYPERLINK(INDEX(masterlist!$O$2:$O$200,MATCH(A24,masterlist!$C$2:$C$200,0)),INDEX(masterlist!$N$2:$N$200,MATCH(A24,masterlist!$C$2:$C$200,0))),\"\")","v":""},{"$f":"IFERROR(HYPERLINK(INDEX(masterlist!$Q$2:$Q$200,MATCH(A24,masterlist!$C$2:$C$200,0)),INDEX(masterlist!$P$2:$P$200,MATCH(A24,masterlist!$C$2:$C$200,0))),\"\")","v":""},{"$f":"IFERROR(HYPERLINK(INDEX(masterlist!$S$2:$S$200,MATCH(A24,masterlist!$C$2:$C$200,0)),INDEX(masterlist!$R$2:$R$200,MATCH(A24,masterlist!$C$2:$C$200,0))),\"\")","v":""},{"$f":"IFERROR(HYPERLINK(INDEX(masterlist!$U$2:$U$200,MATCH(A24,masterlist!$C$2:$C$200,0)),INDEX(masterlist!$T$2:$T$200,MATCH(A24,masterlist!$C$2:$C$200,0))),\"\")","v":""}]
[{"$f":"IFERROR(INDEX(masterlist!$A$2:$F$200,SMALL(IF(masterlist!$B$2:$B$200=\"LAB\",ROW(masterlist!$A$2:$F$200)-1),ROW(21:21)),3),\"\")","v":""},{"$f":"IFERROR(INDEX(masterlist!$E$2:$E$200,MATCH(A25,masterlist!$C$2:$C$200,0)),\"\")","v":""},{"$f":"IFERROR(INDEX(masterlist!$D$2:$D$200,MATCH(A25,masterlist!$C$2:$C$200,0)),\"\")","v":""},{"$f":"IFERROR(INDEX(masterlist!$G$2:$G$200,MATCH(A25,masterlist!$C$2:$C$200,0)),\"\")","v":""},{"$f":"IFERROR(INDEX(masterlist!$H$2:$H$200,MATCH(A25,masterlist!$C$2:$C$200,0)),\"\")","v":""},null,null,{"$f":"IFERROR(HYPERLINK(INDEX(masterlist!$M$2:$M$200,MATCH(A25,masterlist!$C$2:$C$200,0)),INDEX(masterlist!$L$2:$L$200,MATCH(A25,masterlist!$C$2:$C$200,0))),\"\")","v":""},{"$f":"IFERROR(HYPERLINK(INDEX(masterlist!$O$2:$O$200,MATCH(A25,masterlist!$C$2:$C$200,0)),INDEX(masterlist!$N$2:$N$200,MATCH(A25,masterlist!$C$2:$C$200,0))),\"\")","v":""},{"$f":"IFERROR(HYPERLINK(INDEX(masterlist!$Q$2:$Q$200,MATCH(A25,masterlist!$C$2:$C$200,0)),INDEX(masterlist!$P$2:$P$200,MATCH(A25,masterlist!$C$2:$C$200,0))),\"\")","v":""},{"$f":"IFERROR(HYPERLINK(INDEX(masterlist!$S$2:$S$200,MATCH(A25,masterlist!$C$2:$C$200,0)),INDEX(masterlist!$R$2:$R$200,MATCH(A25,masterlist!$C$2:$C$200,0))),\"\")","v":""},{"$f":"IFERROR(HYPERLINK(INDEX(masterlist!$U$2:$U$200,MATCH(A25,masterlist!$C$2:$C$200,0)),INDEX(masterlist!$T$2:$T$200,MATCH(A25,masterlist!$C$2:$C$200,0))),\"\")","v":""}]
[{"$f":"IFERROR(INDEX(masterlist!$A$2:$F$200,SMALL(IF(masterlist!$B$2:$B$200=\"LAB\",ROW(masterlist!$A$2:$F$200)-1),ROW(22:22)),3),\"\")","v":""},{"$f":"IFERROR(INDEX(masterlist!$E$2:$E$200,MATCH(A26,masterlist!$C$2:$C$200,0)),\"\")","v":""},{"$f":"IFERROR(INDEX(masterlist!$D$2:$D$200,MATCH(A26,masterlist!$C$2:$C$200,0)),\"\")","v":""},{"$f":"IFERROR(INDEX(masterlist!$G$2:$G$200,MATCH(A26,masterlist!$C$2:$C$200,0)),\"\")","v":""},{"$f":"IFERROR(INDEX(masterlist!$H$2:$H$200,MATCH(A26,masterlist!$C$2:$C$200,0)),\"\")","v":""},null,null,{"$f":"IFERROR(HYPERLINK(INDEX(masterlist!$M$2:$M$200,MATCH(A26,masterlist!$C$2:$C$200,0)),INDEX(masterlist!$L$2:$L$200,MATCH(A26,masterlist!$C$2:$C$200,0))),\"\")","v":""},{"$f":"IFERROR(HYPERLINK(INDEX(masterlist!$O$2:$O$200,MATCH(A26,masterlist!$C$2:$C$200,0)),INDEX(masterlist!$N$2:$N$200,MATCH(A26,masterlist!$C$2:$C$200,0))),\"\")","v":""},{"$f":"IFERROR(HYPERLINK(INDEX(masterlist!$Q$2:$Q$200,MATCH(A26,masterlist!$C$2:$C$200,0)),INDEX(masterlist!$P$2:$P$200,MATCH(A26,masterlist!$C$2:$C$200,0))),\"\")","v":""},{"$f":"IFERROR(HYPERLINK(INDEX(masterlist!$S$2:$S$200,MATCH(A26,masterlist!$C$2:$C$200,0)),INDEX(masterlist!$R$2:$R$200,MATCH(A26,masterlist!$C$2:$C$200,0))),\"\")","v":""},{"$f":"IFERROR(HYPERLINK(INDEX(masterlist!$U$2:$U$200,MATCH(A26,masterlist!$C$2:$C$200,0)),INDEX(masterlist!$T$2:$T$200,MATCH(A26,masterlist!$C$2:$C$200,0))),\"\")","v":""}]
[{"$f":"IFERROR(INDEX(masterlist!$A$2:$F$200,SMALL(IF(masterlist!$B$2:$B$200=\"LAB\",ROW(masterlist!$A$2:$F$200)-1),ROW(23:23)),3),\"\")","v":""},{"$f":"IFERROR(INDEX(masterlist!$E$2:$E$200,MATCH(A27,masterlist!$C$2:$C$200,0)),\"\")","v":""},{"$f":"IFERROR(INDEX(masterlist!$D$2:$D$200,MATCH(A27,masterlist!$C$2:$C$200,0)),\"\")","v":""},{"$f":"IFERROR(INDEX(masterlist!$G$2:$G$200,MATCH(A27,masterlist!$C$2:$C$200,0)),\"\")","v":""},{"$f":"IFERROR(INDEX(masterlist!$H$2:$H$200,MATCH(A27,masterlist!$C$2:$C$200,0)),\"\")","v":""},null,null,{"$f":"IFERROR(HYPERLINK(INDEX(masterlist!$M$2:$M$200,MATCH(A27,masterlist!$C$2:$C$200,0)),INDEX(masterlist!$L$2:$L$200,MATCH(A27,masterlist!$C$2:$C$200,0))),\"\")","v":""},{"$f":"IFERROR(HYPERLINK(INDEX(masterlist!$O$2:$O$200,MATCH(A27,masterlist!$C$2:$C$200,0)),INDEX(masterlist!$N$2:$N$200,MATCH(A27,masterlist!$C$2:$C$200,0))),\"\")","v":""},{"$f":"IFERROR(HYPERLINK(INDEX(masterlist!$Q$2:$Q$200,MATCH(A27,masterlist!$C$2:$C$200,0)),INDEX(masterlist!$P$2:$P$200,MATCH(A27,masterlist!$C$2:$C$200,0))),\"\")","v":""},{"$f":"IFERROR(HYPERLINK(INDEX(masterlist!$S$2:$S$200,MATCH(A27,masterlist!$C$2:$C$200,0)),INDEX(masterlist!$R$2:$R$200,MATCH(A27,masterlist!$C$2:$C$200,0))),\"\")","v":""},{"$f":"IFERROR(HYPERLINK(INDEX(masterlist!$U$2:$U$200,MATCH(A27,masterlist!$C$2:$C$200,0)),INDEX(masterlist!$T$2:$T$200,MATCH(A27,masterlist!$C$2:$C$200,0))),\"\")","v":""}]
[{"$f":"IFERROR(INDEX(masterlist!$A$2:$F$200,SMALL(IF(masterlist!$B$2:$B$200=\"LAB\",ROW(masterlist!$A$2:$F$200)-1),ROW(24:24)),3),\"\")","v":""},{"$f":"IFERROR(INDEX(masterlist!$E$2:$E$200,MATCH(A28,masterlist!$C$2:$C$200,0)),\"\")","v":""},{"$f":"IFERROR(INDEX(masterlist!$D$2:$D$200,MATCH(A28,masterlist!$C$2:$C$200,0)),\"\")","v":""},{"$f":"IFERROR(INDEX(masterlist!$G$2:$G$200,MATCH(A28,masterlist!$C$2:$C$200,0)),\"\")","v":""},{"$f":"IFERROR(INDEX(masterlist!$H$2:$H$200,MATCH(A28,masterlist!$C$2:$C$200,0)),\"\")","v":""},null,null,{"$f":"IFERROR(HYPERLINK(INDEX(masterlist!$M$2:$M$200,MATCH(A28,masterlist!$C$2:$C$200,0)),INDEX(masterlist!$L$2:$L$200,MATCH(A28,masterlist!$C$2:$C$200,0))),\"\")","v":""},{"$f":"IFERROR(HYPERLINK(INDEX(masterlist!$O$2:$O$200,MATCH(A28,masterlist!$C$2:$C$200,0)),INDEX(masterlist!$N$2:$N$200,MATCH(A28,masterlist!$C$2:$C$200,0))),\"\")","v":""},{"$f":"IFERROR(HYPERLINK(INDEX(masterlist!$Q$2:$Q$200,MATCH(A28,masterlist!$C$2:$C$200,0)),INDEX(masterlist!$P$2:$P$200,MATCH(A28,masterlist!$C$2:$C$200,0))),\"\")","v":""},{"$f":"IFERROR(HYPERLINK(INDEX(masterlist!$S$2:$S$200,MATCH(A28,masterlist!$C$2:$C$200,0)),INDEX(masterlist!$R$2:$R$200,MATCH(A28,masterlist!$C$2:$C$200,0))),\"\")","v":""},{"$f":"IFERROR(HYPERLINK(INDEX(masterlist!$U$2:$U$200,MATCH(A28,masterlist!$C$2:$C$200,0)),INDEX(masterlist!$T$2:$T$200,MATCH(A28,masterlist!$C$2:$C$200,0))),\"\")","v":""}]
[{"$f":"IFERROR(INDEX(masterlist!$A$2:$F$200,SMALL(IF(masterlist!$B$2:$B$200=\"LAB\",ROW(masterlist!$A$2:$F$200)-1),ROW(25:25)),3),\"\")","v":""},{"$f":"IFERROR(INDEX(masterlist!$E$2:$E$200,MATCH(A29,masterlist!$C$2:$C$200,0)),\"\")","v":""},{"$f":"IFERROR(INDEX(masterlist!$D$2:$D$200,MATCH(A29,masterlist!$C$2:$C$200,0)),\"\")","v":""},{"$f":"IFERROR(INDEX(masterlist!$G$2:$G$200,MATCH(A29,masterlist!$C$2:$C$200,0)),\"\")","v":""},{"$f":"IFERROR(INDEX(masterlist!$H$2:$H$200,MATCH(A29,masterlist!$C$2:$C$200,0)),\"\")","v":""},null,null,{"$f":"IFERROR(HYPERLINK(INDEX(masterlist!$M$2:$M$200,MATCH(A29,masterlist!$C$2:$C$200,0)),INDEX(masterlist!$L$2:$L$200,MATCH(A29,masterlist!$C$2:$C$200,0))),\"\")","v":""},{"$f":"IFERROR(HYPERLINK(INDEX(masterlist!$O$2:$O$200,MATCH(A29,masterlist!$C$2:$C$200,0)),INDEX(masterlist!$N$2:$N$200,MATCH(A29,masterlist!$C$2:$C$200,0))),\"\")","v":""},{"$f":"IFERROR(HYPERLINK(INDEX(masterlist!$Q$2:$Q$200,MATCH(A29,masterlist!$C$2:$C$200,0)),INDEX(masterlist!$P$2:$P$200,MATCH(A29,masterlist!$C$2:$C$200,0))),\"\")","v":""},{"$f":"IFERROR(HYPERLINK(INDEX(masterlist!$S$2:$S$200,MATCH(A29,masterlist!$C$2:$C$200,0)),INDEX(masterlist!$R$2:$R$200,MATCH(A29,masterlist!$C$2:$C$200,0))),\"\")","v":""},{"$f":"IFERROR(HYPERLINK(INDEX(masterlist!$U$2:$U$200,MATCH(A29,masterlist!$C$2:$C$200,0)),INDEX(masterlist!$T$2:$T$200,MATCH(A29,masterlist!$C$2:$C$200,0))),\"\")","v":""}]
[{"$f":"IFERROR(INDEX(masterlist!$A$2:$F$200,SMALL(IF(masterlist!$B$2:$B$200=\"LAB\",ROW(masterlist!$A$2:$F$200)-1),ROW(26:26)),3),\"\")","v":""},{"$f":"IFERROR(INDEX(masterlist!$E$2:$E$200,MATCH(A30,masterlist!$C$2:$C$200,0)),\"\")","v":""},{"$f":"IFERROR(INDEX(masterlist!$D$2:$D$200,MATCH(A30,masterlist!$C$2:$C$200,0)),\"\")","v":""},{"$f":"IFERROR(INDEX(masterlist!$G$2:$G$200,MATCH(A30,masterlist!$C$2:$C$200,0)),\"\")","v":""},{"$f":"IFERROR(INDEX(masterlist!$H$2:$H$200,MATCH(A30,masterlist!$C$2:$C$200,0)),\"\")","v":""},null,null,{"$f":"IFERROR(HYPERLINK(INDEX(masterlist!$M$2:$M$200,MATCH(A30,masterlist!$C$2:$C$200,0)),INDEX(masterlist!$L$2:$L$200,MATCH(A30,masterlist!$C$2:$C$200,0))),\"\")","v":""},{"$f":"IFERROR(HYPERLINK(INDEX(masterlist!$O$2:$O$200,MATCH(A30,masterlist!$C$2:$C$200,0)),INDEX(masterlist!$N$2:$N$200,MATCH(A30,masterlist!$C$2:$C$200,0))),\"\")","v":""},{"$f":"IFERROR(HYPERLINK(INDEX(masterlist!$Q$2:$Q$200,MATCH(A30,masterlist!$C$2:$C$200,0)),INDEX(masterlist!$P$2:$P$200,MATCH(A30,masterlist!$C$2:$C$200,0))),\"\")","v":""},{"$f":"IFERROR(HYPERLINK(INDEX(masterlist!$S$2:$S$200,MATCH(A30,masterlist!$C$2:$C$200,0)),INDEX(masterlist!$R$2:$R$200,MATCH(A30,masterlist!$C$2:$C$200,0))),\"\")","v":""},{"$f":"IFERROR(HYPERLINK(INDEX(masterlist!$U$2:$U$200,MATCH(A30,masterlist!$C$2:$C$200,0)),INDEX(masterlist!$T$2:$T$200,MATCH(A30,masterlist!$C$2:$C$200,0))),\"\")","v":""}]
[{"$f":"IFERROR(INDEX(masterlist!$A$2:$F$200,SMALL(IF(masterlist!$B$2:$B$200=\"LAB\",ROW(masterlist!$A$2:$F$200)-1),ROW(27:27)),3),\"\")","v":""},{"$f":"IFERROR(INDEX(masterlist!$E$2:$E$200,MATCH(A31,masterlist!$C$2:$C$200,0)),\"\")","v":""},{"$f":"IFERROR(INDEX(masterlist!$D$2:$D$200,MATCH(A31,masterlist!$C$2:$C$200,0)),\"\")","v":""},{"$f":"IFERROR(INDEX(masterlist!$G$2:$G$200,MATCH(A31,masterlist!$C$2:$C$200,0)),\"\")","v":""},{"$f":"IFERROR(INDEX(masterlist!$H$2:$H$200,MATCH(A31,masterlist!$C$2:$C$200,0)),\"\")","v":""},null,null,{"$f":"IFERROR(HYPERLINK(INDEX(masterlist!$M$2:$M$200,MATCH(A31,masterlist!$C$2:$C$200,0)),INDEX(masterlist!$L$2:$L$200,MATCH(A31,masterlist!$C$2:$C$200,0))),\"\")","v":""},{"$f":"IFERROR(HYPERLINK(INDEX(masterlist!$O$2:$O$200,MATCH(A31,masterlist!$C$2:$C$200,0)),INDEX(masterlist!$N$2:$N$200,MATCH(A31,masterlist!$C$2:$C$200,0))),\"\")","v":""},{"$f":"IFERROR(HYPERLINK(INDEX(masterlist!$Q$2:$Q$200,MATCH(A31,masterlist!$C$2:$C$200,0)),INDEX(masterlist!$P$2:$P$200,MATCH(A31,masterlist!$C$2:$C$200,0))),\"\")","v":""},{"$f":"IFERROR(HYPERLINK(INDEX(masterlist!$S$2:$S$200,MATCH(A31,masterlist!$C$2:$C$200,0)),INDEX(masterlist!$R$2:$R$200,MATCH(A31,masterlist!$C$2:$C$200,0))),\"\")","v":""},{"$f":"IFERROR(HYPERLINK(INDEX(masterlist!$U$2:$U$200,MATCH(A31,masterlist!$C$2:$C$200,0)),INDEX(masterlist!$T$2:$T$200,MATCH(A31,masterlist!$C$2:$C$200,0))),\"\")","v":""}]
[{"$f":"IFERROR(INDEX(masterlist!$A$2:$F$200,SMALL(IF(masterlist!$B$2:$B$200=\"LAB\",ROW(masterlist!$A$2:$F$200)-1),ROW(28:28)),3),\"\")","v":""},{"$f":"IFERROR(INDEX(masterlist!$E$2:$E$200,MATCH(A32,masterlist!$C$2:$C$200,0)),\"\")","v":""},{"$f":"IFERROR(INDEX(masterlist!$D$2:$D$200,MATCH(A32,masterlist!$C$2:$C$200,0)),\"\")","v":""},{"$f":"IFERROR(INDEX(masterlist!$G$2:$G$200,MATCH(A32,masterlist!$C$2:$C$200,0)),\"\")","v":""},{"$f":"IFERROR(INDEX(masterlist!$H$2:$H$200,MATCH(A32,masterlist!$C$2:$C$200,0)),\"\")","v":""},null,null,{"$f":"IFERROR(HYPERLINK(INDEX(masterlist!$M$2:$M$200,MATCH(A32,masterlist!$C$2:$C$200,0)),INDEX(masterlist!$L$2:$L$200,MATCH(A32,masterlist!$C$2:$C$200,0))),\"\")","v":""},{"$f":"IFERROR(HYPERLINK(INDEX(masterlist!$O$2:$O$200,MATCH(A32,masterlist!$C$2:$C$200,0)),INDEX(masterlist!$N$2:$N$200,MATCH(A32,masterlist!$C$2:$C$200,0))),\"\")","v":""},{"$f":"IFERROR(HYPERLINK(INDEX(masterlist!$Q$2:$Q$200,MATCH(A32,masterlist!$C$2:$C$200,0)),INDEX(masterlist!$P$2:$P$200,MATCH(A32,masterlist!$C$2:$C$200,0))),\"\")","v":""},{"$f":"IFERROR(HYPERLINK(INDEX(masterlist!$S$2:$S$200,MATCH(A32,masterlist!$C$2:$C$200,0)),INDEX(masterlist!$R$2:$R$200,MATCH(A32,masterlist!$C$2:$C$200,0))),\"\")","v":""},{"$f":"IFERROR(HYPERLINK(INDEX(masterlist!$U$2:$U$200,MATCH(A32,masterlist!$C$2:$C$200,0)),INDEX(masterlist!$T$2:$T$200,MATCH(A32,masterlist!$C$2:$C$200,0))),\"\")","v":""}]
[{"$f":"IFERROR(INDEX(masterlist!$A$2:$F$200,SMALL(IF(masterlist!$B$2:$B$200=\"LAB\",ROW(masterlist!$A$2:$F$200)-1),ROW(29:29)),3),\"\")","v":""},{"$f":"IFERROR(INDEX(masterlist!$E$2:$E$200,MATCH(A33,masterlist!$C$2:$C$200,0)),\"\")","v":""},{"$f":"IFERROR(INDEX(masterlist!$D$2:$D$200,MATCH(A33,masterlist!$C$2:$C$200,0)),\"\")","v":""},{"$f":"IFERROR(INDEX(masterlist!$G$2:$G$200,MATCH(A33,masterlist!$C$2:$C$200,0)),\"\")","v":""},{"$f":"IFERROR(INDEX(masterlist!$H$2:$H$200,MATCH(A33,masterlist!$C$2:$C$200,0)),\"\")","v":""},null,null,{"$f":"IFERROR(HYPERLINK(INDEX(masterlist!$M$2:$M$200,MATCH(A33,masterlist!$C$2:$C$200,0)),INDEX(masterlist!$L$2:$L$200,MATCH(A33,masterlist!$C$2:$C$200,0))),\"\")","v":""},{"$f":"IFERROR(HYPERLINK(INDEX(masterlist!$O$2:$O$200,MATCH(A33,masterlist!$C$2:$C$200,0)),INDEX(masterlist!$N$2:$N$200,MATCH(A33,masterlist!$C$2:$C$200,0))),\"\")","v":""},{"$f":"IFERROR(HYPERLINK(INDEX(masterlist!$Q$2:$Q$200,MATCH(A33,masterlist!$C$2:$C$200,0)),INDEX(masterlist!$P$2:$P$200,MATCH(A33,masterlist!$C$2:$C$200,0))),\"\")","v":""},{"$f":"IFERROR(HYPERLINK(INDEX(masterlist!$S$2:$S$200,MATCH(A33,masterlist!$C$2:$C$200,0)),INDEX(masterlist!$R$2:$R$200,MATCH(A33,masterlist!$C$2:$C$200,0))),\"\")","v":""},{"$f":"IFERROR(HYPERLINK(INDEX(masterlist!$U$2:$U$200,MATCH(A33,masterlist!$C$2:$C$200,0)),INDEX(masterlist!$T$2:$T$200,MATCH(A33,masterlist!$C$2:$C$200,0))),\"\")","v":""}]
[{"$f":"IFERROR(INDEX(masterlist!$A$2:$F$200,SMALL(IF(masterlist!$B$2:$B$200=\"LAB\",ROW(masterlist!$A$2:$F$200)-1),ROW(30:30)),3),\"\")","v":""},{"$f":"IFERROR(INDEX(masterlist!$E$2:$E$200,MATCH(A34,masterlist!$C$2:$C$200,0)),\"\")","v":""},{"$f":"IFERROR(INDEX(masterlist!$D$2:$D$200,MATCH(A34,masterlist!$C$2:$C$200,0)),\"\")","v":""},{"$f":"IFERROR(INDEX(masterlist!$G$2:$G$200,MATCH(A34,masterlist!$C$2:$C$200,0)),\"\")","v":""},{"$f":"IFERROR(INDEX(masterlist!$H$2:$H$200,MATCH(A34,masterlist!$C$2:$C$200,0)),\"\")","v":""},null,null,{"$f":"IFERROR(HYPERLINK(INDEX(masterlist!$M$2:$M$200,MATCH(A34,masterlist!$C$2:$C$200,0)),INDEX(masterlist!$L$2:$L$200,MATCH(A34,masterlist!$C$2:$C$200,0))),\"\")","v":""},{"$f":"IFERROR(HYPERLINK(INDEX(masterlist!$O$2:$O$200,MATCH(A34,masterlist!$C$2:$C$200,0)),INDEX(masterlist!$N$2:$N$200,MATCH(A34,masterlist!$C$2:$C$200,0))),\"\")","v":""},{"$f":"IFERROR(HYPERLINK(INDEX(masterlist!$Q$2:$Q$200,MATCH(A34,masterlist!$C$2:$C$200,0)),INDEX(masterlist!$P$2:$P$200,MATCH(A34,masterlist!$C$2:$C$200,0))),\"\")","v":""},{"$f":"IFERROR(HYPERLINK(INDEX(masterlist!$S$2:$S$200,MATCH(A34,masterlist!$C$2:$C$200,0)),INDEX(masterlist!$R$2:$R$200,MATCH(A34,masterlist!$C$2:$C$200,0))),\"\")","v":""},{"$f":"IFERROR(HYPERLINK(INDEX(masterlist!$U$2:$U$200,MATCH(A34,masterlist!$C$2:$C$200,0)),INDEX(masterlist!$T$2:$T$200,MATCH(A34,masterlist!$C$2:$C$200,0))),\"\")","v":""}]
[{"$f":"IFERROR(INDEX(masterlist!$A$2:$F$200,SMALL(IF(masterlist!$B$2:$B$200=\"LAB\",ROW(masterlist!$A$2:$F$200)-1),ROW(31:31)),3),\"\")","v":""},{"$f":"IFERROR(INDEX(masterlist!$E$2:$E$200,MATCH(A35,masterlist!$C$2:$C$200,0)),\"\")","v":""},{"$f":"IFERROR(INDEX(masterlist!$D$2:$D$200,MATCH(A35,masterlist!$C$2:$C$200,0)),\"\")","v":""},{"$f":"IFERROR(INDEX(masterlist!$G$2:$G$200,MATCH(A35,masterlist!$C$2:$C$200,0)),\"\")","v":""},{"$f":"IFERROR(INDEX(masterlist!$H$2:$H$200,MATCH(A35,masterlist!$C$2:$C$200,0)),\"\")","v":""},null,null,{"$f":"IFERROR(HYPERLINK(INDEX(masterlist!$M$2:$M$200,MATCH(A35,masterlist!$C$2:$C$200,0)),INDEX(masterlist!$L$2:$L$200,MATCH(A35,masterlist!$C$2:$C$200,0))),\"\")","v":""},{"$f":"IFERROR(HYPERLINK(INDEX(masterlist!$O$2:$O$200,MATCH(A35,masterlist!$C$2:$C$200,0)),INDEX(masterlist!$N$2:$N$200,MATCH(A35,masterlist!$C$2:$C$200,0))),\"\")","v":""},{"$f":"IFERROR(HYPERLINK(INDEX(masterlist!$Q$2:$Q$200,MATCH(A35,masterlist!$C$2:$C$200,0)),INDEX(masterlist!$P$2:$P$200,MATCH(A35,masterlist!$C$2:$C$200,0))),\"\")","v":""},{"$f":"IFERROR(HYPERLINK(INDEX(masterlist!$S$2:$S$200,MATCH(A35,masterlist!$C$2:$C$200,0)),INDEX(masterlist!$R$2:$R$200,MATCH(A35,masterlist!$C$2:$C$200,0))),\"\")","v":""},{"$f":"IFERROR(HYPERLINK(INDEX(masterlist!$U$2:$U$200,MATCH(A35,masterlist!$C$2:$C$200,0)),INDEX(masterlist!$T$2:$T$200,MATCH(A35,masterlist!$C$2:$C$200,0))),\"\")","v":""}]
[{"$f":"IFERROR(INDEX(masterlist!$A$2:$F$200,SMALL(IF(masterlist!$B$2:$B$200=\"LAB\",ROW(masterlist!$A$2:$F$200)-1),ROW(32:32)),3),\"\")","v":""},{"$f":"IFERROR(INDEX(masterlist!$E$2:$E$200,MATCH(A36,masterlist!$C$2:$C$200,0)),\"\")","v":""},{"$f":"IFERROR(INDEX(masterlist!$D$2:$D$200,MATCH(A36,masterlist!$C$2:$C$200,0)),\"\")","v":""},{"$f":"IFERROR(INDEX(masterlist!$G$2:$G$200,MATCH(A36,masterlist!$C$2:$C$200,0)),\"\")","v":""},{"$f":"IFERROR(INDEX(masterlist!$H$2:$H$200,MATCH(A36,masterlist!$C$2:$C$200,0)),\"\")","v":""},null,null,{"$f":"IFERROR(HYPERLINK(INDEX(masterlist!$M$2:$M$200,MATCH(A36,masterlist!$C$2:$C$200,0)),INDEX(masterlist!$L$2:$L$200,MATCH(A36,masterlist!$C$2:$C$200,0))),\"\")","v":""},{"$f":"IFERROR(HYPERLINK(INDEX(masterlist!$O$2:$O$200,MATCH(A36,masterlist!$C$2:$C$200,0)),INDEX(masterlist!$N$2:$N$200,MATCH(A36,masterlist!$C$2:$C$200,0))),\"\")","v":""},{"$f":"IFERROR(HYPERLINK(INDEX(masterlist!$Q$2:$Q$200,MATCH(A36,masterlist!$C$2:$C$200,0)),INDEX(masterlist!$P$2:$P$200,MATCH(A36,masterlist!$C$2:$C$200,0))),\"\")","v":""},{"$f":"IFERROR(HYPERLINK(INDEX(masterlist!$S$2:$S$200,MATCH(A36,masterlist!$C$2:$C$200,0)),INDEX(masterlist!$R$2:$R$200,MATCH(A36,masterlist!$C$2:$C$200,0))),\"\")","v":""},{"$f":"IFERROR(HYPERLINK(INDEX(masterlist!$U$2:$U$200,MATCH(A36,masterlist!$C$2:$C$200,0)),INDEX(masterlist!$T$2:$T$200,MATCH(A36,masterlist!$C$2:$C$200,0))),\"\")","v":""}]
[{"$f":"IFERROR(INDEX(masterlist!$A$2:$F$200,SMALL(IF(masterlist!$B$2:$B$200=\"LAB\",ROW(masterlist!$A$2:$F$200)-1),ROW(33:33)),3),\"\")","v":""},{"$f":"IFERROR(INDEX(masterlist!$E$2:$E$200,MATCH(A37,masterlist!$C$2:$C$200,0)),\"\")","v":""},{"$f":"IFERROR(INDEX(masterlist!$D$2:$D$200,MATCH(A37,masterlist!$C$2:$C$200,0)),\"\")","v":""},{"$f":"IFERROR(INDEX(masterlist!$G$2:$G$200,MATCH(A37,masterlist!$C$2:$C$200,0)),\"\")","v":""},{"$f":"IFERROR(INDEX(masterlist!$H$2:$H$200,MATCH(A37,masterlist!$C$2:$C$200,0)),\"\")","v":""},null,null,{"$f":"IFERROR(HYPERLINK(INDEX(masterlist!$M$2:$M$200,MATCH(A37,masterlist!$C$2:$C$200,0)),INDEX(masterlist!$L$2:$L$200,MATCH(A37,masterlist!$C$2:$C$200,0))),\"\")","v":""},{"$f":"IFERROR(HYPERLINK(INDEX(masterlist!$O$2:$O$200,MATCH(A37,masterlist!$C$2:$C$200,0)),INDEX(masterlist!$N$2:$N$200,MATCH(A37,masterlist!$C$2:$C$200,0))),\"\")","v":""},{"$f":"IFERROR(HYPERLINK(INDEX(masterlist!$Q$2:$Q$200,MATCH(A37,masterlist!$C$2:$C$200,0)),INDEX(masterlist!$P$2:$P$200,MATCH(A37,masterlist!$C$2:$C$200,0))),\"\")","v":""},{"$f":"IFERROR(HYPERLINK(INDEX(masterlist!$S$2:$S$200,MATCH(A37,masterlist!$C$2:$C$200,0)),INDEX(masterlist!$R$2:$R$200,MATCH(A37,masterlist!$C$2:$C$200,0))),\"\")","v":""},{"$f":"IFERROR(HYPERLINK(INDEX(masterlist!$U$2:$U$200,MATCH(A37,masterlist!$C$2:$C$200,0)),INDEX(masterlist!$T$2:$T$200,MATCH(A37,masterlist!$C$2:$C$200,0))),\"\")","v":""}]
[{"$f":"IFERROR(INDEX(masterlist!$A$2:$F$200,SMALL(IF(masterlist!$B$2:$B$200=\"LAB\",ROW(masterlist!$A$2:$F$200)-1),ROW(34:34)),3),\"\")","v":""},{"$f":"IFERROR(INDEX(masterlist!$E$2:$E$200,MATCH(A38,masterlist!$C$2:$C$200,0)),\"\")","v":""},{"$f":"IFERROR(INDEX(masterlist!$D$2:$D$200,MATCH(A38,masterlist!$C$2:$C$200,0)),\"\")","v":""},{"$f":"IFERROR(INDEX(masterlist!$G$2:$G$200,MATCH(A38,masterlist!$C$2:$C$200,0)),\"\")","v":""},{"$f":"IFERROR(INDEX(masterlist!$H$2:$H$200,MATCH(A38,masterlist!$C$2:$C$200,0)),\"\")","v":""},null,null,{"$f":"IFERROR(HYPERLINK(INDEX(masterlist!$M$2:$M$200,MATCH(A38,masterlist!$C$2:$C$200,0)),INDEX(masterlist!$L$2:$L$200,MATCH(A38,masterlist!$C$2:$C$200,0))),\"\")","v":""},{"$f":"IFERROR(HYPERLINK(INDEX(masterlist!$O$2:$O$200,MATCH(A38,masterlist!$C$2:$C$200,0)),INDEX(masterlist!$N$2:$N$200,MATCH(A38,masterlist!$C$2:$C$200,0))),\"\")","v":""},{"$f":"IFERROR(HYPERLINK(INDEX(masterlist!$Q$2:$Q$200,MATCH(A38,masterlist!$C$2:$C$200,0)),INDEX(masterlist!$P$2:$P$200,MATCH(A38,masterlist!$C$2:$C$200,0))),\"\")","v":""},{"$f":"IFERROR(HYPERLINK(INDEX(masterlist!$S$2:$S$200,MATCH(A38,masterlist!$C$2:$C$200,0)),INDEX(masterlist!$R$2:$R$200,MATCH(A38,masterlist!$C$2:$C$200,0))),\"\")","v":""},{"$f":"IFERROR(HYPERLINK(INDEX(masterlist!$U$2:$U$200,MATCH(A38,masterlist!$C$2:$C$200,0)),INDEX(masterlist!$T$2:$T$200,MATCH(A38,masterlist!$C$2:$C$200,0))),\"\")","v":""}]
[{"$f":"IFERROR(INDEX(masterlist!$A$2:$F$200,SMALL(IF(masterlist!$B$2:$B$200=\"LAB\",ROW(masterlist!$A$2:$F$200)-1),ROW(35:35)),3),\"\")","v":""},{"$f":"IFERROR(INDEX(masterlist!$E$2:$E$200,MATCH(A39,masterlist!$C$2:$C$200,0)),\"\")","v":""},{"$f":"IFERROR(INDEX(masterlist!$D$2:$D$200,MATCH(A39,masterlist!$C$2:$C$200,0)),\"\")","v":""},{"$f":"IFERROR(INDEX(masterlist!$G$2:$G$200,MATCH(A39,masterlist!$C$2:$C$200,0)),\"\")","v":""},{"$f":"IFERROR(INDEX(masterlist!$H$2:$H$200,MATCH(A39,masterlist!$C$2:$C$200,0)),\"\")","v":""},null,null,{"$f":"IFERROR(HYPERLINK(INDEX(masterlist!$M$2:$M$200,MATCH(A39,masterlist!$C$2:$C$200,0)),INDEX(masterlist!$L$2:$L$200,MATCH(A39,masterlist!$C$2:$C$200,0))),\"\")","v":""},{"$f":"IFERROR(HYPERLINK(INDEX(masterlist!$O$2:$O$200,MATCH(A39,masterlist!$C$2:$C$200,0)),INDEX(masterlist!$N$2:$N$200,MATCH(A39,masterlist!$C$2:$C$200,0))),\"\")","v":""},{"$f":"IFERROR(HYPERLINK(INDEX(masterlist!$Q$2:$Q$200,MATCH(A39,masterlist!$C$2:$C$200,0)),INDEX(masterlist!$P$2:$P$200,MATCH(A39,masterlist!$C$2:$C$200,0))),\"\")","v":""},{"$f":"IFERROR(HYPERLINK(INDEX(masterlist!$S$2:$S$200,MATCH(A39,masterlist!$C$2:$C$200,0)),INDEX(masterlist!$R$2:$R$200,MATCH(A39,masterlist!$C$2:$C$200,0))),\"\")","v":""},{"$f":"IFERROR(HYPERLINK(INDEX(masterlist!$U$2:$U$200,MATCH(A39,masterlist!$C$2:$C$200,0)),INDEX(masterlist!$T$2:$T$200,MATCH(A39,masterlist!$C$2:$C$200,0))),\"\")","v":""}]
[{"$f":"IFERROR(INDEX(masterlist!$A$2:$F$200,SMALL(IF(masterlist!$B$2:$B$200=\"LAB\",ROW(masterlist!$A$2:$F$200)-1),ROW(36:36)),3),\"\")","v":""},{"$f":"IFERROR(INDEX(masterlist!$E$2:$E$200,MATCH(A40,masterlist!$C$2:$C$200,0)),\"\")","v":""},{"$f":"IFERROR(INDEX(masterlist!$D$2:$D$200,MATCH(A40,masterlist!$C$2:$C$200,0)),\"\")","v":""},{"$f":"IFERROR(INDEX(masterlist!$G$2:$G$200,MATCH(A40,masterlist!$C$2:$C$200,0)),\"\")","v":""},{"$f":"IFERROR(INDEX(masterlist!$H$2:$H$200,MATCH(A40,masterlist!$C$2:$C$200,0)),\"\")","v":""},null,null,{"$f":"IFERROR(HYPERLINK(INDEX(masterlist!$M$2:$M$200,MATCH(A40,masterlist!$C$2:$C$200,0)),INDEX(masterlist!$L$2:$L$200,MATCH(A40,masterlist!$C$2:$C$200,0))),\"\")","v":""},{"$f":"IFERROR(HYPERLINK(INDEX(masterlist!$O$2:$O$200,MATCH(A40,masterlist!$C$2:$C$200,0)),INDEX(masterlist!$N$2:$N$200,MATCH(A40,masterlist!$C$2:$C$200,0))),\"\")","v":""},{"$f":"IFERROR(HYPERLINK(INDEX(masterlist!$Q$2:$Q$200,MATCH(A40,masterlist!$C$2:$C$200,0)),INDEX(masterlist!$P$2:$P$200,MATCH(A40,masterlist!$C$2:$C$200,0))),\"\")","v":""},{"$f":"IFERROR(HYPERLINK(INDEX(masterlist!$S$2:$S$200,MATCH(A40,masterlist!$C$2:$C$200,0)),INDEX(masterlist!$R$2:$R$200,MATCH(A40,masterlist!$C$2:$C$200,0))),\"\")","v":""},{"$f":"IFERROR(HYPERLINK(INDEX(masterlist!$U$2:$U$200,MATCH(A40,masterlist!$C$2:$C$200,0)),INDEX(masterlist!$T$2:$T$200,MATCH(A40,masterlist!$C$2:$C$200,0))),\"\")","v":""}]
[{"$f":"IFERROR(INDEX(masterlist!$A$2:$F$200,SMALL(IF(masterlist!$B$2:$B$200=\"LAB\",ROW(masterlist!$A$2:$F$200)-1),ROW(37:37)),3),\"\")","v":""},{"$f":"IFERROR(INDEX(masterlist!$E$2:$E$200,MATCH(A41,masterlist!$C$2:$C$200,0)),\"\")","v":""},{"$f":"IFERROR(INDEX(masterlist!$D$2:$D$200,MATCH(A41,masterlist!$C$2:$C$200,0)),\"\")","v":""},{"$f":"IFERROR(INDEX(masterlist!$G$2:$G$200,MATCH(A41,masterlist!$C$2:$C$200,0)),\"\")","v":""},{"$f":"IFERROR(INDEX(masterlist!$H$2:$H$200,MATCH(A41,masterlist!$C$2:$C$200,0)),\"\")","v":""},null,null,{"$f":"IFERROR(HYPERLINK(INDEX(masterlist!$M$2:$M$200,MATCH(A41,masterlist!$C$2:$C$200,0)),INDEX(masterlist!$L$2:$L$200,MATCH(A41,masterlist!$C$2:$C$200,0))),\"\")","v":""},{"$f":"IFERROR(HYPERLINK(INDEX(masterlist!$O$2:$O$200,MATCH(A41,masterlist!$C$2:$C$200,0)),INDEX(masterlist!$N$2:$N$200,MATCH(A41,masterlist!$C$2:$C$200,0))),\"\")","v":""},{"$f":"IFERROR(HYPERLINK(INDEX(masterlist!$Q$2:$Q$200,MATCH(A41,masterlist!$C$2:$C$200,0)),INDEX(masterlist!$P$2:$P$200,MATCH(A41,masterlist!$C$2:$C$200,0))),\"\")","v":""},{"$f":"IFERROR(HYPERLINK(INDEX(masterlist!$S$2:$S$200,MATCH(A41,masterlist!$C$2:$C$200,0)),INDEX(masterlist!$R$2:$R$200,MATCH(A41,masterlist!$C$2:$C$200,0))),\"\")","v":""},{"$f":"IFERROR(HYPERLINK(INDEX(masterlist!$U$2:$U$200,MATCH(A41,masterlist!$C$2:$C$200,0)),INDEX(masterlist!$T$2:$T$200,MATCH(A41,masterlist!$C$2:$C$200,0))),\"\")","v":""}]
[{"$f":"IFERROR(INDEX(masterlist!$A$2:$F$200,SMALL(IF(masterlist!$B$2:$B$200=\"LAB\",ROW(masterlist!$A$2:$F$200)-1),ROW(38:38)),3),\"\")","v":""},{"$f":"IFERROR(INDEX(masterlist!$E$2:$E$200,MATCH(A42,masterlist!$C$2:$C$200,0)),\"\")","v":""},{"$f":"IFERROR(INDEX(masterlist!$D$2:$D$200,MATCH(A42,masterlist!$C$2:$C$200,0)),\"\")","v":""},{"$f":"IFERROR(INDEX(masterlist!$G$2:$G$200,MATCH(A42,masterlist!$C$2:$C$200,0)),\"\")","v":""},{"$f":"IFERROR(INDEX(masterlist!$H$2:$H$200,MATCH(A42,masterlist!$C$2:$C$200,0)),\"\")","v":""},null,null,{"$f":"IFERROR(HYPERLINK(INDEX(masterlist!$M$2:$M$200,MATCH(A42,masterlist!$C$2:$C$200,0)),INDEX(masterlist!$L$2:$L$200,MATCH(A42,masterlist!$C$2:$C$200,0))),\"\")","v":""},{"$f":"IFERROR(HYPERLINK(INDEX(masterlist!$O$2:$O$200,MATCH(A42,masterlist!$C$2:$C$200,0)),INDEX(masterlist!$N$2:$N$200,MATCH(A42,masterlist!$C$2:$C$200,0))),\"\")","v":""},{"$f":"IFERROR(HYPERLINK(INDEX(masterlist!$Q$2:$Q$200,MATCH(A42,masterlist!$C$2:$C$200,0)),INDEX(masterlist!$P$2:$P$200,MATCH(A42,masterlist!$C$2:$C$200,0))),\"\")","v":""},{"$f":"IFERROR(HYPERLINK(INDEX(masterlist!$S$2:$S$200,MATCH(A42,masterlist!$C$2:$C$200,0)),INDEX(masterlist!$R$2:$R$200,MATCH(A42,masterlist!$C$2:$C$200,0))),\"\")","v":""},{"$f":"IFERROR(HYPERLINK(INDEX(masterlist!$U$2:$U$200,MATCH(A42,masterlist!$C$2:$C$200,0)),INDEX(masterlist!$T$2:$T$200,MATCH(A42,masterlist!$C$2:$C$200,0))),\"\")","v":""}]
[{"$f":"IFERROR(INDEX(masterlist!$A$2:$F$200,SMALL(IF(masterlist!$B$2:$B$200=\"LAB\",ROW(masterlist!$A$2:$F$200)-1),ROW(39:39)),3),\"\")","v":""},{"$f":"IFERROR(INDEX(masterlist!$E$2:$E$200,MATCH(A43,masterlist!$C$2:$C$200,0)),\"\")","v":""},{"$f":"IFERROR(INDEX(masterlist!$D$2:$D$200,MATCH(A43,masterlist!$C$2:$C$200,0)),\"\")","v":""},{"$f":"IFERROR(INDEX(masterlist!$G$2:$G$200,MATCH(A43,masterlist!$C$2:$C$200,0)),\"\")","v":""},{"$f":"IFERROR(INDEX(masterlist!$H$2:$H$200,MATCH(A43,masterlist!$C$2:$C$200,0)),\"\")","v":""},null,null,{"$f":"IFERROR(HYPERLINK(INDEX(masterlist!$M$2:$M$200,MATCH(A43,masterlist!$C$2:$C$200,0)),INDEX(masterlist!$L$2:$L$200,MATCH(A43,masterlist!$C$2:$C$200,0))),\"\")","v":""},{"$f":"IFERROR(HYPERLINK(INDEX(masterlist!$O$2:$O$200,MATCH(A43,masterlist!$C$2:$C$200,0)),INDEX(masterlist!$N$2:$N$200,MATCH(A43,masterlist!$C$2:$C$200,0))),\"\")","v":""},{"$f":"IFERROR(HYPERLINK(INDEX(masterlist!$Q$2:$Q$200,MATCH(A43,masterlist!$C$2:$C$200,0)),INDEX(masterlist!$P$2:$P$200,MATCH(A43,masterlist!$C$2:$C$200,0))),\"\")","v":""},{"$f":"IFERROR(HYPERLINK(INDEX(masterlist!$S$2:$S$200,MATCH(A43,masterlist!$C$2:$C$200,0)),INDEX(masterlist!$R$2:$R$200,MATCH(A43,masterlist!$C$2:$C$200,0))),\"\")","v":""},{"$f":"IFERROR(HYPERLINK(INDEX(masterlist!$U$2:$U$200,MATCH(A43,masterlist!$C$2:$C$200,0)),INDEX(masterlist!$T$2:$T$200,MATCH(A43,masterlist!$C$2:$C$200,0))),\"\")","v":""}]
[{"$f":"IFERROR(INDEX(masterlist!$A$2:$F$200,SMALL(IF(masterlist!$B$2:$B$200=\"LAB\",ROW(masterlist!$A$2:$F$200)-1),ROW(40:40)),3),\"\")","v":""},{"$f":"IFERROR(INDEX(masterlist!$E$2:$E$200,MATCH(A44,masterlist!$C$2:$C$200,0)),\"\")","v":""},{"$f":"IFERROR(INDEX(masterlist!$D$2:$D$200,MATCH(A44,masterlist!$C$2:$C$200,0)),\"\")","v":""},{"$f":"IFERROR(INDEX(masterlist!$G$2:$G$200,MATCH(A44,masterlist!$C$2:$C$200,0)),\"\")","v":""},{"$f":"IFERROR(INDEX(masterlist!$H$2:$H$200,MATCH(A44,masterlist!$C$2:$C$200,0)),\"\")","v":""},null,null,{"$f":"IFERROR(HYPERLINK(INDEX(masterlist!$M$2:$M$200,MATCH(A44,masterlist!$C$2:$C$200,0)),INDEX(masterlist!$L$2:$L$200,MATCH(A44,masterlist!$C$2:$C$200,0))),\"\")","v":""},{"$f":"IFERROR(HYPERLINK(INDEX(masterlist!$O$2:$O$200,MATCH(A44,masterlist!$C$2:$C$200,0)),INDEX(masterlist!$N$2:$N$200,MATCH(A44,masterlist!$C$2:$C$200,0))),\"\")","v":""},{"$f":"IFERROR(HYPERLINK(INDEX(masterlist!$Q$2:$Q$200,MATCH(A44,masterlist!$C$2:$C$200,0)),INDEX(masterlist!$P$2:$P$200,MATCH(A44,masterlist!$C$2:$C$200,0))),\"\")","v":""},{"$f":"IFERROR(HYPERLINK(INDEX(masterlist!$S$2:$S$200,MATCH(A44,masterlist!$C$2:$C$200,0)),INDEX(masterlist!$R$2:$R$200,MATCH(A44,masterlist!$C$2:$C$200,0))),\"\")","v":""},{"$f":"IFERROR(HYPERLINK(INDEX(masterlist!$U$2:$U$200,MATCH(A44,masterlist!$C$2:$C$200,0)),INDEX(masterlist!$T$2:$T$200,MATCH(A44,masterlist!$C$2:$C$200,0))),\"\")","v":""}]
[{"$f":"IFERROR(INDEX(masterlist!$A$2:$F$200,SMALL(IF(masterlist!$B$2:$B$200=\"LAB\",ROW(masterlist!$A$2:$F$200)-1),ROW(41:41)),3),\"\")","v":""},{"$f":"IFERROR(INDEX(masterlist!$E$2:$E$200,MATCH(A45,masterlist!$C$2:$C$200,0)),\"\")","v":""},{"$f":"IFERROR(INDEX(masterlist!$D$2:$D$200,MATCH(A45,masterlist!$C$2:$C$200,0)),\"\")","v":""},{"$f":"IFERROR(INDEX(masterlist!$G$2:$G$200,MATCH(A45,masterlist!$C$2:$C$200,0)),\"\")","v":""},{"$f":"IFERROR(INDEX(masterlist!$H$2:$H$200,MATCH(A45,masterlist!$C$2:$C$200,0)),\"\")","v":""},null,null,{"$f":"IFERROR(HYPERLINK(INDEX(masterlist!$M$2:$M$200,MATCH(A45,masterlist!$C$2:$C$200,0)),INDEX(masterlist!$L$2:$L$200,MATCH(A45,masterlist!$C$2:$C$200,0))),\"\")","v":""},{"$f":"IFERROR(HYPERLINK(INDEX(masterlist!$O$2:$O$200,MATCH(A45,masterlist!$C$2:$C$200,0)),INDEX(masterlist!$N$2:$N$200,MATCH(A45,masterlist!$C$2:$C$200,0))),\"\")","v":""},{"$f":"IFERROR(HYPERLINK(INDEX(masterlist!$Q$2:$Q$200,MATCH(A45,masterlist!$C$2:$C$200,0)),INDEX(masterlist!$P$2:$P$200,MATCH(A45,masterlist!$C$2:$C$200,0))),\"\")","v":""},{"$f":"IFERROR(HYPERLINK(INDEX(masterlist!$S$2:$S$200,MATCH(A45,masterlist!$C$2:$C$200,0)),INDEX(masterlist!$R$2:$R$200,MATCH(A45,masterlist!$C$2:$C$200,0))),\"\")","v":""},{"$f":"IFERROR(HYPERLINK(INDEX(masterlist!$U$2:$U$200,MATCH(A45,masterlist!$C$2:$C$200,0)),INDEX(masterlist!$T$2:$T$200,MATCH(A45,masterlist!$C$2:$C$200,0))),\"\")","v":""}]
[{"$f":"IFERROR(INDEX(masterlist!$A$2:$F$200,SMALL(IF(masterlist!$B$2:$B$200=\"LAB\",ROW(masterlist!$A$2:$F$200)-1),ROW(42:42)),3),\"\")","v":""},{"$f":"IFERROR(INDEX(masterlist!$E$2:$E$200,MATCH(A46,masterlist!$C$2:$C$200,0)),\"\")","v":""},{"$f":"IFERROR(INDEX(masterlist!$D$2:$D$200,MATCH(A46,masterlist!$C$2:$C$200,0)),\"\")","v":""},{"$f":"IFERROR(INDEX(masterlist!$G$2:$G$200,MATCH(A46,masterlist!$C$2:$C$200,0)),\"\")","v":""},{"$f":"IFERROR(INDEX(masterlist!$H$2:$H$200,MATCH(A46,masterlist!$C$2:$C$200,0)),\"\")","v":""},null,null,{"$f":"IFERROR(HYPERLINK(INDEX(masterlist!$M$2:$M$200,MATCH(A46,masterlist!$C$2:$C$200,0)),INDEX(masterlist!$L$2:$L$200,MATCH(A46,masterlist!$C$2:$C$200,0))),\"\")","v":""},{"$f":"IFERROR(HYPERLINK(INDEX(masterlist!$O$2:$O$200,MATCH(A46,masterlist!$C$2:$C$200,0)),INDEX(masterlist!$N$2:$N$200,MATCH(A46,masterlist!$C$2:$C$200,0))),\"\")","v":""},{"$f":"IFERROR(HYPERLINK(INDEX(masterlist!$Q$2:$Q$200,MATCH(A46,masterlist!$C$2:$C$200,0)),INDEX(masterlist!$P$2:$P$200,MATCH(A46,masterlist!$C$2:$C$200,0))),\"\")","v":""},{"$f":"IFERROR(HYPERLINK(INDEX(masterlist!$S$2:$S$200,MATCH(A46,masterlist!$C$2:$C$200,0)),INDEX(masterlist!$R$2:$R$200,MATCH(A46,masterlist!$C$2:$C$200,0))),\"\")","v":""},{"$f":"IFERROR(HYPERLINK(INDEX(masterlist!$U$2:$U$200,MATCH(A46,masterlist!$C$2:$C$200,0)),INDEX(masterlist!$T$2:$T$200,MATCH(A46,masterlist!$C$2:$C$200,0))),\"\")","v":""}]
[{"$f":"IFERROR(INDEX(masterlist!$A$2:$F$200,SMALL(IF(masterlist!$B$2:$B$200=\"LAB\",ROW(masterlist!$A$2:$F$200)-1),ROW(43:43)),3),\"\")","v":""},{"$f":"IFERROR(INDEX(masterlist!$E$2:$E$200,MATCH(A47,masterlist!$C$2:$C$200,0)),\"\")","v":""},{"$f":"IFERROR(INDEX(masterlist!$D$2:$D$200,MATCH(A47,masterlist!$C$2:$C$200,0)),\"\")","v":""},{"$f":"IFERROR(INDEX(masterlist!$G$2:$G$200,MATCH(A47,masterlist!$C$2:$C$200,0)),\"\")","v":""},{"$f":"IFERROR(INDEX(masterlist!$H$2:$H$200,MATCH(A47,masterlist!$C$2:$C$200,0)),\"\")","v":""},null,null,{"$f":"IFERROR(HYPERLINK(INDEX(masterlist!$M$2:$M$200,MATCH(A47,masterlist!$C$2:$C$200,0)),INDEX(masterlist!$L$2:$L$200,MATCH(A47,masterlist!$C$2:$C$200,0))),\"\")","v":""},{"$f":"IFERROR(HYPERLINK(INDEX(masterlist!$O$2:$O$200,MATCH(A47,masterlist!$C$2:$C$200,0)),INDEX(masterlist!$N$2:$N$200,MATCH(A47,masterlist!$C$2:$C$200,0))),\"\")","v":""},{"$f":"IFERROR(HYPERLINK(INDEX(masterlist!$Q$2:$Q$200,MATCH(A47,masterlist!$C$2:$C$200,0)),INDEX(masterlist!$P$2:$P$200,MATCH(A47,masterlist!$C$2:$C$200,0))),\"\")","v":""},{"$f":"IFERROR(HYPERLINK(INDEX(masterlist!$S$2:$S$200,MATCH(A47,masterlist!$C$2:$C$200,0)),INDEX(masterlist!$R$2:$R$200,MATCH(A47,masterlist!$C$2:$C$200,0))),\"\")","v":""},{"$f":"IFERROR(HYPERLINK(INDEX(masterlist!$U$2:$U$200,MATCH(A47,masterlist!$C$2:$C$200,0)),INDEX(masterlist!$T$2:$T$200,MATCH(A47,masterlist!$C$2:$C$200,0))),\"\")","v":""}]
[{"$f":"IFERROR(INDEX(masterlist!$A$2:$F$200,SMALL(IF(masterlist!$B$2:$B$200=\"LAB\",ROW(masterlist!$A$2:$F$200)-1),ROW(44:44)),3),\"\")","v":""},{"$f":"IFERROR(INDEX(masterlist!$E$2:$E$200,MATCH(A48,masterlist!$C$2:$C$200,0)),\"\")","v":""},{"$f":"IFERROR(INDEX(masterlist!$D$2:$D$200,MATCH(A48,masterlist!$C$2:$C$200,0)),\"\")","v":""},{"$f":"IFERROR(INDEX(masterlist!$G$2:$G$200,MATCH(A48,masterlist!$C$2:$C$200,0)),\"\")","v":""},{"$f":"IFERROR(INDEX(masterlist!$H$2:$H$200,MATCH(A48,masterlist!$C$2:$C$200,0)),\"\")","v":""},null,null,{"$f":"IFERROR(HYPERLINK(INDEX(masterlist!$M$2:$M$200,MATCH(A48,masterlist!$C$2:$C$200,0)),INDEX(masterlist!$L$2:$L$200,MATCH(A48,masterlist!$C$2:$C$200,0))),\"\")","v":""},{"$f":"IFERROR(HYPERLINK(INDEX(masterlist!$O$2:$O$200,MATCH(A48,masterlist!$C$2:$C$200,0)),INDEX(masterlist!$N$2:$N$200,MATCH(A48,masterlist!$C$2:$C$200,0))),\"\")","v":""},{"$f":"IFERROR(HYPERLINK(INDEX(masterlist!$Q$2:$Q$200,MATCH(A48,masterlist!$C$2:$C$200,0)),INDEX(masterlist!$P$2:$P$200,MATCH(A48,masterlist!$C$2:$C$200,0))),\"\")","v":""},{"$f":"IFERROR(HYPERLINK(INDEX(masterlist!$S$2:$S$200,MATCH(A48,masterlist!$C$2:$C$200,0)),INDEX(masterlist!$R$2:$R$200,MATCH(A48,masterlist!$C$2:$C$200,0))),\"\")","v":""},{"$f":"IFERROR(HYPERLINK(INDEX(masterlist!$U$2:$U$200,MATCH(A48,masterlist!$C$2:$C$200,0)),INDEX(masterlist!$T$2:$T$200,MATCH(A48,masterlist!$C$2:$C$200,0))),\"\")","v":""}]
[{"$f":"IFERROR(INDEX(masterlist!$A$2:$F$200,SMALL(IF(masterlist!$B$2:$B$200=\"LAB\",ROW(masterlist!$A$2:$F$200)-1),ROW(45:45)),3),\"\")","v":""},{"$f":"IFERROR(INDEX(masterlist!$E$2:$E$200,MATCH(A49,masterlist!$C$2:$C$200,0)),\"\")","v":""},{"$f":"IFERROR(INDEX(masterlist!$D$2:$D$200,MATCH(A49,masterlist!$C$2:$C$200,0)),\"\")","v":""},{"$f":"IFERROR(INDEX(masterlist!$G$2:$G$200,MATCH(A49,masterlist!$C$2:$C$200,0)),\"\")","v":""},{"$f":"IFERROR(INDEX(masterlist!$H$2:$H$200,MATCH(A49,masterlist!$C$2:$C$200,0)),\"\")","v":""},null,null,{"$f":"IFERROR(HYPERLINK(INDEX(masterlist!$M$2:$M$200,MATCH(A49,masterlist!$C$2:$C$200,0)),INDEX(masterlist!$L$2:$L$200,MATCH(A49,masterlist!$C$2:$C$200,0))),\"\")","v":""},{"$f":"IFERROR(HYPERLINK(INDEX(masterlist!$O$2:$O$200,MATCH(A49,masterlist!$C$2:$C$200,0)),INDEX(masterlist!$N$2:$N$200,MATCH(A49,masterlist!$C$2:$C$200,0))),\"\")","v":""},{"$f":"IFERROR(HYPERLINK(INDEX(masterlist!$Q$2:$Q$200,MATCH(A49,masterlist!$C$2:$C$200,0)),INDEX(masterlist!$P$2:$P$200,MATCH(A49,masterlist!$C$2:$C$200,0))),\"\")","v":""},{"$f":"IFERROR(HYPERLINK(INDEX(masterlist!$S$2:$S$200,MATCH(A49,masterlist!$C$2:$C$200,0)),INDEX(masterlist!$R$2:$R$200,MATCH(A49,masterlist!$C$2:$C$200,0))),\"\")","v":""},{"$f":"IFERROR(HYPERLINK(INDEX(masterlist!$U$2:$U$200,MATCH(A49,masterlist!$C$2:$C$200,0)),INDEX(masterlist!$T$2:$T$200,MATCH(A49,masterlist!$C$2:$C$200,0))),\"\")","v":""}]
[{"$f":"IFERROR(INDEX(masterlist!$A$2:$F$200,SMALL(IF(masterlist!$B$2:$B$200=\"LAB\",ROW(masterlist!$A$2:$F$200)-1),ROW(46:46)),3),\"\")","v":""},{"$f":"IFERROR(INDEX(masterlist!$E$2:$E$200,MATCH(A50,masterlist!$C$2:$C$200,0)),\"\")","v":""},{"$f":"IFERROR(INDEX(masterlist!$D$2:$D$200,MATCH(A50,masterlist!$C$2:$C$200,0)),\"\")","v":""},{"$f":"IFERROR(INDEX(masterlist!$G$2:$G$200,MATCH(A50,masterlist!$C$2:$C$200,0)),\"\")","v":""},{"$f":"IFERROR(INDEX(masterlist!$H$2:$H$200,MATCH(A50,masterlist!$C$2:$C$200,0)),\"\")","v":""},null,null,{"$f":"IFERROR(HYPERLINK(INDEX(masterlist!$M$2:$M$200,MATCH(A50,masterlist!$C$2:$C$200,0)),INDEX(masterlist!$L$2:$L$200,MATCH(A50,masterlist!$C$2:$C$200,0))),\"\")","v":""},{"$f":"IFERROR(HYPERLINK(INDEX(masterlist!$O$2:$O$200,MATCH(A50,masterlist!$C$2:$C$200,0)),INDEX(masterlist!$N$2:$N$200,MATCH(A50,masterlist!$C$2:$C$200,0))),\"\")","v":""},{"$f":"IFERROR(HYPERLINK(INDEX(masterlist!$Q$2:$Q$200,MATCH(A50,masterlist!$C$2:$C$200,0)),INDEX(masterlist!$P$2:$P$200,MATCH(A50,masterlist!$C$2:$C$200,0))),\"\")","v":""},{"$f":"IFERROR(HYPERLINK(INDEX(masterlist!$S$2:$S$200,MATCH(A50,masterlist!$C$2:$C$200,0)),INDEX(masterlist!$R$2:$R$200,MATCH(A50,masterlist!$C$2:$C$200,0))),\"\")","v":""},{"$f":"IFERROR(HYPERLINK(INDEX(masterlist!$U$2:$U$200,MATCH(A50,masterlist!$C$2:$C$200,0)),INDEX(masterlist!$T$2:$T$200,MATCH(A50,masterlist!$C$2:$C$200,0))),\"\")","v":""}]

{"sheet":"Dog popn","index":9,"n_rows":50,"n_cols":12,"rows_kept":50,"cut":false,"hidden":true,"merged":[[3,7,3,8]]}
[]
[null,"Instructions: Enter \"0\" under Status if No or None, or \"1\" if Yes"]
[]
["ID","STAGE","subcomponent","ACHIEVEMENTS / ACTIVITIES","OTHER IMPORTANT INFORMATION\n(please include in REMARKS)","STATUS","REMARKS","Rabies Blueprint references and other links"]
[{"$f":"IFERROR(INDEX(masterlist!$A$2:$F$200,SMALL(IF(masterlist!$B$2:$B$200=\"DPM\",ROW(masterlist!$A$2:$F$200)-1),ROW(1:1)),3),\"\")","v":"DPM- -1-1"},{"$f":"IFERROR(INDEX(masterlist!$E$2:$E$200,MATCH(A5,masterlist!$C$2:$C$200,0)),\"\")","v":1},null,{"$f":"IFERROR(INDEX(masterlist!$G$2:$G$200,MATCH(A5,masterlist!$C$2:$C$200,0)),\"\")","v":"Have discussions been held with stakeholders* to create a dog population management strategy at a local level?"},{"$f":"IFERROR(INDEX(masterlist!$H$2:$H$200,MATCH(A5,masterlist!$C$2:$C$200,0)),\"\")","v":"Stakeholders involved, how this integrates with rabies control strategy. Studies and surveys from \"Prevention and Control\" need to be completed before this item."},1,null,{"$f":"IFERROR(HYPERLINK(INDEX(masterlist!$M$2:$M$200,MATCH(A5,masterlist!$C$2:$C$200,0)),INDEX(masterlist!$L$2:$L$200,MATCH(A5,masterlist!$C$2:$C$200,0))),\"\")","v":"5.4.16 Dog population management tools"},{"$f":"IFERROR(HYPERLINK(INDEX(masterlist!$O$2:$O$200,MATCH(A5,masterlist!$C$2:$C$200,0)),INDEX(masterlist!$N$2:$N$200,MATCH(A5,masterlist!$C$2:$C$200,0))),\"\")","v":"Guidelines-dog-population-management"},{"$f":"IFERROR(HYPERLINK(INDEX(masterlist!$Q$2:$Q$200,MATCH(A5,masterlist!$C$2:$C$200,0)),INDEX(masterlist!$P$2:$P$200,MATCH(A5,masterlist!$C$2:$C$200,0))),\"\")","v":0},{"$f":"IFERROR(HYPERLINK(INDEX(masterlist!$S$2:$S$200,MATCH(A5,masterlist!$C$2:$C$200,0)),INDEX(masterlist!$R$2:$R$200,MATCH(A5,masterlist!$C$2:$C$200,0))),\"\")","v":0},{"$f":"IFERROR(HYPERLINK(INDEX(masterlist!$U$2:$U$200,MATCH(A5,masterlist!$C$2:$C$200,0)),INDEX(masterlist!$T$2:$T$200,MATCH(A5,masterlist!$C$2:$C$200,0))),\"\")","v":0}]
[{"$f":"IFERROR(INDEX(masterlist!$A$2:$F$200,SMALL(IF(masterlist!$B$2:$B$200=\"DPM\",ROW(masterlist!$A$2:$F$200)-1),ROW(2:2)),3),\"\")","v":"DPM- -1-2"},{"$f":"IFERROR(INDEX(masterlist!$E$2:$E$200,MATCH(A6,masterlist!$C$2:$C$200,0)),\"\")","v":1},null,{"$f":"IFERROR(INDEX(masterlist!$G$2:$G$200,MATCH(A6,masterlist!$C$2:$C$200,0)),\"\")","v":"Have you involved officials in waste management in your stakeholder* meetings"},{"$f":"IFERROR(INDEX(masterlist!$H$2:$H$200,MATCH(A6,masterlist!$C$2:$C$200,0)),\"\")","v":"Removal of garbage or preventing animals from reaching the garbage takes away available food sources for dogs. This will help to reduce the number of free-roaming dogs in the community."},0,null,{"$f":"IFERROR(HYPERLINK(INDEX(masterlist!$M$2:$M$200,MATCH(A6,masterlist!$C$2:$C$200,0)),INDEX(masterlist!$L$2:$L$200,MATCH(A6,masterlist!$C$2:$C$200,0))),\"\")","v":0},{"$f":"IFERROR(HYPERLINK(INDEX(masterlist!$O$2:$O$200,MATCH(A6,masterlist!$C$2:$C$200,0)),INDEX(masterlist!$N$2:$N$200,MATCH(A6,masterlist!$C$2:$C$200,0))),\"\")","v":0},{"$f":"IFERROR(HYPERLINK(VLOOKUP(A6,masterlist!$C$2:$Q$200,15,FALSE),VLOOKUP(A6,masterlist!$C$2:$Q$200,14,FALSE)),\"\")","v":0},{"$f":"IFERROR(HYPERLINK(VLOOKUP(A6,masterlist!$C$2:$S$200,17,FALSE),VLOOKUP(A6,masterlist!$C$2:$S$200,16,FALSE)),\"\")","v":0},{"$f":"IFERROR(HYPERLINK(VLOOKUP(A6,masterlist!$C$2:$U$200,19,FALSE),VLOOKUP(A6,masterlist!$C$2:$U$200,18,FALSE)),\"\")","v":0}]
[{"$f":"IFERROR(INDEX(masterlist!$A$2:$F$200,SMALL(IF(masterlist!$B$2:$B$200=\"DPM\",ROW(masterlist!$A$2:$F$200)-1),ROW(3:3)),3),\"\")","v":"DPM- -1-3"},{"$f":"IFERROR(INDEX(masterlist!$E$2:$E$200,MATCH(A7,masterlist!$C$2:$C$200,0)),\"\")","v":1},null,{"$f":"IFERROR(INDEX(masterlist!$G$2:$G$200,MATCH(A7,masterlist!$C$2:$C$200,0)),\"\")","v":"Has a baseline number of dogs been determined at a local level?"},{"$f":"IFERROR(INDEX(masterlist!$H$2:$H$200,MATCH(A7,masterlist!$C$2:$C$200,0)),\"\")","v":" "},1,null,{"$f":"IFERROR(HYPERLINK(INDEX(masterlist!$M$2:$M$200,MATCH(A7,masterlist!$C$2:$C$200,0)),INDEX(masterlist!$L$2:$L$200,MATCH(A7,masterlist!$C$2:$C$200,0))),\"\")","v":0},{"$f":"IFERROR(HYPERLINK(INDEX(masterlist!$O$2:$O$200,MATCH(A7,masterlist!$C$2:$C$200,0)),INDEX(masterlist!$N$2:$N$200,MATCH(A7,masterlist!$C$2:$C$200,0))),\"\")","v":0},{"$f":"IFERROR(HYPERLINK(VLOOKUP(A7,masterlist!$C$2:$Q$200,15,FALSE),VLOOKUP(A7,masterlist!$C$2:$Q$200,14,FALSE)),\"\")","v":0},{"$f":"IFERROR(HYPERLINK(VLOOKUP(A7,masterlist!$C$2:$S$200,17,FALSE),VLOOKUP(A7,masterlist!$C$2:$S$200,16,FALSE)),\"\")","v":0},{"$f":"IFERROR(HYPERLINK(VLOOKUP(A7,masterlist!$C$2:$U$200,19,FALSE),VLOOKUP(A7,masterlist!$C$2:$U$200,18,FALSE)),\"\")","v":0}]
[{"$f":"IFERROR(INDEX(masterlist!$A$2:$F$200,SMALL(IF(masterlist!$B$2:$B$200=\"DPM\",ROW(masterlist!$A$2:$F$200)-1),ROW(4:4)),3),\"\")","v":"DPM- -2-4"},{"$f":"IFERROR(INDEX(masterlist!$E$2:$E$200,MATCH(A8,masterlist!$C$2:$C$200,0)),\"\")","v":2},null,{"$f":"IFERROR(INDEX(masterlist!$G$2:$G$200,MATCH(A8,masterlist!$C$2:$C$200,0)),\"\")","v":"Has a DPM* strategy and programme been drafted and shared with all relevant stakeholders at a local level?"},{"$f":"IFERROR(INDEX(masterlist!$H$2:$H$200,MATCH(A8,masterlist!$C$2:$C$200,0)),\"\")","v":" "},0,null,{"$f":"IFERROR(HYPERLINK(INDEX(masterlist!$M$2:$M$200,MATCH(A8,masterlist!$C$2:$C$200,0)),INDEX(masterlist!$L$2:$L$200,MATCH(A8,masterlist!$C$2:$C$200,0))),\"\")","v":"World Animal Protection-DPM guidelines"},{"$f":"IFERROR(HYPERLINK(INDEX(masterlist!$O$2:$O$200,MATCH(A8,masterlist!$C$2:$C$200,0)),INDEX(masterlist!$N$2:$N$200,MATCH(A8,masterlist!$C$2:$C$200,0))),\"\")","v":"World Animal Protection-humane dog management"},{"$f":"IFERROR(HYPERLINK(VLOOKUP(A8,masterlist!$C$2:$Q$200,15,FALSE),VLOOKUP(A8,masterlist!$C$2:$Q$200,14,FALSE)),\"\")","v":0},{"$f":"IFERROR(HYPERLINK(VLOOKUP(A8,masterlist!$C$2:$S$200,17,FALSE),VLOOKUP(A8,masterlist!$C$2:$S$200,16,FALSE)),\"\")","v":0},{"$f":"IFERROR(HYPERLINK(VLOOKUP(A8,masterlist!$C$2:$U$200,19,FALSE),VLOOKUP(A8,masterlist!$C$2:$U$200,18,FALSE)),\"\")","v":0}]
[{"$f":"IFERROR(INDEX(masterlist!$A$2:$F$200,SMALL(IF(masterlist!$B$2:$B$200=\"DPM\",ROW(masterlist!$A$2:$F$200)-1),ROW(5:5)),3),\"\")","v":"DPM- -2-5"},{"$f":"IFERROR(INDEX(masterlist!$E$2:$E$200,MATCH(A9,masterlist!$C$2:$C$200,0)),\"\")","v":2},null,{"$f":"IFERROR(INDEX(masterlist!$G$2:$G$200,MATCH(A9,masterlist!$C$2:$C$200,0)),\"\")","v":"Has the DPM strategy been finalized and implemented?"},{"$f":"IFERROR(INDEX(masterlist!$H$2:$H$200,MATCH(A9,masterlist!$C$2:$C$200,0)),\"\")","v":"Please list what strategies are currently being used. \nNOTE: Mass culling is NOT considered an effective DPM strategy. However, responsible dog management is considered appropriate. Euthanasia of suspect rabid animals according to the international standards is part of responsible dog management"},0,null,{"$f":"IFERROR(HYPERLINK(INDEX(masterlist!$M$2:$M$200,MATCH(A9,masterlist!$C$2:$C$200,0)),INDEX(masterlist!$L$2:$L$200,MATCH(A9,masterlist!$C$2:$C$200,0))),\"\")","v":"Monitoring and evaluation of dog population management programmes"},{"$f":"IFERROR(HYPERLINK(INDEX(masterlist!$O$2:$O$200,MATCH(A9,masterlist!$C$2:$C$200,0)),INDEX(masterlist!$N$2:$N$200,MATCH(A9,masterlist!$C$2:$C$200,0))),\"\")","v":"OIE-terrestrial code chapter 7.7"},{"$f":"IFERROR(HYPERLINK(VLOOKUP(A9,masterlist!$C$2:$Q$200,15,FALSE),VLOOKUP(A9,masterlist!$C$2:$Q$200,14,FALSE)),\"\")","v":0},{"$f":"IFERROR(HYPERLINK(VLOOKUP(A9,masterlist!$C$2:$S$200,17,FALSE),VLOOKUP(A9,masterlist!$C$2:$S$200,16,FALSE)),\"\")","v":0},{"$f":"IFERROR(HYPERLINK(VLOOKUP(A9,masterlist!$C$2:$U$200,19,FALSE),VLOOKUP(A9,masterlist!$C$2:$U$200,18,FALSE)),\"\")","v":0}]
[{"$f":"IFERROR(INDEX(masterlist!$A$2:$F$200,SMALL(IF(masterlist!$B$2:$B$200=\"DPM\",ROW(masterlist!$A$2:$F$200)-1),ROW(6:6)),3),\"\")","v":"DPM- -2-6"},{"$f":"IFERROR(INDEX(masterlist!$E$2:$E$200,MATCH(A10,masterlist!$C$2:$C$200,0)),\"\")","v":2},null,{"$f":"IFERROR(INDEX(masterlist!$G$2:$G$200,MATCH(A10,masterlist!$C$2:$C$200,0)),\"\")","v":"Has public sensitisation about DPM been built into rabies awareness campaigns at a local level?"},{"$f":"IFERROR(INDEX(masterlist!$H$2:$H$200,MATCH(A10,masterlist!$C$2:$C$200,0)),\"\")","v":" "},1,null,{"$f":"IFERROR(HYPERLINK(INDEX(masterlist!$M$2:$M$200,MATCH(A10,masterlist!$C$2:$C$200,0)),INDEX(masterlist!$L$2:$L$200,MATCH(A10,masterlist!$C$2:$C$200,0))),\"\")","v":0},{"$f":"IFERROR(HYPERLINK(INDEX(masterlist!$O$2:$O$200,MATCH(A10,masterlist!$C$2:$C$200,0)),INDEX(masterlist!$N$2:$N$200,MATCH(A10,masterlist!$C$2:$C$200,0))),\"\")","v":0},{"$f":"IFERROR(HYPERLINK(VLOOKUP(A10,masterlist!$C$2:$Q$200,15,FALSE),VLOOKUP(A10,masterlist!$C$2:$Q$200,14,FALSE)),\"\")","v":0},{"$f":"IFERROR(HYPERLINK(VLOOKUP(A10,masterlist!$C$2:$S$200,17,FALSE),VLOOKUP(A10,masterlist!$C$2:$S$200,16,FALSE)),\"\")","v":0},{"$f":"IFERROR(HYPERLINK(VLOOKUP(A10,masterlist!$C$2:$U$200,19,FALSE),VLOOKUP(A10,masterlist!$C$2:$U$200,18,FALSE)),\"\")","v":0}]
[{"$f":"IFERROR(INDEX(masterlist!$A$2:$F$200,SMALL(IF(masterlist!$B$2:$B$200=\"DPM\",ROW(masterlist!$A$2:$F$200)-1),ROW(7:7)),3),\"\")","v":"DPM- -2-7"},{"$f":"IFERROR(INDEX(masterlist!$E$2:$E$200,MATCH(A11,masterlist!$C$2:$C$200,0)),\"\")","v":2},null,{"$f":"IFERROR(INDEX(masterlist!$G$2:$G$200,MATCH(A11,masterlist!$C$2:$C$200,0)),\"\")","v":"Have training or refresher courses on responsible dog management been initiated for professionals in animal health at a local level?"},{"$f":"IFERROR(INDEX(masterlist!$H$2:$H$200,MATCH(A11,masterlist!$C$2:$C$200,0)),\"\")","v":" "},1,null,{"$f":"IFERROR(HYPERLINK(INDEX(masterlist!$M$2:$M$200,MATCH(A11,masterlist!$C$2:$C$200,0)),INDEX(masterlist!$L$2:$L$200,MATCH(A11,masterlist!$C$2:$C$200,0))),\"\")","v":"GARC Animal Handling and Vaccination course"},{"$f":"IFERROR(HYPERLINK(INDEX(masterlist!$O$2:$O$200,MATCH(A11,masterlist!$C$2:$C$200,0)),INDEX(masterlist!$N$2:$N$200,MATCH(A11,masterlist!$C$2:$C$200,0))),\"\")","v":0},{"$f":"IFERROR(HYPERLINK(VLOOKUP(A11,masterlist!$C$2:$Q$200,15,FALSE),VLOOKUP(A11,masterlist!$C$2:$Q$200,14,FALSE)),\"\")","v":0},{"$f":"IFERROR(HYPERLINK(VLOOKUP(A11,masterlist!$C$2:$S$200,17,FALSE),VLOOKUP(A11,masterlist!$C$2:$S$200,16,FALSE)),\"\")","v":0},{"$f":"IFERROR(HYPERLINK(VLOOKUP(A11,masterlist!$C$2:$U$200,19,FALSE),VLOOKUP(A11,masterlist!$C$2:$U$200,18,FALSE)),\"\")","v":0}]
[{"$f":"IFERROR(INDEX(masterlist!$A$2:$F$200,SMALL(IF(masterlist!$B$2:$B$200=\"DPM\",ROW(masterlist!$A$2:$F$200)-1),ROW(8:8)),3),\"\")","v":"DPM- -3-8"},{"$f":"IFERROR(INDEX(masterlist!$E$2:$E$200,MATCH(A12,masterlist!$C$2:$C$200,0)),\"\")","v":3},null,{"$f":"IFERROR(INDEX(masterlist!$G$2:$G$200,MATCH(A12,masterlist!$C$2:$C$200,0)),\"\")","v":"Has the DPM strategy been assessed and refined based on current dog ecology or KAP surveys done at a local level?"},{"$f":"IFERROR(INDEX(masterlist!$H$2:$H$200,MATCH(A12,masterlist!$C$2:$C$200,0)),\"\")","v":" "},1,null,{"$f":"IFERROR(HYPERLINK(INDEX(masterlist!$M$2:$M$200,MATCH(A12,masterlist!$C$2:$C$200,0)),INDEX(masterlist!$L$2:$L$200,MATCH(A12,masterlist!$C$2:$C$200,0))),\"\")","v":"Knowledge-Attitude-Practice"},{"$f":"IFERROR(HYPERLINK(INDEX(masterlist!$O$2:$O$200,MATCH(A12,masterlist!$C$2:$C$200,0)),INDEX(masterlist!$N$2:$N$200,MATCH(A12,masterlist!$C$2:$C$200,0))),\"\")","v":0},{"$f":"IFERROR(HYPERLINK(VLOOKUP(A12,masterlist!$C$2:$Q$200,15,FALSE),VLOOKUP(A12,masterlist!$C$2:$Q$200,14,FALSE)),\"\")","v":0},{"$f":"IFERROR(HYPERLINK(VLOOKUP(A12,masterlist!$C$2:$S$200,17,FALSE),VLOOKUP(A12,masterlist!$C$2:$S$200,16,FALSE)),\"\")","v":0},{"$f":"IFERROR(HYPERLINK(VLOOKUP(A12,masterlist!$C$2:$U$200,19,FALSE),VLOOKUP(A12,masterlist!$C$2:$U$200,18,FALSE)),\"\")","v":0}]
[{"$f":"IFERROR(INDEX(masterlist!$A$2:$F$200,SMALL(IF(masterlist!$B$2:$B$200=\"DPM\",ROW(masterlist!$A$2:$F$200)-1),ROW(9:9)),3),\"\")","v":"DPM- -3-9"},{"$f":"IFERROR(INDEX(masterlist!$E$2:$E$200,MATCH(A13,masterlist!$C$2:$C$200,0)),\"\")","v":3},null,{"$f":"IFERROR(INDEX(masterlist!$G$2:$G$200,MATCH(A13,masterlist!$C$2:$C$200,0)),\"\")","v":"Have rabies awareness campaigns, including responsible dog ownership, been expanded to more areas?"},{"$f":"IFERROR(INDEX(masterlist!$H$2:$H$200,MATCH(A13,masterlist!$C$2:$C$200,0)),\"\")","v":"Intended audience and areas covered\n"},1,null,{"$f":"IFERROR(HYPERLINK(INDEX(masterlist!$M$2:$M$200,MATCH(A13,masterlist!$C$2:$C$200,0)),INDEX(masterlist!$L$2:$L$200,MATCH(A13,masterlist!$C$2:$C$200,0))),\"\")","v":"Communication-plan"},{"$f":"IFERROR(HYPERLINK(INDEX(masterlist!$O$2:$O$200,MATCH(A13,masterlist!$C$2:$C$200,0)),INDEX(masterlist!$N$2:$N$200,MATCH(A13,masterlist!$C$2:$C$200,0))),\"\")","v":"5.4.16- dog-population-management"},{"$f":"IFERROR(HYPERLINK(VLOOKUP(A13,masterlist!$C$2:$Q$200,15,FALSE),VLOOKUP(A13,masterlist!$C$2:$Q$200,14,FALSE)),\"\")","v":0},{"$f":"IFERROR(HYPERLINK(VLOOKUP(A13,masterlist!$C$2:$S$200,17,FALSE),VLOOKUP(A13,masterlist!$C$2:$S$200,16,FALSE)),\"\")","v":0},{"$f":"IFERROR(HYPERLINK(VLOOKUP(A13,masterlist!$C$2:$U$200,19,FALSE),VLOOKUP(A13,masterlist!$C$2:$U$200,18,FALSE)),\"\")","v":0}]
[{"$f":"IFERROR(INDEX(masterlist!$A$2:$F$200,SMALL(IF(masterlist!$B$2:$B$200=\"DPM\",ROW(masterlist!$A$2:$F$200)-1),ROW(10:10)),3),\"\")","v":"DPM- -3-10"},{"$f":"IFERROR(INDEX(masterlist!$E$2:$E$200,MATCH(A14,masterlist!$C$2:$C$200,0)),\"\")","v":3},null,{"$f":"IFERROR(INDEX(masterlist!$G$2:$G$200,MATCH(A14,masterlist!$C$2:$C$200,0)),\"\")","v":"Has veterinary and animal technician training been completed across most of country?"},{"$f":"IFERROR(INDEX(masterlist!$H$2:$H$200,MATCH(A14,masterlist!$C$2:$C$200,0)),\"\")","v":" "},0,null,{"$f":"IFERROR(HYPERLINK(INDEX(masterlist!$M$2:$M$200,MATCH(A14,masterlist!$C$2:$C$200,0)),INDEX(masterlist!$L$2:$L$200,MATCH(A14,masterlist!$C$2:$C$200,0))),\"\")","v":0},{"$f":"IFERROR(HYPERLINK(INDEX(masterlist!$O$2:$O$200,MATCH(A14,masterlist!$C$2:$C$200,0)),INDEX(masterlist!$N$2:$N$200,MATCH(A14,masterlist!$C$2:$C$200,0))),\"\")","v":0},{"$f":"IFERROR(HYPERLINK(VLOOKUP(A14,masterlist!$C$2:$Q$200,15,FALSE),VLOOKUP(A14,masterlist!$C$2:$Q$200,14,FALSE)),\"\")","v":0},{"$f":"IFERROR(HYPERLINK(VLOOKUP(A14,masterlist!$C$2:$S$200,17,FALSE),VLOOKUP(A14,masterlist!$C$2:$S$200,16,FALSE)),\"\")","v":0},{"$f":"IFERROR(HYPERLINK(VLOOKUP(A14,masterlist!$C$2:$U$200,19,FALSE),VLOOKUP(A14,masterlist!$C$2:$U$200,18,FALSE)),\"\")","v":0}]
[{"$f":"IFERROR(INDEX(masterlist!$A$2:$F$200,SMALL(IF(masterlist!$B$2:$B$200=\"DPM\",ROW(masterlist!$A$2:$F$200)-1),ROW(11:11)),3),\"\")","v":"DPM- -5-11"},{"$f":"IFERROR(INDEX(masterlist!$E$2:$E$200,MATCH(A15,masterlist!$C$2:$C$200,0)),\"\")","v":5},null,{"$f":"IFERROR(INDEX(masterlist!$G$2:$G$200,MATCH(A15,masterlist!$C$2:$C$200,0)),\"\")","v":"Has the dog population management strategy been implemented nationwide?"},{"$f":"IFERROR(INDEX(masterlist!$H$2:$H$200,MATCH(A15,masterlist!$C$2:$C$200,0)),\"\")","v":"Areas covered"},0,null,{"$f":"IFERROR(HYPERLINK(INDEX(masterlist!$M$2:$M$200,MATCH(A15,masterlist!$C$2:$C$200,0)),INDEX(masterlist!$L$2:$L$200,MATCH(A15,masterlist!$C$2:$C$200,0))),\"\")","v":0},{"$f":"IFERROR(HYPERLINK(INDEX(masterlist!$O$2:$O$200,MATCH(A15,masterlist!$C$2:$C$200,0)),INDEX(masterlist!$N$2:$N$200,MATCH(A15,masterlist!$C$2:$C$200,0))),\"\")","v":0},{"$f":"IFERROR(HYPERLINK(VLOOKUP(A15,masterlist!$C$2:$Q$200,15,FALSE),VLOOKUP(A15,masterlist!$C$2:$Q$200,14,FALSE)),\"\")","v":0},{"$f":"IFERROR(HYPERLINK(VLOOKUP(A15,masterlist!$C$2:$S$200,17,FALSE),VLOOKUP(A15,masterlist!$C$2:$S$200,16,FALSE)),\"\")","v":0},{"$f":"IFERROR(HYPERLINK(VLOOKUP(A15,masterlist!$C$2:$U$200,19,FALSE),VLOOKUP(A15,masterlist!$C$2:$U$200,18,FALSE)),\"\")","v":0}]
[{"$f":"IFERROR(INDEX(masterlist!$A$2:$F$200,SMALL(IF(masterlist!$B$2:$B$200=\"DPM\",ROW(masterlist!$A$2:$F$200)-1),ROW(12:12)),3),\"\")","v":"DPM- -5-12"},{"$f":"IFERROR(INDEX(masterlist!$E$2:$E$200,MATCH(A16,masterlist!$C$2:$C$200,0)),\"\")","v":5},null,{"$f":"IFERROR(INDEX(masterlist!$G$2:$G$200,MATCH(A16,masterlist!$C$2:$C$200,0)),\"\")","v":"Have dog population management and responsible dog ownership campaigns been continued after the elimination of canine-mediated human rabies?"},{"$f":"IFERROR(INDEX(masterlist!$H$2:$H$200,MATCH(A16,masterlist!$C$2:$C$200,0)),\"\")","v":" "},0,null,{"$f":"IFERROR(HYPERLINK(INDEX(masterlist!$M$2:$M$200,MATCH(A16,masterlist!$C$2:$C$200,0)),INDEX(masterlist!$L$2:$L$200,MATCH(A16,masterlist!$C$2:$C$200,0))),\"\")","v":"Guidelines-dog-population-management"},{"$f":"IFERROR(HYPERLINK(INDEX(masterlist!$O$2:$O$200,MATCH(A16,masterlist!$C$2:$C$200,0)),INDEX(masterlist!$N$2:$N$200,MATCH(A16,masterlist!$C$2:$C$200,0))),\"\")","v":0},{"$f":"IFERROR(HYPERLINK(VLOOKUP(A16,masterlist!$C$2:$Q$200,15,FALSE),VLOOKUP(A16,masterlist!$C$2:$Q$200,14,FALSE)),\"\")","v":0},{"$f":"IFERROR(HYPERLINK(VLOOKUP(A16,masterlist!$C$2:$S$200,17,FALSE),VLOOKUP(A16,masterlist!$C$2:$S$200,16,FALSE)),\"\")","v":0},{"$f":"IFERROR(HYPERLINK(VLOOKUP(A16,masterlist!$C$2:$U$200,19,FALSE),VLOOKUP(A16,masterlist!$C$2:$U$200,18,FALSE)),\"\")","v":0}]
[{"$f":"IFERROR(INDEX(masterlist!$A$2:$F$200,SMALL(IF(masterlist!$B$2:$B$200=\"DPM\",ROW(masterlist!$A$2:$F$200)-1),ROW(13:13)),3),\"\")","v":""},{"$f":"IFERROR(INDEX(masterlist!$E$2:$E$200,MATCH(A17,masterlist!$C$2:$C$200,0)),\"\")","v":""},{"$f":"IFERROR(INDEX(masterlist!$D$2:$D$200,MATCH(A17,masterlist!$C$2:$C$200,0)),\"\")","v":""},{"$f":"IFERROR(INDEX(masterlist!$G$2:$G$200,MATCH(A17,masterlist!$C$2:$C$200,0)),\"\")","v":""},{"$f":"IFERROR(INDEX(masterlist!$H$2:$H$200,MATCH(A17,masterlist!$C$2:$C$200,0)),\"\")","v":""},null,null,{"$f":"IFERROR(HYPERLINK(INDEX(masterlist!$M$2:$M$200,MATCH(A17,masterlist!$C$2:$C$200,0)),INDEX(masterlist!$L$2:$L$200,MATCH(A17,masterlist!$C$2:$C$200,0))),\"\")","v":""},{"$f":"IFERROR(HYPERLINK(INDEX(masterlist!$O$2:$O$200,MATCH(A17,masterlist!$C$2:$C$200,0)),INDEX(masterlist!$N$2:$N$200,MATCH(A17,masterlist!$C$2:$C$200,0))),\"\")","v":""},{"$f":"IFERROR(HYPERLINK(VLOOKUP(A17,masterlist!$C$2:$Q$200,15,FALSE),VLOOKUP(A17,masterlist!$C$2:$Q$200,14,FALSE)),\"\")","v":""},{"$f":"IFERROR(HYPERLINK(VLOOKUP(A17,masterlist!$C$2:$S$200,17,FALSE),VLOOKUP(A17,masterlist!$C$2:$S$200,16,FALSE)),\"\")","v":""},{"$f":"IFERROR(HYPERLINK(VLOOKUP(A17,masterlist!$C$2:$U$200,19,FALSE),VLOOKUP(A17,masterlist!$C$2:$U$200,18,FALSE)),\"\")","v":""}]
[{"$f":"IFERROR(INDEX(masterlist!$A$2:$F$200,SMALL(IF(masterlist!$B$2:$B$200=\"DPM\",ROW(masterlist!$A$2:$F$200)-1),ROW(14:14)),3),\"\")","v":""},{"$f":"IFERROR(INDEX(masterlist!$E$2:$E$200,MATCH(A18,masterlist!$C$2:$C$200,0)),\"\")","v":""},{"$f":"IFERROR(INDEX(masterlist!$D$2:$D$200,MATCH(A18,masterlist!$C$2:$C$200,0)),\"\")","v":""},{"$f":"IFERROR(INDEX(masterlist!$G$2:$G$200,MATCH(A18,masterlist!$C$2:$C$200,0)),\"\")","v":""},{"$f":"IFERROR(INDEX(masterlist!$H$2:$H$200,MATCH(A18,masterlist!$C$2:$C$200,0)),\"\")","v":""},null,null,{"$f":"IFERROR(HYPERLINK(INDEX(masterlist!$M$2:$M$200,MATCH(A18,masterlist!$C$2:$C$200,0)),INDEX(masterlist!$L$2:$L$200,MATCH(A18,masterlist!$C$2:$C$200,0))),\"\")","v":""},{"$f":"IFERROR(HYPERLINK(INDEX(masterlist!$O$2:$O$200,MATCH(A18,masterlist!$C$2:$C$200,0)),INDEX(masterlist!$N$2:$N$200,MATCH(A18,masterlist!$C$2:$C$200,0))),\"\")","v":""},{"$f":"IFERROR(HYPERLINK(VLOOKUP(A18,masterlist!$C$2:$Q$200,15,FALSE),VLOOKUP(A18,masterlist!$C$2:$Q$200,14,FALSE)),\"\")","v":""},{"$f":"IFERROR(HYPERLINK(VLOOKUP(A18,masterlist!$C$2:$S$200,17,FALSE),VLOOKUP(A18,masterlist!$C$2:$S$200,16,FALSE)),\"\")","v":""},{"$f":"IFERROR(HYPERLINK(VLOOKUP(A18,masterlist!$C$2:$U$200,19,FALSE),VLOOKUP(A18,masterlist!$C$2:$U$200,18,FALSE)),\"\")","v":""}]
[{"$f":"IFERROR(INDEX(masterlist!$A$2:$F$200,SMALL(IF(masterlist!$B$2:$B$200=\"DPM\",ROW(masterlist!$A$2:$F$200)-1),ROW(15:15)),3),\"\")","v":""},{"$f":"IFERROR(INDEX(masterlist!$E$2:$E$200,MATCH(A19,masterlist!$C$2:$C$200,0)),\"\")","v":""},{"$f":"IFERROR(INDEX(masterlist!$D$2:$D$200,MATCH(A19,masterlist!$C$2:$C$200,0)),\"\")","v":""},{"$f":"IFERROR(INDEX(masterlist!$G$2:$G$200,MATCH(A19,masterlist!$C$2:$C$200,0)),\"\")","v":""},{"$f":"IFERROR(INDEX(masterlist!$H$2:$H$200,MATCH(A19,masterlist!$C$2:$C$200,0)),\"\")","v":""},null,null,{"$f":"IFERROR(HYPERLINK(INDEX(masterlist!$M$2:$M$200,MATCH(A19,masterlist!$C$2:$C$200,0)),INDEX(masterlist!$L$2:$L$200,MATCH(A19,masterlist!$C$2:$C$200,0))),\"\")","v":""},{"$f":"IFERROR(HYPERLINK(INDEX(masterlist!$O$2:$O$200,MATCH(A19,masterlist!$C$2:$C$200,0)),INDEX(masterlist!$N$2:$N$200,MATCH(A19,masterlist!$C$2:$C$200,0))),\"\")","v":""},{"$f":"IFERROR(HYPERLINK(VLOOKUP(A19,masterlist!$C$2:$Q$200,15,FALSE),VLOOKUP(A19,masterlist!$C$2:$Q$200,14,FALSE)),\"\")","v":""},{"$f":"IFERROR(HYPERLINK(VLOOKUP(A19,masterlist!$C$2:$S$200,17,FALSE),VLOOKUP(A19,masterlist!$C$2:$S$200,16,FALSE)),\"\")","v":""},{"$f":"IFERROR(HYPERLINK(VLOOKUP(A19,masterlist!$C$2:$U$200,19,FALSE),VLOOKUP(A19,masterlist!$C$2:$U$200,18,FALSE)),\"\")","v":""}]
[{"$f":"IFERROR(INDEX(masterlist!$A$2:$F$200,SMALL(IF(masterlist!$B$2:$B$200=\"DPM\",ROW(masterlist!$A$2:$F$200)-1),ROW(16:16)),3),\"\")","v":""},{"$f":"IFERROR(INDEX(masterlist!$E$2:$E$200,MATCH(A20,masterlist!$C$2:$C$200,0)),\"\")","v":""},{"$f":"IFERROR(INDEX(masterlist!$D$2:$D$200,MATCH(A20,masterlist!$C$2:$C$200,0)),\"\")","v":""},{"$f":"IFERROR(INDEX(masterlist!$G$2:$G$200,MATCH(A20,masterlist!$C$2:$C$200,0)),\"\")","v":""},{"$f":"IFERROR(INDEX(masterlist!$H$2:$H$200,MATCH(A20,masterlist!$C$2:$C$200,0)),\"\")","v":""},null,null,{"$f":"IFERROR(HYPERLINK(INDEX(masterlist!$M$2:$M$200,MATCH(A20,masterlist!$C$2:$C$200,0)),INDEX(masterlist!$L$2:$L$200,MATCH(A20,masterlist!$C$2:$C$200,0))),\"\")","v":""},{"$f":"IFERROR(HYPERLINK(INDEX(masterlist!$O$2:$O$200,MATCH(A20,masterlist!$C$2:$C$200,0)),INDEX(masterlist!$N$2:$N$200,MATCH(A20,masterlist!$C$2:$C$200,0))),\"\")","v":""},{"$f":"IFERROR(HYPERLINK(VLOOKUP(A20,masterlist!$C$2:$Q$200,15,FALSE),VLOOKUP(A20,masterlist!$C$2:$Q$200,14,FALSE)),\"\")","v":""},{"$f":"IFERROR(HYPERLINK(VLOOKUP(A20,masterlist!$C$2:$S$200,17,FALSE),VLOOKUP(A20,masterlist!$C$2:$S$200,16,FALSE)),\"\")","v":""},{"$f":"IFERROR(HYPERLINK(VLOOKUP(A20,masterlist!$C$2:$U$200,19,FALSE),VLOOKUP(A20,masterlist!$C$2:$U$200,18,FALSE)),\"\")","v":""}]
[{"$f":"IFERROR(INDEX(masterlist!$A$2:$F$200,SMALL(IF(masterlist!$B$2:$B$200=\"DPM\",ROW(masterlist!$A$2:$F$200)-1),ROW(17:17)),3),\"\")","v":""},{"$f":"IFERROR(INDEX(masterlist!$E$2:$E$200,MATCH(A21,masterlist!$C$2:$C$200,0)),\"\")","v":""},{"$f":"IFERROR(INDEX(masterlist!$D$2:$D$200,MATCH(A21,masterlist!$C$2:$C$200,0)),\"\")","v":""},{"$f":"IFERROR(INDEX(masterlist!$G$2:$G$200,MATCH(A21,masterlist!$C$2:$C$200,0)),\"\")","v":""},{"$f":"IFERROR(INDEX(masterlist!$H$2:$H$200,MATCH(A21,masterlist!$C$2:$C$200,0)),\"\")","v":""},null,null,{"$f":"IFERROR(HYPERLINK(INDEX(masterlist!$M$2:$M$200,MATCH(A21,masterlist!$C$2:$C$200,0)),INDEX(masterlist!$L$2:$L$200,MATCH(A21,masterlist!$C$2:$C$200,0))),\"\")","v":""},{"$f":"IFERROR(HYPERLINK(INDEX(masterlist!$O$2:$O$200,MATCH(A21,masterlist!$C$2:$C$200,0)),INDEX(masterlist!$N$2:$N$200,MATCH(A21,masterlist!$C$2:$C$200,0))),\"\")","v":""},{"$f":"IFERROR(HYPERLINK(VLOOKUP(A21,masterlist!$C$2:$Q$200,15,FALSE),VLOOKUP(A21,masterlist!$C$2:$Q$200,14,FALSE)),\"\")","v":""},{"$f":"IFERROR(HYPERLINK(VLOOKUP(A21,masterlist!$C$2:$S$200,17,FALSE),VLOOKUP(A21,masterlist!$C$2:$S$200,16,FALSE)),\"\")","v":""},{"$f":"IFERROR(HYPERLINK(VLOOKUP(A21,masterlist!$C$2:$U$200,19,FALSE),VLOOKUP(A21,masterlist!$C$2:$U$200,18,FALSE)),\"\")","v":""}]
[{"$f":"IFERROR(INDEX(masterlist!$A$2:$F$200,SMALL(IF(masterlist!$B$2:$B$200=\"DPM\",ROW(masterlist!$A$2:$F$200)-1),ROW(18:18)),3),\"\")","v":""},{"$f":"IFERROR(INDEX(masterlist!$E$2:$E$200,MATCH(A22,masterlist!$C$2:$C$200,0)),\"\")","v":""},{"$f":"IFERROR(INDEX(masterlist!$D$2:$D$200,MATCH(A22,masterlist!$C$2:$C$200,0)),\"\")","v":""},{"$f":"IFERROR(INDEX(masterlist!$G$2:$G$200,MATCH(A22,masterlist!$C$2:$C$200,0)),\"\")","v":""},{"$f":"IFERROR(INDEX(masterlist!$H$2:$H$200,MATCH(A22,masterlist!$C$2:$C$200,0)),\"\")","v":""},null,null,{"$f":"IFERROR(HYPERLINK(INDEX(masterlist!$M$2:$M$200,MATCH(A22,masterlist!$C$2:$C$200,0)),INDEX(masterlist!$L$2:$L$200,MATCH(A22,masterlist!$C$2:$C$200,0))),\"\")","v":""},{"$f":"IFERROR(HYPERLINK(INDEX(masterlist!$O$2:$O$200,MATCH(A22,masterlist!$C$2:$C$200,0)),INDEX(masterlist!$N$2:$N$200,MATCH(A22,masterlist!$C$2:$C$200,0))),\"\")","v":""},{"$f":"IFERROR(HYPERLINK(VLOOKUP(A22,masterlist!$C$2:$Q$200,15,FALSE),VLOOKUP(A22,masterlist!$C$2:$Q$200,14,FALSE)),\"\")","v":""},{"$f":"IFERROR(HYPERLINK(VLOOKUP(A22,masterlist!$C$2:$S$200,17,FALSE),VLOOKUP(A22,masterlist!$C$2:$S$200,16,FALSE)),\"\")","v":""},{"$f":"IFERROR(HYPERLINK(VLOOKUP(A22,masterlist!$C$2:$U$200,19,FALSE),VLOOKUP(A22,masterlist!$C$2:$U$200,18,FALSE)),\"\")","v":""}]
[{"$f":"IFERROR(INDEX(masterlist!$A$2:$F$200,SMALL(IF(masterlist!$B$2:$B$200=\"DPM\",ROW(masterlist!$A$2:$F$200)-1),ROW(19:19)),3),\"\")","v":""},{"$f":"IFERROR(INDEX(masterlist!$E$2:$E$200,MATCH(A23,masterlist!$C$2:$C$200,0)),\"\")","v":""},{"$f":"IFERROR(INDEX(masterlist!$D$2:$D$200,MATCH(A23,masterlist!$C$2:$C$200,0)),\"\")","v":""},{"$f":"IFERROR(INDEX(masterlist!$G$2:$G$200,MATCH(A23,masterlist!$C$2:$C$200,0)),\"\")","v":""},{"$f":"IFERROR(INDEX(masterlist!$H$2:$H$200,MATCH(A23,masterlist!$C$2:$C$200,0)),\"\")","v":""},null,null,{"$f":"IFERROR(HYPERLINK(INDEX(masterlist!$M$2:$M$200,MATCH(A23,masterlist!$C$2:$C$200,0)),INDEX(masterlist!$L$2:$L$200,MATCH(A23,masterlist!$C$2:$C$200,0))),\"\")","v":""},{"$f":"IFERROR(HYPERLINK(INDEX(masterlist!$O$2:$O$200,MATCH(A23,masterlist!$C$2:$C$200,0)),INDEX(masterlist!$N$2:$N$200,MATCH(A23,masterlist!$C$2:$C$200,0))),\"\")","v":""},{"$f":"IFERROR(HYPERLINK(VLOOKUP(A23,masterlist!$C$2:$Q$200,15,FALSE),VLOOKUP(A23,masterlist!$C$2:$Q$200,14,FALSE)),\"\")","v":""},{"$f":"IFERROR(HYPERLINK(VLOOKUP(A23,masterlist!$C$2:$S$200,17,FALSE),VLOOKUP(A23,masterlist!$C$2:$S$200,16,FALSE)),\"\")","v":""},{"$f":"IFERROR(HYPERLINK(VLOOKUP(A23,masterlist!$C$2:$U$200,19,FALSE),VLOOKUP(A23,masterlist!$C$2:$U$200,18,FALSE)),\"\")","v":""}]
[{"$f":"IFERROR(INDEX(masterlist!$A$2:$F$200,SMALL(IF(masterlist!$B$2:$B$200=\"DPM\",ROW(masterlist!$A$2:$F$200)-1),ROW(20:20)),3),\"\")","v":""},{"$f":"IFERROR(INDEX(masterlist!$E$2:$E$200,MATCH(A24,masterlist!$C$2:$C$200,0)),\"\")","v":""},{"$f":"IFERROR(INDEX(masterlist!$D$2:$D$200,MATCH(A24,masterlist!$C$2:$C$200,0)),\"\")","v":""},{"$f":"IFERROR(INDEX(masterlist!$G$2:$G$200,MATCH(A24,masterlist!$C$2:$C$200,0)),\"\")","v":""},{"$f":"IFERROR(INDEX(masterlist!$H$2:$H$200,MATCH(A24,masterlist!$C$2:$C$200,0)),\"\")","v":""},null,null,{"$f":"IFERROR(HYPERLINK(INDEX(masterlist!$M$2:$M$200,MATCH(A24,masterlist!$C$2:$C$200,0)),INDEX(masterlist!$L$2:$L$200,MATCH(A24,masterlist!$C$2:$C$200,0))),\"\")","v":""},{"$f":"IFERROR(HYPERLINK(INDEX(masterlist!$O$2:$O$200,MATCH(A24,masterlist!$C$2:$C$200,0)),INDEX(masterlist!$N$2:$N$200,MATCH(A24,masterlist!$C$2:$C$200,0))),\"\")","v":""},{"$f":"IFERROR(HYPERLINK(VLOOKUP(A24,masterlist!$C$2:$Q$200,15,FALSE),VLOOKUP(A24,masterlist!$C$2:$Q$200,14,FALSE)),\"\")","v":""},{"$f":"IFERROR(HYPERLINK(VLOOKUP(A24,masterlist!$C$2:$S$200,17,FALSE),VLOOKUP(A24,masterlist!$C$2:$S$200,16,FALSE)),\"\")","v":""},{"$f":"IFERROR(HYPERLINK(VLOOKUP(A24,masterlist!$C$2:$U$200,19,FALSE),VLOOKUP(A24,masterlist!$C$2:$U$200,18,FALSE)),\"\")","v":""}]
[{"$f":"IFERROR(INDEX(masterlist!$A$2:$F$200,SMALL(IF(masterlist!$B$2:$B$200=\"DPM\",ROW(masterlist!$A$2:$F$200)-1),ROW(21:21)),3),\"\")","v":""},{"$f":"IFERROR(INDEX(masterlist!$E$2:$E$200,MATCH(A25,masterlist!$C$2:$C$200,0)),\"\")","v":""},{"$f":"IFERROR(INDEX(masterlist!$D$2:$D$200,MATCH(A25,masterlist!$C$2:$C$200,0)),\"\")","v":""},{"$f":"IFERROR(INDEX(masterlist!$G$2:$G$200,MATCH(A25,masterlist!$C$2:$C$200,0)),\"\")","v":""},{"$f":"IFERROR(INDEX(masterlist!$H$2:$H$200,MATCH(A25,masterlist!$C$2:$C$200,0)),\"\")","v":""},null,null,{"$f":"IFERROR(HYPERLINK(INDEX(masterlist!$M$2:$M$200,MATCH(A25,masterlist!$C$2:$C$200,0)),INDEX(masterlist!$L$2:$L$200,MATCH(A25,masterlist!$C$2:$C$200,0))),\"\")","v":""},{"$f":"IFERROR(HYPERLINK(INDEX(masterlist!$O$2:$O$200,MATCH(A25,masterlist!$C$2:$C$200,0)),INDEX(masterlist!$N$2:$N$200,MATCH(A25,masterlist!$C$2:$C$200,0))),\"\")","v":""},{"$f":"IFERROR(HYPERLINK(VLOOKUP(A25,masterlist!$C$2:$Q$200,15,FALSE),VLOOKUP(A25,masterlist!$C$2:$Q$200,14,FALSE)),\"\")","v":""},{"$f":"IFERROR(HYPERLINK(VLOOKUP(A25,masterlist!$C$2:$S$200,17,FALSE),VLOOKUP(A25,masterlist!$C$2:$S$200,16,FALSE)),\"\")","v":""},{"$f":"IFERROR(HYPERLINK(VLOOKUP(A25,masterlist!$C$2:$U$200,19,FALSE),VLOOKUP(A25,masterlist!$C$2:$U$200,18,FALSE)),\"\")","v":""}]
[{"$f":"IFERROR(INDEX(masterlist!$A$2:$F$200,SMALL(IF(masterlist!$B$2:$B$200=\"DPM\",ROW(masterlist!$A$2:$F$200)-1),ROW(22:22)),3),\"\")","v":""},{"$f":"IFERROR(INDEX(masterlist!$E$2:$E$200,MATCH(A26,masterlist!$C$2:$C$200,0)),\"\")","v":""},{"$f":"IFERROR(INDEX(masterlist!$D$2:$D$200,MATCH(A26,masterlist!$C$2:$C$200,0)),\"\")","v":""},{"$f":"IFERROR(INDEX(masterlist!$G$2:$G$200,MATCH(A26,masterlist!$C$2:$C$200,0)),\"\")","v":""},{"$f":"IFERROR(INDEX(masterlist!$H$2:$H$200,MATCH(A26,masterlist!$C$2:$C$200,0)),\"\")","v":""},null,null,{"$f":"IFERROR(HYPERLINK(INDEX(masterlist!$M$2:$M$200,MATCH(A26,masterlist!$C$2:$C$200,0)),INDEX(masterlist!$L$2:$L$200,MATCH(A26,masterlist!$C$2:$C$200,0))),\"\")","v":""},{"$f":"IFERROR(HYPERLINK(INDEX(masterlist!$O$2:$O$200,MATCH(A26,masterlist!$C$2:$C$200,0)),INDEX(masterlist!$N$2:$N$200,MATCH(A26,masterlist!$C$2:$C$200,0))),\"\")","v":""},{"$f":"IFERROR(HYPERLINK(VLOOKUP(A26,masterlist!$C$2:$Q$200,15,FALSE),VLOOKUP(A26,masterlist!$C$2:$Q$200,14,FALSE)),\"\")","v":""},{"$f":"IFERROR(HYPERLINK(VLOOKUP(A26,masterlist!$C$2:$S$200,17,FALSE),VLOOKUP(A26,masterlist!$C$2:$S$200,16,FALSE)),\"\")","v":""},{"$f":"IFERROR(HYPERLINK(VLOOKUP(A26,masterlist!$C$2:$U$200,19,FALSE),VLOOKUP(A26,masterlist!$C$2:$U$200,18,FALSE)),\"\")","v":""}]
[{"$f":"IFERROR(INDEX(masterlist!$A$2:$F$200,SMALL(IF(masterlist!$B$2:$B$200=\"DPM\",ROW(masterlist!$A$2:$F$200)-1),ROW(23:23)),3),\"\")","v":""},{"$f":"IFERROR(INDEX(masterlist!$E$2:$E$200,MATCH(A27,masterlist!$C$2:$C$200,0)),\"\")","v":""},{"$f":"IFERROR(INDEX(masterlist!$D$2:$D$200,MATCH(A27,masterlist!$C$2:$C$200,0)),\"\")","v":""},{"$f":"IFERROR(INDEX(masterlist!$G$2:$G$200,MATCH(A27,masterlist!$C$2:$C$200,0)),\"\")","v":""},{"$f":"IFERROR(INDEX(masterlist!$H$2:$H$200,MATCH(A27,masterlist!$C$2:$C$200,0)),\"\")","v":""},null,null,{"$f":"IFERROR(HYPERLINK(INDEX(masterlist!$M$2:$M$200,MATCH(A27,masterlist!$C$2:$C$200,0)),INDEX(masterlist!$L$2:$L$200,MATCH(A27,masterlist!$C$2:$C$200,0))),\"\")","v":""},{"$f":"IFERROR(HYPERLINK(INDEX(masterlist!$O$2:$O$200,MATCH(A27,masterlist!$C$2:$C$200,0)),INDEX(masterlist!$N$2:$N$200,MATCH(A27,masterlist!$C$2:$C$200,0))),\"\")","v":""},{"$f":"IFERROR(HYPERLINK(VLOOKUP(A27,masterlist!$C$2:$Q$200,15,FALSE),VLOOKUP(A27,masterlist!$C$2:$Q$200,14,FALSE)),\"\")","v":""},{"$f":"IFERROR(HYPERLINK(VLOOKUP(A27,masterlist!$C$2:$S$200,17,FALSE),VLOOKUP(A27,masterlist!$C$2:$S$200,16,FALSE)),\"\")","v":""},{"$f":"IFERROR(HYPERLINK(VLOOKUP(A27,masterlist!$C$2:$U$200,19,FALSE),VLOOKUP(A27,masterlist!$C$2:$U$200,18,FALSE)),\"\")","v":""}]
[{"$f":"IFERROR(INDEX(masterlist!$A$2:$F$200,SMALL(IF(masterlist!$B$2:$B$200=\"DPM\",ROW(masterlist!$A$2:$F$200)-1),ROW(24:24)),3),\"\")","v":""},{"$f":"IFERROR(INDEX(masterlist!$E$2:$E$200,MATCH(A28,masterlist!$C$2:$C$200,0)),\"\")","v":""},{"$f":"IFERROR(INDEX(masterlist!$D$2:$D$200,MATCH(A28,masterlist!$C$2:$C$200,0)),\"\")","v":""},{"$f":"IFERROR(INDEX(masterlist!$G$2:$G$200,MATCH(A28,masterlist!$C$2:$C$200,0)),\"\")","v":""},{"$f":"IFERROR(INDEX(masterlist!$H$2:$H$200,MATCH(A28,masterlist!$C$2:$C$200,0)),\"\")","v":""},null,null,{"$f":"IFERROR(HYPERLINK(INDEX(masterlist!$M$2:$M$200,MATCH(A28,masterlist!$C$2:$C$200,0)),INDEX(masterlist!$L$2:$L$200,MATCH(A28,masterlist!$C$2:$C$200,0))),\"\")","v":""},{"$f":"IFERROR(HYPERLINK(INDEX(masterlist!$O$2:$O$200,MATCH(A28,masterlist!$C$2:$C$200,0)),INDEX(masterlist!$N$2:$N$200,MATCH(A28,masterlist!$C$2:$C$200,0))),\"\")","v":""},{"$f":"IFERROR(HYPERLINK(VLOOKUP(A28,masterlist!$C$2:$Q$200,15,FALSE),VLOOKUP(A28,masterlist!$C$2:$Q$200,14,FALSE)),\"\")","v":""},{"$f":"IFERROR(HYPERLINK(VLOOKUP(A28,masterlist!$C$2:$S$200,17,FALSE),VLOOKUP(A28,masterlist!$C$2:$S$200,16,FALSE)),\"\")","v":""},{"$f":"IFERROR(HYPERLINK(VLOOKUP(A28,masterlist!$C$2:$U$200,19,FALSE),VLOOKUP(A28,masterlist!$C$2:$U$200,18,FALSE)),\"\")","v":""}]
[{"$f":"IFERROR(INDEX(masterlist!$A$2:$F$200,SMALL(IF(masterlist!$B$2:$B$200=\"DPM\",ROW(masterlist!$A$2:$F$200)-1),ROW(25:25)),3),\"\")","v":""},{"$f":"IFERROR(INDEX(masterlist!$E$2:$E$200,MATCH(A29,masterlist!$C$2:$C$200,0)),\"\")","v":""},{"$f":"IFERROR(INDEX(masterlist!$D$2:$D$200,MATCH(A29,masterlist!$C$2:$C$200,0)),\"\")","v":""},{"$f":"IFERROR(INDEX(masterlist!$G$2:$G$200,MATCH(A29,masterlist!$C$2:$C$200,0)),\"\")","v":""},{"$f":"IFERROR(INDEX(masterlist!$H$2:$H$200,MATCH(A29,masterlist!$C$2:$C$200,0)),\"\")","v":""},null,null,{"$f":"IFERROR(HYPERLINK(INDEX(masterlist!$M$2:$M$200,MATCH(A29,masterlist!$C$2:$C$200,0)),INDEX(masterlist!$L$2:$L$200,MATCH(A29,masterlist!$C$2:$C$200,0))),\"\")","v":""},{"$f":"IFERROR(HYPERLINK(INDEX(masterlist!$O$2:$O$200,MATCH(A29,masterlist!$C$2:$C$200,0)),INDEX(masterlist!$N$2:$N$200,MATCH(A29,masterlist!$C$2:$C$200,0))),\"\")","v":""},{"$f":"IFERROR(HYPERLINK(VLOOKUP(A29,masterlist!$C$2:$Q$200,15,FALSE),VLOOKUP(A29,masterlist!$C$2:$Q$200,14,FALSE)),\"\")","v":""},{"$f":"IFERROR(HYPERLINK(VLOOKUP(A29,masterlist!$C$2:$S$200,17,FALSE),VLOOKUP(A29,masterlist!$C$2:$S$200,16,FALSE)),\"\")","v":""},{"$f":"IFERROR(HYPERLINK(VLOOKUP(A29,masterlist!$C$2:$U$200,19,FALSE),VLOOKUP(A29,masterlist!$C$2:$U$200,18,FALSE)),\"\")","v":""}]
[{"$f":"IFERROR(INDEX(masterlist!$A$2:$F$200,SMALL(IF(masterlist!$B$2:$B$200=\"DPM\",ROW(masterlist!$A$2:$F$200)-1),ROW(26:26)),3),\"\")","v":""},{"$f":"IFERROR(INDEX(masterlist!$E$2:$E$200,MATCH(A30,masterlist!$C$2:$C$200,0)),\"\")","v":""},{"$f":"IFERROR(INDEX(masterlist!$D$2:$D$200,MATCH(A30,masterlist!$C$2:$C$200,0)),\"\")","v":""},{"$f":"IFERROR(INDEX(masterlist!$G$2:$G$200,MATCH(A30,masterlist!$C$2:$C$200,0)),\"\")","v":""},{"$f":"IFERROR(INDEX(masterlist!$H$2:$H$200,MATCH(A30,masterlist!$C$2:$C$200,0)),\"\")","v":""},null,null,{"$f":"IFERROR(HYPERLINK(INDEX(masterlist!$M$2:$M$200,MATCH(A30,masterlist!$C$2:$C$200,0)),INDEX(masterlist!$L$2:$L$200,MATCH(A30,masterlist!$C$2:$C$200,0))),\"\")","v":""},{"$f":"IFERROR(HYPERLINK(INDEX(masterlist!$O$2:$O$200,MATCH(A30,masterlist!$C$2:$C$200,0)),INDEX(masterlist!$N$2:$N$200,MATCH(A30,masterlist!$C$2:$C$200,0))),\"\")","v":""},{"$f":"IFERROR(HYPERLINK(VLOOKUP(A30,masterlist!$C$2:$Q$200,15,FALSE),VLOOKUP(A30,masterlist!$C$2:$Q$200,14,FALSE)),\"\")","v":""},{"$f":"IFERROR(HYPERLINK(VLOOKUP(A30,masterlist!$C$2:$S$200,17,FALSE),VLOOKUP(A30,masterlist!$C$2:$S$200,16,FALSE)),\"\")","v":""},{"$f":"IFERROR(HYPERLINK(VLOOKUP(A30,masterlist!$C$2:$U$200,19,FALSE),VLOOKUP(A30,masterlist!$C$2:$U$200,18,FALSE)),\"\")","v":""}]
[{"$f":"IFERROR(INDEX(masterlist!$A$2:$F$200,SMALL(IF(masterlist!$B$2:$B$200=\"DPM\",ROW(masterlist!$A$2:$F$200)-1),ROW(27:27)),3),\"\")","v":""},{"$f":"IFERROR(INDEX(masterlist!$E$2:$E$200,MATCH(A31,masterlist!$C$2:$C$200,0)),\"\")","v":""},{"$f":"IFERROR(INDEX(masterlist!$D$2:$D$200,MATCH(A31,masterlist!$C$2:$C$200,0)),\"\")","v":""},{"$f":"IFERROR(INDEX(masterlist!$G$2:$G$200,MATCH(A31,masterlist!$C$2:$C$200,0)),\"\")","v":""},{"$f":"IFERROR(INDEX(masterlist!$H$2:$H$200,MATCH(A31,masterlist!$C$2:$C$200,0)),\"\")","v":""},null,null,{"$f":"IFERROR(HYPERLINK(INDEX(masterlist!$M$2:$M$200,MATCH(A31,masterlist!$C$2:$C$200,0)),INDEX(masterlist!$L$2:$L$200,MATCH(A31,masterlist!$C$2:$C$200,0))),\"\")","v":""},{"$f":"IFERROR(HYPERLINK(INDEX(masterlist!$O$2:$O$200,MATCH(A31,masterlist!$C$2:$C$200,0)),INDEX(masterlist!$N$2:$N$200,MATCH(A31,masterlist!$C$2:$C$200,0))),\"\")","v":""},{"$f":"IFERROR(HYPERLINK(VLOOKUP(A31,masterlist!$C$2:$Q$200,15,FALSE),VLOOKUP(A31,masterlist!$C$2:$Q$200,14,FALSE)),\"\")","v":""},{"$f":"IFERROR(HYPERLINK(VLOOKUP(A31,masterlist!$C$2:$S$200,17,FALSE),VLOOKUP(A31,masterlist!$C$2:$S$200,16,FALSE)),\"\")","v":""},{"$f":"IFERROR(HYPERLINK(VLOOKUP(A31,masterlist!$C$2:$U$200,19,FALSE),VLOOKUP(A31,masterlist!$C$2:$U$200,18,FALSE)),\"\")","v":""}]
[{"$f":"IFERROR(INDEX(masterlist!$A$2:$F$200,SMALL(IF(masterlist!$B$2:$B$200=\"DPM\",ROW(masterlist!$A$2:$F$200)-1),ROW(28:28)),3),\"\")","v":""},{"$f":"IFERROR(INDEX(masterlist!$E$2:$E$200,MATCH(A32,masterlist!$C$2:$C$200,0)),\"\")","v":""},{"$f":"IFERROR(INDEX(masterlist!$D$2:$D$200,MATCH(A32,masterlist!$C$2:$C$200,0)),\"\")","v":""},{"$f":"IFERROR(INDEX(masterlist!$G$2:$G$200,MATCH(A32,masterlist!$C$2:$C$200,0)),\"\")","v":""},{"$f":"IFERROR(INDEX(masterlist!$H$2:$H$200,MATCH(A32,masterlist!$C$2:$C$200,0)),\"\")","v":""},null,null,{"$f":"IFERROR(HYPERLINK(INDEX(masterlist!$M$2:$M$200,MATCH(A32,masterlist!$C$2:$C$200,0)),INDEX(masterlist!$L$2:$L$200,MATCH(A32,masterlist!$C$2:$C$200,0))),\"\")","v":""},{"$f":"IFERROR(HYPERLINK(INDEX(masterlist!$O$2:$O$200,MATCH(A32,masterlist!$C$2:$C$200,0)),INDEX(masterlist!$N$2:$N$200,MATCH(A32,masterlist!$C$2:$C$200,0))),\"\")","v":""},{"$f":"IFERROR(HYPERLINK(VLOOKUP(A32,masterlist!$C$2:$Q$200,15,FALSE),VLOOKUP(A32,masterlist!$C$2:$Q$200,14,FALSE)),\"\")","v":""},{"$f":"IFERROR(HYPERLINK(VLOOKUP(A32,masterlist!$C$2:$S$200,17,FALSE),VLOOKUP(A32,masterlist!$C$2:$S$200,16,FALSE)),\"\")","v":""},{"$f":"IFERROR(HYPERLINK(VLOOKUP(A32,masterlist!$C$2:$U$200,19,FALSE),VLOOKUP(A32,masterlist!$C$2:$U$200,18,FALSE)),\"\")","v":""}]
[{"$f":"IFERROR(INDEX(masterlist!$A$2:$F$200,SMALL(IF(masterlist!$B$2:$B$200=\"DPM\",ROW(masterlist!$A$2:$F$200)-1),ROW(29:29)),3),\"\")","v":""},{"$f":"IFERROR(INDEX(masterlist!$E$2:$E$200,MATCH(A33,masterlist!$C$2:$C$200,0)),\"\")","v":""},{"$f":"IFERROR(INDEX(masterlist!$D$2:$D$200,MATCH(A33,masterlist!$C$2:$C$200,0)),\"\")","v":""},{"$f":"IFERROR(INDEX(masterlist!$G$2:$G$200,MATCH(A33,masterlist!$C$2:$C$200,0)),\"\")","v":""},{"$f":"IFERROR(INDEX(masterlist!$H$2:$H$200,MATCH(A33,masterlist!$C$2:$C$200,0)),\"\")","v":""},null,null,{"$f":"IFERROR(HYPERLINK(INDEX(masterlist!$M$2:$M$200,MATCH(A33,masterlist!$C$2:$C$200,0)),INDEX(masterlist!$L$2:$L$200,MATCH(A33,masterlist!$C$2:$C$200,0))),\"\")","v":""},{"$f":"IFERROR(HYPERLINK(INDEX(masterlist!$O$2:$O$200,MATCH(A33,masterlist!$C$2:$C$200,0)),INDEX(masterlist!$N$2:$N$200,MATCH(A33,masterlist!$C$2:$C$200,0))),\"\")","v":""},{"$f":"IFERROR(HYPERLINK(VLOOKUP(A33,masterlist!$C$2:$Q$200,15,FALSE),VLOOKUP(A33,masterlist!$C$2:$Q$200,14,FALSE)),\"\")","v":""},{"$f":"IFERROR(HYPERLINK(VLOOKUP(A33,masterlist!$C$2:$S$200,17,FALSE),VLOOKUP(A33,masterlist!$C$2:$S$200,16,FALSE)),\"\")","v":""},{"$f":"IFERROR(HYPERLINK(VLOOKUP(A33,masterlist!$C$2:$U$200,19,FALSE),VLOOKUP(A33,masterlist!$C$2:$U$200,18,FALSE)),\"\")","v":""}]
[{"$f":"IFERROR(INDEX(masterlist!$A$2:$F$200,SMALL(IF(masterlist!$B$2:$B$200=\"DPM\",ROW(masterlist!$A$2:$F$200)-1),ROW(30:30)),3),\"\")","v":""},{"$f":"IFERROR(INDEX(masterlist!$E$2:$E$200,MATCH(A34,masterlist!$C$2:$C$200,0)),\"\")","v":""},{"$f":"IFERROR(INDEX(masterlist!$D$2:$D$200,MATCH(A34,masterlist!$C$2:$C$200,0)),\"\")","v":""},{"$f":"IFERROR(INDEX(masterlist!$G$2:$G$200,MATCH(A34,masterlist!$C$2:$C$200,0)),\"\")","v":""},{"$f":"IFERROR(INDEX(masterlist!$H$2:$H$200,MATCH(A34,masterlist!$C$2:$C$200,0)),\"\")","v":""},null,null,{"$f":"IFERROR(HYPERLINK(INDEX(masterlist!$M$2:$M$200,MATCH(A34,masterlist!$C$2:$C$200,0)),INDEX(masterlist!$L$2:$L$200,MATCH(A34,masterlist!$C$2:$C$200,0))),\"\")","v":""},{"$f":"IFERROR(HYPERLINK(INDEX(masterlist!$O$2:$O$200,MATCH(A34,masterlist!$C$2:$C$200,0)),INDEX(masterlist!$N$2:$N$200,MATCH(A34,masterlist!$C$2:$C$200,0))),\"\")","v":""},{"$f":"IFERROR(HYPERLINK(VLOOKUP(A34,masterlist!$C$2:$Q$200,15,FALSE),VLOOKUP(A34,masterlist!$C$2:$Q$200,14,FALSE)),\"\")","v":""},{"$f":"IFERROR(HYPERLINK(VLOOKUP(A34,masterlist!$C$2:$S$200,17,FALSE),VLOOKUP(A34,masterlist!$C$2:$S$200,16,FALSE)),\"\")","v":""},{"$f":"IFERROR(HYPERLINK(VLOOKUP(A34,masterlist!$C$2:$U$200,19,FALSE),VLOOKUP(A34,masterlist!$C$2:$U$200,18,FALSE)),\"\")","v":""}]
[{"$f":"IFERROR(INDEX(masterlist!$A$2:$F$200,SMALL(IF(masterlist!$B$2:$B$200=\"DPM\",ROW(masterlist!$A$2:$F$200)-1),ROW(31:31)),3),\"\")","v":""},{"$f":"IFERROR(INDEX(masterlist!$E$2:$E$200,MATCH(A35,masterlist!$C$2:$C$200,0)),\"\")","v":""},{"$f":"IFERROR(INDEX(masterlist!$D$2:$D$200,MATCH(A35,masterlist!$C$2:$C$200,0)),\"\")","v":""},{"$f":"IFERROR(INDEX(masterlist!$G$2:$G$200,MATCH(A35,masterlist!$C$2:$C$200,0)),\"\")","v":""},{"$f":"IFERROR(INDEX(masterlist!$H$2:$H$200,MATCH(A35,masterlist!$C$2:$C$200,0)),\"\")","v":""},null,null,{"$f":"IFERROR(HYPERLINK(INDEX(masterlist!$M$2:$M$200,MATCH(A35,masterlist!$C$2:$C$200,0)),INDEX(masterlist!$L$2:$L$200,MATCH(A35,masterlist!$C$2:$C$200,0))),\"\")","v":""},{"$f":"IFERROR(HYPERLINK(INDEX(masterlist!$O$2:$O$200,MATCH(A35,masterlist!$C$2:$C$200,0)),INDEX(masterlist!$N$2:$N$200,MATCH(A35,masterlist!$C$2:$C$200,0))),\"\")","v":""},{"$f":"IFERROR(HYPERLINK(VLOOKUP(A35,masterlist!$C$2:$Q$200,15,FALSE),VLOOKUP(A35,masterlist!$C$2:$Q$200,14,FALSE)),\"\")","v":""},{"$f":"IFERROR(HYPERLINK(VLOOKUP(A35,masterlist!$C$2:$S$200,17,FALSE),VLOOKUP(A35,masterlist!$C$2:$S$200,16,FALSE)),\"\")","v":""},{"$f":"IFERROR(HYPERLINK(VLOOKUP(A35,masterlist!$C$2:$U$200,19,FALSE),VLOOKUP(A35,masterlist!$C$2:$U$200,18,FALSE)),\"\")","v":""}]
[{"$f":"IFERROR(INDEX(masterlist!$A$2:$F$200,SMALL(IF(masterlist!$B$2:$B$200=\"DPM\",ROW(masterlist!$A$2:$F$200)-1),ROW(32:32)),3),\"\")","v":""},{"$f":"IFERROR(INDEX(masterlist!$E$2:$E$200,MATCH(A36,masterlist!$C$2:$C$200,0)),\"\")","v":""},{"$f":"IFERROR(INDEX(masterlist!$D$2:$D$200,MATCH(A36,masterlist!$C$2:$C$200,0)),\"\")","v":""},{"$f":"IFERROR(INDEX(masterlist!$G$2:$G$200,MATCH(A36,masterlist!$C$2:$C$200,0)),\"\")","v":""},{"$f":"IFERROR(INDEX(masterlist!$H$2:$H$200,MATCH(A36,masterlist!$C$2:$C$200,0)),\"\")","v":""},null,null,{"$f":"IFERROR(HYPERLINK(INDEX(masterlist!$M$2:$M$200,MATCH(A36,masterlist!$C$2:$C$200,0)),INDEX(masterlist!$L$2:$L$200,MATCH(A36,masterlist!$C$2:$C$200,0))),\"\")","v":""},{"$f":"IFERROR(HYPERLINK(INDEX(masterlist!$O$2:$O$200,MATCH(A36,masterlist!$C$2:$C$200,0)),INDEX(masterlist!$N$2:$N$200,MATCH(A36,masterlist!$C$2:$C$200,0))),\"\")","v":""},{"$f":"IFERROR(HYPERLINK(VLOOKUP(A36,masterlist!$C$2:$Q$200,15,FALSE),VLOOKUP(A36,masterlist!$C$2:$Q$200,14,FALSE)),\"\")","v":""},{"$f":"IFERROR(HYPERLINK(VLOOKUP(A36,masterlist!$C$2:$S$200,17,FALSE),VLOOKUP(A36,masterlist!$C$2:$S$200,16,FALSE)),\"\")","v":""},{"$f":"IFERROR(HYPERLINK(VLOOKUP(A36,masterlist!$C$2:$U$200,19,FALSE),VLOOKUP(A36,masterlist!$C$2:$U$200,18,FALSE)),\"\")","v":""}]
[{"$f":"IFERROR(INDEX(masterlist!$A$2:$F$200,SMALL(IF(masterlist!$B$2:$B$200=\"DPM\",ROW(masterlist!$A$2:$F$200)-1),ROW(33:33)),3),\"\")","v":""},{"$f":"IFERROR(INDEX(masterlist!$E$2:$E$200,MATCH(A37,masterlist!$C$2:$C$200,0)),\"\")","v":""},{"$f":"IFERROR(INDEX(masterlist!$D$2:$D$200,MATCH(A37,masterlist!$C$2:$C$200,0)),\"\")","v":""},{"$f":"IFERROR(INDEX(masterlist!$G$2:$G$200,MATCH(A37,masterlist!$C$2:$C$200,0)),\"\")","v":""},{"$f":"IFERROR(INDEX(masterlist!$H$2:$H$200,MATCH(A37,masterlist!$C$2:$C$200,0)),\"\")","v":""},null,null,{"$f":"IFERROR(HYPERLINK(INDEX(masterlist!$M$2:$M$200,MATCH(A37,masterlist!$C$2:$C$200,0)),INDEX(masterlist!$L$2:$L$200,MATCH(A37,masterlist!$C$2:$C$200,0))),\"\")","v":""},{"$f":"IFERROR(HYPERLINK(INDEX(masterlist!$O$2:$O$200,MATCH(A37,masterlist!$C$2:$C$200,0)),INDEX(masterlist!$N$2:$N$200,MATCH(A37,masterlist!$C$2:$C$200,0))),\"\")","v":""},{"$f":"IFERROR(HYPERLINK(VLOOKUP(A37,masterlist!$C$2:$Q$200,15,FALSE),VLOOKUP(A37,masterlist!$C$2:$Q$200,14,FALSE)),\"\")","v":""},{"$f":"IFERROR(HYPERLINK(VLOOKUP(A37,masterlist!$C$2:$S$200,17,FALSE),VLOOKUP(A37,masterlist!$C$2:$S$200,16,FALSE)),\"\")","v":""},{"$f":"IFERROR(HYPERLINK(VLOOKUP(A37,masterlist!$C$2:$U$200,19,FALSE),VLOOKUP(A37,masterlist!$C$2:$U$200,18,FALSE)),\"\")","v":""}]
[{"$f":"IFERROR(INDEX(masterlist!$A$2:$F$200,SMALL(IF(masterlist!$B$2:$B$200=\"DPM\",ROW(masterlist!$A$2:$F$200)-1),ROW(34:34)),3),\"\")","v":""},{"$f":"IFERROR(INDEX(masterlist!$E$2:$E$200,MATCH(A38,masterlist!$C$2:$C$200,0)),\"\")","v":""},{"$f":"IFERROR(INDEX(masterlist!$D$2:$D$200,MATCH(A38,masterlist!$C$2:$C$200,0)),\"\")","v":""},{"$f":"IFERROR(INDEX(masterlist!$G$2:$G$200,MATCH(A38,masterlist!$C$2:$C$200,0)),\"\")","v":""},{"$f":"IFERROR(INDEX(masterlist!$H$2:$H$200,MATCH(A38,masterlist!$C$2:$C$200,0)),\"\")","v":""},null,null,{"$f":"IFERROR(HYPERLINK(INDEX(masterlist!$M$2:$M$200,MATCH(A38,masterlist!$C$2:$C$200,0)),INDEX(masterlist!$L$2:$L$200,MATCH(A38,masterlist!$C$2:$C$200,0))),\"\")","v":""},{"$f":"IFERROR(HYPERLINK(INDEX(masterlist!$O$2:$O$200,MATCH(A38,masterlist!$C$2:$C$200,0)),INDEX(masterlist!$N$2:$N$200,MATCH(A38,masterlist!$C$2:$C$200,0))),\"\")","v":""},{"$f":"IFERROR(HYPERLINK(VLOOKUP(A38,masterlist!$C$2:$Q$200,15,FALSE),VLOOKUP(A38,masterlist!$C$2:$Q$200,14,FALSE)),\"\")","v":""},{"$f":"IFERROR(HYPERLINK(VLOOKUP(A38,masterlist!$C$2:$S$200,17,FALSE),VLOOKUP(A38,masterlist!$C$2:$S$200,16,FALSE)),\"\")","v":""},{"$f":"IFERROR(HYPERLINK(VLOOKUP(A38,masterlist!$C$2:$U$200,19,FALSE),VLOOKUP(A38,masterlist!$C$2:$U$200,18,FALSE)),\"\")","v":""}]
[{"$f":"IFERROR(INDEX(masterlist!$A$2:$F$200,SMALL(IF(masterlist!$B$2:$B$200=\"DPM\",ROW(masterlist!$A$2:$F$200)-1),ROW(35:35)),3),\"\")","v":""},{"$f":"IFERROR(INDEX(masterlist!$E$2:$E$200,MATCH(A39,masterlist!$C$2:$C$200,0)),\"\")","v":""},{"$f":"IFERROR(INDEX(masterlist!$D$2:$D$200,MATCH(A39,masterlist!$C$2:$C$200,0)),\"\")","v":""},{"$f":"IFERROR(INDEX(masterlist!$G$2:$G$200,MATCH(A39,masterlist!$C$2:$C$200,0)),\"\")","v":""},{"$f":"IFERROR(INDEX(masterlist!$H$2:$H$200,MATCH(A39,masterlist!$C$2:$C$200,0)),\"\")","v":""},null,null,{"$f":"IFERROR(HYPERLINK(INDEX(masterlist!$M$2:$M$200,MATCH(A39,masterlist!$C$2:$C$200,0)),INDEX(masterlist!$L$2:$L$200,MATCH(A39,masterlist!$C$2:$C$200,0))),\"\")","v":""},{"$f":"IFERROR(HYPERLINK(INDEX(masterlist!$O$2:$O$200,MATCH(A39,masterlist!$C$2:$C$200,0)),INDEX(masterlist!$N$2:$N$200,MATCH(A39,masterlist!$C$2:$C$200,0))),\"\")","v":""},{"$f":"IFERROR(HYPERLINK(VLOOKUP(A39,masterlist!$C$2:$Q$200,15,FALSE),VLOOKUP(A39,masterlist!$C$2:$Q$200,14,FALSE)),\"\")","v":""},{"$f":"IFERROR(HYPERLINK(VLOOKUP(A39,masterlist!$C$2:$S$200,17,FALSE),VLOOKUP(A39,masterlist!$C$2:$S$200,16,FALSE)),\"\")","v":""},{"$f":"IFERROR(HYPERLINK(VLOOKUP(A39,masterlist!$C$2:$U$200,19,FALSE),VLOOKUP(A39,masterlist!$C$2:$U$200,18,FALSE)),\"\")","v":""}]
[{"$f":"IFERROR(INDEX(masterlist!$A$2:$F$200,SMALL(IF(masterlist!$B$2:$B$200=\"DPM\",ROW(masterlist!$A$2:$F$200)-1),ROW(36:36)),3),\"\")","v":""},{"$f":"IFERROR(INDEX(masterlist!$E$2:$E$200,MATCH(A40,masterlist!$C$2:$C$200,0)),\"\")","v":""},{"$f":"IFERROR(INDEX(masterlist!$D$2:$D$200,MATCH(A40,masterlist!$C$2:$C$200,0)),\"\")","v":""},{"$f":"IFERROR(INDEX(masterlist!$G$2:$G$200,MATCH(A40,masterlist!$C$2:$C$200,0)),\"\")","v":""},{"$f":"IFERROR(INDEX(masterlist!$H$2:$H$200,MATCH(A40,masterlist!$C$2:$C$200,0)),\"\")","v":""},null,null,{"$f":"IFERROR(HYPERLINK(INDEX(masterlist!$M$2:$M$200,MATCH(A40,masterlist!$C$2:$C$200,0)),INDEX(masterlist!$L$2:$L$200,MATCH(A40,masterlist!$C$2:$C$200,0))),\"\")","v":""},{"$f":"IFERROR(HYPERLINK(INDEX(masterlist!$O$2:$O$200,MATCH(A40,masterlist!$C$2:$C$200,0)),INDEX(masterlist!$N$2:$N$200,MATCH(A40,masterlist!$C$2:$C$200,0))),\"\")","v":""},{"$f":"IFERROR(HYPERLINK(VLOOKUP(A40,masterlist!$C$2:$Q$200,15,FALSE),VLOOKUP(A40,masterlist!$C$2:$Q$200,14,FALSE)),\"\")","v":""},{"$f":"IFERROR(HYPERLINK(VLOOKUP(A40,masterlist!$C$2:$S$200,17,FALSE),VLOOKUP(A40,masterlist!$C$2:$S$200,16,FALSE)),\"\")","v":""},{"$f":"IFERROR(HYPERLINK(VLOOKUP(A40,masterlist!$C$2:$U$200,19,FALSE),VLOOKUP(A40,masterlist!$C$2:$U$200,18,FALSE)),\"\")","v":""}]
[{"$f":"IFERROR(INDEX(masterlist!$A$2:$F$200,SMALL(IF(masterlist!$B$2:$B$200=\"DPM\",ROW(masterlist!$A$2:$F$200)-1),ROW(37:37)),3),\"\")","v":""},{"$f":"IFERROR(INDEX(masterlist!$E$2:$E$200,MATCH(A41,masterlist!$C$2:$C$200,0)),\"\")","v":""},{"$f":"IFERROR(INDEX(masterlist!$D$2:$D$200,MATCH(A41,masterlist!$C$2:$C$200,0)),\"\")","v":""},{"$f":"IFERROR(INDEX(masterlist!$G$2:$G$200,MATCH(A41,masterlist!$C$2:$C$200,0)),\"\")","v":""},{"$f":"IFERROR(INDEX(masterlist!$H$2:$H$200,MATCH(A41,masterlist!$C$2:$C$200,0)),\"\")","v":""},null,null,{"$f":"IFERROR(HYPERLINK(INDEX(masterlist!$M$2:$M$200,MATCH(A41,masterlist!$C$2:$C$200,0)),INDEX(masterlist!$L$2:$L$200,MATCH(A41,masterlist!$C$2:$C$200,0))),\"\")","v":""},{"$f":"IFERROR(HYPERLINK(INDEX(masterlist!$O$2:$O$200,MATCH(A41,masterlist!$C$2:$C$200,0)),INDEX(masterlist!$N$2:$N$200,MATCH(A41,masterlist!$C$2:$C$200,0))),\"\")","v":""},{"$f":"IFERROR(HYPERLINK(VLOOKUP(A41,masterlist!$C$2:$Q$200,15,FALSE),VLOOKUP(A41,masterlist!$C$2:$Q$200,14,FALSE)),\"\")","v":""},{"$f":"IFERROR(HYPERLINK(VLOOKUP(A41,masterlist!$C$2:$S$200,17,FALSE),VLOOKUP(A41,masterlist!$C$2:$S$200,16,FALSE)),\"\")","v":""},{"$f":"IFERROR(HYPERLINK(VLOOKUP(A41,masterlist!$C$2:$U$200,19,FALSE),VLOOKUP(A41,masterlist!$C$2:$U$200,18,FALSE)),\"\")","v":""}]
[{"$f":"IFERROR(INDEX(masterlist!$A$2:$F$200,SMALL(IF(masterlist!$B$2:$B$200=\"DPM\",ROW(masterlist!$A$2:$F$200)-1),ROW(38:38)),3),\"\")","v":""},{"$f":"IFERROR(INDEX(masterlist!$E$2:$E$200,MATCH(A42,masterlist!$C$2:$C$200,0)),\"\")","v":""},{"$f":"IFERROR(INDEX(masterlist!$D$2:$D$200,MATCH(A42,masterlist!$C$2:$C$200,0)),\"\")","v":""},{"$f":"IFERROR(INDEX(masterlist!$G$2:$G$200,MATCH(A42,masterlist!$C$2:$C$200,0)),\"\")","v":""},{"$f":"IFERROR(INDEX(masterlist!$H$2:$H$200,MATCH(A42,masterlist!$C$2:$C$200,0)),\"\")","v":""},null,null,{"$f":"IFERROR(HYPERLINK(INDEX(masterlist!$M$2:$M$200,MATCH(A42,masterlist!$C$2:$C$200,0)),INDEX(masterlist!$L$2:$L$200,MATCH(A42,masterlist!$C$2:$C$200,0))),\"\")","v":""},{"$f":"IFERROR(HYPERLINK(INDEX(masterlist!$O$2:$O$200,MATCH(A42,masterlist!$C$2:$C$200,0)),INDEX(masterlist!$N$2:$N$200,MATCH(A42,masterlist!$C$2:$C$200,0))),\"\")","v":""},{"$f":"IFERROR(HYPERLINK(VLOOKUP(A42,masterlist!$C$2:$Q$200,15,FALSE),VLOOKUP(A42,masterlist!$C$2:$Q$200,14,FALSE)),\"\")","v":""},{"$f":"IFERROR(HYPERLINK(VLOOKUP(A42,masterlist!$C$2:$S$200,17,FALSE),VLOOKUP(A42,masterlist!$C$2:$S$200,16,FALSE)),\"\")","v":""},{"$f":"IFERROR(HYPERLINK(VLOOKUP(A42,masterlist!$C$2:$U$200,19,FALSE),VLOOKUP(A42,masterlist!$C$2:$U$200,18,FALSE)),\"\")","v":""}]
[{"$f":"IFERROR(INDEX(masterlist!$A$2:$F$200,SMALL(IF(masterlist!$B$2:$B$200=\"DPM\",ROW(masterlist!$A$2:$F$200)-1),ROW(39:39)),3),\"\")","v":""},{"$f":"IFERROR(INDEX(masterlist!$E$2:$E$200,MATCH(A43,masterlist!$C$2:$C$200,0)),\"\")","v":""},{"$f":"IFERROR(INDEX(masterlist!$D$2:$D$200,MATCH(A43,masterlist!$C$2:$C$200,0)),\"\")","v":""},{"$f":"IFERROR(INDEX(masterlist!$G$2:$G$200,MATCH(A43,masterlist!$C$2:$C$200,0)),\"\")","v":""},{"$f":"IFERROR(INDEX(masterlist!$H$2:$H$200,MATCH(A43,masterlist!$C$2:$C$200,0)),\"\")","v":""},null,null,{"$f":"IFERROR(HYPERLINK(INDEX(masterlist!$M$2:$M$200,MATCH(A43,masterlist!$C$2:$C$200,0)),INDEX(masterlist!$L$2:$L$200,MATCH(A43,masterlist!$C$2:$C$200,0))),\"\")","v":""},{"$f":"IFERROR(HYPERLINK(INDEX(masterlist!$O$2:$O$200,MATCH(A43,masterlist!$C$2:$C$200,0)),INDEX(masterlist!$N$2:$N$200,MATCH(A43,masterlist!$C$2:$C$200,0))),\"\")","v":""},{"$f":"IFERROR(HYPERLINK(VLOOKUP(A43,masterlist!$C$2:$Q$200,15,FALSE),VLOOKUP(A43,masterlist!$C$2:$Q$200,14,FALSE)),\"\")","v":""},{"$f":"IFERROR(HYPERLINK(VLOOKUP(A43,masterlist!$C$2:$S$200,17,FALSE),VLOOKUP(A43,masterlist!$C$2:$S$200,16,FALSE)),\"\")","v":""},{"$f":"IFERROR(HYPERLINK(VLOOKUP(A43,masterlist!$C$2:$U$200,19,FALSE),VLOOKUP(A43,masterlist!$C$2:$U$200,18,FALSE)),\"\")","v":""}]
[{"$f":"IFERROR(INDEX(masterlist!$A$2:$F$200,SMALL(IF(masterlist!$B$2:$B$200=\"DPM\",ROW(masterlist!$A$2:$F$200)-1),ROW(40:40)),3),\"\")","v":""},{"$f":"IFERROR(INDEX(masterlist!$E$2:$E$200,MATCH(A44,masterlist!$C$2:$C$200,0)),\"\")","v":""},{"$f":"IFERROR(INDEX(masterlist!$D$2:$D$200,MATCH(A44,masterlist!$C$2:$C$200,0)),\"\")","v":""},{"$f":"IFERROR(INDEX(masterlist!$G$2:$G$200,MATCH(A44,masterlist!$C$2:$C$200,0)),\"\")","v":""},{"$f":"IFERROR(INDEX(masterlist!$H$2:$H$200,MATCH(A44,masterlist!$C$2:$C$200,0)),\"\")","v":""},null,null,{"$f":"IFERROR(HYPERLINK(INDEX(masterlist!$M$2:$M$200,MATCH(A44,masterlist!$C$2:$C$200,0)),INDEX(masterlist!$L$2:$L$200,MATCH(A44,masterlist!$C$2:$C$200,0))),\"\")","v":""},{"$f":"IFERROR(HYPERLINK(INDEX(masterlist!$O$2:$O$200,MATCH(A44,masterlist!$C$2:$C$200,0)),INDEX(masterlist!$N$2:$N$200,MATCH(A44,masterlist!$C$2:$C$200,0))),\"\")","v":""},{"$f":"IFERROR(HYPERLINK(VLOOKUP(A44,masterlist!$C$2:$Q$200,15,FALSE),VLOOKUP(A44,masterlist!$C$2:$Q$200,14,FALSE)),\"\")","v":""},{"$f":"IFERROR(HYPERLINK(VLOOKUP(A44,masterlist!$C$2:$S$200,17,FALSE),VLOOKUP(A44,masterlist!$C$2:$S$200,16,FALSE)),\"\")","v":""},{"$f":"IFERROR(HYPERLINK(VLOOKUP(A44,masterlist!$C$2:$U$200,19,FALSE),VLOOKUP(A44,masterlist!$C$2:$U$200,18,FALSE)),\"\")","v":""}]
[{"$f":"IFERROR(INDEX(masterlist!$A$2:$F$200,SMALL(IF(masterlist!$B$2:$B$200=\"DPM\",ROW(masterlist!$A$2:$F$200)-1),ROW(41:41)),3),\"\")","v":""},{"$f":"IFERROR(INDEX(masterlist!$E$2:$E$200,MATCH(A45,masterlist!$C$2:$C$200,0)),\"\")","v":""},{"$f":"IFERROR(INDEX(masterlist!$D$2:$D$200,MATCH(A45,masterlist!$C$2:$C$200,0)),\"\")","v":""},{"$f":"IFERROR(INDEX(masterlist!$G$2:$G$200,MATCH(A45,masterlist!$C$2:$C$200,0)),\"\")","v":""},{"$f":"IFERROR(INDEX(masterlist!$H$2:$H$200,MATCH(A45,masterlist!$C$2:$C$200,0)),\"\")","v":""},null,null,{"$f":"IFERROR(HYPERLINK(INDEX(masterlist!$M$2:$M$200,MATCH(A45,masterlist!$C$2:$C$200,0)),INDEX(masterlist!$L$2:$L$200,MATCH(A45,masterlist!$C$2:$C$200,0))),\"\")","v":""},{"$f":"IFERROR(HYPERLINK(INDEX(masterlist!$O$2:$O$200,MATCH(A45,masterlist!$C$2:$C$200,0)),INDEX(masterlist!$N$2:$N$200,MATCH(A45,masterlist!$C$2:$C$200,0))),\"\")","v":""},{"$f":"IFERROR(HYPERLINK(VLOOKUP(A45,masterlist!$C$2:$Q$200,15,FALSE),VLOOKUP(A45,masterlist!$C$2:$Q$200,14,FALSE)),\"\")","v":""},{"$f":"IFERROR(HYPERLINK(VLOOKUP(A45,masterlist!$C$2:$S$200,17,FALSE),VLOOKUP(A45,masterlist!$C$2:$S$200,16,FALSE)),\"\")","v":""},{"$f":"IFERROR(HYPERLINK(VLOOKUP(A45,masterlist!$C$2:$U$200,19,FALSE),VLOOKUP(A45,masterlist!$C$2:$U$200,18,FALSE)),\"\")","v":""}]
[{"$f":"IFERROR(INDEX(masterlist!$A$2:$F$200,SMALL(IF(masterlist!$B$2:$B$200=\"DPM\",ROW(masterlist!$A$2:$F$200)-1),ROW(42:42)),3),\"\")","v":""},{"$f":"IFERROR(INDEX(masterlist!$E$2:$E$200,MATCH(A46,masterlist!$C$2:$C$200,0)),\"\")","v":""},{"$f":"IFERROR(INDEX(masterlist!$D$2:$D$200,MATCH(A46,masterlist!$C$2:$C$200,0)),\"\")","v":""},{"$f":"IFERROR(INDEX(masterlist!$G$2:$G$200,MATCH(A46,masterlist!$C$2:$C$200,0)),\"\")","v":""},{"$f":"IFERROR(INDEX(masterlist!$H$2:$H$200,MATCH(A46,masterlist!$C$2:$C$200,0)),\"\")","v":""},null,null,{"$f":"IFERROR(HYPERLINK(INDEX(masterlist!$M$2:$M$200,MATCH(A46,masterlist!$C$2:$C$200,0)),INDEX(masterlist!$L$2:$L$200,MATCH(A46,masterlist!$C$2:$C$200,0))),\"\")","v":""},{"$f":"IFERROR(HYPERLINK(INDEX(masterlist!$O$2:$O$200,MATCH(A46,masterlist!$C$2:$C$200,0)),INDEX(masterlist!$N$2:$N$200,MATCH(A46,masterlist!$C$2:$C$200,0))),\"\")","v":""},{"$f":"IFERROR(HYPERLINK(VLOOKUP(A46,masterlist!$C$2:$Q$200,15,FALSE),VLOOKUP(A46,masterlist!$C$2:$Q$200,14,FALSE)),\"\")","v":""},{"$f":"IFERROR(HYPERLINK(VLOOKUP(A46,masterlist!$C$2:$S$200,17,FALSE),VLOOKUP(A46,masterlist!$C$2:$S$200,16,FALSE)),\"\")","v":""},{"$f":"IFERROR(HYPERLINK(VLOOKUP(A46,masterlist!$C$2:$U$200,19,FALSE),VLOOKUP(A46,masterlist!$C$2:$U$200,18,FALSE)),\"\")","v":""}]
[{"$f":"IFERROR(INDEX(masterlist!$A$2:$F$200,SMALL(IF(masterlist!$B$2:$B$200=\"DPM\",ROW(masterlist!$A$2:$F$200)-1),ROW(43:43)),3),\"\")","v":""},{"$f":"IFERROR(INDEX(masterlist!$E$2:$E$200,MATCH(A47,masterlist!$C$2:$C$200,0)),\"\")","v":""},{"$f":"IFERROR(INDEX(masterlist!$D$2:$D$200,MATCH(A47,masterlist!$C$2:$C$200,0)),\"\")","v":""},{"$f":"IFERROR(INDEX(masterlist!$G$2:$G$200,MATCH(A47,masterlist!$C$2:$C$200,0)),\"\")","v":""},{"$f":"IFERROR(INDEX(masterlist!$H$2:$H$200,MATCH(A47,masterlist!$C$2:$C$200,0)),\"\")","v":""},null,null,{"$f":"IFERROR(HYPERLINK(INDEX(masterlist!$M$2:$M$200,MATCH(A47,masterlist!$C$2:$C$200,0)),INDEX(masterlist!$L$2:$L$200,MATCH(A47,masterlist!$C$2:$C$200,0))),\"\")","v":""},{"$f":"IFERROR(HYPERLINK(INDEX(masterlist!$O$2:$O$200,MATCH(A47,masterlist!$C$2:$C$200,0)),INDEX(masterlist!$N$2:$N$200,MATCH(A47,masterlist!$C$2:$C$200,0))),\"\")","v":""},{"$f":"IFERROR(HYPERLINK(VLOOKUP(A47,masterlist!$C$2:$Q$200,15,FALSE),VLOOKUP(A47,masterlist!$C$2:$Q$200,14,FALSE)),\"\")","v":""},{"$f":"IFERROR(HYPERLINK(VLOOKUP(A47,masterlist!$C$2:$S$200,17,FALSE),VLOOKUP(A47,masterlist!$C$2:$S$200,16,FALSE)),\"\")","v":""},{"$f":"IFERROR(HYPERLINK(VLOOKUP(A47,masterlist!$C$2:$U$200,19,FALSE),VLOOKUP(A47,masterlist!$C$2:$U$200,18,FALSE)),\"\")","v":""}]
[{"$f":"IFERROR(INDEX(masterlist!$A$2:$F$200,SMALL(IF(masterlist!$B$2:$B$200=\"DPM\",ROW(masterlist!$A$2:$F$200)-1),ROW(44:44)),3),\"\")","v":""},{"$f":"IFERROR(INDEX(masterlist!$E$2:$E$200,MATCH(A48,masterlist!$C$2:$C$200,0)),\"\")","v":""},{"$f":"IFERROR(INDEX(masterlist!$D$2:$D$200,MATCH(A48,masterlist!$C$2:$C$200,0)),\"\")","v":""},{"$f":"IFERROR(INDEX(masterlist!$G$2:$G$200,MATCH(A48,masterlist!$C$2:$C$200,0)),\"\")","v":""},{"$f":"IFERROR(INDEX(masterlist!$H$2:$H$200,MATCH(A48,masterlist!$C$2:$C$200,0)),\"\")","v":""},null,null,{"$f":"IFERROR(HYPERLINK(INDEX(masterlist!$M$2:$M$200,MATCH(A48,masterlist!$C$2:$C$200,0)),INDEX(masterlist!$L$2:$L$200,MATCH(A48,masterlist!$C$2:$C$200,0))),\"\")","v":""},{"$f":"IFERROR(HYPERLINK(INDEX(masterlist!$O$2:$O$200,MATCH(A48,masterlist!$C$2:$C$200,0)),INDEX(masterlist!$N$2:$N$200,MATCH(A48,masterlist!$C$2:$C$200,0))),\"\")","v":""},{"$f":"IFERROR(HYPERLINK(VLOOKUP(A48,masterlist!$C$2:$Q$200,15,FALSE),VLOOKUP(A48,masterlist!$C$2:$Q$200,14,FALSE)),\"\")","v":""},{"$f":"IFERROR(HYPERLINK(VLOOKUP(A48,masterlist!$C$2:$S$200,17,FALSE),VLOOKUP(A48,masterlist!$C$2:$S$200,16,FALSE)),\"\")","v":""},{"$f":"IFERROR(HYPERLINK(VLOOKUP(A48,masterlist!$C$2:$U$200,19,FALSE),VLOOKUP(A48,masterlist!$C$2:$U$200,18,FALSE)),\"\")","v":""}]
[{"$f":"IFERROR(INDEX(masterlist!$A$2:$F$200,SMALL(IF(masterlist!$B$2:$B$200=\"DPM\",ROW(masterlist!$A$2:$F$200)-1),ROW(45:45)),3),\"\")","v":""},{"$f":"IFERROR(INDEX(masterlist!$E$2:$E$200,MATCH(A49,masterlist!$C$2:$C$200,0)),\"\")","v":""},{"$f":"IFERROR(INDEX(masterlist!$D$2:$D$200,MATCH(A49,masterlist!$C$2:$C$200,0)),\"\")","v":""},{"$f":"IFERROR(INDEX(masterlist!$G$2:$G$200,MATCH(A49,masterlist!$C$2:$C$200,0)),\"\")","v":""},{"$f":"IFERROR(INDEX(masterlist!$H$2:$H$200,MATCH(A49,masterlist!$C$2:$C$200,0)),\"\")","v":""},null,null,{"$f":"IFERROR(HYPERLINK(INDEX(masterlist!$M$2:$M$200,MATCH(A49,masterlist!$C$2:$C$200,0)),INDEX(masterlist!$L$2:$L$200,MATCH(A49,masterlist!$C$2:$C$200,0))),\"\")","v":""},{"$f":"IFERROR(HYPERLINK(INDEX(masterlist!$O$2:$O$200,MATCH(A49,masterlist!$C$2:$C$200,0)),INDEX(masterlist!$N$2:$N$200,MATCH(A49,masterlist!$C$2:$C$200,0))),\"\")","v":""},{"$f":"IFERROR(HYPERLINK(VLOOKUP(A49,masterlist!$C$2:$Q$200,15,FALSE),VLOOKUP(A49,masterlist!$C$2:$Q$200,14,FALSE)),\"\")","v":""},{"$f":"IFERROR(HYPERLINK(VLOOKUP(A49,masterlist!$C$2:$S$200,17,FALSE),VLOOKUP(A49,masterlist!$C$2:$S$200,16,FALSE)),\"\")","v":""},{"$f":"IFERROR(HYPERLINK(VLOOKUP(A49,masterlist!$C$2:$U$200,19,FALSE),VLOOKUP(A49,masterlist!$C$2:$U$200,18,FALSE)),\"\")","v":""}]
[{"$f":"IFERROR(INDEX(masterlist!$A$2:$F$200,SMALL(IF(masterlist!$B$2:$B$200=\"DPM\",ROW(masterlist!$A$2:$F$200)-1),ROW(46:46)),3),\"\")","v":""},{"$f":"IFERROR(INDEX(masterlist!$E$2:$E$200,MATCH(A50,masterlist!$C$2:$C$200,0)),\"\")","v":""},{"$f":"IFERROR(INDEX(masterlist!$D$2:$D$200,MATCH(A50,masterlist!$C$2:$C$200,0)),\"\")","v":""},{"$f":"IFERROR(INDEX(masterlist!$G$2:$G$200,MATCH(A50,masterlist!$C$2:$C$200,0)),\"\")","v":""},{"$f":"IFERROR(INDEX(masterlist!$H$2:$H$200,MATCH(A50,masterlist!$C$2:$C$200,0)),\"\")","v":""},null,null,{"$f":"IFERROR(HYPERLINK(INDEX(masterlist!$M$2:$M$200,MATCH(A50,masterlist!$C$2:$C$200,0)),INDEX(masterlist!$L$2:$L$200,MATCH(A50,masterlist!$C$2:$C$200,0))),\"\")","v":""},{"$f":"IFERROR(HYPERLINK(INDEX(masterlist!$O$2:$O$200,MATCH(A50,masterlist!$C$2:$C$200,0)),INDEX(masterlist!$N$2:$N$200,MATCH(A50,masterlist!$C$2:$C$200,0))),\"\")","v":""},{"$f":"IFERROR(HYPERLINK(VLOOKUP(A50,masterlist!$C$2:$Q$200,15,FALSE),VLOOKUP(A50,masterlist!$C$2:$Q$200,14,FALSE)),\"\")","v":""},{"$f":"IFERROR(HYPERLINK(VLOOKUP(A50,masterlist!$C$2:$S$200,17,FALSE),VLOOKUP(A50,masterlist!$C$2:$S$200,16,FALSE)),\"\")","v":""},{"$f":"IFERROR(HYPERLINK(VLOOKUP(A50,masterlist!$C$2:$U$200,19,FALSE),VLOOKUP(A50,masterlist!$C$2:$U$200,18,FALSE)),\"\")","v":""}]

{"sheet":"IEC","index":10,"n_rows":50,"n_cols":12,"rows_kept":50,"cut":false,"hidden":true,"merged":[[3,7,3,8]]}
[]
[null,"Instructions: Enter \"0\" under Status if No or None, or \"1\" if Yes"]
[]
[null,"STAGE","subcomponent","ACHIEVEMENTS / ACTIVITIES","OTHER IMPORTANT INFORMATION\n(please include in REMARKS)","STATUS","REMARKS","Rabies Blueprint references and other links"]
[{"$f":"IFERROR(INDEX(masterlist!$A$2:$F$200,SMALL(IF(masterlist!$B$2:$B$200=\"IEC\",ROW(masterlist!$A$2:$F$200)-1),ROW(1:1)),3),\"\")","v":"IEC-Pub-1-1"},{"$f":"IFERROR(INDEX(masterlist!$E$2:$E$200,MATCH(A5,masterlist!$C$2:$C$200,0)),\"\")","v":1},{"$f":"IFERROR(INDEX(masterlist!$D$2:$D$200,MATCH(A5,masterlist!$C$2:$C$200,0)),\"\")","v":"Public awareness"},{"$f":"IFERROR(INDEX(masterlist!$G$2:$G$200,MATCH(A5,masterlist!$C$2:$C$200,0)),\"\")","v":"Have the target audiences been identified at a local level (e.g. at-risk communities, dog owners, children)?"},{"$f":"IFERROR(INDEX(masterlist!$H$2:$H$200,MATCH(A5,masterlist!$C$2:$C$200,0)),\"\")","v":" "},1,null,{"$f":"IFERROR(HYPERLINK(INDEX(masterlist!$M$2:$M$200,MATCH(A5,masterlist!$C$2:$C$200,0)),INDEX(masterlist!$L$2:$L$200,MATCH(A5,masterlist!$C$2:$C$200,0))),\"\")","v":"4.2.3 Understanding who needs to be involved"},{"$f":"IFERROR(HYPERLINK(INDEX(masterlist!$O$2:$O$200,MATCH(A5,masterlist!$C$2:$C$200,0)),INDEX(masterlist!$N$2:$N$200,MATCH(A5,masterlist!$C$2:$C$200,0))),\"\")","v":0},{"$f":"IFERROR(HYPERLINK(INDEX(masterlist!$Q$2:$Q$200,MATCH(A5,masterlist!$C$2:$C$200,0)),INDEX(masterlist!$P$2:$P$200,MATCH(A5,masterlist!$C$2:$C$200,0))),\"\")","v":0},{"$f":"IFERROR(HYPERLINK(INDEX(masterlist!$S$2:$S$200,MATCH(A5,masterlist!$C$2:$C$200,0)),INDEX(masterlist!$R$2:$R$200,MATCH(A5,masterlist!$C$2:$C$200,0))),\"\")","v":0},{"$f":"IFERROR(HYPERLINK(INDEX(masterlist!$U$2:$U$200,MATCH(A5,masterlist!$C$2:$C$200,0)),INDEX(masterlist!$T$2:$T$200,MATCH(A5,masterlist!$C$2:$C$200,0))),\"\")","v":0}]
[{"$f":"IFERROR(INDEX(masterlist!$A$2:$F$200,SMALL(IF(masterlist!$B$2:$B$200=\"IEC\",ROW(masterlist!$A$2:$F$200)-1),ROW(2:2)),3),\"\")","v":"IEC-Pub-1-2"},{"$f":"IFERROR(INDEX(masterlist!$E$2:$E$200,MATCH(A6,masterlist!$C$2:$C$200,0)),\"\")","v":1},{"$f":"IFERROR(INDEX(masterlist!$D$2:$D$200,MATCH(A6,masterlist!$C$2:$C$200,0)),\"\")","v":"Public awareness"},{"$f":"IFERROR(INDEX(masterlist!$G$2:$G$200,MATCH(A6,masterlist!$C$2:$C$200,0)),\"\")","v":"Has an assessment been done to determine what message should be communicated to the target audience at a local level?"},{"$f":"IFERROR(INDEX(masterlist!$H$2:$H$200,MATCH(A6,masterlist!$C$2:$C$200,0)),\"\")","v":"Determine who the target audience is and what message is appropriate to them. For example, through focus groups or surveys. "},1,null,{"$f":"IFERROR(HYPERLINK(INDEX(masterlist!$M$2:$M$200,MATCH(A6,masterlist!$C$2:$C$200,0)),INDEX(masterlist!$L$2:$L$200,MATCH(A6,masterlist!$C$2:$C$200,0))),\"\")","v":"Examples of KAP surveys"},{"$f":"IFERROR(HYPERLINK(INDEX(masterlist!$O$2:$O$200,MATCH(A6,masterlist!$C$2:$C$200,0)),INDEX(masterlist!$N$2:$N$200,MATCH(A6,masterlist!$C$2:$C$200,0))),\"\")","v":0},{"$f":"IFERROR(HYPERLINK(INDEX(masterlist!$Q$2:$Q$200,MATCH(A6,masterlist!$C$2:$C$200,0)),INDEX(masterlist!$P$2:$P$200,MATCH(A6,masterlist!$C$2:$C$200,0))),\"\")","v":0},{"$f":"IFERROR(HYPERLINK(INDEX(masterlist!$S$2:$S$200,MATCH(A6,masterlist!$C$2:$C$200,0)),INDEX(masterlist!$R$2:$R$200,MATCH(A6,masterlist!$C$2:$C$200,0))),\"\")","v":0},{"$f":"IFERROR(HYPERLINK(INDEX(masterlist!$U$2:$U$200,MATCH(A6,masterlist!$C$2:$C$200,0)),INDEX(masterlist!$T$2:$T$200,MATCH(A6,masterlist!$C$2:$C$200,0))),\"\")","v":0}]
[{"$f":"IFERROR(INDEX(masterlist!$A$2:$F$200,SMALL(IF(masterlist!$B$2:$B$200=\"IEC\",ROW(masterlist!$A$2:$F$200)-1),ROW(3:3)),3),\"\")","v":"IEC-Pub-1-3"},{"$f":"IFERROR(INDEX(masterlist!$E$2:$E$200,MATCH(A7,masterlist!$C$2:$C$200,0)),\"\")","v":1},{"$f":"IFERROR(INDEX(masterlist!$D$2:$D$200,MATCH(A7,masterlist!$C$2:$C$200,0)),\"\")","v":"Public awareness"},{"$f":"IFERROR(INDEX(masterlist!$G$2:$G$200,MATCH(A7,masterlist!$C$2:$C$200,0)),\"\")","v":"Has an IEC plan* been developed and implemented on a small scale?"},{"$f":"IFERROR(INDEX(masterlist!$H$2:$H$200,MATCH(A7,masterlist!$C$2:$C$200,0)),\"\")","v":"Main messages and intended audiences (e.g. responsible dog ownership, rabies and bite prevention and management, and any other relevant messages for audiences such as dog owners, teachers, children, etc.)"},1,null,{"$f":"IFERROR(HYPERLINK(INDEX(masterlist!$M$2:$M$200,MATCH(A7,masterlist!$C$2:$C$200,0)),INDEX(masterlist!$L$2:$L$200,MATCH(A7,masterlist!$C$2:$C$200,0))),\"\")","v":"Communication-plan"},{"$f":"IFERROR(HYPERLINK(INDEX(masterlist!$O$2:$O$200,MATCH(A7,masterlist!$C$2:$C$200,0)),INDEX(masterlist!$N$2:$N$200,MATCH(A7,masterlist!$C$2:$C$200,0))),\"\")","v":"5.4.7-Awareness-campaign"},{"$f":"IFERROR(HYPERLINK(INDEX(masterlist!$Q$2:$Q$200,MATCH(A7,masterlist!$C$2:$C$200,0)),INDEX(masterlist!$P$2:$P$200,MATCH(A7,masterlist!$C$2:$C$200,0))),\"\")","v":0},{"$f":"IFERROR(HYPERLINK(INDEX(masterlist!$S$2:$S$200,MATCH(A7,masterlist!$C$2:$C$200,0)),INDEX(masterlist!$R$2:$R$200,MATCH(A7,masterlist!$C$2:$C$200,0))),\"\")","v":0},{"$f":"IFERROR(HYPERLINK(INDEX(masterlist!$U$2:$U$200,MATCH(A7,masterlist!$C$2:$C$200,0)),INDEX(masterlist!$T$2:$T$200,MATCH(A7,masterlist!$C$2:$C$200,0))),\"\")","v":0}]
[{"$f":"IFERROR(INDEX(masterlist!$A$2:$F$200,SMALL(IF(masterlist!$B$2:$B$200=\"IEC\",ROW(masterlist!$A$2:$F$200)-1),ROW(4:4)),3),\"\")","v":"IEC-Pub-1-4"},{"$f":"IFERROR(INDEX(masterlist!$E$2:$E$200,MATCH(A8,masterlist!$C$2:$C$200,0)),\"\")","v":1},{"$f":"IFERROR(INDEX(masterlist!$D$2:$D$200,MATCH(A8,masterlist!$C$2:$C$200,0)),\"\")","v":"Public awareness"},{"$f":"IFERROR(INDEX(masterlist!$G$2:$G$200,MATCH(A8,masterlist!$C$2:$C$200,0)),\"\")","v":"Has broad public awareness messaging started at a national level?"},{"$f":"IFERROR(INDEX(masterlist!$H$2:$H$200,MATCH(A8,masterlist!$C$2:$C$200,0)),\"\")","v":"To increase awareness about responsible dog ownership, rabies and bite prevention and management (through channels such as World Rabies Day, other health days, newspaper radio and television campaigns, and other channels)  "},1,null,{"$f":"IFERROR(HYPERLINK(INDEX(masterlist!$M$2:$M$200,MATCH(A8,masterlist!$C$2:$C$200,0)),INDEX(masterlist!$L$2:$L$200,MATCH(A8,masterlist!$C$2:$C$200,0))),\"\")","v":"World Rabies Day"},{"$f":"IFERROR(HYPERLINK(INDEX(masterlist!$O$2:$O$200,MATCH(A8,masterlist!$C$2:$C$200,0)),INDEX(masterlist!$N$2:$N$200,MATCH(A8,masterlist!$C$2:$C$200,0))),\"\")","v":0},{"$f":"IFERROR(HYPERLINK(INDEX(masterlist!$Q$2:$Q$200,MATCH(A8,masterlist!$C$2:$C$200,0)),INDEX(masterlist!$P$2:$P$200,MATCH(A8,masterlist!$C$2:$C$200,0))),\"\")","v":0},{"$f":"IFERROR(HYPERLINK(INDEX(masterlist!$S$2:$S$200,MATCH(A8,masterlist!$C$2:$C$200,0)),INDEX(masterlist!$R$2:$R$200,MATCH(A8,masterlist!$C$2:$C$200,0))),\"\")","v":0},{"$f":"IFERROR(HYPERLINK(INDEX(masterlist!$U$2:$U$200,MATCH(A8,masterlist!$C$2:$C$200,0)),INDEX(masterlist!$T$2:$T$200,MATCH(A8,masterlist!$C$2:$C$200,0))),\"\")","v":0}]
[{"$f":"IFERROR(INDEX(masterlist!$A$2:$F$200,SMALL(IF(masterlist!$B$2:$B$200=\"IEC\",ROW(masterlist!$A$2:$F$200)-1),ROW(5:5)),3),\"\")","v":"IEC-Pub-3-5"},{"$f":"IFERROR(INDEX(masterlist!$E$2:$E$200,MATCH(A9,masterlist!$C$2:$C$200,0)),\"\")","v":3},{"$f":"IFERROR(INDEX(masterlist!$D$2:$D$200,MATCH(A9,masterlist!$C$2:$C$200,0)),\"\")","v":"Public awareness"},{"$f":"IFERROR(INDEX(masterlist!$G$2:$G$200,MATCH(A9,masterlist!$C$2:$C$200,0)),\"\")","v":"Has the IEC plan been integrated into the national rabies strategy, implemented at national level and updated where needed?"},{"$f":"IFERROR(INDEX(masterlist!$H$2:$H$200,MATCH(A9,masterlist!$C$2:$C$200,0)),\"\")","v":"Main messages, intended audience and areas covered\nConsider including information to travellers"},0,null,{"$f":"IFERROR(HYPERLINK(INDEX(masterlist!$M$2:$M$200,MATCH(A9,masterlist!$C$2:$C$200,0)),INDEX(masterlist!$L$2:$L$200,MATCH(A9,masterlist!$C$2:$C$200,0))),\"\")","v":"Communication-plan"},{"$f":"IFERROR(HYPERLINK(INDEX(masterlist!$O$2:$O$200,MATCH(A9,masterlist!$C$2:$C$200,0)),INDEX(masterlist!$N$2:$N$200,MATCH(A9,masterlist!$C$2:$C$200,0))),\"\")","v":0},{"$f":"IFERROR(HYPERLINK(INDEX(masterlist!$Q$2:$Q$200,MATCH(A9,masterlist!$C$2:$C$200,0)),INDEX(masterlist!$P$2:$P$200,MATCH(A9,masterlist!$C$2:$C$200,0))),\"\")","v":0},{"$f":"IFERROR(HYPERLINK(INDEX(masterlist!$S$2:$S$200,MATCH(A9,masterlist!$C$2:$C$200,0)),INDEX(masterlist!$R$2:$R$200,MATCH(A9,masterlist!$C$2:$C$200,0))),\"\")","v":0},{"$f":"IFERROR(HYPERLINK(INDEX(masterlist!$U$2:$U$200,MATCH(A9,masterlist!$C$2:$C$200,0)),INDEX(masterlist!$T$2:$T$200,MATCH(A9,masterlist!$C$2:$C$200,0))),\"\")","v":0}]
[{"$f":"IFERROR(INDEX(masterlist!$A$2:$F$200,SMALL(IF(masterlist!$B$2:$B$200=\"IEC\",ROW(masterlist!$A$2:$F$200)-1),ROW(6:6)),3),\"\")","v":"IEC-Pub-5-6"},{"$f":"IFERROR(INDEX(masterlist!$E$2:$E$200,MATCH(A10,masterlist!$C$2:$C$200,0)),\"\")","v":5},{"$f":"IFERROR(INDEX(masterlist!$D$2:$D$200,MATCH(A10,masterlist!$C$2:$C$200,0)),\"\")","v":"Public awareness"},{"$f":"IFERROR(INDEX(masterlist!$G$2:$G$200,MATCH(A10,masterlist!$C$2:$C$200,0)),\"\")","v":"Have awareness programmes focusing on the maintenance of freedom from dog and dog-transmitted human rabies been implemented?"},{"$f":"IFERROR(INDEX(masterlist!$H$2:$H$200,MATCH(A10,masterlist!$C$2:$C$200,0)),\"\")","v":"What are the main messages? Who is the intended audience? How often are messages broadcasted?"},0,null,{"$f":"IFERROR(HYPERLINK(INDEX(masterlist!$M$2:$M$200,MATCH(A10,masterlist!$C$2:$C$200,0)),INDEX(masterlist!$L$2:$L$200,MATCH(A10,masterlist!$C$2:$C$200,0))),\"\")","v":0},{"$f":"IFERROR(HYPERLINK(INDEX(masterlist!$O$2:$O$200,MATCH(A10,masterlist!$C$2:$C$200,0)),INDEX(masterlist!$N$2:$N$200,MATCH(A10,masterlist!$C$2:$C$200,0))),\"\")","v":0},{"$f":"IFERROR(HYPERLINK(INDEX(masterlist!$Q$2:$Q$200,MATCH(A10,masterlist!$C$2:$C$200,0)),INDEX(masterlist!$P$2:$P$200,MATCH(A10,masterlist!$C$2:$C$200,0))),\"\")","v":0},{"$f":"IFERROR(HYPERLINK(INDEX(masterlist!$S$2:$S$200,MATCH(A10,masterlist!$C$2:$C$200,0)),INDEX(masterlist!$R$2:$R$200,MATCH(A10,masterlist!$C$2:$C$200,0))),\"\")","v":0},{"$f":"IFERROR(HYPERLINK(INDEX(masterlist!$U$2:$U$200,MATCH(A10,masterlist!$C$2:$C$200,0)),INDEX(masterlist!$T$2:$T$200,MATCH(A10,masterlist!$C$2:$C$200,0))),\"\")","v":0}]
[{"$f":"IFERROR(INDEX(masterlist!$A$2:$F$200,SMALL(IF(masterlist!$B$2:$B$200=\"IEC\",ROW(masterlist!$A$2:$F$200)-1),ROW(7:7)),3),\"\")","v":"IEC-Pro-1-7"},{"$f":"IFERROR(INDEX(masterlist!$E$2:$E$200,MATCH(A11,masterlist!$C$2:$C$200,0)),\"\")","v":1},{"$f":"IFERROR(INDEX(masterlist!$D$2:$D$200,MATCH(A11,masterlist!$C$2:$C$200,0)),\"\")","v":"Professional education"},{"$f":"IFERROR(INDEX(masterlist!$G$2:$G$200,MATCH(A11,masterlist!$C$2:$C$200,0)),\"\")","v":"Have human and animal health professionals involved in rabies control been identified at a local level?"},{"$f":"IFERROR(INDEX(masterlist!$H$2:$H$200,MATCH(A11,masterlist!$C$2:$C$200,0)),\"\")","v":" "},1,null,{"$f":"IFERROR(HYPERLINK(INDEX(masterlist!$M$2:$M$200,MATCH(A11,masterlist!$C$2:$C$200,0)),INDEX(masterlist!$L$2:$L$200,MATCH(A11,masterlist!$C$2:$C$200,0))),\"\")","v":0},{"$f":"IFERROR(HYPERLINK(INDEX(masterlist!$O$2:$O$200,MATCH(A11,masterlist!$C$2:$C$200,0)),INDEX(masterlist!$N$2:$N$200,MATCH(A11,masterlist!$C$2:$C$200,0))),\"\")","v":0},{"$f":"IFERROR(HYPERLINK(INDEX(masterlist!$Q$2:$Q$200,MATCH(A11,masterlist!$C$2:$C$200,0)),INDEX(masterlist!$P$2:$P$200,MATCH(A11,masterlist!$C$2:$C$200,0))),\"\")","v":0},{"$f":"IFERROR(HYPERLINK(INDEX(masterlist!$S$2:$S$200,MATCH(A11,masterlist!$C$2:$C$200,0)),INDEX(masterlist!$R$2:$R$200,MATCH(A11,masterlist!$C$2:$C$200,0))),\"\")","v":0},{"$f":"IFERROR(HYPERLINK(INDEX(masterlist!$U$2:$U$200,MATCH(A11,masterlist!$C$2:$C$200,0)),INDEX(masterlist!$T$2:$T$200,MATCH(A11,masterlist!$C$2:$C$200,0))),\"\")","v":0}]
[{"$f":"IFERROR(INDEX(masterlist!$A$2:$F$200,SMALL(IF(masterlist!$B$2:$B$200=\"IEC\",ROW(masterlist!$A$2:$F$200)-1),ROW(8:8)),3),\"\")","v":"IEC-Pro-1-8"},{"$f":"IFERROR(INDEX(masterlist!$E$2:$E$200,MATCH(A12,masterlist!$C$2:$C$200,0)),\"\")","v":1},{"$f":"IFERROR(INDEX(masterlist!$D$2:$D$200,MATCH(A12,masterlist!$C$2:$C$200,0)),\"\")","v":"Professional education"},{"$f":"IFERROR(INDEX(masterlist!$G$2:$G$200,MATCH(A12,masterlist!$C$2:$C$200,0)),\"\")","v":"Has an assessment been undertaken to determine the training needs of the professionals at a local level? "},{"$f":"IFERROR(INDEX(masterlist!$H$2:$H$200,MATCH(A12,masterlist!$C$2:$C$200,0)),\"\")","v":"For example: Did officials assess whether doctors can diagnose rabies? Did officials assess whether veterinarians can vaccinate dogs safely?"},0,null,{"$f":"IFERROR(HYPERLINK(INDEX(masterlist!$M$2:$M$200,MATCH(A12,masterlist!$C$2:$C$200,0)),INDEX(masterlist!$L$2:$L$200,MATCH(A12,masterlist!$C$2:$C$200,0))),\"\")","v":"5.3-Who-do-we-need-to-train"},{"$f":"IFERROR(HYPERLINK(INDEX(masterlist!$O$2:$O$200,MATCH(A12,masterlist!$C$2:$C$200,0)),INDEX(masterlist!$N$2:$N$200,MATCH(A12,masterlist!$C$2:$C$200,0))),\"\")","v":0},{"$f":"IFERROR(HYPERLINK(INDEX(masterlist!$Q$2:$Q$200,MATCH(A12,masterlist!$C$2:$C$200,0)),INDEX(masterlist!$P$2:$P$200,MATCH(A12,masterlist!$C$2:$C$200,0))),\"\")","v":0},{"$f":"IFERROR(HYPERLINK(INDEX(masterlist!$S$2:$S$200,MATCH(A12,masterlist!$C$2:$C$200,0)),INDEX(masterlist!$R$2:$R$200,MATCH(A12,masterlist!$C$2:$C$200,0))),\"\")","v":0},{"$f":"IFERROR(HYPERLINK(INDEX(masterlist!$U$2:$U$200,MATCH(A12,masterlist!$C$2:$C$200,0)),INDEX(masterlist!$T$2:$T$200,MATCH(A12,masterlist!$C$2:$C$200,0))),\"\")","v":0}]
[{"$f":"IFERROR(INDEX(masterlist!$A$2:$F$200,SMALL(IF(masterlist!$B$2:$B$200=\"IEC\",ROW(masterlist!$A$2:$F$200)-1),ROW(9:9)),3),\"\")","v":"IEC-Pro-1-9"},{"$f":"IFERROR(INDEX(masterlist!$E$2:$E$200,MATCH(A13,masterlist!$C$2:$C$200,0)),\"\")","v":1},{"$f":"IFERROR(INDEX(masterlist!$D$2:$D$200,MATCH(A13,masterlist!$C$2:$C$200,0)),\"\")","v":"Professional education"},{"$f":"IFERROR(INDEX(masterlist!$G$2:$G$200,MATCH(A13,masterlist!$C$2:$C$200,0)),\"\")","v":"Has a training plan been developed at a national level?"},{"$f":"IFERROR(INDEX(masterlist!$H$2:$H$200,MATCH(A13,masterlist!$C$2:$C$200,0)),\"\")","v":" "},0,null,{"$f":"IFERROR(HYPERLINK(INDEX(masterlist!$M$2:$M$200,MATCH(A13,masterlist!$C$2:$C$200,0)),INDEX(masterlist!$L$2:$L$200,MATCH(A13,masterlist!$C$2:$C$200,0))),\"\")","v":"5.5-What-are-we-going-to-do-human-component"},{"$f":"IFERROR(HYPERLINK(INDEX(masterlist!$O$2:$O$200,MATCH(A13,masterlist!$C$2:$C$200,0)),INDEX(masterlist!$N$2:$N$200,MATCH(A13,masterlist!$C$2:$C$200,0))),\"\")","v":0},{"$f":"IFERROR(HYPERLINK(INDEX(masterlist!$Q$2:$Q$200,MATCH(A13,masterlist!$C$2:$C$200,0)),INDEX(masterlist!$P$2:$P$200,MATCH(A13,masterlist!$C$2:$C$200,0))),\"\")","v":0},{"$f":"IFERROR(HYPERLINK(INDEX(masterlist!$S$2:$S$200,MATCH(A13,masterlist!$C$2:$C$200,0)),INDEX(masterlist!$R$2:$R$200,MATCH(A13,masterlist!$C$2:$C$200,0))),\"\")","v":0},{"$f":"IFERROR(HYPERLINK(INDEX(masterlist!$U$2:$U$200,MATCH(A13,masterlist!$C$2:$C$200,0)),INDEX(masterlist!$T$2:$T$200,MATCH(A13,masterlist!$C$2:$C$200,0))),\"\")","v":0}]
[{"$f":"IFERROR(INDEX(masterlist!$A$2:$F$200,SMALL(IF(masterlist!$B$2:$B$200=\"IEC\",ROW(masterlist!$A$2:$F$200)-1),ROW(10:10)),3),\"\")","v":"IEC-Pro-1-10"},{"$f":"IFERROR(INDEX(masterlist!$E$2:$E$200,MATCH(A14,masterlist!$C$2:$C$200,0)),\"\")","v":1},{"$f":"IFERROR(INDEX(masterlist!$D$2:$D$200,MATCH(A14,masterlist!$C$2:$C$200,0)),\"\")","v":"Professional education"},{"$f":"IFERROR(INDEX(masterlist!$G$2:$G$200,MATCH(A14,masterlist!$C$2:$C$200,0)),\"\")","v":"Have training or refresher courses on rabies and public communication been initiated for professionals in human and animal health at a local level?"},{"$f":"IFERROR(INDEX(masterlist!$H$2:$H$200,MATCH(A14,masterlist!$C$2:$C$200,0)),\"\")","v":"Participant organisations/agencies"},0,null,{"$f":"IFERROR(HYPERLINK(INDEX(masterlist!$M$2:$M$200,MATCH(A14,masterlist!$C$2:$C$200,0)),INDEX(masterlist!$L$2:$L$200,MATCH(A14,masterlist!$C$2:$C$200,0))),\"\")","v":"GARC Education Platform"},{"$f":"IFERROR(HYPERLINK(INDEX(masterlist!$O$2:$O$200,MATCH(A14,masterlist!$C$2:$C$200,0)),INDEX(masterlist!$N$2:$N$200,MATCH(A14,masterlist!$C$2:$C$200,0))),\"\")","v":0},{"$f":"IFERROR(HYPERLINK(INDEX(masterlist!$Q$2:$Q$200,MATCH(A14,masterlist!$C$2:$C$200,0)),INDEX(masterlist!$P$2:$P$200,MATCH(A14,masterlist!$C$2:$C$200,0))),\"\")","v":0},{"$f":"IFERROR(HYPERLINK(INDEX(masterlist!$S$2:$S$200,MATCH(A14,masterlist!$C$2:$C$200,0)),INDEX(masterlist!$R$2:$R$200,MATCH(A14,masterlist!$C$2:$C$200,0))),\"\")","v":0},{"$f":"IFERROR(HYPERLINK(INDEX(masterlist!$U$2:$U$200,MATCH(A14,masterlist!$C$2:$C$200,0)),INDEX(masterlist!$T$2:$T$200,MATCH(A14,masterlist!$C$2:$C$200,0))),\"\")","v":0}]
[{"$f":"IFERROR(INDEX(masterlist!$A$2:$F$200,SMALL(IF(masterlist!$B$2:$B$200=\"IEC\",ROW(masterlist!$A$2:$F$200)-1),ROW(11:11)),3),\"\")","v":"IEC-Pro-2-11"},{"$f":"IFERROR(INDEX(masterlist!$E$2:$E$200,MATCH(A15,masterlist!$C$2:$C$200,0)),\"\")","v":2},{"$f":"IFERROR(INDEX(masterlist!$D$2:$D$200,MATCH(A15,masterlist!$C$2:$C$200,0)),\"\")","v":"Professional education"},{"$f":"IFERROR(INDEX(masterlist!$G$2:$G$200,MATCH(A15,masterlist!$C$2:$C$200,0)),\"\")","v":"Has training of human and animal health personnel been conducted in most parts of the country?"},{"$f":"IFERROR(INDEX(masterlist!$H$2:$H$200,MATCH(A15,masterlist!$C$2:$C$200,0)),\"\")","v":"Participant organisations/agencies"},0,null,{"$f":"IFERROR(HYPERLINK(INDEX(masterlist!$M$2:$M$200,MATCH(A15,masterlist!$C$2:$C$200,0)),INDEX(masterlist!$L$2:$L$200,MATCH(A15,masterlist!$C$2:$C$200,0))),\"\")","v":"5.3-Who-do-we-need-to-train"},{"$f":"IFERROR(HYPERLINK(INDEX(masterlist!$O$2:$O$200,MATCH(A15,masterlist!$C$2:$C$200,0)),INDEX(masterlist!$N$2:$N$200,MATCH(A15,masterlist!$C$2:$C$200,0))),\"\")","v":"GARC Education Platform"},{"$f":"IFERROR(HYPERLINK(INDEX(masterlist!$Q$2:$Q$200,MATCH(A15,masterlist!$C$2:$C$200,0)),INDEX(masterlist!$P$2:$P$200,MATCH(A15,masterlist!$C$2:$C$200,0))),\"\")","v":0},{"$f":"IFERROR(HYPERLINK(INDEX(masterlist!$S$2:$S$200,MATCH(A15,masterlist!$C$2:$C$200,0)),INDEX(masterlist!$R$2:$R$200,MATCH(A15,masterlist!$C$2:$C$200,0))),\"\")","v":0},{"$f":"IFERROR(HYPERLINK(INDEX(masterlist!$U$2:$U$200,MATCH(A15,masterlist!$C$2:$C$200,0)),INDEX(masterlist!$T$2:$T$200,MATCH(A15,masterlist!$C$2:$C$200,0))),\"\")","v":0}]
[{"$f":"IFERROR(INDEX(masterlist!$A$2:$F$200,SMALL(IF(masterlist!$B$2:$B$200=\"IEC\",ROW(masterlist!$A$2:$F$200)-1),ROW(12:12)),3),\"\")","v":"IEC-Adv-0-12"},{"$f":"IFERROR(INDEX(masterlist!$E$2:$E$200,MATCH(A16,masterlist!$C$2:$C$200,0)),\"\")","v":0},{"$f":"IFERROR(INDEX(masterlist!$D$2:$D$200,MATCH(A16,masterlist!$C$2:$C$200,0)),\"\")","v":"Advocacy"},{"$f":"IFERROR(INDEX(masterlist!$G$2:$G$200,MATCH(A16,masterlist!$C$2:$C$200,0)),\"\")","v":"Is rabies a priority disease in your country?"},{"$f":"IFERROR(INDEX(masterlist!$H$2:$H$200,MATCH(A16,masterlist!$C$2:$C$200,0)),\"\")","v":"This would be known after the disease prioritisation workshop has been undertaken in collaboration with the US Centers for Disease Control. "},1,null,{"$f":"IFERROR(HYPERLINK(INDEX(masterlist!$M$2:$M$200,MATCH(A16,masterlist!$C$2:$C$200,0)),INDEX(masterlist!$L$2:$L$200,MATCH(A16,masterlist!$C$2:$C$200,0))),\"\")","v":"Public-health-and-economic-burden-of rabies"},{"$f":"IFERROR(HYPERLINK(INDEX(masterlist!$O$2:$O$200,MATCH(A16,masterlist!$C$2:$C$200,0)),INDEX(masterlist!$N$2:$N$200,MATCH(A16,masterlist!$C$2:$C$200,0))),\"\")","v":"Health economic studies on rabies"},{"$f":"IFERROR(HYPERLINK(INDEX(masterlist!$Q$2:$Q$200,MATCH(A16,masterlist!$C$2:$C$200,0)),INDEX(masterlist!$P$2:$P$200,MATCH(A16,masterlist!$C$2:$C$200,0))),\"\")","v":0},{"$f":"IFERROR(HYPERLINK(INDEX(masterlist!$S$2:$S$200,MATCH(A16,masterlist!$C$2:$C$200,0)),INDEX(masterlist!$R$2:$R$200,MATCH(A16,masterlist!$C$2:$C$200,0))),\"\")","v":0},{"$f":"IFERROR(HYPERLINK(INDEX(masterlist!$U$2:$U$200,MATCH(A16,masterlist!$C$2:$C$200,0)),INDEX(masterlist!$T$2:$T$200,MATCH(A16,masterlist!$C$2:$C$200,0))),\"\")","v":0}]
[{"$f":"IFERROR(INDEX(masterlist!$A$2:$F$200,SMALL(IF(masterlist!$B$2:$B$200=\"IEC\",ROW(masterlist!$A$2:$F$200)-1),ROW(13:13)),3),\"\")","v":"IEC-Adv-1-13"},{"$f":"IFERROR(INDEX(masterlist!$E$2:$E$200,MATCH(A17,masterlist!$C$2:$C$200,0)),\"\")","v":1},{"$f":"IFERROR(INDEX(masterlist!$D$2:$D$200,MATCH(A17,masterlist!$C$2:$C$200,0)),\"\")","v":"Advocacy"},{"$f":"IFERROR(INDEX(masterlist!$G$2:$G$200,MATCH(A17,masterlist!$C$2:$C$200,0)),\"\")","v":"Has an advocacy stakeholder analysis* been done at a national level and target audiences been identified?"},{"$f":"IFERROR(INDEX(masterlist!$H$2:$H$200,MATCH(A17,masterlist!$C$2:$C$200,0)),\"\")","v":"For example, at-risk community leaders/authorities, politicians and other policy influencers and decision makers "},0,null,{"$f":"IFERROR(HYPERLINK(INDEX(masterlist!$M$2:$M$200,MATCH(A17,masterlist!$C$2:$C$200,0)),INDEX(masterlist!$L$2:$L$200,MATCH(A17,masterlist!$C$2:$C$200,0))),\"\")","v":0},{"$f":"IFERROR(HYPERLINK(INDEX(masterlist!$O$2:$O$200,MATCH(A17,masterlist!$C$2:$C$200,0)),INDEX(masterlist!$N$2:$N$200,MATCH(A17,masterlist!$C$2:$C$200,0))),\"\")","v":0},{"$f":"IFERROR(HYPERLINK(INDEX(masterlist!$Q$2:$Q$200,MATCH(A17,masterlist!$C$2:$C$200,0)),INDEX(masterlist!$P$2:$P$200,MATCH(A17,masterlist!$C$2:$C$200,0))),\"\")","v":0},{"$f":"IFERROR(HYPERLINK(INDEX(masterlist!$S$2:$S$200,MATCH(A17,masterlist!$C$2:$C$200,0)),INDEX(masterlist!$R$2:$R$200,MATCH(A17,masterlist!$C$2:$C$200,0))),\"\")","v":0},{"$f":"IFERROR(HYPERLINK(INDEX(masterlist!$U$2:$U$200,MATCH(A17,masterlist!$C$2:$C$200,0)),INDEX(masterlist!$T$2:$T$200,MATCH(A17,masterlist!$C$2:$C$200,0))),\"\")","v":0}]
[{"$f":"IFERROR(INDEX(masterlist!$A$2:$F$200,SMALL(IF(masterlist!$B$2:$B$200=\"IEC\",ROW(masterlist!$A$2:$F$200)-1),ROW(14:14)),3),\"\")","v":"IEC-Adv-1-14"},{"$f":"IFERROR(INDEX(masterlist!$E$2:$E$200,MATCH(A18,masterlist!$C$2:$C$200,0)),\"\")","v":1},{"$f":"IFERROR(INDEX(masterlist!$D$2:$D$200,MATCH(A18,masterlist!$C$2:$C$200,0)),\"\")","v":"Advocacy"},{"$f":"IFERROR(INDEX(masterlist!$G$2:$G$200,MATCH(A18,masterlist!$C$2:$C$200,0)),\"\")","v":"Has an advocacy plan* been developed and implemented at a national level?"},{"$f":"IFERROR(INDEX(masterlist!$H$2:$H$200,MATCH(A18,masterlist!$C$2:$C$200,0)),\"\")","v":"Include sharing of advocacy with neighbouring countries and regional level in national plan"},0,null,{"$f":"IFERROR(HYPERLINK(INDEX(masterlist!$M$2:$M$200,MATCH(A18,masterlist!$C$2:$C$200,0)),INDEX(masterlist!$L$2:$L$200,MATCH(A18,masterlist!$C$2:$C$200,0))),\"\")","v":"Drafting an advocacy strategy"},{"$f":"IFERROR(HYPERLINK(INDEX(masterlist!$O$2:$O$200,MATCH(A18,masterlist!$C$2:$C$200,0)),INDEX(masterlist!$N$2:$N$200,MATCH(A18,masterlist!$C$2:$C$200,0))),\"\")","v":"A toolkit for influencing policy"},{"$f":"IFERROR(HYPERLINK(INDEX(masterlist!$Q$2:$Q$200,MATCH(A18,masterlist!$C$2:$C$200,0)),INDEX(masterlist!$P$2:$P$200,MATCH(A18,masterlist!$C$2:$C$200,0))),\"\")","v":0},{"$f":"IFERROR(HYPERLINK(INDEX(masterlist!$S$2:$S$200,MATCH(A18,masterlist!$C$2:$C$200,0)),INDEX(masterlist!$R$2:$R$200,MATCH(A18,masterlist!$C$2:$C$200,0))),\"\")","v":0},{"$f":"IFERROR(HYPERLINK(INDEX(masterlist!$U$2:$U$200,MATCH(A18,masterlist!$C$2:$C$200,0)),INDEX(masterlist!$T$2:$T$200,MATCH(A18,masterlist!$C$2:$C$200,0))),\"\")","v":0}]
[{"$f":"IFERROR(INDEX(masterlist!$A$2:$F$200,SMALL(IF(masterlist!$B$2:$B$200=\"IEC\",ROW(masterlist!$A$2:$F$200)-1),ROW(15:15)),3),\"\")","v":"IEC-Adv-2-15"},{"$f":"IFERROR(INDEX(masterlist!$E$2:$E$200,MATCH(A19,masterlist!$C$2:$C$200,0)),\"\")","v":2},{"$f":"IFERROR(INDEX(masterlist!$D$2:$D$200,MATCH(A19,masterlist!$C$2:$C$200,0)),\"\")","v":"Advocacy"},{"$f":"IFERROR(INDEX(masterlist!$G$2:$G$200,MATCH(A19,masterlist!$C$2:$C$200,0)),\"\")","v":"Have you promoted any small-scale rabies control program successes using the national advocacy plan?"},{"$f":"IFERROR(INDEX(masterlist!$H$2:$H$200,MATCH(A19,masterlist!$C$2:$C$200,0)),\"\")","v":"Main messages, audiences, areas covered"},0,null,{"$f":"IFERROR(HYPERLINK(INDEX(masterlist!$M$2:$M$200,MATCH(A19,masterlist!$C$2:$C$200,0)),INDEX(masterlist!$L$2:$L$200,MATCH(A19,masterlist!$C$2:$C$200,0))),\"\")","v":0},{"$f":"IFERROR(HYPERLINK(INDEX(masterlist!$O$2:$O$200,MATCH(A19,masterlist!$C$2:$C$200,0)),INDEX(masterlist!$N$2:$N$200,MATCH(A19,masterlist!$C$2:$C$200,0))),\"\")","v":0},{"$f":"IFERROR(HYPERLINK(INDEX(masterlist!$Q$2:$Q$200,MATCH(A19,masterlist!$C$2:$C$200,0)),INDEX(masterlist!$P$2:$P$200,MATCH(A19,masterlist!$C$2:$C$200,0))),\"\")","v":0},{"$f":"IFERROR(HYPERLINK(INDEX(masterlist!$S$2:$S$200,MATCH(A19,masterlist!$C$2:$C$200,0)),INDEX(masterlist!$R$2:$R$200,MATCH(A19,masterlist!$C$2:$C$200,0))),\"\")","v":0},{"$f":"IFERROR(HYPERLINK(INDEX(masterlist!$U$2:$U$200,MATCH(A19,masterlist!$C$2:$C$200,0)),INDEX(masterlist!$T$2:$T$200,MATCH(A19,masterlist!$C$2:$C$200,0))),\"\")","v":0}]
[{"$f":"IFERROR(INDEX(masterlist!$A$2:$F$200,SMALL(IF(masterlist!$B$2:$B$200=\"IEC\",ROW(masterlist!$A$2:$F$200)-1),ROW(16:16)),3),\"\")","v":"IEC-Adv-2-16"},{"$f":"IFERROR(INDEX(masterlist!$E$2:$E$200,MATCH(A20,masterlist!$C$2:$C$200,0)),\"\")","v":2},{"$f":"IFERROR(INDEX(masterlist!$D$2:$D$200,MATCH(A20,masterlist!$C$2:$C$200,0)),\"\")","v":"Advocacy"},{"$f":"IFERROR(INDEX(masterlist!$G$2:$G$200,MATCH(A20,masterlist!$C$2:$C$200,0)),\"\")","v":"Has the national advocacy plan been used to obtain support from stakeholders to financially resource the national rabies control strategy?"},{"$f":"IFERROR(INDEX(masterlist!$H$2:$H$200,MATCH(A20,masterlist!$C$2:$C$200,0)),\"\")","v":"Main messages, audiences"},0,null,{"$f":"IFERROR(HYPERLINK(INDEX(masterlist!$M$2:$M$200,MATCH(A20,masterlist!$C$2:$C$200,0)),INDEX(masterlist!$L$2:$L$200,MATCH(A20,masterlist!$C$2:$C$200,0))),\"\")","v":0},{"$f":"IFERROR(HYPERLINK(INDEX(masterlist!$O$2:$O$200,MATCH(A20,masterlist!$C$2:$C$200,0)),INDEX(masterlist!$N$2:$N$200,MATCH(A20,masterlist!$C$2:$C$200,0))),\"\")","v":0},{"$f":"IFERROR(HYPERLINK(INDEX(masterlist!$Q$2:$Q$200,MATCH(A20,masterlist!$C$2:$C$200,0)),INDEX(masterlist!$P$2:$P$200,MATCH(A20,masterlist!$C$2:$C$200,0))),\"\")","v":0},{"$f":"IFERROR(HYPERLINK(INDEX(masterlist!$S$2:$S$200,MATCH(A20,masterlist!$C$2:$C$200,0)),INDEX(masterlist!$R$2:$R$200,MATCH(A20,masterlist!$C$2:$C$200,0))),\"\")","v":0},{"$f":"IFERROR(HYPERLINK(INDEX(masterlist!$U$2:$U$200,MATCH(A20,masterlist!$C$2:$C$200,0)),INDEX(masterlist!$T$2:$T$200,MATCH(A20,masterlist!$C$2:$C$200,0))),\"\")","v":0}]
[{"$f":"IFERROR(INDEX(masterlist!$A$2:$F$200,SMALL(IF(masterlist!$B$2:$B$200=\"IEC\",ROW(masterlist!$A$2:$F$200)-1),ROW(17:17)),3),\"\")","v":"IEC-Adv-3-17"},{"$f":"IFERROR(INDEX(masterlist!$E$2:$E$200,MATCH(A21,masterlist!$C$2:$C$200,0)),\"\")","v":3},{"$f":"IFERROR(INDEX(masterlist!$D$2:$D$200,MATCH(A21,masterlist!$C$2:$C$200,0)),\"\")","v":"Advocacy"},{"$f":"IFERROR(INDEX(masterlist!$G$2:$G$200,MATCH(A21,masterlist!$C$2:$C$200,0)),\"\")","v":"Have dog-transmitted human rabies free zones been declared publicly?"},{"$f":"IFERROR(INDEX(masterlist!$H$2:$H$200,MATCH(A21,masterlist!$C$2:$C$200,0)),\"\")","v":"Areas covered"},0,null,{"$f":"IFERROR(HYPERLINK(INDEX(masterlist!$M$2:$M$200,MATCH(A21,masterlist!$C$2:$C$200,0)),INDEX(masterlist!$L$2:$L$200,MATCH(A21,masterlist!$C$2:$C$200,0))),\"\")","v":0},{"$f":"IFERROR(HYPERLINK(INDEX(masterlist!$O$2:$O$200,MATCH(A21,masterlist!$C$2:$C$200,0)),INDEX(masterlist!$N$2:$N$200,MATCH(A21,masterlist!$C$2:$C$200,0))),\"\")","v":0},{"$f":"IFERROR(HYPERLINK(INDEX(masterlist!$Q$2:$Q$200,MATCH(A21,masterlist!$C$2:$C$200,0)),INDEX(masterlist!$P$2:$P$200,MATCH(A21,masterlist!$C$2:$C$200,0))),\"\")","v":0},{"$f":"IFERROR(HYPERLINK(INDEX(masterlist!$S$2:$S$200,MATCH(A21,masterlist!$C$2:$C$200,0)),INDEX(masterlist!$R$2:$R$200,MATCH(A21,masterlist!$C$2:$C$200,0))),\"\")","v":0},{"$f":"IFERROR(HYPERLINK(INDEX(masterlist!$U$2:$U$200,MATCH(A21,masterlist!$C$2:$C$200,0)),INDEX(masterlist!$T$2:$T$200,MATCH(A21,masterlist!$C$2:$C$200,0))),\"\")","v":0}]
[{"$f":"IFERROR(INDEX(masterlist!$A$2:$F$200,SMALL(IF(masterlist!$B$2:$B$200=\"IEC\",ROW(masterlist!$A$2:$F$200)-1),ROW(18:18)),3),\"\")","v":"IEC-Adv-4-18"},{"$f":"IFERROR(INDEX(masterlist!$E$2:$E$200,MATCH(A22,masterlist!$C$2:$C$200,0)),\"\")","v":4},{"$f":"IFERROR(INDEX(masterlist!$D$2:$D$200,MATCH(A22,masterlist!$C$2:$C$200,0)),\"\")","v":"Advocacy"},{"$f":"IFERROR(INDEX(masterlist!$G$2:$G$200,MATCH(A22,masterlist!$C$2:$C$200,0)),\"\")","v":"Have you declared publically that your entire country is free from dog-transmitted human rabies?"},{"$f":"IFERROR(INDEX(masterlist!$H$2:$H$200,MATCH(A22,masterlist!$C$2:$C$200,0)),\"\")","v":" "},0,null,{"$f":"IFERROR(HYPERLINK(INDEX(masterlist!$M$2:$M$200,MATCH(A22,masterlist!$C$2:$C$200,0)),INDEX(masterlist!$L$2:$L$200,MATCH(A22,masterlist!$C$2:$C$200,0))),\"\")","v":0},{"$f":"IFERROR(HYPERLINK(INDEX(masterlist!$O$2:$O$200,MATCH(A22,masterlist!$C$2:$C$200,0)),INDEX(masterlist!$N$2:$N$200,MATCH(A22,masterlist!$C$2:$C$200,0))),\"\")","v":0},{"$f":"IFERROR(HYPERLINK(INDEX(masterlist!$Q$2:$Q$200,MATCH(A22,masterlist!$C$2:$C$200,0)),INDEX(masterlist!$P$2:$P$200,MATCH(A22,masterlist!$C$2:$C$200,0))),\"\")","v":0},{"$f":"IFERROR(HYPERLINK(INDEX(masterlist!$S$2:$S$200,MATCH(A22,masterlist!$C$2:$C$200,0)),INDEX(masterlist!$R$2:$R$200,MATCH(A22,masterlist!$C$2:$C$200,0))),\"\")","v":0},{"$f":"IFERROR(HYPERLINK(INDEX(masterlist!$U$2:$U$200,MATCH(A22,masterlist!$C$2:$C$200,0)),INDEX(masterlist!$T$2:$T$200,MATCH(A22,masterlist!$C$2:$C$200,0))),\"\")","v":0}]
[{"$f":"IFERROR(INDEX(masterlist!$A$2:$F$200,SMALL(IF(masterlist!$B$2:$B$200=\"IEC\",ROW(masterlist!$A$2:$F$200)-1),ROW(19:19)),3),\"\")","v":"IEC-Adv-5-19"},{"$f":"IFERROR(INDEX(masterlist!$E$2:$E$200,MATCH(A23,masterlist!$C$2:$C$200,0)),\"\")","v":5},{"$f":"IFERROR(INDEX(masterlist!$D$2:$D$200,MATCH(A23,masterlist!$C$2:$C$200,0)),\"\")","v":"Advocacy"},{"$f":"IFERROR(INDEX(masterlist!$G$2:$G$200,MATCH(A23,masterlist!$C$2:$C$200,0)),\"\")","v":"Have you declared publically that your entire country is free from dog rabies? "},{"$f":"IFERROR(INDEX(masterlist!$H$2:$H$200,MATCH(A23,masterlist!$C$2:$C$200,0)),\"\")","v":" "},0,null,{"$f":"IFERROR(HYPERLINK(INDEX(masterlist!$M$2:$M$200,MATCH(A23,masterlist!$C$2:$C$200,0)),INDEX(masterlist!$L$2:$L$200,MATCH(A23,masterlist!$C$2:$C$200,0))),\"\")","v":0},{"$f":"IFERROR(HYPERLINK(INDEX(masterlist!$O$2:$O$200,MATCH(A23,masterlist!$C$2:$C$200,0)),INDEX(masterlist!$N$2:$N$200,MATCH(A23,masterlist!$C$2:$C$200,0))),\"\")","v":0},{"$f":"IFERROR(HYPERLINK(INDEX(masterlist!$Q$2:$Q$200,MATCH(A23,masterlist!$C$2:$C$200,0)),INDEX(masterlist!$P$2:$P$200,MATCH(A23,masterlist!$C$2:$C$200,0))),\"\")","v":0},{"$f":"IFERROR(HYPERLINK(INDEX(masterlist!$S$2:$S$200,MATCH(A23,masterlist!$C$2:$C$200,0)),INDEX(masterlist!$R$2:$R$200,MATCH(A23,masterlist!$C$2:$C$200,0))),\"\")","v":0},{"$f":"IFERROR(HYPERLINK(INDEX(masterlist!$U$2:$U$200,MATCH(A23,masterlist!$C$2:$C$200,0)),INDEX(masterlist!$T$2:$T$200,MATCH(A23,masterlist!$C$2:$C$200,0))),\"\")","v":0}]
[{"$f":"IFERROR(INDEX(masterlist!$A$2:$F$200,SMALL(IF(masterlist!$B$2:$B$200=\"IEC\",ROW(masterlist!$A$2:$F$200)-1),ROW(20:20)),3),\"\")","v":""},{"$f":"IFERROR(INDEX(masterlist!$E$2:$E$200,MATCH(A24,masterlist!$C$2:$C$200,0)),\"\")","v":""},{"$f":"IFERROR(INDEX(masterlist!$D$2:$D$200,MATCH(A24,masterlist!$C$2:$C$200,0)),\"\")","v":""},{"$f":"IFERROR(INDEX(masterlist!$G$2:$G$200,MATCH(A24,masterlist!$C$2:$C$200,0)),\"\")","v":""},{"$f":"IFERROR(INDEX(masterlist!$H$2:$H$200,MATCH(A24,masterlist!$C$2:$C$200,0)),\"\")","v":""},null,null,{"$f":"IFERROR(HYPERLINK(INDEX(masterlist!$M$2:$M$200,MATCH(A24,masterlist!$C$2:$C$200,0)),INDEX(masterlist!$L$2:$L$200,MATCH(A24,masterlist!$C$2:$C$200,0))),\"\")","v":""},{"$f":"IFERROR(HYPERLINK(INDEX(masterlist!$O$2:$O$200,MATCH(A24,masterlist!$C$2:$C$200,0)),INDEX(masterlist!$N$2:$N$200,MATCH(A24,masterlist!$C$2:$C$200,0))),\"\")","v":""},{"$f":"IFERROR(HYPERLINK(INDEX(masterlist!$Q$2:$Q$200,MATCH(A24,masterlist!$C$2:$C$200,0)),INDEX(masterlist!$P$2:$P$200,MATCH(A24,masterlist!$C$2:$C$200,0))),\"\")","v":""},{"$f":"IFERROR(HYPERLINK(INDEX(masterlist!$S$2:$S$200,MATCH(A24,masterlist!$C$2:$C$200,0)),INDEX(masterlist!$R$2:$R$200,MATCH(A24,masterlist!$C$2:$C$200,0))),\"\")","v":""},{"$f":"IFERROR(HYPERLINK(INDEX(masterlist!$U$2:$U$200,MATCH(A24,masterlist!$C$2:$C$200,0)),INDEX(masterlist!$T$2:$T$200,MATCH(A24,masterlist!$C$2:$C$200,0))),\"\")","v":""}]
[{"$f":"IFERROR(INDEX(masterlist!$A$2:$F$200,SMALL(IF(masterlist!$B$2:$B$200=\"IEC\",ROW(masterlist!$A$2:$F$200)-1),ROW(21:21)),3),\"\")","v":""},{"$f":"IFERROR(INDEX(masterlist!$E$2:$E$200,MATCH(A25,masterlist!$C$2:$C$200,0)),\"\")","v":""},{"$f":"IFERROR(INDEX(masterlist!$D$2:$D$200,MATCH(A25,masterlist!$C$2:$C$200,0)),\"\")","v":""},{"$f":"IFERROR(INDEX(masterlist!$G$2:$G$200,MATCH(A25,masterlist!$C$2:$C$200,0)),\"\")","v":""},{"$f":"IFERROR(INDEX(masterlist!$H$2:$H$200,MATCH(A25,masterlist!$C$2:$C$200,0)),\"\")","v":""},null,null,{"$f":"IFERROR(HYPERLINK(INDEX(masterlist!$M$2:$M$200,MATCH(A25,masterlist!$C$2:$C$200,0)),INDEX(masterlist!$L$2:$L$200,MATCH(A25,masterlist!$C$2:$C$200,0))),\"\")","v":""},{"$f":"IFERROR(HYPERLINK(INDEX(masterlist!$O$2:$O$200,MATCH(A25,masterlist!$C$2:$C$200,0)),INDEX(masterlist!$N$2:$N$200,MATCH(A25,masterlist!$C$2:$C$200,0))),\"\")","v":""},{"$f":"IFERROR(HYPERLINK(INDEX(masterlist!$Q$2:$Q$200,MATCH(A25,masterlist!$C$2:$C$200,0)),INDEX(masterlist!$P$2:$P$200,MATCH(A25,masterlist!$C$2:$C$200,0))),\"\")","v":""},{"$f":"IFERROR(HYPERLINK(INDEX(masterlist!$S$2:$S$200,MATCH(A25,masterlist!$C$2:$C$200,0)),INDEX(masterlist!$R$2:$R$200,MATCH(A25,masterlist!$C$2:$C$200,0))),\"\")","v":""},{"$f":"IFERROR(HYPERLINK(INDEX(masterlist!$U$2:$U$200,MATCH(A25,masterlist!$C$2:$C$200,0)),INDEX(masterlist!$T$2:$T$200,MATCH(A25,masterlist!$C$2:$C$200,0))),\"\")","v":""}]
[{"$f":"IFERROR(INDEX(masterlist!$A$2:$F$200,SMALL(IF(masterlist!$B$2:$B$200=\"IEC\",ROW(masterlist!$A$2:$F$200)-1),ROW(22:22)),3),\"\")","v":""},{"$f":"IFERROR(INDEX(masterlist!$E$2:$E$200,MATCH(A26,masterlist!$C$2:$C$200,0)),\"\")","v":""},{"$f":"IFERROR(INDEX(masterlist!$D$2:$D$200,MATCH(A26,masterlist!$C$2:$C$200,0)),\"\")","v":""},{"$f":"IFERROR(INDEX(masterlist!$G$2:$G$200,MATCH(A26,masterlist!$C$2:$C$200,0)),\"\")","v":""},{"$f":"IFERROR(INDEX(masterlist!$H$2:$H$200,MATCH(A26,masterlist!$C$2:$C$200,0)),\"\")","v":""},null,null,{"$f":"IFERROR(HYPERLINK(INDEX(masterlist!$M$2:$M$200,MATCH(A26,masterlist!$C$2:$C$200,0)),INDEX(masterlist!$L$2:$L$200,MATCH(A26,masterlist!$C$2:$C$200,0))),\"\")","v":""},{"$f":"IFERROR(HYPERLINK(INDEX(masterlist!$O$2:$O$200,MATCH(A26,masterlist!$C$2:$C$200,0)),INDEX(masterlist!$N$2:$N$200,MATCH(A26,masterlist!$C$2:$C$200,0))),\"\")","v":""},{"$f":"IFERROR(HYPERLINK(INDEX(masterlist!$Q$2:$Q$200,MATCH(A26,masterlist!$C$2:$C$200,0)),INDEX(masterlist!$P$2:$P$200,MATCH(A26,masterlist!$C$2:$C$200,0))),\"\")","v":""},{"$f":"IFERROR(HYPERLINK(INDEX(masterlist!$S$2:$S$200,MATCH(A26,masterlist!$C$2:$C$200,0)),INDEX(masterlist!$R$2:$R$200,MATCH(A26,masterlist!$C$2:$C$200,0))),\"\")","v":""},{"$f":"IFERROR(HYPERLINK(INDEX(masterlist!$U$2:$U$200,MATCH(A26,masterlist!$C$2:$C$200,0)),INDEX(masterlist!$T$2:$T$200,MATCH(A26,masterlist!$C$2:$C$200,0))),\"\")","v":""}]
[{"$f":"IFERROR(INDEX(masterlist!$A$2:$F$200,SMALL(IF(masterlist!$B$2:$B$200=\"IEC\",ROW(masterlist!$A$2:$F$200)-1),ROW(23:23)),3),\"\")","v":""},{"$f":"IFERROR(INDEX(masterlist!$E$2:$E$200,MATCH(A27,masterlist!$C$2:$C$200,0)),\"\")","v":""},{"$f":"IFERROR(INDEX(masterlist!$D$2:$D$200,MATCH(A27,masterlist!$C$2:$C$200,0)),\"\")","v":""},{"$f":"IFERROR(INDEX(masterlist!$G$2:$G$200,MATCH(A27,masterlist!$C$2:$C$200,0)),\"\")","v":""},{"$f":"IFERROR(INDEX(masterlist!$H$2:$H$200,MATCH(A27,masterlist!$C$2:$C$200,0)),\"\")","v":""},null,null,{"$f":"IFERROR(HYPERLINK(INDEX(masterlist!$M$2:$M$200,MATCH(A27,masterlist!$C$2:$C$200,0)),INDEX(masterlist!$L$2:$L$200,MATCH(A27,masterlist!$C$2:$C$200,0))),\"\")","v":""},{"$f":"IFERROR(HYPERLINK(INDEX(masterlist!$O$2:$O$200,MATCH(A27,masterlist!$C$2:$C$200,0)),INDEX(masterlist!$N$2:$N$200,MATCH(A27,masterlist!$C$2:$C$200,0))),\"\")","v":""},{"$f":"IFERROR(HYPERLINK(INDEX(masterlist!$Q$2:$Q$200,MATCH(A27,masterlist!$C$2:$C$200,0)),INDEX(masterlist!$P$2:$P$200,MATCH(A27,masterlist!$C$2:$C$200,0))),\"\")","v":""},{"$f":"IFERROR(HYPERLINK(INDEX(masterlist!$S$2:$S$200,MATCH(A27,masterlist!$C$2:$C$200,0)),INDEX(masterlist!$R$2:$R$200,MATCH(A27,masterlist!$C$2:$C$200,0))),\"\")","v":""},{"$f":"IFERROR(HYPERLINK(INDEX(masterlist!$U$2:$U$200,MATCH(A27,masterlist!$C$2:$C$200,0)),INDEX(masterlist!$T$2:$T$200,MATCH(A27,masterlist!$C$2:$C$200,0))),\"\")","v":""}]
[{"$f":"IFERROR(INDEX(masterlist!$A$2:$F$200,SMALL(IF(masterlist!$B$2:$B$200=\"IEC\",ROW(masterlist!$A$2:$F$200)-1),ROW(24:24)),3),\"\")","v":""},{"$f":"IFERROR(INDEX(masterlist!$E$2:$E$200,MATCH(A28,masterlist!$C$2:$C$200,0)),\"\")","v":""},{"$f":"IFERROR(INDEX(masterlist!$D$2:$D$200,MATCH(A28,masterlist!$C$2:$C$200,0)),\"\")","v":""},{"$f":"IFERROR(INDEX(masterlist!$G$2:$G$200,MATCH(A28,masterlist!$C$2:$C$200,0)),\"\")","v":""},{"$f":"IFERROR(INDEX(masterlist!$H$2:$H$200,MATCH(A28,masterlist!$C$2:$C$200,0)),\"\")","v":""},null,null,{"$f":"IFERROR(HYPERLINK(INDEX(masterlist!$M$2:$M$200,MATCH(A28,masterlist!$C$2:$C$200,0)),INDEX(masterlist!$L$2:$L$200,MATCH(A28,masterlist!$C$2:$C$200,0))),\"\")","v":""},{"$f":"IFERROR(HYPERLINK(INDEX(masterlist!$O$2:$O$200,MATCH(A28,masterlist!$C$2:$C$200,0)),INDEX(masterlist!$N$2:$N$200,MATCH(A28,masterlist!$C$2:$C$200,0))),\"\")","v":""},{"$f":"IFERROR(HYPERLINK(INDEX(masterlist!$Q$2:$Q$200,MATCH(A28,masterlist!$C$2:$C$200,0)),INDEX(masterlist!$P$2:$P$200,MATCH(A28,masterlist!$C$2:$C$200,0))),\"\")","v":""},{"$f":"IFERROR(HYPERLINK(INDEX(masterlist!$S$2:$S$200,MATCH(A28,masterlist!$C$2:$C$200,0)),INDEX(masterlist!$R$2:$R$200,MATCH(A28,masterlist!$C$2:$C$200,0))),\"\")","v":""},{"$f":"IFERROR(HYPERLINK(INDEX(masterlist!$U$2:$U$200,MATCH(A28,masterlist!$C$2:$C$200,0)),INDEX(masterlist!$T$2:$T$200,MATCH(A28,masterlist!$C$2:$C$200,0))),\"\")","v":""}]
[{"$f":"IFERROR(INDEX(masterlist!$A$2:$F$200,SMALL(IF(masterlist!$B$2:$B$200=\"IEC\",ROW(masterlist!$A$2:$F$200)-1),ROW(25:25)),3),\"\")","v":""},{"$f":"IFERROR(INDEX(masterlist!$E$2:$E$200,MATCH(A29,masterlist!$C$2:$C$200,0)),\"\")","v":""},{"$f":"IFERROR(INDEX(masterlist!$D$2:$D$200,MATCH(A29,masterlist!$C$2:$C$200,0)),\"\")","v":""},{"$f":"IFERROR(INDEX(masterlist!$G$2:$G$200,MATCH(A29,masterlist!$C$2:$C$200,0)),\"\")","v":""},{"$f":"IFERROR(INDEX(masterlist!$H$2:$H$200,MATCH(A29,masterlist!$C$2:$C$200,0)),\"\")","v":""},null,null,{"$f":"IFERROR(HYPERLINK(INDEX(masterlist!$M$2:$M$200,MATCH(A29,masterlist!$C$2:$C$200,0)),INDEX(masterlist!$L$2:$L$200,MATCH(A29,masterlist!$C$2:$C$200,0))),\"\")","v":""},{"$f":"IFERROR(HYPERLINK(INDEX(masterlist!$O$2:$O$200,MATCH(A29,masterlist!$C$2:$C$200,0)),INDEX(masterlist!$N$2:$N$200,MATCH(A29,masterlist!$C$2:$C$200,0))),\"\")","v":""},{"$f":"IFERROR(HYPERLINK(INDEX(masterlist!$Q$2:$Q$200,MATCH(A29,masterlist!$C$2:$C$200,0)),INDEX(masterlist!$P$2:$P$200,MATCH(A29,masterlist!$C$2:$C$200,0))),\"\")","v":""},{"$f":"IFERROR(HYPERLINK(INDEX(masterlist!$S$2:$S$200,MATCH(A29,masterlist!$C$2:$C$200,0)),INDEX(masterlist!$R$2:$R$200,MATCH(A29,masterlist!$C$2:$C$200,0))),\"\")","v":""},{"$f":"IFERROR(HYPERLINK(INDEX(masterlist!$U$2:$U$200,MATCH(A29,masterlist!$C$2:$C$200,0)),INDEX(masterlist!$T$2:$T$200,MATCH(A29,masterlist!$C$2:$C$200,0))),\"\")","v":""}]
[{"$f":"IFERROR(INDEX(masterlist!$A$2:$F$200,SMALL(IF(masterlist!$B$2:$B$200=\"IEC\",ROW(masterlist!$A$2:$F$200)-1),ROW(26:26)),3),\"\")","v":""},{"$f":"IFERROR(INDEX(masterlist!$E$2:$E$200,MATCH(A30,masterlist!$C$2:$C$200,0)),\"\")","v":""},{"$f":"IFERROR(INDEX(masterlist!$D$2:$D$200,MATCH(A30,masterlist!$C$2:$C$200,0)),\"\")","v":""},{"$f":"IFERROR(INDEX(masterlist!$G$2:$G$200,MATCH(A30,masterlist!$C$2:$C$200,0)),\"\")","v":""},{"$f":"IFERROR(INDEX(masterlist!$H$2:$H$200,MATCH(A30,masterlist!$C$2:$C$200,0)),\"\")","v":""},null,null,{"$f":"IFERROR(HYPERLINK(INDEX(masterlist!$M$2:$M$200,MATCH(A30,masterlist!$C$2:$C$200,0)),INDEX(masterlist!$L$2:$L$200,MATCH(A30,masterlist!$C$2:$C$200,0))),\"\")","v":""},{"$f":"IFERROR(HYPERLINK(INDEX(masterlist!$O$2:$O$200,MATCH(A30,masterlist!$C$2:$C$200,0)),INDEX(masterlist!$N$2:$N$200,MATCH(A30,masterlist!$C$2:$C$200,0))),\"\")","v":""},{"$f":"IFERROR(HYPERLINK(INDEX(masterlist!$Q$2:$Q$200,MATCH(A30,masterlist!$C$2:$C$200,0)),INDEX(masterlist!$P$2:$P$200,MATCH(A30,masterlist!$C$2:$C$200,0))),\"\")","v":""},{"$f":"IFERROR(HYPERLINK(INDEX(masterlist!$S$2:$S$200,MATCH(A30,masterlist!$C$2:$C$200,0)),INDEX(masterlist!$R$2:$R$200,MATCH(A30,masterlist!$C$2:$C$200,0))),\"\")","v":""},{"$f":"IFERROR(HYPERLINK(INDEX(masterlist!$U$2:$U$200,MATCH(A30,masterlist!$C$2:$C$200,0)),INDEX(masterlist!$T$2:$T$200,MATCH(A30,masterlist!$C$2:$C$200,0))),\"\")","v":""}]
[{"$f":"IFERROR(INDEX(masterlist!$A$2:$F$200,SMALL(IF(masterlist!$B$2:$B$200=\"IEC\",ROW(masterlist!$A$2:$F$200)-1),ROW(27:27)),3),\"\")","v":""},{"$f":"IFERROR(INDEX(masterlist!$E$2:$E$200,MATCH(A31,masterlist!$C$2:$C$200,0)),\"\")","v":""},{"$f":"IFERROR(INDEX(masterlist!$D$2:$D$200,MATCH(A31,masterlist!$C$2:$C$200,0)),\"\")","v":""},{"$f":"IFERROR(INDEX(masterlist!$G$2:$G$200,MATCH(A31,masterlist!$C$2:$C$200,0)),\"\")","v":""},{"$f":"IFERROR(INDEX(masterlist!$H$2:$H$200,MATCH(A31,masterlist!$C$2:$C$200,0)),\"\")","v":""},null,null,{"$f":"IFERROR(HYPERLINK(INDEX(masterlist!$M$2:$M$200,MATCH(A31,masterlist!$C$2:$C$200,0)),INDEX(masterlist!$L$2:$L$200,MATCH(A31,masterlist!$C$2:$C$200,0))),\"\")","v":""},{"$f":"IFERROR(HYPERLINK(INDEX(masterlist!$O$2:$O$200,MATCH(A31,masterlist!$C$2:$C$200,0)),INDEX(masterlist!$N$2:$N$200,MATCH(A31,masterlist!$C$2:$C$200,0))),\"\")","v":""},{"$f":"IFERROR(HYPERLINK(INDEX(masterlist!$Q$2:$Q$200,MATCH(A31,masterlist!$C$2:$C$200,0)),INDEX(masterlist!$P$2:$P$200,MATCH(A31,masterlist!$C$2:$C$200,0))),\"\")","v":""},{"$f":"IFERROR(HYPERLINK(INDEX(masterlist!$S$2:$S$200,MATCH(A31,masterlist!$C$2:$C$200,0)),INDEX(masterlist!$R$2:$R$200,MATCH(A31,masterlist!$C$2:$C$200,0))),\"\")","v":""},{"$f":"IFERROR(HYPERLINK(INDEX(masterlist!$U$2:$U$200,MATCH(A31,masterlist!$C$2:$C$200,0)),INDEX(masterlist!$T$2:$T$200,MATCH(A31,masterlist!$C$2:$C$200,0))),\"\")","v":""}]
[{"$f":"IFERROR(INDEX(masterlist!$A$2:$F$200,SMALL(IF(masterlist!$B$2:$B$200=\"IEC\",ROW(masterlist!$A$2:$F$200)-1),ROW(28:28)),3),\"\")","v":""},{"$f":"IFERROR(INDEX(masterlist!$E$2:$E$200,MATCH(A32,masterlist!$C$2:$C$200,0)),\"\")","v":""},{"$f":"IFERROR(INDEX(masterlist!$D$2:$D$200,MATCH(A32,masterlist!$C$2:$C$200,0)),\"\")","v":""},{"$f":"IFERROR(INDEX(masterlist!$G$2:$G$200,MATCH(A32,masterlist!$C$2:$C$200,0)),\"\")","v":""},{"$f":"IFERROR(INDEX(masterlist!$H$2:$H$200,MATCH(A32,masterlist!$C$2:$C$200,0)),\"\")","v":""},null,null,{"$f":"IFERROR(HYPERLINK(INDEX(masterlist!$M$2:$M$200,MATCH(A32,masterlist!$C$2:$C$200,0)),INDEX(masterlist!$L$2:$L$200,MATCH(A32,masterlist!$C$2:$C$200,0))),\"\")","v":""},{"$f":"IFERROR(HYPERLINK(INDEX(masterlist!$O$2:$O$200,MATCH(A32,masterlist!$C$2:$C$200,0)),INDEX(masterlist!$N$2:$N$200,MATCH(A32,masterlist!$C$2:$C$200,0))),\"\")","v":""},{"$f":"IFERROR(HYPERLINK(INDEX(masterlist!$Q$2:$Q$200,MATCH(A32,masterlist!$C$2:$C$200,0)),INDEX(masterlist!$P$2:$P$200,MATCH(A32,masterlist!$C$2:$C$200,0))),\"\")","v":""},{"$f":"IFERROR(HYPERLINK(INDEX(masterlist!$S$2:$S$200,MATCH(A32,masterlist!$C$2:$C$200,0)),INDEX(masterlist!$R$2:$R$200,MATCH(A32,masterlist!$C$2:$C$200,0))),\"\")","v":""},{"$f":"IFERROR(HYPERLINK(INDEX(masterlist!$U$2:$U$200,MATCH(A32,masterlist!$C$2:$C$200,0)),INDEX(masterlist!$T$2:$T$200,MATCH(A32,masterlist!$C$2:$C$200,0))),\"\")","v":""}]
[{"$f":"IFERROR(INDEX(masterlist!$A$2:$F$200,SMALL(IF(masterlist!$B$2:$B$200=\"IEC\",ROW(masterlist!$A$2:$F$200)-1),ROW(29:29)),3),\"\")","v":""},{"$f":"IFERROR(INDEX(masterlist!$E$2:$E$200,MATCH(A33,masterlist!$C$2:$C$200,0)),\"\")","v":""},{"$f":"IFERROR(INDEX(masterlist!$D$2:$D$200,MATCH(A33,masterlist!$C$2:$C$200,0)),\"\")","v":""},{"$f":"IFERROR(INDEX(masterlist!$G$2:$G$200,MATCH(A33,masterlist!$C$2:$C$200,0)),\"\")","v":""},{"$f":"IFERROR(INDEX(masterlist!$H$2:$H$200,MATCH(A33,masterlist!$C$2:$C$200,0)),\"\")","v":""},null,null,{"$f":"IFERROR(HYPERLINK(INDEX(masterlist!$M$2:$M$200,MATCH(A33,masterlist!$C$2:$C$200,0)),INDEX(masterlist!$L$2:$L$200,MATCH(A33,masterlist!$C$2:$C$200,0))),\"\")","v":""},{"$f":"IFERROR(HYPERLINK(INDEX(masterlist!$O$2:$O$200,MATCH(A33,masterlist!$C$2:$C$200,0)),INDEX(masterlist!$N$2:$N$200,MATCH(A33,masterlist!$C$2:$C$200,0))),\"\")","v":""},{"$f":"IFERROR(HYPERLINK(INDEX(masterlist!$Q$2:$Q$200,MATCH(A33,masterlist!$C$2:$C$200,0)),INDEX(masterlist!$P$2:$P$200,MATCH(A33,masterlist!$C$2:$C$200,0))),\"\")","v":""},{"$f":"IFERROR(HYPERLINK(INDEX(masterlist!$S$2:$S$200,MATCH(A33,masterlist!$C$2:$C$200,0)),INDEX(masterlist!$R$2:$R$200,MATCH(A33,masterlist!$C$2:$C$200,0))),\"\")","v":""},{"$f":"IFERROR(HYPERLINK(INDEX(masterlist!$U$2:$U$200,MATCH(A33,masterlist!$C$2:$C$200,0)),INDEX(masterlist!$T$2:$T$200,MATCH(A33,masterlist!$C$2:$C$200,0))),\"\")","v":""}]
[{"$f":"IFERROR(INDEX(masterlist!$A$2:$F$200,SMALL(IF(masterlist!$B$2:$B$200=\"IEC\",ROW(masterlist!$A$2:$F$200)-1),ROW(30:30)),3),\"\")","v":""},{"$f":"IFERROR(INDEX(masterlist!$E$2:$E$200,MATCH(A34,masterlist!$C$2:$C$200,0)),\"\")","v":""},{"$f":"IFERROR(INDEX(masterlist!$D$2:$D$200,MATCH(A34,masterlist!$C$2:$C$200,0)),\"\")","v":""},{"$f":"IFERROR(INDEX(masterlist!$G$2:$G$200,MATCH(A34,masterlist!$C$2:$C$200,0)),\"\")","v":""},{"$f":"IFERROR(INDEX(masterlist!$H$2:$H$200,MATCH(A34,masterlist!$C$2:$C$200,0)),\"\")","v":""},null,null,{"$f":"IFERROR(HYPERLINK(INDEX(masterlist!$M$2:$M$200,MATCH(A34,masterlist!$C$2:$C$200,0)),INDEX(masterlist!$L$2:$L$200,MATCH(A34,masterlist!$C$2:$C$200,0))),\"\")","v":""},{"$f":"IFERROR(HYPERLINK(INDEX(masterlist!$O$2:$O$200,MATCH(A34,masterlist!$C$2:$C$200,0)),INDEX(masterlist!$N$2:$N$200,MATCH(A34,masterlist!$C$2:$C$200,0))),\"\")","v":""},{"$f":"IFERROR(HYPERLINK(INDEX(masterlist!$Q$2:$Q$200,MATCH(A34,masterlist!$C$2:$C$200,0)),INDEX(masterlist!$P$2:$P$200,MATCH(A34,masterlist!$C$2:$C$200,0))),\"\")","v":""},{"$f":"IFERROR(HYPERLINK(INDEX(masterlist!$S$2:$S$200,MATCH(A34,masterlist!$C$2:$C$200,0)),INDEX(masterlist!$R$2:$R$200,MATCH(A34,masterlist!$C$2:$C$200,0))),\"\")","v":""},{"$f":"IFERROR(HYPERLINK(INDEX(masterlist!$U$2:$U$200,MATCH(A34,masterlist!$C$2:$C$200,0)),INDEX(masterlist!$T$2:$T$200,MATCH(A34,masterlist!$C$2:$C$200,0))),\"\")","v":""}]
[{"$f":"IFERROR(INDEX(masterlist!$A$2:$F$200,SMALL(IF(masterlist!$B$2:$B$200=\"IEC\",ROW(masterlist!$A$2:$F$200)-1),ROW(31:31)),3),\"\")","v":""},{"$f":"IFERROR(INDEX(masterlist!$E$2:$E$200,MATCH(A35,masterlist!$C$2:$C$200,0)),\"\")","v":""},{"$f":"IFERROR(INDEX(masterlist!$D$2:$D$200,MATCH(A35,masterlist!$C$2:$C$200,0)),\"\")","v":""},{"$f":"IFERROR(INDEX(masterlist!$G$2:$G$200,MATCH(A35,masterlist!$C$2:$C$200,0)),\"\")","v":""},{"$f":"IFERROR(INDEX(masterlist!$H$2:$H$200,MATCH(A35,masterlist!$C$2:$C$200,0)),\"\")","v":""},null,null,{"$f":"IFERROR(HYPERLINK(INDEX(masterlist!$M$2:$M$200,MATCH(A35,masterlist!$C$2:$C$200,0)),INDEX(masterlist!$L$2:$L$200,MATCH(A35,masterlist!$C$2:$C$200,0))),\"\")","v":""},{"$f":"IFERROR(HYPERLINK(INDEX(masterlist!$O$2:$O$200,MATCH(A35,masterlist!$C$2:$C$200,0)),INDEX(masterlist!$N$2:$N$200,MATCH(A35,masterlist!$C$2:$C$200,0))),\"\")","v":""},{"$f":"IFERROR(HYPERLINK(INDEX(masterlist!$Q$2:$Q$200,MATCH(A35,masterlist!$C$2:$C$200,0)),INDEX(masterlist!$P$2:$P$200,MATCH(A35,masterlist!$C$2:$C$200,0))),\"\")","v":""},{"$f":"IFERROR(HYPERLINK(INDEX(masterlist!$S$2:$S$200,MATCH(A35,masterlist!$C$2:$C$200,0)),INDEX(masterlist!$R$2:$R$200,MATCH(A35,masterlist!$C$2:$C$200,0))),\"\")","v":""},{"$f":"IFERROR(HYPERLINK(INDEX(masterlist!$U$2:$U$200,MATCH(A35,masterlist!$C$2:$C$200,0)),INDEX(masterlist!$T$2:$T$200,MATCH(A35,masterlist!$C$2:$C$200,0))),\"\")","v":""}]
[{"$f":"IFERROR(INDEX(masterlist!$A$2:$F$200,SMALL(IF(masterlist!$B$2:$B$200=\"IEC\",ROW(masterlist!$A$2:$F$200)-1),ROW(32:32)),3),\"\")","v":""},{"$f":"IFERROR(INDEX(masterlist!$E$2:$E$200,MATCH(A36,masterlist!$C$2:$C$200,0)),\"\")","v":""},{"$f":"IFERROR(INDEX(masterlist!$D$2:$D$200,MATCH(A36,masterlist!$C$2:$C$200,0)),\"\")","v":""},{"$f":"IFERROR(INDEX(masterlist!$G$2:$G$200,MATCH(A36,masterlist!$C$2:$C$200,0)),\"\")","v":""},{"$f":"IFERROR(INDEX(masterlist!$H$2:$H$200,MATCH(A36,masterlist!$C$2:$C$200,0)),\"\")","v":""},null,null,{"$f":"IFERROR(HYPERLINK(INDEX(masterlist!$M$2:$M$200,MATCH(A36,masterlist!$C$2:$C$200,0)),INDEX(masterlist!$L$2:$L$200,MATCH(A36,masterlist!$C$2:$C$200,0))),\"\")","v":""},{"$f":"IFERROR(HYPERLINK(INDEX(masterlist!$O$2:$O$200,MATCH(A36,masterlist!$C$2:$C$200,0)),INDEX(masterlist!$N$2:$N$200,MATCH(A36,masterlist!$C$2:$C$200,0))),\"\")","v":""},{"$f":"IFERROR(HYPERLINK(INDEX(masterlist!$Q$2:$Q$200,MATCH(A36,masterlist!$C$2:$C$200,0)),INDEX(masterlist!$P$2:$P$200,MATCH(A36,masterlist!$C$2:$C$200,0))),\"\")","v":""},{"$f":"IFERROR(HYPERLINK(INDEX(masterlist!$S$2:$S$200,MATCH(A36,masterlist!$C$2:$C$200,0)),INDEX(masterlist!$R$2:$R$200,MATCH(A36,masterlist!$C$2:$C$200,0))),\"\")","v":""},{"$f":"IFERROR(HYPERLINK(INDEX(masterlist!$U$2:$U$200,MATCH(A36,masterlist!$C$2:$C$200,0)),INDEX(masterlist!$T$2:$T$200,MATCH(A36,masterlist!$C$2:$C$200,0))),\"\")","v":""}]
[{"$f":"IFERROR(INDEX(masterlist!$A$2:$F$200,SMALL(IF(masterlist!$B$2:$B$200=\"IEC\",ROW(masterlist!$A$2:$F$200)-1),ROW(33:33)),3),\"\")","v":""},{"$f":"IFERROR(INDEX(masterlist!$E$2:$E$200,MATCH(A37,masterlist!$C$2:$C$200,0)),\"\")","v":""},{"$f":"IFERROR(INDEX(masterlist!$D$2:$D$200,MATCH(A37,masterlist!$C$2:$C$200,0)),\"\")","v":""},{"$f":"IFERROR(INDEX(masterlist!$G$2:$G$200,MATCH(A37,masterlist!$C$2:$C$200,0)),\"\")","v":""},{"$f":"IFERROR(INDEX(masterlist!$H$2:$H$200,MATCH(A37,masterlist!$C$2:$C$200,0)),\"\")","v":""},null,null,{"$f":"IFERROR(HYPERLINK(INDEX(masterlist!$M$2:$M$200,MATCH(A37,masterlist!$C$2:$C$200,0)),INDEX(masterlist!$L$2:$L$200,MATCH(A37,masterlist!$C$2:$C$200,0))),\"\")","v":""},{"$f":"IFERROR(HYPERLINK(INDEX(masterlist!$O$2:$O$200,MATCH(A37,masterlist!$C$2:$C$200,0)),INDEX(masterlist!$N$2:$N$200,MATCH(A37,masterlist!$C$2:$C$200,0))),\"\")","v":""},{"$f":"IFERROR(HYPERLINK(INDEX(masterlist!$Q$2:$Q$200,MATCH(A37,masterlist!$C$2:$C$200,0)),INDEX(masterlist!$P$2:$P$200,MATCH(A37,masterlist!$C$2:$C$200,0))),\"\")","v":""},{"$f":"IFERROR(HYPERLINK(INDEX(masterlist!$S$2:$S$200,MATCH(A37,masterlist!$C$2:$C$200,0)),INDEX(masterlist!$R$2:$R$200,MATCH(A37,masterlist!$C$2:$C$200,0))),\"\")","v":""},{"$f":"IFERROR(HYPERLINK(INDEX(masterlist!$U$2:$U$200,MATCH(A37,masterlist!$C$2:$C$200,0)),INDEX(masterlist!$T$2:$T$200,MATCH(A37,masterlist!$C$2:$C$200,0))),\"\")","v":""}]
[{"$f":"IFERROR(INDEX(masterlist!$A$2:$F$200,SMALL(IF(masterlist!$B$2:$B$200=\"IEC\",ROW(masterlist!$A$2:$F$200)-1),ROW(34:34)),3),\"\")","v":""},{"$f":"IFERROR(INDEX(masterlist!$E$2:$E$200,MATCH(A38,masterlist!$C$2:$C$200,0)),\"\")","v":""},{"$f":"IFERROR(INDEX(masterlist!$D$2:$D$200,MATCH(A38,masterlist!$C$2:$C$200,0)),\"\")","v":""},{"$f":"IFERROR(INDEX(masterlist!$G$2:$G$200,MATCH(A38,masterlist!$C$2:$C$200,0)),\"\")","v":""},{"$f":"IFERROR(INDEX(masterlist!$H$2:$H$200,MATCH(A38,masterlist!$C$2:$C$200,0)),\"\")","v":""},null,null,{"$f":"IFERROR(HYPERLINK(INDEX(masterlist!$M$2:$M$200,MATCH(A38,masterlist!$C$2:$C$200,0)),INDEX(masterlist!$L$2:$L$200,MATCH(A38,masterlist!$C$2:$C$200,0))),\"\")","v":""},{"$f":"IFERROR(HYPERLINK(INDEX(masterlist!$O$2:$O$200,MATCH(A38,masterlist!$C$2:$C$200,0)),INDEX(masterlist!$N$2:$N$200,MATCH(A38,masterlist!$C$2:$C$200,0))),\"\")","v":""},{"$f":"IFERROR(HYPERLINK(INDEX(masterlist!$Q$2:$Q$200,MATCH(A38,masterlist!$C$2:$C$200,0)),INDEX(masterlist!$P$2:$P$200,MATCH(A38,masterlist!$C$2:$C$200,0))),\"\")","v":""},{"$f":"IFERROR(HYPERLINK(INDEX(masterlist!$S$2:$S$200,MATCH(A38,masterlist!$C$2:$C$200,0)),INDEX(masterlist!$R$2:$R$200,MATCH(A38,masterlist!$C$2:$C$200,0))),\"\")","v":""},{"$f":"IFERROR(HYPERLINK(INDEX(masterlist!$U$2:$U$200,MATCH(A38,masterlist!$C$2:$C$200,0)),INDEX(masterlist!$T$2:$T$200,MATCH(A38,masterlist!$C$2:$C$200,0))),\"\")","v":""}]
[{"$f":"IFERROR(INDEX(masterlist!$A$2:$F$200,SMALL(IF(masterlist!$B$2:$B$200=\"IEC\",ROW(masterlist!$A$2:$F$200)-1),ROW(35:35)),3),\"\")","v":""},{"$f":"IFERROR(INDEX(masterlist!$E$2:$E$200,MATCH(A39,masterlist!$C$2:$C$200,0)),\"\")","v":""},{"$f":"IFERROR(INDEX(masterlist!$D$2:$D$200,MATCH(A39,masterlist!$C$2:$C$200,0)),\"\")","v":""},{"$f":"IFERROR(INDEX(masterlist!$G$2:$G$200,MATCH(A39,masterlist!$C$2:$C$200,0)),\"\")","v":""},{"$f":"IFERROR(INDEX(masterlist!$H$2:$H$200,MATCH(A39,masterlist!$C$2:$C$200,0)),\"\")","v":""},null,null,{"$f":"IFERROR(HYPERLINK(INDEX(masterlist!$M$2:$M$200,MATCH(A39,masterlist!$C$2:$C$200,0)),INDEX(masterlist!$L$2:$L$200,MATCH(A39,masterlist!$C$2:$C$200,0))),\"\")","v":""},{"$f":"IFERROR(HYPERLINK(INDEX(masterlist!$O$2:$O$200,MATCH(A39,masterlist!$C$2:$C$200,0)),INDEX(masterlist!$N$2:$N$200,MATCH(A39,masterlist!$C$2:$C$200,0))),\"\")","v":""},{"$f":"IFERROR(HYPERLINK(INDEX(masterlist!$Q$2:$Q$200,MATCH(A39,masterlist!$C$2:$C$200,0)),INDEX(masterlist!$P$2:$P$200,MATCH(A39,masterlist!$C$2:$C$200,0))),\"\")","v":""},{"$f":"IFERROR(HYPERLINK(INDEX(masterlist!$S$2:$S$200,MATCH(A39,masterlist!$C$2:$C$200,0)),INDEX(masterlist!$R$2:$R$200,MATCH(A39,masterlist!$C$2:$C$200,0))),\"\")","v":""},{"$f":"IFERROR(HYPERLINK(INDEX(masterlist!$U$2:$U$200,MATCH(A39,masterlist!$C$2:$C$200,0)),INDEX(masterlist!$T$2:$T$200,MATCH(A39,masterlist!$C$2:$C$200,0))),\"\")","v":""}]
[{"$f":"IFERROR(INDEX(masterlist!$A$2:$F$200,SMALL(IF(masterlist!$B$2:$B$200=\"IEC\",ROW(masterlist!$A$2:$F$200)-1),ROW(36:36)),3),\"\")","v":""},{"$f":"IFERROR(INDEX(masterlist!$E$2:$E$200,MATCH(A40,masterlist!$C$2:$C$200,0)),\"\")","v":""},{"$f":"IFERROR(INDEX(masterlist!$D$2:$D$200,MATCH(A40,masterlist!$C$2:$C$200,0)),\"\")","v":""},{"$f":"IFERROR(INDEX(masterlist!$G$2:$G$200,MATCH(A40,masterlist!$C$2:$C$200,0)),\"\")","v":""},{"$f":"IFERROR(INDEX(masterlist!$H$2:$H$200,MATCH(A40,masterlist!$C$2:$C$200,0)),\"\")","v":""},null,null,{"$f":"IFERROR(HYPERLINK(INDEX(masterlist!$M$2:$M$200,MATCH(A40,masterlist!$C$2:$C$200,0)),INDEX(masterlist!$L$2:$L$200,MATCH(A40,masterlist!$C$2:$C$200,0))),\"\")","v":""},{"$f":"IFERROR(HYPERLINK(INDEX(masterlist!$O$2:$O$200,MATCH(A40,masterlist!$C$2:$C$200,0)),INDEX(masterlist!$N$2:$N$200,MATCH(A40,masterlist!$C$2:$C$200,0))),\"\")","v":""},{"$f":"IFERROR(HYPERLINK(INDEX(masterlist!$Q$2:$Q$200,MATCH(A40,masterlist!$C$2:$C$200,0)),INDEX(masterlist!$P$2:$P$200,MATCH(A40,masterlist!$C$2:$C$200,0))),\"\")","v":""},{"$f":"IFERROR(HYPERLINK(INDEX(masterlist!$S$2:$S$200,MATCH(A40,masterlist!$C$2:$C$200,0)),INDEX(masterlist!$R$2:$R$200,MATCH(A40,masterlist!$C$2:$C$200,0))),\"\")","v":""},{"$f":"IFERROR(HYPERLINK(INDEX(masterlist!$U$2:$U$200,MATCH(A40,masterlist!$C$2:$C$200,0)),INDEX(masterlist!$T$2:$T$200,MATCH(A40,masterlist!$C$2:$C$200,0))),\"\")","v":""}]
[{"$f":"IFERROR(INDEX(masterlist!$A$2:$F$200,SMALL(IF(masterlist!$B$2:$B$200=\"IEC\",ROW(masterlist!$A$2:$F$200)-1),ROW(37:37)),3),\"\")","v":""},{"$f":"IFERROR(INDEX(masterlist!$E$2:$E$200,MATCH(A41,masterlist!$C$2:$C$200,0)),\"\")","v":""},{"$f":"IFERROR(INDEX(masterlist!$D$2:$D$200,MATCH(A41,masterlist!$C$2:$C$200,0)),\"\")","v":""},{"$f":"IFERROR(INDEX(masterlist!$G$2:$G$200,MATCH(A41,masterlist!$C$2:$C$200,0)),\"\")","v":""},{"$f":"IFERROR(INDEX(masterlist!$H$2:$H$200,MATCH(A41,masterlist!$C$2:$C$200,0)),\"\")","v":""},null,null,{"$f":"IFERROR(HYPERLINK(INDEX(masterlist!$M$2:$M$200,MATCH(A41,masterlist!$C$2:$C$200,0)),INDEX(masterlist!$L$2:$L$200,MATCH(A41,masterlist!$C$2:$C$200,0))),\"\")","v":""},{"$f":"IFERROR(HYPERLINK(INDEX(masterlist!$O$2:$O$200,MATCH(A41,masterlist!$C$2:$C$200,0)),INDEX(masterlist!$N$2:$N$200,MATCH(A41,masterlist!$C$2:$C$200,0))),\"\")","v":""},{"$f":"IFERROR(HYPERLINK(INDEX(masterlist!$Q$2:$Q$200,MATCH(A41,masterlist!$C$2:$C$200,0)),INDEX(masterlist!$P$2:$P$200,MATCH(A41,masterlist!$C$2:$C$200,0))),\"\")","v":""},{"$f":"IFERROR(HYPERLINK(INDEX(masterlist!$S$2:$S$200,MATCH(A41,masterlist!$C$2:$C$200,0)),INDEX(masterlist!$R$2:$R$200,MATCH(A41,masterlist!$C$2:$C$200,0))),\"\")","v":""},{"$f":"IFERROR(HYPERLINK(INDEX(masterlist!$U$2:$U$200,MATCH(A41,masterlist!$C$2:$C$200,0)),INDEX(masterlist!$T$2:$T$200,MATCH(A41,masterlist!$C$2:$C$200,0))),\"\")","v":""}]
[{"$f":"IFERROR(INDEX(masterlist!$A$2:$F$200,SMALL(IF(masterlist!$B$2:$B$200=\"IEC\",ROW(masterlist!$A$2:$F$200)-1),ROW(38:38)),3),\"\")","v":""},{"$f":"IFERROR(INDEX(masterlist!$E$2:$E$200,MATCH(A42,masterlist!$C$2:$C$200,0)),\"\")","v":""},{"$f":"IFERROR(INDEX(masterlist!$D$2:$D$200,MATCH(A42,masterlist!$C$2:$C$200,0)),\"\")","v":""},{"$f":"IFERROR(INDEX(masterlist!$G$2:$G$200,MATCH(A42,masterlist!$C$2:$C$200,0)),\"\")","v":""},{"$f":"IFERROR(INDEX(masterlist!$H$2:$H$200,MATCH(A42,masterlist!$C$2:$C$200,0)),\"\")","v":""},null,null,{"$f":"IFERROR(HYPERLINK(INDEX(masterlist!$M$2:$M$200,MATCH(A42,masterlist!$C$2:$C$200,0)),INDEX(masterlist!$L$2:$L$200,MATCH(A42,masterlist!$C$2:$C$200,0))),\"\")","v":""},{"$f":"IFERROR(HYPERLINK(INDEX(masterlist!$O$2:$O$200,MATCH(A42,masterlist!$C$2:$C$200,0)),INDEX(masterlist!$N$2:$N$200,MATCH(A42,masterlist!$C$2:$C$200,0))),\"\")","v":""},{"$f":"IFERROR(HYPERLINK(INDEX(masterlist!$Q$2:$Q$200,MATCH(A42,masterlist!$C$2:$C$200,0)),INDEX(masterlist!$P$2:$P$200,MATCH(A42,masterlist!$C$2:$C$200,0))),\"\")","v":""},{"$f":"IFERROR(HYPERLINK(INDEX(masterlist!$S$2:$S$200,MATCH(A42,masterlist!$C$2:$C$200,0)),INDEX(masterlist!$R$2:$R$200,MATCH(A42,masterlist!$C$2:$C$200,0))),\"\")","v":""},{"$f":"IFERROR(HYPERLINK(INDEX(masterlist!$U$2:$U$200,MATCH(A42,masterlist!$C$2:$C$200,0)),INDEX(masterlist!$T$2:$T$200,MATCH(A42,masterlist!$C$2:$C$200,0))),\"\")","v":""}]
[{"$f":"IFERROR(INDEX(masterlist!$A$2:$F$200,SMALL(IF(masterlist!$B$2:$B$200=\"IEC\",ROW(masterlist!$A$2:$F$200)-1),ROW(39:39)),3),\"\")","v":""},{"$f":"IFERROR(INDEX(masterlist!$E$2:$E$200,MATCH(A43,masterlist!$C$2:$C$200,0)),\"\")","v":""},{"$f":"IFERROR(INDEX(masterlist!$D$2:$D$200,MATCH(A43,masterlist!$C$2:$C$200,0)),\"\")","v":""},{"$f":"IFERROR(INDEX(masterlist!$G$2:$G$200,MATCH(A43,masterlist!$C$2:$C$200,0)),\"\")","v":""},{"$f":"IFERROR(INDEX(masterlist!$H$2:$H$200,MATCH(A43,masterlist!$C$2:$C$200,0)),\"\")","v":""},null,null,{"$f":"IFERROR(HYPERLINK(INDEX(masterlist!$M$2:$M$200,MATCH(A43,masterlist!$C$2:$C$200,0)),INDEX(masterlist!$L$2:$L$200,MATCH(A43,masterlist!$C$2:$C$200,0))),\"\")","v":""},{"$f":"IFERROR(HYPERLINK(INDEX(masterlist!$O$2:$O$200,MATCH(A43,masterlist!$C$2:$C$200,0)),INDEX(masterlist!$N$2:$N$200,MATCH(A43,masterlist!$C$2:$C$200,0))),\"\")","v":""},{"$f":"IFERROR(HYPERLINK(INDEX(masterlist!$Q$2:$Q$200,MATCH(A43,masterlist!$C$2:$C$200,0)),INDEX(masterlist!$P$2:$P$200,MATCH(A43,masterlist!$C$2:$C$200,0))),\"\")","v":""},{"$f":"IFERROR(HYPERLINK(INDEX(masterlist!$S$2:$S$200,MATCH(A43,masterlist!$C$2:$C$200,0)),INDEX(masterlist!$R$2:$R$200,MATCH(A43,masterlist!$C$2:$C$200,0))),\"\")","v":""},{"$f":"IFERROR(HYPERLINK(INDEX(masterlist!$U$2:$U$200,MATCH(A43,masterlist!$C$2:$C$200,0)),INDEX(masterlist!$T$2:$T$200,MATCH(A43,masterlist!$C$2:$C$200,0))),\"\")","v":""}]
[{"$f":"IFERROR(INDEX(masterlist!$A$2:$F$200,SMALL(IF(masterlist!$B$2:$B$200=\"IEC\",ROW(masterlist!$A$2:$F$200)-1),ROW(40:40)),3),\"\")","v":""},{"$f":"IFERROR(INDEX(masterlist!$E$2:$E$200,MATCH(A44,masterlist!$C$2:$C$200,0)),\"\")","v":""},{"$f":"IFERROR(INDEX(masterlist!$D$2:$D$200,MATCH(A44,masterlist!$C$2:$C$200,0)),\"\")","v":""},{"$f":"IFERROR(INDEX(masterlist!$G$2:$G$200,MATCH(A44,masterlist!$C$2:$C$200,0)),\"\")","v":""},{"$f":"IFERROR(INDEX(masterlist!$H$2:$H$200,MATCH(A44,masterlist!$C$2:$C$200,0)),\"\")","v":""},null,null,{"$f":"IFERROR(HYPERLINK(INDEX(masterlist!$M$2:$M$200,MATCH(A44,masterlist!$C$2:$C$200,0)),INDEX(masterlist!$L$2:$L$200,MATCH(A44,masterlist!$C$2:$C$200,0))),\"\")","v":""},{"$f":"IFERROR(HYPERLINK(INDEX(masterlist!$O$2:$O$200,MATCH(A44,masterlist!$C$2:$C$200,0)),INDEX(masterlist!$N$2:$N$200,MATCH(A44,masterlist!$C$2:$C$200,0))),\"\")","v":""},{"$f":"IFERROR(HYPERLINK(INDEX(masterlist!$Q$2:$Q$200,MATCH(A44,masterlist!$C$2:$C$200,0)),INDEX(masterlist!$P$2:$P$200,MATCH(A44,masterlist!$C$2:$C$200,0))),\"\")","v":""},{"$f":"IFERROR(HYPERLINK(INDEX(masterlist!$S$2:$S$200,MATCH(A44,masterlist!$C$2:$C$200,0)),INDEX(masterlist!$R$2:$R$200,MATCH(A44,masterlist!$C$2:$C$200,0))),\"\")","v":""},{"$f":"IFERROR(HYPERLINK(INDEX(masterlist!$U$2:$U$200,MATCH(A44,masterlist!$C$2:$C$200,0)),INDEX(masterlist!$T$2:$T$200,MATCH(A44,masterlist!$C$2:$C$200,0))),\"\")","v":""}]
[{"$f":"IFERROR(INDEX(masterlist!$A$2:$F$200,SMALL(IF(masterlist!$B$2:$B$200=\"IEC\",ROW(masterlist!$A$2:$F$200)-1),ROW(41:41)),3),\"\")","v":""},{"$f":"IFERROR(INDEX(masterlist!$E$2:$E$200,MATCH(A45,masterlist!$C$2:$C$200,0)),\"\")","v":""},{"$f":"IFERROR(INDEX(masterlist!$D$2:$D$200,MATCH(A45,masterlist!$C$2:$C$200,0)),\"\")","v":""},{"$f":"IFERROR(INDEX(masterlist!$G$2:$G$200,MATCH(A45,masterlist!$C$2:$C$200,0)),\"\")","v":""},{"$f":"IFERROR(INDEX(masterlist!$H$2:$H$200,MATCH(A45,masterlist!$C$2:$C$200,0)),\"\")","v":""},null,null,{"$f":"IFERROR(HYPERLINK(INDEX(masterlist!$M$2:$M$200,MATCH(A45,masterlist!$C$2:$C$200,0)),INDEX(masterlist!$L$2:$L$200,MATCH(A45,masterlist!$C$2:$C$200,0))),\"\")","v":""},{"$f":"IFERROR(HYPERLINK(INDEX(masterlist!$O$2:$O$200,MATCH(A45,masterlist!$C$2:$C$200,0)),INDEX(masterlist!$N$2:$N$200,MATCH(A45,masterlist!$C$2:$C$200,0))),\"\")","v":""},{"$f":"IFERROR(HYPERLINK(INDEX(masterlist!$Q$2:$Q$200,MATCH(A45,masterlist!$C$2:$C$200,0)),INDEX(masterlist!$P$2:$P$200,MATCH(A45,masterlist!$C$2:$C$200,0))),\"\")","v":""},{"$f":"IFERROR(HYPERLINK(INDEX(masterlist!$S$2:$S$200,MATCH(A45,masterlist!$C$2:$C$200,0)),INDEX(masterlist!$R$2:$R$200,MATCH(A45,masterlist!$C$2:$C$200,0))),\"\")","v":""},{"$f":"IFERROR(HYPERLINK(INDEX(masterlist!$U$2:$U$200,MATCH(A45,masterlist!$C$2:$C$200,0)),INDEX(masterlist!$T$2:$T$200,MATCH(A45,masterlist!$C$2:$C$200,0))),\"\")","v":""}]
[{"$f":"IFERROR(INDEX(masterlist!$A$2:$F$200,SMALL(IF(masterlist!$B$2:$B$200=\"IEC\",ROW(masterlist!$A$2:$F$200)-1),ROW(42:42)),3),\"\")","v":""},{"$f":"IFERROR(INDEX(masterlist!$E$2:$E$200,MATCH(A46,masterlist!$C$2:$C$200,0)),\"\")","v":""},{"$f":"IFERROR(INDEX(masterlist!$D$2:$D$200,MATCH(A46,masterlist!$C$2:$C$200,0)),\"\")","v":""},{"$f":"IFERROR(INDEX(masterlist!$G$2:$G$200,MATCH(A46,masterlist!$C$2:$C$200,0)),\"\")","v":""},{"$f":"IFERROR(INDEX(masterlist!$H$2:$H$200,MATCH(A46,masterlist!$C$2:$C$200,0)),\"\")","v":""},null,null,{"$f":"IFERROR(HYPERLINK(INDEX(masterlist!$M$2:$M$200,MATCH(A46,masterlist!$C$2:$C$200,0)),INDEX(masterlist!$L$2:$L$200,MATCH(A46,masterlist!$C$2:$C$200,0))),\"\")","v":""},{"$f":"IFERROR(HYPERLINK(INDEX(masterlist!$O$2:$O$200,MATCH(A46,masterlist!$C$2:$C$200,0)),INDEX(masterlist!$N$2:$N$200,MATCH(A46,masterlist!$C$2:$C$200,0))),\"\")","v":""},{"$f":"IFERROR(HYPERLINK(INDEX(masterlist!$Q$2:$Q$200,MATCH(A46,masterlist!$C$2:$C$200,0)),INDEX(masterlist!$P$2:$P$200,MATCH(A46,masterlist!$C$2:$C$200,0))),\"\")","v":""},{"$f":"IFERROR(HYPERLINK(INDEX(masterlist!$S$2:$S$200,MATCH(A46,masterlist!$C$2:$C$200,0)),INDEX(masterlist!$R$2:$R$200,MATCH(A46,masterlist!$C$2:$C$200,0))),\"\")","v":""},{"$f":"IFERROR(HYPERLINK(INDEX(masterlist!$U$2:$U$200,MATCH(A46,masterlist!$C$2:$C$200,0)),INDEX(masterlist!$T$2:$T$200,MATCH(A46,masterlist!$C$2:$C$200,0))),\"\")","v":""}]
[{"$f":"IFERROR(INDEX(masterlist!$A$2:$F$200,SMALL(IF(masterlist!$B$2:$B$200=\"IEC\",ROW(masterlist!$A$2:$F$200)-1),ROW(43:43)),3),\"\")","v":""},{"$f":"IFERROR(INDEX(masterlist!$E$2:$E$200,MATCH(A47,masterlist!$C$2:$C$200,0)),\"\")","v":""},{"$f":"IFERROR(INDEX(masterlist!$D$2:$D$200,MATCH(A47,masterlist!$C$2:$C$200,0)),\"\")","v":""},{"$f":"IFERROR(INDEX(masterlist!$G$2:$G$200,MATCH(A47,masterlist!$C$2:$C$200,0)),\"\")","v":""},{"$f":"IFERROR(INDEX(masterlist!$H$2:$H$200,MATCH(A47,masterlist!$C$2:$C$200,0)),\"\")","v":""},null,null,{"$f":"IFERROR(HYPERLINK(INDEX(masterlist!$M$2:$M$200,MATCH(A47,masterlist!$C$2:$C$200,0)),INDEX(masterlist!$L$2:$L$200,MATCH(A47,masterlist!$C$2:$C$200,0))),\"\")","v":""},{"$f":"IFERROR(HYPERLINK(INDEX(masterlist!$O$2:$O$200,MATCH(A47,masterlist!$C$2:$C$200,0)),INDEX(masterlist!$N$2:$N$200,MATCH(A47,masterlist!$C$2:$C$200,0))),\"\")","v":""},{"$f":"IFERROR(HYPERLINK(INDEX(masterlist!$Q$2:$Q$200,MATCH(A47,masterlist!$C$2:$C$200,0)),INDEX(masterlist!$P$2:$P$200,MATCH(A47,masterlist!$C$2:$C$200,0))),\"\")","v":""},{"$f":"IFERROR(HYPERLINK(INDEX(masterlist!$S$2:$S$200,MATCH(A47,masterlist!$C$2:$C$200,0)),INDEX(masterlist!$R$2:$R$200,MATCH(A47,masterlist!$C$2:$C$200,0))),\"\")","v":""},{"$f":"IFERROR(HYPERLINK(INDEX(masterlist!$U$2:$U$200,MATCH(A47,masterlist!$C$2:$C$200,0)),INDEX(masterlist!$T$2:$T$200,MATCH(A47,masterlist!$C$2:$C$200,0))),\"\")","v":""}]
[{"$f":"IFERROR(INDEX(masterlist!$A$2:$F$200,SMALL(IF(masterlist!$B$2:$B$200=\"IEC\",ROW(masterlist!$A$2:$F$200)-1),ROW(44:44)),3),\"\")","v":""},{"$f":"IFERROR(INDEX(masterlist!$E$2:$E$200,MATCH(A48,masterlist!$C$2:$C$200,0)),\"\")","v":""},{"$f":"IFERROR(INDEX(masterlist!$D$2:$D$200,MATCH(A48,masterlist!$C$2:$C$200,0)),\"\")","v":""},{"$f":"IFERROR(INDEX(masterlist!$G$2:$G$200,MATCH(A48,masterlist!$C$2:$C$200,0)),\"\")","v":""},{"$f":"IFERROR(INDEX(masterlist!$H$2:$H$200,MATCH(A48,masterlist!$C$2:$C$200,0)),\"\")","v":""},null,null,{"$f":"IFERROR(HYPERLINK(INDEX(masterlist!$M$2:$M$200,MATCH(A48,masterlist!$C$2:$C$200,0)),INDEX(masterlist!$L$2:$L$200,MATCH(A48,masterlist!$C$2:$C$200,0))),\"\")","v":""},{"$f":"IFERROR(HYPERLINK(INDEX(masterlist!$O$2:$O$200,MATCH(A48,masterlist!$C$2:$C$200,0)),INDEX(masterlist!$N$2:$N$200,MATCH(A48,masterlist!$C$2:$C$200,0))),\"\")","v":""},{"$f":"IFERROR(HYPERLINK(INDEX(masterlist!$Q$2:$Q$200,MATCH(A48,masterlist!$C$2:$C$200,0)),INDEX(masterlist!$P$2:$P$200,MATCH(A48,masterlist!$C$2:$C$200,0))),\"\")","v":""},{"$f":"IFERROR(HYPERLINK(INDEX(masterlist!$S$2:$S$200,MATCH(A48,masterlist!$C$2:$C$200,0)),INDEX(masterlist!$R$2:$R$200,MATCH(A48,masterlist!$C$2:$C$200,0))),\"\")","v":""},{"$f":"IFERROR(HYPERLINK(INDEX(masterlist!$U$2:$U$200,MATCH(A48,masterlist!$C$2:$C$200,0)),INDEX(masterlist!$T$2:$T$200,MATCH(A48,masterlist!$C$2:$C$200,0))),\"\")","v":""}]
[{"$f":"IFERROR(INDEX(masterlist!$A$2:$F$200,SMALL(IF(masterlist!$B$2:$B$200=\"IEC\",ROW(masterlist!$A$2:$F$200)-1),ROW(45:45)),3),\"\")","v":""},{"$f":"IFERROR(INDEX(masterlist!$E$2:$E$200,MATCH(A49,masterlist!$C$2:$C$200,0)),\"\")","v":""},{"$f":"IFERROR(INDEX(masterlist!$D$2:$D$200,MATCH(A49,masterlist!$C$2:$C$200,0)),\"\")","v":""},{"$f":"IFERROR(INDEX(masterlist!$G$2:$G$200,MATCH(A49,masterlist!$C$2:$C$200,0)),\"\")","v":""},{"$f":"IFERROR(INDEX(masterlist!$H$2:$H$200,MATCH(A49,masterlist!$C$2:$C$200,0)),\"\")","v":""},null,null,{"$f":"IFERROR(HYPERLINK(INDEX(masterlist!$M$2:$M$200,MATCH(A49,masterlist!$C$2:$C$200,0)),INDEX(masterlist!$L$2:$L$200,MATCH(A49,masterlist!$C$2:$C$200,0))),\"\")","v":""},{"$f":"IFERROR(HYPERLINK(INDEX(masterlist!$O$2:$O$200,MATCH(A49,masterlist!$C$2:$C$200,0)),INDEX(masterlist!$N$2:$N$200,MATCH(A49,masterlist!$C$2:$C$200,0))),\"\")","v":""},{"$f":"IFERROR(HYPERLINK(INDEX(masterlist!$Q$2:$Q$200,MATCH(A49,masterlist!$C$2:$C$200,0)),INDEX(masterlist!$P$2:$P$200,MATCH(A49,masterlist!$C$2:$C$200,0))),\"\")","v":""},{"$f":"IFERROR(HYPERLINK(INDEX(masterlist!$S$2:$S$200,MATCH(A49,masterlist!$C$2:$C$200,0)),INDEX(masterlist!$R$2:$R$200,MATCH(A49,masterlist!$C$2:$C$200,0))),\"\")","v":""},{"$f":"IFERROR(HYPERLINK(INDEX(masterlist!$U$2:$U$200,MATCH(A49,masterlist!$C$2:$C$200,0)),INDEX(masterlist!$T$2:$T$200,MATCH(A49,masterlist!$C$2:$C$200,0))),\"\")","v":""}]
[{"$f":"IFERROR(INDEX(masterlist!$A$2:$F$200,SMALL(IF(masterlist!$B$2:$B$200=\"IEC\",ROW(masterlist!$A$2:$F$200)-1),ROW(46:46)),3),\"\")","v":""},{"$f":"IFERROR(INDEX(masterlist!$E$2:$E$200,MATCH(A50,masterlist!$C$2:$C$200,0)),\"\")","v":""},{"$f":"IFERROR(INDEX(masterlist!$D$2:$D$200,MATCH(A50,masterlist!$C$2:$C$200,0)),\"\")","v":""},{"$f":"IFERROR(INDEX(masterlist!$G$2:$G$200,MATCH(A50,masterlist!$C$2:$C$200,0)),\"\")","v":""},{"$f":"IFERROR(INDEX(masterlist!$H$2:$H$200,MATCH(A50,masterlist!$C$2:$C$200,0)),\"\")","v":""},null,null,{"$f":"IFERROR(HYPERLINK(INDEX(masterlist!$M$2:$M$200,MATCH(A50,masterlist!$C$2:$C$200,0)),INDEX(masterlist!$L$2:$L$200,MATCH(A50,masterlist!$C$2:$C$200,0))),\"\")","v":""},{"$f":"IFERROR(HYPERLINK(INDEX(masterlist!$O$2:$O$200,MATCH(A50,masterlist!$C$2:$C$200,0)),INDEX(masterlist!$N$2:$N$200,MATCH(A50,masterlist!$C$2:$C$200,0))),\"\")","v":""},{"$f":"IFERROR(HYPERLINK(INDEX(masterlist!$Q$2:$Q$200,MATCH(A50,masterlist!$C$2:$C$200,0)),INDEX(masterlist!$P$2:$P$200,MATCH(A50,masterlist!$C$2:$C$200,0))),\"\")","v":""},{"$f":"IFERROR(HYPERLINK(INDEX(masterlist!$S$2:$S$200,MATCH(A50,masterlist!$C$2:$C$200,0)),INDEX(masterlist!$R$2:$R$200,MATCH(A50,masterlist!$C$2:$C$200,0))),\"\")","v":""},{"$f":"IFERROR(HYPERLINK(INDEX(masterlist!$U$2:$U$200,MATCH(A50,masterlist!$C$2:$C$200,0)),INDEX(masterlist!$T$2:$T$200,MATCH(A50,masterlist!$C$2:$C$200,0))),\"\")","v":""}]

{"sheet":"Cross-cutting issues","index":11,"n_rows":50,"n_cols":12,"rows_kept":50,"cut":false,"hidden":true,"merged":[[3,7,3,9]]}
[]
[null,"Instructions: Enter \"0\" under Status if No or None, or \"1\" if Yes"]
[]
["ID","STAGE","subcomponent","ACHIEVEMENTS / ACTIVITIES","OTHER IMPORTANT INFORMATION\n(please include in REMARKS)","STATUS","REMARKS","Rabies Blueprint references and other links"]
[{"$f":"IFERROR(INDEX(masterlist!$A$2:$F$200,SMALL(IF(masterlist!$B$2:$B$200=\"CCI\",ROW(masterlist!$A$2:$F$200)-1),ROW(1:1)),3),\"\")","v":"CCI-Int-0-1"},{"$f":"IFERROR(INDEX(masterlist!$E$2:$E$200,MATCH(A5,masterlist!$C$2:$C$200,0)),\"\")","v":0},{"$f":"IFERROR(INDEX(masterlist!$D$2:$D$200,MATCH(A5,masterlist!$C$2:$C$200,0)),\"\")","v":"Intersectoral collaboration"},{"$f":"IFERROR(INDEX(masterlist!$G$2:$G$200,MATCH(A5,masterlist!$C$2:$C$200,0)),\"\")","v":"Are the results of rabies sample(s) shared with local and national authorities? "},{"$f":"IFERROR(INDEX(masterlist!$H$2:$H$200,MATCH(A5,masterlist!$C$2:$C$200,0)),\"\")","v":"Agencies involved"},1,null,{"$f":"IFERROR(HYPERLINK(INDEX(masterlist!$M$2:$M$200,MATCH(A5,masterlist!$C$2:$C$200,0)),INDEX(masterlist!$L$2:$L$200,MATCH(A5,masterlist!$C$2:$C$200,0))),\"\")","v":"6. Reporting of rabies data"},{"$f":"IFERROR(HYPERLINK(INDEX(masterlist!$O$2:$O$200,MATCH(A5,masterlist!$C$2:$C$200,0)),INDEX(masterlist!$N$2:$N$200,MATCH(A5,masterlist!$C$2:$C$200,0))),\"\")","v":0},{"$f":"IFERROR(HYPERLINK(INDEX(masterlist!$Q$2:$Q$200,MATCH(A5,masterlist!$C$2:$C$200,0)),INDEX(masterlist!$P$2:$P$200,MATCH(A5,masterlist!$C$2:$C$200,0))),\"\")","v":0},{"$f":"IFERROR(HYPERLINK(INDEX(masterlist!$S$2:$S$200,MATCH(A5,masterlist!$C$2:$C$200,0)),INDEX(masterlist!$R$2:$R$200,MATCH(A5,masterlist!$C$2:$C$200,0))),\"\")","v":0},{"$f":"IFERROR(HYPERLINK(INDEX(masterlist!$U$2:$U$200,MATCH(A5,masterlist!$C$2:$C$200,0)),INDEX(masterlist!$T$2:$T$200,MATCH(A5,masterlist!$C$2:$C$200,0))),\"\")","v":0}]
[{"$f":"IFERROR(INDEX(masterlist!$A$2:$F$200,SMALL(IF(masterlist!$B$2:$B$200=\"CCI\",ROW(masterlist!$A$2:$F$200)-1),ROW(2:2)),3),\"\")","v":"CCI-Int-1-2"},{"$f":"IFERROR(INDEX(masterlist!$E$2:$E$200,MATCH(A6,masterlist!$C$2:$C$200,0)),\"\")","v":1},{"$f":"IFERROR(INDEX(masterlist!$D$2:$D$200,MATCH(A6,masterlist!$C$2:$C$200,0)),\"\")","v":"Intersectoral collaboration"},{"$f":"IFERROR(INDEX(masterlist!$G$2:$G$200,MATCH(A6,masterlist!$C$2:$C$200,0)),\"\")","v":"Have the main national stakeholders* in rabies prevention and control been identified?"},{"$f":"IFERROR(INDEX(masterlist!$H$2:$H$200,MATCH(A6,masterlist!$C$2:$C$200,0)),\"\")","v":"Agencies of stakeholders involved"},1,null,{"$f":"IFERROR(HYPERLINK(INDEX(masterlist!$M$2:$M$200,MATCH(A6,masterlist!$C$2:$C$200,0)),INDEX(masterlist!$L$2:$L$200,MATCH(A6,masterlist!$C$2:$C$200,0))),\"\")","v":"2. Roles-and-Responsibilities"},{"$f":"IFERROR(HYPERLINK(INDEX(masterlist!$O$2:$O$200,MATCH(A6,masterlist!$C$2:$C$200,0)),INDEX(masterlist!$N$2:$N$200,MATCH(A6,masterlist!$C$2:$C$200,0))),\"\")","v":"Challenges of animal health information systems and surveillance for animal diseases and zoonoses "},{"$f":"IFERROR(HYPERLINK(INDEX(masterlist!$Q$2:$Q$200,MATCH(A6,masterlist!$C$2:$C$200,0)),INDEX(masterlist!$P$2:$P$200,MATCH(A6,masterlist!$C$2:$C$200,0))),\"\")","v":0},{"$f":"IFERROR(HYPERLINK(INDEX(masterlist!$S$2:$S$200,MATCH(A6,masterlist!$C$2:$C$200,0)),INDEX(masterlist!$R$2:$R$200,MATCH(A6,masterlist!$C$2:$C$200,0))),\"\")","v":0},{"$f":"IFERROR(HYPERLINK(INDEX(masterlist!$U$2:$U$200,MATCH(A6,masterlist!$C$2:$C$200,0)),INDEX(masterlist!$T$2:$T$200,MATCH(A6,masterlist!$C$2:$C$200,0))),\"\")","v":0}]
[{"$f":"IFERROR(INDEX(masterlist!$A$2:$F$200,SMALL(IF(masterlist!$B$2:$B$200=\"CCI\",ROW(masterlist!$A$2:$F$200)-1),ROW(3:3)),3),\"\")","v":"CCI-Int-1-3"},{"$f":"IFERROR(INDEX(masterlist!$E$2:$E$200,MATCH(A7,masterlist!$C$2:$C$200,0)),\"\")","v":1},{"$f":"IFERROR(INDEX(masterlist!$D$2:$D$200,MATCH(A7,masterlist!$C$2:$C$200,0)),\"\")","v":"Intersectoral collaboration"},{"$f":"IFERROR(INDEX(masterlist!$G$2:$G$200,MATCH(A7,masterlist!$C$2:$C$200,0)),\"\")","v":"Are the key stakeholders* still actively involved in rabies control? "},{"$f":"IFERROR(INDEX(masterlist!$H$2:$H$200,MATCH(A7,masterlist!$C$2:$C$200,0)),\"\")","v":" "},1,null,{"$f":"IFERROR(HYPERLINK(INDEX(masterlist!$M$2:$M$200,MATCH(A7,masterlist!$C$2:$C$200,0)),INDEX(masterlist!$L$2:$L$200,MATCH(A7,masterlist!$C$2:$C$200,0))),\"\")","v":"2. Roles-and-Responsibilities"},{"$f":"IFERROR(HYPERLINK(INDEX(masterlist!$O$2:$O$200,MATCH(A7,masterlist!$C$2:$C$200,0)),INDEX(masterlist!$N$2:$N$200,MATCH(A7,masterlist!$C$2:$C$200,0))),\"\")","v":0},{"$f":"IFERROR(HYPERLINK(INDEX(masterlist!$Q$2:$Q$200,MATCH(A7,masterlist!$C$2:$C$200,0)),INDEX(masterlist!$P$2:$P$200,MATCH(A7,masterlist!$C$2:$C$200,0))),\"\")","v":0},{"$f":"IFERROR(HYPERLINK(INDEX(masterlist!$S$2:$S$200,MATCH(A7,masterlist!$C$2:$C$200,0)),INDEX(masterlist!$R$2:$R$200,MATCH(A7,masterlist!$C$2:$C$200,0))),\"\")","v":0},{"$f":"IFERROR(HYPERLINK(INDEX(masterlist!$U$2:$U$200,MATCH(A7,masterlist!$C$2:$C$200,0)),INDEX(masterlist!$T$2:$T$200,MATCH(A7,masterlist!$C$2:$C$200,0))),\"\")","v":0}]
[{"$f":"IFERROR(INDEX(masterlist!$A$2:$F$200,SMALL(IF(masterlist!$B$2:$B$200=\"CCI\",ROW(masterlist!$A$2:$F$200)-1),ROW(4:4)),3),\"\")","v":"CCI-Int-1-4"},{"$f":"IFERROR(INDEX(masterlist!$E$2:$E$200,MATCH(A8,masterlist!$C$2:$C$200,0)),\"\")","v":1},{"$f":"IFERROR(INDEX(masterlist!$D$2:$D$200,MATCH(A8,masterlist!$C$2:$C$200,0)),\"\")","v":"Intersectoral collaboration"},{"$f":"IFERROR(INDEX(masterlist!$G$2:$G$200,MATCH(A8,masterlist!$C$2:$C$200,0)),\"\")","v":"Has an intersectoral rabies task force, committee or working group, including all relevant stakeholders*, been established at a local or national level and do they meet/communicate regularly?"},{"$f":"IFERROR(INDEX(masterlist!$H$2:$H$200,MATCH(A8,masterlist!$C$2:$C$200,0)),\"\")","v":"Agencies of members of task force; methods of communication; regularity of meetings/communication"},0,null,{"$f":"IFERROR(HYPERLINK(INDEX(masterlist!$M$2:$M$200,MATCH(A8,masterlist!$C$2:$C$200,0)),INDEX(masterlist!$L$2:$L$200,MATCH(A8,masterlist!$C$2:$C$200,0))),\"\")","v":"2. Roles-and-Responsibilities"},{"$f":"IFERROR(HYPERLINK(INDEX(masterlist!$O$2:$O$200,MATCH(A8,masterlist!$C$2:$C$200,0)),INDEX(masterlist!$N$2:$N$200,MATCH(A8,masterlist!$C$2:$C$200,0))),\"\")","v":"Challenges of animal health information systems and surveillance for animal diseases and zoonoses "},{"$f":"IFERROR(HYPERLINK(INDEX(masterlist!$Q$2:$Q$200,MATCH(A8,masterlist!$C$2:$C$200,0)),INDEX(masterlist!$P$2:$P$200,MATCH(A8,masterlist!$C$2:$C$200,0))),\"\")","v":0},{"$f":"IFERROR(HYPERLINK(INDEX(masterlist!$S$2:$S$200,MATCH(A8,masterlist!$C$2:$C$200,0)),INDEX(masterlist!$R$2:$R$200,MATCH(A8,masterlist!$C$2:$C$200,0))),\"\")","v":0},{"$f":"IFERROR(HYPERLINK(INDEX(masterlist!$U$2:$U$200,MATCH(A8,masterlist!$C$2:$C$200,0)),INDEX(masterlist!$T$2:$T$200,MATCH(A8,masterlist!$C$2:$C$200,0))),\"\")","v":0}]
[{"$f":"IFERROR(INDEX(masterlist!$A$2:$F$200,SMALL(IF(masterlist!$B$2:$B$200=\"CCI\",ROW(masterlist!$A$2:$F$200)-1),ROW(5:5)),3),\"\")","v":"CCI-Int-2-5"},{"$f":"IFERROR(INDEX(masterlist!$E$2:$E$200,MATCH(A9,masterlist!$C$2:$C$200,0)),\"\")","v":2},{"$f":"IFERROR(INDEX(masterlist!$D$2:$D$200,MATCH(A9,masterlist!$C$2:$C$200,0)),\"\")","v":"Intersectoral collaboration"},{"$f":"IFERROR(INDEX(masterlist!$G$2:$G$200,MATCH(A9,masterlist!$C$2:$C$200,0)),\"\")","v":"Is the private sector included in the inter-sectoral task force's discussions and/or activities?"},{"$f":"IFERROR(INDEX(masterlist!$H$2:$H$200,MATCH(A9,masterlist!$C$2:$C$200,0)),\"\")","v":" "},0,null,{"$f":"IFERROR(HYPERLINK(INDEX(masterlist!$M$2:$M$200,MATCH(A9,masterlist!$C$2:$C$200,0)),INDEX(masterlist!$L$2:$L$200,MATCH(A9,masterlist!$C$2:$C$200,0))),\"\")","v":"2. Roles-and-Responsibilities"},{"$f":"IFERROR(HYPERLINK(INDEX(masterlist!$O$2:$O$200,MATCH(A9,masterlist!$C$2:$C$200,0)),INDEX(masterlist!$N$2:$N$200,MATCH(A9,masterlist!$C$2:$C$200,0))),\"\")","v":0},{"$f":"IFERROR(HYPERLINK(INDEX(masterlist!$Q$2:$Q$200,MATCH(A9,masterlist!$C$2:$C$200,0)),INDEX(masterlist!$P$2:$P$200,MATCH(A9,masterlist!$C$2:$C$200,0))),\"\")","v":0},{"$f":"IFERROR(HYPERLINK(INDEX(masterlist!$S$2:$S$200,MATCH(A9,masterlist!$C$2:$C$200,0)),INDEX(masterlist!$R$2:$R$200,MATCH(A9,masterlist!$C$2:$C$200,0))),\"\")","v":0},{"$f":"IFERROR(HYPERLINK(INDEX(masterlist!$U$2:$U$200,MATCH(A9,masterlist!$C$2:$C$200,0)),INDEX(masterlist!$T$2:$T$200,MATCH(A9,masterlist!$C$2:$C$200,0))),\"\")","v":0}]
[{"$f":"IFERROR(INDEX(masterlist!$A$2:$F$200,SMALL(IF(masterlist!$B$2:$B$200=\"CCI\",ROW(masterlist!$A$2:$F$200)-1),ROW(6:6)),3),\"\")","v":"CCI-Nat-1-6"},{"$f":"IFERROR(INDEX(masterlist!$E$2:$E$200,MATCH(A10,masterlist!$C$2:$C$200,0)),\"\")","v":1},{"$f":"IFERROR(INDEX(masterlist!$D$2:$D$200,MATCH(A10,masterlist!$C$2:$C$200,0)),\"\")","v":"National programme and strategy"},{"$f":"IFERROR(INDEX(masterlist!$G$2:$G$200,MATCH(A10,masterlist!$C$2:$C$200,0)),\"\")","v":"Based on a small-scale experience, has a short term rabies action plan been developed and endorsed by relevant authorities at local / national level?"},{"$f":"IFERROR(INDEX(masterlist!$H$2:$H$200,MATCH(A10,masterlist!$C$2:$C$200,0)),\"\")","v":" "},0,null,{"$f":"IFERROR(HYPERLINK(INDEX(masterlist!$M$2:$M$200,MATCH(A10,masterlist!$C$2:$C$200,0)),INDEX(masterlist!$L$2:$L$200,MATCH(A10,masterlist!$C$2:$C$200,0))),\"\")","v":"5.1-What-do-we-need-to-know-before"},{"$f":"IFERROR(HYPERLINK(INDEX(masterlist!$O$2:$O$200,MATCH(A10,masterlist!$C$2:$C$200,0)),INDEX(masterlist!$N$2:$N$200,MATCH(A10,masterlist!$C$2:$C$200,0))),\"\")","v":"1.8-What-measures-are-available"},{"$f":"IFERROR(HYPERLINK(INDEX(masterlist!$Q$2:$Q$200,MATCH(A10,masterlist!$C$2:$C$200,0)),INDEX(masterlist!$P$2:$P$200,MATCH(A10,masterlist!$C$2:$C$200,0))),\"\")","v":"2. Roles-and-Responsibilities"},{"$f":"IFERROR(HYPERLINK(INDEX(masterlist!$S$2:$S$200,MATCH(A10,masterlist!$C$2:$C$200,0)),INDEX(masterlist!$R$2:$R$200,MATCH(A10,masterlist!$C$2:$C$200,0))),\"\")","v":0},{"$f":"IFERROR(HYPERLINK(INDEX(masterlist!$U$2:$U$200,MATCH(A10,masterlist!$C$2:$C$200,0)),INDEX(masterlist!$T$2:$T$200,MATCH(A10,masterlist!$C$2:$C$200,0))),\"\")","v":0}]
[{"$f":"IFERROR(INDEX(masterlist!$A$2:$F$200,SMALL(IF(masterlist!$B$2:$B$200=\"CCI\",ROW(masterlist!$A$2:$F$200)-1),ROW(7:7)),3),\"\")","v":"CCI-Nat-1-7"},{"$f":"IFERROR(INDEX(masterlist!$E$2:$E$200,MATCH(A11,masterlist!$C$2:$C$200,0)),\"\")","v":1},{"$f":"IFERROR(INDEX(masterlist!$D$2:$D$200,MATCH(A11,masterlist!$C$2:$C$200,0)),\"\")","v":"National programme and strategy"},{"$f":"IFERROR(INDEX(masterlist!$G$2:$G$200,MATCH(A11,masterlist!$C$2:$C$200,0)),\"\")","v":"Have mechanisms for mobilizing emergency funds for rabies control been identified?"},{"$f":"IFERROR(INDEX(masterlist!$H$2:$H$200,MATCH(A11,masterlist!$C$2:$C$200,0)),\"\")","v":" "},0,null,{"$f":"IFERROR(HYPERLINK(INDEX(masterlist!$M$2:$M$200,MATCH(A11,masterlist!$C$2:$C$200,0)),INDEX(masterlist!$L$2:$L$200,MATCH(A11,masterlist!$C$2:$C$200,0))),\"\")","v":"3.3-Costs-and-Funding"},{"$f":"IFERROR(HYPERLINK(INDEX(masterlist!$O$2:$O$200,MATCH(A11,masterlist!$C$2:$C$200,0)),INDEX(masterlist!$N$2:$N$200,MATCH(A11,masterlist!$C$2:$C$200,0))),\"\")","v":0},{"$f":"IFERROR(HYPERLINK(INDEX(masterlist!$Q$2:$Q$200,MATCH(A11,masterlist!$C$2:$C$200,0)),INDEX(masterlist!$P$2:$P$200,MATCH(A11,masterlist!$C$2:$C$200,0))),\"\")","v":0},{"$f":"IFERROR(HYPERLINK(INDEX(masterlist!$S$2:$S$200,MATCH(A11,masterlist!$C$2:$C$200,0)),INDEX(masterlist!$R$2:$R$200,MATCH(A11,masterlist!$C$2:$C$200,0))),\"\")","v":0},{"$f":"IFERROR(HYPERLINK(INDEX(masterlist!$U$2:$U$200,MATCH(A11,masterlist!$C$2:$C$200,0)),INDEX(masterlist!$T$2:$T$200,MATCH(A11,masterlist!$C$2:$C$200,0))),\"\")","v":0}]
[{"$f":"IFERROR(INDEX(masterlist!$A$2:$F$200,SMALL(IF(masterlist!$B$2:$B$200=\"CCI\",ROW(masterlist!$A$2:$F$200)-1),ROW(8:8)),3),\"\")","v":"CCI-Nat-2-8"},{"$f":"IFERROR(INDEX(masterlist!$E$2:$E$200,MATCH(A12,masterlist!$C$2:$C$200,0)),\"\")","v":2},{"$f":"IFERROR(INDEX(masterlist!$D$2:$D$200,MATCH(A12,masterlist!$C$2:$C$200,0)),\"\")","v":"National programme and strategy"},{"$f":"IFERROR(INDEX(masterlist!$G$2:$G$200,MATCH(A12,masterlist!$C$2:$C$200,0)),\"\")","v":"Has a national strategy for rabies prevention, control and eventual elimination been drafted and finalised in collaboration with all relevant stakeholders?"},{"$f":"IFERROR(INDEX(masterlist!$H$2:$H$200,MATCH(A12,masterlist!$C$2:$C$200,0)),\"\")","v":" "},0,null,{"$f":"IFERROR(HYPERLINK(INDEX(masterlist!$M$2:$M$200,MATCH(A12,masterlist!$C$2:$C$200,0)),INDEX(masterlist!$L$2:$L$200,MATCH(A12,masterlist!$C$2:$C$200,0))),\"\")","v":"Components-of-a-successful-rabies-programme"},{"$f":"IFERROR(HYPERLINK(INDEX(masterlist!$O$2:$O$200,MATCH(A12,masterlist!$C$2:$C$200,0)),INDEX(masterlist!$N$2:$N$200,MATCH(A12,masterlist!$C$2:$C$200,0))),\"\")","v":0},{"$f":"IFERROR(HYPERLINK(INDEX(masterlist!$Q$2:$Q$200,MATCH(A12,masterlist!$C$2:$C$200,0)),INDEX(masterlist!$P$2:$P$200,MATCH(A12,masterlist!$C$2:$C$200,0))),\"\")","v":0},{"$f":"IFERROR(HYPERLINK(INDEX(masterlist!$S$2:$S$200,MATCH(A12,masterlist!$C$2:$C$200,0)),INDEX(masterlist!$R$2:$R$200,MATCH(A12,masterlist!$C$2:$C$200,0))),\"\")","v":0},{"$f":"IFERROR(HYPERLINK(INDEX(masterlist!$U$2:$U$200,MATCH(A12,masterlist!$C$2:$C$200,0)),INDEX(masterlist!$T$2:$T$200,MATCH(A12,masterlist!$C$2:$C$200,0))),\"\")","v":0}]
[{"$f":"IFERROR(INDEX(masterlist!$A$2:$F$200,SMALL(IF(masterlist!$B$2:$B$200=\"CCI\",ROW(masterlist!$A$2:$F$200)-1),ROW(9:9)),3),\"\")","v":"CCI-Nat-2-9"},{"$f":"IFERROR(INDEX(masterlist!$E$2:$E$200,MATCH(A13,masterlist!$C$2:$C$200,0)),\"\")","v":2},{"$f":"IFERROR(INDEX(masterlist!$D$2:$D$200,MATCH(A13,masterlist!$C$2:$C$200,0)),\"\")","v":"National programme and strategy"},{"$f":"IFERROR(INDEX(masterlist!$G$2:$G$200,MATCH(A13,masterlist!$C$2:$C$200,0)),\"\")","v":"Have government resources been identified and allocated in support of the national rabies control strategy?  "},{"$f":"IFERROR(INDEX(masterlist!$H$2:$H$200,MATCH(A13,masterlist!$C$2:$C$200,0)),\"\")","v":" "},1,null,{"$f":"IFERROR(HYPERLINK(INDEX(masterlist!$M$2:$M$200,MATCH(A13,masterlist!$C$2:$C$200,0)),INDEX(masterlist!$L$2:$L$200,MATCH(A13,masterlist!$C$2:$C$200,0))),\"\")","v":"3.3-Costs-and-Funding"},{"$f":"IFERROR(HYPERLINK(INDEX(masterlist!$O$2:$O$200,MATCH(A13,masterlist!$C$2:$C$200,0)),INDEX(masterlist!$N$2:$N$200,MATCH(A13,masterlist!$C$2:$C$200,0))),\"\")","v":0},{"$f":"IFERROR(HYPERLINK(INDEX(masterlist!$Q$2:$Q$200,MATCH(A13,masterlist!$C$2:$C$200,0)),INDEX(masterlist!$P$2:$P$200,MATCH(A13,masterlist!$C$2:$C$200,0))),\"\")","v":0},{"$f":"IFERROR(HYPERLINK(INDEX(masterlist!$S$2:$S$200,MATCH(A13,masterlist!$C$2:$C$200,0)),INDEX(masterlist!$R$2:$R$200,MATCH(A13,masterlist!$C$2:$C$200,0))),\"\")","v":0},{"$f":"IFERROR(HYPERLINK(INDEX(masterlist!$U$2:$U$200,MATCH(A13,masterlist!$C$2:$C$200,0)),INDEX(masterlist!$T$2:$T$200,MATCH(A13,masterlist!$C$2:$C$200,0))),\"\")","v":0}]
[{"$f":"IFERROR(INDEX(masterlist!$A$2:$F$200,SMALL(IF(masterlist!$B$2:$B$200=\"CCI\",ROW(masterlist!$A$2:$F$200)-1),ROW(10:10)),3),\"\")","v":"CCI-Nat-3-10"},{"$f":"IFERROR(INDEX(masterlist!$E$2:$E$200,MATCH(A14,masterlist!$C$2:$C$200,0)),\"\")","v":3},{"$f":"IFERROR(INDEX(masterlist!$D$2:$D$200,MATCH(A14,masterlist!$C$2:$C$200,0)),\"\")","v":"National programme and strategy"},{"$f":"IFERROR(INDEX(masterlist!$G$2:$G$200,MATCH(A14,masterlist!$C$2:$C$200,0)),\"\")","v":"Now that there are very few animal rabies cases in your country, has the national strategy been refined based on current data? "},{"$f":"IFERROR(INDEX(masterlist!$H$2:$H$200,MATCH(A14,masterlist!$C$2:$C$200,0)),\"\")","v":"e.g. molecular epidemiological information, current research studies/surveys, PEP usage and bite case data."},0,null,{"$f":"IFERROR(HYPERLINK(INDEX(masterlist!$M$2:$M$200,MATCH(A14,masterlist!$C$2:$C$200,0)),INDEX(masterlist!$L$2:$L$200,MATCH(A14,masterlist!$C$2:$C$200,0))),\"\")","v":"5.6-Evaluation"},{"$f":"IFERROR(HYPERLINK(INDEX(masterlist!$O$2:$O$200,MATCH(A14,masterlist!$C$2:$C$200,0)),INDEX(masterlist!$N$2:$N$200,MATCH(A14,masterlist!$C$2:$C$200,0))),\"\")","v":"5.7.1-Sustainability"},{"$f":"IFERROR(HYPERLINK(INDEX(masterlist!$Q$2:$Q$200,MATCH(A14,masterlist!$C$2:$C$200,0)),INDEX(masterlist!$P$2:$P$200,MATCH(A14,masterlist!$C$2:$C$200,0))),\"\")","v":0},{"$f":"IFERROR(HYPERLINK(INDEX(masterlist!$S$2:$S$200,MATCH(A14,masterlist!$C$2:$C$200,0)),INDEX(masterlist!$R$2:$R$200,MATCH(A14,masterlist!$C$2:$C$200,0))),\"\")","v":0},{"$f":"IFERROR(HYPERLINK(INDEX(masterlist!$U$2:$U$200,MATCH(A14,masterlist!$C$2:$C$200,0)),INDEX(masterlist!$T$2:$T$200,MATCH(A14,masterlist!$C$2:$C$200,0))),\"\")","v":0}]
[{"$f":"IFERROR(INDEX(masterlist!$A$2:$F$200,SMALL(IF(masterlist!$B$2:$B$200=\"CCI\",ROW(masterlist!$A$2:$F$200)-1),ROW(11:11)),3),\"\")","v":"CCI-Nat-4-11"},{"$f":"IFERROR(INDEX(masterlist!$E$2:$E$200,MATCH(A15,masterlist!$C$2:$C$200,0)),\"\")","v":4},{"$f":"IFERROR(INDEX(masterlist!$D$2:$D$200,MATCH(A15,masterlist!$C$2:$C$200,0)),\"\")","v":"National programme and strategy"},{"$f":"IFERROR(INDEX(masterlist!$G$2:$G$200,MATCH(A15,masterlist!$C$2:$C$200,0)),\"\")","v":"Have veterinary border inspection and quarantine measures been fully implemented in accordance with national regulations?"},{"$f":"IFERROR(INDEX(masterlist!$H$2:$H$200,MATCH(A15,masterlist!$C$2:$C$200,0)),\"\")","v":" "},1,null,{"$f":"IFERROR(HYPERLINK(INDEX(masterlist!$M$2:$M$200,MATCH(A15,masterlist!$C$2:$C$200,0)),INDEX(masterlist!$L$2:$L$200,MATCH(A15,masterlist!$C$2:$C$200,0))),\"\")","v":"OIE Terrestrial Animal Health Code"},{"$f":"IFERROR(HYPERLINK(INDEX(masterlist!$O$2:$O$200,MATCH(A15,masterlist!$C$2:$C$200,0)),INDEX(masterlist!$N$2:$N$200,MATCH(A15,masterlist!$C$2:$C$200,0))),\"\")","v":0},{"$f":"IFERROR(HYPERLINK(INDEX(masterlist!$Q$2:$Q$200,MATCH(A15,masterlist!$C$2:$C$200,0)),INDEX(masterlist!$P$2:$P$200,MATCH(A15,masterlist!$C$2:$C$200,0))),\"\")","v":0},{"$f":"IFERROR(HYPERLINK(INDEX(masterlist!$S$2:$S$200,MATCH(A15,masterlist!$C$2:$C$200,0)),INDEX(masterlist!$R$2:$R$200,MATCH(A15,masterlist!$C$2:$C$200,0))),\"\")","v":0},{"$f":"IFERROR(HYPERLINK(INDEX(masterlist!$U$2:$U$200,MATCH(A15,masterlist!$C$2:$C$200,0)),INDEX(masterlist!$T$2:$T$200,MATCH(A15,masterlist!$C$2:$C$200,0))),\"\")","v":0}]
[{"$f":"IFERROR(INDEX(masterlist!$A$2:$F$200,SMALL(IF(masterlist!$B$2:$B$200=\"CCI\",ROW(masterlist!$A$2:$F$200)-1),ROW(12:12)),3),\"\")","v":""},{"$f":"IFERROR(INDEX(masterlist!$E$2:$E$200,MATCH(A16,masterlist!$C$2:$C$200,0)),\"\")","v":""},{"$f":"IFERROR(INDEX(masterlist!$D$2:$D$200,MATCH(A16,masterlist!$C$2:$C$200,0)),\"\")","v":""},{"$f":"IFERROR(INDEX(masterlist!$G$2:$G$200,MATCH(A16,masterlist!$C$2:$C$200,0)),\"\")","v":""},{"$f":"IFERROR(INDEX(masterlist!$H$2:$H$200,MATCH(A16,masterlist!$C$2:$C$200,0)),\"\")","v":""},null,null,{"$f":"IFERROR(HYPERLINK(INDEX(masterlist!$M$2:$M$200,MATCH(A16,masterlist!$C$2:$C$200,0)),INDEX(masterlist!$L$2:$L$200,MATCH(A16,masterlist!$C$2:$C$200,0))),\"\")","v":""},{"$f":"IFERROR(HYPERLINK(INDEX(masterlist!$O$2:$O$200,MATCH(A16,masterlist!$C$2:$C$200,0)),INDEX(masterlist!$N$2:$N$200,MATCH(A16,masterlist!$C$2:$C$200,0))),\"\")","v":""},{"$f":"IFERROR(HYPERLINK(INDEX(masterlist!$Q$2:$Q$200,MATCH(A16,masterlist!$C$2:$C$200,0)),INDEX(masterlist!$P$2:$P$200,MATCH(A16,masterlist!$C$2:$C$200,0))),\"\")","v":""},{"$f":"IFERROR(HYPERLINK(INDEX(masterlist!$S$2:$S$200,MATCH(A16,masterlist!$C$2:$C$200,0)),INDEX(masterlist!$R$2:$R$200,MATCH(A16,masterlist!$C$2:$C$200,0))),\"\")","v":""},{"$f":"IFERROR(HYPERLINK(INDEX(masterlist!$U$2:$U$200,MATCH(A16,masterlist!$C$2:$C$200,0)),INDEX(masterlist!$T$2:$T$200,MATCH(A16,masterlist!$C$2:$C$200,0))),\"\")","v":""}]
[{"$f":"IFERROR(INDEX(masterlist!$A$2:$F$200,SMALL(IF(masterlist!$B$2:$B$200=\"CCI\",ROW(masterlist!$A$2:$F$200)-1),ROW(13:13)),3),\"\")","v":""},{"$f":"IFERROR(INDEX(masterlist!$E$2:$E$200,MATCH(A17,masterlist!$C$2:$C$200,0)),\"\")","v":""},{"$f":"IFERROR(INDEX(masterlist!$D$2:$D$200,MATCH(A17,masterlist!$C$2:$C$200,0)),\"\")","v":""},{"$f":"IFERROR(INDEX(masterlist!$G$2:$G$200,MATCH(A17,masterlist!$C$2:$C$200,0)),\"\")","v":""},{"$f":"IFERROR(INDEX(masterlist!$H$2:$H$200,MATCH(A17,masterlist!$C$2:$C$200,0)),\"\")","v":""},null,null,{"$f":"IFERROR(HYPERLINK(INDEX(masterlist!$M$2:$M$200,MATCH(A17,masterlist!$C$2:$C$200,0)),INDEX(masterlist!$L$2:$L$200,MATCH(A17,masterlist!$C$2:$C$200,0))),\"\")","v":""},{"$f":"IFERROR(HYPERLINK(INDEX(masterlist!$O$2:$O$200,MATCH(A17,masterlist!$C$2:$C$200,0)),INDEX(masterlist!$N$2:$N$200,MATCH(A17,masterlist!$C$2:$C$200,0))),\"\")","v":""},{"$f":"IFERROR(HYPERLINK(INDEX(masterlist!$Q$2:$Q$200,MATCH(A17,masterlist!$C$2:$C$200,0)),INDEX(masterlist!$P$2:$P$200,MATCH(A17,masterlist!$C$2:$C$200,0))),\"\")","v":""},{"$f":"IFERROR(HYPERLINK(INDEX(masterlist!$S$2:$S$200,MATCH(A17,masterlist!$C$2:$C$200,0)),INDEX(masterlist!$R$2:$R$200,MATCH(A17,masterlist!$C$2:$C$200,0))),\"\")","v":""},{"$f":"IFERROR(HYPERLINK(INDEX(masterlist!$U$2:$U$200,MATCH(A17,masterlist!$C$2:$C$200,0)),INDEX(masterlist!$T$2:$T$200,MATCH(A17,masterlist!$C$2:$C$200,0))),\"\")","v":""}]
[{"$f":"IFERROR(INDEX(masterlist!$A$2:$F$200,SMALL(IF(masterlist!$B$2:$B$200=\"CCI\",ROW(masterlist!$A$2:$F$200)-1),ROW(14:14)),3),\"\")","v":""},{"$f":"IFERROR(INDEX(masterlist!$E$2:$E$200,MATCH(A18,masterlist!$C$2:$C$200,0)),\"\")","v":""},{"$f":"IFERROR(INDEX(masterlist!$D$2:$D$200,MATCH(A18,masterlist!$C$2:$C$200,0)),\"\")","v":""},{"$f":"IFERROR(INDEX(masterlist!$G$2:$G$200,MATCH(A18,masterlist!$C$2:$C$200,0)),\"\")","v":""},{"$f":"IFERROR(INDEX(masterlist!$H$2:$H$200,MATCH(A18,masterlist!$C$2:$C$200,0)),\"\")","v":""},null,null,{"$f":"IFERROR(HYPERLINK(INDEX(masterlist!$M$2:$M$200,MATCH(A18,masterlist!$C$2:$C$200,0)),INDEX(masterlist!$L$2:$L$200,MATCH(A18,masterlist!$C$2:$C$200,0))),\"\")","v":""},{"$f":"IFERROR(HYPERLINK(INDEX(masterlist!$O$2:$O$200,MATCH(A18,masterlist!$C$2:$C$200,0)),INDEX(masterlist!$N$2:$N$200,MATCH(A18,masterlist!$C$2:$C$200,0))),\"\")","v":""},{"$f":"IFERROR(HYPERLINK(INDEX(masterlist!$Q$2:$Q$200,MATCH(A18,masterlist!$C$2:$C$200,0)),INDEX(masterlist!$P$2:$P$200,MATCH(A18,masterlist!$C$2:$C$200,0))),\"\")","v":""},{"$f":"IFERROR(HYPERLINK(INDEX(masterlist!$S$2:$S$200,MATCH(A18,masterlist!$C$2:$C$200,0)),INDEX(masterlist!$R$2:$R$200,MATCH(A18,masterlist!$C$2:$C$200,0))),\"\")","v":""},{"$f":"IFERROR(HYPERLINK(INDEX(masterlist!$U$2:$U$200,MATCH(A18,masterlist!$C$2:$C$200,0)),INDEX(masterlist!$T$2:$T$200,MATCH(A18,masterlist!$C$2:$C$200,0))),\"\")","v":""}]
[{"$f":"IFERROR(INDEX(masterlist!$A$2:$F$200,SMALL(IF(masterlist!$B$2:$B$200=\"CCI\",ROW(masterlist!$A$2:$F$200)-1),ROW(15:15)),3),\"\")","v":""},{"$f":"IFERROR(INDEX(masterlist!$E$2:$E$200,MATCH(A19,masterlist!$C$2:$C$200,0)),\"\")","v":""},{"$f":"IFERROR(INDEX(masterlist!$D$2:$D$200,MATCH(A19,masterlist!$C$2:$C$200,0)),\"\")","v":""},{"$f":"IFERROR(INDEX(masterlist!$G$2:$G$200,MATCH(A19,masterlist!$C$2:$C$200,0)),\"\")","v":""},{"$f":"IFERROR(INDEX(masterlist!$H$2:$H$200,MATCH(A19,masterlist!$C$2:$C$200,0)),\"\")","v":""},null,null,{"$f":"IFERROR(HYPERLINK(INDEX(masterlist!$M$2:$M$200,MATCH(A19,masterlist!$C$2:$C$200,0)),INDEX(masterlist!$L$2:$L$200,MATCH(A19,masterlist!$C$2:$C$200,0))),\"\")","v":""},{"$f":"IFERROR(HYPERLINK(INDEX(masterlist!$O$2:$O$200,MATCH(A19,masterlist!$C$2:$C$200,0)),INDEX(masterlist!$N$2:$N$200,MATCH(A19,masterlist!$C$2:$C$200,0))),\"\")","v":""},{"$f":"IFERROR(HYPERLINK(INDEX(masterlist!$Q$2:$Q$200,MATCH(A19,masterlist!$C$2:$C$200,0)),INDEX(masterlist!$P$2:$P$200,MATCH(A19,masterlist!$C$2:$C$200,0))),\"\")","v":""},{"$f":"IFERROR(HYPERLINK(INDEX(masterlist!$S$2:$S$200,MATCH(A19,masterlist!$C$2:$C$200,0)),INDEX(masterlist!$R$2:$R$200,MATCH(A19,masterlist!$C$2:$C$200,0))),\"\")","v":""},{"$f":"IFERROR(HYPERLINK(INDEX(masterlist!$U$2:$U$200,MATCH(A19,masterlist!$C$2:$C$200,0)),INDEX(masterlist!$T$2:$T$200,MATCH(A19,masterlist!$C$2:$C$200,0))),\"\")","v":""}]
[{"$f":"IFERROR(INDEX(masterlist!$A$2:$F$200,SMALL(IF(masterlist!$B$2:$B$200=\"CCI\",ROW(masterlist!$A$2:$F$200)-1),ROW(16:16)),3),\"\")","v":""},{"$f":"IFERROR(INDEX(masterlist!$E$2:$E$200,MATCH(A20,masterlist!$C$2:$C$200,0)),\"\")","v":""},{"$f":"IFERROR(INDEX(masterlist!$D$2:$D$200,MATCH(A20,masterlist!$C$2:$C$200,0)),\"\")","v":""},{"$f":"IFERROR(INDEX(masterlist!$G$2:$G$200,MATCH(A20,masterlist!$C$2:$C$200,0)),\"\")","v":""},{"$f":"IFERROR(INDEX(masterlist!$H$2:$H$200,MATCH(A20,masterlist!$C$2:$C$200,0)),\"\")","v":""},null,null,{"$f":"IFERROR(HYPERLINK(INDEX(masterlist!$M$2:$M$200,MATCH(A20,masterlist!$C$2:$C$200,0)),INDEX(masterlist!$L$2:$L$200,MATCH(A20,masterlist!$C$2:$C$200,0))),\"\")","v":""},{"$f":"IFERROR(HYPERLINK(INDEX(masterlist!$O$2:$O$200,MATCH(A20,masterlist!$C$2:$C$200,0)),INDEX(masterlist!$N$2:$N$200,MATCH(A20,masterlist!$C$2:$C$200,0))),\"\")","v":""},{"$f":"IFERROR(HYPERLINK(INDEX(masterlist!$Q$2:$Q$200,MATCH(A20,masterlist!$C$2:$C$200,0)),INDEX(masterlist!$P$2:$P$200,MATCH(A20,masterlist!$C$2:$C$200,0))),\"\")","v":""},{"$f":"IFERROR(HYPERLINK(INDEX(masterlist!$S$2:$S$200,MATCH(A20,masterlist!$C$2:$C$200,0)),INDEX(masterlist!$R$2:$R$200,MATCH(A20,masterlist!$C$2:$C$200,0))),\"\")","v":""},{"$f":"IFERROR(HYPERLINK(INDEX(masterlist!$U$2:$U$200,MATCH(A20,masterlist!$C$2:$C$200,0)),INDEX(masterlist!$T$2:$T$200,MATCH(A20,masterlist!$C$2:$C$200,0))),\"\")","v":""}]
[{"$f":"IFERROR(INDEX(masterlist!$A$2:$F$200,SMALL(IF(masterlist!$B$2:$B$200=\"CCI\",ROW(masterlist!$A$2:$F$200)-1),ROW(17:17)),3),\"\")","v":""},{"$f":"IFERROR(INDEX(masterlist!$E$2:$E$200,MATCH(A21,masterlist!$C$2:$C$200,0)),\"\")","v":""},{"$f":"IFERROR(INDEX(masterlist!$D$2:$D$200,MATCH(A21,masterlist!$C$2:$C$200,0)),\"\")","v":""},{"$f":"IFERROR(INDEX(masterlist!$G$2:$G$200,MATCH(A21,masterlist!$C$2:$C$200,0)),\"\")","v":""},{"$f":"IFERROR(INDEX(masterlist!$H$2:$H$200,MATCH(A21,masterlist!$C$2:$C$200,0)),\"\")","v":""},null,null,{"$f":"IFERROR(HYPERLINK(INDEX(masterlist!$M$2:$M$200,MATCH(A21,masterlist!$C$2:$C$200,0)),INDEX(masterlist!$L$2:$L$200,MATCH(A21,masterlist!$C$2:$C$200,0))),\"\")","v":""},{"$f":"IFERROR(HYPERLINK(INDEX(masterlist!$O$2:$O$200,MATCH(A21,masterlist!$C$2:$C$200,0)),INDEX(masterlist!$N$2:$N$200,MATCH(A21,masterlist!$C$2:$C$200,0))),\"\")","v":""},{"$f":"IFERROR(HYPERLINK(INDEX(masterlist!$Q$2:$Q$200,MATCH(A21,masterlist!$C$2:$C$200,0)),INDEX(masterlist!$P$2:$P$200,MATCH(A21,masterlist!$C$2:$C$200,0))),\"\")","v":""},{"$f":"IFERROR(HYPERLINK(INDEX(masterlist!$S$2:$S$200,MATCH(A21,masterlist!$C$2:$C$200,0)),INDEX(masterlist!$R$2:$R$200,MATCH(A21,masterlist!$C$2:$C$200,0))),\"\")","v":""},{"$f":"IFERROR(HYPERLINK(INDEX(masterlist!$U$2:$U$200,MATCH(A21,masterlist!$C$2:$C$200,0)),INDEX(masterlist!$T$2:$T$200,MATCH(A21,masterlist!$C$2:$C$200,0))),\"\")","v":""}]
[{"$f":"IFERROR(INDEX(masterlist!$A$2:$F$200,SMALL(IF(masterlist!$B$2:$B$200=\"CCI\",ROW(masterlist!$A$2:$F$200)-1),ROW(18:18)),3),\"\")","v":""},{"$f":"IFERROR(INDEX(masterlist!$E$2:$E$200,MATCH(A22,masterlist!$C$2:$C$200,0)),\"\")","v":""},{"$f":"IFERROR(INDEX(masterlist!$D$2:$D$200,MATCH(A22,masterlist!$C$2:$C$200,0)),\"\")","v":""},{"$f":"IFERROR(INDEX(masterlist!$G$2:$G$200,MATCH(A22,masterlist!$C$2:$C$200,0)),\"\")","v":""},{"$f":"IFERROR(INDEX(masterlist!$H$2:$H$200,MATCH(A22,masterlist!$C$2:$C$200,0)),\"\")","v":""},null,null,{"$f":"IFERROR(HYPERLINK(INDEX(masterlist!$M$2:$M$200,MATCH(A22,masterlist!$C$2:$C$200,0)),INDEX(masterlist!$L$2:$L$200,MATCH(A22,masterlist!$C$2:$C$200,0))),\"\")","v":""},{"$f":"IFERROR(HYPERLINK(INDEX(masterlist!$O$2:$O$200,MATCH(A22,masterlist!$C$2:$C$200,0)),INDEX(masterlist!$N$2:$N$200,MATCH(A22,masterlist!$C$2:$C$200,0))),\"\")","v":""},{"$f":"IFERROR(HYPERLINK(INDEX(masterlist!$Q$2:$Q$200,MATCH(A22,masterlist!$C$2:$C$200,0)),INDEX(masterlist!$P$2:$P$200,MATCH(A22,masterlist!$C$2:$C$200,0))),\"\")","v":""},{"$f":"IFERROR(HYPERLINK(INDEX(masterlist!$S$2:$S$200,MATCH(A22,masterlist!$C$2:$C$200,0)),INDEX(masterlist!$R$2:$R$200,MATCH(A22,masterlist!$C$2:$C$200,0))),\"\")","v":""},{"$f":"IFERROR(HYPERLINK(INDEX(masterlist!$U$2:$U$200,MATCH(A22,masterlist!$C$2:$C$200,0)),INDEX(masterlist!$T$2:$T$200,MATCH(A22,masterlist!$C$2:$C$200,0))),\"\")","v":""}]
[{"$f":"IFERROR(INDEX(masterlist!$A$2:$F$200,SMALL(IF(masterlist!$B$2:$B$200=\"CCI\",ROW(masterlist!$A$2:$F$200)-1),ROW(19:19)),3),\"\")","v":""},{"$f":"IFERROR(INDEX(masterlist!$E$2:$E$200,MATCH(A23,masterlist!$C$2:$C$200,0)),\"\")","v":""},{"$f":"IFERROR(INDEX(masterlist!$D$2:$D$200,MATCH(A23,masterlist!$C$2:$C$200,0)),\"\")","v":""},{"$f":"IFERROR(INDEX(masterlist!$G$2:$G$200,MATCH(A23,masterlist!$C$2:$C$200,0)),\"\")","v":""},{"$f":"IFERROR(INDEX(masterlist!$H$2:$H$200,MATCH(A23,masterlist!$C$2:$C$200,0)),\"\")","v":""},null,null,{"$f":"IFERROR(HYPERLINK(INDEX(masterlist!$M$2:$M$200,MATCH(A23,masterlist!$C$2:$C$200,0)),INDEX(masterlist!$L$2:$L$200,MATCH(A23,masterlist!$C$2:$C$200,0))),\"\")","v":""},{"$f":"IFERROR(HYPERLINK(INDEX(masterlist!$O$2:$O$200,MATCH(A23,masterlist!$C$2:$C$200,0)),INDEX(masterlist!$N$2:$N$200,MATCH(A23,masterlist!$C$2:$C$200,0))),\"\")","v":""},{"$f":"IFERROR(HYPERLINK(INDEX(masterlist!$Q$2:$Q$200,MATCH(A23,masterlist!$C$2:$C$200,0)),INDEX(masterlist!$P$2:$P$200,MATCH(A23,masterlist!$C$2:$C$200,0))),\"\")","v":""},{"$f":"IFERROR(HYPERLINK(INDEX(masterlist!$S$2:$S$200,MATCH(A23,masterlist!$C$2:$C$200,0)),INDEX(masterlist!$R$2:$R$200,MATCH(A23,masterlist!$C$2:$C$200,0))),\"\")","v":""},{"$f":"IFERROR(HYPERLINK(INDEX(masterlist!$U$2:$U$200,MATCH(A23,masterlist!$C$2:$C$200,0)),INDEX(masterlist!$T$2:$T$200,MATCH(A23,masterlist!$C$2:$C$200,0))),\"\")","v":""}]
[{"$f":"IFERROR(INDEX(masterlist!$A$2:$F$200,SMALL(IF(masterlist!$B$2:$B$200=\"CCI\",ROW(masterlist!$A$2:$F$200)-1),ROW(20:20)),3),\"\")","v":""},{"$f":"IFERROR(INDEX(masterlist!$E$2:$E$200,MATCH(A24,masterlist!$C$2:$C$200,0)),\"\")","v":""},{"$f":"IFERROR(INDEX(masterlist!$D$2:$D$200,MATCH(A24,masterlist!$C$2:$C$200,0)),\"\")","v":""},{"$f":"IFERROR(INDEX(masterlist!$G$2:$G$200,MATCH(A24,masterlist!$C$2:$C$200,0)),\"\")","v":""},{"$f":"IFERROR(INDEX(masterlist!$H$2:$H$200,MATCH(A24,masterlist!$C$2:$C$200,0)),\"\")","v":""},null,null,{"$f":"IFERROR(HYPERLINK(INDEX(masterlist!$M$2:$M$200,MATCH(A24,masterlist!$C$2:$C$200,0)),INDEX(masterlist!$L$2:$L$200,MATCH(A24,masterlist!$C$2:$C$200,0))),\"\")","v":""},{"$f":"IFERROR(HYPERLINK(INDEX(masterlist!$O$2:$O$200,MATCH(A24,masterlist!$C$2:$C$200,0)),INDEX(masterlist!$N$2:$N$200,MATCH(A24,masterlist!$C$2:$C$200,0))),\"\")","v":""},{"$f":"IFERROR(HYPERLINK(INDEX(masterlist!$Q$2:$Q$200,MATCH(A24,masterlist!$C$2:$C$200,0)),INDEX(masterlist!$P$2:$P$200,MATCH(A24,masterlist!$C$2:$C$200,0))),\"\")","v":""},{"$f":"IFERROR(HYPERLINK(INDEX(masterlist!$S$2:$S$200,MATCH(A24,masterlist!$C$2:$C$200,0)),INDEX(masterlist!$R$2:$R$200,MATCH(A24,masterlist!$C$2:$C$200,0))),\"\")","v":""},{"$f":"IFERROR(HYPERLINK(INDEX(masterlist!$U$2:$U$200,MATCH(A24,masterlist!$C$2:$C$200,0)),INDEX(masterlist!$T$2:$T$200,MATCH(A24,masterlist!$C$2:$C$200,0))),\"\")","v":""}]
[{"$f":"IFERROR(INDEX(masterlist!$A$2:$F$200,SMALL(IF(masterlist!$B$2:$B$200=\"CCI\",ROW(masterlist!$A$2:$F$200)-1),ROW(21:21)),3),\"\")","v":""},{"$f":"IFERROR(INDEX(masterlist!$E$2:$E$200,MATCH(A25,masterlist!$C$2:$C$200,0)),\"\")","v":""},{"$f":"IFERROR(INDEX(masterlist!$D$2:$D$200,MATCH(A25,masterlist!$C$2:$C$200,0)),\"\")","v":""},{"$f":"IFERROR(INDEX(masterlist!$G$2:$G$200,MATCH(A25,masterlist!$C$2:$C$200,0)),\"\")","v":""},{"$f":"IFERROR(INDEX(masterlist!$H$2:$H$200,MATCH(A25,masterlist!$C$2:$C$200,0)),\"\")","v":""},null,null,{"$f":"IFERROR(HYPERLINK(INDEX(masterlist!$M$2:$M$200,MATCH(A25,masterlist!$C$2:$C$200,0)),INDEX(masterlist!$L$2:$L$200,MATCH(A25,masterlist!$C$2:$C$200,0))),\"\")","v":""},{"$f":"IFERROR(HYPERLINK(INDEX(masterlist!$O$2:$O$200,MATCH(A25,masterlist!$C$2:$C$200,0)),INDEX(masterlist!$N$2:$N$200,MATCH(A25,masterlist!$C$2:$C$200,0))),\"\")","v":""},{"$f":"IFERROR(HYPERLINK(INDEX(masterlist!$Q$2:$Q$200,MATCH(A25,masterlist!$C$2:$C$200,0)),INDEX(masterlist!$P$2:$P$200,MATCH(A25,masterlist!$C$2:$C$200,0))),\"\")","v":""},{"$f":"IFERROR(HYPERLINK(INDEX(masterlist!$S$2:$S$200,MATCH(A25,masterlist!$C$2:$C$200,0)),INDEX(masterlist!$R$2:$R$200,MATCH(A25,masterlist!$C$2:$C$200,0))),\"\")","v":""},{"$f":"IFERROR(HYPERLINK(INDEX(masterlist!$U$2:$U$200,MATCH(A25,masterlist!$C$2:$C$200,0)),INDEX(masterlist!$T$2:$T$200,MATCH(A25,masterlist!$C$2:$C$200,0))),\"\")","v":""}]
[{"$f":"IFERROR(INDEX(masterlist!$A$2:$F$200,SMALL(IF(masterlist!$B$2:$B$200=\"CCI\",ROW(masterlist!$A$2:$F$200)-1),ROW(22:22)),3),\"\")","v":""},{"$f":"IFERROR(INDEX(masterlist!$E$2:$E$200,MATCH(A26,masterlist!$C$2:$C$200,0)),\"\")","v":""},{"$f":"IFERROR(INDEX(masterlist!$D$2:$D$200,MATCH(A26,masterlist!$C$2:$C$200,0)),\"\")","v":""},{"$f":"IFERROR(INDEX(masterlist!$G$2:$G$200,MATCH(A26,masterlist!$C$2:$C$200,0)),\"\")","v":""},{"$f":"IFERROR(INDEX(masterlist!$H$2:$H$200,MATCH(A26,masterlist!$C$2:$C$200,0)),\"\")","v":""},null,null,{"$f":"IFERROR(HYPERLINK(INDEX(masterlist!$M$2:$M$200,MATCH(A26,masterlist!$C$2:$C$200,0)),INDEX(masterlist!$L$2:$L$200,MATCH(A26,masterlist!$C$2:$C$200,0))),\"\")","v":""},{"$f":"IFERROR(HYPERLINK(INDEX(masterlist!$O$2:$O$200,MATCH(A26,masterlist!$C$2:$C$200,0)),INDEX(masterlist!$N$2:$N$200,MATCH(A26,masterlist!$C$2:$C$200,0))),\"\")","v":""},{"$f":"IFERROR(HYPERLINK(INDEX(masterlist!$Q$2:$Q$200,MATCH(A26,masterlist!$C$2:$C$200,0)),INDEX(masterlist!$P$2:$P$200,MATCH(A26,masterlist!$C$2:$C$200,0))),\"\")","v":""},{"$f":"IFERROR(HYPERLINK(INDEX(masterlist!$S$2:$S$200,MATCH(A26,masterlist!$C$2:$C$200,0)),INDEX(masterlist!$R$2:$R$200,MATCH(A26,masterlist!$C$2:$C$200,0))),\"\")","v":""},{"$f":"IFERROR(HYPERLINK(INDEX(masterlist!$U$2:$U$200,MATCH(A26,masterlist!$C$2:$C$200,0)),INDEX(masterlist!$T$2:$T$200,MATCH(A26,masterlist!$C$2:$C$200,0))),\"\")","v":""}]
[{"$f":"IFERROR(INDEX(masterlist!$A$2:$F$200,SMALL(IF(masterlist!$B$2:$B$200=\"CCI\",ROW(masterlist!$A$2:$F$200)-1),ROW(23:23)),3),\"\")","v":""},{"$f":"IFERROR(INDEX(masterlist!$E$2:$E$200,MATCH(A27,masterlist!$C$2:$C$200,0)),\"\")","v":""},{"$f":"IFERROR(INDEX(masterlist!$D$2:$D$200,MATCH(A27,masterlist!$C$2:$C$200,0)),\"\")","v":""},{"$f":"IFERROR(INDEX(masterlist!$G$2:$G$200,MATCH(A27,masterlist!$C$2:$C$200,0)),\"\")","v":""},{"$f":"IFERROR(INDEX(masterlist!$H$2:$H$200,MATCH(A27,masterlist!$C$2:$C$200,0)),\"\")","v":""},null,null,{"$f":"IFERROR(HYPERLINK(INDEX(masterlist!$M$2:$M$200,MATCH(A27,masterlist!$C$2:$C$200,0)),INDEX(masterlist!$L$2:$L$200,MATCH(A27,masterlist!$C$2:$C$200,0))),\"\")","v":""},{"$f":"IFERROR(HYPERLINK(INDEX(masterlist!$O$2:$O$200,MATCH(A27,masterlist!$C$2:$C$200,0)),INDEX(masterlist!$N$2:$N$200,MATCH(A27,masterlist!$C$2:$C$200,0))),\"\")","v":""},{"$f":"IFERROR(HYPERLINK(INDEX(masterlist!$Q$2:$Q$200,MATCH(A27,masterlist!$C$2:$C$200,0)),INDEX(masterlist!$P$2:$P$200,MATCH(A27,masterlist!$C$2:$C$200,0))),\"\")","v":""},{"$f":"IFERROR(HYPERLINK(INDEX(masterlist!$S$2:$S$200,MATCH(A27,masterlist!$C$2:$C$200,0)),INDEX(masterlist!$R$2:$R$200,MATCH(A27,masterlist!$C$2:$C$200,0))),\"\")","v":""},{"$f":"IFERROR(HYPERLINK(INDEX(masterlist!$U$2:$U$200,MATCH(A27,masterlist!$C$2:$C$200,0)),INDEX(masterlist!$T$2:$T$200,MATCH(A27,masterlist!$C$2:$C$200,0))),\"\")","v":""}]
[{"$f":"IFERROR(INDEX(masterlist!$A$2:$F$200,SMALL(IF(masterlist!$B$2:$B$200=\"CCI\",ROW(masterlist!$A$2:$F$200)-1),ROW(24:24)),3),\"\")","v":""},{"$f":"IFERROR(INDEX(masterlist!$E$2:$E$200,MATCH(A28,masterlist!$C$2:$C$200,0)),\"\")","v":""},{"$f":"IFERROR(INDEX(masterlist!$D$2:$D$200,MATCH(A28,masterlist!$C$2:$C$200,0)),\"\")","v":""},{"$f":"IFERROR(INDEX(masterlist!$G$2:$G$200,MATCH(A28,masterlist!$C$2:$C$200,0)),\"\")","v":""},{"$f":"IFERROR(INDEX(masterlist!$H$2:$H$200,MATCH(A28,masterlist!$C$2:$C$200,0)),\"\")","v":""},null,null,{"$f":"IFERROR(HYPERLINK(INDEX(masterlist!$M$2:$M$200,MATCH(A28,masterlist!$C$2:$C$200,0)),INDEX(masterlist!$L$2:$L$200,MATCH(A28,masterlist!$C$2:$C$200,0))),\"\")","v":""},{"$f":"IFERROR(HYPERLINK(INDEX(masterlist!$O$2:$O$200,MATCH(A28,masterlist!$C$2:$C$200,0)),INDEX(masterlist!$N$2:$N$200,MATCH(A28,masterlist!$C$2:$C$200,0))),\"\")","v":""},{"$f":"IFERROR(HYPERLINK(INDEX(masterlist!$Q$2:$Q$200,MATCH(A28,masterlist!$C$2:$C$200,0)),INDEX(masterlist!$P$2:$P$200,MATCH(A28,masterlist!$C$2:$C$200,0))),\"\")","v":""},{"$f":"IFERROR(HYPERLINK(INDEX(masterlist!$S$2:$S$200,MATCH(A28,masterlist!$C$2:$C$200,0)),INDEX(masterlist!$R$2:$R$200,MATCH(A28,masterlist!$C$2:$C$200,0))),\"\")","v":""},{"$f":"IFERROR(HYPERLINK(INDEX(masterlist!$U$2:$U$200,MATCH(A28,masterlist!$C$2:$C$200,0)),INDEX(masterlist!$T$2:$T$200,MATCH(A28,masterlist!$C$2:$C$200,0))),\"\")","v":""}]
[{"$f":"IFERROR(INDEX(masterlist!$A$2:$F$200,SMALL(IF(masterlist!$B$2:$B$200=\"CCI\",ROW(masterlist!$A$2:$F$200)-1),ROW(25:25)),3),\"\")","v":""},{"$f":"IFERROR(INDEX(masterlist!$E$2:$E$200,MATCH(A29,masterlist!$C$2:$C$200,0)),\"\")","v":""},{"$f":"IFERROR(INDEX(masterlist!$D$2:$D$200,MATCH(A29,masterlist!$C$2:$C$200,0)),\"\")","v":""},{"$f":"IFERROR(INDEX(masterlist!$G$2:$G$200,MATCH(A29,masterlist!$C$2:$C$200,0)),\"\")","v":""},{"$f":"IFERROR(INDEX(masterlist!$H$2:$H$200,MATCH(A29,masterlist!$C$2:$C$200,0)),\"\")","v":""},null,null,{"$f":"IFERROR(HYPERLINK(INDEX(masterlist!$M$2:$M$200,MATCH(A29,masterlist!$C$2:$C$200,0)),INDEX(masterlist!$L$2:$L$200,MATCH(A29,masterlist!$C$2:$C$200,0))),\"\")","v":""},{"$f":"IFERROR(HYPERLINK(INDEX(masterlist!$O$2:$O$200,MATCH(A29,masterlist!$C$2:$C$200,0)),INDEX(masterlist!$N$2:$N$200,MATCH(A29,masterlist!$C$2:$C$200,0))),\"\")","v":""},{"$f":"IFERROR(HYPERLINK(INDEX(masterlist!$Q$2:$Q$200,MATCH(A29,masterlist!$C$2:$C$200,0)),INDEX(masterlist!$P$2:$P$200,MATCH(A29,masterlist!$C$2:$C$200,0))),\"\")","v":""},{"$f":"IFERROR(HYPERLINK(INDEX(masterlist!$S$2:$S$200,MATCH(A29,masterlist!$C$2:$C$200,0)),INDEX(masterlist!$R$2:$R$200,MATCH(A29,masterlist!$C$2:$C$200,0))),\"\")","v":""},{"$f":"IFERROR(HYPERLINK(INDEX(masterlist!$U$2:$U$200,MATCH(A29,masterlist!$C$2:$C$200,0)),INDEX(masterlist!$T$2:$T$200,MATCH(A29,masterlist!$C$2:$C$200,0))),\"\")","v":""}]
[{"$f":"IFERROR(INDEX(masterlist!$A$2:$F$200,SMALL(IF(masterlist!$B$2:$B$200=\"CCI\",ROW(masterlist!$A$2:$F$200)-1),ROW(26:26)),3),\"\")","v":""},{"$f":"IFERROR(INDEX(masterlist!$E$2:$E$200,MATCH(A30,masterlist!$C$2:$C$200,0)),\"\")","v":""},{"$f":"IFERROR(INDEX(masterlist!$D$2:$D$200,MATCH(A30,masterlist!$C$2:$C$200,0)),\"\")","v":""},{"$f":"IFERROR(INDEX(masterlist!$G$2:$G$200,MATCH(A30,masterlist!$C$2:$C$200,0)),\"\")","v":""},{"$f":"IFERROR(INDEX(masterlist!$H$2:$H$200,MATCH(A30,masterlist!$C$2:$C$200,0)),\"\")","v":""},null,null,{"$f":"IFERROR(HYPERLINK(INDEX(masterlist!$M$2:$M$200,MATCH(A30,masterlist!$C$2:$C$200,0)),INDEX(masterlist!$L$2:$L$200,MATCH(A30,masterlist!$C$2:$C$200,0))),\"\")","v":""},{"$f":"IFERROR(HYPERLINK(INDEX(masterlist!$O$2:$O$200,MATCH(A30,masterlist!$C$2:$C$200,0)),INDEX(masterlist!$N$2:$N$200,MATCH(A30,masterlist!$C$2:$C$200,0))),\"\")","v":""},{"$f":"IFERROR(HYPERLINK(INDEX(masterlist!$Q$2:$Q$200,MATCH(A30,masterlist!$C$2:$C$200,0)),INDEX(masterlist!$P$2:$P$200,MATCH(A30,masterlist!$C$2:$C$200,0))),\"\")","v":""},{"$f":"IFERROR(HYPERLINK(INDEX(masterlist!$S$2:$S$200,MATCH(A30,masterlist!$C$2:$C$200,0)),INDEX(masterlist!$R$2:$R$200,MATCH(A30,masterlist!$C$2:$C$200,0))),\"\")","v":""},{"$f":"IFERROR(HYPERLINK(INDEX(masterlist!$U$2:$U$200,MATCH(A30,masterlist!$C$2:$C$200,0)),INDEX(masterlist!$T$2:$T$200,MATCH(A30,masterlist!$C$2:$C$200,0))),\"\")","v":""}]
[{"$f":"IFERROR(INDEX(masterlist!$A$2:$F$200,SMALL(IF(masterlist!$B$2:$B$200=\"CCI\",ROW(masterlist!$A$2:$F$200)-1),ROW(27:27)),3),\"\")","v":""},{"$f":"IFERROR(INDEX(masterlist!$E$2:$E$200,MATCH(A31,masterlist!$C$2:$C$200,0)),\"\")","v":""},{"$f":"IFERROR(INDEX(masterlist!$D$2:$D$200,MATCH(A31,masterlist!$C$2:$C$200,0)),\"\")","v":""},{"$f":"IFERROR(INDEX(masterlist!$G$2:$G$200,MATCH(A31,masterlist!$C$2:$C$200,0)),\"\")","v":""},{"$f":"IFERROR(INDEX(masterlist!$H$2:$H$200,MATCH(A31,masterlist!$C$2:$C$200,0)),\"\")","v":""},null,null,{"$f":"IFERROR(HYPERLINK(INDEX(masterlist!$M$2:$M$200,MATCH(A31,masterlist!$C$2:$C$200,0)),INDEX(masterlist!$L$2:$L$200,MATCH(A31,masterlist!$C$2:$C$200,0))),\"\")","v":""},{"$f":"IFERROR(HYPERLINK(INDEX(masterlist!$O$2:$O$200,MATCH(A31,masterlist!$C$2:$C$200,0)),INDEX(masterlist!$N$2:$N$200,MATCH(A31,masterlist!$C$2:$C$200,0))),\"\")","v":""},{"$f":"IFERROR(HYPERLINK(INDEX(masterlist!$Q$2:$Q$200,MATCH(A31,masterlist!$C$2:$C$200,0)),INDEX(masterlist!$P$2:$P$200,MATCH(A31,masterlist!$C$2:$C$200,0))),\"\")","v":""},{"$f":"IFERROR(HYPERLINK(INDEX(masterlist!$S$2:$S$200,MATCH(A31,masterlist!$C$2:$C$200,0)),INDEX(masterlist!$R$2:$R$200,MATCH(A31,masterlist!$C$2:$C$200,0))),\"\")","v":""},{"$f":"IFERROR(HYPERLINK(INDEX(masterlist!$U$2:$U$200,MATCH(A31,masterlist!$C$2:$C$200,0)),INDEX(masterlist!$T$2:$T$200,MATCH(A31,masterlist!$C$2:$C$200,0))),\"\")","v":""}]
[{"$f":"IFERROR(INDEX(masterlist!$A$2:$F$200,SMALL(IF(masterlist!$B$2:$B$200=\"CCI\",ROW(masterlist!$A$2:$F$200)-1),ROW(28:28)),3),\"\")","v":""},{"$f":"IFERROR(INDEX(masterlist!$E$2:$E$200,MATCH(A32,masterlist!$C$2:$C$200,0)),\"\")","v":""},{"$f":"IFERROR(INDEX(masterlist!$D$2:$D$200,MATCH(A32,masterlist!$C$2:$C$200,0)),\"\")","v":""},{"$f":"IFERROR(INDEX(masterlist!$G$2:$G$200,MATCH(A32,masterlist!$C$2:$C$200,0)),\"\")","v":""},{"$f":"IFERROR(INDEX(masterlist!$H$2:$H$200,MATCH(A32,masterlist!$C$2:$C$200,0)),\"\")","v":""},null,null,{"$f":"IFERROR(HYPERLINK(INDEX(masterlist!$M$2:$M$200,MATCH(A32,masterlist!$C$2:$C$200,0)),INDEX(masterlist!$L$2:$L$200,MATCH(A32,masterlist!$C$2:$C$200,0))),\"\")","v":""},{"$f":"IFERROR(HYPERLINK(INDEX(masterlist!$O$2:$O$200,MATCH(A32,masterlist!$C$2:$C$200,0)),INDEX(masterlist!$N$2:$N$200,MATCH(A32,masterlist!$C$2:$C$200,0))),\"\")","v":""},{"$f":"IFERROR(HYPERLINK(INDEX(masterlist!$Q$2:$Q$200,MATCH(A32,masterlist!$C$2:$C$200,0)),INDEX(masterlist!$P$2:$P$200,MATCH(A32,masterlist!$C$2:$C$200,0))),\"\")","v":""},{"$f":"IFERROR(HYPERLINK(INDEX(masterlist!$S$2:$S$200,MATCH(A32,masterlist!$C$2:$C$200,0)),INDEX(masterlist!$R$2:$R$200,MATCH(A32,masterlist!$C$2:$C$200,0))),\"\")","v":""},{"$f":"IFERROR(HYPERLINK(INDEX(masterlist!$U$2:$U$200,MATCH(A32,masterlist!$C$2:$C$200,0)),INDEX(masterlist!$T$2:$T$200,MATCH(A32,masterlist!$C$2:$C$200,0))),\"\")","v":""}]
[{"$f":"IFERROR(INDEX(masterlist!$A$2:$F$200,SMALL(IF(masterlist!$B$2:$B$200=\"CCI\",ROW(masterlist!$A$2:$F$200)-1),ROW(29:29)),3),\"\")","v":""},{"$f":"IFERROR(INDEX(masterlist!$E$2:$E$200,MATCH(A33,masterlist!$C$2:$C$200,0)),\"\")","v":""},{"$f":"IFERROR(INDEX(masterlist!$D$2:$D$200,MATCH(A33,masterlist!$C$2:$C$200,0)),\"\")","v":""},{"$f":"IFERROR(INDEX(masterlist!$G$2:$G$200,MATCH(A33,masterlist!$C$2:$C$200,0)),\"\")","v":""},{"$f":"IFERROR(INDEX(masterlist!$H$2:$H$200,MATCH(A33,masterlist!$C$2:$C$200,0)),\"\")","v":""},null,null,{"$f":"IFERROR(HYPERLINK(INDEX(masterlist!$M$2:$M$200,MATCH(A33,masterlist!$C$2:$C$200,0)),INDEX(masterlist!$L$2:$L$200,MATCH(A33,masterlist!$C$2:$C$200,0))),\"\")","v":""},{"$f":"IFERROR(HYPERLINK(INDEX(masterlist!$O$2:$O$200,MATCH(A33,masterlist!$C$2:$C$200,0)),INDEX(masterlist!$N$2:$N$200,MATCH(A33,masterlist!$C$2:$C$200,0))),\"\")","v":""},{"$f":"IFERROR(HYPERLINK(INDEX(masterlist!$Q$2:$Q$200,MATCH(A33,masterlist!$C$2:$C$200,0)),INDEX(masterlist!$P$2:$P$200,MATCH(A33,masterlist!$C$2:$C$200,0))),\"\")","v":""},{"$f":"IFERROR(HYPERLINK(INDEX(masterlist!$S$2:$S$200,MATCH(A33,masterlist!$C$2:$C$200,0)),INDEX(masterlist!$R$2:$R$200,MATCH(A33,masterlist!$C$2:$C$200,0))),\"\")","v":""},{"$f":"IFERROR(HYPERLINK(INDEX(masterlist!$U$2:$U$200,MATCH(A33,masterlist!$C$2:$C$200,0)),INDEX(masterlist!$T$2:$T$200,MATCH(A33,masterlist!$C$2:$C$200,0))),\"\")","v":""}]
[{"$f":"IFERROR(INDEX(masterlist!$A$2:$F$200,SMALL(IF(masterlist!$B$2:$B$200=\"CCI\",ROW(masterlist!$A$2:$F$200)-1),ROW(30:30)),3),\"\")","v":""},{"$f":"IFERROR(INDEX(masterlist!$E$2:$E$200,MATCH(A34,masterlist!$C$2:$C$200,0)),\"\")","v":""},{"$f":"IFERROR(INDEX(masterlist!$D$2:$D$200,MATCH(A34,masterlist!$C$2:$C$200,0)),\"\")","v":""},{"$f":"IFERROR(INDEX(masterlist!$G$2:$G$200,MATCH(A34,masterlist!$C$2:$C$200,0)),\"\")","v":""},{"$f":"IFERROR(INDEX(masterlist!$H$2:$H$200,MATCH(A34,masterlist!$C$2:$C$200,0)),\"\")","v":""},null,null,{"$f":"IFERROR(HYPERLINK(INDEX(masterlist!$M$2:$M$200,MATCH(A34,masterlist!$C$2:$C$200,0)),INDEX(masterlist!$L$2:$L$200,MATCH(A34,masterlist!$C$2:$C$200,0))),\"\")","v":""},{"$f":"IFERROR(HYPERLINK(INDEX(masterlist!$O$2:$O$200,MATCH(A34,masterlist!$C$2:$C$200,0)),INDEX(masterlist!$N$2:$N$200,MATCH(A34,masterlist!$C$2:$C$200,0))),\"\")","v":""},{"$f":"IFERROR(HYPERLINK(INDEX(masterlist!$Q$2:$Q$200,MATCH(A34,masterlist!$C$2:$C$200,0)),INDEX(masterlist!$P$2:$P$200,MATCH(A34,masterlist!$C$2:$C$200,0))),\"\")","v":""},{"$f":"IFERROR(HYPERLINK(INDEX(masterlist!$S$2:$S$200,MATCH(A34,masterlist!$C$2:$C$200,0)),INDEX(masterlist!$R$2:$R$200,MATCH(A34,masterlist!$C$2:$C$200,0))),\"\")","v":""},{"$f":"IFERROR(HYPERLINK(INDEX(masterlist!$U$2:$U$200,MATCH(A34,masterlist!$C$2:$C$200,0)),INDEX(masterlist!$T$2:$T$200,MATCH(A34,masterlist!$C$2:$C$200,0))),\"\")","v":""}]
[{"$f":"IFERROR(INDEX(masterlist!$A$2:$F$200,SMALL(IF(masterlist!$B$2:$B$200=\"CCI\",ROW(masterlist!$A$2:$F$200)-1),ROW(31:31)),3),\"\")","v":""},{"$f":"IFERROR(INDEX(masterlist!$E$2:$E$200,MATCH(A35,masterlist!$C$2:$C$200,0)),\"\")","v":""},{"$f":"IFERROR(INDEX(masterlist!$D$2:$D$200,MATCH(A35,masterlist!$C$2:$C$200,0)),\"\")","v":""},{"$f":"IFERROR(INDEX(masterlist!$G$2:$G$200,MATCH(A35,masterlist!$C$2:$C$200,0)),\"\")","v":""},{"$f":"IFERROR(INDEX(masterlist!$H$2:$H$200,MATCH(A35,masterlist!$C$2:$C$200,0)),\"\")","v":""},null,null,{"$f":"IFERROR(HYPERLINK(INDEX(masterlist!$M$2:$M$200,MATCH(A35,masterlist!$C$2:$C$200,0)),INDEX(masterlist!$L$2:$L$200,MATCH(A35,masterlist!$C$2:$C$200,0))),\"\")","v":""},{"$f":"IFERROR(HYPERLINK(INDEX(masterlist!$O$2:$O$200,MATCH(A35,masterlist!$C$2:$C$200,0)),INDEX(masterlist!$N$2:$N$200,MATCH(A35,masterlist!$C$2:$C$200,0))),\"\")","v":""},{"$f":"IFERROR(HYPERLINK(INDEX(masterlist!$Q$2:$Q$200,MATCH(A35,masterlist!$C$2:$C$200,0)),INDEX(masterlist!$P$2:$P$200,MATCH(A35,masterlist!$C$2:$C$200,0))),\"\")","v":""},{"$f":"IFERROR(HYPERLINK(INDEX(masterlist!$S$2:$S$200,MATCH(A35,masterlist!$C$2:$C$200,0)),INDEX(masterlist!$R$2:$R$200,MATCH(A35,masterlist!$C$2:$C$200,0))),\"\")","v":""},{"$f":"IFERROR(HYPERLINK(INDEX(masterlist!$U$2:$U$200,MATCH(A35,masterlist!$C$2:$C$200,0)),INDEX(masterlist!$T$2:$T$200,MATCH(A35,masterlist!$C$2:$C$200,0))),\"\")","v":""}]
[{"$f":"IFERROR(INDEX(masterlist!$A$2:$F$200,SMALL(IF(masterlist!$B$2:$B$200=\"CCI\",ROW(masterlist!$A$2:$F$200)-1),ROW(32:32)),3),\"\")","v":""},{"$f":"IFERROR(INDEX(masterlist!$E$2:$E$200,MATCH(A36,masterlist!$C$2:$C$200,0)),\"\")","v":""},{"$f":"IFERROR(INDEX(masterlist!$D$2:$D$200,MATCH(A36,masterlist!$C$2:$C$200,0)),\"\")","v":""},{"$f":"IFERROR(INDEX(masterlist!$G$2:$G$200,MATCH(A36,masterlist!$C$2:$C$200,0)),\"\")","v":""},{"$f":"IFERROR(INDEX(masterlist!$H$2:$H$200,MATCH(A36,masterlist!$C$2:$C$200,0)),\"\")","v":""},null,null,{"$f":"IFERROR(HYPERLINK(INDEX(masterlist!$M$2:$M$200,MATCH(A36,masterlist!$C$2:$C$200,0)),INDEX(masterlist!$L$2:$L$200,MATCH(A36,masterlist!$C$2:$C$200,0))),\"\")","v":""},{"$f":"IFERROR(HYPERLINK(INDEX(masterlist!$O$2:$O$200,MATCH(A36,masterlist!$C$2:$C$200,0)),INDEX(masterlist!$N$2:$N$200,MATCH(A36,masterlist!$C$2:$C$200,0))),\"\")","v":""},{"$f":"IFERROR(HYPERLINK(INDEX(masterlist!$Q$2:$Q$200,MATCH(A36,masterlist!$C$2:$C$200,0)),INDEX(masterlist!$P$2:$P$200,MATCH(A36,masterlist!$C$2:$C$200,0))),\"\")","v":""},{"$f":"IFERROR(HYPERLINK(INDEX(masterlist!$S$2:$S$200,MATCH(A36,masterlist!$C$2:$C$200,0)),INDEX(masterlist!$R$2:$R$200,MATCH(A36,masterlist!$C$2:$C$200,0))),\"\")","v":""},{"$f":"IFERROR(HYPERLINK(INDEX(masterlist!$U$2:$U$200,MATCH(A36,masterlist!$C$2:$C$200,0)),INDEX(masterlist!$T$2:$T$200,MATCH(A36,masterlist!$C$2:$C$200,0))),\"\")","v":""}]
[{"$f":"IFERROR(INDEX(masterlist!$A$2:$F$200,SMALL(IF(masterlist!$B$2:$B$200=\"CCI\",ROW(masterlist!$A$2:$F$200)-1),ROW(33:33)),3),\"\")","v":""},{"$f":"IFERROR(INDEX(masterlist!$E$2:$E$200,MATCH(A37,masterlist!$C$2:$C$200,0)),\"\")","v":""},{"$f":"IFERROR(INDEX(masterlist!$D$2:$D$200,MATCH(A37,masterlist!$C$2:$C$200,0)),\"\")","v":""},{"$f":"IFERROR(INDEX(masterlist!$G$2:$G$200,MATCH(A37,masterlist!$C$2:$C$200,0)),\"\")","v":""},{"$f":"IFERROR(INDEX(masterlist!$H$2:$H$200,MATCH(A37,masterlist!$C$2:$C$200,0)),\"\")","v":""},null,null,{"$f":"IFERROR(HYPERLINK(INDEX(masterlist!$M$2:$M$200,MATCH(A37,masterlist!$C$2:$C$200,0)),INDEX(masterlist!$L$2:$L$200,MATCH(A37,masterlist!$C$2:$C$200,0))),\"\")","v":""},{"$f":"IFERROR(HYPERLINK(INDEX(masterlist!$O$2:$O$200,MATCH(A37,masterlist!$C$2:$C$200,0)),INDEX(masterlist!$N$2:$N$200,MATCH(A37,masterlist!$C$2:$C$200,0))),\"\")","v":""},{"$f":"IFERROR(HYPERLINK(INDEX(masterlist!$Q$2:$Q$200,MATCH(A37,masterlist!$C$2:$C$200,0)),INDEX(masterlist!$P$2:$P$200,MATCH(A37,masterlist!$C$2:$C$200,0))),\"\")","v":""},{"$f":"IFERROR(HYPERLINK(INDEX(masterlist!$S$2:$S$200,MATCH(A37,masterlist!$C$2:$C$200,0)),INDEX(masterlist!$R$2:$R$200,MATCH(A37,masterlist!$C$2:$C$200,0))),\"\")","v":""},{"$f":"IFERROR(HYPERLINK(INDEX(masterlist!$U$2:$U$200,MATCH(A37,masterlist!$C$2:$C$200,0)),INDEX(masterlist!$T$2:$T$200,MATCH(A37,masterlist!$C$2:$C$200,0))),\"\")","v":""}]
[{"$f":"IFERROR(INDEX(masterlist!$A$2:$F$200,SMALL(IF(masterlist!$B$2:$B$200=\"CCI\",ROW(masterlist!$A$2:$F$200)-1),ROW(34:34)),3),\"\")","v":""},{"$f":"IFERROR(INDEX(masterlist!$E$2:$E$200,MATCH(A38,masterlist!$C$2:$C$200,0)),\"\")","v":""},{"$f":"IFERROR(INDEX(masterlist!$D$2:$D$200,MATCH(A38,masterlist!$C$2:$C$200,0)),\"\")","v":""},{"$f":"IFERROR(INDEX(masterlist!$G$2:$G$200,MATCH(A38,masterlist!$C$2:$C$200,0)),\"\")","v":""},{"$f":"IFERROR(INDEX(masterlist!$H$2:$H$200,MATCH(A38,masterlist!$C$2:$C$200,0)),\"\")","v":""},null,null,{"$f":"IFERROR(HYPERLINK(INDEX(masterlist!$M$2:$M$200,MATCH(A38,masterlist!$C$2:$C$200,0)),INDEX(masterlist!$L$2:$L$200,MATCH(A38,masterlist!$C$2:$C$200,0))),\"\")","v":""},{"$f":"IFERROR(HYPERLINK(INDEX(masterlist!$O$2:$O$200,MATCH(A38,masterlist!$C$2:$C$200,0)),INDEX(masterlist!$N$2:$N$200,MATCH(A38,masterlist!$C$2:$C$200,0))),\"\")","v":""},{"$f":"IFERROR(HYPERLINK(INDEX(masterlist!$Q$2:$Q$200,MATCH(A38,masterlist!$C$2:$C$200,0)),INDEX(masterlist!$P$2:$P$200,MATCH(A38,masterlist!$C$2:$C$200,0))),\"\")","v":""},{"$f":"IFERROR(HYPERLINK(INDEX(masterlist!$S$2:$S$200,MATCH(A38,masterlist!$C$2:$C$200,0)),INDEX(masterlist!$R$2:$R$200,MATCH(A38,masterlist!$C$2:$C$200,0))),\"\")","v":""},{"$f":"IFERROR(HYPERLINK(INDEX(masterlist!$U$2:$U$200,MATCH(A38,masterlist!$C$2:$C$200,0)),INDEX(masterlist!$T$2:$T$200,MATCH(A38,masterlist!$C$2:$C$200,0))),\"\")","v":""}]
[{"$f":"IFERROR(INDEX(masterlist!$A$2:$F$200,SMALL(IF(masterlist!$B$2:$B$200=\"CCI\",ROW(masterlist!$A$2:$F$200)-1),ROW(35:35)),3),\"\")","v":""},{"$f":"IFERROR(INDEX(masterlist!$E$2:$E$200,MATCH(A39,masterlist!$C$2:$C$200,0)),\"\")","v":""},{"$f":"IFERROR(INDEX(masterlist!$D$2:$D$200,MATCH(A39,masterlist!$C$2:$C$200,0)),\"\")","v":""},{"$f":"IFERROR(INDEX(masterlist!$G$2:$G$200,MATCH(A39,masterlist!$C$2:$C$200,0)),\"\")","v":""},{"$f":"IFERROR(INDEX(masterlist!$H$2:$H$200,MATCH(A39,masterlist!$C$2:$C$200,0)),\"\")","v":""},null,null,{"$f":"IFERROR(HYPERLINK(INDEX(masterlist!$M$2:$M$200,MATCH(A39,masterlist!$C$2:$C$200,0)),INDEX(masterlist!$L$2:$L$200,MATCH(A39,masterlist!$C$2:$C$200,0))),\"\")","v":""},{"$f":"IFERROR(HYPERLINK(INDEX(masterlist!$O$2:$O$200,MATCH(A39,masterlist!$C$2:$C$200,0)),INDEX(masterlist!$N$2:$N$200,MATCH(A39,masterlist!$C$2:$C$200,0))),\"\")","v":""},{"$f":"IFERROR(HYPERLINK(INDEX(masterlist!$Q$2:$Q$200,MATCH(A39,masterlist!$C$2:$C$200,0)),INDEX(masterlist!$P$2:$P$200,MATCH(A39,masterlist!$C$2:$C$200,0))),\"\")","v":""},{"$f":"IFERROR(HYPERLINK(INDEX(masterlist!$S$2:$S$200,MATCH(A39,masterlist!$C$2:$C$200,0)),INDEX(masterlist!$R$2:$R$200,MATCH(A39,masterlist!$C$2:$C$200,0))),\"\")","v":""},{"$f":"IFERROR(HYPERLINK(INDEX(masterlist!$U$2:$U$200,MATCH(A39,masterlist!$C$2:$C$200,0)),INDEX(masterlist!$T$2:$T$200,MATCH(A39,masterlist!$C$2:$C$200,0))),\"\")","v":""}]
[{"$f":"IFERROR(INDEX(masterlist!$A$2:$F$200,SMALL(IF(masterlist!$B$2:$B$200=\"CCI\",ROW(masterlist!$A$2:$F$200)-1),ROW(36:36)),3),\"\")","v":""},{"$f":"IFERROR(INDEX(masterlist!$E$2:$E$200,MATCH(A40,masterlist!$C$2:$C$200,0)),\"\")","v":""},{"$f":"IFERROR(INDEX(masterlist!$D$2:$D$200,MATCH(A40,masterlist!$C$2:$C$200,0)),\"\")","v":""},{"$f":"IFERROR(INDEX(masterlist!$G$2:$G$200,MATCH(A40,masterlist!$C$2:$C$200,0)),\"\")","v":""},{"$f":"IFERROR(INDEX(masterlist!$H$2:$H$200,MATCH(A40,masterlist!$C$2:$C$200,0)),\"\")","v":""},null,null,{"$f":"IFERROR(HYPERLINK(INDEX(masterlist!$M$2:$M$200,MATCH(A40,masterlist!$C$2:$C$200,0)),INDEX(masterlist!$L$2:$L$200,MATCH(A40,masterlist!$C$2:$C$200,0))),\"\")","v":""},{"$f":"IFERROR(HYPERLINK(INDEX(masterlist!$O$2:$O$200,MATCH(A40,masterlist!$C$2:$C$200,0)),INDEX(masterlist!$N$2:$N$200,MATCH(A40,masterlist!$C$2:$C$200,0))),\"\")","v":""},{"$f":"IFERROR(HYPERLINK(INDEX(masterlist!$Q$2:$Q$200,MATCH(A40,masterlist!$C$2:$C$200,0)),INDEX(masterlist!$P$2:$P$200,MATCH(A40,masterlist!$C$2:$C$200,0))),\"\")","v":""},{"$f":"IFERROR(HYPERLINK(INDEX(masterlist!$S$2:$S$200,MATCH(A40,masterlist!$C$2:$C$200,0)),INDEX(masterlist!$R$2:$R$200,MATCH(A40,masterlist!$C$2:$C$200,0))),\"\")","v":""},{"$f":"IFERROR(HYPERLINK(INDEX(masterlist!$U$2:$U$200,MATCH(A40,masterlist!$C$2:$C$200,0)),INDEX(masterlist!$T$2:$T$200,MATCH(A40,masterlist!$C$2:$C$200,0))),\"\")","v":""}]
[{"$f":"IFERROR(INDEX(masterlist!$A$2:$F$200,SMALL(IF(masterlist!$B$2:$B$200=\"CCI\",ROW(masterlist!$A$2:$F$200)-1),ROW(37:37)),3),\"\")","v":""},{"$f":"IFERROR(INDEX(masterlist!$E$2:$E$200,MATCH(A41,masterlist!$C$2:$C$200,0)),\"\")","v":""},{"$f":"IFERROR(INDEX(masterlist!$D$2:$D$200,MATCH(A41,masterlist!$C$2:$C$200,0)),\"\")","v":""},{"$f":"IFERROR(INDEX(masterlist!$G$2:$G$200,MATCH(A41,masterlist!$C$2:$C$200,0)),\"\")","v":""},{"$f":"IFERROR(INDEX(masterlist!$H$2:$H$200,MATCH(A41,masterlist!$C$2:$C$200,0)),\"\")","v":""},null,null,{"$f":"IFERROR(HYPERLINK(INDEX(masterlist!$M$2:$M$200,MATCH(A41,masterlist!$C$2:$C$200,0)),INDEX(masterlist!$L$2:$L$200,MATCH(A41,masterlist!$C$2:$C$200,0))),\"\")","v":""},{"$f":"IFERROR(HYPERLINK(INDEX(masterlist!$O$2:$O$200,MATCH(A41,masterlist!$C$2:$C$200,0)),INDEX(masterlist!$N$2:$N$200,MATCH(A41,masterlist!$C$2:$C$200,0))),\"\")","v":""},{"$f":"IFERROR(HYPERLINK(INDEX(masterlist!$Q$2:$Q$200,MATCH(A41,masterlist!$C$2:$C$200,0)),INDEX(masterlist!$P$2:$P$200,MATCH(A41,masterlist!$C$2:$C$200,0))),\"\")","v":""},{"$f":"IFERROR(HYPERLINK(INDEX(masterlist!$S$2:$S$200,MATCH(A41,masterlist!$C$2:$C$200,0)),INDEX(masterlist!$R$2:$R$200,MATCH(A41,masterlist!$C$2:$C$200,0))),\"\")","v":""},{"$f":"IFERROR(HYPERLINK(INDEX(masterlist!$U$2:$U$200,MATCH(A41,masterlist!$C$2:$C$200,0)),INDEX(masterlist!$T$2:$T$200,MATCH(A41,masterlist!$C$2:$C$200,0))),\"\")","v":""}]
[{"$f":"IFERROR(INDEX(masterlist!$A$2:$F$200,SMALL(IF(masterlist!$B$2:$B$200=\"CCI\",ROW(masterlist!$A$2:$F$200)-1),ROW(38:38)),3),\"\")","v":""},{"$f":"IFERROR(INDEX(masterlist!$E$2:$E$200,MATCH(A42,masterlist!$C$2:$C$200,0)),\"\")","v":""},{"$f":"IFERROR(INDEX(masterlist!$D$2:$D$200,MATCH(A42,masterlist!$C$2:$C$200,0)),\"\")","v":""},{"$f":"IFERROR(INDEX(masterlist!$G$2:$G$200,MATCH(A42,masterlist!$C$2:$C$200,0)),\"\")","v":""},{"$f":"IFERROR(INDEX(masterlist!$H$2:$H$200,MATCH(A42,masterlist!$C$2:$C$200,0)),\"\")","v":""},null,null,{"$f":"IFERROR(HYPERLINK(INDEX(masterlist!$M$2:$M$200,MATCH(A42,masterlist!$C$2:$C$200,0)),INDEX(masterlist!$L$2:$L$200,MATCH(A42,masterlist!$C$2:$C$200,0))),\"\")","v":""},{"$f":"IFERROR(HYPERLINK(INDEX(masterlist!$O$2:$O$200,MATCH(A42,masterlist!$C$2:$C$200,0)),INDEX(masterlist!$N$2:$N$200,MATCH(A42,masterlist!$C$2:$C$200,0))),\"\")","v":""},{"$f":"IFERROR(HYPERLINK(INDEX(masterlist!$Q$2:$Q$200,MATCH(A42,masterlist!$C$2:$C$200,0)),INDEX(masterlist!$P$2:$P$200,MATCH(A42,masterlist!$C$2:$C$200,0))),\"\")","v":""},{"$f":"IFERROR(HYPERLINK(INDEX(masterlist!$S$2:$S$200,MATCH(A42,masterlist!$C$2:$C$200,0)),INDEX(masterlist!$R$2:$R$200,MATCH(A42,masterlist!$C$2:$C$200,0))),\"\")","v":""},{"$f":"IFERROR(HYPERLINK(INDEX(masterlist!$U$2:$U$200,MATCH(A42,masterlist!$C$2:$C$200,0)),INDEX(masterlist!$T$2:$T$200,MATCH(A42,masterlist!$C$2:$C$200,0))),\"\")","v":""}]
[{"$f":"IFERROR(INDEX(masterlist!$A$2:$F$200,SMALL(IF(masterlist!$B$2:$B$200=\"CCI\",ROW(masterlist!$A$2:$F$200)-1),ROW(39:39)),3),\"\")","v":""},{"$f":"IFERROR(INDEX(masterlist!$E$2:$E$200,MATCH(A43,masterlist!$C$2:$C$200,0)),\"\")","v":""},{"$f":"IFERROR(INDEX(masterlist!$D$2:$D$200,MATCH(A43,masterlist!$C$2:$C$200,0)),\"\")","v":""},{"$f":"IFERROR(INDEX(masterlist!$G$2:$G$200,MATCH(A43,masterlist!$C$2:$C$200,0)),\"\")","v":""},{"$f":"IFERROR(INDEX(masterlist!$H$2:$H$200,MATCH(A43,masterlist!$C$2:$C$200,0)),\"\")","v":""},null,null,{"$f":"IFERROR(HYPERLINK(INDEX(masterlist!$M$2:$M$200,MATCH(A43,masterlist!$C$2:$C$200,0)),INDEX(masterlist!$L$2:$L$200,MATCH(A43,masterlist!$C$2:$C$200,0))),\"\")","v":""},{"$f":"IFERROR(HYPERLINK(INDEX(masterlist!$O$2:$O$200,MATCH(A43,masterlist!$C$2:$C$200,0)),INDEX(masterlist!$N$2:$N$200,MATCH(A43,masterlist!$C$2:$C$200,0))),\"\")","v":""},{"$f":"IFERROR(HYPERLINK(INDEX(masterlist!$Q$2:$Q$200,MATCH(A43,masterlist!$C$2:$C$200,0)),INDEX(masterlist!$P$2:$P$200,MATCH(A43,masterlist!$C$2:$C$200,0))),\"\")","v":""},{"$f":"IFERROR(HYPERLINK(INDEX(masterlist!$S$2:$S$200,MATCH(A43,masterlist!$C$2:$C$200,0)),INDEX(masterlist!$R$2:$R$200,MATCH(A43,masterlist!$C$2:$C$200,0))),\"\")","v":""},{"$f":"IFERROR(HYPERLINK(INDEX(masterlist!$U$2:$U$200,MATCH(A43,masterlist!$C$2:$C$200,0)),INDEX(masterlist!$T$2:$T$200,MATCH(A43,masterlist!$C$2:$C$200,0))),\"\")","v":""}]
[{"$f":"IFERROR(INDEX(masterlist!$A$2:$F$200,SMALL(IF(masterlist!$B$2:$B$200=\"CCI\",ROW(masterlist!$A$2:$F$200)-1),ROW(40:40)),3),\"\")","v":""},{"$f":"IFERROR(INDEX(masterlist!$E$2:$E$200,MATCH(A44,masterlist!$C$2:$C$200,0)),\"\")","v":""},{"$f":"IFERROR(INDEX(masterlist!$D$2:$D$200,MATCH(A44,masterlist!$C$2:$C$200,0)),\"\")","v":""},{"$f":"IFERROR(INDEX(masterlist!$G$2:$G$200,MATCH(A44,masterlist!$C$2:$C$200,0)),\"\")","v":""},{"$f":"IFERROR(INDEX(masterlist!$H$2:$H$200,MATCH(A44,masterlist!$C$2:$C$200,0)),\"\")","v":""},null,null,{"$f":"IFERROR(HYPERLINK(INDEX(masterlist!$M$2:$M$200,MATCH(A44,masterlist!$C$2:$C$200,0)),INDEX(masterlist!$L$2:$L$200,MATCH(A44,masterlist!$C$2:$C$200,0))),\"\")","v":""},{"$f":"IFERROR(HYPERLINK(INDEX(masterlist!$O$2:$O$200,MATCH(A44,masterlist!$C$2:$C$200,0)),INDEX(masterlist!$N$2:$N$200,MATCH(A44,masterlist!$C$2:$C$200,0))),\"\")","v":""},{"$f":"IFERROR(HYPERLINK(INDEX(masterlist!$Q$2:$Q$200,MATCH(A44,masterlist!$C$2:$C$200,0)),INDEX(masterlist!$P$2:$P$200,MATCH(A44,masterlist!$C$2:$C$200,0))),\"\")","v":""},{"$f":"IFERROR(HYPERLINK(INDEX(masterlist!$S$2:$S$200,MATCH(A44,masterlist!$C$2:$C$200,0)),INDEX(masterlist!$R$2:$R$200,MATCH(A44,masterlist!$C$2:$C$200,0))),\"\")","v":""},{"$f":"IFERROR(HYPERLINK(INDEX(masterlist!$U$2:$U$200,MATCH(A44,masterlist!$C$2:$C$200,0)),INDEX(masterlist!$T$2:$T$200,MATCH(A44,masterlist!$C$2:$C$200,0))),\"\")","v":""}]
[{"$f":"IFERROR(INDEX(masterlist!$A$2:$F$200,SMALL(IF(masterlist!$B$2:$B$200=\"CCI\",ROW(masterlist!$A$2:$F$200)-1),ROW(41:41)),3),\"\")","v":""},{"$f":"IFERROR(INDEX(masterlist!$E$2:$E$200,MATCH(A45,masterlist!$C$2:$C$200,0)),\"\")","v":""},{"$f":"IFERROR(INDEX(masterlist!$D$2:$D$200,MATCH(A45,masterlist!$C$2:$C$200,0)),\"\")","v":""},{"$f":"IFERROR(INDEX(masterlist!$G$2:$G$200,MATCH(A45,masterlist!$C$2:$C$200,0)),\"\")","v":""},{"$f":"IFERROR(INDEX(masterlist!$H$2:$H$200,MATCH(A45,masterlist!$C$2:$C$200,0)),\"\")","v":""},null,null,{"$f":"IFERROR(HYPERLINK(INDEX(masterlist!$M$2:$M$200,MATCH(A45,masterlist!$C$2:$C$200,0)),INDEX(masterlist!$L$2:$L$200,MATCH(A45,masterlist!$C$2:$C$200,0))),\"\")","v":""},{"$f":"IFERROR(HYPERLINK(INDEX(masterlist!$O$2:$O$200,MATCH(A45,masterlist!$C$2:$C$200,0)),INDEX(masterlist!$N$2:$N$200,MATCH(A45,masterlist!$C$2:$C$200,0))),\"\")","v":""},{"$f":"IFERROR(HYPERLINK(INDEX(masterlist!$Q$2:$Q$200,MATCH(A45,masterlist!$C$2:$C$200,0)),INDEX(masterlist!$P$2:$P$200,MATCH(A45,masterlist!$C$2:$C$200,0))),\"\")","v":""},{"$f":"IFERROR(HYPERLINK(INDEX(masterlist!$S$2:$S$200,MATCH(A45,masterlist!$C$2:$C$200,0)),INDEX(masterlist!$R$2:$R$200,MATCH(A45,masterlist!$C$2:$C$200,0))),\"\")","v":""},{"$f":"IFERROR(HYPERLINK(INDEX(masterlist!$U$2:$U$200,MATCH(A45,masterlist!$C$2:$C$200,0)),INDEX(masterlist!$T$2:$T$200,MATCH(A45,masterlist!$C$2:$C$200,0))),\"\")","v":""}]
[{"$f":"IFERROR(INDEX(masterlist!$A$2:$F$200,SMALL(IF(masterlist!$B$2:$B$200=\"CCI\",ROW(masterlist!$A$2:$F$200)-1),ROW(42:42)),3),\"\")","v":""},{"$f":"IFERROR(INDEX(masterlist!$E$2:$E$200,MATCH(A46,masterlist!$C$2:$C$200,0)),\"\")","v":""},{"$f":"IFERROR(INDEX(masterlist!$D$2:$D$200,MATCH(A46,masterlist!$C$2:$C$200,0)),\"\")","v":""},{"$f":"IFERROR(INDEX(masterlist!$G$2:$G$200,MATCH(A46,masterlist!$C$2:$C$200,0)),\"\")","v":""},{"$f":"IFERROR(INDEX(masterlist!$H$2:$H$200,MATCH(A46,masterlist!$C$2:$C$200,0)),\"\")","v":""},null,null,{"$f":"IFERROR(HYPERLINK(INDEX(masterlist!$M$2:$M$200,MATCH(A46,masterlist!$C$2:$C$200,0)),INDEX(masterlist!$L$2:$L$200,MATCH(A46,masterlist!$C$2:$C$200,0))),\"\")","v":""},{"$f":"IFERROR(HYPERLINK(INDEX(masterlist!$O$2:$O$200,MATCH(A46,masterlist!$C$2:$C$200,0)),INDEX(masterlist!$N$2:$N$200,MATCH(A46,masterlist!$C$2:$C$200,0))),\"\")","v":""},{"$f":"IFERROR(HYPERLINK(INDEX(masterlist!$Q$2:$Q$200,MATCH(A46,masterlist!$C$2:$C$200,0)),INDEX(masterlist!$P$2:$P$200,MATCH(A46,masterlist!$C$2:$C$200,0))),\"\")","v":""},{"$f":"IFERROR(HYPERLINK(INDEX(masterlist!$S$2:$S$200,MATCH(A46,masterlist!$C$2:$C$200,0)),INDEX(masterlist!$R$2:$R$200,MATCH(A46,masterlist!$C$2:$C$200,0))),\"\")","v":""},{"$f":"IFERROR(HYPERLINK(INDEX(masterlist!$U$2:$U$200,MATCH(A46,masterlist!$C$2:$C$200,0)),INDEX(masterlist!$T$2:$T$200,MATCH(A46,masterlist!$C$2:$C$200,0))),\"\")","v":""}]
[{"$f":"IFERROR(INDEX(masterlist!$A$2:$F$200,SMALL(IF(masterlist!$B$2:$B$200=\"CCI\",ROW(masterlist!$A$2:$F$200)-1),ROW(43:43)),3),\"\")","v":""},{"$f":"IFERROR(INDEX(masterlist!$E$2:$E$200,MATCH(A47,masterlist!$C$2:$C$200,0)),\"\")","v":""},{"$f":"IFERROR(INDEX(masterlist!$D$2:$D$200,MATCH(A47,masterlist!$C$2:$C$200,0)),\"\")","v":""},{"$f":"IFERROR(INDEX(masterlist!$G$2:$G$200,MATCH(A47,masterlist!$C$2:$C$200,0)),\"\")","v":""},{"$f":"IFERROR(INDEX(masterlist!$H$2:$H$200,MATCH(A47,masterlist!$C$2:$C$200,0)),\"\")","v":""},null,null,{"$f":"IFERROR(HYPERLINK(INDEX(masterlist!$M$2:$M$200,MATCH(A47,masterlist!$C$2:$C$200,0)),INDEX(masterlist!$L$2:$L$200,MATCH(A47,masterlist!$C$2:$C$200,0))),\"\")","v":""},{"$f":"IFERROR(HYPERLINK(INDEX(masterlist!$O$2:$O$200,MATCH(A47,masterlist!$C$2:$C$200,0)),INDEX(masterlist!$N$2:$N$200,MATCH(A47,masterlist!$C$2:$C$200,0))),\"\")","v":""},{"$f":"IFERROR(HYPERLINK(INDEX(masterlist!$Q$2:$Q$200,MATCH(A47,masterlist!$C$2:$C$200,0)),INDEX(masterlist!$P$2:$P$200,MATCH(A47,masterlist!$C$2:$C$200,0))),\"\")","v":""},{"$f":"IFERROR(HYPERLINK(INDEX(masterlist!$S$2:$S$200,MATCH(A47,masterlist!$C$2:$C$200,0)),INDEX(masterlist!$R$2:$R$200,MATCH(A47,masterlist!$C$2:$C$200,0))),\"\")","v":""},{"$f":"IFERROR(HYPERLINK(INDEX(masterlist!$U$2:$U$200,MATCH(A47,masterlist!$C$2:$C$200,0)),INDEX(masterlist!$T$2:$T$200,MATCH(A47,masterlist!$C$2:$C$200,0))),\"\")","v":""}]
[{"$f":"IFERROR(INDEX(masterlist!$A$2:$F$200,SMALL(IF(masterlist!$B$2:$B$200=\"CCI\",ROW(masterlist!$A$2:$F$200)-1),ROW(44:44)),3),\"\")","v":""},{"$f":"IFERROR(INDEX(masterlist!$E$2:$E$200,MATCH(A48,masterlist!$C$2:$C$200,0)),\"\")","v":""},{"$f":"IFERROR(INDEX(masterlist!$D$2:$D$200,MATCH(A48,masterlist!$C$2:$C$200,0)),\"\")","v":""},{"$f":"IFERROR(INDEX(masterlist!$G$2:$G$200,MATCH(A48,masterlist!$C$2:$C$200,0)),\"\")","v":""},{"$f":"IFERROR(INDEX(masterlist!$H$2:$H$200,MATCH(A48,masterlist!$C$2:$C$200,0)),\"\")","v":""},null,null,{"$f":"IFERROR(HYPERLINK(INDEX(masterlist!$M$2:$M$200,MATCH(A48,masterlist!$C$2:$C$200,0)),INDEX(masterlist!$L$2:$L$200,MATCH(A48,masterlist!$C$2:$C$200,0))),\"\")","v":""},{"$f":"IFERROR(HYPERLINK(INDEX(masterlist!$O$2:$O$200,MATCH(A48,masterlist!$C$2:$C$200,0)),INDEX(masterlist!$N$2:$N$200,MATCH(A48,masterlist!$C$2:$C$200,0))),\"\")","v":""},{"$f":"IFERROR(HYPERLINK(INDEX(masterlist!$Q$2:$Q$200,MATCH(A48,masterlist!$C$2:$C$200,0)),INDEX(masterlist!$P$2:$P$200,MATCH(A48,masterlist!$C$2:$C$200,0))),\"\")","v":""},{"$f":"IFERROR(HYPERLINK(INDEX(masterlist!$S$2:$S$200,MATCH(A48,masterlist!$C$2:$C$200,0)),INDEX(masterlist!$R$2:$R$200,MATCH(A48,masterlist!$C$2:$C$200,0))),\"\")","v":""},{"$f":"IFERROR(HYPERLINK(INDEX(masterlist!$U$2:$U$200,MATCH(A48,masterlist!$C$2:$C$200,0)),INDEX(masterlist!$T$2:$T$200,MATCH(A48,masterlist!$C$2:$C$200,0))),\"\")","v":""}]
[{"$f":"IFERROR(INDEX(masterlist!$A$2:$F$200,SMALL(IF(masterlist!$B$2:$B$200=\"CCI\",ROW(masterlist!$A$2:$F$200)-1),ROW(45:45)),3),\"\")","v":""},{"$f":"IFERROR(INDEX(masterlist!$E$2:$E$200,MATCH(A49,masterlist!$C$2:$C$200,0)),\"\")","v":""},{"$f":"IFERROR(INDEX(masterlist!$D$2:$D$200,MATCH(A49,masterlist!$C$2:$C$200,0)),\"\")","v":""},{"$f":"IFERROR(INDEX(masterlist!$G$2:$G$200,MATCH(A49,masterlist!$C$2:$C$200,0)),\"\")","v":""},{"$f":"IFERROR(INDEX(masterlist!$H$2:$H$200,MATCH(A49,masterlist!$C$2:$C$200,0)),\"\")","v":""},null,null,{"$f":"IFERROR(HYPERLINK(INDEX(masterlist!$M$2:$M$200,MATCH(A49,masterlist!$C$2:$C$200,0)),INDEX(masterlist!$L$2:$L$200,MATCH(A49,masterlist!$C$2:$C$200,0))),\"\")","v":""},{"$f":"IFERROR(HYPERLINK(INDEX(masterlist!$O$2:$O$200,MATCH(A49,masterlist!$C$2:$C$200,0)),INDEX(masterlist!$N$2:$N$200,MATCH(A49,masterlist!$C$2:$C$200,0))),\"\")","v":""},{"$f":"IFERROR(HYPERLINK(INDEX(masterlist!$Q$2:$Q$200,MATCH(A49,masterlist!$C$2:$C$200,0)),INDEX(masterlist!$P$2:$P$200,MATCH(A49,masterlist!$C$2:$C$200,0))),\"\")","v":""},{"$f":"IFERROR(HYPERLINK(INDEX(masterlist!$S$2:$S$200,MATCH(A49,masterlist!$C$2:$C$200,0)),INDEX(masterlist!$R$2:$R$200,MATCH(A49,masterlist!$C$2:$C$200,0))),\"\")","v":""},{"$f":"IFERROR(HYPERLINK(INDEX(masterlist!$U$2:$U$200,MATCH(A49,masterlist!$C$2:$C$200,0)),INDEX(masterlist!$T$2:$T$200,MATCH(A49,masterlist!$C$2:$C$200,0))),\"\")","v":""}]
[{"$f":"IFERROR(INDEX(masterlist!$A$2:$F$200,SMALL(IF(masterlist!$B$2:$B$200=\"CCI\",ROW(masterlist!$A$2:$F$200)-1),ROW(46:46)),3),\"\")","v":""},{"$f":"IFERROR(INDEX(masterlist!$E$2:$E$200,MATCH(A50,masterlist!$C$2:$C$200,0)),\"\")","v":""},{"$f":"IFERROR(INDEX(masterlist!$D$2:$D$200,MATCH(A50,masterlist!$C$2:$C$200,0)),\"\")","v":""},{"$f":"IFERROR(INDEX(masterlist!$G$2:$G$200,MATCH(A50,masterlist!$C$2:$C$200,0)),\"\")","v":""},{"$f":"IFERROR(INDEX(masterlist!$H$2:$H$200,MATCH(A50,masterlist!$C$2:$C$200,0)),\"\")","v":""},null,null,{"$f":"IFERROR(HYPERLINK(INDEX(masterlist!$M$2:$M$200,MATCH(A50,masterlist!$C$2:$C$200,0)),INDEX(masterlist!$L$2:$L$200,MATCH(A50,masterlist!$C$2:$C$200,0))),\"\")","v":""},{"$f":"IFERROR(HYPERLINK(INDEX(masterlist!$O$2:$O$200,MATCH(A50,masterlist!$C$2:$C$200,0)),INDEX(masterlist!$N$2:$N$200,MATCH(A50,masterlist!$C$2:$C$200,0))),\"\")","v":""},{"$f":"IFERROR(HYPERLINK(INDEX(masterlist!$Q$2:$Q$200,MATCH(A50,masterlist!$C$2:$C$200,0)),INDEX(masterlist!$P$2:$P$200,MATCH(A50,masterlist!$C$2:$C$200,0))),\"\")","v":""},{"$f":"IFERROR(HYPERLINK(INDEX(masterlist!$S$2:$S$200,MATCH(A50,masterlist!$C$2:$C$200,0)),INDEX(masterlist!$R$2:$R$200,MATCH(A50,masterlist!$C$2:$C$200,0))),\"\")","v":""},{"$f":"IFERROR(HYPERLINK(INDEX(masterlist!$U$2:$U$200,MATCH(A50,masterlist!$C$2:$C$200,0)),INDEX(masterlist!$T$2:$T$200,MATCH(A50,masterlist!$C$2:$C$200,0))),\"\")","v":""}]

{"sheet":"Legislation","index":12,"n_rows":50,"n_cols":12,"rows_kept":50,"cut":false,"hidden":true,"merged":[[3,7,3,10]]}
[]
[null,"Instructions: Enter \"0\" under Status if No or None, or \"1\" if Yes"]
[]
[null,"STAGE","subcomponent","ACHIEVEMENTS / ACTIVITIES","OTHER IMPORTANT INFORMATION\n(please include in REMARKS)","STATUS","REMARKS","Rabies Blueprint references and other links"]
[{"$f":"IFERROR(INDEX(masterlist!$A$2:$F$200,SMALL(IF(masterlist!$B$2:$B$200=\"LEG\",ROW(masterlist!$A$2:$F$200)-1),ROW(1:1)),3),\"\")","v":"LEG-Ani-0-1"},{"$f":"IFERROR(INDEX(masterlist!$E$2:$E$200,MATCH(A5,masterlist!$C$2:$C$200,0)),\"\")","v":0},{"$f":"IFERROR(INDEX(masterlist!$D$2:$D$200,MATCH(A5,masterlist!$C$2:$C$200,0)),\"\")","v":"Animal rabies national case definition"},{"$f":"IFERROR(INDEX(masterlist!$G$2:$G$200,MATCH(A5,masterlist!$C$2:$C$200,0)),\"\")","v":"Is a case definition available that is consistent with the OIE standards for animal rabies?"},{"$f":"IFERROR(INDEX(masterlist!$H$2:$H$200,MATCH(A5,masterlist!$C$2:$C$200,0)),\"\")","v":" "},1,null,{"$f":"IFERROR(HYPERLINK(INDEX(masterlist!$M$2:$M$200,MATCH(A5,masterlist!$C$2:$C$200,0)),INDEX(masterlist!$L$2:$L$200,MATCH(A5,masterlist!$C$2:$C$200,0))),\"\")","v":"OIE Terrestrial Animal Health Code"},{"$f":"IFERROR(HYPERLINK(INDEX(masterlist!$O$2:$O$200,MATCH(A5,masterlist!$C$2:$C$200,0)),INDEX(masterlist!$N$2:$N$200,MATCH(A5,masterlist!$C$2:$C$200,0))),\"\")","v":0},{"$f":"IFERROR(HYPERLINK(INDEX(masterlist!$Q$2:$Q$200,MATCH(A5,masterlist!$C$2:$C$200,0)),INDEX(masterlist!$P$2:$P$200,MATCH(A5,masterlist!$C$2:$C$200,0))),\"\")","v":0},{"$f":"IFERROR(HYPERLINK(INDEX(masterlist!$S$2:$S$200,MATCH(A5,masterlist!$C$2:$C$200,0)),INDEX(masterlist!$R$2:$R$200,MATCH(A5,masterlist!$C$2:$C$200,0))),\"\")","v":0},{"$f":"IFERROR(HYPERLINK(INDEX(masterlist!$U$2:$U$200,MATCH(A5,masterlist!$C$2:$C$200,0)),INDEX(masterlist!$T$2:$T$200,MATCH(A5,masterlist!$C$2:$C$200,0))),\"\")","v":0}]
[{"$f":"IFERROR(INDEX(masterlist!$A$2:$F$200,SMALL(IF(masterlist!$B$2:$B$200=\"LEG\",ROW(masterlist!$A$2:$F$200)-1),ROW(2:2)),3),\"\")","v":"LEG-Ani-1-2"},{"$f":"IFERROR(INDEX(masterlist!$E$2:$E$200,MATCH(A6,masterlist!$C$2:$C$200,0)),\"\")","v":1},{"$f":"IFERROR(INDEX(masterlist!$D$2:$D$200,MATCH(A6,masterlist!$C$2:$C$200,0)),\"\")","v":"Animal rabies national case definition"},{"$f":"IFERROR(INDEX(masterlist!$G$2:$G$200,MATCH(A6,masterlist!$C$2:$C$200,0)),\"\")","v":"Has the case definition for animal rabies been shared with all of the relevant professionals?"},{"$f":"IFERROR(INDEX(masterlist!$H$2:$H$200,MATCH(A6,masterlist!$C$2:$C$200,0)),\"\")","v":"Agencies the case definition was disseminated to"},0,null,{"$f":"IFERROR(HYPERLINK(INDEX(masterlist!$M$2:$M$200,MATCH(A6,masterlist!$C$2:$C$200,0)),INDEX(masterlist!$L$2:$L$200,MATCH(A6,masterlist!$C$2:$C$200,0))),\"\")","v":"OIE Terrestrial Animal Health Code"},{"$f":"IFERROR(HYPERLINK(INDEX(masterlist!$O$2:$O$200,MATCH(A6,masterlist!$C$2:$C$200,0)),INDEX(masterlist!$N$2:$N$200,MATCH(A6,masterlist!$C$2:$C$200,0))),\"\")","v":0},{"$f":"IFERROR(HYPERLINK(INDEX(masterlist!$Q$2:$Q$200,MATCH(A6,masterlist!$C$2:$C$200,0)),INDEX(masterlist!$P$2:$P$200,MATCH(A6,masterlist!$C$2:$C$200,0))),\"\")","v":0},{"$f":"IFERROR(HYPERLINK(INDEX(masterlist!$S$2:$S$200,MATCH(A6,masterlist!$C$2:$C$200,0)),INDEX(masterlist!$R$2:$R$200,MATCH(A6,masterlist!$C$2:$C$200,0))),\"\")","v":0},{"$f":"IFERROR(HYPERLINK(INDEX(masterlist!$U$2:$U$200,MATCH(A6,masterlist!$C$2:$C$200,0)),INDEX(masterlist!$T$2:$T$200,MATCH(A6,masterlist!$C$2:$C$200,0))),\"\")","v":0}]
[{"$f":"IFERROR(INDEX(masterlist!$A$2:$F$200,SMALL(IF(masterlist!$B$2:$B$200=\"LEG\",ROW(masterlist!$A$2:$F$200)-1),ROW(3:3)),3),\"\")","v":"LEG-Hum-0-3"},{"$f":"IFERROR(INDEX(masterlist!$E$2:$E$200,MATCH(A7,masterlist!$C$2:$C$200,0)),\"\")","v":0},{"$f":"IFERROR(INDEX(masterlist!$D$2:$D$200,MATCH(A7,masterlist!$C$2:$C$200,0)),\"\")","v":"Human rabies national case definition"},{"$f":"IFERROR(INDEX(masterlist!$G$2:$G$200,MATCH(A7,masterlist!$C$2:$C$200,0)),\"\")","v":"Is a case definition available that is consistent with the WHO guidelines for human rabies?"},{"$f":"IFERROR(INDEX(masterlist!$H$2:$H$200,MATCH(A7,masterlist!$C$2:$C$200,0)),\"\")","v":" "},1,null,{"$f":"IFERROR(HYPERLINK(INDEX(masterlist!$M$2:$M$200,MATCH(A7,masterlist!$C$2:$C$200,0)),INDEX(masterlist!$L$2:$L$200,MATCH(A7,masterlist!$C$2:$C$200,0))),\"\")","v":"WHO expert consultation on rabies"},{"$f":"IFERROR(HYPERLINK(INDEX(masterlist!$O$2:$O$200,MATCH(A7,masterlist!$C$2:$C$200,0)),INDEX(masterlist!$N$2:$N$200,MATCH(A7,masterlist!$C$2:$C$200,0))),\"\")","v":0},{"$f":"IFERROR(HYPERLINK(INDEX(masterlist!$Q$2:$Q$200,MATCH(A7,masterlist!$C$2:$C$200,0)),INDEX(masterlist!$P$2:$P$200,MATCH(A7,masterlist!$C$2:$C$200,0))),\"\")","v":0},{"$f":"IFERROR(HYPERLINK(INDEX(masterlist!$S$2:$S$200,MATCH(A7,masterlist!$C$2:$C$200,0)),INDEX(masterlist!$R$2:$R$200,MATCH(A7,masterlist!$C$2:$C$200,0))),\"\")","v":0},{"$f":"IFERROR(HYPERLINK(INDEX(masterlist!$U$2:$U$200,MATCH(A7,masterlist!$C$2:$C$200,0)),INDEX(masterlist!$T$2:$T$200,MATCH(A7,masterlist!$C$2:$C$200,0))),\"\")","v":0}]
[{"$f":"IFERROR(INDEX(masterlist!$A$2:$F$200,SMALL(IF(masterlist!$B$2:$B$200=\"LEG\",ROW(masterlist!$A$2:$F$200)-1),ROW(4:4)),3),\"\")","v":"LEG-Hum-1-4"},{"$f":"IFERROR(INDEX(masterlist!$E$2:$E$200,MATCH(A8,masterlist!$C$2:$C$200,0)),\"\")","v":1},{"$f":"IFERROR(INDEX(masterlist!$D$2:$D$200,MATCH(A8,masterlist!$C$2:$C$200,0)),\"\")","v":"Human rabies national case definition"},{"$f":"IFERROR(INDEX(masterlist!$G$2:$G$200,MATCH(A8,masterlist!$C$2:$C$200,0)),\"\")","v":"Has the case definition for human rabies been shared with all of the relevant professionals?"},{"$f":"IFERROR(INDEX(masterlist!$H$2:$H$200,MATCH(A8,masterlist!$C$2:$C$200,0)),\"\")","v":"Agencies the case definition was disseminated to"},0,null,{"$f":"IFERROR(HYPERLINK(INDEX(masterlist!$M$2:$M$200,MATCH(A8,masterlist!$C$2:$C$200,0)),INDEX(masterlist!$L$2:$L$200,MATCH(A8,masterlist!$C$2:$C$200,0))),\"\")","v":"WHO expert consultation on rabies"},{"$f":"IFERROR(HYPERLINK(INDEX(masterlist!$O$2:$O$200,MATCH(A8,masterlist!$C$2:$C$200,0)),INDEX(masterlist!$N$2:$N$200,MATCH(A8,masterlist!$C$2:$C$200,0))),\"\")","v":0},{"$f":"IFERROR(HYPERLINK(INDEX(masterlist!$Q$2:$Q$200,MATCH(A8,masterlist!$C$2:$C$200,0)),INDEX(masterlist!$P$2:$P$200,MATCH(A8,masterlist!$C$2:$C$200,0))),\"\")","v":0},{"$f":"IFERROR(HYPERLINK(INDEX(masterlist!$S$2:$S$200,MATCH(A8,masterlist!$C$2:$C$200,0)),INDEX(masterlist!$R$2:$R$200,MATCH(A8,masterlist!$C$2:$C$200,0))),\"\")","v":0},{"$f":"IFERROR(HYPERLINK(INDEX(masterlist!$U$2:$U$200,MATCH(A8,masterlist!$C$2:$C$200,0)),INDEX(masterlist!$T$2:$T$200,MATCH(A8,masterlist!$C$2:$C$200,0))),\"\")","v":0}]
[{"$f":"IFERROR(INDEX(masterlist!$A$2:$F$200,SMALL(IF(masterlist!$B$2:$B$200=\"LEG\",ROW(masterlist!$A$2:$F$200)-1),ROW(5:5)),3),\"\")","v":"LEG-Leg-1-5"},{"$f":"IFERROR(INDEX(masterlist!$E$2:$E$200,MATCH(A9,masterlist!$C$2:$C$200,0)),\"\")","v":1},{"$f":"IFERROR(INDEX(masterlist!$D$2:$D$200,MATCH(A9,masterlist!$C$2:$C$200,0)),\"\")","v":"Legal Framework"},{"$f":"IFERROR(INDEX(masterlist!$G$2:$G$200,MATCH(A9,masterlist!$C$2:$C$200,0)),\"\")","v":"Is there national legislation that is relevant to rabies prevention and control?"},{"$f":"IFERROR(INDEX(masterlist!$H$2:$H$200,MATCH(A9,masterlist!$C$2:$C$200,0)),\"\")","v":"For example: an Animal act; compulsory vaccination, etc.\nTitle of the framework and the year it was passed"},1,null,{"$f":"IFERROR(HYPERLINK(INDEX(masterlist!$M$2:$M$200,MATCH(A9,masterlist!$C$2:$C$200,0)),INDEX(masterlist!$L$2:$L$200,MATCH(A9,masterlist!$C$2:$C$200,0))),\"\")","v":"3.2. Legislation"},{"$f":"IFERROR(HYPERLINK(INDEX(masterlist!$O$2:$O$200,MATCH(A9,masterlist!$C$2:$C$200,0)),INDEX(masterlist!$N$2:$N$200,MATCH(A9,masterlist!$C$2:$C$200,0))),\"\")","v":0},{"$f":"IFERROR(HYPERLINK(INDEX(masterlist!$Q$2:$Q$200,MATCH(A9,masterlist!$C$2:$C$200,0)),INDEX(masterlist!$P$2:$P$200,MATCH(A9,masterlist!$C$2:$C$200,0))),\"\")","v":0},{"$f":"IFERROR(HYPERLINK(INDEX(masterlist!$S$2:$S$200,MATCH(A9,masterlist!$C$2:$C$200,0)),INDEX(masterlist!$R$2:$R$200,MATCH(A9,masterlist!$C$2:$C$200,0))),\"\")","v":0},{"$f":"IFERROR(HYPERLINK(INDEX(masterlist!$U$2:$U$200,MATCH(A9,masterlist!$C$2:$C$200,0)),INDEX(masterlist!$T$2:$T$200,MATCH(A9,masterlist!$C$2:$C$200,0))),\"\")","v":0}]
[{"$f":"IFERROR(INDEX(masterlist!$A$2:$F$200,SMALL(IF(masterlist!$B$2:$B$200=\"LEG\",ROW(masterlist!$A$2:$F$200)-1),ROW(6:6)),3),\"\")","v":"LEG-Leg-1-6"},{"$f":"IFERROR(INDEX(masterlist!$E$2:$E$200,MATCH(A10,masterlist!$C$2:$C$200,0)),\"\")","v":1},{"$f":"IFERROR(INDEX(masterlist!$D$2:$D$200,MATCH(A10,masterlist!$C$2:$C$200,0)),\"\")","v":"Legal Framework"},{"$f":"IFERROR(INDEX(masterlist!$G$2:$G$200,MATCH(A10,masterlist!$C$2:$C$200,0)),\"\")","v":"If there is legislation, has it been reviewed and endorsed?"},{"$f":"IFERROR(INDEX(masterlist!$H$2:$H$200,MATCH(A10,masterlist!$C$2:$C$200,0)),\"\")","v":"Year the framework was reviewed"},0,null,{"$f":"IFERROR(HYPERLINK(INDEX(masterlist!$M$2:$M$200,MATCH(A10,masterlist!$C$2:$C$200,0)),INDEX(masterlist!$L$2:$L$200,MATCH(A10,masterlist!$C$2:$C$200,0))),\"\")","v":"3.2. Legislation"},{"$f":"IFERROR(HYPERLINK(INDEX(masterlist!$O$2:$O$200,MATCH(A10,masterlist!$C$2:$C$200,0)),INDEX(masterlist!$N$2:$N$200,MATCH(A10,masterlist!$C$2:$C$200,0))),\"\")","v":0},{"$f":"IFERROR(HYPERLINK(INDEX(masterlist!$Q$2:$Q$200,MATCH(A10,masterlist!$C$2:$C$200,0)),INDEX(masterlist!$P$2:$P$200,MATCH(A10,masterlist!$C$2:$C$200,0))),\"\")","v":0},{"$f":"IFERROR(HYPERLINK(INDEX(masterlist!$S$2:$S$200,MATCH(A10,masterlist!$C$2:$C$200,0)),INDEX(masterlist!$R$2:$R$200,MATCH(A10,masterlist!$C$2:$C$200,0))),\"\")","v":0},{"$f":"IFERROR(HYPERLINK(INDEX(masterlist!$U$2:$U$200,MATCH(A10,masterlist!$C$2:$C$200,0)),INDEX(masterlist!$T$2:$T$200,MATCH(A10,masterlist!$C$2:$C$200,0))),\"\")","v":0}]
[{"$f":"IFERROR(INDEX(masterlist!$A$2:$F$200,SMALL(IF(masterlist!$B$2:$B$200=\"LEG\",ROW(masterlist!$A$2:$F$200)-1),ROW(7:7)),3),\"\")","v":"LEG-Leg-1-7"},{"$f":"IFERROR(INDEX(masterlist!$E$2:$E$200,MATCH(A11,masterlist!$C$2:$C$200,0)),\"\")","v":1},{"$f":"IFERROR(INDEX(masterlist!$D$2:$D$200,MATCH(A11,masterlist!$C$2:$C$200,0)),\"\")","v":"Legal Framework"},{"$f":"IFERROR(INDEX(masterlist!$G$2:$G$200,MATCH(A11,masterlist!$C$2:$C$200,0)),\"\")","v":"Has rabies been made a notifiable disease in animals?"},{"$f":"IFERROR(INDEX(masterlist!$H$2:$H$200,MATCH(A11,masterlist!$C$2:$C$200,0)),\"\")","v":" "},1,null,{"$f":"IFERROR(HYPERLINK(INDEX(masterlist!$M$2:$M$200,MATCH(A11,masterlist!$C$2:$C$200,0)),INDEX(masterlist!$L$2:$L$200,MATCH(A11,masterlist!$C$2:$C$200,0))),\"\")","v":"3.2. Legislation"},{"$f":"IFERROR(HYPERLINK(INDEX(masterlist!$O$2:$O$200,MATCH(A11,masterlist!$C$2:$C$200,0)),INDEX(masterlist!$N$2:$N$200,MATCH(A11,masterlist!$C$2:$C$200,0))),\"\")","v":"3.2.3-Why-does-rabies-need-to-be-notifiable"},{"$f":"IFERROR(HYPERLINK(INDEX(masterlist!$Q$2:$Q$200,MATCH(A11,masterlist!$C$2:$C$200,0)),INDEX(masterlist!$P$2:$P$200,MATCH(A11,masterlist!$C$2:$C$200,0))),\"\")","v":"OIE Terrestrial Animal Health Code"},{"$f":"IFERROR(HYPERLINK(INDEX(masterlist!$S$2:$S$200,MATCH(A11,masterlist!$C$2:$C$200,0)),INDEX(masterlist!$R$2:$R$200,MATCH(A11,masterlist!$C$2:$C$200,0))),\"\")","v":"3.2.9-How-to-make-rabies-notifiable"},{"$f":"IFERROR(HYPERLINK(INDEX(masterlist!$U$2:$U$200,MATCH(A11,masterlist!$C$2:$C$200,0)),INDEX(masterlist!$T$2:$T$200,MATCH(A11,masterlist!$C$2:$C$200,0))),\"\")","v":0}]
[{"$f":"IFERROR(INDEX(masterlist!$A$2:$F$200,SMALL(IF(masterlist!$B$2:$B$200=\"LEG\",ROW(masterlist!$A$2:$F$200)-1),ROW(8:8)),3),\"\")","v":"LEG-Leg-1-8"},{"$f":"IFERROR(INDEX(masterlist!$E$2:$E$200,MATCH(A12,masterlist!$C$2:$C$200,0)),\"\")","v":1},{"$f":"IFERROR(INDEX(masterlist!$D$2:$D$200,MATCH(A12,masterlist!$C$2:$C$200,0)),\"\")","v":"Legal Framework"},{"$f":"IFERROR(INDEX(masterlist!$G$2:$G$200,MATCH(A12,masterlist!$C$2:$C$200,0)),\"\")","v":"Has rabies been made a notifiable disease in humans?"},{"$f":"IFERROR(INDEX(masterlist!$H$2:$H$200,MATCH(A12,masterlist!$C$2:$C$200,0)),\"\")","v":" "},1,null,{"$f":"IFERROR(HYPERLINK(INDEX(masterlist!$M$2:$M$200,MATCH(A12,masterlist!$C$2:$C$200,0)),INDEX(masterlist!$L$2:$L$200,MATCH(A12,masterlist!$C$2:$C$200,0))),\"\")","v":"3.2. Legislation"},{"$f":"IFERROR(HYPERLINK(INDEX(masterlist!$O$2:$O$200,MATCH(A12,masterlist!$C$2:$C$200,0)),INDEX(masterlist!$N$2:$N$200,MATCH(A12,masterlist!$C$2:$C$200,0))),\"\")","v":"3.2.3-Why-does-rabies-need-to-be-notifiable"},{"$f":"IFERROR(HYPERLINK(INDEX(masterlist!$Q$2:$Q$200,MATCH(A12,masterlist!$C$2:$C$200,0)),INDEX(masterlist!$P$2:$P$200,MATCH(A12,masterlist!$C$2:$C$200,0))),\"\")","v":"WHO expert consultation on rabies"},{"$f":"IFERROR(HYPERLINK(INDEX(masterlist!$S$2:$S$200,MATCH(A12,masterlist!$C$2:$C$200,0)),INDEX(masterlist!$R$2:$R$200,MATCH(A12,masterlist!$C$2:$C$200,0))),\"\")","v":"3.2.9-How-to-make-rabies-notifiable"},{"$f":"IFERROR(HYPERLINK(INDEX(masterlist!$U$2:$U$200,MATCH(A12,masterlist!$C$2:$C$200,0)),INDEX(masterlist!$T$2:$T$200,MATCH(A12,masterlist!$C$2:$C$200,0))),\"\")","v":0}]
[{"$f":"IFERROR(INDEX(masterlist!$A$2:$F$200,SMALL(IF(masterlist!$B$2:$B$200=\"LEG\",ROW(masterlist!$A$2:$F$200)-1),ROW(9:9)),3),\"\")","v":"LEG-Leg-1-9"},{"$f":"IFERROR(INDEX(masterlist!$E$2:$E$200,MATCH(A13,masterlist!$C$2:$C$200,0)),\"\")","v":1},{"$f":"IFERROR(INDEX(masterlist!$D$2:$D$200,MATCH(A13,masterlist!$C$2:$C$200,0)),\"\")","v":"Legal Framework"},{"$f":"IFERROR(INDEX(masterlist!$G$2:$G$200,MATCH(A13,masterlist!$C$2:$C$200,0)),\"\")","v":"Does legislation include measures for rabies outbreak response?"},{"$f":"IFERROR(INDEX(masterlist!$H$2:$H$200,MATCH(A13,masterlist!$C$2:$C$200,0)),\"\")","v":" "},1,null,{"$f":"IFERROR(HYPERLINK(INDEX(masterlist!$M$2:$M$200,MATCH(A13,masterlist!$C$2:$C$200,0)),INDEX(masterlist!$L$2:$L$200,MATCH(A13,masterlist!$C$2:$C$200,0))),\"\")","v":0},{"$f":"IFERROR(HYPERLINK(INDEX(masterlist!$O$2:$O$200,MATCH(A13,masterlist!$C$2:$C$200,0)),INDEX(masterlist!$N$2:$N$200,MATCH(A13,masterlist!$C$2:$C$200,0))),\"\")","v":0},{"$f":"IFERROR(HYPERLINK(INDEX(masterlist!$Q$2:$Q$200,MATCH(A13,masterlist!$C$2:$C$200,0)),INDEX(masterlist!$P$2:$P$200,MATCH(A13,masterlist!$C$2:$C$200,0))),\"\")","v":0},{"$f":"IFERROR(HYPERLINK(INDEX(masterlist!$S$2:$S$200,MATCH(A13,masterlist!$C$2:$C$200,0)),INDEX(masterlist!$R$2:$R$200,MATCH(A13,masterlist!$C$2:$C$200,0))),\"\")","v":0},{"$f":"IFERROR(HYPERLINK(INDEX(masterlist!$U$2:$U$200,MATCH(A13,masterlist!$C$2:$C$200,0)),INDEX(masterlist!$T$2:$T$200,MATCH(A13,masterlist!$C$2:$C$200,0))),\"\")","v":0}]
[{"$f":"IFERROR(INDEX(masterlist!$A$2:$F$200,SMALL(IF(masterlist!$B$2:$B$200=\"LEG\",ROW(masterlist!$A$2:$F$200)-1),ROW(10:10)),3),\"\")","v":"LEG-Leg-2-10"},{"$f":"IFERROR(INDEX(masterlist!$E$2:$E$200,MATCH(A14,masterlist!$C$2:$C$200,0)),\"\")","v":2},{"$f":"IFERROR(INDEX(masterlist!$D$2:$D$200,MATCH(A14,masterlist!$C$2:$C$200,0)),\"\")","v":"Legal Framework"},{"$f":"IFERROR(INDEX(masterlist!$G$2:$G$200,MATCH(A14,masterlist!$C$2:$C$200,0)),\"\")","v":"Does the legislation regarding nationally licenced vaccines reflect that of international guidelines?"},{"$f":"IFERROR(INDEX(masterlist!$H$2:$H$200,MATCH(A14,masterlist!$C$2:$C$200,0)),\"\")","v":" "},0,null,{"$f":"IFERROR(HYPERLINK(INDEX(masterlist!$M$2:$M$200,MATCH(A14,masterlist!$C$2:$C$200,0)),INDEX(masterlist!$L$2:$L$200,MATCH(A14,masterlist!$C$2:$C$200,0))),\"\")","v":0},{"$f":"IFERROR(HYPERLINK(INDEX(masterlist!$O$2:$O$200,MATCH(A14,masterlist!$C$2:$C$200,0)),INDEX(masterlist!$N$2:$N$200,MATCH(A14,masterlist!$C$2:$C$200,0))),\"\")","v":0},{"$f":"IFERROR(HYPERLINK(INDEX(masterlist!$Q$2:$Q$200,MATCH(A14,masterlist!$C$2:$C$200,0)),INDEX(masterlist!$P$2:$P$200,MATCH(A14,masterlist!$C$2:$C$200,0))),\"\")","v":0},{"$f":"IFERROR(HYPERLINK(INDEX(masterlist!$S$2:$S$200,MATCH(A14,masterlist!$C$2:$C$200,0)),INDEX(masterlist!$R$2:$R$200,MATCH(A14,masterlist!$C$2:$C$200,0))),\"\")","v":0},{"$f":"IFERROR(HYPERLINK(INDEX(masterlist!$U$2:$U$200,MATCH(A14,masterlist!$C$2:$C$200,0)),INDEX(masterlist!$T$2:$T$200,MATCH(A14,masterlist!$C$2:$C$200,0))),\"\")","v":0}]
[{"$f":"IFERROR(INDEX(masterlist!$A$2:$F$200,SMALL(IF(masterlist!$B$2:$B$200=\"LEG\",ROW(masterlist!$A$2:$F$200)-1),ROW(11:11)),3),\"\")","v":"LEG-Leg-3-11"},{"$f":"IFERROR(INDEX(masterlist!$E$2:$E$200,MATCH(A15,masterlist!$C$2:$C$200,0)),\"\")","v":3},{"$f":"IFERROR(INDEX(masterlist!$D$2:$D$200,MATCH(A15,masterlist!$C$2:$C$200,0)),\"\")","v":"Legal Framework"},{"$f":"IFERROR(INDEX(masterlist!$G$2:$G$200,MATCH(A15,masterlist!$C$2:$C$200,0)),\"\")","v":"Has legislation been updated to include specifications on the compulsory vaccination and international movement of dogs? "},{"$f":"IFERROR(INDEX(masterlist!$H$2:$H$200,MATCH(A15,masterlist!$C$2:$C$200,0)),\"\")","v":" "},1,null,{"$f":"IFERROR(HYPERLINK(INDEX(masterlist!$M$2:$M$200,MATCH(A15,masterlist!$C$2:$C$200,0)),INDEX(masterlist!$L$2:$L$200,MATCH(A15,masterlist!$C$2:$C$200,0))),\"\")","v":"General-guide-on-veterinary legislation"},{"$f":"IFERROR(HYPERLINK(INDEX(masterlist!$O$2:$O$200,MATCH(A15,masterlist!$C$2:$C$200,0)),INDEX(masterlist!$N$2:$N$200,MATCH(A15,masterlist!$C$2:$C$200,0))),\"\")","v":"3.2.11- laws-and-by-laws"},{"$f":"IFERROR(HYPERLINK(INDEX(masterlist!$Q$2:$Q$200,MATCH(A15,masterlist!$C$2:$C$200,0)),INDEX(masterlist!$P$2:$P$200,MATCH(A15,masterlist!$C$2:$C$200,0))),\"\")","v":0},{"$f":"IFERROR(HYPERLINK(INDEX(masterlist!$S$2:$S$200,MATCH(A15,masterlist!$C$2:$C$200,0)),INDEX(masterlist!$R$2:$R$200,MATCH(A15,masterlist!$C$2:$C$200,0))),\"\")","v":0},{"$f":"IFERROR(HYPERLINK(INDEX(masterlist!$U$2:$U$200,MATCH(A15,masterlist!$C$2:$C$200,0)),INDEX(masterlist!$T$2:$T$200,MATCH(A15,masterlist!$C$2:$C$200,0))),\"\")","v":0}]
[{"$f":"IFERROR(INDEX(masterlist!$A$2:$F$200,SMALL(IF(masterlist!$B$2:$B$200=\"LEG\",ROW(masterlist!$A$2:$F$200)-1),ROW(12:12)),3),\"\")","v":"LEG-Leg-3-12"},{"$f":"IFERROR(INDEX(masterlist!$E$2:$E$200,MATCH(A16,masterlist!$C$2:$C$200,0)),\"\")","v":3},{"$f":"IFERROR(INDEX(masterlist!$D$2:$D$200,MATCH(A16,masterlist!$C$2:$C$200,0)),\"\")","v":"Legal Framework"},{"$f":"IFERROR(INDEX(masterlist!$G$2:$G$200,MATCH(A16,masterlist!$C$2:$C$200,0)),\"\")","v":"Is the relevant legislation enforced at the national level?"},{"$f":"IFERROR(INDEX(masterlist!$H$2:$H$200,MATCH(A16,masterlist!$C$2:$C$200,0)),\"\")","v":" "},1,null,{"$f":"IFERROR(HYPERLINK(INDEX(masterlist!$M$2:$M$200,MATCH(A16,masterlist!$C$2:$C$200,0)),INDEX(masterlist!$L$2:$L$200,MATCH(A16,masterlist!$C$2:$C$200,0))),\"\")","v":0},{"$f":"IFERROR(HYPERLINK(INDEX(masterlist!$O$2:$O$200,MATCH(A16,masterlist!$C$2:$C$200,0)),INDEX(masterlist!$N$2:$N$200,MATCH(A16,masterlist!$C$2:$C$200,0))),\"\")","v":0},{"$f":"IFERROR(HYPERLINK(INDEX(masterlist!$Q$2:$Q$200,MATCH(A16,masterlist!$C$2:$C$200,0)),INDEX(masterlist!$P$2:$P$200,MATCH(A16,masterlist!$C$2:$C$200,0))),\"\")","v":0},{"$f":"IFERROR(HYPERLINK(INDEX(masterlist!$S$2:$S$200,MATCH(A16,masterlist!$C$2:$C$200,0)),INDEX(masterlist!$R$2:$R$200,MATCH(A16,masterlist!$C$2:$C$200,0))),\"\")","v":0},{"$f":"IFERROR(HYPERLINK(INDEX(masterlist!$U$2:$U$200,MATCH(A16,masterlist!$C$2:$C$200,0)),INDEX(masterlist!$T$2:$T$200,MATCH(A16,masterlist!$C$2:$C$200,0))),\"\")","v":0}]
[{"$f":"IFERROR(INDEX(masterlist!$A$2:$F$200,SMALL(IF(masterlist!$B$2:$B$200=\"LEG\",ROW(masterlist!$A$2:$F$200)-1),ROW(13:13)),3),\"\")","v":""},{"$f":"IFERROR(INDEX(masterlist!$E$2:$E$200,MATCH(A17,masterlist!$C$2:$C$200,0)),\"\")","v":""},{"$f":"IFERROR(INDEX(masterlist!$D$2:$D$200,MATCH(A17,masterlist!$C$2:$C$200,0)),\"\")","v":""},{"$f":"IFERROR(INDEX(masterlist!$G$2:$G$200,MATCH(A17,masterlist!$C$2:$C$200,0)),\"\")","v":""},{"$f":"IFERROR(INDEX(masterlist!$H$2:$H$200,MATCH(A17,masterlist!$C$2:$C$200,0)),\"\")","v":""},null,null,{"$f":"IFERROR(HYPERLINK(INDEX(masterlist!$M$2:$M$200,MATCH(A17,masterlist!$C$2:$C$200,0)),INDEX(masterlist!$L$2:$L$200,MATCH(A17,masterlist!$C$2:$C$200,0))),\"\")","v":""},{"$f":"IFERROR(HYPERLINK(INDEX(masterlist!$O$2:$O$200,MATCH(A17,masterlist!$C$2:$C$200,0)),INDEX(masterlist!$N$2:$N$200,MATCH(A17,masterlist!$C$2:$C$200,0))),\"\")","v":""},{"$f":"IFERROR(HYPERLINK(INDEX(masterlist!$Q$2:$Q$200,MATCH(A17,masterlist!$C$2:$C$200,0)),INDEX(masterlist!$P$2:$P$200,MATCH(A17,masterlist!$C$2:$C$200,0))),\"\")","v":""},{"$f":"IFERROR(HYPERLINK(INDEX(masterlist!$S$2:$S$200,MATCH(A17,masterlist!$C$2:$C$200,0)),INDEX(masterlist!$R$2:$R$200,MATCH(A17,masterlist!$C$2:$C$200,0))),\"\")","v":""},{"$f":"IFERROR(HYPERLINK(INDEX(masterlist!$U$2:$U$200,MATCH(A17,masterlist!$C$2:$C$200,0)),INDEX(masterlist!$T$2:$T$200,MATCH(A17,masterlist!$C$2:$C$200,0))),\"\")","v":""}]
[{"$f":"IFERROR(INDEX(masterlist!$A$2:$F$200,SMALL(IF(masterlist!$B$2:$B$200=\"LEG\",ROW(masterlist!$A$2:$F$200)-1),ROW(14:14)),3),\"\")","v":""},{"$f":"IFERROR(INDEX(masterlist!$E$2:$E$200,MATCH(A18,masterlist!$C$2:$C$200,0)),\"\")","v":""},{"$f":"IFERROR(INDEX(masterlist!$D$2:$D$200,MATCH(A18,masterlist!$C$2:$C$200,0)),\"\")","v":""},{"$f":"IFERROR(INDEX(masterlist!$G$2:$G$200,MATCH(A18,masterlist!$C$2:$C$200,0)),\"\")","v":""},{"$f":"IFERROR(INDEX(masterlist!$H$2:$H$200,MATCH(A18,masterlist!$C$2:$C$200,0)),\"\")","v":""},null,null,{"$f":"IFERROR(HYPERLINK(INDEX(masterlist!$M$2:$M$200,MATCH(A18,masterlist!$C$2:$C$200,0)),INDEX(masterlist!$L$2:$L$200,MATCH(A18,masterlist!$C$2:$C$200,0))),\"\")","v":""},{"$f":"IFERROR(HYPERLINK(INDEX(masterlist!$O$2:$O$200,MATCH(A18,masterlist!$C$2:$C$200,0)),INDEX(masterlist!$N$2:$N$200,MATCH(A18,masterlist!$C$2:$C$200,0))),\"\")","v":""},{"$f":"IFERROR(HYPERLINK(INDEX(masterlist!$Q$2:$Q$200,MATCH(A18,masterlist!$C$2:$C$200,0)),INDEX(masterlist!$P$2:$P$200,MATCH(A18,masterlist!$C$2:$C$200,0))),\"\")","v":""},{"$f":"IFERROR(HYPERLINK(INDEX(masterlist!$S$2:$S$200,MATCH(A18,masterlist!$C$2:$C$200,0)),INDEX(masterlist!$R$2:$R$200,MATCH(A18,masterlist!$C$2:$C$200,0))),\"\")","v":""},{"$f":"IFERROR(HYPERLINK(INDEX(masterlist!$U$2:$U$200,MATCH(A18,masterlist!$C$2:$C$200,0)),INDEX(masterlist!$T$2:$T$200,MATCH(A18,masterlist!$C$2:$C$200,0))),\"\")","v":""}]
[{"$f":"IFERROR(INDEX(masterlist!$A$2:$F$200,SMALL(IF(masterlist!$B$2:$B$200=\"LEG\",ROW(masterlist!$A$2:$F$200)-1),ROW(15:15)),3),\"\")","v":""},{"$f":"IFERROR(INDEX(masterlist!$E$2:$E$200,MATCH(A19,masterlist!$C$2:$C$200,0)),\"\")","v":""},{"$f":"IFERROR(INDEX(masterlist!$D$2:$D$200,MATCH(A19,masterlist!$C$2:$C$200,0)),\"\")","v":""},{"$f":"IFERROR(INDEX(masterlist!$G$2:$G$200,MATCH(A19,masterlist!$C$2:$C$200,0)),\"\")","v":""},{"$f":"IFERROR(INDEX(masterlist!$H$2:$H$200,MATCH(A19,masterlist!$C$2:$C$200,0)),\"\")","v":""},null,null,{"$f":"IFERROR(HYPERLINK(INDEX(masterlist!$M$2:$M$200,MATCH(A19,masterlist!$C$2:$C$200,0)),INDEX(masterlist!$L$2:$L$200,MATCH(A19,masterlist!$C$2:$C$200,0))),\"\")","v":""},{"$f":"IFERROR(HYPERLINK(INDEX(masterlist!$O$2:$O$200,MATCH(A19,masterlist!$C$2:$C$200,0)),INDEX(masterlist!$N$2:$N$200,MATCH(A19,masterlist!$C$2:$C$200,0))),\"\")","v":""},{"$f":"IFERROR(HYPERLINK(INDEX(masterlist!$Q$2:$Q$200,MATCH(A19,masterlist!$C$2:$C$200,0)),INDEX(masterlist!$P$2:$P$200,MATCH(A19,masterlist!$C$2:$C$200,0))),\"\")","v":""},{"$f":"IFERROR(HYPERLINK(INDEX(masterlist!$S$2:$S$200,MATCH(A19,masterlist!$C$2:$C$200,0)),INDEX(masterlist!$R$2:$R$200,MATCH(A19,masterlist!$C$2:$C$200,0))),\"\")","v":""},{"$f":"IFERROR(HYPERLINK(INDEX(masterlist!$U$2:$U$200,MATCH(A19,masterlist!$C$2:$C$200,0)),INDEX(masterlist!$T$2:$T$200,MATCH(A19,masterlist!$C$2:$C$200,0))),\"\")","v":""}]
[{"$f":"IFERROR(INDEX(masterlist!$A$2:$F$200,SMALL(IF(masterlist!$B$2:$B$200=\"LEG\",ROW(masterlist!$A$2:$F$200)-1),ROW(16:16)),3),\"\")","v":""},{"$f":"IFERROR(INDEX(masterlist!$E$2:$E$200,MATCH(A20,masterlist!$C$2:$C$200,0)),\"\")","v":""},{"$f":"IFERROR(INDEX(masterlist!$D$2:$D$200,MATCH(A20,masterlist!$C$2:$C$200,0)),\"\")","v":""},{"$f":"IFERROR(INDEX(masterlist!$G$2:$G$200,MATCH(A20,masterlist!$C$2:$C$200,0)),\"\")","v":""},{"$f":"IFERROR(INDEX(masterlist!$H$2:$H$200,MATCH(A20,masterlist!$C$2:$C$200,0)),\"\")","v":""},null,null,{"$f":"IFERROR(HYPERLINK(INDEX(masterlist!$M$2:$M$200,MATCH(A20,masterlist!$C$2:$C$200,0)),INDEX(masterlist!$L$2:$L$200,MATCH(A20,masterlist!$C$2:$C$200,0))),\"\")","v":""},{"$f":"IFERROR(HYPERLINK(INDEX(masterlist!$O$2:$O$200,MATCH(A20,masterlist!$C$2:$C$200,0)),INDEX(masterlist!$N$2:$N$200,MATCH(A20,masterlist!$C$2:$C$200,0))),\"\")","v":""},{"$f":"IFERROR(HYPERLINK(INDEX(masterlist!$Q$2:$Q$200,MATCH(A20,masterlist!$C$2:$C$200,0)),INDEX(masterlist!$P$2:$P$200,MATCH(A20,masterlist!$C$2:$C$200,0))),\"\")","v":""},{"$f":"IFERROR(HYPERLINK(INDEX(masterlist!$S$2:$S$200,MATCH(A20,masterlist!$C$2:$C$200,0)),INDEX(masterlist!$R$2:$R$200,MATCH(A20,masterlist!$C$2:$C$200,0))),\"\")","v":""},{"$f":"IFERROR(HYPERLINK(INDEX(masterlist!$U$2:$U$200,MATCH(A20,masterlist!$C$2:$C$200,0)),INDEX(masterlist!$T$2:$T$200,MATCH(A20,masterlist!$C$2:$C$200,0))),\"\")","v":""}]
[{"$f":"IFERROR(INDEX(masterlist!$A$2:$F$200,SMALL(IF(masterlist!$B$2:$B$200=\"LEG\",ROW(masterlist!$A$2:$F$200)-1),ROW(17:17)),3),\"\")","v":""},{"$f":"IFERROR(INDEX(masterlist!$E$2:$E$200,MATCH(A21,masterlist!$C$2:$C$200,0)),\"\")","v":""},{"$f":"IFERROR(INDEX(masterlist!$D$2:$D$200,MATCH(A21,masterlist!$C$2:$C$200,0)),\"\")","v":""},{"$f":"IFERROR(INDEX(masterlist!$G$2:$G$200,MATCH(A21,masterlist!$C$2:$C$200,0)),\"\")","v":""},{"$f":"IFERROR(INDEX(masterlist!$H$2:$H$200,MATCH(A21,masterlist!$C$2:$C$200,0)),\"\")","v":""},null,null,{"$f":"IFERROR(HYPERLINK(INDEX(masterlist!$M$2:$M$200,MATCH(A21,masterlist!$C$2:$C$200,0)),INDEX(masterlist!$L$2:$L$200,MATCH(A21,masterlist!$C$2:$C$200,0))),\"\")","v":""},{"$f":"IFERROR(HYPERLINK(INDEX(masterlist!$O$2:$O$200,MATCH(A21,masterlist!$C$2:$C$200,0)),INDEX(masterlist!$N$2:$N$200,MATCH(A21,masterlist!$C$2:$C$200,0))),\"\")","v":""},{"$f":"IFERROR(HYPERLINK(INDEX(masterlist!$Q$2:$Q$200,MATCH(A21,masterlist!$C$2:$C$200,0)),INDEX(masterlist!$P$2:$P$200,MATCH(A21,masterlist!$C$2:$C$200,0))),\"\")","v":""},{"$f":"IFERROR(HYPERLINK(INDEX(masterlist!$S$2:$S$200,MATCH(A21,masterlist!$C$2:$C$200,0)),INDEX(masterlist!$R$2:$R$200,MATCH(A21,masterlist!$C$2:$C$200,0))),\"\")","v":""},{"$f":"IFERROR(HYPERLINK(INDEX(masterlist!$U$2:$U$200,MATCH(A21,masterlist!$C$2:$C$200,0)),INDEX(masterlist!$T$2:$T$200,MATCH(A21,masterlist!$C$2:$C$200,0))),\"\")","v":""}]
[{"$f":"IFERROR(INDEX(masterlist!$A$2:$F$200,SMALL(IF(masterlist!$B$2:$B$200=\"LEG\",ROW(masterlist!$A$2:$F$200)-1),ROW(18:18)),3),\"\")","v":""},{"$f":"IFERROR(INDEX(masterlist!$E$2:$E$200,MATCH(A22,masterlist!$C$2:$C$200,0)),\"\")","v":""},{"$f":"IFERROR(INDEX(masterlist!$D$2:$D$200,MATCH(A22,masterlist!$C$2:$C$200,0)),\"\")","v":""},{"$f":"IFERROR(INDEX(masterlist!$G$2:$G$200,MATCH(A22,masterlist!$C$2:$C$200,0)),\"\")","v":""},{"$f":"IFERROR(INDEX(masterlist!$H$2:$H$200,MATCH(A22,masterlist!$C$2:$C$200,0)),\"\")","v":""},null,null,{"$f":"IFERROR(HYPERLINK(INDEX(masterlist!$M$2:$M$200,MATCH(A22,masterlist!$C$2:$C$200,0)),INDEX(masterlist!$L$2:$L$200,MATCH(A22,masterlist!$C$2:$C$200,0))),\"\")","v":""},{"$f":"IFERROR(HYPERLINK(INDEX(masterlist!$O$2:$O$200,MATCH(A22,masterlist!$C$2:$C$200,0)),INDEX(masterlist!$N$2:$N$200,MATCH(A22,masterlist!$C$2:$C$200,0))),\"\")","v":""},{"$f":"IFERROR(HYPERLINK(INDEX(masterlist!$Q$2:$Q$200,MATCH(A22,masterlist!$C$2:$C$200,0)),INDEX(masterlist!$P$2:$P$200,MATCH(A22,masterlist!$C$2:$C$200,0))),\"\")","v":""},{"$f":"IFERROR(HYPERLINK(INDEX(masterlist!$S$2:$S$200,MATCH(A22,masterlist!$C$2:$C$200,0)),INDEX(masterlist!$R$2:$R$200,MATCH(A22,masterlist!$C$2:$C$200,0))),\"\")","v":""},{"$f":"IFERROR(HYPERLINK(INDEX(masterlist!$U$2:$U$200,MATCH(A22,masterlist!$C$2:$C$200,0)),INDEX(masterlist!$T$2:$T$200,MATCH(A22,masterlist!$C$2:$C$200,0))),\"\")","v":""}]
[{"$f":"IFERROR(INDEX(masterlist!$A$2:$F$200,SMALL(IF(masterlist!$B$2:$B$200=\"LEG\",ROW(masterlist!$A$2:$F$200)-1),ROW(19:19)),3),\"\")","v":""},{"$f":"IFERROR(INDEX(masterlist!$E$2:$E$200,MATCH(A23,masterlist!$C$2:$C$200,0)),\"\")","v":""},{"$f":"IFERROR(INDEX(masterlist!$D$2:$D$200,MATCH(A23,masterlist!$C$2:$C$200,0)),\"\")","v":""},{"$f":"IFERROR(INDEX(masterlist!$G$2:$G$200,MATCH(A23,masterlist!$C$2:$C$200,0)),\"\")","v":""},{"$f":"IFERROR(INDEX(masterlist!$H$2:$H$200,MATCH(A23,masterlist!$C$2:$C$200,0)),\"\")","v":""},null,null,{"$f":"IFERROR(HYPERLINK(INDEX(masterlist!$M$2:$M$200,MATCH(A23,masterlist!$C$2:$C$200,0)),INDEX(masterlist!$L$2:$L$200,MATCH(A23,masterlist!$C$2:$C$200,0))),\"\")","v":""},{"$f":"IFERROR(HYPERLINK(INDEX(masterlist!$O$2:$O$200,MATCH(A23,masterlist!$C$2:$C$200,0)),INDEX(masterlist!$N$2:$N$200,MATCH(A23,masterlist!$C$2:$C$200,0))),\"\")","v":""},{"$f":"IFERROR(HYPERLINK(INDEX(masterlist!$Q$2:$Q$200,MATCH(A23,masterlist!$C$2:$C$200,0)),INDEX(masterlist!$P$2:$P$200,MATCH(A23,masterlist!$C$2:$C$200,0))),\"\")","v":""},{"$f":"IFERROR(HYPERLINK(INDEX(masterlist!$S$2:$S$200,MATCH(A23,masterlist!$C$2:$C$200,0)),INDEX(masterlist!$R$2:$R$200,MATCH(A23,masterlist!$C$2:$C$200,0))),\"\")","v":""},{"$f":"IFERROR(HYPERLINK(INDEX(masterlist!$U$2:$U$200,MATCH(A23,masterlist!$C$2:$C$200,0)),INDEX(masterlist!$T$2:$T$200,MATCH(A23,masterlist!$C$2:$C$200,0))),\"\")","v":""}]
[{"$f":"IFERROR(INDEX(masterlist!$A$2:$F$200,SMALL(IF(masterlist!$B$2:$B$200=\"LEG\",ROW(masterlist!$A$2:$F$200)-1),ROW(20:20)),3),\"\")","v":""},{"$f":"IFERROR(INDEX(masterlist!$E$2:$E$200,MATCH(A24,masterlist!$C$2:$C$200,0)),\"\")","v":""},{"$f":"IFERROR(INDEX(masterlist!$D$2:$D$200,MATCH(A24,masterlist!$C$2:$C$200,0)),\"\")","v":""},{"$f":"IFERROR(INDEX(masterlist!$G$2:$G$200,MATCH(A24,masterlist!$C$2:$C$200,0)),\"\")","v":""},{"$f":"IFERROR(INDEX(masterlist!$H$2:$H$200,MATCH(A24,masterlist!$C$2:$C$200,0)),\"\")","v":""},null,null,{"$f":"IFERROR(HYPERLINK(INDEX(masterlist!$M$2:$M$200,MATCH(A24,masterlist!$C$2:$C$200,0)),INDEX(masterlist!$L$2:$L$200,MATCH(A24,masterlist!$C$2:$C$200,0))),\"\")","v":""},{"$f":"IFERROR(HYPERLINK(INDEX(masterlist!$O$2:$O$200,MATCH(A24,masterlist!$C$2:$C$200,0)),INDEX(masterlist!$N$2:$N$200,MATCH(A24,masterlist!$C$2:$C$200,0))),\"\")","v":""},{"$f":"IFERROR(HYPERLINK(INDEX(masterlist!$Q$2:$Q$200,MATCH(A24,masterlist!$C$2:$C$200,0)),INDEX(masterlist!$P$2:$P$200,MATCH(A24,masterlist!$C$2:$C$200,0))),\"\")","v":""},{"$f":"IFERROR(HYPERLINK(INDEX(masterlist!$S$2:$S$200,MATCH(A24,masterlist!$C$2:$C$200,0)),INDEX(masterlist!$R$2:$R$200,MATCH(A24,masterlist!$C$2:$C$200,0))),\"\")","v":""},{"$f":"IFERROR(HYPERLINK(INDEX(masterlist!$U$2:$U$200,MATCH(A24,masterlist!$C$2:$C$200,0)),INDEX(masterlist!$T$2:$T$200,MATCH(A24,masterlist!$C$2:$C$200,0))),\"\")","v":""}]
[{"$f":"IFERROR(INDEX(masterlist!$A$2:$F$200,SMALL(IF(masterlist!$B$2:$B$200=\"LEG\",ROW(masterlist!$A$2:$F$200)-1),ROW(21:21)),3),\"\")","v":""},{"$f":"IFERROR(INDEX(masterlist!$E$2:$E$200,MATCH(A25,masterlist!$C$2:$C$200,0)),\"\")","v":""},{"$f":"IFERROR(INDEX(masterlist!$D$2:$D$200,MATCH(A25,masterlist!$C$2:$C$200,0)),\"\")","v":""},{"$f":"IFERROR(INDEX(masterlist!$G$2:$G$200,MATCH(A25,masterlist!$C$2:$C$200,0)),\"\")","v":""},{"$f":"IFERROR(INDEX(masterlist!$H$2:$H$200,MATCH(A25,masterlist!$C$2:$C$200,0)),\"\")","v":""},null,null,{"$f":"IFERROR(HYPERLINK(INDEX(masterlist!$M$2:$M$200,MATCH(A25,masterlist!$C$2:$C$200,0)),INDEX(masterlist!$L$2:$L$200,MATCH(A25,masterlist!$C$2:$C$200,0))),\"\")","v":""},{"$f":"IFERROR(HYPERLINK(INDEX(masterlist!$O$2:$O$200,MATCH(A25,masterlist!$C$2:$C$200,0)),INDEX(masterlist!$N$2:$N$200,MATCH(A25,masterlist!$C$2:$C$200,0))),\"\")","v":""},{"$f":"IFERROR(HYPERLINK(INDEX(masterlist!$Q$2:$Q$200,MATCH(A25,masterlist!$C$2:$C$200,0)),INDEX(masterlist!$P$2:$P$200,MATCH(A25,masterlist!$C$2:$C$200,0))),\"\")","v":""},{"$f":"IFERROR(HYPERLINK(INDEX(masterlist!$S$2:$S$200,MATCH(A25,masterlist!$C$2:$C$200,0)),INDEX(masterlist!$R$2:$R$200,MATCH(A25,masterlist!$C$2:$C$200,0))),\"\")","v":""},{"$f":"IFERROR(HYPERLINK(INDEX(masterlist!$U$2:$U$200,MATCH(A25,masterlist!$C$2:$C$200,0)),INDEX(masterlist!$T$2:$T$200,MATCH(A25,masterlist!$C$2:$C$200,0))),\"\")","v":""}]
[{"$f":"IFERROR(INDEX(masterlist!$A$2:$F$200,SMALL(IF(masterlist!$B$2:$B$200=\"LEG\",ROW(masterlist!$A$2:$F$200)-1),ROW(22:22)),3),\"\")","v":""},{"$f":"IFERROR(INDEX(masterlist!$E$2:$E$200,MATCH(A26,masterlist!$C$2:$C$200,0)),\"\")","v":""},{"$f":"IFERROR(INDEX(masterlist!$D$2:$D$200,MATCH(A26,masterlist!$C$2:$C$200,0)),\"\")","v":""},{"$f":"IFERROR(INDEX(masterlist!$G$2:$G$200,MATCH(A26,masterlist!$C$2:$C$200,0)),\"\")","v":""},{"$f":"IFERROR(INDEX(masterlist!$H$2:$H$200,MATCH(A26,masterlist!$C$2:$C$200,0)),\"\")","v":""},null,null,{"$f":"IFERROR(HYPERLINK(INDEX(masterlist!$M$2:$M$200,MATCH(A26,masterlist!$C$2:$C$200,0)),INDEX(masterlist!$L$2:$L$200,MATCH(A26,masterlist!$C$2:$C$200,0))),\"\")","v":""},{"$f":"IFERROR(HYPERLINK(INDEX(masterlist!$O$2:$O$200,MATCH(A26,masterlist!$C$2:$C$200,0)),INDEX(masterlist!$N$2:$N$200,MATCH(A26,masterlist!$C$2:$C$200,0))),\"\")","v":""},{"$f":"IFERROR(HYPERLINK(INDEX(masterlist!$Q$2:$Q$200,MATCH(A26,masterlist!$C$2:$C$200,0)),INDEX(masterlist!$P$2:$P$200,MATCH(A26,masterlist!$C$2:$C$200,0))),\"\")","v":""},{"$f":"IFERROR(HYPERLINK(INDEX(masterlist!$S$2:$S$200,MATCH(A26,masterlist!$C$2:$C$200,0)),INDEX(masterlist!$R$2:$R$200,MATCH(A26,masterlist!$C$2:$C$200,0))),\"\")","v":""},{"$f":"IFERROR(HYPERLINK(INDEX(masterlist!$U$2:$U$200,MATCH(A26,masterlist!$C$2:$C$200,0)),INDEX(masterlist!$T$2:$T$200,MATCH(A26,masterlist!$C$2:$C$200,0))),\"\")","v":""}]
[{"$f":"IFERROR(INDEX(masterlist!$A$2:$F$200,SMALL(IF(masterlist!$B$2:$B$200=\"LEG\",ROW(masterlist!$A$2:$F$200)-1),ROW(23:23)),3),\"\")","v":""},{"$f":"IFERROR(INDEX(masterlist!$E$2:$E$200,MATCH(A27,masterlist!$C$2:$C$200,0)),\"\")","v":""},{"$f":"IFERROR(INDEX(masterlist!$D$2:$D$200,MATCH(A27,masterlist!$C$2:$C$200,0)),\"\")","v":""},{"$f":"IFERROR(INDEX(masterlist!$G$2:$G$200,MATCH(A27,masterlist!$C$2:$C$200,0)),\"\")","v":""},{"$f":"IFERROR(INDEX(masterlist!$H$2:$H$200,MATCH(A27,masterlist!$C$2:$C$200,0)),\"\")","v":""},null,null,{"$f":"IFERROR(HYPERLINK(INDEX(masterlist!$M$2:$M$200,MATCH(A27,masterlist!$C$2:$C$200,0)),INDEX(masterlist!$L$2:$L$200,MATCH(A27,masterlist!$C$2:$C$200,0))),\"\")","v":""},{"$f":"IFERROR(HYPERLINK(INDEX(masterlist!$O$2:$O$200,MATCH(A27,masterlist!$C$2:$C$200,0)),INDEX(masterlist!$N$2:$N$200,MATCH(A27,masterlist!$C$2:$C$200,0))),\"\")","v":""},{"$f":"IFERROR(HYPERLINK(INDEX(masterlist!$Q$2:$Q$200,MATCH(A27,masterlist!$C$2:$C$200,0)),INDEX(masterlist!$P$2:$P$200,MATCH(A27,masterlist!$C$2:$C$200,0))),\"\")","v":""},{"$f":"IFERROR(HYPERLINK(INDEX(masterlist!$S$2:$S$200,MATCH(A27,masterlist!$C$2:$C$200,0)),INDEX(masterlist!$R$2:$R$200,MATCH(A27,masterlist!$C$2:$C$200,0))),\"\")","v":""},{"$f":"IFERROR(HYPERLINK(INDEX(masterlist!$U$2:$U$200,MATCH(A27,masterlist!$C$2:$C$200,0)),INDEX(masterlist!$T$2:$T$200,MATCH(A27,masterlist!$C$2:$C$200,0))),\"\")","v":""}]
[{"$f":"IFERROR(INDEX(masterlist!$A$2:$F$200,SMALL(IF(masterlist!$B$2:$B$200=\"LEG\",ROW(masterlist!$A$2:$F$200)-1),ROW(24:24)),3),\"\")","v":""},{"$f":"IFERROR(INDEX(masterlist!$E$2:$E$200,MATCH(A28,masterlist!$C$2:$C$200,0)),\"\")","v":""},{"$f":"IFERROR(INDEX(masterlist!$D$2:$D$200,MATCH(A28,masterlist!$C$2:$C$200,0)),\"\")","v":""},{"$f":"IFERROR(INDEX(masterlist!$G$2:$G$200,MATCH(A28,masterlist!$C$2:$C$200,0)),\"\")","v":""},{"$f":"IFERROR(INDEX(masterlist!$H$2:$H$200,MATCH(A28,masterlist!$C$2:$C$200,0)),\"\")","v":""},null,null,{"$f":"IFERROR(HYPERLINK(INDEX(masterlist!$M$2:$M$200,MATCH(A28,masterlist!$C$2:$C$200,0)),INDEX(masterlist!$L$2:$L$200,MATCH(A28,masterlist!$C$2:$C$200,0))),\"\")","v":""},{"$f":"IFERROR(HYPERLINK(INDEX(masterlist!$O$2:$O$200,MATCH(A28,masterlist!$C$2:$C$200,0)),INDEX(masterlist!$N$2:$N$200,MATCH(A28,masterlist!$C$2:$C$200,0))),\"\")","v":""},{"$f":"IFERROR(HYPERLINK(INDEX(masterlist!$Q$2:$Q$200,MATCH(A28,masterlist!$C$2:$C$200,0)),INDEX(masterlist!$P$2:$P$200,MATCH(A28,masterlist!$C$2:$C$200,0))),\"\")","v":""},{"$f":"IFERROR(HYPERLINK(INDEX(masterlist!$S$2:$S$200,MATCH(A28,masterlist!$C$2:$C$200,0)),INDEX(masterlist!$R$2:$R$200,MATCH(A28,masterlist!$C$2:$C$200,0))),\"\")","v":""},{"$f":"IFERROR(HYPERLINK(INDEX(masterlist!$U$2:$U$200,MATCH(A28,masterlist!$C$2:$C$200,0)),INDEX(masterlist!$T$2:$T$200,MATCH(A28,masterlist!$C$2:$C$200,0))),\"\")","v":""}]
[{"$f":"IFERROR(INDEX(masterlist!$A$2:$F$200,SMALL(IF(masterlist!$B$2:$B$200=\"LEG\",ROW(masterlist!$A$2:$F$200)-1),ROW(25:25)),3),\"\")","v":""},{"$f":"IFERROR(INDEX(masterlist!$E$2:$E$200,MATCH(A29,masterlist!$C$2:$C$200,0)),\"\")","v":""},{"$f":"IFERROR(INDEX(masterlist!$D$2:$D$200,MATCH(A29,masterlist!$C$2:$C$200,0)),\"\")","v":""},{"$f":"IFERROR(INDEX(masterlist!$G$2:$G$200,MATCH(A29,masterlist!$C$2:$C$200,0)),\"\")","v":""},{"$f":"IFERROR(INDEX(masterlist!$H$2:$H$200,MATCH(A29,masterlist!$C$2:$C$200,0)),\"\")","v":""},null,null,{"$f":"IFERROR(HYPERLINK(INDEX(masterlist!$M$2:$M$200,MATCH(A29,masterlist!$C$2:$C$200,0)),INDEX(masterlist!$L$2:$L$200,MATCH(A29,masterlist!$C$2:$C$200,0))),\"\")","v":""},{"$f":"IFERROR(HYPERLINK(INDEX(masterlist!$O$2:$O$200,MATCH(A29,masterlist!$C$2:$C$200,0)),INDEX(masterlist!$N$2:$N$200,MATCH(A29,masterlist!$C$2:$C$200,0))),\"\")","v":""},{"$f":"IFERROR(HYPERLINK(INDEX(masterlist!$Q$2:$Q$200,MATCH(A29,masterlist!$C$2:$C$200,0)),INDEX(masterlist!$P$2:$P$200,MATCH(A29,masterlist!$C$2:$C$200,0))),\"\")","v":""},{"$f":"IFERROR(HYPERLINK(INDEX(masterlist!$S$2:$S$200,MATCH(A29,masterlist!$C$2:$C$200,0)),INDEX(masterlist!$R$2:$R$200,MATCH(A29,masterlist!$C$2:$C$200,0))),\"\")","v":""},{"$f":"IFERROR(HYPERLINK(INDEX(masterlist!$U$2:$U$200,MATCH(A29,masterlist!$C$2:$C$200,0)),INDEX(masterlist!$T$2:$T$200,MATCH(A29,masterlist!$C$2:$C$200,0))),\"\")","v":""}]
[{"$f":"IFERROR(INDEX(masterlist!$A$2:$F$200,SMALL(IF(masterlist!$B$2:$B$200=\"LEG\",ROW(masterlist!$A$2:$F$200)-1),ROW(26:26)),3),\"\")","v":""},{"$f":"IFERROR(INDEX(masterlist!$E$2:$E$200,MATCH(A30,masterlist!$C$2:$C$200,0)),\"\")","v":""},{"$f":"IFERROR(INDEX(masterlist!$D$2:$D$200,MATCH(A30,masterlist!$C$2:$C$200,0)),\"\")","v":""},{"$f":"IFERROR(INDEX(masterlist!$G$2:$G$200,MATCH(A30,masterlist!$C$2:$C$200,0)),\"\")","v":""},{"$f":"IFERROR(INDEX(masterlist!$H$2:$H$200,MATCH(A30,masterlist!$C$2:$C$200,0)),\"\")","v":""},null,null,{"$f":"IFERROR(HYPERLINK(INDEX(masterlist!$M$2:$M$200,MATCH(A30,masterlist!$C$2:$C$200,0)),INDEX(masterlist!$L$2:$L$200,MATCH(A30,masterlist!$C$2:$C$200,0))),\"\")","v":""},{"$f":"IFERROR(HYPERLINK(INDEX(masterlist!$O$2:$O$200,MATCH(A30,masterlist!$C$2:$C$200,0)),INDEX(masterlist!$N$2:$N$200,MATCH(A30,masterlist!$C$2:$C$200,0))),\"\")","v":""},{"$f":"IFERROR(HYPERLINK(INDEX(masterlist!$Q$2:$Q$200,MATCH(A30,masterlist!$C$2:$C$200,0)),INDEX(masterlist!$P$2:$P$200,MATCH(A30,masterlist!$C$2:$C$200,0))),\"\")","v":""},{"$f":"IFERROR(HYPERLINK(INDEX(masterlist!$S$2:$S$200,MATCH(A30,masterlist!$C$2:$C$200,0)),INDEX(masterlist!$R$2:$R$200,MATCH(A30,masterlist!$C$2:$C$200,0))),\"\")","v":""},{"$f":"IFERROR(HYPERLINK(INDEX(masterlist!$U$2:$U$200,MATCH(A30,masterlist!$C$2:$C$200,0)),INDEX(masterlist!$T$2:$T$200,MATCH(A30,masterlist!$C$2:$C$200,0))),\"\")","v":""}]
[{"$f":"IFERROR(INDEX(masterlist!$A$2:$F$200,SMALL(IF(masterlist!$B$2:$B$200=\"LEG\",ROW(masterlist!$A$2:$F$200)-1),ROW(27:27)),3),\"\")","v":""},{"$f":"IFERROR(INDEX(masterlist!$E$2:$E$200,MATCH(A31,masterlist!$C$2:$C$200,0)),\"\")","v":""},{"$f":"IFERROR(INDEX(masterlist!$D$2:$D$200,MATCH(A31,masterlist!$C$2:$C$200,0)),\"\")","v":""},{"$f":"IFERROR(INDEX(masterlist!$G$2:$G$200,MATCH(A31,masterlist!$C$2:$C$200,0)),\"\")","v":""},{"$f":"IFERROR(INDEX(masterlist!$H$2:$H$200,MATCH(A31,masterlist!$C$2:$C$200,0)),\"\")","v":""},null,null,{"$f":"IFERROR(HYPERLINK(INDEX(masterlist!$M$2:$M$200,MATCH(A31,masterlist!$C$2:$C$200,0)),INDEX(masterlist!$L$2:$L$200,MATCH(A31,masterlist!$C$2:$C$200,0))),\"\")","v":""},{"$f":"IFERROR(HYPERLINK(INDEX(masterlist!$O$2:$O$200,MATCH(A31,masterlist!$C$2:$C$200,0)),INDEX(masterlist!$N$2:$N$200,MATCH(A31,masterlist!$C$2:$C$200,0))),\"\")","v":""},{"$f":"IFERROR(HYPERLINK(INDEX(masterlist!$Q$2:$Q$200,MATCH(A31,masterlist!$C$2:$C$200,0)),INDEX(masterlist!$P$2:$P$200,MATCH(A31,masterlist!$C$2:$C$200,0))),\"\")","v":""},{"$f":"IFERROR(HYPERLINK(INDEX(masterlist!$S$2:$S$200,MATCH(A31,masterlist!$C$2:$C$200,0)),INDEX(masterlist!$R$2:$R$200,MATCH(A31,masterlist!$C$2:$C$200,0))),\"\")","v":""},{"$f":"IFERROR(HYPERLINK(INDEX(masterlist!$U$2:$U$200,MATCH(A31,masterlist!$C$2:$C$200,0)),INDEX(masterlist!$T$2:$T$200,MATCH(A31,masterlist!$C$2:$C$200,0))),\"\")","v":""}]
[{"$f":"IFERROR(INDEX(masterlist!$A$2:$F$200,SMALL(IF(masterlist!$B$2:$B$200=\"LEG\",ROW(masterlist!$A$2:$F$200)-1),ROW(28:28)),3),\"\")","v":""},{"$f":"IFERROR(INDEX(masterlist!$E$2:$E$200,MATCH(A32,masterlist!$C$2:$C$200,0)),\"\")","v":""},{"$f":"IFERROR(INDEX(masterlist!$D$2:$D$200,MATCH(A32,masterlist!$C$2:$C$200,0)),\"\")","v":""},{"$f":"IFERROR(INDEX(masterlist!$G$2:$G$200,MATCH(A32,masterlist!$C$2:$C$200,0)),\"\")","v":""},{"$f":"IFERROR(INDEX(masterlist!$H$2:$H$200,MATCH(A32,masterlist!$C$2:$C$200,0)),\"\")","v":""},null,null,{"$f":"IFERROR(HYPERLINK(INDEX(masterlist!$M$2:$M$200,MATCH(A32,masterlist!$C$2:$C$200,0)),INDEX(masterlist!$L$2:$L$200,MATCH(A32,masterlist!$C$2:$C$200,0))),\"\")","v":""},{"$f":"IFERROR(HYPERLINK(INDEX(masterlist!$O$2:$O$200,MATCH(A32,masterlist!$C$2:$C$200,0)),INDEX(masterlist!$N$2:$N$200,MATCH(A32,masterlist!$C$2:$C$200,0))),\"\")","v":""},{"$f":"IFERROR(HYPERLINK(INDEX(masterlist!$Q$2:$Q$200,MATCH(A32,masterlist!$C$2:$C$200,0)),INDEX(masterlist!$P$2:$P$200,MATCH(A32,masterlist!$C$2:$C$200,0))),\"\")","v":""},{"$f":"IFERROR(HYPERLINK(INDEX(masterlist!$S$2:$S$200,MATCH(A32,masterlist!$C$2:$C$200,0)),INDEX(masterlist!$R$2:$R$200,MATCH(A32,masterlist!$C$2:$C$200,0))),\"\")","v":""},{"$f":"IFERROR(HYPERLINK(INDEX(masterlist!$U$2:$U$200,MATCH(A32,masterlist!$C$2:$C$200,0)),INDEX(masterlist!$T$2:$T$200,MATCH(A32,masterlist!$C$2:$C$200,0))),\"\")","v":""}]
[{"$f":"IFERROR(INDEX(masterlist!$A$2:$F$200,SMALL(IF(masterlist!$B$2:$B$200=\"LEG\",ROW(masterlist!$A$2:$F$200)-1),ROW(29:29)),3),\"\")","v":""},{"$f":"IFERROR(INDEX(masterlist!$E$2:$E$200,MATCH(A33,masterlist!$C$2:$C$200,0)),\"\")","v":""},{"$f":"IFERROR(INDEX(masterlist!$D$2:$D$200,MATCH(A33,masterlist!$C$2:$C$200,0)),\"\")","v":""},{"$f":"IFERROR(INDEX(masterlist!$G$2:$G$200,MATCH(A33,masterlist!$C$2:$C$200,0)),\"\")","v":""},{"$f":"IFERROR(INDEX(masterlist!$H$2:$H$200,MATCH(A33,masterlist!$C$2:$C$200,0)),\"\")","v":""},null,null,{"$f":"IFERROR(HYPERLINK(INDEX(masterlist!$M$2:$M$200,MATCH(A33,masterlist!$C$2:$C$200,0)),INDEX(masterlist!$L$2:$L$200,MATCH(A33,masterlist!$C$2:$C$200,0))),\"\")","v":""},{"$f":"IFERROR(HYPERLINK(INDEX(masterlist!$O$2:$O$200,MATCH(A33,masterlist!$C$2:$C$200,0)),INDEX(masterlist!$N$2:$N$200,MATCH(A33,masterlist!$C$2:$C$200,0))),\"\")","v":""},{"$f":"IFERROR(HYPERLINK(INDEX(masterlist!$Q$2:$Q$200,MATCH(A33,masterlist!$C$2:$C$200,0)),INDEX(masterlist!$P$2:$P$200,MATCH(A33,masterlist!$C$2:$C$200,0))),\"\")","v":""},{"$f":"IFERROR(HYPERLINK(INDEX(masterlist!$S$2:$S$200,MATCH(A33,masterlist!$C$2:$C$200,0)),INDEX(masterlist!$R$2:$R$200,MATCH(A33,masterlist!$C$2:$C$200,0))),\"\")","v":""},{"$f":"IFERROR(HYPERLINK(INDEX(masterlist!$U$2:$U$200,MATCH(A33,masterlist!$C$2:$C$200,0)),INDEX(masterlist!$T$2:$T$200,MATCH(A33,masterlist!$C$2:$C$200,0))),\"\")","v":""}]
[{"$f":"IFERROR(INDEX(masterlist!$A$2:$F$200,SMALL(IF(masterlist!$B$2:$B$200=\"LEG\",ROW(masterlist!$A$2:$F$200)-1),ROW(30:30)),3),\"\")","v":""},{"$f":"IFERROR(INDEX(masterlist!$E$2:$E$200,MATCH(A34,masterlist!$C$2:$C$200,0)),\"\")","v":""},{"$f":"IFERROR(INDEX(masterlist!$D$2:$D$200,MATCH(A34,masterlist!$C$2:$C$200,0)),\"\")","v":""},{"$f":"IFERROR(INDEX(masterlist!$G$2:$G$200,MATCH(A34,masterlist!$C$2:$C$200,0)),\"\")","v":""},{"$f":"IFERROR(INDEX(masterlist!$H$2:$H$200,MATCH(A34,masterlist!$C$2:$C$200,0)),\"\")","v":""},null,null,{"$f":"IFERROR(HYPERLINK(INDEX(masterlist!$M$2:$M$200,MATCH(A34,masterlist!$C$2:$C$200,0)),INDEX(masterlist!$L$2:$L$200,MATCH(A34,masterlist!$C$2:$C$200,0))),\"\")","v":""},{"$f":"IFERROR(HYPERLINK(INDEX(masterlist!$O$2:$O$200,MATCH(A34,masterlist!$C$2:$C$200,0)),INDEX(masterlist!$N$2:$N$200,MATCH(A34,masterlist!$C$2:$C$200,0))),\"\")","v":""},{"$f":"IFERROR(HYPERLINK(INDEX(masterlist!$Q$2:$Q$200,MATCH(A34,masterlist!$C$2:$C$200,0)),INDEX(masterlist!$P$2:$P$200,MATCH(A34,masterlist!$C$2:$C$200,0))),\"\")","v":""},{"$f":"IFERROR(HYPERLINK(INDEX(masterlist!$S$2:$S$200,MATCH(A34,masterlist!$C$2:$C$200,0)),INDEX(masterlist!$R$2:$R$200,MATCH(A34,masterlist!$C$2:$C$200,0))),\"\")","v":""},{"$f":"IFERROR(HYPERLINK(INDEX(masterlist!$U$2:$U$200,MATCH(A34,masterlist!$C$2:$C$200,0)),INDEX(masterlist!$T$2:$T$200,MATCH(A34,masterlist!$C$2:$C$200,0))),\"\")","v":""}]
[{"$f":"IFERROR(INDEX(masterlist!$A$2:$F$200,SMALL(IF(masterlist!$B$2:$B$200=\"LEG\",ROW(masterlist!$A$2:$F$200)-1),ROW(31:31)),3),\"\")","v":""},{"$f":"IFERROR(INDEX(masterlist!$E$2:$E$200,MATCH(A35,masterlist!$C$2:$C$200,0)),\"\")","v":""},{"$f":"IFERROR(INDEX(masterlist!$D$2:$D$200,MATCH(A35,masterlist!$C$2:$C$200,0)),\"\")","v":""},{"$f":"IFERROR(INDEX(masterlist!$G$2:$G$200,MATCH(A35,masterlist!$C$2:$C$200,0)),\"\")","v":""},{"$f":"IFERROR(INDEX(masterlist!$H$2:$H$200,MATCH(A35,masterlist!$C$2:$C$200,0)),\"\")","v":""},null,null,{"$f":"IFERROR(HYPERLINK(INDEX(masterlist!$M$2:$M$200,MATCH(A35,masterlist!$C$2:$C$200,0)),INDEX(masterlist!$L$2:$L$200,MATCH(A35,masterlist!$C$2:$C$200,0))),\"\")","v":""},{"$f":"IFERROR(HYPERLINK(INDEX(masterlist!$O$2:$O$200,MATCH(A35,masterlist!$C$2:$C$200,0)),INDEX(masterlist!$N$2:$N$200,MATCH(A35,masterlist!$C$2:$C$200,0))),\"\")","v":""},{"$f":"IFERROR(HYPERLINK(INDEX(masterlist!$Q$2:$Q$200,MATCH(A35,masterlist!$C$2:$C$200,0)),INDEX(masterlist!$P$2:$P$200,MATCH(A35,masterlist!$C$2:$C$200,0))),\"\")","v":""},{"$f":"IFERROR(HYPERLINK(INDEX(masterlist!$S$2:$S$200,MATCH(A35,masterlist!$C$2:$C$200,0)),INDEX(masterlist!$R$2:$R$200,MATCH(A35,masterlist!$C$2:$C$200,0))),\"\")","v":""},{"$f":"IFERROR(HYPERLINK(INDEX(masterlist!$U$2:$U$200,MATCH(A35,masterlist!$C$2:$C$200,0)),INDEX(masterlist!$T$2:$T$200,MATCH(A35,masterlist!$C$2:$C$200,0))),\"\")","v":""}]
[{"$f":"IFERROR(INDEX(masterlist!$A$2:$F$200,SMALL(IF(masterlist!$B$2:$B$200=\"LEG\",ROW(masterlist!$A$2:$F$200)-1),ROW(32:32)),3),\"\")","v":""},{"$f":"IFERROR(INDEX(masterlist!$E$2:$E$200,MATCH(A36,masterlist!$C$2:$C$200,0)),\"\")","v":""},{"$f":"IFERROR(INDEX(masterlist!$D$2:$D$200,MATCH(A36,masterlist!$C$2:$C$200,0)),\"\")","v":""},{"$f":"IFERROR(INDEX(masterlist!$G$2:$G$200,MATCH(A36,masterlist!$C$2:$C$200,0)),\"\")","v":""},{"$f":"IFERROR(INDEX(masterlist!$H$2:$H$200,MATCH(A36,masterlist!$C$2:$C$200,0)),\"\")","v":""},null,null,{"$f":"IFERROR(HYPERLINK(INDEX(masterlist!$M$2:$M$200,MATCH(A36,masterlist!$C$2:$C$200,0)),INDEX(masterlist!$L$2:$L$200,MATCH(A36,masterlist!$C$2:$C$200,0))),\"\")","v":""},{"$f":"IFERROR(HYPERLINK(INDEX(masterlist!$O$2:$O$200,MATCH(A36,masterlist!$C$2:$C$200,0)),INDEX(masterlist!$N$2:$N$200,MATCH(A36,masterlist!$C$2:$C$200,0))),\"\")","v":""},{"$f":"IFERROR(HYPERLINK(INDEX(masterlist!$Q$2:$Q$200,MATCH(A36,masterlist!$C$2:$C$200,0)),INDEX(masterlist!$P$2:$P$200,MATCH(A36,masterlist!$C$2:$C$200,0))),\"\")","v":""},{"$f":"IFERROR(HYPERLINK(INDEX(masterlist!$S$2:$S$200,MATCH(A36,masterlist!$C$2:$C$200,0)),INDEX(masterlist!$R$2:$R$200,MATCH(A36,masterlist!$C$2:$C$200,0))),\"\")","v":""},{"$f":"IFERROR(HYPERLINK(INDEX(masterlist!$U$2:$U$200,MATCH(A36,masterlist!$C$2:$C$200,0)),INDEX(masterlist!$T$2:$T$200,MATCH(A36,masterlist!$C$2:$C$200,0))),\"\")","v":""}]
[{"$f":"IFERROR(INDEX(masterlist!$A$2:$F$200,SMALL(IF(masterlist!$B$2:$B$200=\"LEG\",ROW(masterlist!$A$2:$F$200)-1),ROW(33:33)),3),\"\")","v":""},{"$f":"IFERROR(INDEX(masterlist!$E$2:$E$200,MATCH(A37,masterlist!$C$2:$C$200,0)),\"\")","v":""},{"$f":"IFERROR(INDEX(masterlist!$D$2:$D$200,MATCH(A37,masterlist!$C$2:$C$200,0)),\"\")","v":""},{"$f":"IFERROR(INDEX(masterlist!$G$2:$G$200,MATCH(A37,masterlist!$C$2:$C$200,0)),\"\")","v":""},{"$f":"IFERROR(INDEX(masterlist!$H$2:$H$200,MATCH(A37,masterlist!$C$2:$C$200,0)),\"\")","v":""},null,null,{"$f":"IFERROR(HYPERLINK(INDEX(masterlist!$M$2:$M$200,MATCH(A37,masterlist!$C$2:$C$200,0)),INDEX(masterlist!$L$2:$L$200,MATCH(A37,masterlist!$C$2:$C$200,0))),\"\")","v":""},{"$f":"IFERROR(HYPERLINK(INDEX(masterlist!$O$2:$O$200,MATCH(A37,masterlist!$C$2:$C$200,0)),INDEX(masterlist!$N$2:$N$200,MATCH(A37,masterlist!$C$2:$C$200,0))),\"\")","v":""},{"$f":"IFERROR(HYPERLINK(INDEX(masterlist!$Q$2:$Q$200,MATCH(A37,masterlist!$C$2:$C$200,0)),INDEX(masterlist!$P$2:$P$200,MATCH(A37,masterlist!$C$2:$C$200,0))),\"\")","v":""},{"$f":"IFERROR(HYPERLINK(INDEX(masterlist!$S$2:$S$200,MATCH(A37,masterlist!$C$2:$C$200,0)),INDEX(masterlist!$R$2:$R$200,MATCH(A37,masterlist!$C$2:$C$200,0))),\"\")","v":""},{"$f":"IFERROR(HYPERLINK(INDEX(masterlist!$U$2:$U$200,MATCH(A37,masterlist!$C$2:$C$200,0)),INDEX(masterlist!$T$2:$T$200,MATCH(A37,masterlist!$C$2:$C$200,0))),\"\")","v":""}]
[{"$f":"IFERROR(INDEX(masterlist!$A$2:$F$200,SMALL(IF(masterlist!$B$2:$B$200=\"LEG\",ROW(masterlist!$A$2:$F$200)-1),ROW(34:34)),3),\"\")","v":""},{"$f":"IFERROR(INDEX(masterlist!$E$2:$E$200,MATCH(A38,masterlist!$C$2:$C$200,0)),\"\")","v":""},{"$f":"IFERROR(INDEX(masterlist!$D$2:$D$200,MATCH(A38,masterlist!$C$2:$C$200,0)),\"\")","v":""},{"$f":"IFERROR(INDEX(masterlist!$G$2:$G$200,MATCH(A38,masterlist!$C$2:$C$200,0)),\"\")","v":""},{"$f":"IFERROR(INDEX(masterlist!$H$2:$H$200,MATCH(A38,masterlist!$C$2:$C$200,0)),\"\")","v":""},null,null,{"$f":"IFERROR(HYPERLINK(INDEX(masterlist!$M$2:$M$200,MATCH(A38,masterlist!$C$2:$C$200,0)),INDEX(masterlist!$L$2:$L$200,MATCH(A38,masterlist!$C$2:$C$200,0))),\"\")","v":""},{"$f":"IFERROR(HYPERLINK(INDEX(masterlist!$O$2:$O$200,MATCH(A38,masterlist!$C$2:$C$200,0)),INDEX(masterlist!$N$2:$N$200,MATCH(A38,masterlist!$C$2:$C$200,0))),\"\")","v":""},{"$f":"IFERROR(HYPERLINK(INDEX(masterlist!$Q$2:$Q$200,MATCH(A38,masterlist!$C$2:$C$200,0)),INDEX(masterlist!$P$2:$P$200,MATCH(A38,masterlist!$C$2:$C$200,0))),\"\")","v":""},{"$f":"IFERROR(HYPERLINK(INDEX(masterlist!$S$2:$S$200,MATCH(A38,masterlist!$C$2:$C$200,0)),INDEX(masterlist!$R$2:$R$200,MATCH(A38,masterlist!$C$2:$C$200,0))),\"\")","v":""},{"$f":"IFERROR(HYPERLINK(INDEX(masterlist!$U$2:$U$200,MATCH(A38,masterlist!$C$2:$C$200,0)),INDEX(masterlist!$T$2:$T$200,MATCH(A38,masterlist!$C$2:$C$200,0))),\"\")","v":""}]
[{"$f":"IFERROR(INDEX(masterlist!$A$2:$F$200,SMALL(IF(masterlist!$B$2:$B$200=\"LEG\",ROW(masterlist!$A$2:$F$200)-1),ROW(35:35)),3),\"\")","v":""},{"$f":"IFERROR(INDEX(masterlist!$E$2:$E$200,MATCH(A39,masterlist!$C$2:$C$200,0)),\"\")","v":""},{"$f":"IFERROR(INDEX(masterlist!$D$2:$D$200,MATCH(A39,masterlist!$C$2:$C$200,0)),\"\")","v":""},{"$f":"IFERROR(INDEX(masterlist!$G$2:$G$200,MATCH(A39,masterlist!$C$2:$C$200,0)),\"\")","v":""},{"$f":"IFERROR(INDEX(masterlist!$H$2:$H$200,MATCH(A39,masterlist!$C$2:$C$200,0)),\"\")","v":""},null,null,{"$f":"IFERROR(HYPERLINK(INDEX(masterlist!$M$2:$M$200,MATCH(A39,masterlist!$C$2:$C$200,0)),INDEX(masterlist!$L$2:$L$200,MATCH(A39,masterlist!$C$2:$C$200,0))),\"\")","v":""},{"$f":"IFERROR(HYPERLINK(INDEX(masterlist!$O$2:$O$200,MATCH(A39,masterlist!$C$2:$C$200,0)),INDEX(masterlist!$N$2:$N$200,MATCH(A39,masterlist!$C$2:$C$200,0))),\"\")","v":""},{"$f":"IFERROR(HYPERLINK(INDEX(masterlist!$Q$2:$Q$200,MATCH(A39,masterlist!$C$2:$C$200,0)),INDEX(masterlist!$P$2:$P$200,MATCH(A39,masterlist!$C$2:$C$200,0))),\"\")","v":""},{"$f":"IFERROR(HYPERLINK(INDEX(masterlist!$S$2:$S$200,MATCH(A39,masterlist!$C$2:$C$200,0)),INDEX(masterlist!$R$2:$R$200,MATCH(A39,masterlist!$C$2:$C$200,0))),\"\")","v":""},{"$f":"IFERROR(HYPERLINK(INDEX(masterlist!$U$2:$U$200,MATCH(A39,masterlist!$C$2:$C$200,0)),INDEX(masterlist!$T$2:$T$200,MATCH(A39,masterlist!$C$2:$C$200,0))),\"\")","v":""}]
[{"$f":"IFERROR(INDEX(masterlist!$A$2:$F$200,SMALL(IF(masterlist!$B$2:$B$200=\"LEG\",ROW(masterlist!$A$2:$F$200)-1),ROW(36:36)),3),\"\")","v":""},{"$f":"IFERROR(INDEX(masterlist!$E$2:$E$200,MATCH(A40,masterlist!$C$2:$C$200,0)),\"\")","v":""},{"$f":"IFERROR(INDEX(masterlist!$D$2:$D$200,MATCH(A40,masterlist!$C$2:$C$200,0)),\"\")","v":""},{"$f":"IFERROR(INDEX(masterlist!$G$2:$G$200,MATCH(A40,masterlist!$C$2:$C$200,0)),\"\")","v":""},{"$f":"IFERROR(INDEX(masterlist!$H$2:$H$200,MATCH(A40,masterlist!$C$2:$C$200,0)),\"\")","v":""},null,null,{"$f":"IFERROR(HYPERLINK(INDEX(masterlist!$M$2:$M$200,MATCH(A40,masterlist!$C$2:$C$200,0)),INDEX(masterlist!$L$2:$L$200,MATCH(A40,masterlist!$C$2:$C$200,0))),\"\")","v":""},{"$f":"IFERROR(HYPERLINK(INDEX(masterlist!$O$2:$O$200,MATCH(A40,masterlist!$C$2:$C$200,0)),INDEX(masterlist!$N$2:$N$200,MATCH(A40,masterlist!$C$2:$C$200,0))),\"\")","v":""},{"$f":"IFERROR(HYPERLINK(INDEX(masterlist!$Q$2:$Q$200,MATCH(A40,masterlist!$C$2:$C$200,0)),INDEX(masterlist!$P$2:$P$200,MATCH(A40,masterlist!$C$2:$C$200,0))),\"\")","v":""},{"$f":"IFERROR(HYPERLINK(INDEX(masterlist!$S$2:$S$200,MATCH(A40,masterlist!$C$2:$C$200,0)),INDEX(masterlist!$R$2:$R$200,MATCH(A40,masterlist!$C$2:$C$200,0))),\"\")","v":""},{"$f":"IFERROR(HYPERLINK(INDEX(masterlist!$U$2:$U$200,MATCH(A40,masterlist!$C$2:$C$200,0)),INDEX(masterlist!$T$2:$T$200,MATCH(A40,masterlist!$C$2:$C$200,0))),\"\")","v":""}]
[{"$f":"IFERROR(INDEX(masterlist!$A$2:$F$200,SMALL(IF(masterlist!$B$2:$B$200=\"LEG\",ROW(masterlist!$A$2:$F$200)-1),ROW(37:37)),3),\"\")","v":""},{"$f":"IFERROR(INDEX(masterlist!$E$2:$E$200,MATCH(A41,masterlist!$C$2:$C$200,0)),\"\")","v":""},{"$f":"IFERROR(INDEX(masterlist!$D$2:$D$200,MATCH(A41,masterlist!$C$2:$C$200,0)),\"\")","v":""},{"$f":"IFERROR(INDEX(masterlist!$G$2:$G$200,MATCH(A41,masterlist!$C$2:$C$200,0)),\"\")","v":""},{"$f":"IFERROR(INDEX(masterlist!$H$2:$H$200,MATCH(A41,masterlist!$C$2:$C$200,0)),\"\")","v":""},null,null,{"$f":"IFERROR(HYPERLINK(INDEX(masterlist!$M$2:$M$200,MATCH(A41,masterlist!$C$2:$C$200,0)),INDEX(masterlist!$L$2:$L$200,MATCH(A41,masterlist!$C$2:$C$200,0))),\"\")","v":""},{"$f":"IFERROR(HYPERLINK(INDEX(masterlist!$O$2:$O$200,MATCH(A41,masterlist!$C$2:$C$200,0)),INDEX(masterlist!$N$2:$N$200,MATCH(A41,masterlist!$C$2:$C$200,0))),\"\")","v":""},{"$f":"IFERROR(HYPERLINK(INDEX(masterlist!$Q$2:$Q$200,MATCH(A41,masterlist!$C$2:$C$200,0)),INDEX(masterlist!$P$2:$P$200,MATCH(A41,masterlist!$C$2:$C$200,0))),\"\")","v":""},{"$f":"IFERROR(HYPERLINK(INDEX(masterlist!$S$2:$S$200,MATCH(A41,masterlist!$C$2:$C$200,0)),INDEX(masterlist!$R$2:$R$200,MATCH(A41,masterlist!$C$2:$C$200,0))),\"\")","v":""},{"$f":"IFERROR(HYPERLINK(INDEX(masterlist!$U$2:$U$200,MATCH(A41,masterlist!$C$2:$C$200,0)),INDEX(masterlist!$T$2:$T$200,MATCH(A41,masterlist!$C$2:$C$200,0))),\"\")","v":""}]
[{"$f":"IFERROR(INDEX(masterlist!$A$2:$F$200,SMALL(IF(masterlist!$B$2:$B$200=\"LEG\",ROW(masterlist!$A$2:$F$200)-1),ROW(38:38)),3),\"\")","v":""},{"$f":"IFERROR(INDEX(masterlist!$E$2:$E$200,MATCH(A42,masterlist!$C$2:$C$200,0)),\"\")","v":""},{"$f":"IFERROR(INDEX(masterlist!$D$2:$D$200,MATCH(A42,masterlist!$C$2:$C$200,0)),\"\")","v":""},{"$f":"IFERROR(INDEX(masterlist!$G$2:$G$200,MATCH(A42,masterlist!$C$2:$C$200,0)),\"\")","v":""},{"$f":"IFERROR(INDEX(masterlist!$H$2:$H$200,MATCH(A42,masterlist!$C$2:$C$200,0)),\"\")","v":""},null,null,{"$f":"IFERROR(HYPERLINK(INDEX(masterlist!$M$2:$M$200,MATCH(A42,masterlist!$C$2:$C$200,0)),INDEX(masterlist!$L$2:$L$200,MATCH(A42,masterlist!$C$2:$C$200,0))),\"\")","v":""},{"$f":"IFERROR(HYPERLINK(INDEX(masterlist!$O$2:$O$200,MATCH(A42,masterlist!$C$2:$C$200,0)),INDEX(masterlist!$N$2:$N$200,MATCH(A42,masterlist!$C$2:$C$200,0))),\"\")","v":""},{"$f":"IFERROR(HYPERLINK(INDEX(masterlist!$Q$2:$Q$200,MATCH(A42,masterlist!$C$2:$C$200,0)),INDEX(masterlist!$P$2:$P$200,MATCH(A42,masterlist!$C$2:$C$200,0))),\"\")","v":""},{"$f":"IFERROR(HYPERLINK(INDEX(masterlist!$S$2:$S$200,MATCH(A42,masterlist!$C$2:$C$200,0)),INDEX(masterlist!$R$2:$R$200,MATCH(A42,masterlist!$C$2:$C$200,0))),\"\")","v":""},{"$f":"IFERROR(HYPERLINK(INDEX(masterlist!$U$2:$U$200,MATCH(A42,masterlist!$C$2:$C$200,0)),INDEX(masterlist!$T$2:$T$200,MATCH(A42,masterlist!$C$2:$C$200,0))),\"\")","v":""}]
[{"$f":"IFERROR(INDEX(masterlist!$A$2:$F$200,SMALL(IF(masterlist!$B$2:$B$200=\"LEG\",ROW(masterlist!$A$2:$F$200)-1),ROW(39:39)),3),\"\")","v":""},{"$f":"IFERROR(INDEX(masterlist!$E$2:$E$200,MATCH(A43,masterlist!$C$2:$C$200,0)),\"\")","v":""},{"$f":"IFERROR(INDEX(masterlist!$D$2:$D$200,MATCH(A43,masterlist!$C$2:$C$200,0)),\"\")","v":""},{"$f":"IFERROR(INDEX(masterlist!$G$2:$G$200,MATCH(A43,masterlist!$C$2:$C$200,0)),\"\")","v":""},{"$f":"IFERROR(INDEX(masterlist!$H$2:$H$200,MATCH(A43,masterlist!$C$2:$C$200,0)),\"\")","v":""},null,null,{"$f":"IFERROR(HYPERLINK(INDEX(masterlist!$M$2:$M$200,MATCH(A43,masterlist!$C$2:$C$200,0)),INDEX(masterlist!$L$2:$L$200,MATCH(A43,masterlist!$C$2:$C$200,0))),\"\")","v":""},{"$f":"IFERROR(HYPERLINK(INDEX(masterlist!$O$2:$O$200,MATCH(A43,masterlist!$C$2:$C$200,0)),INDEX(masterlist!$N$2:$N$200,MATCH(A43,masterlist!$C$2:$C$200,0))),\"\")","v":""},{"$f":"IFERROR(HYPERLINK(INDEX(masterlist!$Q$2:$Q$200,MATCH(A43,masterlist!$C$2:$C$200,0)),INDEX(masterlist!$P$2:$P$200,MATCH(A43,masterlist!$C$2:$C$200,0))),\"\")","v":""},{"$f":"IFERROR(HYPERLINK(INDEX(masterlist!$S$2:$S$200,MATCH(A43,masterlist!$C$2:$C$200,0)),INDEX(masterlist!$R$2:$R$200,MATCH(A43,masterlist!$C$2:$C$200,0))),\"\")","v":""},{"$f":"IFERROR(HYPERLINK(INDEX(masterlist!$U$2:$U$200,MATCH(A43,masterlist!$C$2:$C$200,0)),INDEX(masterlist!$T$2:$T$200,MATCH(A43,masterlist!$C$2:$C$200,0))),\"\")","v":""}]
[{"$f":"IFERROR(INDEX(masterlist!$A$2:$F$200,SMALL(IF(masterlist!$B$2:$B$200=\"LEG\",ROW(masterlist!$A$2:$F$200)-1),ROW(40:40)),3),\"\")","v":""},{"$f":"IFERROR(INDEX(masterlist!$E$2:$E$200,MATCH(A44,masterlist!$C$2:$C$200,0)),\"\")","v":""},{"$f":"IFERROR(INDEX(masterlist!$D$2:$D$200,MATCH(A44,masterlist!$C$2:$C$200,0)),\"\")","v":""},{"$f":"IFERROR(INDEX(masterlist!$G$2:$G$200,MATCH(A44,masterlist!$C$2:$C$200,0)),\"\")","v":""},{"$f":"IFERROR(INDEX(masterlist!$H$2:$H$200,MATCH(A44,masterlist!$C$2:$C$200,0)),\"\")","v":""},null,null,{"$f":"IFERROR(HYPERLINK(INDEX(masterlist!$M$2:$M$200,MATCH(A44,masterlist!$C$2:$C$200,0)),INDEX(masterlist!$L$2:$L$200,MATCH(A44,masterlist!$C$2:$C$200,0))),\"\")","v":""},{"$f":"IFERROR(HYPERLINK(INDEX(masterlist!$O$2:$O$200,MATCH(A44,masterlist!$C$2:$C$200,0)),INDEX(masterlist!$N$2:$N$200,MATCH(A44,masterlist!$C$2:$C$200,0))),\"\")","v":""},{"$f":"IFERROR(HYPERLINK(INDEX(masterlist!$Q$2:$Q$200,MATCH(A44,masterlist!$C$2:$C$200,0)),INDEX(masterlist!$P$2:$P$200,MATCH(A44,masterlist!$C$2:$C$200,0))),\"\")","v":""},{"$f":"IFERROR(HYPERLINK(INDEX(masterlist!$S$2:$S$200,MATCH(A44,masterlist!$C$2:$C$200,0)),INDEX(masterlist!$R$2:$R$200,MATCH(A44,masterlist!$C$2:$C$200,0))),\"\")","v":""},{"$f":"IFERROR(HYPERLINK(INDEX(masterlist!$U$2:$U$200,MATCH(A44,masterlist!$C$2:$C$200,0)),INDEX(masterlist!$T$2:$T$200,MATCH(A44,masterlist!$C$2:$C$200,0))),\"\")","v":""}]
[{"$f":"IFERROR(INDEX(masterlist!$A$2:$F$200,SMALL(IF(masterlist!$B$2:$B$200=\"LEG\",ROW(masterlist!$A$2:$F$200)-1),ROW(41:41)),3),\"\")","v":""},{"$f":"IFERROR(INDEX(masterlist!$E$2:$E$200,MATCH(A45,masterlist!$C$2:$C$200,0)),\"\")","v":""},{"$f":"IFERROR(INDEX(masterlist!$D$2:$D$200,MATCH(A45,masterlist!$C$2:$C$200,0)),\"\")","v":""},{"$f":"IFERROR(INDEX(masterlist!$G$2:$G$200,MATCH(A45,masterlist!$C$2:$C$200,0)),\"\")","v":""},{"$f":"IFERROR(INDEX(masterlist!$H$2:$H$200,MATCH(A45,masterlist!$C$2:$C$200,0)),\"\")","v":""},null,null,{"$f":"IFERROR(HYPERLINK(INDEX(masterlist!$M$2:$M$200,MATCH(A45,masterlist!$C$2:$C$200,0)),INDEX(masterlist!$L$2:$L$200,MATCH(A45,masterlist!$C$2:$C$200,0))),\"\")","v":""},{"$f":"IFERROR(HYPERLINK(INDEX(masterlist!$O$2:$O$200,MATCH(A45,masterlist!$C$2:$C$200,0)),INDEX(masterlist!$N$2:$N$200,MATCH(A45,masterlist!$C$2:$C$200,0))),\"\")","v":""},{"$f":"IFERROR(HYPERLINK(INDEX(masterlist!$Q$2:$Q$200,MATCH(A45,masterlist!$C$2:$C$200,0)),INDEX(masterlist!$P$2:$P$200,MATCH(A45,masterlist!$C$2:$C$200,0))),\"\")","v":""},{"$f":"IFERROR(HYPERLINK(INDEX(masterlist!$S$2:$S$200,MATCH(A45,masterlist!$C$2:$C$200,0)),INDEX(masterlist!$R$2:$R$200,MATCH(A45,masterlist!$C$2:$C$200,0))),\"\")","v":""},{"$f":"IFERROR(HYPERLINK(INDEX(masterlist!$U$2:$U$200,MATCH(A45,masterlist!$C$2:$C$200,0)),INDEX(masterlist!$T$2:$T$200,MATCH(A45,masterlist!$C$2:$C$200,0))),\"\")","v":""}]
[{"$f":"IFERROR(INDEX(masterlist!$A$2:$F$200,SMALL(IF(masterlist!$B$2:$B$200=\"LEG\",ROW(masterlist!$A$2:$F$200)-1),ROW(42:42)),3),\"\")","v":""},{"$f":"IFERROR(INDEX(masterlist!$E$2:$E$200,MATCH(A46,masterlist!$C$2:$C$200,0)),\"\")","v":""},{"$f":"IFERROR(INDEX(masterlist!$D$2:$D$200,MATCH(A46,masterlist!$C$2:$C$200,0)),\"\")","v":""},{"$f":"IFERROR(INDEX(masterlist!$G$2:$G$200,MATCH(A46,masterlist!$C$2:$C$200,0)),\"\")","v":""},{"$f":"IFERROR(INDEX(masterlist!$H$2:$H$200,MATCH(A46,masterlist!$C$2:$C$200,0)),\"\")","v":""},null,null,{"$f":"IFERROR(HYPERLINK(INDEX(masterlist!$M$2:$M$200,MATCH(A46,masterlist!$C$2:$C$200,0)),INDEX(masterlist!$L$2:$L$200,MATCH(A46,masterlist!$C$2:$C$200,0))),\"\")","v":""},{"$f":"IFERROR(HYPERLINK(INDEX(masterlist!$O$2:$O$200,MATCH(A46,masterlist!$C$2:$C$200,0)),INDEX(masterlist!$N$2:$N$200,MATCH(A46,masterlist!$C$2:$C$200,0))),\"\")","v":""},{"$f":"IFERROR(HYPERLINK(INDEX(masterlist!$Q$2:$Q$200,MATCH(A46,masterlist!$C$2:$C$200,0)),INDEX(masterlist!$P$2:$P$200,MATCH(A46,masterlist!$C$2:$C$200,0))),\"\")","v":""},{"$f":"IFERROR(HYPERLINK(INDEX(masterlist!$S$2:$S$200,MATCH(A46,masterlist!$C$2:$C$200,0)),INDEX(masterlist!$R$2:$R$200,MATCH(A46,masterlist!$C$2:$C$200,0))),\"\")","v":""},{"$f":"IFERROR(HYPERLINK(INDEX(masterlist!$U$2:$U$200,MATCH(A46,masterlist!$C$2:$C$200,0)),INDEX(masterlist!$T$2:$T$200,MATCH(A46,masterlist!$C$2:$C$200,0))),\"\")","v":""}]
[{"$f":"IFERROR(INDEX(masterlist!$A$2:$F$200,SMALL(IF(masterlist!$B$2:$B$200=\"LEG\",ROW(masterlist!$A$2:$F$200)-1),ROW(43:43)),3),\"\")","v":""},{"$f":"IFERROR(INDEX(masterlist!$E$2:$E$200,MATCH(A47,masterlist!$C$2:$C$200,0)),\"\")","v":""},{"$f":"IFERROR(INDEX(masterlist!$D$2:$D$200,MATCH(A47,masterlist!$C$2:$C$200,0)),\"\")","v":""},{"$f":"IFERROR(INDEX(masterlist!$G$2:$G$200,MATCH(A47,masterlist!$C$2:$C$200,0)),\"\")","v":""},{"$f":"IFERROR(INDEX(masterlist!$H$2:$H$200,MATCH(A47,masterlist!$C$2:$C$200,0)),\"\")","v":""},null,null,{"$f":"IFERROR(HYPERLINK(INDEX(masterlist!$M$2:$M$200,MATCH(A47,masterlist!$C$2:$C$200,0)),INDEX(masterlist!$L$2:$L$200,MATCH(A47,masterlist!$C$2:$C$200,0))),\"\")","v":""},{"$f":"IFERROR(HYPERLINK(INDEX(masterlist!$O$2:$O$200,MATCH(A47,masterlist!$C$2:$C$200,0)),INDEX(masterlist!$N$2:$N$200,MATCH(A47,masterlist!$C$2:$C$200,0))),\"\")","v":""},{"$f":"IFERROR(HYPERLINK(INDEX(masterlist!$Q$2:$Q$200,MATCH(A47,masterlist!$C$2:$C$200,0)),INDEX(masterlist!$P$2:$P$200,MATCH(A47,masterlist!$C$2:$C$200,0))),\"\")","v":""},{"$f":"IFERROR(HYPERLINK(INDEX(masterlist!$S$2:$S$200,MATCH(A47,masterlist!$C$2:$C$200,0)),INDEX(masterlist!$R$2:$R$200,MATCH(A47,masterlist!$C$2:$C$200,0))),\"\")","v":""},{"$f":"IFERROR(HYPERLINK(INDEX(masterlist!$U$2:$U$200,MATCH(A47,masterlist!$C$2:$C$200,0)),INDEX(masterlist!$T$2:$T$200,MATCH(A47,masterlist!$C$2:$C$200,0))),\"\")","v":""}]
[{"$f":"IFERROR(INDEX(masterlist!$A$2:$F$200,SMALL(IF(masterlist!$B$2:$B$200=\"LEG\",ROW(masterlist!$A$2:$F$200)-1),ROW(44:44)),3),\"\")","v":""},{"$f":"IFERROR(INDEX(masterlist!$E$2:$E$200,MATCH(A48,masterlist!$C$2:$C$200,0)),\"\")","v":""},{"$f":"IFERROR(INDEX(masterlist!$D$2:$D$200,MATCH(A48,masterlist!$C$2:$C$200,0)),\"\")","v":""},{"$f":"IFERROR(INDEX(masterlist!$G$2:$G$200,MATCH(A48,masterlist!$C$2:$C$200,0)),\"\")","v":""},{"$f":"IFERROR(INDEX(masterlist!$H$2:$H$200,MATCH(A48,masterlist!$C$2:$C$200,0)),\"\")","v":""},null,null,{"$f":"IFERROR(HYPERLINK(INDEX(masterlist!$M$2:$M$200,MATCH(A48,masterlist!$C$2:$C$200,0)),INDEX(masterlist!$L$2:$L$200,MATCH(A48,masterlist!$C$2:$C$200,0))),\"\")","v":""},{"$f":"IFERROR(HYPERLINK(INDEX(masterlist!$O$2:$O$200,MATCH(A48,masterlist!$C$2:$C$200,0)),INDEX(masterlist!$N$2:$N$200,MATCH(A48,masterlist!$C$2:$C$200,0))),\"\")","v":""},{"$f":"IFERROR(HYPERLINK(INDEX(masterlist!$Q$2:$Q$200,MATCH(A48,masterlist!$C$2:$C$200,0)),INDEX(masterlist!$P$2:$P$200,MATCH(A48,masterlist!$C$2:$C$200,0))),\"\")","v":""},{"$f":"IFERROR(HYPERLINK(INDEX(masterlist!$S$2:$S$200,MATCH(A48,masterlist!$C$2:$C$200,0)),INDEX(masterlist!$R$2:$R$200,MATCH(A48,masterlist!$C$2:$C$200,0))),\"\")","v":""},{"$f":"IFERROR(HYPERLINK(INDEX(masterlist!$U$2:$U$200,MATCH(A48,masterlist!$C$2:$C$200,0)),INDEX(masterlist!$T$2:$T$200,MATCH(A48,masterlist!$C$2:$C$200,0))),\"\")","v":""}]
[{"$f":"IFERROR(INDEX(masterlist!$A$2:$F$200,SMALL(IF(masterlist!$B$2:$B$200=\"LEG\",ROW(masterlist!$A$2:$F$200)-1),ROW(45:45)),3),\"\")","v":""},{"$f":"IFERROR(INDEX(masterlist!$E$2:$E$200,MATCH(A49,masterlist!$C$2:$C$200,0)),\"\")","v":""},{"$f":"IFERROR(INDEX(masterlist!$D$2:$D$200,MATCH(A49,masterlist!$C$2:$C$200,0)),\"\")","v":""},{"$f":"IFERROR(INDEX(masterlist!$G$2:$G$200,MATCH(A49,masterlist!$C$2:$C$200,0)),\"\")","v":""},{"$f":"IFERROR(INDEX(masterlist!$H$2:$H$200,MATCH(A49,masterlist!$C$2:$C$200,0)),\"\")","v":""},null,null,{"$f":"IFERROR(HYPERLINK(INDEX(masterlist!$M$2:$M$200,MATCH(A49,masterlist!$C$2:$C$200,0)),INDEX(masterlist!$L$2:$L$200,MATCH(A49,masterlist!$C$2:$C$200,0))),\"\")","v":""},{"$f":"IFERROR(HYPERLINK(INDEX(masterlist!$O$2:$O$200,MATCH(A49,masterlist!$C$2:$C$200,0)),INDEX(masterlist!$N$2:$N$200,MATCH(A49,masterlist!$C$2:$C$200,0))),\"\")","v":""},{"$f":"IFERROR(HYPERLINK(INDEX(masterlist!$Q$2:$Q$200,MATCH(A49,masterlist!$C$2:$C$200,0)),INDEX(masterlist!$P$2:$P$200,MATCH(A49,masterlist!$C$2:$C$200,0))),\"\")","v":""},{"$f":"IFERROR(HYPERLINK(INDEX(masterlist!$S$2:$S$200,MATCH(A49,masterlist!$C$2:$C$200,0)),INDEX(masterlist!$R$2:$R$200,MATCH(A49,masterlist!$C$2:$C$200,0))),\"\")","v":""},{"$f":"IFERROR(HYPERLINK(INDEX(masterlist!$U$2:$U$200,MATCH(A49,masterlist!$C$2:$C$200,0)),INDEX(masterlist!$T$2:$T$200,MATCH(A49,masterlist!$C$2:$C$200,0))),\"\")","v":""}]
[{"$f":"IFERROR(INDEX(masterlist!$A$2:$F$200,SMALL(IF(masterlist!$B$2:$B$200=\"LEG\",ROW(masterlist!$A$2:$F$200)-1),ROW(46:46)),3),\"\")","v":""},{"$f":"IFERROR(INDEX(masterlist!$E$2:$E$200,MATCH(A50,masterlist!$C$2:$C$200,0)),\"\")","v":""},{"$f":"IFERROR(INDEX(masterlist!$D$2:$D$200,MATCH(A50,masterlist!$C$2:$C$200,0)),\"\")","v":""},{"$f":"IFERROR(INDEX(masterlist!$G$2:$G$200,MATCH(A50,masterlist!$C$2:$C$200,0)),\"\")","v":""},{"$f":"IFERROR(INDEX(masterlist!$H$2:$H$200,MATCH(A50,masterlist!$C$2:$C$200,0)),\"\")","v":""},null,null,{"$f":"IFERROR(HYPERLINK(INDEX(masterlist!$M$2:$M$200,MATCH(A50,masterlist!$C$2:$C$200,0)),INDEX(masterlist!$L$2:$L$200,MATCH(A50,masterlist!$C$2:$C$200,0))),\"\")","v":""},{"$f":"IFERROR(HYPERLINK(INDEX(masterlist!$O$2:$O$200,MATCH(A50,masterlist!$C$2:$C$200,0)),INDEX(masterlist!$N$2:$N$200,MATCH(A50,masterlist!$C$2:$C$200,0))),\"\")","v":""},{"$f":"IFERROR(HYPERLINK(INDEX(masterlist!$Q$2:$Q$200,MATCH(A50,masterlist!$C$2:$C$200,0)),INDEX(masterlist!$P$2:$P$200,MATCH(A50,masterlist!$C$2:$C$200,0))),\"\")","v":""},{"$f":"IFERROR(HYPERLINK(INDEX(masterlist!$S$2:$S$200,MATCH(A50,masterlist!$C$2:$C$200,0)),INDEX(masterlist!$R$2:$R$200,MATCH(A50,masterlist!$C$2:$C$200,0))),\"\")","v":""},{"$f":"IFERROR(HYPERLINK(INDEX(masterlist!$U$2:$U$200,MATCH(A50,masterlist!$C$2:$C$200,0)),INDEX(masterlist!$T$2:$T$200,MATCH(A50,masterlist!$C$2:$C$200,0))),\"\")","v":""}]

{"sheet":"linked mastersheet","index":13,"n_rows":200,"n_cols":14,"rows_kept":200,"cut":false,"hidden":true,"merged":[]}
["HELPER","COMPONENT","ID","SUBCOMPONENT","STAGE","NUMBER","ACTIVITY","OTHER INFO","KEY","COUNTRY STATUS","COUNTRY NOTES",null,null,"this sheet is for vlookups in Summary (S0-S5)"]
[{"$f":"C2&\"-\"&J2","v":"DCA-Sur-0-1-1"},{"$f":"masterlist!B2","v":"DCA"},{"$f":"masterlist!C2","v":"DCA-Sur-0-1"},{"$f":"masterlist!D2","v":"Surveillance"},{"$f":"masterlist!E2","v":0},{"$f":"masterlist!F2","v":1},{"$f":"masterlist!G2","v":"Does the national authority report at least one confirmed rabies case to the WHO, OIE or PARACON?"},{"$f":"masterlist!H2","v":"Year of last reported rabies case"},{"$f":"masterlist!I2","v":"KEY"},{"$f":"masterlist!J2","v":1},{"$f":"masterlist!K2","v":0}]
[{"$f":"C3&\"-\"&J3","v":"DCA-Sur-0-2-1"},{"$f":"masterlist!B3","v":"DCA"},{"$f":"masterlist!C3","v":"DCA-Sur-0-2"},{"$f":"masterlist!D3","v":"Surveillance"},{"$f":"masterlist!E3","v":0},{"$f":"masterlist!F3","v":2},{"$f":"masterlist!G3","v":"Have there been reports on rabies in the country? "},{"$f":"masterlist!H3","v":"e.g. media, newspaper, Twitter, Facebook, etc."},{"$f":"masterlist!I3","v":0},{"$f":"masterlist!J3","v":1},{"$f":"masterlist!K3","v":0}]
["DCA-Sur-1-3-1",{"$f":"masterlist!B4","v":"DCA"},{"$f":"masterlist!C4","v":"DCA-Sur-1-3"},{"$f":"masterlist!D4","v":"Surveillance"},{"$f":"masterlist!E4","v":1},{"$f":"masterlist!F4","v":3},{"$f":"masterlist!G4","v":"Are dog rabies cases reported from a local to the national level? "},{"$f":"masterlist!H4","v":" "},{"$f":"masterlist!I4","v":"KEY"},{"$f":"masterlist!J4","v":1},{"$f":"masterlist!K4","v":0}]
["DCA-Sur-1-4-1",{"$f":"masterlist!B5","v":"DCA"},{"$f":"masterlist!C5","v":"DCA-Sur-1-4"},{"$f":"masterlist!D5","v":"Surveillance"},{"$f":"masterlist!E5","v":1},{"$f":"masterlist!F5","v":4},{"$f":"masterlist!G5","v":"Are human rabies cases reported from a local to the national level? "},{"$f":"masterlist!H5","v":" "},{"$f":"masterlist!I5","v":"KEY"},{"$f":"masterlist!J5","v":1},{"$f":"masterlist!K5","v":0}]
["DCA-Sur-1-5-1",{"$f":"masterlist!B6","v":"DCA"},{"$f":"masterlist!C6","v":"DCA-Sur-1-5"},{"$f":"masterlist!D6","v":"Surveillance"},{"$f":"masterlist!E6","v":1},{"$f":"masterlist!F6","v":5},{"$f":"masterlist!G6","v":"Are you reporting all of the human or animal rabies cases that have been tested to a relevant international database such as WHO, OIE or PARACON?"},{"$f":"masterlist!H6","v":" "},{"$f":"masterlist!I6","v":0},{"$f":"masterlist!J6","v":1},{"$f":"masterlist!K6","v":0}]
["DCA-Sur-1-6-1",{"$f":"masterlist!B7","v":"DCA"},{"$f":"masterlist!C7","v":"DCA-Sur-1-6"},{"$f":"masterlist!D7","v":"Surveillance"},{"$f":"masterlist!E7","v":1},{"$f":"masterlist!F7","v":6},{"$f":"masterlist!G7","v":"Is there capacity to analyze dog rabies data at the national level? "},{"$f":"masterlist!H7","v":"For example, data analysis infrastructure in place for other diseases/programmes, adequately trained staff, sufficient technology, etc. "},{"$f":"masterlist!I7","v":0},{"$f":"masterlist!J7","v":1},{"$f":"masterlist!K7","v":0}]
["DCA-Sur-1-7-1",{"$f":"masterlist!B8","v":"DCA"},{"$f":"masterlist!C8","v":"DCA-Sur-1-7"},{"$f":"masterlist!D8","v":"Surveillance"},{"$f":"masterlist!E8","v":1},{"$f":"masterlist!F8","v":7},{"$f":"masterlist!G8","v":"Is there capacity to analyze human rabies data at the national level? "},{"$f":"masterlist!H8","v":"For example, data analysis infrastructure in place for other diseases/programmes, adequately trained staff, sufficient technology, etc."},{"$f":"masterlist!I8","v":0},{"$f":"masterlist!J8","v":1},{"$f":"masterlist!K8","v":0}]
["DCA-Sur-1-8-1",{"$f":"masterlist!B9","v":"DCA"},{"$f":"masterlist!C9","v":"DCA-Sur-1-8"},{"$f":"masterlist!D9","v":"Surveillance"},{"$f":"masterlist!E9","v":1},{"$f":"masterlist!F9","v":8},{"$f":"masterlist!G9","v":"Has an animal rabies surveillance* system been established at the national level?"},{"$f":"masterlist!H9","v":" "},{"$f":"masterlist!I9","v":0},{"$f":"masterlist!J9","v":1},{"$f":"masterlist!K9","v":0}]
["DCA-Sur-1-9-1",{"$f":"masterlist!B10","v":"DCA"},{"$f":"masterlist!C10","v":"DCA-Sur-1-9"},{"$f":"masterlist!D10","v":"Surveillance"},{"$f":"masterlist!E10","v":1},{"$f":"masterlist!F10","v":9},{"$f":"masterlist!G10","v":"Has a human rabies surveillance* system been established at the national level?"},{"$f":"masterlist!H10","v":" "},{"$f":"masterlist!I10","v":0},{"$f":"masterlist!J10","v":1},{"$f":"masterlist!K10","v":0}]
["DCA-Sur-1-10-1",{"$f":"masterlist!B11","v":"DCA"},{"$f":"masterlist!C11","v":"DCA-Sur-1-10"},{"$f":"masterlist!D11","v":"Surveillance"},{"$f":"masterlist!E11","v":1},{"$f":"masterlist!F11","v":10},{"$f":"masterlist!G11","v":"Are human bite case data collected and used for decision-making?"},{"$f":"masterlist!H11","v":" "},{"$f":"masterlist!I11","v":0},{"$f":"masterlist!J11","v":1},{"$f":"masterlist!K11","v":0}]
["DCA-Sur-1-11-0",{"$f":"masterlist!B12","v":"DCA"},{"$f":"masterlist!C12","v":"DCA-Sur-1-11"},{"$f":"masterlist!D12","v":"Surveillance"},{"$f":"masterlist!E12","v":1},{"$f":"masterlist!F12","v":11},{"$f":"masterlist!G12","v":"Have dog population studies and KAP surveys been conducted to determine size, turn-over and accessibility of dogs for vaccination on a small scale?"},{"$f":"masterlist!H12","v":"Mention the years in which the studies were conducted"},{"$f":"masterlist!I12","v":0},{"$f":"masterlist!J12","v":0},{"$f":"masterlist!K12","v":0}]
["DCA-Sur-2-12-1",{"$f":"masterlist!B13","v":"DCA"},{"$f":"masterlist!C13","v":"DCA-Sur-2-12"},{"$f":"masterlist!D13","v":"Surveillance"},{"$f":"masterlist!E13","v":2},{"$f":"masterlist!F13","v":12},{"$f":"masterlist!G13","v":"Are human rabies surveillance systems, including feedback mechanisms, functioning and coordinated between administrative levels (national, province, district, municipal, etc.)? "},{"$f":"masterlist!H13","v":"Timeliness (e.g. monthly or real time) of reporting and feedback, feedback mechanisms established and stakeholders involved with clear reporting channels. (Follows on from establishment of data analysis capacity above)"},{"$f":"masterlist!I13","v":0},{"$f":"masterlist!J13","v":1},{"$f":"masterlist!K13","v":0}]
["DCA-Sur-2-13-1",{"$f":"masterlist!B14","v":"DCA"},{"$f":"masterlist!C14","v":"DCA-Sur-2-13"},{"$f":"masterlist!D14","v":"Surveillance"},{"$f":"masterlist!E14","v":2},{"$f":"masterlist!F14","v":13},{"$f":"masterlist!G14","v":"Are animal rabies surveillance systems, including feedback mechanisms, functioning and coordinated between administrative levels (national, province, district, municipal, etc.)?"},{"$f":"masterlist!H14","v":"Timeliness (e.g. monthly or real time) of reporting and feedback, feedback mechanisms established and stakeholders involved with clear reporting channels. (Follows on from establishment of data analysis capacity above)"},{"$f":"masterlist!I14","v":0},{"$f":"masterlist!J14","v":1},{"$f":"masterlist!K14","v":0}]
["DCA-Sur-2-14-1",{"$f":"masterlist!B15","v":"DCA"},{"$f":"masterlist!C15","v":"DCA-Sur-2-14"},{"$f":"masterlist!D15","v":"Surveillance"},{"$f":"masterlist!E15","v":2},{"$f":"masterlist!F15","v":14},{"$f":"masterlist!G15","v":"Have linked human and animal rabies surveillance systems, including agreed SOPs, been established?"},{"$f":"masterlist!H15","v":"Please describe the surveillance systems briefly, showing how data are shared. Note: Implementation of these linked measures is covered under 'Prevention and Control'"},{"$f":"masterlist!I15","v":0},{"$f":"masterlist!J15","v":1},{"$f":"masterlist!K15","v":0}]
["DCA-Sur-2-15-1",{"$f":"masterlist!B16","v":"DCA"},{"$f":"masterlist!C16","v":"DCA-Sur-2-15"},{"$f":"masterlist!D16","v":"Surveillance"},{"$f":"masterlist!E16","v":2},{"$f":"masterlist!F16","v":15},{"$f":"masterlist!G16","v":"Is information on the epidemiology of rabies regularly shared with all stakeholders?"},{"$f":"masterlist!H16","v":"Stakeholders involved - for example, policy makers, educators, NGOs and other relevant individuals and organisations"},{"$f":"masterlist!I16","v":"KEY"},{"$f":"masterlist!J16","v":1},{"$f":"masterlist!K16","v":0}]
["DCA-Sur-2-16-1",{"$f":"masterlist!B17","v":"DCA"},{"$f":"masterlist!C17","v":"DCA-Sur-2-16"},{"$f":"masterlist!D17","v":"Surveillance"},{"$f":"masterlist!E17","v":2},{"$f":"masterlist!F17","v":16},{"$f":"masterlist!G17","v":"Is the on-going surveillance system for rabies being maintained?"},{"$f":"masterlist!H17","v":"e.g. dog meat markets, opportunistic sampling (roadkill), human bite cases, etc."},{"$f":"masterlist!I17","v":"KEY"},{"$f":"masterlist!J17","v":1},{"$f":"masterlist!K17","v":0}]
["DCA-Sur-3-17-0",{"$f":"masterlist!B18","v":"DCA"},{"$f":"masterlist!C18","v":"DCA-Sur-3-17"},{"$f":"masterlist!D18","v":"Surveillance"},{"$f":"masterlist!E18","v":3},{"$f":"masterlist!F18","v":17},{"$f":"masterlist!G18","v":"As your country nears human rabies elimination, have field investigations for all suspected human rabies cases been conducted? "},{"$f":"masterlist!H18","v":"Data shared between human and animal sectors in real time and joint actions taken"},{"$f":"masterlist!I18","v":"KEY"},{"$f":"masterlist!J18","v":0},{"$f":"masterlist!K18","v":0}]
["DCA-Sur-3-18-0",{"$f":"masterlist!B19","v":"DCA"},{"$f":"masterlist!C19","v":"DCA-Sur-3-18"},{"$f":"masterlist!D19","v":"Surveillance"},{"$f":"masterlist!E19","v":3},{"$f":"masterlist!F19","v":18},{"$f":"masterlist!G19","v":"As your country nears human rabies elimination, is epidemiological data being collected to provide evidence of dog-transmitted human rabies-free zones?"},{"$f":"masterlist!H19","v":" "},{"$f":"masterlist!I19","v":"KEY"},{"$f":"masterlist!J19","v":0},{"$f":"masterlist!K19","v":0}]
["DCA-Sur-3-19-1",{"$f":"masterlist!B20","v":"DCA"},{"$f":"masterlist!C20","v":"DCA-Sur-3-19"},{"$f":"masterlist!D20","v":"Surveillance"},{"$f":"masterlist!E20","v":3},{"$f":"masterlist!F20","v":19},{"$f":"masterlist!G20","v":"Now that there are very few animal rabies cases in your country, are field investigations and laboratory confirmations conducted for all suspected rabies outbreaks in dogs?"},{"$f":"masterlist!H20","v":" "},{"$f":"masterlist!I20","v":"KEY"},{"$f":"masterlist!J20","v":1},{"$f":"masterlist!K20","v":0}]
["DCA-Sur-4-20-1",{"$f":"masterlist!B21","v":"DCA"},{"$f":"masterlist!C21","v":"DCA-Sur-4-20"},{"$f":"masterlist!D21","v":"Surveillance"},{"$f":"masterlist!E21","v":4},{"$f":"masterlist!F21","v":20},{"$f":"masterlist!G21","v":"As there are no more laboratory confirmed human rabies cases, are existing surveillance activities for all suspected cases in humans maintained in the country?"},{"$f":"masterlist!H21","v":"e.g. clinical investigation of all patients presenting with encephalitic symptoms."},{"$f":"masterlist!I21","v":"KEY"},{"$f":"masterlist!J21","v":1},{"$f":"masterlist!K21","v":0}]
["DCA-Sur-4-21-0",{"$f":"masterlist!B22","v":"DCA"},{"$f":"masterlist!C22","v":"DCA-Sur-4-21"},{"$f":"masterlist!D22","v":"Surveillance"},{"$f":"masterlist!E22","v":4},{"$f":"masterlist!F22","v":21},{"$f":"masterlist!G22","v":"As your country nears dog-rabies elimination, has the epidemiological data from the routine surveillance of all animals (not only dogs) been used to refine the national rabies strategy?"},{"$f":"masterlist!H22","v":"e.g. working animals, livestock and wildlife"},{"$f":"masterlist!I22","v":"KEY"},{"$f":"masterlist!J22","v":0},{"$f":"masterlist!K22","v":0}]
["DCA-Sur-5-22-0",{"$f":"masterlist!B23","v":"DCA"},{"$f":"masterlist!C23","v":"DCA-Sur-5-22"},{"$f":"masterlist!D23","v":"Surveillance"},{"$f":"masterlist!E23","v":5},{"$f":"masterlist!F23","v":22},{"$f":"masterlist!G23","v":"Has freedom from dog-transmitted rabies in the entire country been verified by the absence of canine variant cases for at least a 2 year period?"},{"$f":"masterlist!H23","v":" "},{"$f":"masterlist!I23","v":"KEY"},{"$f":"masterlist!J23","v":0},{"$f":"masterlist!K23","v":0}]
["PCO-Hum-1-1-1",{"$f":"masterlist!B24","v":"PCO"},{"$f":"masterlist!C24","v":"PCO-Hum-1-1"},{"$f":"masterlist!D24","v":"Human vaccines"},{"$f":"masterlist!E24","v":1},{"$f":"masterlist!F24","v":1},{"$f":"masterlist!G24","v":"Are vaccines for human rabies prophylaxis available in one or more parts of the country?"},{"$f":"masterlist!H24","v":" "},{"$f":"masterlist!I24","v":"KEY"},{"$f":"masterlist!J24","v":1},{"$f":"masterlist!K24","v":0}]
["PCO-Hum-1-2-1",{"$f":"masterlist!B25","v":"PCO"},{"$f":"masterlist!C25","v":"PCO-Hum-1-2"},{"$f":"masterlist!D25","v":"Human vaccines"},{"$f":"masterlist!E25","v":1},{"$f":"masterlist!F25","v":2},{"$f":"masterlist!G25","v":"Has the supply and access to nationally licensed human rabies vaccines for PrEP for professionals at risk been ensured in local areas?"},{"$f":"masterlist!H25","v":" "},{"$f":"masterlist!I25","v":"KEY"},{"$f":"masterlist!J25","v":1},{"$f":"masterlist!K25","v":0}]
["PCO-Hum-2-3-0",{"$f":"masterlist!B26","v":"PCO"},{"$f":"masterlist!C26","v":"PCO-Hum-2-3"},{"$f":"masterlist!D26","v":"Human vaccines"},{"$f":"masterlist!E26","v":2},{"$f":"masterlist!F26","v":3},{"$f":"masterlist!G26","v":"Has an assessment* been done to determine the availability and access to PEP (and PreP)?"},{"$f":"masterlist!H26","v":" "},{"$f":"masterlist!I26","v":0},{"$f":"masterlist!J26","v":0},{"$f":"masterlist!K26","v":0}]
["PCO-Hum-2-4-1",{"$f":"masterlist!B27","v":"PCO"},{"$f":"masterlist!C27","v":"PCO-Hum-2-4"},{"$f":"masterlist!D27","v":"Human vaccines"},{"$f":"masterlist!E27","v":2},{"$f":"masterlist!F27","v":4},{"$f":"masterlist!G27","v":"Are WHO pre-qualified human rabies vaccines available and accessible in most parts of the country?"},{"$f":"masterlist!H27","v":"Areas available and accessible"},{"$f":"masterlist!I27","v":"KEY"},{"$f":"masterlist!J27","v":1},{"$f":"masterlist!K27","v":0}]
["PCO-Hum-2-5-1",{"$f":"masterlist!B28","v":"PCO"},{"$f":"masterlist!C28","v":"PCO-Hum-2-5"},{"$f":"masterlist!D28","v":"Human vaccines"},{"$f":"masterlist!E28","v":2},{"$f":"masterlist!F28","v":5},{"$f":"masterlist!G28","v":"Are any human biologics that are not WHO-pre-qualified being phased out? (e.g. nerve tissue vaccines, low quality vaccines)"},{"$f":"masterlist!H28","v":"If only WHO pre-qualified humans rabies vaccines are being used, mark the status as \"1\"\n"},{"$f":"masterlist!I28","v":0},{"$f":"masterlist!J28","v":1},{"$f":"masterlist!K28","v":0}]
["PCO-Hum-3-6-1",{"$f":"masterlist!B29","v":"PCO"},{"$f":"masterlist!C29","v":"PCO-Hum-3-6"},{"$f":"masterlist!D29","v":"Human vaccines"},{"$f":"masterlist!E29","v":3},{"$f":"masterlist!F29","v":6},{"$f":"masterlist!G29","v":"Are WHO pre-qualified vaccines and RIG available and accessible to high risk and exposed individuals throughout the country?"},{"$f":"masterlist!H29","v":" "},{"$f":"masterlist!I29","v":"KEY"},{"$f":"masterlist!J29","v":1},{"$f":"masterlist!K29","v":0}]
["PCO-Hum-5-7-0",{"$f":"masterlist!B30","v":"PCO"},{"$f":"masterlist!C30","v":"PCO-Hum-5-7"},{"$f":"masterlist!D30","v":"Human vaccines"},{"$f":"masterlist!E30","v":5},{"$f":"masterlist!F30","v":7},{"$f":"masterlist!G30","v":"Now that your country is free from human and animal rabies, have modified protocols for PEP administration for rabies-free areas been implemented?"},{"$f":"masterlist!H30","v":"Modification of protocols includes improved risk-assessment before the administration of PEP, as the country is now free from endemic rabies. "},{"$f":"masterlist!I30","v":"KEY"},{"$f":"masterlist!J30","v":0},{"$f":"masterlist!K30","v":0}]
["PCO-Dog-1-8-1",{"$f":"masterlist!B31","v":"PCO"},{"$f":"masterlist!C31","v":"PCO-Dog-1-8"},{"$f":"masterlist!D31","v":"Dog vaccines"},{"$f":"masterlist!E31","v":1},{"$f":"masterlist!F31","v":8},{"$f":"masterlist!G31","v":"Are dog rabies vaccines available in at least one location in the country?"},{"$f":"masterlist!H31","v":" "},{"$f":"masterlist!I31","v":"KEY"},{"$f":"masterlist!J31","v":1},{"$f":"masterlist!K31","v":0}]
["PCO-Dog-1-9-1",{"$f":"masterlist!B32","v":"PCO"},{"$f":"masterlist!C32","v":"PCO-Dog-1-9"},{"$f":"masterlist!D32","v":"Dog vaccines"},{"$f":"masterlist!E32","v":1},{"$f":"masterlist!F32","v":9},{"$f":"masterlist!G32","v":"Has dog vaccination been initiated in some parts of the country? "},{"$f":"masterlist!H32","v":"Areas covered"},{"$f":"masterlist!I32","v":0},{"$f":"masterlist!J32","v":1},{"$f":"masterlist!K32","v":0}]
["PCO-Dog-2-10-1",{"$f":"masterlist!B33","v":"PCO"},{"$f":"masterlist!C33","v":"PCO-Dog-2-10"},{"$f":"masterlist!D33","v":"Dog vaccines"},{"$f":"masterlist!E33","v":2},{"$f":"masterlist!F33","v":10},{"$f":"masterlist!G33","v":"Are only quality dog vaccines in accordance with OIE standards being used?"},{"$f":"masterlist!H33","v":" "},{"$f":"masterlist!I33","v":0},{"$f":"masterlist!J33","v":1},{"$f":"masterlist!K33","v":0}]
["PCO-Dog-3-11-1",{"$f":"masterlist!B34","v":"PCO"},{"$f":"masterlist!C34","v":"PCO-Dog-3-11"},{"$f":"masterlist!D34","v":"Dog vaccines"},{"$f":"masterlist!E34","v":3},{"$f":"masterlist!F34","v":11},{"$f":"masterlist!G34","v":"Are mass dog vaccination campaigns reaching at least 70% of the total dog population conducted according to the plan described in the national rabies strategy? "},{"$f":"masterlist!H34","v":" "},{"$f":"masterlist!I34","v":"KEY"},{"$f":"masterlist!J34","v":1},{"$f":"masterlist!K34","v":0}]
["PCO-Dog-3-12-0",{"$f":"masterlist!B35","v":"PCO"},{"$f":"masterlist!C35","v":"PCO-Dog-3-12"},{"$f":"masterlist!D35","v":"Dog vaccines"},{"$f":"masterlist!E35","v":3},{"$f":"masterlist!F35","v":12},{"$f":"masterlist!G35","v":"Are post-vaccination surveys* in dogs being carried out to evaluate vaccination coverage?"},{"$f":"masterlist!H35","v":"Briefly describe post-vaccination survey"},{"$f":"masterlist!I35","v":"KEY"},{"$f":"masterlist!J35","v":0},{"$f":"masterlist!K35","v":0}]
["PCO-Dog-4-13-1",{"$f":"masterlist!B36","v":"PCO"},{"$f":"masterlist!C36","v":"PCO-Dog-4-13"},{"$f":"masterlist!D36","v":"Dog vaccines"},{"$f":"masterlist!E36","v":4},{"$f":"masterlist!F36","v":13},{"$f":"masterlist!G36","v":"Now that there are very few animal rabies cases in your country, are dog vaccination campaigns maintained in zones where dog rabies is still present or where otherwise justified (e.g. risk of introduction)?"},{"$f":"masterlist!H36","v":" "},{"$f":"masterlist!I36","v":"KEY"},{"$f":"masterlist!J36","v":1},{"$f":"masterlist!K36","v":0}]
["PCO-Dog-5-14-0",{"$f":"masterlist!B37","v":"PCO"},{"$f":"masterlist!C37","v":"PCO-Dog-5-14"},{"$f":"masterlist!D37","v":"Dog vaccines"},{"$f":"masterlist!E37","v":5},{"$f":"masterlist!F37","v":14},{"$f":"masterlist!G37","v":"Even though you are rabies free based on successful mass vaccination campaigns, are strategic dog vaccination campaigns maintained where justifiable?"},{"$f":"masterlist!H37","v":"e.g. areas bordering endemic countries, ports of entry"},{"$f":"masterlist!I37","v":"KEY"},{"$f":"masterlist!J37","v":0},{"$f":"masterlist!K37","v":0}]
["PCO-Out-1-15-1",{"$f":"masterlist!B38","v":"PCO"},{"$f":"masterlist!C38","v":"PCO-Out-1-15"},{"$f":"masterlist!D38","v":"Outbreak response and other rabies control activities"},{"$f":"masterlist!E38","v":1},{"$f":"masterlist!F38","v":15},{"$f":"masterlist!G38","v":"Have Standard Operating Procedures (SOPs) for coordinated action on reported outbreaks* at a local level been established?"},{"$f":"masterlist!H38","v":" "},{"$f":"masterlist!I38","v":0},{"$f":"masterlist!J38","v":1},{"$f":"masterlist!K38","v":0}]
["PCO-Out-1-16-1",{"$f":"masterlist!B39","v":"PCO"},{"$f":"masterlist!C39","v":"PCO-Out-1-16"},{"$f":"masterlist!D39","v":"Outbreak response and other rabies control activities"},{"$f":"masterlist!E39","v":1},{"$f":"masterlist!F39","v":16},{"$f":"masterlist!G39","v":"Has Integrated Bite Case Management (IBCM)* been implemented at a local level? "},{"$f":"masterlist!H39","v":" "},{"$f":"masterlist!I39","v":0},{"$f":"masterlist!J39","v":1},{"$f":"masterlist!K39","v":0}]
["PCO-Out-2-17-1",{"$f":"masterlist!B40","v":"PCO"},{"$f":"masterlist!C40","v":"PCO-Out-2-17"},{"$f":"masterlist!D40","v":"Outbreak response and other rabies control activities"},{"$f":"masterlist!E40","v":2},{"$f":"masterlist!F40","v":17},{"$f":"masterlist!G40","v":"Have IBCM SOPs, including sharing of information between sectors, been agreed upon at a national level?"},{"$f":"masterlist!H40","v":"Sectors involved. Please explain how the information is shared between sectors"},{"$f":"masterlist!I40","v":0},{"$f":"masterlist!J40","v":1},{"$f":"masterlist!K40","v":0}]
["PCO-Out-2-18-1",{"$f":"masterlist!B41","v":"PCO"},{"$f":"masterlist!C41","v":"PCO-Out-2-18"},{"$f":"masterlist!D41","v":"Outbreak response and other rabies control activities"},{"$f":"masterlist!E41","v":2},{"$f":"masterlist!F41","v":18},{"$f":"masterlist!G41","v":"Is there active response to outbreaks in line with established SOPs?"},{"$f":"masterlist!H41","v":" "},{"$f":"masterlist!I41","v":"KEY"},{"$f":"masterlist!J41","v":1},{"$f":"masterlist!K41","v":0}]
["PCO-Out-2-19-1",{"$f":"masterlist!B42","v":"PCO"},{"$f":"masterlist!C42","v":"PCO-Out-2-19"},{"$f":"masterlist!D42","v":"Outbreak response and other rabies control activities"},{"$f":"masterlist!E42","v":2},{"$f":"masterlist!F42","v":19},{"$f":"masterlist!G42","v":"Are SOPs available for the observation of rabies suspect dogs? "},{"$f":"masterlist!H42","v":"e.g. dogs  involved in biting incidents"},{"$f":"masterlist!I42","v":0},{"$f":"masterlist!J42","v":1},{"$f":"masterlist!K42","v":0}]
["PCO-Out-2-20-0",{"$f":"masterlist!B43","v":"PCO"},{"$f":"masterlist!C43","v":"PCO-Out-2-20"},{"$f":"masterlist!D43","v":"Outbreak response and other rabies control activities"},{"$f":"masterlist!E43","v":2},{"$f":"masterlist!F43","v":20},{"$f":"masterlist!G43","v":"Have facilities been established for the observation of rabies-suspected dogs?"},{"$f":"masterlist!H43","v":"Home quarantine is adequate so long as the owner ensures the dog is provided sufficient food, water and shelter during the observation period."},{"$f":"masterlist!I43","v":0},{"$f":"masterlist!J43","v":0},{"$f":"masterlist!K43","v":0}]
["PCO-Out-3-21-0",{"$f":"masterlist!B44","v":"PCO"},{"$f":"masterlist!C44","v":"PCO-Out-3-21"},{"$f":"masterlist!D44","v":"Outbreak response and other rabies control activities"},{"$f":"masterlist!E44","v":3},{"$f":"masterlist!F44","v":21},{"$f":"masterlist!G44","v":"Is there capacity to conduct field investigations and planned outbreak responses for human rabies cases in the entire country?"},{"$f":"masterlist!H44","v":"Agencies of personnel involved in field investigations and outbreak response"},{"$f":"masterlist!I44","v":0},{"$f":"masterlist!J44","v":0},{"$f":"masterlist!K44","v":0}]
["PCO-Out-3-22-0",{"$f":"masterlist!B45","v":"PCO"},{"$f":"masterlist!C45","v":"PCO-Out-3-22"},{"$f":"masterlist!D45","v":"Outbreak response and other rabies control activities"},{"$f":"masterlist!E45","v":3},{"$f":"masterlist!F45","v":22},{"$f":"masterlist!G45","v":"Have potential rabies-free zones been identified where animal rabies cases caused by the canine rabies variant have been absent for at least a 2 year period?"},{"$f":"masterlist!H45","v":"Names of rabies-free zones"},{"$f":"masterlist!I45","v":"KEY"},{"$f":"masterlist!J45","v":0},{"$f":"masterlist!K45","v":0}]
["PCO-Out-3-23-1",{"$f":"masterlist!B46","v":"PCO"},{"$f":"masterlist!C46","v":"PCO-Out-3-23"},{"$f":"masterlist!D46","v":"Outbreak response and other rabies control activities"},{"$f":"masterlist!E46","v":3},{"$f":"masterlist!F46","v":23},{"$f":"masterlist!G46","v":"Has dialogue been initiated with neighbouring countries to prevent the re-introduction of rabies into designated rabies-free zones?"},{"$f":"masterlist!H46","v":" "},{"$f":"masterlist!I46","v":0},{"$f":"masterlist!J46","v":1},{"$f":"masterlist!K46","v":0}]
["PCO-Out-4-24-1",{"$f":"masterlist!B47","v":"PCO"},{"$f":"masterlist!C47","v":"PCO-Out-4-24"},{"$f":"masterlist!D47","v":"Outbreak response and other rabies control activities"},{"$f":"masterlist!E47","v":4},{"$f":"masterlist!F47","v":24},{"$f":"masterlist!G47","v":"Is there capacity to conduct field investigations and planned outbreak responses for animal rabies cases in the entire country?"},{"$f":"masterlist!H47","v":" "},{"$f":"masterlist!I47","v":0},{"$f":"masterlist!J47","v":1},{"$f":"masterlist!K47","v":0}]
["PCO-Out-4-25-0",{"$f":"masterlist!B48","v":"PCO"},{"$f":"masterlist!C48","v":"PCO-Out-4-25"},{"$f":"masterlist!D48","v":"Outbreak response and other rabies control activities"},{"$f":"masterlist!E48","v":4},{"$f":"masterlist!F48","v":25},{"$f":"masterlist!G48","v":"Now that there are very few animal rabies cases in your country, has an emergency response/contingency plan been developed to address any reintroduced case of animal rabies involving a canine variant in rabies-free zones?"},{"$f":"masterlist!H48","v":" "},{"$f":"masterlist!I48","v":"KEY"},{"$f":"masterlist!J48","v":0},{"$f":"masterlist!K48","v":0}]
["PCO-Out-5-26-0",{"$f":"masterlist!B49","v":"PCO"},{"$f":"masterlist!C49","v":"PCO-Out-5-26"},{"$f":"masterlist!D49","v":"Outbreak response and other rabies control activities"},{"$f":"masterlist!E49","v":5},{"$f":"masterlist!F49","v":26},{"$f":"masterlist!G49","v":"Even though you are rabies free based on successful mass vaccination campaigns, has the capacity for outbreak and re-introduction response been maintained?"},{"$f":"masterlist!H49","v":" "},{"$f":"masterlist!I49","v":"KEY"},{"$f":"masterlist!J49","v":0},{"$f":"masterlist!K49","v":0}]
["LAB-Spe-0-1-1",{"$f":"masterlist!B50","v":"LAB"},{"$f":"masterlist!C50","v":"LAB-Spe-0-1"},{"$f":"masterlist!D50","v":"Specimen referral"},{"$f":"masterlist!E50","v":0},{"$f":"masterlist!F50","v":1},{"$f":"masterlist!G50","v":"Have contacts with an international rabies reference laboratory or international collaborating/reference center been established?"},{"$f":"masterlist!H50","v":"Names of international rabies reference laboratories or collaborating/reference centers"},{"$f":"masterlist!I50","v":"KEY"},{"$f":"masterlist!J50","v":1},{"$f":"masterlist!K50","v":0}]
["LAB-Spe-0-2-1",{"$f":"masterlist!B51","v":"LAB"},{"$f":"masterlist!C51","v":"LAB-Spe-0-2"},{"$f":"masterlist!D51","v":"Specimen referral"},{"$f":"masterlist!E51","v":0},{"$f":"masterlist!F51","v":2},{"$f":"masterlist!G51","v":"If there is no laboratory diagnosis in your country, has at least one human or animal rabies suspect sample been submitted to an international rabies reference laboratory for confirmation?"},{"$f":"masterlist!H51","v":"If there has been any functional laboratory diagnosis in your country, mark this activity as \"complete\".\nYear of most recent specimen referral;\nName of international rabies reference laboratory"},{"$f":"masterlist!I51","v":"KEY"},{"$f":"masterlist!J51","v":1},{"$f":"masterlist!K51","v":0}]
["LAB-Lab-1-3-1",{"$f":"masterlist!B52","v":"LAB"},{"$f":"masterlist!C52","v":"LAB-Lab-1-3"},{"$f":"masterlist!D52","v":"Laboratory capacity and testing"},{"$f":"masterlist!E52","v":1},{"$f":"masterlist!F52","v":3},{"$f":"masterlist!G52","v":"Is rabies diagnosis being conducted in at least one national laboratory (veterinary or medical laboratory)?"},{"$f":"masterlist!H52","v":" "},{"$f":"masterlist!I52","v":"KEY"},{"$f":"masterlist!J52","v":1},{"$f":"masterlist!K52","v":0}]
["LAB-Lab-1-4-1",{"$f":"masterlist!B53","v":"LAB"},{"$f":"masterlist!C53","v":"LAB-Lab-1-4"},{"$f":"masterlist!D53","v":"Laboratory capacity and testing"},{"$f":"masterlist!E53","v":1},{"$f":"masterlist!F53","v":4},{"$f":"masterlist!G53","v":"Have several rabies suspect samples of animals or humans been submitted to a national laboratory and analysed? "},{"$f":"masterlist!H53","v":"Name of national laboratory;\nLaboratory test used"},{"$f":"masterlist!I53","v":0},{"$f":"masterlist!J53","v":1},{"$f":"masterlist!K53","v":0}]
["LAB-Lab-2-5-1",{"$f":"masterlist!B54","v":"LAB"},{"$f":"masterlist!C54","v":"LAB-Lab-2-5"},{"$f":"masterlist!D54","v":"Laboratory capacity and testing"},{"$f":"masterlist!E54","v":2},{"$f":"masterlist!F54","v":5},{"$f":"masterlist!G54","v":"Does your country undergo proficiency testing with an internationally recognised laboratory? "},{"$f":"masterlist!H54","v":"e.g OIE reference lab, WHO collaborating centre etc."},{"$f":"masterlist!I54","v":0},{"$f":"masterlist!J54","v":1},{"$f":"masterlist!K54","v":0}]
["LAB-Lab-2-6-1",{"$f":"masterlist!B55","v":"LAB"},{"$f":"masterlist!C55","v":"LAB-Lab-2-6"},{"$f":"masterlist!D55","v":"Laboratory capacity and testing"},{"$f":"masterlist!E55","v":2},{"$f":"masterlist!F55","v":6},{"$f":"masterlist!G55","v":"Has capacity for regular sample collection and transportation been established and functioning?"},{"$f":"masterlist!H55","v":"Capacity includes the following: costing and payment system for sample transport, contact persons, transport companies/vehicles, packaging etc. "},{"$f":"masterlist!I55","v":0},{"$f":"masterlist!J55","v":1},{"$f":"masterlist!K55","v":0}]
["LAB-Lab-2-7-1",{"$f":"masterlist!B56","v":"LAB"},{"$f":"masterlist!C56","v":"LAB-Lab-2-7"},{"$f":"masterlist!D56","v":"Laboratory capacity and testing"},{"$f":"masterlist!E56","v":2},{"$f":"masterlist!F56","v":7},{"$f":"masterlist!G56","v":"Is there routine laboratory diagnosis of animal rabies cases in country?"},{"$f":"masterlist!H56","v":"e.g. if at least some suspect samples are diagnosed most (if not all) months of the year. \nNames and locations of laboratories; Frequency of diagnosis"},{"$f":"masterlist!I56","v":0},{"$f":"masterlist!J56","v":1},{"$f":"masterlist!K56","v":0}]
["LAB-Lab-3-8-1",{"$f":"masterlist!B57","v":"LAB"},{"$f":"masterlist!C57","v":"LAB-Lab-3-8"},{"$f":"masterlist!D57","v":"Laboratory capacity and testing"},{"$f":"masterlist!E57","v":3},{"$f":"masterlist!F57","v":8},{"$f":"masterlist!G57","v":"Is access to reliable laboratory diagnosis available throughout the country for animal samples (and if possible also for human and wildlife samples)?"},{"$f":"masterlist!H57","v":"Names and locations of laboratories"},{"$f":"masterlist!I57","v":0},{"$f":"masterlist!J57","v":1},{"$f":"masterlist!K57","v":0}]
["LAB-Lab-3-9-1",{"$f":"masterlist!B58","v":"LAB"},{"$f":"masterlist!C58","v":"LAB-Lab-3-9"},{"$f":"masterlist!D58","v":"Laboratory capacity and testing"},{"$f":"masterlist!E58","v":3},{"$f":"masterlist!F58","v":9},{"$f":"masterlist!G58","v":"Do you regularly assess your capacity to accurately diagnose suspect rabies samples (both human and animal)"},{"$f":"masterlist!H58","v":"e.g. diagnostic twinning, submission of samples to international laboratory, molecular confirmation (e.g. PCR)"},{"$f":"masterlist!I58","v":0},{"$f":"masterlist!J58","v":1},{"$f":"masterlist!K58","v":0}]
["LAB-Lab-4-10-1",{"$f":"masterlist!B59","v":"LAB"},{"$f":"masterlist!C59","v":"LAB-Lab-4-10"},{"$f":"masterlist!D59","v":"Laboratory capacity and testing"},{"$f":"masterlist!E59","v":4},{"$f":"masterlist!F59","v":10},{"$f":"masterlist!G59","v":"Now that there are very few animal rabies cases in your country, is there maintenance of existing surveillance activities, including ongoing laboratory investigation, for all suspected cases in dogs in the country?"},{"$f":"masterlist!H59","v":" "},{"$f":"masterlist!I59","v":"KEY"},{"$f":"masterlist!J59","v":1},{"$f":"masterlist!K59","v":0}]
["LAB-Lab-4-11-1",{"$f":"masterlist!B60","v":"LAB"},{"$f":"masterlist!C60","v":"LAB-Lab-4-11"},{"$f":"masterlist!D60","v":"Laboratory capacity and testing"},{"$f":"masterlist!E60","v":4},{"$f":"masterlist!F60","v":11},{"$f":"masterlist!G60","v":"Are terrestrial wildlife (carnivore) samples submitted for rabies laboratory diagnosis?"},{"$f":"masterlist!H60","v":" "},{"$f":"masterlist!I60","v":0},{"$f":"masterlist!J60","v":1},{"$f":"masterlist!K60","v":0}]
["LAB-Lab-4-12-0",{"$f":"masterlist!B61","v":"LAB"},{"$f":"masterlist!C61","v":"LAB-Lab-4-12"},{"$f":"masterlist!D61","v":"Laboratory capacity and testing"},{"$f":"masterlist!E61","v":4},{"$f":"masterlist!F61","v":12},{"$f":"masterlist!G61","v":"Is there regular characterization and analysis of circulating rabies virus variants by a national or international laboratory?"},{"$f":"masterlist!H61","v":"Name of laboratory/institute where molecular tests are being performed"},{"$f":"masterlist!I61","v":0},{"$f":"masterlist!J61","v":0},{"$f":"masterlist!K61","v":0}]
["LAB-Lab-5-13-1",{"$f":"masterlist!B62","v":"LAB"},{"$f":"masterlist!C62","v":"LAB-Lab-5-13"},{"$f":"masterlist!D62","v":"Laboratory capacity and testing"},{"$f":"masterlist!E62","v":5},{"$f":"masterlist!F62","v":13},{"$f":"masterlist!G62","v":"Even though you are rabies-free based on successful mass vaccination campaigns, are there on-going laboratory investigations of all suspected cases in domestic and terrestrial wild animal (carnivore) species in the country?"},{"$f":"masterlist!H62","v":" "},{"$f":"masterlist!I62","v":"KEY"},{"$f":"masterlist!J62","v":1},{"$f":"masterlist!K62","v":0}]
["DPM- -1-1-1",{"$f":"masterlist!B63","v":"DPM"},{"$f":"masterlist!C63","v":"DPM- -1-1"},{"$f":"masterlist!D63","v":" "},{"$f":"masterlist!E63","v":1},{"$f":"masterlist!F63","v":1},{"$f":"masterlist!G63","v":"Have discussions been held with stakeholders* to create a dog population management strategy at a local level?"},{"$f":"masterlist!H63","v":"Stakeholders involved, how this integrates with rabies control strategy. Studies and surveys from \"Prevention and Control\" need to be completed before this item."},{"$f":"masterlist!I63","v":0},{"$f":"masterlist!J63","v":1},{"$f":"masterlist!K63","v":0}]
["DPM- -1-2-0",{"$f":"masterlist!B64","v":"DPM"},{"$f":"masterlist!C64","v":"DPM- -1-2"},{"$f":"masterlist!D64","v":" "},{"$f":"masterlist!E64","v":1},{"$f":"masterlist!F64","v":2},{"$f":"masterlist!G64","v":"Have you involved officials in waste management in your stakeholder* meetings"},{"$f":"masterlist!H64","v":"Removal of garbage or preventing animals from reaching the garbage takes away available food sources for dogs. This will help to reduce the number of free-roaming dogs in the community."},{"$f":"masterlist!I64","v":0},{"$f":"masterlist!J64","v":0},{"$f":"masterlist!K64","v":0}]
["DPM- -1-3-1",{"$f":"masterlist!B65","v":"DPM"},{"$f":"masterlist!C65","v":"DPM- -1-3"},{"$f":"masterlist!D65","v":" "},{"$f":"masterlist!E65","v":1},{"$f":"masterlist!F65","v":3},{"$f":"masterlist!G65","v":"Has a baseline number of dogs been determined at a local level?"},{"$f":"masterlist!H65","v":" "},{"$f":"masterlist!I65","v":0},{"$f":"masterlist!J65","v":1},{"$f":"masterlist!K65","v":0}]
["DPM- -2-4-0",{"$f":"masterlist!B66","v":"DPM"},{"$f":"masterlist!C66","v":"DPM- -2-4"},{"$f":"masterlist!D66","v":" "},{"$f":"masterlist!E66","v":2},{"$f":"masterlist!F66","v":4},{"$f":"masterlist!G66","v":"Has a DPM* strategy and programme been drafted and shared with all relevant stakeholders at a local level?"},{"$f":"masterlist!H66","v":" "},{"$f":"masterlist!I66","v":0},{"$f":"masterlist!J66","v":0},{"$f":"masterlist!K66","v":0}]
[{"$f":"C67&\"-\"&J67","v":"DPM- -2-5-0"},{"$f":"masterlist!B67","v":"DPM"},{"$f":"masterlist!C67","v":"DPM- -2-5"},{"$f":"masterlist!D67","v":" "},{"$f":"masterlist!E67","v":2},{"$f":"masterlist!F67","v":5},{"$f":"masterlist!G67","v":"Has the DPM strategy been finalized and implemented?"},{"$f":"masterlist!H67","v":"Please list what strategies are currently being used. \nNOTE: Mass culling is NOT considered an effective DPM strategy. However, responsible dog management is considered appropriate. Euthanasia of suspect rabid animals according to the international standards is part of responsible dog management"},{"$f":"masterlist!I67","v":0},{"$f":"masterlist!J67","v":0},{"$f":"masterlist!K67","v":0}]
["DPM- -2-6-1",{"$f":"masterlist!B68","v":"DPM"},{"$f":"masterlist!C68","v":"DPM- -2-6"},{"$f":"masterlist!D68","v":" "},{"$f":"masterlist!E68","v":2},{"$f":"masterlist!F68","v":6},{"$f":"masterlist!G68","v":"Has public sensitisation about DPM been built into rabies awareness campaigns at a local level?"},{"$f":"masterlist!H68","v":" "},{"$f":"masterlist!I68","v":0},{"$f":"masterlist!J68","v":1},{"$f":"masterlist!K68","v":0}]
["DPM- -2-7-1",{"$f":"masterlist!B69","v":"DPM"},{"$f":"masterlist!C69","v":"DPM- -2-7"},{"$f":"masterlist!D69","v":" "},{"$f":"masterlist!E69","v":2},{"$f":"masterlist!F69","v":7},{"$f":"masterlist!G69","v":"Have training or refresher courses on responsible dog management been initiated for professionals in animal health at a local level?"},{"$f":"masterlist!H69","v":" "},{"$f":"masterlist!I69","v":0},{"$f":"masterlist!J69","v":1},{"$f":"masterlist!K69","v":0}]
["DPM- -3-8-1",{"$f":"masterlist!B70","v":"DPM"},{"$f":"masterlist!C70","v":"DPM- -3-8"},{"$f":"masterlist!D70","v":" "},{"$f":"masterlist!E70","v":3},{"$f":"masterlist!F70","v":8},{"$f":"masterlist!G70","v":"Has the DPM strategy been assessed and refined based on current dog ecology or KAP surveys done at a local level?"},{"$f":"masterlist!H70","v":" "},{"$f":"masterlist!I70","v":0},{"$f":"masterlist!J70","v":1},{"$f":"masterlist!K70","v":0}]
["DPM- -3-9-1",{"$f":"masterlist!B71","v":"DPM"},{"$f":"masterlist!C71","v":"DPM- -3-9"},{"$f":"masterlist!D71","v":" "},{"$f":"masterlist!E71","v":3},{"$f":"masterlist!F71","v":9},{"$f":"masterlist!G71","v":"Have rabies awareness campaigns, including responsible dog ownership, been expanded to more areas?"},{"$f":"masterlist!H71","v":"Intended audience and areas covered\n"},{"$f":"masterlist!I71","v":0},{"$f":"masterlist!J71","v":1},{"$f":"masterlist!K71","v":0}]
["DPM- -3-10-0",{"$f":"masterlist!B72","v":"DPM"},{"$f":"masterlist!C72","v":"DPM- -3-10"},{"$f":"masterlist!D72","v":" "},{"$f":"masterlist!E72","v":3},{"$f":"masterlist!F72","v":10},{"$f":"masterlist!G72","v":"Has veterinary and animal technician training been completed across most of country?"},{"$f":"masterlist!H72","v":" "},{"$f":"masterlist!I72","v":0},{"$f":"masterlist!J72","v":0},{"$f":"masterlist!K72","v":0}]
["DPM- -5-11-0",{"$f":"masterlist!B73","v":"DPM"},{"$f":"masterlist!C73","v":"DPM- -5-11"},{"$f":"masterlist!D73","v":" "},{"$f":"masterlist!E73","v":5},{"$f":"masterlist!F73","v":11},{"$f":"masterlist!G73","v":"Has the dog population management strategy been implemented nationwide?"},{"$f":"masterlist!H73","v":"Areas covered"},{"$f":"masterlist!I73","v":"KEY"},{"$f":"masterlist!J73","v":0},{"$f":"masterlist!K73","v":0}]
["DPM- -5-12-0",{"$f":"masterlist!B74","v":"DPM"},{"$f":"masterlist!C74","v":"DPM- -5-12"},{"$f":"masterlist!D74","v":" "},{"$f":"masterlist!E74","v":5},{"$f":"masterlist!F74","v":12},{"$f":"masterlist!G74","v":"Have dog population management and responsible dog ownership campaigns been continued after the elimination of canine-mediated human rabies?"},{"$f":"masterlist!H74","v":" "},{"$f":"masterlist!I74","v":"KEY"},{"$f":"masterlist!J74","v":0},{"$f":"masterlist!K74","v":0}]
["IEC-Pub-1-1-1",{"$f":"masterlist!B75","v":"IEC"},{"$f":"masterlist!C75","v":"IEC-Pub-1-1"},{"$f":"masterlist!D75","v":"Public awareness"},{"$f":"masterlist!E75","v":1},{"$f":"masterlist!F75","v":1},{"$f":"masterlist!G75","v":"Have the target audiences been identified at a local level (e.g. at-risk communities, dog owners, children)?"},{"$f":"masterlist!H75","v":" "},{"$f":"masterlist!I75","v":0},{"$f":"masterlist!J75","v":1},{"$f":"masterlist!K75","v":0}]
["IEC-Pub-1-2-1",{"$f":"masterlist!B76","v":"IEC"},{"$f":"masterlist!C76","v":"IEC-Pub-1-2"},{"$f":"masterlist!D76","v":"Public awareness"},{"$f":"masterlist!E76","v":1},{"$f":"masterlist!F76","v":2},{"$f":"masterlist!G76","v":"Has an assessment been done to determine what message should be communicated to the target audience at a local level?"},{"$f":"masterlist!H76","v":"Determine who the target audience is and what message is appropriate to them. For example, through focus groups or surveys. "},{"$f":"masterlist!I76","v":0},{"$f":"masterlist!J76","v":1},{"$f":"masterlist!K76","v":0}]
["IEC-Pub-1-3-1",{"$f":"masterlist!B77","v":"IEC"},{"$f":"masterlist!C77","v":"IEC-Pub-1-3"},{"$f":"masterlist!D77","v":"Public awareness"},{"$f":"masterlist!E77","v":1},{"$f":"masterlist!F77","v":3},{"$f":"masterlist!G77","v":"Has an IEC plan* been developed and implemented on a small scale?"},{"$f":"masterlist!H77","v":"Main messages and intended audiences (e.g. responsible dog ownership, rabies and bite prevention and management, and any other relevant messages for audiences such as dog owners, teachers, children, etc.)"},{"$f":"masterlist!I77","v":"KEY"},{"$f":"masterlist!J77","v":1},{"$f":"masterlist!K77","v":0}]
["IEC-Pub-1-4-1",{"$f":"masterlist!B78","v":"IEC"},{"$f":"masterlist!C78","v":"IEC-Pub-1-4"},{"$f":"masterlist!D78","v":"Public awareness"},{"$f":"masterlist!E78","v":1},{"$f":"masterlist!F78","v":4},{"$f":"masterlist!G78","v":"Has broad public awareness messaging started at a national level?"},{"$f":"masterlist!H78","v":"To increase awareness about responsible dog ownership, rabies and bite prevention and management (through channels such as World Rabies Day, other health days, newspaper radio and television campaigns, and other channels)  "},{"$f":"masterlist!I78","v":0},{"$f":"masterlist!J78","v":1},{"$f":"masterlist!K78","v":0}]
["IEC-Pub-3-5-0",{"$f":"masterlist!B79","v":"IEC"},{"$f":"masterlist!C79","v":"IEC-Pub-3-5"},{"$f":"masterlist!D79","v":"Public awareness"},{"$f":"masterlist!E79","v":3},{"$f":"masterlist!F79","v":5},{"$f":"masterlist!G79","v":"Has the IEC plan been integrated into the national rabies strategy, implemented at national level and updated where needed?"},{"$f":"masterlist!H79","v":"Main messages, intended audience and areas covered\nConsider including information to travellers"},{"$f":"masterlist!I79","v":"KEY"},{"$f":"masterlist!J79","v":0},{"$f":"masterlist!K79","v":0}]
["IEC-Pub-5-6-0",{"$f":"masterlist!B80","v":"IEC"},{"$f":"masterlist!C80","v":"IEC-Pub-5-6"},{"$f":"masterlist!D80","v":"Public awareness"},{"$f":"masterlist!E80","v":5},{"$f":"masterlist!F80","v":6},{"$f":"masterlist!G80","v":"Have awareness programmes focusing on the maintenance of freedom from dog and dog-transmitted human rabies been implemented?"},{"$f":"masterlist!H80","v":"What are the main messages? Who is the intended audience? How often are messages broadcasted?"},{"$f":"masterlist!I80","v":"KEY"},{"$f":"masterlist!J80","v":0},{"$f":"masterlist!K80","v":0}]
["IEC-Pro-1-7-1",{"$f":"masterlist!B81","v":"IEC"},{"$f":"masterlist!C81","v":"IEC-Pro-1-7"},{"$f":"masterlist!D81","v":"Professional education"},{"$f":"masterlist!E81","v":1},{"$f":"masterlist!F81","v":7},{"$f":"masterlist!G81","v":"Have human and animal health professionals involved in rabies control been identified at a local level?"},{"$f":"masterlist!H81","v":" "},{"$f":"masterlist!I81","v":0},{"$f":"masterlist!J81","v":1},{"$f":"masterlist!K81","v":0}]
["IEC-Pro-1-8-0",{"$f":"masterlist!B82","v":"IEC"},{"$f":"masterlist!C82","v":"IEC-Pro-1-8"},{"$f":"masterlist!D82","v":"Professional education"},{"$f":"masterlist!E82","v":1},{"$f":"masterlist!F82","v":8},{"$f":"masterlist!G82","v":"Has an assessment been undertaken to determine the training needs of the professionals at a local level? "},{"$f":"masterlist!H82","v":"For example: Did officials assess whether doctors can diagnose rabies? Did officials assess whether veterinarians can vaccinate dogs safely?"},{"$f":"masterlist!I82","v":0},{"$f":"masterlist!J82","v":0},{"$f":"masterlist!K82","v":0}]
["IEC-Pro-1-9-0",{"$f":"masterlist!B83","v":"IEC"},{"$f":"masterlist!C83","v":"IEC-Pro-1-9"},{"$f":"masterlist!D83","v":"Professional education"},{"$f":"masterlist!E83","v":1},{"$f":"masterlist!F83","v":9},{"$f":"masterlist!G83","v":"Has a training plan been developed at a national level?"},{"$f":"masterlist!H83","v":" "},{"$f":"masterlist!I83","v":0},{"$f":"masterlist!J83","v":0},{"$f":"masterlist!K83","v":0}]
["IEC-Pro-1-10-0",{"$f":"masterlist!B84","v":"IEC"},{"$f":"masterlist!C84","v":"IEC-Pro-1-10"},{"$f":"masterlist!D84","v":"Professional education"},{"$f":"masterlist!E84","v":1},{"$f":"masterlist!F84","v":10},{"$f":"masterlist!G84","v":"Have training or refresher courses on rabies and public communication been initiated for professionals in human and animal health at a local level?"},{"$f":"masterlist!H84","v":"Participant organisations/agencies"},{"$f":"masterlist!I84","v":0},{"$f":"masterlist!J84","v":0},{"$f":"masterlist!K84","v":0}]
["IEC-Pro-2-11-0",{"$f":"masterlist!B85","v":"IEC"},{"$f":"masterlist!C85","v":"IEC-Pro-2-11"},{"$f":"masterlist!D85","v":"Professional education"},{"$f":"masterlist!E85","v":2},{"$f":"masterlist!F85","v":11},{"$f":"masterlist!G85","v":"Has training of human and animal health personnel been conducted in most parts of the country?"},{"$f":"masterlist!H85","v":"Participant organisations/agencies"},{"$f":"masterlist!I85","v":0},{"$f":"masterlist!J85","v":0},{"$f":"masterlist!K85","v":0}]
["IEC-Adv-0-12-1",{"$f":"masterlist!B86","v":"IEC"},{"$f":"masterlist!C86","v":"IEC-Adv-0-12"},{"$f":"masterlist!D86","v":"Advocacy"},{"$f":"masterlist!E86","v":0},{"$f":"masterlist!F86","v":12},{"$f":"masterlist!G86","v":"Is rabies a priority disease in your country?"},{"$f":"masterlist!H86","v":"This would be known after the disease prioritisation workshop has been undertaken in collaboration with the US Centers for Disease Control. "},{"$f":"masterlist!I86","v":0},{"$f":"masterlist!J86","v":1},{"$f":"masterlist!K86","v":0}]
["IEC-Adv-1-13-0",{"$f":"masterlist!B87","v":"IEC"},{"$f":"masterlist!C87","v":"IEC-Adv-1-13"},{"$f":"masterlist!D87","v":"Advocacy"},{"$f":"masterlist!E87","v":1},{"$f":"masterlist!F87","v":13},{"$f":"masterlist!G87","v":"Has an advocacy stakeholder analysis* been done at a national level and target audiences been identified?"},{"$f":"masterlist!H87","v":"For example, at-risk community leaders/authorities, politicians and other policy influencers and decision makers "},{"$f":"masterlist!I87","v":0},{"$f":"masterlist!J87","v":0},{"$f":"masterlist!K87","v":0}]
["IEC-Adv-1-14-0",{"$f":"masterlist!B88","v":"IEC"},{"$f":"masterlist!C88","v":"IEC-Adv-1-14"},{"$f":"masterlist!D88","v":"Advocacy"},{"$f":"masterlist!E88","v":1},{"$f":"masterlist!F88","v":14},{"$f":"masterlist!G88","v":"Has an advocacy plan* been developed and implemented at a national level?"},{"$f":"masterlist!H88","v":"Include sharing of advocacy with neighbouring countries and regional level in national plan"},{"$f":"masterlist!I88","v":0},{"$f":"masterlist!J88","v":0},{"$f":"masterlist!K88","v":0}]
["IEC-Adv-2-15-0",{"$f":"masterlist!B89","v":"IEC"},{"$f":"masterlist!C89","v":"IEC-Adv-2-15"},{"$f":"masterlist!D89","v":"Advocacy"},{"$f":"masterlist!E89","v":2},{"$f":"masterlist!F89","v":15},{"$f":"masterlist!G89","v":"Have you promoted any small-scale rabies control program successes using the national advocacy plan?"},{"$f":"masterlist!H89","v":"Main messages, audiences, areas covered"},{"$f":"masterlist!I89","v":0},{"$f":"masterlist!J89","v":0},{"$f":"masterlist!K89","v":0}]
["IEC-Adv-2-16-0",{"$f":"masterlist!B90","v":"IEC"},{"$f":"masterlist!C90","v":"IEC-Adv-2-16"},{"$f":"masterlist!D90","v":"Advocacy"},{"$f":"masterlist!E90","v":2},{"$f":"masterlist!F90","v":16},{"$f":"masterlist!G90","v":"Has the national advocacy plan been used to obtain support from stakeholders to financially resource the national rabies control strategy?"},{"$f":"masterlist!H90","v":"Main messages, audiences"},{"$f":"masterlist!I90","v":"KEY"},{"$f":"masterlist!J90","v":0},{"$f":"masterlist!K90","v":0}]
["IEC-Adv-3-17-0",{"$f":"masterlist!B91","v":"IEC"},{"$f":"masterlist!C91","v":"IEC-Adv-3-17"},{"$f":"masterlist!D91","v":"Advocacy"},{"$f":"masterlist!E91","v":3},{"$f":"masterlist!F91","v":17},{"$f":"masterlist!G91","v":"Have dog-transmitted human rabies free zones been declared publicly?"},{"$f":"masterlist!H91","v":"Areas covered"},{"$f":"masterlist!I91","v":"KEY"},{"$f":"masterlist!J91","v":0},{"$f":"masterlist!K91","v":0}]
["IEC-Adv-4-18-0",{"$f":"masterlist!B92","v":"IEC"},{"$f":"masterlist!C92","v":"IEC-Adv-4-18"},{"$f":"masterlist!D92","v":"Advocacy"},{"$f":"masterlist!E92","v":4},{"$f":"masterlist!F92","v":18},{"$f":"masterlist!G92","v":"Have you declared publically that your entire country is free from dog-transmitted human rabies?"},{"$f":"masterlist!H92","v":" "},{"$f":"masterlist!I92","v":"KEY"},{"$f":"masterlist!J92","v":0},{"$f":"masterlist!K92","v":0}]
["IEC-Adv-5-19-0",{"$f":"masterlist!B93","v":"IEC"},{"$f":"masterlist!C93","v":"IEC-Adv-5-19"},{"$f":"masterlist!D93","v":"Advocacy"},{"$f":"masterlist!E93","v":5},{"$f":"masterlist!F93","v":19},{"$f":"masterlist!G93","v":"Have you declared publically that your entire country is free from dog rabies? "},{"$f":"masterlist!H93","v":" "},{"$f":"masterlist!I93","v":"KEY"},{"$f":"masterlist!J93","v":0},{"$f":"masterlist!K93","v":0}]
["CCI-Int-0-1-1",{"$f":"masterlist!B94","v":"CCI"},{"$f":"masterlist!C94","v":"CCI-Int-0-1"},{"$f":"masterlist!D94","v":"Intersectoral collaboration"},{"$f":"masterlist!E94","v":0},{"$f":"masterlist!F94","v":1},{"$f":"masterlist!G94","v":"Are the results of rabies sample(s) shared with local and national authorities? "},{"$f":"masterlist!H94","v":"Agencies involved"},{"$f":"masterlist!I94","v":0},{"$f":"masterlist!J94","v":1},{"$f":"masterlist!K94","v":0}]
["CCI-Int-1-2-1",{"$f":"masterlist!B95","v":"CCI"},{"$f":"masterlist!C95","v":"CCI-Int-1-2"},{"$f":"masterlist!D95","v":"Intersectoral collaboration"},{"$f":"masterlist!E95","v":1},{"$f":"masterlist!F95","v":2},{"$f":"masterlist!G95","v":"Have the main national stakeholders* in rabies prevention and control been identified?"},{"$f":"masterlist!H95","v":"Agencies of stakeholders involved"},{"$f":"masterlist!I95","v":0},{"$f":"masterlist!J95","v":1},{"$f":"masterlist!K95","v":0}]
["CCI-Int-1-3-1",{"$f":"masterlist!B96","v":"CCI"},{"$f":"masterlist!C96","v":"CCI-Int-1-3"},{"$f":"masterlist!D96","v":"Intersectoral collaboration"},{"$f":"masterlist!E96","v":1},{"$f":"masterlist!F96","v":3},{"$f":"masterlist!G96","v":"Are the key stakeholders* still actively involved in rabies control? "},{"$f":"masterlist!H96","v":" "},{"$f":"masterlist!I96","v":0},{"$f":"masterlist!J96","v":1},{"$f":"masterlist!K96","v":0}]
["CCI-Int-1-4-0",{"$f":"masterlist!B97","v":"CCI"},{"$f":"masterlist!C97","v":"CCI-Int-1-4"},{"$f":"masterlist!D97","v":"Intersectoral collaboration"},{"$f":"masterlist!E97","v":1},{"$f":"masterlist!F97","v":4},{"$f":"masterlist!G97","v":"Has an intersectoral rabies task force, committee or working group, including all relevant stakeholders*, been established at a local or national level and do they meet/communicate regularly?"},{"$f":"masterlist!H97","v":"Agencies of members of task force; methods of communication; regularity of meetings/communication"},{"$f":"masterlist!I97","v":0},{"$f":"masterlist!J97","v":0},{"$f":"masterlist!K97","v":0}]
["CCI-Int-2-5-0",{"$f":"masterlist!B98","v":"CCI"},{"$f":"masterlist!C98","v":"CCI-Int-2-5"},{"$f":"masterlist!D98","v":"Intersectoral collaboration"},{"$f":"masterlist!E98","v":2},{"$f":"masterlist!F98","v":5},{"$f":"masterlist!G98","v":"Is the private sector included in the inter-sectoral task force's discussions and/or activities?"},{"$f":"masterlist!H98","v":" "},{"$f":"masterlist!I98","v":0},{"$f":"masterlist!J98","v":0},{"$f":"masterlist!K98","v":0}]
["CCI-Nat-1-6-0",{"$f":"masterlist!B99","v":"CCI"},{"$f":"masterlist!C99","v":"CCI-Nat-1-6"},{"$f":"masterlist!D99","v":"National programme and strategy"},{"$f":"masterlist!E99","v":1},{"$f":"masterlist!F99","v":6},{"$f":"masterlist!G99","v":"Based on a small-scale experience, has a short term rabies action plan been developed and endorsed by relevant authorities at local / national level?"},{"$f":"masterlist!H99","v":" "},{"$f":"masterlist!I99","v":0},{"$f":"masterlist!J99","v":0},{"$f":"masterlist!K99","v":0}]
["CCI-Nat-1-7-0",{"$f":"masterlist!B100","v":"CCI"},{"$f":"masterlist!C100","v":"CCI-Nat-1-7"},{"$f":"masterlist!D100","v":"National programme and strategy"},{"$f":"masterlist!E100","v":1},{"$f":"masterlist!F100","v":7},{"$f":"masterlist!G100","v":"Have mechanisms for mobilizing emergency funds for rabies control been identified?"},{"$f":"masterlist!H100","v":" "},{"$f":"masterlist!I100","v":0},{"$f":"masterlist!J100","v":0},{"$f":"masterlist!K100","v":0}]
["CCI-Nat-2-8-0",{"$f":"masterlist!B101","v":"CCI"},{"$f":"masterlist!C101","v":"CCI-Nat-2-8"},{"$f":"masterlist!D101","v":"National programme and strategy"},{"$f":"masterlist!E101","v":2},{"$f":"masterlist!F101","v":8},{"$f":"masterlist!G101","v":"Has a national strategy for rabies prevention, control and eventual elimination been drafted and finalised in collaboration with all relevant stakeholders?"},{"$f":"masterlist!H101","v":" "},{"$f":"masterlist!I101","v":"KEY"},{"$f":"masterlist!J101","v":0},{"$f":"masterlist!K101","v":0}]
["CCI-Nat-2-9-1",{"$f":"masterlist!B102","v":"CCI"},{"$f":"masterlist!C102","v":"CCI-Nat-2-9"},{"$f":"masterlist!D102","v":"National programme and strategy"},{"$f":"masterlist!E102","v":2},{"$f":"masterlist!F102","v":9},{"$f":"masterlist!G102","v":"Have government resources been identified and allocated in support of the national rabies control strategy?  "},{"$f":"masterlist!H102","v":" "},{"$f":"masterlist!I102","v":"KEY"},{"$f":"masterlist!J102","v":1},{"$f":"masterlist!K102","v":0}]
["CCI-Nat-3-10-0",{"$f":"masterlist!B103","v":"CCI"},{"$f":"masterlist!C103","v":"CCI-Nat-3-10"},{"$f":"masterlist!D103","v":"National programme and strategy"},{"$f":"masterlist!E103","v":3},{"$f":"masterlist!F103","v":10},{"$f":"masterlist!G103","v":"Now that there are very few animal rabies cases in your country, has the national strategy been refined based on current data? "},{"$f":"masterlist!H103","v":"e.g. molecular epidemiological information, current research studies/surveys, PEP usage and bite case data."},{"$f":"masterlist!I103","v":0},{"$f":"masterlist!J103","v":0},{"$f":"masterlist!K103","v":0}]
["CCI-Nat-4-11-1",{"$f":"masterlist!B104","v":"CCI"},{"$f":"masterlist!C104","v":"CCI-Nat-4-11"},{"$f":"masterlist!D104","v":"National programme and strategy"},{"$f":"masterlist!E104","v":4},{"$f":"masterlist!F104","v":11},{"$f":"masterlist!G104","v":"Have veterinary border inspection and quarantine measures been fully implemented in accordance with national regulations?"},{"$f":"masterlist!H104","v":" "},{"$f":"masterlist!I104","v":0},{"$f":"masterlist!J104","v":1},{"$f":"masterlist!K104","v":0}]
["LEG-Ani-0-1-1",{"$f":"masterlist!B105","v":"LEG"},{"$f":"masterlist!C105","v":"LEG-Ani-0-1"},{"$f":"masterlist!D105","v":"Animal rabies national case definition"},{"$f":"masterlist!E105","v":0},{"$f":"masterlist!F105","v":1},{"$f":"masterlist!G105","v":"Is a case definition available that is consistent with the OIE standards for animal rabies?"},{"$f":"masterlist!H105","v":" "},{"$f":"masterlist!I105","v":0},{"$f":"masterlist!J105","v":1},{"$f":"masterlist!K105","v":0}]
["LEG-Ani-1-2-0",{"$f":"masterlist!B106","v":"LEG"},{"$f":"masterlist!C106","v":"LEG-Ani-1-2"},{"$f":"masterlist!D106","v":"Animal rabies national case definition"},{"$f":"masterlist!E106","v":1},{"$f":"masterlist!F106","v":2},{"$f":"masterlist!G106","v":"Has the case definition for animal rabies been shared with all of the relevant professionals?"},{"$f":"masterlist!H106","v":"Agencies the case definition was disseminated to"},{"$f":"masterlist!I106","v":0},{"$f":"masterlist!J106","v":0},{"$f":"masterlist!K106","v":0}]
["LEG-Hum-0-3-1",{"$f":"masterlist!B107","v":"LEG"},{"$f":"masterlist!C107","v":"LEG-Hum-0-3"},{"$f":"masterlist!D107","v":"Human rabies national case definition"},{"$f":"masterlist!E107","v":0},{"$f":"masterlist!F107","v":3},{"$f":"masterlist!G107","v":"Is a case definition available that is consistent with the WHO guidelines for human rabies?"},{"$f":"masterlist!H107","v":" "},{"$f":"masterlist!I107","v":0},{"$f":"masterlist!J107","v":1},{"$f":"masterlist!K107","v":0}]
["LEG-Hum-1-4-0",{"$f":"masterlist!B108","v":"LEG"},{"$f":"masterlist!C108","v":"LEG-Hum-1-4"},{"$f":"masterlist!D108","v":"Human rabies national case definition"},{"$f":"masterlist!E108","v":1},{"$f":"masterlist!F108","v":4},{"$f":"masterlist!G108","v":"Has the case definition for human rabies been shared with all of the relevant professionals?"},{"$f":"masterlist!H108","v":"Agencies the case definition was disseminated to"},{"$f":"masterlist!I108","v":0},{"$f":"masterlist!J108","v":0},{"$f":"masterlist!K108","v":0}]
["LEG-Leg-1-5-1",{"$f":"masterlist!B109","v":"LEG"},{"$f":"masterlist!C109","v":"LEG-Leg-1-5"},{"$f":"masterlist!D109","v":"Legal Framework"},{"$f":"masterlist!E109","v":1},{"$f":"masterlist!F109","v":5},{"$f":"masterlist!G109","v":"Is there national legislation that is relevant to rabies prevention and control?"},{"$f":"masterlist!H109","v":"For example: an Animal act; compulsory vaccination, etc.\nTitle of the framework and the year it was passed"},{"$f":"masterlist!I109","v":"KEY"},{"$f":"masterlist!J109","v":1},{"$f":"masterlist!K109","v":0}]
["LEG-Leg-1-6-0",{"$f":"masterlist!B110","v":"LEG"},{"$f":"masterlist!C110","v":"LEG-Leg-1-6"},{"$f":"masterlist!D110","v":"Legal Framework"},{"$f":"masterlist!E110","v":1},{"$f":"masterlist!F110","v":6},{"$f":"masterlist!G110","v":"If there is legislation, has it been reviewed and endorsed?"},{"$f":"masterlist!H110","v":"Year the framework was reviewed"},{"$f":"masterlist!I110","v":0},{"$f":"masterlist!J110","v":0},{"$f":"masterlist!K110","v":0}]
["LEG-Leg-1-7-1",{"$f":"masterlist!B111","v":"LEG"},{"$f":"masterlist!C111","v":"LEG-Leg-1-7"},{"$f":"masterlist!D111","v":"Legal Framework"},{"$f":"masterlist!E111","v":1},{"$f":"masterlist!F111","v":7},{"$f":"masterlist!G111","v":"Has rabies been made a notifiable disease in animals?"},{"$f":"masterlist!H111","v":" "},{"$f":"masterlist!I111","v":"KEY"},{"$f":"masterlist!J111","v":1},{"$f":"masterlist!K111","v":0}]
["LEG-Leg-1-8-1",{"$f":"masterlist!B112","v":"LEG"},{"$f":"masterlist!C112","v":"LEG-Leg-1-8"},{"$f":"masterlist!D112","v":"Legal Framework"},{"$f":"masterlist!E112","v":1},{"$f":"masterlist!F112","v":8},{"$f":"masterlist!G112","v":"Has rabies been made a notifiable disease in humans?"},{"$f":"masterlist!H112","v":" "},{"$f":"masterlist!I112","v":"KEY"},{"$f":"masterlist!J112","v":1},{"$f":"masterlist!K112","v":0}]
["LEG-Leg-1-9-1",{"$f":"masterlist!B113","v":"LEG"},{"$f":"masterlist!C113","v":"LEG-Leg-1-9"},{"$f":"masterlist!D113","v":"Legal Framework"},{"$f":"masterlist!E113","v":1},{"$f":"masterlist!F113","v":9},{"$f":"masterlist!G113","v":"Does legislation include measures for rabies outbreak response?"},{"$f":"masterlist!H113","v":" "},{"$f":"masterlist!I113","v":0},{"$f":"masterlist!J113","v":1},{"$f":"masterlist!K113","v":0}]
["LEG-Leg-2-10-0",{"$f":"masterlist!B114","v":"LEG"},{"$f":"masterlist!C114","v":"LEG-Leg-2-10"},{"$f":"masterlist!D114","v":"Legal Framework"},{"$f":"masterlist!E114","v":2},{"$f":"masterlist!F114","v":10},{"$f":"masterlist!G114","v":"Does the legislation regarding nationally licenced vaccines reflect that of international guidelines?"},{"$f":"masterlist!H114","v":" "},{"$f":"masterlist!I114","v":0},{"$f":"masterlist!J114","v":0},{"$f":"masterlist!K114","v":0}]
["LEG-Leg-3-11-1",{"$f":"masterlist!B115","v":"LEG"},{"$f":"masterlist!C115","v":"LEG-Leg-3-11"},{"$f":"masterlist!D115","v":"Legal Framework"},{"$f":"masterlist!E115","v":3},{"$f":"masterlist!F115","v":11},{"$f":"masterlist!G115","v":"Has legislation been updated to include specifications on the compulsory vaccination and international movement of dogs? "},{"$f":"masterlist!H115","v":" "},{"$f":"masterlist!I115","v":"KEY"},{"$f":"masterlist!J115","v":1},{"$f":"masterlist!K115","v":0}]
["LEG-Leg-3-12-1",{"$f":"masterlist!B116","v":"LEG"},{"$f":"masterlist!C116","v":"LEG-Leg-3-12"},{"$f":"masterlist!D116","v":"Legal Framework"},{"$f":"masterlist!E116","v":3},{"$f":"masterlist!F116","v":12},{"$f":"masterlist!G116","v":"Is the relevant legislation enforced at the national level?"},{"$f":"masterlist!H116","v":" "},{"$f":"masterlist!I116","v":0},{"$f":"masterlist!J116","v":1},{"$f":"masterlist!K116","v":0}]
["----",{"$f":"masterlist!B117","v":0},{"$f":"masterlist!C117","v":"---"},{"$f":"masterlist!D117","v":0},{"$f":"masterlist!E117","v":0},{"$f":"masterlist!F117","v":0},{"$f":"masterlist!G117","v":0},{"$f":"masterlist!H117","v":0},{"$f":"masterlist!I117","v":0},{"$f":"masterlist!J117","v":""},{"$f":"masterlist!K117","v":""}]
["----",{"$f":"masterlist!B118","v":0},{"$f":"masterlist!C118","v":"---"},{"$f":"masterlist!D118","v":0},{"$f":"masterlist!E118","v":0},{"$f":"masterlist!F118","v":0},{"$f":"masterlist!G118","v":0},{"$f":"masterlist!H118","v":0},{"$f":"masterlist!I118","v":0},{"$f":"masterlist!J118","v":""},{"$f":"masterlist!K118","v":""}]
["----",{"$f":"masterlist!B119","v":0},{"$f":"masterlist!C119","v":"---"},{"$f":"masterlist!D119","v":0},{"$f":"masterlist!E119","v":0},{"$f":"masterlist!F119","v":0},{"$f":"masterlist!G119","v":0},{"$f":"masterlist!H119","v":0},{"$f":"masterlist!I119","v":0},{"$f":"masterlist!J119","v":""},{"$f":"masterlist!K119","v":""}]
["----",{"$f":"masterlist!B120","v":0},{"$f":"masterlist!C120","v":"---"},{"$f":"masterlist!D120","v":0},{"$f":"masterlist!E120","v":0},{"$f":"masterlist!F120","v":0},{"$f":"masterlist!G120","v":0},{"$f":"masterlist!H120","v":0},{"$f":"masterlist!I120","v":0},{"$f":"masterlist!J120","v":""},{"$f":"masterlist!K120","v":""}]
["----",{"$f":"masterlist!B121","v":0},{"$f":"masterlist!C121","v":"---"},{"$f":"masterlist!D121","v":0},{"$f":"masterlist!E121","v":0},{"$f":"masterlist!F121","v":0},{"$f":"masterlist!G121","v":0},{"$f":"masterlist!H121","v":0},{"$f":"masterlist!I121","v":0},{"$f":"masterlist!J121","v":""},{"$f":"masterlist!K121","v":""}]
["----",{"$f":"masterlist!B122","v":0},{"$f":"masterlist!C122","v":"---"},{"$f":"masterlist!D122","v":0},{"$f":"masterlist!E122","v":0},{"$f":"masterlist!F122","v":0},{"$f":"masterlist!G122","v":0},{"$f":"masterlist!H122","v":0},{"$f":"masterlist!I122","v":0},{"$f":"masterlist!J122","v":""},{"$f":"masterlist!K122","v":""}]
["----",{"$f":"masterlist!B123","v":0},{"$f":"masterlist!C123","v":"---"},{"$f":"masterlist!D123","v":0},{"$f":"masterlist!E123","v":0},{"$f":"masterlist!F123","v":0},{"$f":"masterlist!G123","v":0},{"$f":"masterlist!H123","v":0},{"$f":"masterlist!I123","v":0},{"$f":"masterlist!J123","v":""},{"$f":"masterlist!K123","v":""}]
["----",{"$f":"masterlist!B124","v":0},{"$f":"masterlist!C124","v":"---"},{"$f":"masterlist!D124","v":0},{"$f":"masterlist!E124","v":0},{"$f":"masterlist!F124","v":0},{"$f":"masterlist!G124","v":0},{"$f":"masterlist!H124","v":0},{"$f":"masterlist!I124","v":0},{"$f":"masterlist!J124","v":""},{"$f":"masterlist!K124","v":""}]
["----",{"$f":"masterlist!B125","v":0},{"$f":"masterlist!C125","v":"---"},{"$f":"masterlist!D125","v":0},{"$f":"masterlist!E125","v":0},{"$f":"masterlist!F125","v":0},{"$f":"masterlist!G125","v":0},{"$f":"masterlist!H125","v":0},{"$f":"masterlist!I125","v":0},{"$f":"masterlist!J125","v":""},{"$f":"masterlist!K125","v":""}]
["----",{"$f":"masterlist!B126","v":0},{"$f":"masterlist!C126","v":"---"},{"$f":"masterlist!D126","v":0},{"$f":"masterlist!E126","v":0},{"$f":"masterlist!F126","v":0},{"$f":"masterlist!G126","v":0},{"$f":"masterlist!H126","v":0},{"$f":"masterlist!I126","v":0},{"$f":"masterlist!J126","v":""},{"$f":"masterlist!K126","v":""}]
["----",{"$f":"masterlist!B127","v":0},{"$f":"masterlist!C127","v":"---"},{"$f":"masterlist!D127","v":0},{"$f":"masterlist!E127","v":0},{"$f":"masterlist!F127","v":0},{"$f":"masterlist!G127","v":0},{"$f":"masterlist!H127","v":0},{"$f":"masterlist!I127","v":0},{"$f":"masterlist!J127","v":""},{"$f":"masterlist!K127","v":""}]
["----",{"$f":"masterlist!B128","v":0},{"$f":"masterlist!C128","v":"---"},{"$f":"masterlist!D128","v":0},{"$f":"masterlist!E128","v":0},{"$f":"masterlist!F128","v":0},{"$f":"masterlist!G128","v":0},{"$f":"masterlist!H128","v":0},{"$f":"masterlist!I128","v":0},{"$f":"masterlist!J128","v":""},{"$f":"masterlist!K128","v":""}]
["----",{"$f":"masterlist!B129","v":0},{"$f":"masterlist!C129","v":"---"},{"$f":"masterlist!D129","v":0},{"$f":"masterlist!E129","v":0},{"$f":"masterlist!F129","v":0},{"$f":"masterlist!G129","v":0},{"$f":"masterlist!H129","v":0},{"$f":"masterlist!I129","v":0},{"$f":"masterlist!J129","v":""},{"$f":"masterlist!K129","v":""}]
["----",{"$f":"masterlist!B130","v":0},{"$f":"masterlist!C130","v":"---"},{"$f":"masterlist!D130","v":0},{"$f":"masterlist!E130","v":0},{"$f":"masterlist!F130","v":0},{"$f":"masterlist!G130","v":0},{"$f":"masterlist!H130","v":0},{"$f":"masterlist!I130","v":0},{"$f":"masterlist!J130","v":""},{"$f":"masterlist!K130","v":""}]
[{"$f":"C131&\"-\"&J131","v":"----"},{"$f":"masterlist!B131","v":0},{"$f":"masterlist!C131","v":"---"},{"$f":"masterlist!D131","v":0},{"$f":"masterlist!E131","v":0},{"$f":"masterlist!F131","v":0},{"$f":"masterlist!G131","v":0},{"$f":"masterlist!H131","v":0},{"$f":"masterlist!I131","v":0},{"$f":"masterlist!J131","v":""},{"$f":"masterlist!K131","v":""}]
["----",{"$f":"masterlist!B132","v":0},{"$f":"masterlist!C132","v":"---"},{"$f":"masterlist!D132","v":0},{"$f":"masterlist!E132","v":0},{"$f":"masterlist!F132","v":0},{"$f":"masterlist!G132","v":0},{"$f":"masterlist!H132","v":0},{"$f":"masterlist!I132","v":0},{"$f":"masterlist!J132","v":""},{"$f":"masterlist!K132","v":""}]
["----",{"$f":"masterlist!B133","v":0},{"$f":"masterlist!C133","v":"---"},{"$f":"masterlist!D133","v":0},{"$f":"masterlist!E133","v":0},{"$f":"masterlist!F133","v":0},{"$f":"masterlist!G133","v":0},{"$f":"masterlist!H133","v":0},{"$f":"masterlist!I133","v":0},{"$f":"masterlist!J133","v":""},{"$f":"masterlist!K133","v":""}]
["----",{"$f":"masterlist!B134","v":0},{"$f":"masterlist!C134","v":"---"},{"$f":"masterlist!D134","v":0},{"$f":"masterlist!E134","v":0},{"$f":"masterlist!F134","v":0},{"$f":"masterlist!G134","v":0},{"$f":"masterlist!H134","v":0},{"$f":"masterlist!I134","v":0},{"$f":"masterlist!J134","v":""},{"$f":"masterlist!K134","v":""}]
["----",{"$f":"masterlist!B135","v":0},{"$f":"masterlist!C135","v":"---"},{"$f":"masterlist!D135","v":0},{"$f":"masterlist!E135","v":0},{"$f":"masterlist!F135","v":0},{"$f":"masterlist!G135","v":0},{"$f":"masterlist!H135","v":0},{"$f":"masterlist!I135","v":0},{"$f":"masterlist!J135","v":""},{"$f":"masterlist!K135","v":""}]
["----",{"$f":"masterlist!B136","v":0},{"$f":"masterlist!C136","v":"---"},{"$f":"masterlist!D136","v":0},{"$f":"masterlist!E136","v":0},{"$f":"masterlist!F136","v":0},{"$f":"masterlist!G136","v":0},{"$f":"masterlist!H136","v":0},{"$f":"masterlist!I136","v":0},{"$f":"masterlist!J136","v":""},{"$f":"masterlist!K136","v":""}]
["----",{"$f":"masterlist!B137","v":0},{"$f":"masterlist!C137","v":"---"},{"$f":"masterlist!D137","v":0},{"$f":"masterlist!E137","v":0},{"$f":"masterlist!F137","v":0},{"$f":"masterlist!G137","v":0},{"$f":"masterlist!H137","v":0},{"$f":"masterlist!I137","v":0},{"$f":"masterlist!J137","v":""},{"$f":"masterlist!K137","v":""}]
["----",{"$f":"masterlist!B138","v":0},{"$f":"masterlist!C138","v":"---"},{"$f":"masterlist!D138","v":0},{"$f":"masterlist!E138","v":0},{"$f":"masterlist!F138","v":0},{"$f":"masterlist!G138","v":0},{"$f":"masterlist!H138","v":0},{"$f":"masterlist!I138","v":0},{"$f":"masterlist!J138","v":""},{"$f":"masterlist!K138","v":""}]
["----",{"$f":"masterlist!B139","v":0},{"$f":"masterlist!C139","v":"---"},{"$f":"masterlist!D139","v":0},{"$f":"masterlist!E139","v":0},{"$f":"masterlist!F139","v":0},{"$f":"masterlist!G139","v":0},{"$f":"masterlist!H139","v":0},{"$f":"masterlist!I139","v":0},{"$f":"masterlist!J139","v":""},{"$f":"masterlist!K139","v":""}]
["----",{"$f":"masterlist!B140","v":0},{"$f":"masterlist!C140","v":"---"},{"$f":"masterlist!D140","v":0},{"$f":"masterlist!E140","v":0},{"$f":"masterlist!F140","v":0},{"$f":"masterlist!G140","v":0},{"$f":"masterlist!H140","v":0},{"$f":"masterlist!I140","v":0},{"$f":"masterlist!J140","v":""},{"$f":"masterlist!K140","v":""}]
["----",{"$f":"masterlist!B141","v":0},{"$f":"masterlist!C141","v":"---"},{"$f":"masterlist!D141","v":0},{"$f":"masterlist!E141","v":0},{"$f":"masterlist!F141","v":0},{"$f":"masterlist!G141","v":0},{"$f":"masterlist!H141","v":0},{"$f":"masterlist!I141","v":0},{"$f":"masterlist!J141","v":""},{"$f":"masterlist!K141","v":""}]
["----",{"$f":"masterlist!B142","v":0},{"$f":"masterlist!C142","v":"---"},{"$f":"masterlist!D142","v":0},{"$f":"masterlist!E142","v":0},{"$f":"masterlist!F142","v":0},{"$f":"masterlist!G142","v":0},{"$f":"masterlist!H142","v":0},{"$f":"masterlist!I142","v":0},{"$f":"masterlist!J142","v":""},{"$f":"masterlist!K142","v":""}]
["----",{"$f":"masterlist!B143","v":0},{"$f":"masterlist!C143","v":"---"},{"$f":"masterlist!D143","v":0},{"$f":"masterlist!E143","v":0},{"$f":"masterlist!F143","v":0},{"$f":"masterlist!G143","v":0},{"$f":"masterlist!H143","v":0},{"$f":"masterlist!I143","v":0},{"$f":"masterlist!J143","v":""},{"$f":"masterlist!K143","v":""}]
["----",{"$f":"masterlist!B144","v":0},{"$f":"masterlist!C144","v":"---"},{"$f":"masterlist!D144","v":0},{"$f":"masterlist!E144","v":0},{"$f":"masterlist!F144","v":0},{"$f":"masterlist!G144","v":0},{"$f":"masterlist!H144","v":0},{"$f":"masterlist!I144","v":0},{"$f":"masterlist!J144","v":""},{"$f":"masterlist!K144","v":""}]
["----",{"$f":"masterlist!B145","v":0},{"$f":"masterlist!C145","v":"---"},{"$f":"masterlist!D145","v":0},{"$f":"masterlist!E145","v":0},{"$f":"masterlist!F145","v":0},{"$f":"masterlist!G145","v":0},{"$f":"masterlist!H145","v":0},{"$f":"masterlist!I145","v":0},{"$f":"masterlist!J145","v":""},{"$f":"masterlist!K145","v":""}]
["----",{"$f":"masterlist!B146","v":0},{"$f":"masterlist!C146","v":"---"},{"$f":"masterlist!D146","v":0},{"$f":"masterlist!E146","v":0},{"$f":"masterlist!F146","v":0},{"$f":"masterlist!G146","v":0},{"$f":"masterlist!H146","v":0},{"$f":"masterlist!I146","v":0},{"$f":"masterlist!J146","v":""},{"$f":"masterlist!K146","v":""}]
["----",{"$f":"masterlist!B147","v":0},{"$f":"masterlist!C147","v":"---"},{"$f":"masterlist!D147","v":0},{"$f":"masterlist!E147","v":0},{"$f":"masterlist!F147","v":0},{"$f":"masterlist!G147","v":0},{"$f":"masterlist!H147","v":0},{"$f":"masterlist!I147","v":0},{"$f":"masterlist!J147","v":""},{"$f":"masterlist!K147","v":""}]
["----",{"$f":"masterlist!B148","v":0},{"$f":"masterlist!C148","v":"---"},{"$f":"masterlist!D148","v":0},{"$f":"masterlist!E148","v":0},{"$f":"masterlist!F148","v":0},{"$f":"masterlist!G148","v":0},{"$f":"masterlist!H148","v":0},{"$f":"masterlist!I148","v":0},{"$f":"masterlist!J148","v":""},{"$f":"masterlist!K148","v":""}]
["----",{"$f":"masterlist!B149","v":0},{"$f":"masterlist!C149","v":"---"},{"$f":"masterlist!D149","v":0},{"$f":"masterlist!E149","v":0},{"$f":"masterlist!F149","v":0},{"$f":"masterlist!G149","v":0},{"$f":"masterlist!H149","v":0},{"$f":"masterlist!I149","v":0},{"$f":"masterlist!J149","v":""},{"$f":"masterlist!K149","v":""}]
["----",{"$f":"masterlist!B150","v":0},{"$f":"masterlist!C150","v":"---"},{"$f":"masterlist!D150","v":0},{"$f":"masterlist!E150","v":0},{"$f":"masterlist!F150","v":0},{"$f":"masterlist!G150","v":0},{"$f":"masterlist!H150","v":0},{"$f":"masterlist!I150","v":0},{"$f":"masterlist!J150","v":""},{"$f":"masterlist!K150","v":""}]
["----",{"$f":"masterlist!B151","v":0},{"$f":"masterlist!C151","v":"---"},{"$f":"masterlist!D151","v":0},{"$f":"masterlist!E151","v":0},{"$f":"masterlist!F151","v":0},{"$f":"masterlist!G151","v":0},{"$f":"masterlist!H151","v":0},{"$f":"masterlist!I151","v":0},{"$f":"masterlist!J151","v":""},{"$f":"masterlist!K151","v":""}]
["----",{"$f":"masterlist!B152","v":0},{"$f":"masterlist!C152","v":"---"},{"$f":"masterlist!D152","v":0},{"$f":"masterlist!E152","v":0},{"$f":"masterlist!F152","v":0},{"$f":"masterlist!G152","v":0},{"$f":"masterlist!H152","v":0},{"$f":"masterlist!I152","v":0},{"$f":"masterlist!J152","v":""},{"$f":"masterlist!K152","v":""}]
["----",{"$f":"masterlist!B153","v":0},{"$f":"masterlist!C153","v":"---"},{"$f":"masterlist!D153","v":0},{"$f":"masterlist!E153","v":0},{"$f":"masterlist!F153","v":0},{"$f":"masterlist!G153","v":0},{"$f":"masterlist!H153","v":0},{"$f":"masterlist!I153","v":0},{"$f":"masterlist!J153","v":""},{"$f":"masterlist!K153","v":""}]
["----",{"$f":"masterlist!B154","v":0},{"$f":"masterlist!C154","v":"---"},{"$f":"masterlist!D154","v":0},{"$f":"masterlist!E154","v":0},{"$f":"masterlist!F154","v":0},{"$f":"masterlist!G154","v":0},{"$f":"masterlist!H154","v":0},{"$f":"masterlist!I154","v":0},{"$f":"masterlist!J154","v":""},{"$f":"masterlist!K154","v":""}]
["----",{"$f":"masterlist!B155","v":0},{"$f":"masterlist!C155","v":"---"},{"$f":"masterlist!D155","v":0},{"$f":"masterlist!E155","v":0},{"$f":"masterlist!F155","v":0},{"$f":"masterlist!G155","v":0},{"$f":"masterlist!H155","v":0},{"$f":"masterlist!I155","v":0},{"$f":"masterlist!J155","v":""},{"$f":"masterlist!K155","v":""}]
["----",{"$f":"masterlist!B156","v":0},{"$f":"masterlist!C156","v":"---"},{"$f":"masterlist!D156","v":0},{"$f":"masterlist!E156","v":0},{"$f":"masterlist!F156","v":0},{"$f":"masterlist!G156","v":0},{"$f":"masterlist!H156","v":0},{"$f":"masterlist!I156","v":0},{"$f":"masterlist!J156","v":""},{"$f":"masterlist!K156","v":""}]
["----",{"$f":"masterlist!B157","v":0},{"$f":"masterlist!C157","v":"---"},{"$f":"masterlist!D157","v":0},{"$f":"masterlist!E157","v":0},{"$f":"masterlist!F157","v":0},{"$f":"masterlist!G157","v":0},{"$f":"masterlist!H157","v":0},{"$f":"masterlist!I157","v":0},{"$f":"masterlist!J157","v":""},{"$f":"masterlist!K157","v":""}]
["----",{"$f":"masterlist!B158","v":0},{"$f":"masterlist!C158","v":"---"},{"$f":"masterlist!D158","v":0},{"$f":"masterlist!E158","v":0},{"$f":"masterlist!F158","v":0},{"$f":"masterlist!G158","v":0},{"$f":"masterlist!H158","v":0},{"$f":"masterlist!I158","v":0},{"$f":"masterlist!J158","v":""},{"$f":"masterlist!K158","v":""}]
["----",{"$f":"masterlist!B159","v":0},{"$f":"masterlist!C159","v":"---"},{"$f":"masterlist!D159","v":0},{"$f":"masterlist!E159","v":0},{"$f":"masterlist!F159","v":0},{"$f":"masterlist!G159","v":0},{"$f":"masterlist!H159","v":0},{"$f":"masterlist!I159","v":0},{"$f":"masterlist!J159","v":""},{"$f":"masterlist!K159","v":""}]
["----",{"$f":"masterlist!B160","v":0},{"$f":"masterlist!C160","v":"---"},{"$f":"masterlist!D160","v":0},{"$f":"masterlist!E160","v":0},{"$f":"masterlist!F160","v":0},{"$f":"masterlist!G160","v":0},{"$f":"masterlist!H160","v":0},{"$f":"masterlist!I160","v":0},{"$f":"masterlist!J160","v":""},{"$f":"masterlist!K160","v":""}]
["----",{"$f":"masterlist!B161","v":0},{"$f":"masterlist!C161","v":"---"},{"$f":"masterlist!D161","v":0},{"$f":"masterlist!E161","v":0},{"$f":"masterlist!F161","v":0},{"$f":"masterlist!G161","v":0},{"$f":"masterlist!H161","v":0},{"$f":"masterlist!I161","v":0},{"$f":"masterlist!J161","v":""},{"$f":"masterlist!K161","v":""}]
["----",{"$f":"masterlist!B162","v":0},{"$f":"masterlist!C162","v":"---"},{"$f":"masterlist!D162","v":0},{"$f":"masterlist!E162","v":0},{"$f":"masterlist!F162","v":0},{"$f":"masterlist!G162","v":0},{"$f":"masterlist!H162","v":0},{"$f":"masterlist!I162","v":0},{"$f":"masterlist!J162","v":""},{"$f":"masterlist!K162","v":""}]
["----",{"$f":"masterlist!B163","v":0},{"$f":"masterlist!C163","v":"---"},{"$f":"masterlist!D163","v":0},{"$f":"masterlist!E163","v":0},{"$f":"masterlist!F163","v":0},{"$f":"masterlist!G163","v":0},{"$f":"masterlist!H163","v":0},{"$f":"masterlist!I163","v":0},{"$f":"masterlist!J163","v":""},{"$f":"masterlist!K163","v":""}]
["----",{"$f":"masterlist!B164","v":0},{"$f":"masterlist!C164","v":"---"},{"$f":"masterlist!D164","v":0},{"$f":"masterlist!E164","v":0},{"$f":"masterlist!F164","v":0},{"$f":"masterlist!G164","v":0},{"$f":"masterlist!H164","v":0},{"$f":"masterlist!I164","v":0},{"$f":"masterlist!J164","v":""},{"$f":"masterlist!K164","v":""}]
["----",{"$f":"masterlist!B165","v":0},{"$f":"masterlist!C165","v":"---"},{"$f":"masterlist!D165","v":0},{"$f":"masterlist!E165","v":0},{"$f":"masterlist!F165","v":0},{"$f":"masterlist!G165","v":0},{"$f":"masterlist!H165","v":0},{"$f":"masterlist!I165","v":0},{"$f":"masterlist!J165","v":""},{"$f":"masterlist!K165","v":""}]
["----",{"$f":"masterlist!B166","v":0},{"$f":"masterlist!C166","v":"---"},{"$f":"masterlist!D166","v":0},{"$f":"masterlist!E166","v":0},{"$f":"masterlist!F166","v":0},{"$f":"masterlist!G166","v":0},{"$f":"masterlist!H166","v":0},{"$f":"masterlist!I166","v":0},{"$f":"masterlist!J166","v":""},{"$f":"masterlist!K166","v":""}]
["----",{"$f":"masterlist!B167","v":0},{"$f":"masterlist!C167","v":"---"},{"$f":"masterlist!D167","v":0},{"$f":"masterlist!E167","v":0},{"$f":"masterlist!F167","v":0},{"$f":"masterlist!G167","v":0},{"$f":"masterlist!H167","v":0},{"$f":"masterlist!I167","v":0},{"$f":"masterlist!J167","v":""},{"$f":"masterlist!K167","v":""}]
["----",{"$f":"masterlist!B168","v":0},{"$f":"masterlist!C168","v":"---"},{"$f":"masterlist!D168","v":0},{"$f":"masterlist!E168","v":0},{"$f":"masterlist!F168","v":0},{"$f":"masterlist!G168","v":0},{"$f":"masterlist!H168","v":0},{"$f":"masterlist!I168","v":0},{"$f":"masterlist!J168","v":""},{"$f":"masterlist!K168","v":""}]
["----",{"$f":"masterlist!B169","v":0},{"$f":"masterlist!C169","v":"---"},{"$f":"masterlist!D169","v":0},{"$f":"masterlist!E169","v":0},{"$f":"masterlist!F169","v":0},{"$f":"masterlist!G169","v":0},{"$f":"masterlist!H169","v":0},{"$f":"masterlist!I169","v":0},{"$f":"masterlist!J169","v":""},{"$f":"masterlist!K169","v":""}]
["----",{"$f":"masterlist!B170","v":0},{"$f":"masterlist!C170","v":"---"},{"$f":"masterlist!D170","v":0},{"$f":"masterlist!E170","v":0},{"$f":"masterlist!F170","v":0},{"$f":"masterlist!G170","v":0},{"$f":"masterlist!H170","v":0},{"$f":"masterlist!I170","v":0},{"$f":"masterlist!J170","v":""},{"$f":"masterlist!K170","v":""}]
["----",{"$f":"masterlist!B171","v":0},{"$f":"masterlist!C171","v":"---"},{"$f":"masterlist!D171","v":0},{"$f":"masterlist!E171","v":0},{"$f":"masterlist!F171","v":0},{"$f":"masterlist!G171","v":0},{"$f":"masterlist!H171","v":0},{"$f":"masterlist!I171","v":0},{"$f":"masterlist!J171","v":""},{"$f":"masterlist!K171","v":""}]
["----",{"$f":"masterlist!B172","v":0},{"$f":"masterlist!C172","v":"---"},{"$f":"masterlist!D172","v":0},{"$f":"masterlist!E172","v":0},{"$f":"masterlist!F172","v":0},{"$f":"masterlist!G172","v":0},{"$f":"masterlist!H172","v":0},{"$f":"masterlist!I172","v":0},{"$f":"masterlist!J172","v":""},{"$f":"masterlist!K172","v":""}]
["----",{"$f":"masterlist!B173","v":0},{"$f":"masterlist!C173","v":"---"},{"$f":"masterlist!D173","v":0},{"$f":"masterlist!E173","v":0},{"$f":"masterlist!F173","v":0},{"$f":"masterlist!G173","v":0},{"$f":"masterlist!H173","v":0},{"$f":"masterlist!I173","v":0},{"$f":"masterlist!J173","v":""},{"$f":"masterlist!K173","v":""}]
["----",{"$f":"masterlist!B174","v":0},{"$f":"masterlist!C174","v":"---"},{"$f":"masterlist!D174","v":0},{"$f":"masterlist!E174","v":0},{"$f":"masterlist!F174","v":0},{"$f":"masterlist!G174","v":0},{"$f":"masterlist!H174","v":0},{"$f":"masterlist!I174","v":0},{"$f":"masterlist!J174","v":""},{"$f":"masterlist!K174","v":""}]
["----",{"$f":"masterlist!B175","v":0},{"$f":"masterlist!C175","v":"---"},{"$f":"masterlist!D175","v":0},{"$f":"masterlist!E175","v":0},{"$f":"masterlist!F175","v":0},{"$f":"masterlist!G175","v":0},{"$f":"masterlist!H175","v":0},{"$f":"masterlist!I175","v":0},{"$f":"masterlist!J175","v":""},{"$f":"masterlist!K175","v":""}]
["----",{"$f":"masterlist!B176","v":0},{"$f":"masterlist!C176","v":"---"},{"$f":"masterlist!D176","v":0},{"$f":"masterlist!E176","v":0},{"$f":"masterlist!F176","v":0},{"$f":"masterlist!G176","v":0},{"$f":"masterlist!H176","v":0},{"$f":"masterlist!I176","v":0},{"$f":"masterlist!J176","v":""},{"$f":"masterlist!K176","v":""}]
["----",{"$f":"masterlist!B177","v":0},{"$f":"masterlist!C177","v":"---"},{"$f":"masterlist!D177","v":0},{"$f":"masterlist!E177","v":0},{"$f":"masterlist!F177","v":0},{"$f":"masterlist!G177","v":0},{"$f":"masterlist!H177","v":0},{"$f":"masterlist!I177","v":0},{"$f":"masterlist!J177","v":""},{"$f":"masterlist!K177","v":""}]
["----",{"$f":"masterlist!B178","v":0},{"$f":"masterlist!C178","v":"---"},{"$f":"masterlist!D178","v":0},{"$f":"masterlist!E178","v":0},{"$f":"masterlist!F178","v":0},{"$f":"masterlist!G178","v":0},{"$f":"masterlist!H178","v":0},{"$f":"masterlist!I178","v":0},{"$f":"masterlist!J178","v":""},{"$f":"masterlist!K178","v":""}]
["----",{"$f":"masterlist!B179","v":0},{"$f":"masterlist!C179","v":"---"},{"$f":"masterlist!D179","v":0},{"$f":"masterlist!E179","v":0},{"$f":"masterlist!F179","v":0},{"$f":"masterlist!G179","v":0},{"$f":"masterlist!H179","v":0},{"$f":"masterlist!I179","v":0},{"$f":"masterlist!J179","v":""},{"$f":"masterlist!K179","v":""}]
["----",{"$f":"masterlist!B180","v":0},{"$f":"masterlist!C180","v":"---"},{"$f":"masterlist!D180","v":0},{"$f":"masterlist!E180","v":0},{"$f":"masterlist!F180","v":0},{"$f":"masterlist!G180","v":0},{"$f":"masterlist!H180","v":0},{"$f":"masterlist!I180","v":0},{"$f":"masterlist!J180","v":""},{"$f":"masterlist!K180","v":""}]
["----",{"$f":"masterlist!B181","v":0},{"$f":"masterlist!C181","v":"---"},{"$f":"masterlist!D181","v":0},{"$f":"masterlist!E181","v":0},{"$f":"masterlist!F181","v":0},{"$f":"masterlist!G181","v":0},{"$f":"masterlist!H181","v":0},{"$f":"masterlist!I181","v":0},{"$f":"masterlist!J181","v":""},{"$f":"masterlist!K181","v":""}]
["----",{"$f":"masterlist!B182","v":0},{"$f":"masterlist!C182","v":"---"},{"$f":"masterlist!D182","v":0},{"$f":"masterlist!E182","v":0},{"$f":"masterlist!F182","v":0},{"$f":"masterlist!G182","v":0},{"$f":"masterlist!H182","v":0},{"$f":"masterlist!I182","v":0},{"$f":"masterlist!J182","v":""},{"$f":"masterlist!K182","v":""}]
["----",{"$f":"masterlist!B183","v":0},{"$f":"masterlist!C183","v":"---"},{"$f":"masterlist!D183","v":0},{"$f":"masterlist!E183","v":0},{"$f":"masterlist!F183","v":0},{"$f":"masterlist!G183","v":0},{"$f":"masterlist!H183","v":0},{"$f":"masterlist!I183","v":0},{"$f":"masterlist!J183","v":""},{"$f":"masterlist!K183","v":""}]
["----",{"$f":"masterlist!B184","v":0},{"$f":"masterlist!C184","v":"---"},{"$f":"masterlist!D184","v":0},{"$f":"masterlist!E184","v":0},{"$f":"masterlist!F184","v":0},{"$f":"masterlist!G184","v":0},{"$f":"masterlist!H184","v":0},{"$f":"masterlist!I184","v":0},{"$f":"masterlist!J184","v":""},{"$f":"masterlist!K184","v":""}]
["----",{"$f":"masterlist!B185","v":0},{"$f":"masterlist!C185","v":"---"},{"$f":"masterlist!D185","v":0},{"$f":"masterlist!E185","v":0},{"$f":"masterlist!F185","v":0},{"$f":"masterlist!G185","v":0},{"$f":"masterlist!H185","v":0},{"$f":"masterlist!I185","v":0},{"$f":"masterlist!J185","v":""},{"$f":"masterlist!K185","v":""}]
["----",{"$f":"masterlist!B186","v":0},{"$f":"masterlist!C186","v":"---"},{"$f":"masterlist!D186","v":0},{"$f":"masterlist!E186","v":0},{"$f":"masterlist!F186","v":0},{"$f":"masterlist!G186","v":0},{"$f":"masterlist!H186","v":0},{"$f":"masterlist!I186","v":0},{"$f":"masterlist!J186","v":""},{"$f":"masterlist!K186","v":""}]
["----",{"$f":"masterlist!B187","v":0},{"$f":"masterlist!C187","v":"---"},{"$f":"masterlist!D187","v":0},{"$f":"masterlist!E187","v":0},{"$f":"masterlist!F187","v":0},{"$f":"masterlist!G187","v":0},{"$f":"masterlist!H187","v":0},{"$f":"masterlist!I187","v":0},{"$f":"masterlist!J187","v":""},{"$f":"masterlist!K187","v":""}]
["----",{"$f":"masterlist!B188","v":0},{"$f":"masterlist!C188","v":"---"},{"$f":"masterlist!D188","v":0},{"$f":"masterlist!E188","v":0},{"$f":"masterlist!F188","v":0},{"$f":"masterlist!G188","v":0},{"$f":"masterlist!H188","v":0},{"$f":"masterlist!I188","v":0},{"$f":"masterlist!J188","v":""},{"$f":"masterlist!K188","v":""}]
["----",{"$f":"masterlist!B189","v":0},{"$f":"masterlist!C189","v":"---"},{"$f":"masterlist!D189","v":0},{"$f":"masterlist!E189","v":0},{"$f":"masterlist!F189","v":0},{"$f":"masterlist!G189","v":0},{"$f":"masterlist!H189","v":0},{"$f":"masterlist!I189","v":0},{"$f":"masterlist!J189","v":""},{"$f":"masterlist!K189","v":""}]
["----",{"$f":"masterlist!B190","v":0},{"$f":"masterlist!C190","v":"---"},{"$f":"masterlist!D190","v":0},{"$f":"masterlist!E190","v":0},{"$f":"masterlist!F190","v":0},{"$f":"masterlist!G190","v":0},{"$f":"masterlist!H190","v":0},{"$f":"masterlist!I190","v":0},{"$f":"masterlist!J190","v":""},{"$f":"masterlist!K190","v":""}]
["----",{"$f":"masterlist!B191","v":0},{"$f":"masterlist!C191","v":"---"},{"$f":"masterlist!D191","v":0},{"$f":"masterlist!E191","v":0},{"$f":"masterlist!F191","v":0},{"$f":"masterlist!G191","v":0},{"$f":"masterlist!H191","v":0},{"$f":"masterlist!I191","v":0},{"$f":"masterlist!J191","v":""},{"$f":"masterlist!K191","v":""}]
["----",{"$f":"masterlist!B192","v":0},{"$f":"masterlist!C192","v":"---"},{"$f":"masterlist!D192","v":0},{"$f":"masterlist!E192","v":0},{"$f":"masterlist!F192","v":0},{"$f":"masterlist!G192","v":0},{"$f":"masterlist!H192","v":0},{"$f":"masterlist!I192","v":0},{"$f":"masterlist!J192","v":""},{"$f":"masterlist!K192","v":""}]
["----",{"$f":"masterlist!B193","v":0},{"$f":"masterlist!C193","v":"---"},{"$f":"masterlist!D193","v":0},{"$f":"masterlist!E193","v":0},{"$f":"masterlist!F193","v":0},{"$f":"masterlist!G193","v":0},{"$f":"masterlist!H193","v":0},{"$f":"masterlist!I193","v":0},{"$f":"masterlist!J193","v":""},{"$f":"masterlist!K193","v":""}]
["----",{"$f":"masterlist!B194","v":0},{"$f":"masterlist!C194","v":"---"},{"$f":"masterlist!D194","v":0},{"$f":"masterlist!E194","v":0},{"$f":"masterlist!F194","v":0},{"$f":"masterlist!G194","v":0},{"$f":"masterlist!H194","v":0},{"$f":"masterlist!I194","v":0},{"$f":"masterlist!J194","v":""},{"$f":"masterlist!K194","v":""}]
[{"$f":"C195&\"-\"&J195","v":"----"},{"$f":"masterlist!B195","v":0},{"$f":"masterlist!C195","v":"---"},{"$f":"masterlist!D195","v":0},{"$f":"masterlist!E195","v":0},{"$f":"masterlist!F195","v":0},{"$f":"masterlist!G195","v":0},{"$f":"masterlist!H195","v":0},{"$f":"masterlist!I195","v":0},{"$f":"masterlist!J195","v":""},{"$f":"masterlist!K195","v":""}]
["----",{"$f":"masterlist!B196","v":0},{"$f":"masterlist!C196","v":"---"},{"$f":"masterlist!D196","v":0},{"$f":"masterlist!E196","v":0},{"$f":"masterlist!F196","v":0},{"$f":"masterlist!G196","v":0},{"$f":"masterlist!H196","v":0},{"$f":"masterlist!I196","v":0},{"$f":"masterlist!J196","v":""},{"$f":"masterlist!K196","v":""}]
["----",{"$f":"masterlist!B197","v":0},{"$f":"masterlist!C197","v":"---"},{"$f":"masterlist!D197","v":0},{"$f":"masterlist!E197","v":0},{"$f":"masterlist!F197","v":0},{"$f":"masterlist!G197","v":0},{"$f":"masterlist!H197","v":0},{"$f":"masterlist!I197","v":0},{"$f":"masterlist!J197","v":""},{"$f":"masterlist!K197","v":""}]
["----",{"$f":"masterlist!B198","v":0},{"$f":"masterlist!C198","v":"---"},{"$f":"masterlist!D198","v":0},{"$f":"masterlist!E198","v":0},{"$f":"masterlist!F198","v":0},{"$f":"masterlist!G198","v":0},{"$f":"masterlist!H198","v":0},{"$f":"masterlist!I198","v":0},{"$f":"masterlist!J198","v":""},{"$f":"masterlist!K198","v":""}]
["----",{"$f":"masterlist!B199","v":0},{"$f":"masterlist!C199","v":"---"},{"$f":"masterlist!D199","v":0},{"$f":"masterlist!E199","v":0},{"$f":"masterlist!F199","v":0},{"$f":"masterlist!G199","v":0},{"$f":"masterlist!H199","v":0},{"$f":"masterlist!I199","v":0},{"$f":"masterlist!J199","v":""},{"$f":"masterlist!K199","v":""}]
["----",{"$f":"masterlist!B200","v":0},{"$f":"masterlist!C200","v":"---"},{"$f":"masterlist!D200","v":0},{"$f":"masterlist!E200","v":0},{"$f":"masterlist!F200","v":0},{"$f":"masterlist!G200","v":0},{"$f":"masterlist!H200","v":0},{"$f":"masterlist!I200","v":0},{"$f":"masterlist!J200","v":""},{"$f":"masterlist!K200","v":""}]

{"sheet":"SUMMARY (Score)","index":14,"n_rows":21,"n_cols":17,"rows_kept":21,"cut":false,"hidden":true,"merged":[[4,0,4,2],[4,4,4,9],[5,0,6,0],[5,1,6,1],[5,2,6,2],[5,4,6,5],[5,6,6,6],[5,7,6,7],[5,9,6,9],[6,16,6,18],[7,0,8,0],[7,5,8,5],[7,8,8,8],[8,16,8,18],[19,0,20,0],[13,0,14,0],[13,5,14,5],[13,8,14,8],[14,13,14,21],[15,0,16,0],[15,5,16,5],[15,8,16,8],[16,12,16,22],[0,0,0,25],[2,0,2,25],[17,0,18,0],[17,4,18,4],[17,5,18,5],[17,8,18,8],[17,9,18,9],[9,0,10,0],[9,5,10,5],[9,8,10,8],[10,15,10,19],[11,0,12,0],[11,5,12,5],[11,8,12,8],[12,14,12,20],[5,8,6,8]]}
[{"$f":"\"Stepwise Approach Towards Rabies Elimination\"&IF(ISBLANK('Country profile'!E3),\"\",\"   -  \")&'Country profile'!E3&IF(ISBLANK('Country profile'!K8),IF(ISBLANK('Country profile'!K13),\"\",\" - \"&'Country profile'!K13),\" - \"&'Country profile'!K8)","v":"Stepwise Approach Towards Rabies Elimination   -  Swaziland - 2018"}]
[]
[{"$f":"CONCATENATE(\"STAGE   \",((INDEX(E8:E20,MATCH(\"PENDING\",J8:J20,0)))))","v":"STAGE   2,5"}]
[]
["ACTIVITY SUMMARY",null,null,null,"STAGE SUMMARY"]
["COMPONENTS","PENDING ACTIVITIES","ACCOMPLISHED ACTIVITIES",null,"STAGE*",null,"PENDING ACTIVITIES","ACCOMPLISHED ACTIVITIES","CRITICAL ACTIVITIES ACCOMPLISHED","STAGE COMPLETED?"]
[null,null,null,null,null,null,null,null,null,null,null,null,null,null,null,{"$f":"INT((H18/(G18+H18))*100)&\"%\"","v":"11%"},{"$f":"H18","v":1}]
["Data collection and analysis\n    Total number of activities = 22",{"$f":"(COUNTIF(masterlist!B:B,\"DCA\"))-C8","v":5},{"$f":"SUM('Data coll & an'!F:F)","v":17},null,0,"Total number of activities= 8",{"$f":"(COUNTIF(masterlist!E:E,0))-H8","v":0},{"$f":"SUMIF(masterlist!E:E,0,masterlist!J:J)","v":8},{"$f":"COUNTIFS(masterlist!E:E,0,masterlist!I:I,\"KEY\",masterlist!J:J,1)","v":3},{"$f":"IF(I8>=2,\"COMPLETED\",IF(AND(I8>=1,H8>3),\"COMPLETED\",\"PENDING\"))","v":"COMPLETED"}]
[null,{"$f":"REPT(\"I\",B8)","v":"IIIII"},{"$f":"REPT(\"I\",C8)","v":"IIIIIIIIIIIIIIIII"},null,0.5,null,{"$f":"REPT(\"I\",G8)","v":""},{"$f":"REPT(\"I\",H8)","v":"IIIIIIII"},null,{"$f":"IF(I8=3,\"COMPLETED\",\"PENDING\")","v":"COMPLETED"},null,null,null,null,null,{"$f":"INT((H16/(G16+H16))*100)&\"%\"","v":"60%"},{"$f":"H16","v":6}]
["Prevention and Control\n    Total number of activities = 26",{"$f":"(COUNTIF(masterlist!B:B,\"PCO\"))-C10","v":9},{"$f":"SUM('Prev & Ctrl'!F:F)","v":17},null,1,"Total number of activities= 42",{"$f":"(COUNTIF(masterlist!E:E,1))-H10","v":13},{"$f":"SUMIF(masterlist!E:E,1,masterlist!J:J)","v":29},{"$f":"COUNTIFS(masterlist!E:E,1,masterlist!I:I,\"KEY\",masterlist!J:J,1)","v":10},{"$f":"IF(I10>4,\"COMPLETED\",IF(AND(I10>=1,H10>21),\"COMPLETED\",\"PENDING\"))","v":"COMPLETED"}]
[null,{"$f":"REPT(\"I\",B10)","v":"IIIIIIIII"},{"$f":"REPT(\"I\",C10)","v":"IIIIIIIIIIIIIIIII"},null,1.5,null,{"$f":"REPT(\"I\",G10)","v":"IIIIIIIIIIIII"},{"$f":"REPT(\"I\",H10)","v":"IIIIIIIIIIIIIIIIIIIIIIIIIIIII"},null,{"$f":"IF(I10=10,\"COMPLETED\",\"PENDING\")","v":"COMPLETED"},null,null,null,null,{"$f":"INT((H14/(G14+H14))*100)&\"%\"","v":"52%"},{"$f":"H14","v":10}]
["Laboratory diagnosis\n    Total number of activities = 13",{"$f":"(COUNTIF(masterlist!B:B,\"LAB\"))-C12","v":1},{"$f":"SUM('Lab dx'!F:F)","v":12},null,2,"Total number of activities= 27",{"$f":"(COUNTIF(masterlist!E:E,2))-H12","v":10},{"$f":"SUMIF(masterlist!E:E,2,masterlist!J:J)","v":17},{"$f":"COUNTIFS(masterlist!E:E,2,masterlist!I:I,\"KEY\",masterlist!J:J,1)","v":5},{"$f":"IF(I12>=4,\"COMPLETED\",IF(AND(I12>=1,H12>13),\"COMPLETED\",\"PENDING\"))","v":"COMPLETED"}]
[null,{"$f":"REPT(\"I\",B12)","v":"I"},{"$f":"REPT(\"I\",C12)","v":"IIIIIIIIIIII"},null,2.5,null,{"$f":"REPT(\"I\",G12)","v":"IIIIIIIIII"},{"$f":"REPT(\"I\",H12)","v":"IIIIIIIIIIIIIIIII"},null,{"$f":"IF(I12=7,\"COMPLETED\",\"PENDING\")","v":"PENDING"},null,null,null,{"$f":"INT((H12/(G12+H12))*100)&\"%\"","v":"62%"},{"$f":"H12","v":17}]
["Dog population related issues\n    Total number of activities = 12",{"$f":"(COUNTIF(masterlist!B:B,\"DPM\"))-C14","v":6},{"$f":"SUM('Dog popn'!F:F)","v":6},null,3,"Total number of activities= 19",{"$f":"(COUNTIF(masterlist!E:E,3))-H14","v":9},{"$f":"SUMIF(masterlist!E:E,3,masterlist!J:J)","v":10},{"$f":"COUNTIFS(masterlist!E:E,3,masterlist!I:I,\"KEY\",masterlist!J:J,1)","v":4},{"$f":"IF(I14>4,\"COMPLETED\",IF(AND(I14>=1,H14>10),\"COMPLETED\",\"PENDING\"))","v":"PENDING"}]
[null,{"$f":"REPT(\"I\",B14)","v":"IIIIII"},{"$f":"REPT(\"I\",C14)","v":"IIIIII"},null,3.5,null,{"$f":"REPT(\"I\",G14)","v":"IIIIIIIII"},{"$f":"REPT(\"I\",H14)","v":"IIIIIIIIII"},null,{"$f":"IF(I14=10,\"COMPLETED\",\"PENDING\")","v":"PENDING"},null,null,{"$f":"INT((H10/(G10+H10))*100)&\"%\"","v":"69%"},{"$f":"H10","v":29}]
["Information, Education, Communication\n    Total number of activities = 19",{"$f":"(COUNTIF(masterlist!B:B,\"IEC\"))-C16","v":13},{"$f":"SUM(IEC!F:F)","v":6},null,4,"Total number of activities= 10",{"$f":"(COUNTIF(masterlist!E:E,4))-H16","v":4},{"$f":"SUMIF(masterlist!E:E,4,masterlist!J:J)","v":6},{"$f":"COUNTIFS(masterlist!E:E,4,masterlist!I:I,\"KEY\",masterlist!J:J,1)","v":3},{"$f":"IF(I16>4,\"COMPLETED\",IF(AND(I16>=1,H16>5),\"COMPLETED\",\"PENDING\"))","v":"COMPLETED"}]
[null,{"$f":"REPT(\"I\",B16)","v":"IIIIIIIIIIIII"},{"$f":"REPT(\"I\",C16)","v":"IIIIII"},null,4.5,null,{"$f":"REPT(\"I\",G16)","v":"IIII"},{"$f":"REPT(\"I\",H16)","v":"IIIIII"},null,{"$f":"IF(I16=6,\"COMPLETED\",\"PENDING\")","v":"PENDING"},null,{"$f":"INT((H8/(G8+H8))*100)&\"%\"","v":"100%"},{"$f":"H8","v":8}]
["Cross-cutting issues\n     Total number of activities = 11",{"$f":"(COUNTIF(masterlist!B:B,\"CCI\"))-C18","v":6},{"$f":"SUM('Cross-cutting issues'!F:F)","v":5},null,5,"Total number of activities= 9",{"$f":"(COUNTIF(masterlist!E:E,5))-H18","v":8},{"$f":"SUMIF(masterlist!E:E,5,masterlist!J:J)","v":1},{"$f":"COUNTIFS(masterlist!E:E,5,masterlist!I:I,\"KEY\",masterlist!J:J,1)","v":1},{"$f":"IF(I18=9,\"COMPLETED\",\"PENDING\")","v":"PENDING"}]
[null,{"$f":"REPT(\"I\",B18)","v":"IIIIII"},{"$f":"REPT(\"I\",C18)","v":"IIIII"},null,null,null,{"$f":"REPT(\"I\",G18)","v":"IIIIIIII"},{"$f":"REPT(\"I\",H18)","v":"I"}]
["Legislation\n    Total number of activities = 12",{"$f":"(COUNTIF(masterlist!B:B,\"LEG\"))-C20","v":4},{"$f":"SUM(Legislation!F:F)","v":8},null,5,null,null,null,null,"PENDING"]
[null,{"$f":"REPT(\"I\",B20)","v":"IIII"},{"$f":"REPT(\"I\",C20)","v":"IIIIIIII"},null,"* Scores in increments of 0.5 show progress along a particular stage. "]

{"sheet":"SUMMARY (S0-S5)","index":15,"n_rows":43,"n_cols":28,"rows_kept":43,"cut":false,"hidden":true,"merged":[[3,14,3,15],[3,18,3,19],[3,22,3,23],[3,26,3,27],[0,10,1,13],[0,14,1,14],[3,0,4,0],[3,2,3,3],[3,6,3,7],[3,10,3,11],[0,0,0,7],[1,0,1,7]]}
["Stepwise Approach towards Rabies Elimination",null,null,null,null,null,null,null,null,null,{"$f":"IF(ISBLANK('Country profile'!E3),\"\",UPPER('Country profile'!E3))","v":"SWAZILAND"},null,null,null,{"$f":"IF(ISBLANK('Country profile'!K8),IF(ISBLANK('Country profile'!K13),\"\",'Country profile'!K13),'Country profile'!K8)","v":2018}]
["SUMMARY OF RABIES PROGRAM ACTIVITIES"]
[]
["STAGE",null,"DATA COLLECTION & ANALYSIS",null,null,null,"PREVENTION & CONTROL",null,null,null,"LABORATORY DIAGNOSIS",null,null,null,"DOG POPULATION RELATED ISSUES",null,null,null,"INFORMATION, EDUCATION, COMMUNICATION",null,null,null,"CROSS-CUTTING ISSUES",null,null,null,"LEGISLATION"]
[null,null,"Pending","Accomplished",null,null,"Pending","Accomplished",null,null,"Pending","Accomplished",null,null,"Pending","Accomplished",null,null,"Pending","Accomplished",null,null,"Pending","Accomplished",null,null,"Pending","Accomplished"]
[0,{"$f":"IF(ROWS(B$6:B6)<=$A$7,INDEX(masterlist!$C$2:$C$200,SMALL(IF(masterlist!$B$2:$B$200=\"DCA\",IF(masterlist!$E$2:$E$200=0,ROW(masterlist!$B$2:$B$200)-ROW(masterlist!$B$2)+1)),ROWS(B$6:B6))),\"\")","v":"DCA-Sur-0-1"},{"$f":"IFERROR(VLOOKUP(B6&\"-0\",'linked mastersheet'!$A$2:$K$200,7,FALSE),\"\")","v":""},{"$f":"IFERROR(VLOOKUP(B6&\"-1\",'linked mastersheet'!$A$2:$K$200,7,FALSE),\"\")","v":"Does the national authority report at least one confirmed rabies case to the WHO, OIE or PARACON?"},null,{"$f":"IF(ROWS(B$6:B6)<=$E$7,INDEX(masterlist!$C$2:$C$200,SMALL(IF(masterlist!$B$2:$B$200=\"PCO\",IF(masterlist!$E$2:$E$200=0,ROW(masterlist!$B$2:$B$200)-ROW(masterlist!$B$2)+1)),ROWS(B$6:B6))),\"\")","v":""},{"$f":"IFERROR(VLOOKUP(F6&\"-0\",'linked mastersheet'!$A$2:$K$200,7,FALSE),\"\")","v":""},{"$f":"IFERROR(VLOOKUP(F6&\"-1\",'linked mastersheet'!$A$2:$K$200,7,FALSE),\"\")","v":""},null,{"$f":"IF(ROWS(B$6:B6)<=$I$7,INDEX(masterlist!$C$2:$C$200,SMALL(IF(masterlist!$B$2:$B$200=\"LAB\",IF(masterlist!$E$2:$E$200=0,ROW(masterlist!$B$2:$B$200)-ROW(masterlist!$B$2)+1)),ROWS(B$6:B6))),\"\")","v":"LAB-Spe-0-1"},{"$f":"IFERROR(VLOOKUP(J6&\"-0\",'linked mastersheet'!$A$2:$K$200,7,FALSE),\"\")","v":""},{"$f":"IFERROR(VLOOKUP(J6&\"-1\",'linked mastersheet'!$A$2:$K$200,7,FALSE),\"\")","v":"Have contacts with an international rabies reference laboratory or international collaborating/reference center been established?"},null,{"$f":"IF(ROWS(B$6:B6)<=$M$7,INDEX(masterlist!$C$2:$C$200,SMALL(IF(masterlist!$B$2:$B$200=\"DPM\",IF(masterlist!$E$2:$E$200=0,ROW(masterlist!$B$2:$B$200)-ROW(masterlist!$B$2)+1)),ROWS(B$6:B6))),\"\")","v":""},{"$f":"IFERROR(VLOOKUP(N6&\"-0\",'linked mastersheet'!$A$2:$K$200,7,FALSE),\"\")","v":""},{"$f":"IFERROR(VLOOKUP(N6&\"-1\",'linked mastersheet'!$A$2:$K$200,7,FALSE),\"\")","v":""},null,{"$f":"IF(ROWS(B$6:B6)<=Q$7,INDEX(masterlist!$C$2:$C$200,SMALL(IF(masterlist!$B$2:$B$200=\"DCA\",IF(masterlist!$E$2:$E$200=0,ROW(masterlist!$B$2:$B$200)-ROW(masterlist!$B$2)+1)),ROWS(B$6:B6))),\"\")","v":"DCA-Sur-0-1"},{"$f":"IFERROR(VLOOKUP(R6&\"-0\",'linked mastersheet'!$A$2:$K$200,7,FALSE),\"\")","v":""},{"$f":"IFERROR(VLOOKUP(R6&\"-1\",'linked mastersheet'!$A$2:$K$200,7,FALSE),\"\")","v":"Does the national authority report at least one confirmed rabies case to the WHO, OIE or PARACON?"},null,{"$f":"IF(ROWS(B$6:B6)<=$U$7,INDEX(masterlist!$C$2:$C$200,SMALL(IF(masterlist!$B$2:$B$200=\"CCI\",IF(masterlist!$E$2:$E$200=0,ROW(masterlist!$B$2:$B$200)-ROW(masterlist!$B$2)+1)),ROWS(B$6:B6))),\"\")","v":"CCI-Int-0-1"},{"$f":"IFERROR(VLOOKUP(V6&\"-0\",'linked mastersheet'!$A$2:$K$200,7,FALSE),\"\")","v":""},{"$f":"IFERROR(VLOOKUP(V6&\"-1\",'linked mastersheet'!$A$2:$K$200,7,FALSE),\"\")","v":"Are the results of rabies sample(s) shared with local and national authorities? "},null,{"$f":"IF(ROWS(B$6:B6)<=$Y$7,INDEX(masterlist!$C$2:$C$200,SMALL(IF(masterlist!$B$2:$B$200=\"LEG\",IF(masterlist!$E$2:$E$200=0,ROW(masterlist!$B$2:$B$200)-ROW(masterlist!$B$2)+1)),ROWS(B$6:B6))),\"\")","v":"LEG-Ani-0-1"},{"$f":"IFERROR(VLOOKUP(Z6&\"-0\",'linked mastersheet'!$A$2:$K$200,7,FALSE),\"\")","v":""},{"$f":"IFERROR(VLOOKUP(Z6&\"-1\",'linked mastersheet'!$A$2:$K$200,7,FALSE),\"\")","v":"Is a case definition available that is consistent with the OIE standards for animal rabies?"}]
[{"$f":"SUMPRODUCT((masterlist!B:B=\"DCA\")*(masterlist!E:E=0))","v":2},{"$f":"IF(ROWS(B$6:B7)<=$A$7,INDEX(masterlist!$C$2:$C$200,SMALL(IF(masterlist!$B$2:$B$200=\"DCA\",IF(masterlist!$E$2:$E$200=0,ROW(masterlist!$B$2:$B$200)-ROW(masterlist!$B$2)+1)),ROWS(B$6:B7))),\"\")","v":"DCA-Sur-0-2"},{"$f":"IFERROR(VLOOKUP(B7&\"-0\",'linked mastersheet'!$A$2:$K$200,7,FALSE),\"\")","v":""},{"$f":"IFERROR(VLOOKUP(B7&\"-1\",'linked mastersheet'!$A$2:$K$200,7,FALSE),\"\")","v":"Have there been reports on rabies in the country? "},{"$f":"SUMPRODUCT((masterlist!B:B=\"PCO\")*(masterlist!E:E=0))","v":0},{"$f":"IF(ROWS(B$6:B7)<=$E$7,INDEX(masterlist!$C$2:$C$200,SMALL(IF(masterlist!$B$2:$B$200=\"PCO\",IF(masterlist!$E$2:$E$200=0,ROW(masterlist!$B$2:$B$200)-ROW(masterlist!$B$2)+1)),ROWS(B$6:B7))),\"\")","v":""},{"$f":"IFERROR(VLOOKUP(F7&\"-0\",'linked mastersheet'!$A$2:$K$200,7,FALSE),\"\")","v":""},{"$f":"IFERROR(VLOOKUP(F7&\"-1\",'linked mastersheet'!$A$2:$K$200,7,FALSE),\"\")","v":""},{"$f":"SUMPRODUCT((masterlist!B:B=\"LAB\")*(masterlist!E:E=0))","v":2},{"$f":"IF(ROWS(B$6:B7)<=$I$7,INDEX(masterlist!$C$2:$C$200,SMALL(IF(masterlist!$B$2:$B$200=\"LAB\",IF(masterlist!$E$2:$E$200=0,ROW(masterlist!$B$2:$B$200)-ROW(masterlist!$B$2)+1)),ROWS(B$6:B7))),\"\")","v":"LAB-Spe-0-2"},{"$f":"IFERROR(VLOOKUP(J7&\"-0\",'linked mastersheet'!$A$2:$K$200,7,FALSE),\"\")","v":""},{"$f":"IFERROR(VLOOKUP(J7&\"-1\",'linked mastersheet'!$A$2:$K$200,7,FALSE),\"\")","v":"If there is no laboratory diagnosis in your country, has at least one human or animal rabies suspect sample been submitted to an international rabies reference laboratory for confirmation?"},{"$f":"SUMPRODUCT((masterlist!B:B=\"DPM\")*(masterlist!E:E=0))","v":0},{"$f":"IF(ROWS(B$6:B7)<=$M$7,INDEX(masterlist!$C$2:$C$200,SMALL(IF(masterlist!$B$2:$B$200=\"DPM\",IF(masterlist!$E$2:$E$200=0,ROW(masterlist!$B$2:$B$200)-ROW(masterlist!$B$2)+1)),ROWS(B$6:B7))),\"\")","v":""},{"$f":"IFERROR(VLOOKUP(N7&\"-0\",'linked mastersheet'!$A$2:$K$200,7,FALSE),\"\")","v":""},{"$f":"IFERROR(VLOOKUP(N7&\"-1\",'linked mastersheet'!$A$2:$K$200,7,FALSE),\"\")","v":""},{"$f":"SUMPRODUCT((masterlist!B:B=\"IEC\")*(masterlist!E:E=0))","v":1},{"$f":"IF(ROWS(B$6:B7)<=Q$7,INDEX(masterlist!$C$2:$C$200,SMALL(IF(masterlist!$B$2:$B$200=\"DCA\",IF(masterlist!$E$2:$E$200=0,ROW(masterlist!$B$2:$B$200)-ROW(masterlist!$B$2)+1)),ROWS(B$6:B7))),\"\")","v":""},{"$f":"IFERROR(VLOOKUP(R7&\"-0\",'linked mastersheet'!$A$2:$K$200,7,FALSE),\"\")","v":""},{"$f":"IFERROR(VLOOKUP(R7&\"-1\",'linked mastersheet'!$A$2:$K$200,7,FALSE),\"\")","v":""},{"$f":"SUMPRODUCT((masterlist!B:B=\"CCI\")*(masterlist!E:E=0))","v":1},{"$f":"IF(ROWS(B$6:B7)<=$U$7,INDEX(masterlist!$C$2:$C$200,SMALL(IF(masterlist!$B$2:$B$200=\"CCI\",IF(masterlist!$E$2:$E$200=0,ROW(masterlist!$B$2:$B$200)-ROW(masterlist!$B$2)+1)),ROWS(B$6:B7))),\"\")","v":""},{"$f":"IFERROR(VLOOKUP(V7&\"-0\",'linked mastersheet'!$A$2:$K$200,7,FALSE),\"\")","v":""},{"$f":"IFERROR(VLOOKUP(V7&\"-1\",'linked mastersheet'!$A$2:$K$200,7,FALSE),\"\")","v":""},{"$f":"SUMPRODUCT((masterlist!B:B=\"LEG\")*(masterlist!E:E=0))","v":2},{"$f":"IF(ROWS(B$6:B7)<=$Y$7,INDEX(masterlist!$C$2:$C$200,SMALL(IF(masterlist!$B$2:$B$200=\"LEG\",IF(masterlist!$E$2:$E$200=0,ROW(masterlist!$B$2:$B$200)-ROW(masterlist!$B$2)+1)),ROWS(B$6:B7))),\"\")","v":"LEG-Hum-0-3"},{"$f":"IFERROR(VLOOKUP(Z7&\"-0\",'linked mastersheet'!$A$2:$K$200,7,FALSE),\"\")","v":""},{"$f":"IFERROR(VLOOKUP(Z7&\"-1\",'linked mastersheet'!$A$2:$K$200,7,FALSE),\"\")","v":"Is a case definition available that is consistent with the WHO guidelines for human rabies?"}]
[null,{"$f":"IF(ROWS(B$6:B8)<=$A$7,INDEX(masterlist!$C$2:$C$200,SMALL(IF(masterlist!$B$2:$B$200=\"DCA\",IF(masterlist!$E$2:$E$200=0,ROW(masterlist!$B$2:$B$200)-ROW(masterlist!$B$2)+1)),ROWS(B$6:B8))),\"\")","v":""},{"$f":"IFERROR(VLOOKUP(B8&\"-0\",'linked mastersheet'!$A$2:$K$200,7,FALSE),\"\")","v":""},{"$f":"IFERROR(VLOOKUP(B8&\"-1\",'linked mastersheet'!$A$2:$K$200,7,FALSE),\"\")","v":""},null,{"$f":"IF(ROWS(B$6:B8)<=$E$7,INDEX(masterlist!$C$2:$C$200,SMALL(IF(masterlist!$B$2:$B$200=\"PCO\",IF(masterlist!$E$2:$E$200=0,ROW(masterlist!$B$2:$B$200)-ROW(masterlist!$B$2)+1)),ROWS(B$6:B8))),\"\")","v":""},{"$f":"IFERROR(VLOOKUP(F8&\"-0\",'linked mastersheet'!$A$2:$K$200,7,FALSE),\"\")","v":""},{"$f":"IFERROR(VLOOKUP(F8&\"-1\",'linked mastersheet'!$A$2:$K$200,7,FALSE),\"\")","v":""},null,{"$f":"IF(ROWS(B$6:B8)<=$I$7,INDEX(masterlist!$C$2:$C$200,SMALL(IF(masterlist!$B$2:$B$200=\"LAB\",IF(masterlist!$E$2:$E$200=0,ROW(masterlist!$B$2:$B$200)-ROW(masterlist!$B$2)+1)),ROWS(B$6:B8))),\"\")","v":""},{"$f":"IFERROR(VLOOKUP(J8&\"-0\",'linked mastersheet'!$A$2:$K$200,7,FALSE),\"\")","v":""},{"$f":"IFERROR(VLOOKUP(J8&\"-1\",'linked mastersheet'!$A$2:$K$200,7,FALSE),\"\")","v":""},null,{"$f":"IF(ROWS(B$6:B8)<=$M$7,INDEX(masterlist!$C$2:$C$200,SMALL(IF(masterlist!$B$2:$B$200=\"DPM\",IF(masterlist!$E$2:$E$200=0,ROW(masterlist!$B$2:$B$200)-ROW(masterlist!$B$2)+1)),ROWS(B$6:B8))),\"\")","v":""},{"$f":"IFERROR(VLOOKUP(N8&\"-0\",'linked mastersheet'!$A$2:$K$200,7,FALSE),\"\")","v":""},{"$f":"IFERROR(VLOOKUP(N8&\"-1\",'linked mastersheet'!$A$2:$K$200,7,FALSE),\"\")","v":""},null,{"$f":"IF(ROWS(B$6:B8)<=Q$7,INDEX(masterlist!$C$2:$C$200,SMALL(IF(masterlist!$B$2:$B$200=\"DCA\",IF(masterlist!$E$2:$E$200=0,ROW(masterlist!$B$2:$B$200)-ROW(masterlist!$B$2)+1)),ROWS(B$6:B8))),\"\")","v":""},{"$f":"IFERROR(VLOOKUP(R8&\"-0\",'linked mastersheet'!$A$2:$K$200,7,FALSE),\"\")","v":""},{"$f":"IFERROR(VLOOKUP(R8&\"-1\",'linked mastersheet'!$A$2:$K$200,7,FALSE),\"\")","v":""},null,{"$f":"IF(ROWS(B$6:B8)<=$U$7,INDEX(masterlist!$C$2:$C$200,SMALL(IF(masterlist!$B$2:$B$200=\"CCI\",IF(masterlist!$E$2:$E$200=0,ROW(masterlist!$B$2:$B$200)-ROW(masterlist!$B$2)+1)),ROWS(B$6:B8))),\"\")","v":""},{"$f":"IFERROR(VLOOKUP(V8&\"-0\",'linked mastersheet'!$A$2:$K$200,7,FALSE),\"\")","v":""},{"$f":"IFERROR(VLOOKUP(V8&\"-1\",'linked mastersheet'!$A$2:$K$200,7,FALSE),\"\")","v":""},null,{"$f":"IF(ROWS(B$6:B8)<=$Y$7,INDEX(masterlist!$C$2:$C$200,SMALL(IF(masterlist!$B$2:$B$200=\"LEG\",IF(masterlist!$E$2:$E$200=0,ROW(masterlist!$B$2:$B$200)-ROW(masterlist!$B$2)+1)),ROWS(B$6:B8))),\"\")","v":""},{"$f":"IFERROR(VLOOKUP(Z8&\"-0\",'linked mastersheet'!$A$2:$K$200,7,FALSE),\"\")","v":""},{"$f":"IFERROR(VLOOKUP(Z8&\"-1\",'linked mastersheet'!$A$2:$K$200,7,FALSE),\"\")","v":""}]
[1,{"$f":"IF(ROWS(B$9:B9)<=$A$10,INDEX(masterlist!$C$2:$C$200,SMALL(IF(masterlist!$B$2:$B$200=\"DCA\",IF(masterlist!$E$2:$E$200=1,ROW(masterlist!$B$2:$B$200)-ROW(masterlist!$B$2)+1)),ROWS(B$9:B9))),\"\")","v":"DCA-Sur-1-3"},{"$f":"IFERROR(VLOOKUP(B9&\"-0\",'linked mastersheet'!$A$2:$K$200,7,FALSE),\"\")","v":""},{"$f":"IFERROR(VLOOKUP(B9&\"-1\",'linked mastersheet'!$A$2:$K$200,7,FALSE),\"\")","v":"Are dog rabies cases reported from a local to the national level? "},null,{"$f":"IF(ROWS(B$9:B9)<=$E$10,INDEX(masterlist!$C$2:$C$200,SMALL(IF(masterlist!$B$2:$B$200=\"PCO\",IF(masterlist!$E$2:$E$200=1,ROW(masterlist!$B$2:$B$200)-ROW(masterlist!$B$2)+1)),ROWS(B$9:B9))),\"\")","v":"PCO-Hum-1-1"},{"$f":"IFERROR(VLOOKUP(F9&\"-0\",'linked mastersheet'!$A$2:$K$200,7,FALSE),\"\")","v":""},{"$f":"IFERROR(VLOOKUP(F9&\"-1\",'linked mastersheet'!$A$2:$K$200,7,FALSE),\"\")","v":"Are vaccines for human rabies prophylaxis available in one or more parts of the country?"},null,{"$f":"IF(ROWS(B$9:B9)<=$I$10,INDEX(masterlist!$C$2:$C$200,SMALL(IF(masterlist!$B$2:$B$200=\"LAB\",IF(masterlist!$E$2:$E$200=1,ROW(masterlist!$B$2:$B$200)-ROW(masterlist!$B$2)+1)),ROWS(B$9:B9))),\"\")","v":"LAB-Lab-1-3"},{"$f":"IFERROR(VLOOKUP(J9&\"-0\",'linked mastersheet'!$A$2:$K$200,7,FALSE),\"\")","v":""},{"$f":"IFERROR(VLOOKUP(J9&\"-1\",'linked mastersheet'!$A$2:$K$200,7,FALSE),\"\")","v":"Is rabies diagnosis being conducted in at least one national laboratory (veterinary or medical laboratory)?"},null,{"$f":"IF(ROWS(B$9:B9)<=$M$10,INDEX(masterlist!$C$2:$C$200,SMALL(IF(masterlist!$B$2:$B$200=\"DPM\",IF(masterlist!$E$2:$E$200=1,ROW(masterlist!$B$2:$B$200)-ROW(masterlist!$B$2)+1)),ROWS(B$9:B9))),\"\")","v":"DPM- -1-1"},{"$f":"IFERROR(VLOOKUP(N9&\"-0\",'linked mastersheet'!$A$2:$K$200,7,FALSE),\"\")","v":""},{"$f":"IFERROR(VLOOKUP(N9&\"-1\",'linked mastersheet'!$A$2:$K$200,7,FALSE),\"\")","v":"Have discussions been held with stakeholders* to create a dog population management strategy at a local level?"},null,{"$f":"IF(ROWS(B$9:B9)<=$Q$10,INDEX(masterlist!$C$2:$C$200,SMALL(IF(masterlist!$B$2:$B$200=\"IEC\",IF(masterlist!$E$2:$E$200=1,ROW(masterlist!$B$2:$B$200)-ROW(masterlist!$B$2)+1)),ROWS(B$9:B9))),\"\")","v":"IEC-Pub-1-1"},{"$f":"IFERROR(VLOOKUP(R9&\"-0\",'linked mastersheet'!$A$2:$K$200,7,FALSE),\"\")","v":""},{"$f":"IFERROR(VLOOKUP(R9&\"-1\",'linked mastersheet'!$A$2:$K$200,7,FALSE),\"\")","v":"Have the target audiences been identified at a local level (e.g. at-risk communities, dog owners, children)?"},null,{"$f":"IF(ROWS(B$9:B9)<=$U$10,INDEX(masterlist!$C$2:$C$200,SMALL(IF(masterlist!$B$2:$B$200=\"CCI\",IF(masterlist!$E$2:$E$200=1,ROW(masterlist!$B$2:$B$200)-ROW(masterlist!$B$2)+1)),ROWS(B$9:B9))),\"\")","v":"CCI-Int-1-2"},{"$f":"IFERROR(VLOOKUP(V9&\"-0\",'linked mastersheet'!$A$2:$K$200,7,FALSE),\"\")","v":""},{"$f":"IFERROR(VLOOKUP(V9&\"-1\",'linked mastersheet'!$A$2:$K$200,7,FALSE),\"\")","v":"Have the main national stakeholders* in rabies prevention and control been identified?"},null,{"$f":"IF(ROWS(B$9:B9)<=$Y$10,INDEX(masterlist!$C$2:$C$200,SMALL(IF(masterlist!$B$2:$B$200=\"LEG\",IF(masterlist!$E$2:$E$200=1,ROW(masterlist!$B$2:$B$200)-ROW(masterlist!$B$2)+1)),ROWS(B$9:B9))),\"\")","v":"LEG-Ani-1-2"},{"$f":"IFERROR(VLOOKUP(Z9&\"-0\",'linked mastersheet'!$A$2:$K$200,7,FALSE),\"\")","v":"Has the case definition for animal rabies been shared with all of the relevant professionals?"},{"$f":"IFERROR(VLOOKUP(Z9&\"-1\",'linked mastersheet'!$A$2:$K$200,7,FALSE),\"\")","v":""}]
[{"$f":"SUMPRODUCT((masterlist!B:B=\"DCA\")*(masterlist!E:E=1))","v":9},{"$f":"IF(ROWS(B$9:B10)<=$A$10,INDEX(masterlist!$C$2:$C$200,SMALL(IF(masterlist!$B$2:$B$200=\"DCA\",IF(masterlist!$E$2:$E$200=1,ROW(masterlist!$B$2:$B$200)-ROW(masterlist!$B$2)+1)),ROWS(B$9:B10))),\"\")","v":"DCA-Sur-1-4"},{"$f":"IFERROR(VLOOKUP(B10&\"-0\",'linked mastersheet'!$A$2:$K$200,7,FALSE),\"\")","v":""},{"$f":"IFERROR(VLOOKUP(B10&\"-1\",'linked mastersheet'!$A$2:$K$200,7,FALSE),\"\")","v":"Are human rabies cases reported from a local to the national level? "},{"$f":"SUMPRODUCT((masterlist!B:B=\"PCO\")*(masterlist!E:E=1))","v":6},{"$f":"IF(ROWS(B$9:B10)<=$E$10,INDEX(masterlist!$C$2:$C$200,SMALL(IF(masterlist!$B$2:$B$200=\"PCO\",IF(masterlist!$E$2:$E$200=1,ROW(masterlist!$B$2:$B$200)-ROW(masterlist!$B$2)+1)),ROWS(B$9:B10))),\"\")","v":"PCO-Hum-1-2"},{"$f":"IFERROR(VLOOKUP(F10&\"-0\",'linked mastersheet'!$A$2:$K$200,7,FALSE),\"\")","v":""},{"$f":"IFERROR(VLOOKUP(F10&\"-1\",'linked mastersheet'!$A$2:$K$200,7,FALSE),\"\")","v":"Has the supply and access to nationally licensed human rabies vaccines for PrEP for professionals at risk been ensured in local areas?"},{"$f":"SUMPRODUCT((masterlist!B:B=\"LAB\")*(masterlist!E:E=1))","v":2},{"$f":"IF(ROWS(B$9:B10)<=$I$10,INDEX(masterlist!$C$2:$C$200,SMALL(IF(masterlist!$B$2:$B$200=\"LAB\",IF(masterlist!$E$2:$E$200=1,ROW(masterlist!$B$2:$B$200)-ROW(masterlist!$B$2)+1)),ROWS(B$9:B10))),\"\")","v":"LAB-Lab-1-4"},{"$f":"IFERROR(VLOOKUP(J10&\"-0\",'linked mastersheet'!$A$2:$K$200,7,FALSE),\"\")","v":""},{"$f":"IFERROR(VLOOKUP(J10&\"-1\",'linked mastersheet'!$A$2:$K$200,7,FALSE),\"\")","v":"Have several rabies suspect samples of animals or humans been submitted to a national laboratory and analysed? "},{"$f":"SUMPRODUCT((masterlist!B:B=\"DPM\")*(masterlist!E:E=1))","v":3},{"$f":"IF(ROWS(B$9:B10)<=$M$10,INDEX(masterlist!$C$2:$C$200,SMALL(IF(masterlist!$B$2:$B$200=\"DPM\",IF(masterlist!$E$2:$E$200=1,ROW(masterlist!$B$2:$B$200)-ROW(masterlist!$B$2)+1)),ROWS(B$9:B10))),\"\")","v":"DPM- -1-2"},{"$f":"IFERROR(VLOOKUP(N10&\"-0\",'linked mastersheet'!$A$2:$K$200,7,FALSE),\"\")","v":"Have you involved officials in waste management in your stakeholder* meetings"},{"$f":"IFERROR(VLOOKUP(N10&\"-1\",'linked mastersheet'!$A$2:$K$200,7,FALSE),\"\")","v":""},{"$f":"SUMPRODUCT((masterlist!B:B=\"IEC\")*(masterlist!E:E=1))","v":10},{"$f":"IF(ROWS(B$9:B10)<=$Q$10,INDEX(masterlist!$C$2:$C$200,SMALL(IF(masterlist!$B$2:$B$200=\"IEC\",IF(masterlist!$E$2:$E$200=1,ROW(masterlist!$B$2:$B$200)-ROW(masterlist!$B$2)+1)),ROWS(B$9:B10))),\"\")","v":"IEC-Pub-1-2"},{"$f":"IFERROR(VLOOKUP(R10&\"-0\",'linked mastersheet'!$A$2:$K$200,7,FALSE),\"\")","v":""},{"$f":"IFERROR(VLOOKUP(R10&\"-1\",'linked mastersheet'!$A$2:$K$200,7,FALSE),\"\")","v":"Has an assessment been done to determine what message should be communicated to the target audience at a local level?"},{"$f":"SUMPRODUCT((masterlist!B:B=\"CCI\")*(masterlist!E:E=1))","v":5},{"$f":"IF(ROWS(B$9:B10)<=$U$10,INDEX(masterlist!$C$2:$C$200,SMALL(IF(masterlist!$B$2:$B$200=\"CCI\",IF(masterlist!$E$2:$E$200=1,ROW(masterlist!$B$2:$B$200)-ROW(masterlist!$B$2)+1)),ROWS(B$9:B10))),\"\")","v":"CCI-Int-1-3"},{"$f":"IFERROR(VLOOKUP(V10&\"-0\",'linked mastersheet'!$A$2:$K$200,7,FALSE),\"\")","v":""},{"$f":"IFERROR(VLOOKUP(V10&\"-1\",'linked mastersheet'!$A$2:$K$200,7,FALSE),\"\")","v":"Are the key stakeholders* still actively involved in rabies control? "},{"$f":"SUMPRODUCT((masterlist!B:B=\"LEG\")*(masterlist!E:E=1))","v":7},{"$f":"IF(ROWS(B$9:B10)<=$Y$10,INDEX(masterlist!$C$2:$C$200,SMALL(IF(masterlist!$B$2:$B$200=\"LEG\",IF(masterlist!$E$2:$E$200=1,ROW(masterlist!$B$2:$B$200)-ROW(masterlist!$B$2)+1)),ROWS(B$9:B10))),\"\")","v":"LEG-Hum-1-4"},{"$f":"IFERROR(VLOOKUP(Z10&\"-0\",'linked mastersheet'!$A$2:$K$200,7,FALSE),\"\")","v":"Has the case definition for human rabies been shared with all of the relevant professionals?"},{"$f":"IFERROR(VLOOKUP(Z10&\"-1\",'linked mastersheet'!$A$2:$K$200,7,FALSE),\"\")","v":""}]
[null,{"$f":"IF(ROWS(B$9:B11)<=$A$10,INDEX(masterlist!$C$2:$C$200,SMALL(IF(masterlist!$B$2:$B$200=\"DCA\",IF(masterlist!$E$2:$E$200=1,ROW(masterlist!$B$2:$B$200)-ROW(masterlist!$B$2)+1)),ROWS(B$9:B11))),\"\")","v":"DCA-Sur-1-5"},{"$f":"IFERROR(VLOOKUP(B11&\"-0\",'linked mastersheet'!$A$2:$K$200,7,FALSE),\"\")","v":""},{"$f":"IFERROR(VLOOKUP(B11&\"-1\",'linked mastersheet'!$A$2:$K$200,7,FALSE),\"\")","v":"Are you reporting all of the human or animal rabies cases that have been tested to a relevant international database such as WHO, OIE or PARACON?"},null,{"$f":"IF(ROWS(B$9:B11)<=$E$10,INDEX(masterlist!$C$2:$C$200,SMALL(IF(masterlist!$B$2:$B$200=\"PCO\",IF(masterlist!$E$2:$E$200=1,ROW(masterlist!$B$2:$B$200)-ROW(masterlist!$B$2)+1)),ROWS(B$9:B11))),\"\")","v":"PCO-Dog-1-8"},{"$f":"IFERROR(VLOOKUP(F11&\"-0\",'linked mastersheet'!$A$2:$K$200,7,FALSE),\"\")","v":""},{"$f":"IFERROR(VLOOKUP(F11&\"-1\",'linked mastersheet'!$A$2:$K$200,7,FALSE),\"\")","v":"Are dog rabies vaccines available in at least one location in the country?"},null,{"$f":"IF(ROWS(B$9:B11)<=$I$10,INDEX(masterlist!$C$2:$C$200,SMALL(IF(masterlist!$B$2:$B$200=\"LAB\",IF(masterlist!$E$2:$E$200=1,ROW(masterlist!$B$2:$B$200)-ROW(masterlist!$B$2)+1)),ROWS(B$9:B11))),\"\")","v":""},{"$f":"IFERROR(VLOOKUP(J11&\"-0\",'linked mastersheet'!$A$2:$K$200,7,FALSE),\"\")","v":""},{"$f":"IFERROR(VLOOKUP(J11&\"-1\",'linked mastersheet'!$A$2:$K$200,7,FALSE),\"\")","v":""},null,{"$f":"IF(ROWS(B$9:B11)<=$M$10,INDEX(masterlist!$C$2:$C$200,SMALL(IF(masterlist!$B$2:$B$200=\"DPM\",IF(masterlist!$E$2:$E$200=1,ROW(masterlist!$B$2:$B$200)-ROW(masterlist!$B$2)+1)),ROWS(B$9:B11))),\"\")","v":"DPM- -1-3"},{"$f":"IFERROR(VLOOKUP(N11&\"-0\",'linked mastersheet'!$A$2:$K$200,7,FALSE),\"\")","v":""},{"$f":"IFERROR(VLOOKUP(N11&\"-1\",'linked mastersheet'!$A$2:$K$200,7,FALSE),\"\")","v":"Has a baseline number of dogs been determined at a local level?"},null,{"$f":"IF(ROWS(B$9:B11)<=$Q$10,INDEX(masterlist!$C$2:$C$200,SMALL(IF(masterlist!$B$2:$B$200=\"IEC\",IF(masterlist!$E$2:$E$200=1,ROW(masterlist!$B$2:$B$200)-ROW(masterlist!$B$2)+1)),ROWS(B$9:B11))),\"\")","v":"IEC-Pub-1-3"},{"$f":"IFERROR(VLOOKUP(R11&\"-0\",'linked mastersheet'!$A$2:$K$200,7,FALSE),\"\")","v":""},{"$f":"IFERROR(VLOOKUP(R11&\"-1\",'linked mastersheet'!$A$2:$K$200,7,FALSE),\"\")","v":"Has an IEC plan* been developed and implemented on a small scale?"},null,{"$f":"IF(ROWS(B$9:B11)<=$U$10,INDEX(masterlist!$C$2:$C$200,SMALL(IF(masterlist!$B$2:$B$200=\"CCI\",IF(masterlist!$E$2:$E$200=1,ROW(masterlist!$B$2:$B$200)-ROW(masterlist!$B$2)+1)),ROWS(B$9:B11))),\"\")","v":"CCI-Int-1-4"},{"$f":"IFERROR(VLOOKUP(V11&\"-0\",'linked mastersheet'!$A$2:$K$200,7,FALSE),\"\")","v":"Has an intersectoral rabies task force, committee or working group, including all relevant stakeholders*, been established at a local or national level and do they meet/communicate regularly?"},{"$f":"IFERROR(VLOOKUP(V11&\"-1\",'linked mastersheet'!$A$2:$K$200,7,FALSE),\"\")","v":""},null,{"$f":"IF(ROWS(B$9:B11)<=$Y$10,INDEX(masterlist!$C$2:$C$200,SMALL(IF(masterlist!$B$2:$B$200=\"LEG\",IF(masterlist!$E$2:$E$200=1,ROW(masterlist!$B$2:$B$200)-ROW(masterlist!$B$2)+1)),ROWS(B$9:B11))),\"\")","v":"LEG-Leg-1-5"},{"$f":"IFERROR(VLOOKUP(Z11&\"-0\",'linked mastersheet'!$A$2:$K$200,7,FALSE),\"\")","v":""},{"$f":"IFERROR(VLOOKUP(Z11&\"-1\",'linked mastersheet'!$A$2:$K$200,7,FALSE),\"\")","v":"Is there national legislation that is relevant to rabies prevention and control?"}]
[null,{"$f":"IF(ROWS(B$9:B12)<=$A$10,INDEX(masterlist!$C$2:$C$200,SMALL(IF(masterlist!$B$2:$B$200=\"DCA\",IF(masterlist!$E$2:$E$200=1,ROW(masterlist!$B$2:$B$200)-ROW(masterlist!$B$2)+1)),ROWS(B$9:B12))),\"\")","v":"DCA-Sur-1-6"},{"$f":"IFERROR(VLOOKUP(B12&\"-0\",'linked mastersheet'!$A$2:$K$200,7,FALSE),\"\")","v":""},{"$f":"IFERROR(VLOOKUP(B12&\"-1\",'linked mastersheet'!$A$2:$K$200,7,FALSE),\"\")","v":"Is there capacity to analyze dog rabies data at the national level? "},null,{"$f":"IF(ROWS(B$9:B12)<=$E$10,INDEX(masterlist!$C$2:$C$200,SMALL(IF(masterlist!$B$2:$B$200=\"PCO\",IF(masterlist!$E$2:$E$200=1,ROW(masterlist!$B$2:$B$200)-ROW(masterlist!$B$2)+1)),ROWS(B$9:B12))),\"\")","v":"PCO-Dog-1-9"},{"$f":"IFERROR(VLOOKUP(F12&\"-0\",'linked mastersheet'!$A$2:$K$200,7,FALSE),\"\")","v":""},{"$f":"IFERROR(VLOOKUP(F12&\"-1\",'linked mastersheet'!$A$2:$K$200,7,FALSE),\"\")","v":"Has dog vaccination been initiated in some parts of the country? "},null,{"$f":"IF(ROWS(B$9:B12)<=$I$10,INDEX(masterlist!$C$2:$C$200,SMALL(IF(masterlist!$B$2:$B$200=\"LAB\",IF(masterlist!$E$2:$E$200=1,ROW(masterlist!$B$2:$B$200)-ROW(masterlist!$B$2)+1)),ROWS(B$9:B12))),\"\")","v":""},{"$f":"IFERROR(VLOOKUP(J12&\"-0\",'linked mastersheet'!$A$2:$K$200,7,FALSE),\"\")","v":""},{"$f":"IFERROR(VLOOKUP(J12&\"-1\",'linked mastersheet'!$A$2:$K$200,7,FALSE),\"\")","v":""},null,{"$f":"IF(ROWS(B$9:B12)<=$M$10,INDEX(masterlist!$C$2:$C$200,SMALL(IF(masterlist!$B$2:$B$200=\"DPM\",IF(masterlist!$E$2:$E$200=1,ROW(masterlist!$B$2:$B$200)-ROW(masterlist!$B$2)+1)),ROWS(B$9:B12))),\"\")","v":""},{"$f":"IFERROR(VLOOKUP(N12&\"-0\",'linked mastersheet'!$A$2:$K$200,7,FALSE),\"\")","v":""},{"$f":"IFERROR(VLOOKUP(N12&\"-1\",'linked mastersheet'!$A$2:$K$200,7,FALSE),\"\")","v":""},null,{"$f":"IF(ROWS(B$9:B12)<=$Q$10,INDEX(masterlist!$C$2:$C$200,SMALL(IF(masterlist!$B$2:$B$200=\"IEC\",IF(masterlist!$E$2:$E$200=1,ROW(masterlist!$B$2:$B$200)-ROW(masterlist!$B$2)+1)),ROWS(B$9:B12))),\"\")","v":"IEC-Pub-1-4"},{"$f":"IFERROR(VLOOKUP(R12&\"-0\",'linked mastersheet'!$A$2:$K$200,7,FALSE),\"\")","v":""},{"$f":"IFERROR(VLOOKUP(R12&\"-1\",'linked mastersheet'!$A$2:$K$200,7,FALSE),\"\")","v":"Has broad public awareness messaging started at a national level?"},null,{"$f":"IF(ROWS(B$9:B12)<=$U$10,INDEX(masterlist!$C$2:$C$200,SMALL(IF(masterlist!$B$2:$B$200=\"CCI\",IF(masterlist!$E$2:$E$200=1,ROW(masterlist!$B$2:$B$200)-ROW(masterlist!$B$2)+1)),ROWS(B$9:B12))),\"\")","v":"CCI-Nat-1-6"},{"$f":"IFERROR(VLOOKUP(V12&\"-0\",'linked mastersheet'!$A$2:$K$200,7,FALSE),\"\")","v":"Based on a small-scale experience, has a short term rabies action plan been developed and endorsed by relevant authorities at local / national level?"},{"$f":"IFERROR(VLOOKUP(V12&\"-1\",'linked mastersheet'!$A$2:$K$200,7,FALSE),\"\")","v":""},null,{"$f":"IF(ROWS(B$9:B12)<=$Y$10,INDEX(masterlist!$C$2:$C$200,SMALL(IF(masterlist!$B$2:$B$200=\"LEG\",IF(masterlist!$E$2:$E$200=1,ROW(masterlist!$B$2:$B$200)-ROW(masterlist!$B$2)+1)),ROWS(B$9:B12))),\"\")","v":"LEG-Leg-1-6"},{"$f":"IFERROR(VLOOKUP(Z12&\"-0\",'linked mastersheet'!$A$2:$K$200,7,FALSE),\"\")","v":"If there is legislation, has it been reviewed and endorsed?"},{"$f":"IFERROR(VLOOKUP(Z12&\"-1\",'linked mastersheet'!$A$2:$K$200,7,FALSE),\"\")","v":""}]
[null,{"$f":"IF(ROWS(B$9:B13)<=$A$10,INDEX(masterlist!$C$2:$C$200,SMALL(IF(masterlist!$B$2:$B$200=\"DCA\",IF(masterlist!$E$2:$E$200=1,ROW(masterlist!$B$2:$B$200)-ROW(masterlist!$B$2)+1)),ROWS(B$9:B13))),\"\")","v":"DCA-Sur-1-7"},{"$f":"IFERROR(VLOOKUP(B13&\"-0\",'linked mastersheet'!$A$2:$K$200,7,FALSE),\"\")","v":""},{"$f":"IFERROR(VLOOKUP(B13&\"-1\",'linked mastersheet'!$A$2:$K$200,7,FALSE),\"\")","v":"Is there capacity to analyze human rabies data at the national level? "},null,{"$f":"IF(ROWS(B$9:B13)<=$E$10,INDEX(masterlist!$C$2:$C$200,SMALL(IF(masterlist!$B$2:$B$200=\"PCO\",IF(masterlist!$E$2:$E$200=1,ROW(masterlist!$B$2:$B$200)-ROW(masterlist!$B$2)+1)),ROWS(B$9:B13))),\"\")","v":"PCO-Out-1-15"},{"$f":"IFERROR(VLOOKUP(F13&\"-0\",'linked mastersheet'!$A$2:$K$200,7,FALSE),\"\")","v":""},{"$f":"IFERROR(VLOOKUP(F13&\"-1\",'linked mastersheet'!$A$2:$K$200,7,FALSE),\"\")","v":"Have Standard Operating Procedures (SOPs) for coordinated action on reported outbreaks* at a local level been established?"},null,{"$f":"IF(ROWS(B$9:B13)<=$I$10,INDEX(masterlist!$C$2:$C$200,SMALL(IF(masterlist!$B$2:$B$200=\"LAB\",IF(masterlist!$E$2:$E$200=1,ROW(masterlist!$B$2:$B$200)-ROW(masterlist!$B$2)+1)),ROWS(B$9:B13))),\"\")","v":""},{"$f":"IFERROR(VLOOKUP(J13&\"-0\",'linked mastersheet'!$A$2:$K$200,7,FALSE),\"\")","v":""},{"$f":"IFERROR(VLOOKUP(J13&\"-1\",'linked mastersheet'!$A$2:$K$200,7,FALSE),\"\")","v":""},null,{"$f":"IF(ROWS(B$9:B13)<=$M$10,INDEX(masterlist!$C$2:$C$200,SMALL(IF(masterlist!$B$2:$B$200=\"DPM\",IF(masterlist!$E$2:$E$200=1,ROW(masterlist!$B$2:$B$200)-ROW(masterlist!$B$2)+1)),ROWS(B$9:B13))),\"\")","v":""},{"$f":"IFERROR(VLOOKUP(N13&\"-0\",'linked mastersheet'!$A$2:$K$200,7,FALSE),\"\")","v":""},{"$f":"IFERROR(VLOOKUP(N13&\"-1\",'linked mastersheet'!$A$2:$K$200,7,FALSE),\"\")","v":""},null,{"$f":"IF(ROWS(B$9:B13)<=$Q$10,INDEX(masterlist!$C$2:$C$200,SMALL(IF(masterlist!$B$2:$B$200=\"IEC\",IF(masterlist!$E$2:$E$200=1,ROW(masterlist!$B$2:$B$200)-ROW(masterlist!$B$2)+1)),ROWS(B$9:B13))),\"\")","v":"IEC-Pro-1-7"},{"$f":"IFERROR(VLOOKUP(R13&\"-0\",'linked mastersheet'!$A$2:$K$200,7,FALSE),\"\")","v":""},{"$f":"IFERROR(VLOOKUP(R13&\"-1\",'linked mastersheet'!$A$2:$K$200,7,FALSE),\"\")","v":"Have human and animal health professionals involved in rabies control been identified at a local level?"},null,{"$f":"IF(ROWS(B$9:B13)<=$U$10,INDEX(masterlist!$C$2:$C$200,SMALL(IF(masterlist!$B$2:$B$200=\"CCI\",IF(masterlist!$E$2:$E$200=1,ROW(masterlist!$B$2:$B$200)-ROW(masterlist!$B$2)+1)),ROWS(B$9:B13))),\"\")","v":"CCI-Nat-1-7"},{"$f":"IFERROR(VLOOKUP(V13&\"-0\",'linked mastersheet'!$A$2:$K$200,7,FALSE),\"\")","v":"Have mechanisms for mobilizing emergency funds for rabies control been identified?"},{"$f":"IFERROR(VLOOKUP(V13&\"-1\",'linked mastersheet'!$A$2:$K$200,7,FALSE),\"\")","v":""},null,{"$f":"IF(ROWS(B$9:B13)<=$Y$10,INDEX(masterlist!$C$2:$C$200,SMALL(IF(masterlist!$B$2:$B$200=\"LEG\",IF(masterlist!$E$2:$E$200=1,ROW(masterlist!$B$2:$B$200)-ROW(masterlist!$B$2)+1)),ROWS(B$9:B13))),\"\")","v":"LEG-Leg-1-7"},{"$f":"IFERROR(VLOOKUP(Z13&\"-0\",'linked mastersheet'!$A$2:$K$200,7,FALSE),\"\")","v":""},{"$f":"IFERROR(VLOOKUP(Z13&\"-1\",'linked mastersheet'!$A$2:$K$200,7,FALSE),\"\")","v":"Has rabies been made a notifiable disease in animals?"}]
[null,{"$f":"IF(ROWS(B$9:B14)<=$A$10,INDEX(masterlist!$C$2:$C$200,SMALL(IF(masterlist!$B$2:$B$200=\"DCA\",IF(masterlist!$E$2:$E$200=1,ROW(masterlist!$B$2:$B$200)-ROW(masterlist!$B$2)+1)),ROWS(B$9:B14))),\"\")","v":"DCA-Sur-1-8"},{"$f":"IFERROR(VLOOKUP(B14&\"-0\",'linked mastersheet'!$A$2:$K$200,7,FALSE),\"\")","v":""},{"$f":"IFERROR(VLOOKUP(B14&\"-1\",'linked mastersheet'!$A$2:$K$200,7,FALSE),\"\")","v":"Has an animal rabies surveillance* system been established at the national level?"},null,{"$f":"IF(ROWS(B$9:B14)<=$E$10,INDEX(masterlist!$C$2:$C$200,SMALL(IF(masterlist!$B$2:$B$200=\"PCO\",IF(masterlist!$E$2:$E$200=1,ROW(masterlist!$B$2:$B$200)-ROW(masterlist!$B$2)+1)),ROWS(B$9:B14))),\"\")","v":"PCO-Out-1-16"},{"$f":"IFERROR(VLOOKUP(F14&\"-0\",'linked mastersheet'!$A$2:$K$200,7,FALSE),\"\")","v":""},{"$f":"IFERROR(VLOOKUP(F14&\"-1\",'linked mastersheet'!$A$2:$K$200,7,FALSE),\"\")","v":"Has Integrated Bite Case Management (IBCM)* been implemented at a local level? "},null,{"$f":"IF(ROWS(B$9:B14)<=$I$10,INDEX(masterlist!$C$2:$C$200,SMALL(IF(masterlist!$B$2:$B$200=\"LAB\",IF(masterlist!$E$2:$E$200=1,ROW(masterlist!$B$2:$B$200)-ROW(masterlist!$B$2)+1)),ROWS(B$9:B14))),\"\")","v":""},{"$f":"IFERROR(VLOOKUP(J14&\"-0\",'linked mastersheet'!$A$2:$K$200,7,FALSE),\"\")","v":""},{"$f":"IFERROR(VLOOKUP(J14&\"-1\",'linked mastersheet'!$A$2:$K$200,7,FALSE),\"\")","v":""},null,{"$f":"IF(ROWS(B$9:B14)<=$M$10,INDEX(masterlist!$C$2:$C$200,SMALL(IF(masterlist!$B$2:$B$200=\"DPM\",IF(masterlist!$E$2:$E$200=1,ROW(masterlist!$B$2:$B$200)-ROW(masterlist!$B$2)+1)),ROWS(B$9:B14))),\"\")","v":""},{"$f":"IFERROR(VLOOKUP(N14&\"-0\",'linked mastersheet'!$A$2:$K$200,7,FALSE),\"\")","v":""},{"$f":"IFERROR(VLOOKUP(N14&\"-1\",'linked mastersheet'!$A$2:$K$200,7,FALSE),\"\")","v":""},null,{"$f":"IF(ROWS(B$9:B14)<=$Q$10,INDEX(masterlist!$C$2:$C$200,SMALL(IF(masterlist!$B$2:$B$200=\"IEC\",IF(masterlist!$E$2:$E$200=1,ROW(masterlist!$B$2:$B$200)-ROW(masterlist!$B$2)+1)),ROWS(B$9:B14))),\"\")","v":"IEC-Pro-1-8"},{"$f":"IFERROR(VLOOKUP(R14&\"-0\",'linked mastersheet'!$A$2:$K$200,7,FALSE),\"\")","v":"Has an assessment been undertaken to determine the training needs of the professionals at a local level? "},{"$f":"IFERROR(VLOOKUP(R14&\"-1\",'linked mastersheet'!$A$2:$K$200,7,FALSE),\"\")","v":""},null,{"$f":"IF(ROWS(B$9:B14)<=$U$10,INDEX(masterlist!$C$2:$C$200,SMALL(IF(masterlist!$B$2:$B$200=\"CCI\",IF(masterlist!$E$2:$E$200=1,ROW(masterlist!$B$2:$B$200)-ROW(masterlist!$B$2)+1)),ROWS(B$9:B14))),\"\")","v":""},{"$f":"IFERROR(VLOOKUP(V14&\"-0\",'linked mastersheet'!$A$2:$K$200,7,FALSE),\"\")","v":""},{"$f":"IFERROR(VLOOKUP(V14&\"-1\",'linked mastersheet'!$A$2:$K$200,7,FALSE),\"\")","v":""},null,{"$f":"IF(ROWS(B$9:B14)<=$Y$10,INDEX(masterlist!$C$2:$C$200,SMALL(IF(masterlist!$B$2:$B$200=\"LEG\",IF(masterlist!$E$2:$E$200=1,ROW(masterlist!$B$2:$B$200)-ROW(masterlist!$B$2)+1)),ROWS(B$9:B14))),\"\")","v":"LEG-Leg-1-8"},{"$f":"IFERROR(VLOOKUP(Z14&\"-0\",'linked mastersheet'!$A$2:$K$200,7,FALSE),\"\")","v":""},{"$f":"IFERROR(VLOOKUP(Z14&\"-1\",'linked mastersheet'!$A$2:$K$200,7,FALSE),\"\")","v":"Has rabies been made a notifiable disease in humans?"}]
[null,{"$f":"IF(ROWS(B$9:B15)<=$A$10,INDEX(masterlist!$C$2:$C$200,SMALL(IF(masterlist!$B$2:$B$200=\"DCA\",IF(masterlist!$E$2:$E$200=1,ROW(masterlist!$B$2:$B$200)-ROW(masterlist!$B$2)+1)),ROWS(B$9:B15))),\"\")","v":"DCA-Sur-1-9"},{"$f":"IFERROR(VLOOKUP(B15&\"-0\",'linked mastersheet'!$A$2:$K$200,7,FALSE),\"\")","v":""},{"$f":"IFERROR(VLOOKUP(B15&\"-1\",'linked mastersheet'!$A$2:$K$200,7,FALSE),\"\")","v":"Has a human rabies surveillance* system been established at the national level?"},null,{"$f":"IF(ROWS(B$9:B15)<=$E$10,INDEX(masterlist!$C$2:$C$200,SMALL(IF(masterlist!$B$2:$B$200=\"PCO\",IF(masterlist!$E$2:$E$200=1,ROW(masterlist!$B$2:$B$200)-ROW(masterlist!$B$2)+1)),ROWS(B$9:B15))),\"\")","v":""},{"$f":"IFERROR(VLOOKUP(F15&\"-0\",'linked mastersheet'!$A$2:$K$200,7,FALSE),\"\")","v":""},{"$f":"IFERROR(VLOOKUP(F15&\"-1\",'linked mastersheet'!$A$2:$K$200,7,FALSE),\"\")","v":""},null,{"$f":"IF(ROWS(B$9:B15)<=$I$10,INDEX(masterlist!$C$2:$C$200,SMALL(IF(masterlist!$B$2:$B$200=\"LAB\",IF(masterlist!$E$2:$E$200=1,ROW(masterlist!$B$2:$B$200)-ROW(masterlist!$B$2)+1)),ROWS(B$9:B15))),\"\")","v":""},{"$f":"IFERROR(VLOOKUP(J15&\"-0\",'linked mastersheet'!$A$2:$K$200,7,FALSE),\"\")","v":""},{"$f":"IFERROR(VLOOKUP(J15&\"-1\",'linked mastersheet'!$A$2:$K$200,7,FALSE),\"\")","v":""},null,{"$f":"IF(ROWS(B$9:B15)<=$M$10,INDEX(masterlist!$C$2:$C$200,SMALL(IF(masterlist!$B$2:$B$200=\"DPM\",IF(masterlist!$E$2:$E$200=1,ROW(masterlist!$B$2:$B$200)-ROW(masterlist!$B$2)+1)),ROWS(B$9:B15))),\"\")","v":""},{"$f":"IFERROR(VLOOKUP(N15&\"-0\",'linked mastersheet'!$A$2:$K$200,7,FALSE),\"\")","v":""},{"$f":"IFERROR(VLOOKUP(N15&\"-1\",'linked mastersheet'!$A$2:$K$200,7,FALSE),\"\")","v":""},null,{"$f":"IF(ROWS(B$9:B15)<=$Q$10,INDEX(masterlist!$C$2:$C$200,SMALL(IF(masterlist!$B$2:$B$200=\"IEC\",IF(masterlist!$E$2:$E$200=1,ROW(masterlist!$B$2:$B$200)-ROW(masterlist!$B$2)+1)),ROWS(B$9:B15))),\"\")","v":"IEC-Pro-1-9"},{"$f":"IFERROR(VLOOKUP(R15&\"-0\",'linked mastersheet'!$A$2:$K$200,7,FALSE),\"\")","v":"Has a training plan been developed at a national level?"},{"$f":"IFERROR(VLOOKUP(R15&\"-1\",'linked mastersheet'!$A$2:$K$200,7,FALSE),\"\")","v":""},null,{"$f":"IF(ROWS(B$9:B15)<=$U$10,INDEX(masterlist!$C$2:$C$200,SMALL(IF(masterlist!$B$2:$B$200=\"CCI\",IF(masterlist!$E$2:$E$200=1,ROW(masterlist!$B$2:$B$200)-ROW(masterlist!$B$2)+1)),ROWS(B$9:B15))),\"\")","v":""},{"$f":"IFERROR(VLOOKUP(V15&\"-0\",'linked mastersheet'!$A$2:$K$200,7,FALSE),\"\")","v":""},{"$f":"IFERROR(VLOOKUP(V15&\"-1\",'linked mastersheet'!$A$2:$K$200,7,FALSE),\"\")","v":""},null,{"$f":"IF(ROWS(B$9:B15)<=$Y$10,INDEX(masterlist!$C$2:$C$200,SMALL(IF(masterlist!$B$2:$B$200=\"LEG\",IF(masterlist!$E$2:$E$200=1,ROW(masterlist!$B$2:$B$200)-ROW(masterlist!$B$2)+1)),ROWS(B$9:B15))),\"\")","v":"LEG-Leg-1-9"},{"$f":"IFERROR(VLOOKUP(Z15&\"-0\",'linked mastersheet'!$A$2:$K$200,7,FALSE),\"\")","v":""},{"$f":"IFERROR(VLOOKUP(Z15&\"-1\",'linked mastersheet'!$A$2:$K$200,7,FALSE),\"\")","v":"Does legislation include measures for rabies outbreak response?"}]
[null,{"$f":"IF(ROWS(B$9:B16)<=$A$10,INDEX(masterlist!$C$2:$C$200,SMALL(IF(masterlist!$B$2:$B$200=\"DCA\",IF(masterlist!$E$2:$E$200=1,ROW(masterlist!$B$2:$B$200)-ROW(masterlist!$B$2)+1)),ROWS(B$9:B16))),\"\")","v":"DCA-Sur-1-10"},{"$f":"IFERROR(VLOOKUP(B16&\"-0\",'linked mastersheet'!$A$2:$K$200,7,FALSE),\"\")","v":""},{"$f":"IFERROR(VLOOKUP(B16&\"-1\",'linked mastersheet'!$A$2:$K$200,7,FALSE),\"\")","v":"Are human bite case data collected and used for decision-making?"},null,{"$f":"IF(ROWS(B$9:B16)<=$E$10,INDEX(masterlist!$C$2:$C$200,SMALL(IF(masterlist!$B$2:$B$200=\"PCO\",IF(masterlist!$E$2:$E$200=1,ROW(masterlist!$B$2:$B$200)-ROW(masterlist!$B$2)+1)),ROWS(B$9:B16))),\"\")","v":""},{"$f":"IFERROR(VLOOKUP(F16&\"-0\",'linked mastersheet'!$A$2:$K$200,7,FALSE),\"\")","v":""},{"$f":"IFERROR(VLOOKUP(F16&\"-1\",'linked mastersheet'!$A$2:$K$200,7,FALSE),\"\")","v":""},null,{"$f":"IF(ROWS(B$9:B16)<=$I$10,INDEX(masterlist!$C$2:$C$200,SMALL(IF(masterlist!$B$2:$B$200=\"LAB\",IF(masterlist!$E$2:$E$200=1,ROW(masterlist!$B$2:$B$200)-ROW(masterlist!$B$2)+1)),ROWS(B$9:B16))),\"\")","v":""},{"$f":"IFERROR(VLOOKUP(J16&\"-0\",'linked mastersheet'!$A$2:$K$200,7,FALSE),\"\")","v":""},{"$f":"IFERROR(VLOOKUP(J16&\"-1\",'linked mastersheet'!$A$2:$K$200,7,FALSE),\"\")","v":""},null,{"$f":"IF(ROWS(B$9:B16)<=$M$10,INDEX(masterlist!$C$2:$C$200,SMALL(IF(masterlist!$B$2:$B$200=\"DPM\",IF(masterlist!$E$2:$E$200=1,ROW(masterlist!$B$2:$B$200)-ROW(masterlist!$B$2)+1)),ROWS(B$9:B16))),\"\")","v":""},{"$f":"IFERROR(VLOOKUP(N16&\"-0\",'linked mastersheet'!$A$2:$K$200,7,FALSE),\"\")","v":""},{"$f":"IFERROR(VLOOKUP(N16&\"-1\",'linked mastersheet'!$A$2:$K$200,7,FALSE),\"\")","v":""},null,{"$f":"IF(ROWS(B$9:B16)<=$Q$10,INDEX(masterlist!$C$2:$C$200,SMALL(IF(masterlist!$B$2:$B$200=\"IEC\",IF(masterlist!$E$2:$E$200=1,ROW(masterlist!$B$2:$B$200)-ROW(masterlist!$B$2)+1)),ROWS(B$9:B16))),\"\")","v":"IEC-Pro-1-10"},{"$f":"IFERROR(VLOOKUP(R16&\"-0\",'linked mastersheet'!$A$2:$K$200,7,FALSE),\"\")","v":"Have training or refresher courses on rabies and public communication been initiated for professionals in human and animal health at a local level?"},{"$f":"IFERROR(VLOOKUP(R16&\"-1\",'linked mastersheet'!$A$2:$K$200,7,FALSE),\"\")","v":""},null,{"$f":"IF(ROWS(B$9:B16)<=$U$10,INDEX(masterlist!$C$2:$C$200,SMALL(IF(masterlist!$B$2:$B$200=\"CCI\",IF(masterlist!$E$2:$E$200=1,ROW(masterlist!$B$2:$B$200)-ROW(masterlist!$B$2)+1)),ROWS(B$9:B16))),\"\")","v":""},{"$f":"IFERROR(VLOOKUP(V16&\"-0\",'linked mastersheet'!$A$2:$K$200,7,FALSE),\"\")","v":""},{"$f":"IFERROR(VLOOKUP(V16&\"-1\",'linked mastersheet'!$A$2:$K$200,7,FALSE),\"\")","v":""},null,{"$f":"IF(ROWS(B$9:B16)<=$Y$10,INDEX(masterlist!$C$2:$C$200,SMALL(IF(masterlist!$B$2:$B$200=\"LEG\",IF(masterlist!$E$2:$E$200=1,ROW(masterlist!$B$2:$B$200)-ROW(masterlist!$B$2)+1)),ROWS(B$9:B16))),\"\")","v":""},{"$f":"IFERROR(VLOOKUP(Z16&\"-0\",'linked mastersheet'!$A$2:$K$200,7,FALSE),\"\")","v":""},{"$f":"IFERROR(VLOOKUP(Z16&\"-1\",'linked mastersheet'!$A$2:$K$200,7,FALSE),\"\")","v":""}]
[null,{"$f":"IF(ROWS(B$9:B17)<=$A$10,INDEX(masterlist!$C$2:$C$200,SMALL(IF(masterlist!$B$2:$B$200=\"DCA\",IF(masterlist!$E$2:$E$200=1,ROW(masterlist!$B$2:$B$200)-ROW(masterlist!$B$2)+1)),ROWS(B$9:B17))),\"\")","v":"DCA-Sur-1-11"},{"$f":"IFERROR(VLOOKUP(B17&\"-0\",'linked mastersheet'!$A$2:$K$200,7,FALSE),\"\")","v":"Have dog population studies and KAP surveys been conducted to determine size, turn-over and accessibility of dogs for vaccination on a small scale?"},{"$f":"IFERROR(VLOOKUP(B17&\"-1\",'linked mastersheet'!$A$2:$K$200,7,FALSE),\"\")","v":""},null,{"$f":"IF(ROWS(B$9:B17)<=$E$10,INDEX(masterlist!$C$2:$C$200,SMALL(IF(masterlist!$B$2:$B$200=\"PCO\",IF(masterlist!$E$2:$E$200=1,ROW(masterlist!$B$2:$B$200)-ROW(masterlist!$B$2)+1)),ROWS(B$9:B17))),\"\")","v":""},{"$f":"IFERROR(VLOOKUP(F17&\"-0\",'linked mastersheet'!$A$2:$K$200,7,FALSE),\"\")","v":""},{"$f":"IFERROR(VLOOKUP(F17&\"-1\",'linked mastersheet'!$A$2:$K$200,7,FALSE),\"\")","v":""},null,{"$f":"IF(ROWS(B$9:B17)<=$I$10,INDEX(masterlist!$C$2:$C$200,SMALL(IF(masterlist!$B$2:$B$200=\"LAB\",IF(masterlist!$E$2:$E$200=1,ROW(masterlist!$B$2:$B$200)-ROW(masterlist!$B$2)+1)),ROWS(B$9:B17))),\"\")","v":""},{"$f":"IFERROR(VLOOKUP(J17&\"-0\",'linked mastersheet'!$A$2:$K$200,7,FALSE),\"\")","v":""},{"$f":"IFERROR(VLOOKUP(J17&\"-1\",'linked mastersheet'!$A$2:$K$200,7,FALSE),\"\")","v":""},null,{"$f":"IF(ROWS(B$9:B17)<=$M$10,INDEX(masterlist!$C$2:$C$200,SMALL(IF(masterlist!$B$2:$B$200=\"DPM\",IF(masterlist!$E$2:$E$200=1,ROW(masterlist!$B$2:$B$200)-ROW(masterlist!$B$2)+1)),ROWS(B$9:B17))),\"\")","v":""},{"$f":"IFERROR(VLOOKUP(N17&\"-0\",'linked mastersheet'!$A$2:$K$200,7,FALSE),\"\")","v":""},{"$f":"IFERROR(VLOOKUP(N17&\"-1\",'linked mastersheet'!$A$2:$K$200,7,FALSE),\"\")","v":""},null,{"$f":"IF(ROWS(B$9:B17)<=$Q$10,INDEX(masterlist!$C$2:$C$200,SMALL(IF(masterlist!$B$2:$B$200=\"IEC\",IF(masterlist!$E$2:$E$200=1,ROW(masterlist!$B$2:$B$200)-ROW(masterlist!$B$2)+1)),ROWS(B$9:B17))),\"\")","v":"IEC-Adv-1-13"},{"$f":"IFERROR(VLOOKUP(R17&\"-0\",'linked mastersheet'!$A$2:$K$200,7,FALSE),\"\")","v":"Has an advocacy stakeholder analysis* been done at a national level and target audiences been identified?"},{"$f":"IFERROR(VLOOKUP(R17&\"-1\",'linked mastersheet'!$A$2:$K$200,7,FALSE),\"\")","v":""},null,{"$f":"IF(ROWS(B$9:B17)<=$U$10,INDEX(masterlist!$C$2:$C$200,SMALL(IF(masterlist!$B$2:$B$200=\"CCI\",IF(masterlist!$E$2:$E$200=1,ROW(masterlist!$B$2:$B$200)-ROW(masterlist!$B$2)+1)),ROWS(B$9:B17))),\"\")","v":""},{"$f":"IFERROR(VLOOKUP(V17&\"-0\",'linked mastersheet'!$A$2:$K$200,7,FALSE),\"\")","v":""},{"$f":"IFERROR(VLOOKUP(V17&\"-1\",'linked mastersheet'!$A$2:$K$200,7,FALSE),\"\")","v":""},null,{"$f":"IF(ROWS(B$9:B17)<=$Y$10,INDEX(masterlist!$C$2:$C$200,SMALL(IF(masterlist!$B$2:$B$200=\"LEG\",IF(masterlist!$E$2:$E$200=1,ROW(masterlist!$B$2:$B$200)-ROW(masterlist!$B$2)+1)),ROWS(B$9:B17))),\"\")","v":""},{"$f":"IFERROR(VLOOKUP(Z17&\"-0\",'linked mastersheet'!$A$2:$K$200,7,FALSE),\"\")","v":""},{"$f":"IFERROR(VLOOKUP(Z17&\"-1\",'linked mastersheet'!$A$2:$K$200,7,FALSE),\"\")","v":""}]
[null,{"$f":"IF(ROWS(B$9:B18)<=$A$10,INDEX(masterlist!$C$2:$C$200,SMALL(IF(masterlist!$B$2:$B$200=\"DCA\",IF(masterlist!$E$2:$E$200=1,ROW(masterlist!$B$2:$B$200)-ROW(masterlist!$B$2)+1)),ROWS(B$9:B18))),\"\")","v":""},{"$f":"IFERROR(VLOOKUP(B18&\"-0\",'linked mastersheet'!$A$2:$K$200,7,FALSE),\"\")","v":""},{"$f":"IFERROR(VLOOKUP(B18&\"-1\",'linked mastersheet'!$A$2:$K$200,7,FALSE),\"\")","v":""},null,{"$f":"IF(ROWS(B$9:B18)<=$E$10,INDEX(masterlist!$C$2:$C$200,SMALL(IF(masterlist!$B$2:$B$200=\"PCO\",IF(masterlist!$E$2:$E$200=1,ROW(masterlist!$B$2:$B$200)-ROW(masterlist!$B$2)+1)),ROWS(B$9:B18))),\"\")","v":""},{"$f":"IFERROR(VLOOKUP(F18&\"-0\",'linked mastersheet'!$A$2:$K$200,7,FALSE),\"\")","v":""},{"$f":"IFERROR(VLOOKUP(F18&\"-1\",'linked mastersheet'!$A$2:$K$200,7,FALSE),\"\")","v":""},null,{"$f":"IF(ROWS(B$9:B18)<=$I$10,INDEX(masterlist!$C$2:$C$200,SMALL(IF(masterlist!$B$2:$B$200=\"LAB\",IF(masterlist!$E$2:$E$200=1,ROW(masterlist!$B$2:$B$200)-ROW(masterlist!$B$2)+1)),ROWS(B$9:B18))),\"\")","v":""},{"$f":"IFERROR(VLOOKUP(J18&\"-0\",'linked mastersheet'!$A$2:$K$200,7,FALSE),\"\")","v":""},{"$f":"IFERROR(VLOOKUP(J18&\"-1\",'linked mastersheet'!$A$2:$K$200,7,FALSE),\"\")","v":""},null,{"$f":"IF(ROWS(B$9:B18)<=$M$10,INDEX(masterlist!$C$2:$C$200,SMALL(IF(masterlist!$B$2:$B$200=\"DPM\",IF(masterlist!$E$2:$E$200=1,ROW(masterlist!$B$2:$B$200)-ROW(masterlist!$B$2)+1)),ROWS(B$9:B18))),\"\")","v":""},{"$f":"IFERROR(VLOOKUP(N18&\"-0\",'linked mastersheet'!$A$2:$K$200,7,FALSE),\"\")","v":""},{"$f":"IFERROR(VLOOKUP(N18&\"-1\",'linked mastersheet'!$A$2:$K$200,7,FALSE),\"\")","v":""},null,{"$f":"IF(ROWS(B$9:B18)<=$Q$10,INDEX(masterlist!$C$2:$C$200,SMALL(IF(masterlist!$B$2:$B$200=\"IEC\",IF(masterlist!$E$2:$E$200=1,ROW(masterlist!$B$2:$B$200)-ROW(masterlist!$B$2)+1)),ROWS(B$9:B18))),\"\")","v":"IEC-Adv-1-14"},{"$f":"IFERROR(VLOOKUP(R18&\"-0\",'linked mastersheet'!$A$2:$K$200,7,FALSE),\"\")","v":"Has an advocacy plan* been developed and implemented at a national level?"},{"$f":"IFERROR(VLOOKUP(R18&\"-1\",'linked mastersheet'!$A$2:$K$200,7,FALSE),\"\")","v":""},null,{"$f":"IF(ROWS(B$9:B18)<=$U$10,INDEX(masterlist!$C$2:$C$200,SMALL(IF(masterlist!$B$2:$B$200=\"CCI\",IF(masterlist!$E$2:$E$200=1,ROW(masterlist!$B$2:$B$200)-ROW(masterlist!$B$2)+1)),ROWS(B$9:B18))),\"\")","v":""},{"$f":"IFERROR(VLOOKUP(V18&\"-0\",'linked mastersheet'!$A$2:$K$200,7,FALSE),\"\")","v":""},{"$f":"IFERROR(VLOOKUP(V18&\"-1\",'linked mastersheet'!$A$2:$K$200,7,FALSE),\"\")","v":""},null,{"$f":"IF(ROWS(B$9:B18)<=$Y$10,INDEX(masterlist!$C$2:$C$200,SMALL(IF(masterlist!$B$2:$B$200=\"LEG\",IF(masterlist!$E$2:$E$200=1,ROW(masterlist!$B$2:$B$200)-ROW(masterlist!$B$2)+1)),ROWS(B$9:B18))),\"\")","v":""},{"$f":"IFERROR(VLOOKUP(Z18&\"-0\",'linked mastersheet'!$A$2:$K$200,7,FALSE),\"\")","v":""},{"$f":"IFERROR(VLOOKUP(Z18&\"-1\",'linked mastersheet'!$A$2:$K$200,7,FALSE),\"\")","v":""}]
[null,{"$f":"IF(ROWS(B$9:B19)<=$A$10,INDEX(masterlist!$C$2:$C$200,SMALL(IF(masterlist!$B$2:$B$200=\"DCA\",IF(masterlist!$E$2:$E$200=1,ROW(masterlist!$B$2:$B$200)-ROW(masterlist!$B$2)+1)),ROWS(B$9:B19))),\"\")","v":""},{"$f":"IFERROR(VLOOKUP(B19&\"-0\",'linked mastersheet'!$A$2:$K$200,7,FALSE),\"\")","v":""},{"$f":"IFERROR(VLOOKUP(B19&\"-1\",'linked mastersheet'!$A$2:$K$200,7,FALSE),\"\")","v":""},null,{"$f":"IF(ROWS(B$9:B19)<=$E$10,INDEX(masterlist!$C$2:$C$200,SMALL(IF(masterlist!$B$2:$B$200=\"PCO\",IF(masterlist!$E$2:$E$200=1,ROW(masterlist!$B$2:$B$200)-ROW(masterlist!$B$2)+1)),ROWS(B$9:B19))),\"\")","v":""},{"$f":"IFERROR(VLOOKUP(F19&\"-0\",'linked mastersheet'!$A$2:$K$200,7,FALSE),\"\")","v":""},{"$f":"IFERROR(VLOOKUP(F19&\"-1\",'linked mastersheet'!$A$2:$K$200,7,FALSE),\"\")","v":""},null,{"$f":"IF(ROWS(B$9:B19)<=$I$10,INDEX(masterlist!$C$2:$C$200,SMALL(IF(masterlist!$B$2:$B$200=\"LAB\",IF(masterlist!$E$2:$E$200=1,ROW(masterlist!$B$2:$B$200)-ROW(masterlist!$B$2)+1)),ROWS(B$9:B19))),\"\")","v":""},{"$f":"IFERROR(VLOOKUP(J19&\"-0\",'linked mastersheet'!$A$2:$K$200,7,FALSE),\"\")","v":""},{"$f":"IFERROR(VLOOKUP(J19&\"-1\",'linked mastersheet'!$A$2:$K$200,7,FALSE),\"\")","v":""},null,{"$f":"IF(ROWS(B$9:B19)<=$M$10,INDEX(masterlist!$C$2:$C$200,SMALL(IF(masterlist!$B$2:$B$200=\"DPM\",IF(masterlist!$E$2:$E$200=1,ROW(masterlist!$B$2:$B$200)-ROW(masterlist!$B$2)+1)),ROWS(B$9:B19))),\"\")","v":""},{"$f":"IFERROR(VLOOKUP(N19&\"-0\",'linked mastersheet'!$A$2:$K$200,7,FALSE),\"\")","v":""},{"$f":"IFERROR(VLOOKUP(N19&\"-1\",'linked mastersheet'!$A$2:$K$200,7,FALSE),\"\")","v":""},null,{"$f":"IF(ROWS(B$9:B19)<=$Q$10,INDEX(masterlist!$C$2:$C$200,SMALL(IF(masterlist!$B$2:$B$200=\"IEC\",IF(masterlist!$E$2:$E$200=1,ROW(masterlist!$B$2:$B$200)-ROW(masterlist!$B$2)+1)),ROWS(B$9:B19))),\"\")","v":""},{"$f":"IFERROR(VLOOKUP(R19&\"-0\",'linked mastersheet'!$A$2:$K$200,7,FALSE),\"\")","v":""},{"$f":"IFERROR(VLOOKUP(R19&\"-1\",'linked mastersheet'!$A$2:$K$200,7,FALSE),\"\")","v":""},null,{"$f":"IF(ROWS(B$9:B19)<=$U$10,INDEX(masterlist!$C$2:$C$200,SMALL(IF(masterlist!$B$2:$B$200=\"CCI\",IF(masterlist!$E$2:$E$200=1,ROW(masterlist!$B$2:$B$200)-ROW(masterlist!$B$2)+1)),ROWS(B$9:B19))),\"\")","v":""},{"$f":"IFERROR(VLOOKUP(V19&\"-0\",'linked mastersheet'!$A$2:$K$200,7,FALSE),\"\")","v":""},{"$f":"IFERROR(VLOOKUP(V19&\"-1\",'linked mastersheet'!$A$2:$K$200,7,FALSE),\"\")","v":""},null,{"$f":"IF(ROWS(B$9:B19)<=$Y$10,INDEX(masterlist!$C$2:$C$200,SMALL(IF(masterlist!$B$2:$B$200=\"LEG\",IF(masterlist!$E$2:$E$200=1,ROW(masterlist!$B$2:$B$200)-ROW(masterlist!$B$2)+1)),ROWS(B$9:B19))),\"\")","v":""},{"$f":"IFERROR(VLOOKUP(Z19&\"-0\",'linked mastersheet'!$A$2:$K$200,7,FALSE),\"\")","v":""},{"$f":"IFERROR(VLOOKUP(Z19&\"-1\",'linked mastersheet'!$A$2:$K$200,7,FALSE),\"\")","v":""}]
[2,{"$f":"IF(ROWS(B$20:B20)<=$A$21,INDEX(masterlist!$C$2:$C$200,SMALL(IF(masterlist!$B$2:$B$200=\"DCA\",IF(masterlist!$E$2:$E$200=2,ROW(masterlist!$B$2:$B$200)-ROW(masterlist!$B$2)+1)),ROWS(B$20:B20))),\"\")","v":"DCA-Sur-2-12"},{"$f":"IFERROR(VLOOKUP(B20&\"-0\",'linked mastersheet'!$A$2:$K$200,7,FALSE),\"\")","v":""},{"$f":"IFERROR(VLOOKUP(B20&\"-1\",'linked mastersheet'!$A$2:$K$200,7,FALSE),\"\")","v":"Are human rabies surveillance systems, including feedback mechanisms, functioning and coordinated between administrative levels (national, province, district, municipal, etc.)? "},null,{"$f":"IF(ROWS(B$20:B20)<=$E$21,INDEX(masterlist!$C$2:$C$200,SMALL(IF(masterlist!$B$2:$B$200=\"PCO\",IF(masterlist!$E$2:$E$200=2,ROW(masterlist!$B$2:$B$200)-ROW(masterlist!$B$2)+1)),ROWS(B$20:B20))),\"\")","v":"PCO-Hum-2-3"},{"$f":"IFERROR(VLOOKUP(F20&\"-0\",'linked mastersheet'!$A$2:$K$200,7,FALSE),\"\")","v":"Has an assessment* been done to determine the availability and access to PEP (and PreP)?"},{"$f":"IFERROR(VLOOKUP(F20&\"-1\",'linked mastersheet'!$A$2:$K$200,7,FALSE),\"\")","v":""},null,{"$f":"IF(ROWS(B$20:B20)<=$I$21,INDEX(masterlist!$C$2:$C$200,SMALL(IF(masterlist!$B$2:$B$200=\"LAB\",IF(masterlist!$E$2:$E$200=2,ROW(masterlist!$B$2:$B$200)-ROW(masterlist!$B$2)+1)),ROWS(B$20:B20))),\"\")","v":"LAB-Lab-2-5"},{"$f":"IFERROR(VLOOKUP(J20&\"-0\",'linked mastersheet'!$A$2:$K$200,7,FALSE),\"\")","v":""},{"$f":"IFERROR(VLOOKUP(J20&\"-1\",'linked mastersheet'!$A$2:$K$200,7,FALSE),\"\")","v":"Does your country undergo proficiency testing with an internationally recognised laboratory? "},null,{"$f":"IF(ROWS(B$20:B20)<=$M$21,INDEX(masterlist!$C$2:$C$200,SMALL(IF(masterlist!$B$2:$B$200=\"DPM\",IF(masterlist!$E$2:$E$200=2,ROW(masterlist!$B$2:$B$200)-ROW(masterlist!$B$2)+1)),ROWS(B$20:B20))),\"\")","v":"DPM- -2-4"},{"$f":"IFERROR(VLOOKUP(N20&\"-0\",'linked mastersheet'!$A$2:$K$200,7,FALSE),\"\")","v":"Has a DPM* strategy and programme been drafted and shared with all relevant stakeholders at a local level?"},{"$f":"IFERROR(VLOOKUP(N20&\"-1\",'linked mastersheet'!$A$2:$K$200,7,FALSE),\"\")","v":""},null,{"$f":"IF(ROWS(B$20:B20)<=$Q$21,INDEX(masterlist!$C$2:$C$200,SMALL(IF(masterlist!$B$2:$B$200=\"IEC\",IF(masterlist!$E$2:$E$200=2,ROW(masterlist!$B$2:$B$200)-ROW(masterlist!$B$2)+1)),ROWS(B$20:B20))),\"\")","v":"IEC-Pro-2-11"},{"$f":"IFERROR(VLOOKUP(R20&\"-0\",'linked mastersheet'!$A$2:$K$200,7,FALSE),\"\")","v":"Has training of human and animal health personnel been conducted in most parts of the country?"},{"$f":"IFERROR(VLOOKUP(R20&\"-1\",'linked mastersheet'!$A$2:$K$200,7,FALSE),\"\")","v":""},null,{"$f":"IF(ROWS(B$20:B20)<=$U$21,INDEX(masterlist!$C$2:$C$200,SMALL(IF(masterlist!$B$2:$B$200=\"CCI\",IF(masterlist!$E$2:$E$200=2,ROW(masterlist!$B$2:$B$200)-ROW(masterlist!$B$2)+1)),ROWS(B$20:B20))),\"\")","v":"CCI-Int-2-5"},{"$f":"IFERROR(VLOOKUP(V20&\"-0\",'linked mastersheet'!$A$2:$K$200,7,FALSE),\"\")","v":"Is the private sector included in the inter-sectoral task force's discussions and/or activities?"},{"$f":"IFERROR(VLOOKUP(V20&\"-1\",'linked mastersheet'!$A$2:$K$200,7,FALSE),\"\")","v":""},null,{"$f":"IF(ROWS(B$20:B20)<=$Y$21,INDEX(masterlist!$C$2:$C$200,SMALL(IF(masterlist!$B$2:$B$200=\"LEG\",IF(masterlist!$E$2:$E$200=2,ROW(masterlist!$B$2:$B$200)-ROW(masterlist!$B$2)+1)),ROWS(B$20:B20))),\"\")","v":"LEG-Leg-2-10"},{"$f":"IFERROR(VLOOKUP(Z20&\"-0\",'linked mastersheet'!$A$2:$K$200,7,FALSE),\"\")","v":"Does the legislation regarding nationally licenced vaccines reflect that of international guidelines?"},{"$f":"IFERROR(VLOOKUP(Z20&\"-1\",'linked mastersheet'!$A$2:$K$200,7,FALSE),\"\")","v":""}]
[{"$f":"SUMPRODUCT((masterlist!B:B=\"DCA\")*(masterlist!E:E=2))","v":5},{"$f":"IF(ROWS(B$20:B21)<=$A$21,INDEX(masterlist!$C$2:$C$200,SMALL(IF(masterlist!$B$2:$B$200=\"DCA\",IF(masterlist!$E$2:$E$200=2,ROW(masterlist!$B$2:$B$200)-ROW(masterlist!$B$2)+1)),ROWS(B$20:B21))),\"\")","v":"DCA-Sur-2-13"},{"$f":"IFERROR(VLOOKUP(B21&\"-0\",'linked mastersheet'!$A$2:$K$200,7,FALSE),\"\")","v":""},{"$f":"IFERROR(VLOOKUP(B21&\"-1\",'linked mastersheet'!$A$2:$K$200,7,FALSE),\"\")","v":"Are animal rabies surveillance systems, including feedback mechanisms, functioning and coordinated between administrative levels (national, province, district, municipal, etc.)?"},{"$f":"SUMPRODUCT((masterlist!B:B=\"PCO\")*(masterlist!E:E=2))","v":8},{"$f":"IF(ROWS(B$20:B21)<=$E$21,INDEX(masterlist!$C$2:$C$200,SMALL(IF(masterlist!$B$2:$B$200=\"PCO\",IF(masterlist!$E$2:$E$200=2,ROW(masterlist!$B$2:$B$200)-ROW(masterlist!$B$2)+1)),ROWS(B$20:B21))),\"\")","v":"PCO-Hum-2-4"},{"$f":"IFERROR(VLOOKUP(F21&\"-0\",'linked mastersheet'!$A$2:$K$200,7,FALSE),\"\")","v":""},{"$f":"IFERROR(VLOOKUP(F21&\"-1\",'linked mastersheet'!$A$2:$K$200,7,FALSE),\"\")","v":"Are WHO pre-qualified human rabies vaccines available and accessible in most parts of the country?"},{"$f":"SUMPRODUCT((masterlist!B:B=\"LAB\")*(masterlist!E:E=2))","v":3},{"$f":"IF(ROWS(B$20:B21)<=$I$21,INDEX(masterlist!$C$2:$C$200,SMALL(IF(masterlist!$B$2:$B$200=\"LAB\",IF(masterlist!$E$2:$E$200=2,ROW(masterlist!$B$2:$B$200)-ROW(masterlist!$B$2)+1)),ROWS(B$20:B21))),\"\")","v":"LAB-Lab-2-6"},{"$f":"IFERROR(VLOOKUP(J21&\"-0\",'linked mastersheet'!$A$2:$K$200,7,FALSE),\"\")","v":""},{"$f":"IFERROR(VLOOKUP(J21&\"-1\",'linked mastersheet'!$A$2:$K$200,7,FALSE),\"\")","v":"Has capacity for regular sample collection and transportation been established and functioning?"},{"$f":"SUMPRODUCT((masterlist!B:B=\"DPM\")*(masterlist!E:E=2))","v":4},{"$f":"IF(ROWS(B$20:B21)<=$M$21,INDEX(masterlist!$C$2:$C$200,SMALL(IF(masterlist!$B$2:$B$200=\"DPM\",IF(masterlist!$E$2:$E$200=2,ROW(masterlist!$B$2:$B$200)-ROW(masterlist!$B$2)+1)),ROWS(B$20:B21))),\"\")","v":"DPM- -2-5"},{"$f":"IFERROR(VLOOKUP(N21&\"-0\",'linked mastersheet'!$A$2:$K$200,7,FALSE),\"\")","v":"Has the DPM strategy been finalized and implemented?"},{"$f":"IFERROR(VLOOKUP(N21&\"-1\",'linked mastersheet'!$A$2:$K$200,7,FALSE),\"\")","v":""},{"$f":"SUMPRODUCT((masterlist!B:B=\"IEC\")*(masterlist!E:E=2))","v":3},{"$f":"IF(ROWS(B$20:B21)<=$Q$21,INDEX(masterlist!$C$2:$C$200,SMALL(IF(masterlist!$B$2:$B$200=\"IEC\",IF(masterlist!$E$2:$E$200=2,ROW(masterlist!$B$2:$B$200)-ROW(masterlist!$B$2)+1)),ROWS(B$20:B21))),\"\")","v":"IEC-Adv-2-15"},{"$f":"IFERROR(VLOOKUP(R21&\"-0\",'linked mastersheet'!$A$2:$K$200,7,FALSE),\"\")","v":"Have you promoted any small-scale rabies control program successes using the national advocacy plan?"},{"$f":"IFERROR(VLOOKUP(R21&\"-1\",'linked mastersheet'!$A$2:$K$200,7,FALSE),\"\")","v":""},{"$f":"SUMPRODUCT((masterlist!B:B=\"CCI\")*(masterlist!E:E=2))","v":3},{"$f":"IF(ROWS(B$20:B21)<=$U$21,INDEX(masterlist!$C$2:$C$200,SMALL(IF(masterlist!$B$2:$B$200=\"CCI\",IF(masterlist!$E$2:$E$200=2,ROW(masterlist!$B$2:$B$200)-ROW(masterlist!$B$2)+1)),ROWS(B$20:B21))),\"\")","v":"CCI-Nat-2-8"},{"$f":"IFERROR(VLOOKUP(V21&\"-0\",'linked mastersheet'!$A$2:$K$200,7,FALSE),\"\")","v":"Has a national strategy for rabies prevention, control and eventual elimination been drafted and finalised in collaboration with all relevant stakeholders?"},{"$f":"IFERROR(VLOOKUP(V21&\"-1\",'linked mastersheet'!$A$2:$K$200,7,FALSE),\"\")","v":""},{"$f":"SUMPRODUCT((masterlist!B:B=\"LEG\")*(masterlist!E:E=2))","v":1},{"$f":"IF(ROWS(B$20:B21)<=$Y$21,INDEX(masterlist!$C$2:$C$200,SMALL(IF(masterlist!$B$2:$B$200=\"LEG\",IF(masterlist!$E$2:$E$200=2,ROW(masterlist!$B$2:$B$200)-ROW(masterlist!$B$2)+1)),ROWS(B$20:B21))),\"\")","v":""},{"$f":"IFERROR(VLOOKUP(Z21&\"-0\",'linked mastersheet'!$A$2:$K$200,7,FALSE),\"\")","v":""},{"$f":"IFERROR(VLOOKUP(Z21&\"-1\",'linked mastersheet'!$A$2:$K$200,7,FALSE),\"\")","v":""}]
[null,{"$f":"IF(ROWS(B$20:B22)<=$A$21,INDEX(masterlist!$C$2:$C$200,SMALL(IF(masterlist!$B$2:$B$200=\"DCA\",IF(masterlist!$E$2:$E$200=2,ROW(masterlist!$B$2:$B$200)-ROW(masterlist!$B$2)+1)),ROWS(B$20:B22))),\"\")","v":"DCA-Sur-2-14"},{"$f":"IFERROR(VLOOKUP(B22&\"-0\",'linked mastersheet'!$A$2:$K$200,7,FALSE),\"\")","v":""},{"$f":"IFERROR(VLOOKUP(B22&\"-1\",'linked mastersheet'!$A$2:$K$200,7,FALSE),\"\")","v":"Have linked human and animal rabies surveillance systems, including agreed SOPs, been established?"},null,{"$f":"IF(ROWS(B$20:B22)<=$E$21,INDEX(masterlist!$C$2:$C$200,SMALL(IF(masterlist!$B$2:$B$200=\"PCO\",IF(masterlist!$E$2:$E$200=2,ROW(masterlist!$B$2:$B$200)-ROW(masterlist!$B$2)+1)),ROWS(B$20:B22))),\"\")","v":"PCO-Hum-2-5"},{"$f":"IFERROR(VLOOKUP(F22&\"-0\",'linked mastersheet'!$A$2:$K$200,7,FALSE),\"\")","v":""},{"$f":"IFERROR(VLOOKUP(F22&\"-1\",'linked mastersheet'!$A$2:$K$200,7,FALSE),\"\")","v":"Are any human biologics that are not WHO-pre-qualified being phased out? (e.g. nerve tissue vaccines, low quality vaccines)"},null,{"$f":"IF(ROWS(B$20:B22)<=$I$21,INDEX(masterlist!$C$2:$C$200,SMALL(IF(masterlist!$B$2:$B$200=\"LAB\",IF(masterlist!$E$2:$E$200=2,ROW(masterlist!$B$2:$B$200)-ROW(masterlist!$B$2)+1)),ROWS(B$20:B22))),\"\")","v":"LAB-Lab-2-7"},{"$f":"IFERROR(VLOOKUP(J22&\"-0\",'linked mastersheet'!$A$2:$K$200,7,FALSE),\"\")","v":""},{"$f":"IFERROR(VLOOKUP(J22&\"-1\",'linked mastersheet'!$A$2:$K$200,7,FALSE),\"\")","v":"Is there routine laboratory diagnosis of animal rabies cases in country?"},null,{"$f":"IF(ROWS(B$20:B22)<=$M$21,INDEX(masterlist!$C$2:$C$200,SMALL(IF(masterlist!$B$2:$B$200=\"DPM\",IF(masterlist!$E$2:$E$200=2,ROW(masterlist!$B$2:$B$200)-ROW(masterlist!$B$2)+1)),ROWS(B$20:B22))),\"\")","v":"DPM- -2-6"},{"$f":"IFERROR(VLOOKUP(N22&\"-0\",'linked mastersheet'!$A$2:$K$200,7,FALSE),\"\")","v":""},{"$f":"IFERROR(VLOOKUP(N22&\"-1\",'linked mastersheet'!$A$2:$K$200,7,FALSE),\"\")","v":"Has public sensitisation about DPM been built into rabies awareness campaigns at a local level?"},null,{"$f":"IF(ROWS(B$20:B22)<=$Q$21,INDEX(masterlist!$C$2:$C$200,SMALL(IF(masterlist!$B$2:$B$200=\"IEC\",IF(masterlist!$E$2:$E$200=2,ROW(masterlist!$B$2:$B$200)-ROW(masterlist!$B$2)+1)),ROWS(B$20:B22))),\"\")","v":"IEC-Adv-2-16"},{"$f":"IFERROR(VLOOKUP(R22&\"-0\",'linked mastersheet'!$A$2:$K$200,7,FALSE),\"\")","v":"Has the national advocacy plan been used to obtain support from stakeholders to financially resource the national rabies control strategy?"},{"$f":"IFERROR(VLOOKUP(R22&\"-1\",'linked mastersheet'!$A$2:$K$200,7,FALSE),\"\")","v":""},null,{"$f":"IF(ROWS(B$20:B22)<=$U$21,INDEX(masterlist!$C$2:$C$200,SMALL(IF(masterlist!$B$2:$B$200=\"CCI\",IF(masterlist!$E$2:$E$200=2,ROW(masterlist!$B$2:$B$200)-ROW(masterlist!$B$2)+1)),ROWS(B$20:B22))),\"\")","v":"CCI-Nat-2-9"},{"$f":"IFERROR(VLOOKUP(V22&\"-0\",'linked mastersheet'!$A$2:$K$200,7,FALSE),\"\")","v":""},{"$f":"IFERROR(VLOOKUP(V22&\"-1\",'linked mastersheet'!$A$2:$K$200,7,FALSE),\"\")","v":"Have government resources been identified and allocated in support of the national rabies control strategy?  "},null,{"$f":"IF(ROWS(B$20:B22)<=$Y$21,INDEX(masterlist!$C$2:$C$200,SMALL(IF(masterlist!$B$2:$B$200=\"LEG\",IF(masterlist!$E$2:$E$200=2,ROW(masterlist!$B$2:$B$200)-ROW(masterlist!$B$2)+1)),ROWS(B$20:B22))),\"\")","v":""},{"$f":"IFERROR(VLOOKUP(Z22&\"-0\",'linked mastersheet'!$A$2:$K$200,7,FALSE),\"\")","v":""},{"$f":"IFERROR(VLOOKUP(Z22&\"-1\",'linked mastersheet'!$A$2:$K$200,7,FALSE),\"\")","v":""}]
[null,{"$f":"IF(ROWS(B$20:B23)<=$A$21,INDEX(masterlist!$C$2:$C$200,SMALL(IF(masterlist!$B$2:$B$200=\"DCA\",IF(masterlist!$E$2:$E$200=2,ROW(masterlist!$B$2:$B$200)-ROW(masterlist!$B$2)+1)),ROWS(B$20:B23))),\"\")","v":"DCA-Sur-2-15"},{"$f":"IFERROR(VLOOKUP(B23&\"-0\",'linked mastersheet'!$A$2:$K$200,7,FALSE),\"\")","v":""},{"$f":"IFERROR(VLOOKUP(B23&\"-1\",'linked mastersheet'!$A$2:$K$200,7,FALSE),\"\")","v":"Is information on the epidemiology of rabies regularly shared with all stakeholders?"},null,{"$f":"IF(ROWS(B$20:B23)<=$E$21,INDEX(masterlist!$C$2:$C$200,SMALL(IF(masterlist!$B$2:$B$200=\"PCO\",IF(masterlist!$E$2:$E$200=2,ROW(masterlist!$B$2:$B$200)-ROW(masterlist!$B$2)+1)),ROWS(B$20:B23))),\"\")","v":"PCO-Dog-2-10"},{"$f":"IFERROR(VLOOKUP(F23&\"-0\",'linked mastersheet'!$A$2:$K$200,7,FALSE),\"\")","v":""},{"$f":"IFERROR(VLOOKUP(F23&\"-1\",'linked mastersheet'!$A$2:$K$200,7,FALSE),\"\")","v":"Are only quality dog vaccines in accordance with OIE standards being used?"},null,{"$f":"IF(ROWS(B$20:B23)<=$I$21,INDEX(masterlist!$C$2:$C$200,SMALL(IF(masterlist!$B$2:$B$200=\"LAB\",IF(masterlist!$E$2:$E$200=2,ROW(masterlist!$B$2:$B$200)-ROW(masterlist!$B$2)+1)),ROWS(B$20:B23))),\"\")","v":""},{"$f":"IFERROR(VLOOKUP(J23&\"-0\",'linked mastersheet'!$A$2:$K$200,7,FALSE),\"\")","v":""},{"$f":"IFERROR(VLOOKUP(J23&\"-1\",'linked mastersheet'!$A$2:$K$200,7,FALSE),\"\")","v":""},null,{"$f":"IF(ROWS(B$20:B23)<=$M$21,INDEX(masterlist!$C$2:$C$200,SMALL(IF(masterlist!$B$2:$B$200=\"DPM\",IF(masterlist!$E$2:$E$200=2,ROW(masterlist!$B$2:$B$200)-ROW(masterlist!$B$2)+1)),ROWS(B$20:B23))),\"\")","v":"DPM- -2-7"},{"$f":"IFERROR(VLOOKUP(N23&\"-0\",'linked mastersheet'!$A$2:$K$200,7,FALSE),\"\")","v":""},{"$f":"IFERROR(VLOOKUP(N23&\"-1\",'linked mastersheet'!$A$2:$K$200,7,FALSE),\"\")","v":"Have training or refresher courses on responsible dog management been initiated for professionals in animal health at a local level?"},null,{"$f":"IF(ROWS(B$20:B23)<=$Q$21,INDEX(masterlist!$C$2:$C$200,SMALL(IF(masterlist!$B$2:$B$200=\"IEC\",IF(masterlist!$E$2:$E$200=2,ROW(masterlist!$B$2:$B$200)-ROW(masterlist!$B$2)+1)),ROWS(B$20:B23))),\"\")","v":""},{"$f":"IFERROR(VLOOKUP(R23&\"-0\",'linked mastersheet'!$A$2:$K$200,7,FALSE),\"\")","v":""},{"$f":"IFERROR(VLOOKUP(R23&\"-1\",'linked mastersheet'!$A$2:$K$200,7,FALSE),\"\")","v":""},null,{"$f":"IF(ROWS(B$20:B23)<=$U$21,INDEX(masterlist!$C$2:$C$200,SMALL(IF(masterlist!$B$2:$B$200=\"CCI\",IF(masterlist!$E$2:$E$200=2,ROW(masterlist!$B$2:$B$200)-ROW(masterlist!$B$2)+1)),ROWS(B$20:B23))),\"\")","v":""},{"$f":"IFERROR(VLOOKUP(V23&\"-0\",'linked mastersheet'!$A$2:$K$200,7,FALSE),\"\")","v":""},{"$f":"IFERROR(VLOOKUP(V23&\"-1\",'linked mastersheet'!$A$2:$K$200,7,FALSE),\"\")","v":""},null,{"$f":"IF(ROWS(B$20:B23)<=$Y$21,INDEX(masterlist!$C$2:$C$200,SMALL(IF(masterlist!$B$2:$B$200=\"LEG\",IF(masterlist!$E$2:$E$200=2,ROW(masterlist!$B$2:$B$200)-ROW(masterlist!$B$2)+1)),ROWS(B$20:B23))),\"\")","v":""},{"$f":"IFERROR(VLOOKUP(Z23&\"-0\",'linked mastersheet'!$A$2:$K$200,7,FALSE),\"\")","v":""},{"$f":"IFERROR(VLOOKUP(Z23&\"-1\",'linked mastersheet'!$A$2:$K$200,7,FALSE),\"\")","v":""}]
[null,{"$f":"IF(ROWS(B$20:B24)<=$A$21,INDEX(masterlist!$C$2:$C$200,SMALL(IF(masterlist!$B$2:$B$200=\"DCA\",IF(masterlist!$E$2:$E$200=2,ROW(masterlist!$B$2:$B$200)-ROW(masterlist!$B$2)+1)),ROWS(B$20:B24))),\"\")","v":"DCA-Sur-2-16"},{"$f":"IFERROR(VLOOKUP(B24&\"-0\",'linked mastersheet'!$A$2:$K$200,7,FALSE),\"\")","v":""},{"$f":"IFERROR(VLOOKUP(B24&\"-1\",'linked mastersheet'!$A$2:$K$200,7,FALSE),\"\")","v":"Is the on-going surveillance system for rabies being maintained?"},null,{"$f":"IF(ROWS(B$20:B24)<=$E$21,INDEX(masterlist!$C$2:$C$200,SMALL(IF(masterlist!$B$2:$B$200=\"PCO\",IF(masterlist!$E$2:$E$200=2,ROW(masterlist!$B$2:$B$200)-ROW(masterlist!$B$2)+1)),ROWS(B$20:B24))),\"\")","v":"PCO-Out-2-17"},{"$f":"IFERROR(VLOOKUP(F24&\"-0\",'linked mastersheet'!$A$2:$K$200,7,FALSE),\"\")","v":""},{"$f":"IFERROR(VLOOKUP(F24&\"-1\",'linked mastersheet'!$A$2:$K$200,7,FALSE),\"\")","v":"Have IBCM SOPs, including sharing of information between sectors, been agreed upon at a national level?"},null,{"$f":"IF(ROWS(B$20:B24)<=$I$21,INDEX(masterlist!$C$2:$C$200,SMALL(IF(masterlist!$B$2:$B$200=\"LAB\",IF(masterlist!$E$2:$E$200=2,ROW(masterlist!$B$2:$B$200)-ROW(masterlist!$B$2)+1)),ROWS(B$20:B24))),\"\")","v":""},{"$f":"IFERROR(VLOOKUP(J24&\"-0\",'linked mastersheet'!$A$2:$K$200,7,FALSE),\"\")","v":""},{"$f":"IFERROR(VLOOKUP(J24&\"-1\",'linked mastersheet'!$A$2:$K$200,7,FALSE),\"\")","v":""},null,{"$f":"IF(ROWS(B$20:B24)<=$M$21,INDEX(masterlist!$C$2:$C$200,SMALL(IF(masterlist!$B$2:$B$200=\"DPM\",IF(masterlist!$E$2:$E$200=2,ROW(masterlist!$B$2:$B$200)-ROW(masterlist!$B$2)+1)),ROWS(B$20:B24))),\"\")","v":""},{"$f":"IFERROR(VLOOKUP(N24&\"-0\",'linked mastersheet'!$A$2:$K$200,7,FALSE),\"\")","v":""},{"$f":"IFERROR(VLOOKUP(N24&\"-1\",'linked mastersheet'!$A$2:$K$200,7,FALSE),\"\")","v":""},null,{"$f":"IF(ROWS(B$20:B24)<=$Q$21,INDEX(masterlist!$C$2:$C$200,SMALL(IF(masterlist!$B$2:$B$200=\"IEC\",IF(masterlist!$E$2:$E$200=2,ROW(masterlist!$B$2:$B$200)-ROW(masterlist!$B$2)+1)),ROWS(B$20:B24))),\"\")","v":""},{"$f":"IFERROR(VLOOKUP(R24&\"-0\",'linked mastersheet'!$A$2:$K$200,7,FALSE),\"\")","v":""},{"$f":"IFERROR(VLOOKUP(R24&\"-1\",'linked mastersheet'!$A$2:$K$200,7,FALSE),\"\")","v":""},null,{"$f":"IF(ROWS(B$20:B24)<=$U$21,INDEX(masterlist!$C$2:$C$200,SMALL(IF(masterlist!$B$2:$B$200=\"CCI\",IF(masterlist!$E$2:$E$200=2,ROW(masterlist!$B$2:$B$200)-ROW(masterlist!$B$2)+1)),ROWS(B$20:B24))),\"\")","v":""},{"$f":"IFERROR(VLOOKUP(V24&\"-0\",'linked mastersheet'!$A$2:$K$200,7,FALSE),\"\")","v":""},{"$f":"IFERROR(VLOOKUP(V24&\"-1\",'linked mastersheet'!$A$2:$K$200,7,FALSE),\"\")","v":""},null,{"$f":"IF(ROWS(B$20:B24)<=$Y$21,INDEX(masterlist!$C$2:$C$200,SMALL(IF(masterlist!$B$2:$B$200=\"LEG\",IF(masterlist!$E$2:$E$200=2,ROW(masterlist!$B$2:$B$200)-ROW(masterlist!$B$2)+1)),ROWS(B$20:B24))),\"\")","v":""},{"$f":"IFERROR(VLOOKUP(Z24&\"-0\",'linked mastersheet'!$A$2:$K$200,7,FALSE),\"\")","v":""},{"$f":"IFERROR(VLOOKUP(Z24&\"-1\",'linked mastersheet'!$A$2:$K$200,7,FALSE),\"\")","v":""}]
[null,{"$f":"IF(ROWS(B$20:B25)<=$A$21,INDEX(masterlist!$C$2:$C$200,SMALL(IF(masterlist!$B$2:$B$200=\"DCA\",IF(masterlist!$E$2:$E$200=2,ROW(masterlist!$B$2:$B$200)-ROW(masterlist!$B$2)+1)),ROWS(B$20:B25))),\"\")","v":""},{"$f":"IFERROR(VLOOKUP(B25&\"-0\",'linked mastersheet'!$A$2:$K$200,7,FALSE),\"\")","v":""},{"$f":"IFERROR(VLOOKUP(B25&\"-1\",'linked mastersheet'!$A$2:$K$200,7,FALSE),\"\")","v":""},null,{"$f":"IF(ROWS(B$20:B25)<=$E$21,INDEX(masterlist!$C$2:$C$200,SMALL(IF(masterlist!$B$2:$B$200=\"PCO\",IF(masterlist!$E$2:$E$200=2,ROW(masterlist!$B$2:$B$200)-ROW(masterlist!$B$2)+1)),ROWS(B$20:B25))),\"\")","v":"PCO-Out-2-18"},{"$f":"IFERROR(VLOOKUP(F25&\"-0\",'linked mastersheet'!$A$2:$K$200,7,FALSE),\"\")","v":""},{"$f":"IFERROR(VLOOKUP(F25&\"-1\",'linked mastersheet'!$A$2:$K$200,7,FALSE),\"\")","v":"Is there active response to outbreaks in line with established SOPs?"},null,{"$f":"IF(ROWS(B$20:B25)<=$I$21,INDEX(masterlist!$C$2:$C$200,SMALL(IF(masterlist!$B$2:$B$200=\"LAB\",IF(masterlist!$E$2:$E$200=2,ROW(masterlist!$B$2:$B$200)-ROW(masterlist!$B$2)+1)),ROWS(B$20:B25))),\"\")","v":""},{"$f":"IFERROR(VLOOKUP(J25&\"-0\",'linked mastersheet'!$A$2:$K$200,7,FALSE),\"\")","v":""},{"$f":"IFERROR(VLOOKUP(J25&\"-1\",'linked mastersheet'!$A$2:$K$200,7,FALSE),\"\")","v":""},null,{"$f":"IF(ROWS(B$20:B25)<=$M$21,INDEX(masterlist!$C$2:$C$200,SMALL(IF(masterlist!$B$2:$B$200=\"DPM\",IF(masterlist!$E$2:$E$200=2,ROW(masterlist!$B$2:$B$200)-ROW(masterlist!$B$2)+1)),ROWS(B$20:B25))),\"\")","v":""},{"$f":"IFERROR(VLOOKUP(N25&\"-0\",'linked mastersheet'!$A$2:$K$200,7,FALSE),\"\")","v":""},{"$f":"IFERROR(VLOOKUP(N25&\"-1\",'linked mastersheet'!$A$2:$K$200,7,FALSE),\"\")","v":""},null,{"$f":"IF(ROWS(B$20:B25)<=$Q$21,INDEX(masterlist!$C$2:$C$200,SMALL(IF(masterlist!$B$2:$B$200=\"IEC\",IF(masterlist!$E$2:$E$200=2,ROW(masterlist!$B$2:$B$200)-ROW(masterlist!$B$2)+1)),ROWS(B$20:B25))),\"\")","v":""},{"$f":"IFERROR(VLOOKUP(R25&\"-0\",'linked mastersheet'!$A$2:$K$200,7,FALSE),\"\")","v":""},{"$f":"IFERROR(VLOOKUP(R25&\"-1\",'linked mastersheet'!$A$2:$K$200,7,FALSE),\"\")","v":""},null,{"$f":"IF(ROWS(B$20:B25)<=$U$21,INDEX(masterlist!$C$2:$C$200,SMALL(IF(masterlist!$B$2:$B$200=\"CCI\",IF(masterlist!$E$2:$E$200=2,ROW(masterlist!$B$2:$B$200)-ROW(masterlist!$B$2)+1)),ROWS(B$20:B25))),\"\")","v":""},{"$f":"IFERROR(VLOOKUP(V25&\"-0\",'linked mastersheet'!$A$2:$K$200,7,FALSE),\"\")","v":""},{"$f":"IFERROR(VLOOKUP(V25&\"-1\",'linked mastersheet'!$A$2:$K$200,7,FALSE),\"\")","v":""},null,{"$f":"IF(ROWS(B$20:B25)<=$Y$21,INDEX(masterlist!$C$2:$C$200,SMALL(IF(masterlist!$B$2:$B$200=\"LEG\",IF(masterlist!$E$2:$E$200=2,ROW(masterlist!$B$2:$B$200)-ROW(masterlist!$B$2)+1)),ROWS(B$20:B25))),\"\")","v":""},{"$f":"IFERROR(VLOOKUP(Z25&\"-0\",'linked mastersheet'!$A$2:$K$200,7,FALSE),\"\")","v":""},{"$f":"IFERROR(VLOOKUP(Z25&\"-1\",'linked mastersheet'!$A$2:$K$200,7,FALSE),\"\")","v":""}]
[null,{"$f":"IF(ROWS(B$20:B26)<=$A$21,INDEX(masterlist!$C$2:$C$200,SMALL(IF(masterlist!$B$2:$B$200=\"DCA\",IF(masterlist!$E$2:$E$200=2,ROW(masterlist!$B$2:$B$200)-ROW(masterlist!$B$2)+1)),ROWS(B$20:B26))),\"\")","v":""},{"$f":"IFERROR(VLOOKUP(B26&\"-0\",'linked mastersheet'!$A$2:$K$200,7,FALSE),\"\")","v":""},{"$f":"IFERROR(VLOOKUP(B26&\"-1\",'linked mastersheet'!$A$2:$K$200,7,FALSE),\"\")","v":""},null,{"$f":"IF(ROWS(B$20:B26)<=$E$21,INDEX(masterlist!$C$2:$C$200,SMALL(IF(masterlist!$B$2:$B$200=\"PCO\",IF(masterlist!$E$2:$E$200=2,ROW(masterlist!$B$2:$B$200)-ROW(masterlist!$B$2)+1)),ROWS(B$20:B26))),\"\")","v":"PCO-Out-2-19"},{"$f":"IFERROR(VLOOKUP(F26&\"-0\",'linked mastersheet'!$A$2:$K$200,7,FALSE),\"\")","v":""},{"$f":"IFERROR(VLOOKUP(F26&\"-1\",'linked mastersheet'!$A$2:$K$200,7,FALSE),\"\")","v":"Are SOPs available for the observation of rabies suspect dogs? "},null,{"$f":"IF(ROWS(B$20:B26)<=$I$21,INDEX(masterlist!$C$2:$C$200,SMALL(IF(masterlist!$B$2:$B$200=\"LAB\",IF(masterlist!$E$2:$E$200=2,ROW(masterlist!$B$2:$B$200)-ROW(masterlist!$B$2)+1)),ROWS(B$20:B26))),\"\")","v":""},{"$f":"IFERROR(VLOOKUP(J26&\"-0\",'linked mastersheet'!$A$2:$K$200,7,FALSE),\"\")","v":""},{"$f":"IFERROR(VLOOKUP(J26&\"-1\",'linked mastersheet'!$A$2:$K$200,7,FALSE),\"\")","v":""},null,{"$f":"IF(ROWS(B$20:B26)<=$M$21,INDEX(masterlist!$C$2:$C$200,SMALL(IF(masterlist!$B$2:$B$200=\"DPM\",IF(masterlist!$E$2:$E$200=2,ROW(masterlist!$B$2:$B$200)-ROW(masterlist!$B$2)+1)),ROWS(B$20:B26))),\"\")","v":""},{"$f":"IFERROR(VLOOKUP(N26&\"-0\",'linked mastersheet'!$A$2:$K$200,7,FALSE),\"\")","v":""},{"$f":"IFERROR(VLOOKUP(N26&\"-1\",'linked mastersheet'!$A$2:$K$200,7,FALSE),\"\")","v":""},null,{"$f":"IF(ROWS(B$20:B26)<=$Q$21,INDEX(masterlist!$C$2:$C$200,SMALL(IF(masterlist!$B$2:$B$200=\"IEC\",IF(masterlist!$E$2:$E$200=2,ROW(masterlist!$B$2:$B$200)-ROW(masterlist!$B$2)+1)),ROWS(B$20:B26))),\"\")","v":""},{"$f":"IFERROR(VLOOKUP(R26&\"-0\",'linked mastersheet'!$A$2:$K$200,7,FALSE),\"\")","v":""},{"$f":"IFERROR(VLOOKUP(R26&\"-1\",'linked mastersheet'!$A$2:$K$200,7,FALSE),\"\")","v":""},null,{"$f":"IF(ROWS(B$20:B26)<=$U$21,INDEX(masterlist!$C$2:$C$200,SMALL(IF(masterlist!$B$2:$B$200=\"CCI\",IF(masterlist!$E$2:$E$200=2,ROW(masterlist!$B$2:$B$200)-ROW(masterlist!$B$2)+1)),ROWS(B$20:B26))),\"\")","v":""},{"$f":"IFERROR(VLOOKUP(V26&\"-0\",'linked mastersheet'!$A$2:$K$200,7,FALSE),\"\")","v":""},{"$f":"IFERROR(VLOOKUP(V26&\"-1\",'linked mastersheet'!$A$2:$K$200,7,FALSE),\"\")","v":""},null,{"$f":"IF(ROWS(B$20:B26)<=$Y$21,INDEX(masterlist!$C$2:$C$200,SMALL(IF(masterlist!$B$2:$B$200=\"LEG\",IF(masterlist!$E$2:$E$200=2,ROW(masterlist!$B$2:$B$200)-ROW(masterlist!$B$2)+1)),ROWS(B$20:B26))),\"\")","v":""},{"$f":"IFERROR(VLOOKUP(Z26&\"-0\",'linked mastersheet'!$A$2:$K$200,7,FALSE),\"\")","v":""},{"$f":"IFERROR(VLOOKUP(Z26&\"-1\",'linked mastersheet'!$A$2:$K$200,7,FALSE),\"\")","v":""}]
[null,{"$f":"IF(ROWS(B$20:B27)<=$A$21,INDEX(masterlist!$C$2:$C$200,SMALL(IF(masterlist!$B$2:$B$200=\"DCA\",IF(masterlist!$E$2:$E$200=2,ROW(masterlist!$B$2:$B$200)-ROW(masterlist!$B$2)+1)),ROWS(B$20:B27))),\"\")","v":""},{"$f":"IFERROR(VLOOKUP(B27&\"-0\",'linked mastersheet'!$A$2:$K$200,7,FALSE),\"\")","v":""},{"$f":"IFERROR(VLOOKUP(B27&\"-1\",'linked mastersheet'!$A$2:$K$200,7,FALSE),\"\")","v":""},null,{"$f":"IF(ROWS(B$20:B27)<=$E$21,INDEX(masterlist!$C$2:$C$200,SMALL(IF(masterlist!$B$2:$B$200=\"PCO\",IF(masterlist!$E$2:$E$200=2,ROW(masterlist!$B$2:$B$200)-ROW(masterlist!$B$2)+1)),ROWS(B$20:B27))),\"\")","v":"PCO-Out-2-20"},{"$f":"IFERROR(VLOOKUP(F27&\"-0\",'linked mastersheet'!$A$2:$K$200,7,FALSE),\"\")","v":"Have facilities been established for the observation of rabies-suspected dogs?"},{"$f":"IFERROR(VLOOKUP(F27&\"-1\",'linked mastersheet'!$A$2:$K$200,7,FALSE),\"\")","v":""},null,{"$f":"IF(ROWS(B$20:B27)<=$I$21,INDEX(masterlist!$C$2:$C$200,SMALL(IF(masterlist!$B$2:$B$200=\"LAB\",IF(masterlist!$E$2:$E$200=2,ROW(masterlist!$B$2:$B$200)-ROW(masterlist!$B$2)+1)),ROWS(B$20:B27))),\"\")","v":""},{"$f":"IFERROR(VLOOKUP(J27&\"-0\",'linked mastersheet'!$A$2:$K$200,7,FALSE),\"\")","v":""},{"$f":"IFERROR(VLOOKUP(J27&\"-1\",'linked mastersheet'!$A$2:$K$200,7,FALSE),\"\")","v":""},null,{"$f":"IF(ROWS(B$20:B27)<=$M$21,INDEX(masterlist!$C$2:$C$200,SMALL(IF(masterlist!$B$2:$B$200=\"DPM\",IF(masterlist!$E$2:$E$200=2,ROW(masterlist!$B$2:$B$200)-ROW(masterlist!$B$2)+1)),ROWS(B$20:B27))),\"\")","v":""},{"$f":"IFERROR(VLOOKUP(N27&\"-0\",'linked mastersheet'!$A$2:$K$200,7,FALSE),\"\")","v":""},{"$f":"IFERROR(VLOOKUP(N27&\"-1\",'linked mastersheet'!$A$2:$K$200,7,FALSE),\"\")","v":""},null,{"$f":"IF(ROWS(B$20:B27)<=$Q$21,INDEX(masterlist!$C$2:$C$200,SMALL(IF(masterlist!$B$2:$B$200=\"IEC\",IF(masterlist!$E$2:$E$200=2,ROW(masterlist!$B$2:$B$200)-ROW(masterlist!$B$2)+1)),ROWS(B$20:B27))),\"\")","v":""},{"$f":"IFERROR(VLOOKUP(R27&\"-0\",'linked mastersheet'!$A$2:$K$200,7,FALSE),\"\")","v":""},{"$f":"IFERROR(VLOOKUP(R27&\"-1\",'linked mastersheet'!$A$2:$K$200,7,FALSE),\"\")","v":""},null,{"$f":"IF(ROWS(B$20:B27)<=$U$21,INDEX(masterlist!$C$2:$C$200,SMALL(IF(masterlist!$B$2:$B$200=\"CCI\",IF(masterlist!$E$2:$E$200=2,ROW(masterlist!$B$2:$B$200)-ROW(masterlist!$B$2)+1)),ROWS(B$20:B27))),\"\")","v":""},{"$f":"IFERROR(VLOOKUP(V27&\"-0\",'linked mastersheet'!$A$2:$K$200,7,FALSE),\"\")","v":""},{"$f":"IFERROR(VLOOKUP(V27&\"-1\",'linked mastersheet'!$A$2:$K$200,7,FALSE),\"\")","v":""},null,{"$f":"IF(ROWS(B$20:B27)<=$Y$21,INDEX(masterlist!$C$2:$C$200,SMALL(IF(masterlist!$B$2:$B$200=\"LEG\",IF(masterlist!$E$2:$E$200=2,ROW(masterlist!$B$2:$B$200)-ROW(masterlist!$B$2)+1)),ROWS(B$20:B27))),\"\")","v":""},{"$f":"IFERROR(VLOOKUP(Z27&\"-0\",'linked mastersheet'!$A$2:$K$200,7,FALSE),\"\")","v":""},{"$f":"IFERROR(VLOOKUP(Z27&\"-1\",'linked mastersheet'!$A$2:$K$200,7,FALSE),\"\")","v":""}]
[null,{"$f":"IF(ROWS(B$20:B28)<=$A$21,INDEX(masterlist!$C$2:$C$200,SMALL(IF(masterlist!$B$2:$B$200=\"DCA\",IF(masterlist!$E$2:$E$200=2,ROW(masterlist!$B$2:$B$200)-ROW(masterlist!$B$2)+1)),ROWS(B$20:B28))),\"\")","v":""},{"$f":"IFERROR(VLOOKUP(B28&\"-0\",'linked mastersheet'!$A$2:$K$200,7,FALSE),\"\")","v":""},{"$f":"IFERROR(VLOOKUP(B28&\"-1\",'linked mastersheet'!$A$2:$K$200,7,FALSE),\"\")","v":""},null,{"$f":"IF(ROWS(B$20:B28)<=$E$21,INDEX(masterlist!$C$2:$C$200,SMALL(IF(masterlist!$B$2:$B$200=\"PCO\",IF(masterlist!$E$2:$E$200=2,ROW(masterlist!$B$2:$B$200)-ROW(masterlist!$B$2)+1)),ROWS(B$20:B28))),\"\")","v":""},{"$f":"IFERROR(VLOOKUP(F28&\"-0\",'linked mastersheet'!$A$2:$K$200,7,FALSE),\"\")","v":""},{"$f":"IFERROR(VLOOKUP(F28&\"-1\",'linked mastersheet'!$A$2:$K$200,7,FALSE),\"\")","v":""},null,{"$f":"IF(ROWS(B$20:B28)<=$I$21,INDEX(masterlist!$C$2:$C$200,SMALL(IF(masterlist!$B$2:$B$200=\"LAB\",IF(masterlist!$E$2:$E$200=2,ROW(masterlist!$B$2:$B$200)-ROW(masterlist!$B$2)+1)),ROWS(B$20:B28))),\"\")","v":""},{"$f":"IFERROR(VLOOKUP(J28&\"-0\",'linked mastersheet'!$A$2:$K$200,7,FALSE),\"\")","v":""},{"$f":"IFERROR(VLOOKUP(J28&\"-1\",'linked mastersheet'!$A$2:$K$200,7,FALSE),\"\")","v":""},null,{"$f":"IF(ROWS(B$20:B28)<=$M$21,INDEX(masterlist!$C$2:$C$200,SMALL(IF(masterlist!$B$2:$B$200=\"DPM\",IF(masterlist!$E$2:$E$200=2,ROW(masterlist!$B$2:$B$200)-ROW(masterlist!$B$2)+1)),ROWS(B$20:B28))),\"\")","v":""},{"$f":"IFERROR(VLOOKUP(N28&\"-0\",'linked mastersheet'!$A$2:$K$200,7,FALSE),\"\")","v":""},{"$f":"IFERROR(VLOOKUP(N28&\"-1\",'linked mastersheet'!$A$2:$K$200,7,FALSE),\"\")","v":""},null,{"$f":"IF(ROWS(B$20:B28)<=$Q$21,INDEX(masterlist!$C$2:$C$200,SMALL(IF(masterlist!$B$2:$B$200=\"IEC\",IF(masterlist!$E$2:$E$200=2,ROW(masterlist!$B$2:$B$200)-ROW(masterlist!$B$2)+1)),ROWS(B$20:B28))),\"\")","v":""},{"$f":"IFERROR(VLOOKUP(R28&\"-0\",'linked mastersheet'!$A$2:$K$200,7,FALSE),\"\")","v":""},{"$f":"IFERROR(VLOOKUP(R28&\"-1\",'linked mastersheet'!$A$2:$K$200,7,FALSE),\"\")","v":""},null,{"$f":"IF(ROWS(B$20:B28)<=$U$21,INDEX(masterlist!$C$2:$C$200,SMALL(IF(masterlist!$B$2:$B$200=\"CCI\",IF(masterlist!$E$2:$E$200=2,ROW(masterlist!$B$2:$B$200)-ROW(masterlist!$B$2)+1)),ROWS(B$20:B28))),\"\")","v":""},{"$f":"IFERROR(VLOOKUP(V28&\"-0\",'linked mastersheet'!$A$2:$K$200,7,FALSE),\"\")","v":""},{"$f":"IFERROR(VLOOKUP(V28&\"-1\",'linked mastersheet'!$A$2:$K$200,7,FALSE),\"\")","v":""},null,{"$f":"IF(ROWS(B$20:B28)<=$Y$21,INDEX(masterlist!$C$2:$C$200,SMALL(IF(masterlist!$B$2:$B$200=\"LEG\",IF(masterlist!$E$2:$E$200=2,ROW(masterlist!$B$2:$B$200)-ROW(masterlist!$B$2)+1)),ROWS(B$20:B28))),\"\")","v":""},{"$f":"IFERROR(VLOOKUP(Z28&\"-0\",'linked mastersheet'!$A$2:$K$200,7,FALSE),\"\")","v":""},{"$f":"IFERROR(VLOOKUP(Z28&\"-1\",'linked mastersheet'!$A$2:$K$200,7,FALSE),\"\")","v":""}]
[3,{"$f":"IF(ROWS(B$29:B29)<=$A$30,INDEX(masterlist!$C$2:$C$200,SMALL(IF(masterlist!$B$2:$B$200=\"DCA\",IF(masterlist!$E$2:$E$200=3,ROW(masterlist!$B$2:$B$200)-ROW(masterlist!$B$2)+1)),ROWS(B$29:B29))),\"\")","v":"DCA-Sur-3-17"},{"$f":"IFERROR(VLOOKUP(B29&\"-0\",'linked mastersheet'!$A$2:$K$200,7,FALSE),\"\")","v":"As your country nears human rabies elimination, have field investigations for all suspected human rabies cases been conducted? "},{"$f":"IFERROR(VLOOKUP(B29&\"-1\",'linked mastersheet'!$A$2:$K$200,7,FALSE),\"\")","v":""},null,{"$f":"IF(ROWS(B$29:B29)<=$E$30,INDEX(masterlist!$C$2:$C$200,SMALL(IF(masterlist!$B$2:$B$200=\"PCO\",IF(masterlist!$E$2:$E$200=3,ROW(masterlist!$B$2:$B$200)-ROW(masterlist!$B$2)+1)),ROWS(B$29:B29))),\"\")","v":"PCO-Hum-3-6"},{"$f":"IFERROR(VLOOKUP(F29&\"-0\",'linked mastersheet'!$A$2:$K$200,7,FALSE),\"\")","v":""},{"$f":"IFERROR(VLOOKUP(F29&\"-1\",'linked mastersheet'!$A$2:$K$200,7,FALSE),\"\")","v":"Are WHO pre-qualified vaccines and RIG available and accessible to high risk and exposed individuals throughout the country?"},null,{"$f":"IF(ROWS(B$29:B29)<=$I$30,INDEX(masterlist!$C$2:$C$200,SMALL(IF(masterlist!$B$2:$B$200=\"LAB\",IF(masterlist!$E$2:$E$200=3,ROW(masterlist!$B$2:$B$200)-ROW(masterlist!$B$2)+1)),ROWS(B$29:B29))),\"\")","v":"LAB-Lab-3-8"},{"$f":"IFERROR(VLOOKUP(J29&\"-0\",'linked mastersheet'!$A$2:$K$200,7,FALSE),\"\")","v":""},{"$f":"IFERROR(VLOOKUP(J29&\"-1\",'linked mastersheet'!$A$2:$K$200,7,FALSE),\"\")","v":"Is access to reliable laboratory diagnosis available throughout the country for animal samples (and if possible also for human and wildlife samples)?"},null,{"$f":"IF(ROWS(B$29:B29)<=$M$30,INDEX(masterlist!$C$2:$C$200,SMALL(IF(masterlist!$B$2:$B$200=\"DPM\",IF(masterlist!$E$2:$E$200=3,ROW(masterlist!$B$2:$B$200)-ROW(masterlist!$B$2)+1)),ROWS(B$29:B29))),\"\")","v":"DPM- -3-8"},{"$f":"IFERROR(VLOOKUP(N29&\"-0\",'linked mastersheet'!$A$2:$K$200,7,FALSE),\"\")","v":""},{"$f":"IFERROR(VLOOKUP(N29&\"-1\",'linked mastersheet'!$A$2:$K$200,7,FALSE),\"\")","v":"Has the DPM strategy been assessed and refined based on current dog ecology or KAP surveys done at a local level?"},null,{"$f":"IF(ROWS(B$29:B29)<=$Q$30,INDEX(masterlist!$C$2:$C$200,SMALL(IF(masterlist!$B$2:$B$200=\"IEC\",IF(masterlist!$E$2:$E$200=3,ROW(masterlist!$B$2:$B$200)-ROW(masterlist!$B$2)+1)),ROWS(B$29:B29))),\"\")","v":"IEC-Pub-3-5"},{"$f":"IFERROR(VLOOKUP(R29&\"-0\",'linked mastersheet'!$A$2:$K$200,7,FALSE),\"\")","v":"Has the IEC plan been integrated into the national rabies strategy, implemented at national level and updated where needed?"},{"$f":"IFERROR(VLOOKUP(R29&\"-1\",'linked mastersheet'!$A$2:$K$200,7,FALSE),\"\")","v":""},null,{"$f":"IF(ROWS(B$29:B29)<=$U$30,INDEX(masterlist!$C$2:$C$200,SMALL(IF(masterlist!$B$2:$B$200=\"CCI\",IF(masterlist!$E$2:$E$200=3,ROW(masterlist!$B$2:$B$200)-ROW(masterlist!$B$2)+1)),ROWS(B$29:B29))),\"\")","v":"CCI-Nat-3-10"},{"$f":"IFERROR(VLOOKUP(V29&\"-0\",'linked mastersheet'!$A$2:$K$200,7,FALSE),\"\")","v":"Now that there are very few animal rabies cases in your country, has the national strategy been refined based on current data? "},{"$f":"IFERROR(VLOOKUP(V29&\"-1\",'linked mastersheet'!$A$2:$K$200,7,FALSE),\"\")","v":""},null,{"$f":"IF(ROWS(B$29:B29)<=$Y$30,INDEX(masterlist!$C$2:$C$200,SMALL(IF(masterlist!$B$2:$B$200=\"LEG\",IF(masterlist!$E$2:$E$200=3,ROW(masterlist!$B$2:$B$200)-ROW(masterlist!$B$2)+1)),ROWS(B$29:B29))),\"\")","v":"LEG-Leg-3-11"},{"$f":"IFERROR(VLOOKUP(Z29&\"-0\",'linked mastersheet'!$A$2:$K$200,7,FALSE),\"\")","v":""},{"$f":"IFERROR(VLOOKUP(Z29&\"-1\",'linked mastersheet'!$A$2:$K$200,7,FALSE),\"\")","v":"Has legislation been updated to include specifications on the compulsory vaccination and international movement of dogs? "}]
[{"$f":"SUMPRODUCT((masterlist!B:B=\"DCA\")*(masterlist!E:E=3))","v":3},{"$f":"IF(ROWS(B$29:B30)<=$A$30,INDEX(masterlist!$C$2:$C$200,SMALL(IF(masterlist!$B$2:$B$200=\"DCA\",IF(masterlist!$E$2:$E$200=3,ROW(masterlist!$B$2:$B$200)-ROW(masterlist!$B$2)+1)),ROWS(B$29:B30))),\"\")","v":"DCA-Sur-3-18"},{"$f":"IFERROR(VLOOKUP(B30&\"-0\",'linked mastersheet'!$A$2:$K$200,7,FALSE),\"\")","v":"As your country nears human rabies elimination, is epidemiological data being collected to provide evidence of dog-transmitted human rabies-free zones?"},{"$f":"IFERROR(VLOOKUP(B30&\"-1\",'linked mastersheet'!$A$2:$K$200,7,FALSE),\"\")","v":""},{"$f":"SUMPRODUCT((masterlist!B:B=\"PCO\")*(masterlist!E:E=3))","v":6},{"$f":"IF(ROWS(B$29:B30)<=$E$30,INDEX(masterlist!$C$2:$C$200,SMALL(IF(masterlist!$B$2:$B$200=\"PCO\",IF(masterlist!$E$2:$E$200=3,ROW(masterlist!$B$2:$B$200)-ROW(masterlist!$B$2)+1)),ROWS(B$29:B30))),\"\")","v":"PCO-Dog-3-11"},{"$f":"IFERROR(VLOOKUP(F30&\"-0\",'linked mastersheet'!$A$2:$K$200,7,FALSE),\"\")","v":""},{"$f":"IFERROR(VLOOKUP(F30&\"-1\",'linked mastersheet'!$A$2:$K$200,7,FALSE),\"\")","v":"Are mass dog vaccination campaigns reaching at least 70% of the total dog population conducted according to the plan described in the national rabies strategy? "},{"$f":"SUMPRODUCT((masterlist!B:B=\"LAB\")*(masterlist!E:E=3))","v":2},{"$f":"IF(ROWS(B$29:B30)<=$I$30,INDEX(masterlist!$C$2:$C$200,SMALL(IF(masterlist!$B$2:$B$200=\"LAB\",IF(masterlist!$E$2:$E$200=3,ROW(masterlist!$B$2:$B$200)-ROW(masterlist!$B$2)+1)),ROWS(B$29:B30))),\"\")","v":"LAB-Lab-3-9"},{"$f":"IFERROR(VLOOKUP(J30&\"-0\",'linked mastersheet'!$A$2:$K$200,7,FALSE),\"\")","v":""},{"$f":"IFERROR(VLOOKUP(J30&\"-1\",'linked mastersheet'!$A$2:$K$200,7,FALSE),\"\")","v":"Do you regularly assess your capacity to accurately diagnose suspect rabies samples (both human and animal)"},{"$f":"SUMPRODUCT((masterlist!B:B=\"DPM\")*(masterlist!E:E=3))","v":3},{"$f":"IF(ROWS(B$29:B30)<=$M$30,INDEX(masterlist!$C$2:$C$200,SMALL(IF(masterlist!$B$2:$B$200=\"DPM\",IF(masterlist!$E$2:$E$200=3,ROW(masterlist!$B$2:$B$200)-ROW(masterlist!$B$2)+1)),ROWS(B$29:B30))),\"\")","v":"DPM- -3-9"},{"$f":"IFERROR(VLOOKUP(N30&\"-0\",'linked mastersheet'!$A$2:$K$200,7,FALSE),\"\")","v":""},{"$f":"IFERROR(VLOOKUP(N30&\"-1\",'linked mastersheet'!$A$2:$K$200,7,FALSE),\"\")","v":"Have rabies awareness campaigns, including responsible dog ownership, been expanded to more areas?"},{"$f":"SUMPRODUCT((masterlist!B:B=\"IEC\")*(masterlist!E:E=3))","v":2},{"$f":"IF(ROWS(B$29:B30)<=$Q$30,INDEX(masterlist!$C$2:$C$200,SMALL(IF(masterlist!$B$2:$B$200=\"IEC\",IF(masterlist!$E$2:$E$200=3,ROW(masterlist!$B$2:$B$200)-ROW(masterlist!$B$2)+1)),ROWS(B$29:B30))),\"\")","v":"IEC-Adv-3-17"},{"$f":"IFERROR(VLOOKUP(R30&\"-0\",'linked mastersheet'!$A$2:$K$200,7,FALSE),\"\")","v":"Have dog-transmitted human rabies free zones been declared publicly?"},{"$f":"IFERROR(VLOOKUP(R30&\"-1\",'linked mastersheet'!$A$2:$K$200,7,FALSE),\"\")","v":""},{"$f":"SUMPRODUCT((masterlist!B:B=\"CCI\")*(masterlist!E:E=3))","v":1},{"$f":"IF(ROWS(B$29:B30)<=$U$30,INDEX(masterlist!$C$2:$C$200,SMALL(IF(masterlist!$B$2:$B$200=\"CCI\",IF(masterlist!$E$2:$E$200=3,ROW(masterlist!$B$2:$B$200)-ROW(masterlist!$B$2)+1)),ROWS(B$29:B30))),\"\")","v":""},{"$f":"IFERROR(VLOOKUP(V30&\"-0\",'linked mastersheet'!$A$2:$K$200,7,FALSE),\"\")","v":""},{"$f":"IFERROR(VLOOKUP(V30&\"-1\",'linked mastersheet'!$A$2:$K$200,7,FALSE),\"\")","v":""},{"$f":"SUMPRODUCT((masterlist!B:B=\"LEG\")*(masterlist!E:E=3))","v":2},{"$f":"IF(ROWS(B$29:B30)<=$Y$30,INDEX(masterlist!$C$2:$C$200,SMALL(IF(masterlist!$B$2:$B$200=\"LEG\",IF(masterlist!$E$2:$E$200=3,ROW(masterlist!$B$2:$B$200)-ROW(masterlist!$B$2)+1)),ROWS(B$29:B30))),\"\")","v":"LEG-Leg-3-12"},{"$f":"IFERROR(VLOOKUP(Z30&\"-0\",'linked mastersheet'!$A$2:$K$200,7,FALSE),\"\")","v":""},{"$f":"IFERROR(VLOOKUP(Z30&\"-1\",'linked mastersheet'!$A$2:$K$200,7,FALSE),\"\")","v":"Is the relevant legislation enforced at the national level?"}]
[null,{"$f":"IF(ROWS(B$29:B31)<=$A$30,INDEX(masterlist!$C$2:$C$200,SMALL(IF(masterlist!$B$2:$B$200=\"DCA\",IF(masterlist!$E$2:$E$200=3,ROW(masterlist!$B$2:$B$200)-ROW(masterlist!$B$2)+1)),ROWS(B$29:B31))),\"\")","v":"DCA-Sur-3-19"},{"$f":"IFERROR(VLOOKUP(B31&\"-0\",'linked mastersheet'!$A$2:$K$200,7,FALSE),\"\")","v":""},{"$f":"IFERROR(VLOOKUP(B31&\"-1\",'linked mastersheet'!$A$2:$K$200,7,FALSE),\"\")","v":"Now that there are very few animal rabies cases in your country, are field investigations and laboratory confirmations conducted for all suspected rabies outbreaks in dogs?"},null,{"$f":"IF(ROWS(B$29:B31)<=$E$30,INDEX(masterlist!$C$2:$C$200,SMALL(IF(masterlist!$B$2:$B$200=\"PCO\",IF(masterlist!$E$2:$E$200=3,ROW(masterlist!$B$2:$B$200)-ROW(masterlist!$B$2)+1)),ROWS(B$29:B31))),\"\")","v":"PCO-Dog-3-12"},{"$f":"IFERROR(VLOOKUP(F31&\"-0\",'linked mastersheet'!$A$2:$K$200,7,FALSE),\"\")","v":"Are post-vaccination surveys* in dogs being carried out to evaluate vaccination coverage?"},{"$f":"IFERROR(VLOOKUP(F31&\"-1\",'linked mastersheet'!$A$2:$K$200,7,FALSE),\"\")","v":""},null,{"$f":"IF(ROWS(B$29:B31)<=$I$30,INDEX(masterlist!$C$2:$C$200,SMALL(IF(masterlist!$B$2:$B$200=\"LAB\",IF(masterlist!$E$2:$E$200=3,ROW(masterlist!$B$2:$B$200)-ROW(masterlist!$B$2)+1)),ROWS(B$29:B31))),\"\")","v":""},{"$f":"IFERROR(VLOOKUP(J31&\"-0\",'linked mastersheet'!$A$2:$K$200,7,FALSE),\"\")","v":""},{"$f":"IFERROR(VLOOKUP(J31&\"-1\",'linked mastersheet'!$A$2:$K$200,7,FALSE),\"\")","v":""},null,{"$f":"IF(ROWS(B$29:B31)<=$M$30,INDEX(masterlist!$C$2:$C$200,SMALL(IF(masterlist!$B$2:$B$200=\"DPM\",IF(masterlist!$E$2:$E$200=3,ROW(masterlist!$B$2:$B$200)-ROW(masterlist!$B$2)+1)),ROWS(B$29:B31))),\"\")","v":"DPM- -3-10"},{"$f":"IFERROR(VLOOKUP(N31&\"-0\",'linked mastersheet'!$A$2:$K$200,7,FALSE),\"\")","v":"Has veterinary and animal technician training been completed across most of country?"},{"$f":"IFERROR(VLOOKUP(N31&\"-1\",'linked mastersheet'!$A$2:$K$200,7,FALSE),\"\")","v":""},null,{"$f":"IF(ROWS(B$29:B31)<=$Q$30,INDEX(masterlist!$C$2:$C$200,SMALL(IF(masterlist!$B$2:$B$200=\"IEC\",IF(masterlist!$E$2:$E$200=3,ROW(masterlist!$B$2:$B$200)-ROW(masterlist!$B$2)+1)),ROWS(B$29:B31))),\"\")","v":""},{"$f":"IFERROR(VLOOKUP(R31&\"-0\",'linked mastersheet'!$A$2:$K$200,7,FALSE),\"\")","v":""},{"$f":"IFERROR(VLOOKUP(R31&\"-1\",'linked mastersheet'!$A$2:$K$200,7,FALSE),\"\")","v":""},null,{"$f":"IF(ROWS(B$29:B31)<=$U$30,INDEX(masterlist!$C$2:$C$200,SMALL(IF(masterlist!$B$2:$B$200=\"CCI\",IF(masterlist!$E$2:$E$200=3,ROW(masterlist!$B$2:$B$200)-ROW(masterlist!$B$2)+1)),ROWS(B$29:B31))),\"\")","v":""},{"$f":"IFERROR(VLOOKUP(V31&\"-0\",'linked mastersheet'!$A$2:$K$200,7,FALSE),\"\")","v":""},{"$f":"IFERROR(VLOOKUP(V31&\"-1\",'linked mastersheet'!$A$2:$K$200,7,FALSE),\"\")","v":""},null,{"$f":"IF(ROWS(B$29:B31)<=$Y$30,INDEX(masterlist!$C$2:$C$200,SMALL(IF(masterlist!$B$2:$B$200=\"LEG\",IF(masterlist!$E$2:$E$200=3,ROW(masterlist!$B$2:$B$200)-ROW(masterlist!$B$2)+1)),ROWS(B$29:B31))),\"\")","v":""},{"$f":"IFERROR(VLOOKUP(Z31&\"-0\",'linked mastersheet'!$A$2:$K$200,7,FALSE),\"\")","v":""},{"$f":"IFERROR(VLOOKUP(Z31&\"-1\",'linked mastersheet'!$A$2:$K$200,7,FALSE),\"\")","v":""}]
[null,{"$f":"IF(ROWS(B$29:B32)<=$A$30,INDEX(masterlist!$C$2:$C$200,SMALL(IF(masterlist!$B$2:$B$200=\"DCA\",IF(masterlist!$E$2:$E$200=3,ROW(masterlist!$B$2:$B$200)-ROW(masterlist!$B$2)+1)),ROWS(B$29:B32))),\"\")","v":""},{"$f":"IFERROR(VLOOKUP(B32&\"-0\",'linked mastersheet'!$A$2:$K$200,7,FALSE),\"\")","v":""},{"$f":"IFERROR(VLOOKUP(B32&\"-1\",'linked mastersheet'!$A$2:$K$200,7,FALSE),\"\")","v":""},null,{"$f":"IF(ROWS(B$29:B32)<=$E$30,INDEX(masterlist!$C$2:$C$200,SMALL(IF(masterlist!$B$2:$B$200=\"PCO\",IF(masterlist!$E$2:$E$200=3,ROW(masterlist!$B$2:$B$200)-ROW(masterlist!$B$2)+1)),ROWS(B$29:B32))),\"\")","v":"PCO-Out-3-21"},{"$f":"IFERROR(VLOOKUP(F32&\"-0\",'linked mastersheet'!$A$2:$K$200,7,FALSE),\"\")","v":"Is there capacity to conduct field investigations and planned outbreak responses for human rabies cases in the entire country?"},{"$f":"IFERROR(VLOOKUP(F32&\"-1\",'linked mastersheet'!$A$2:$K$200,7,FALSE),\"\")","v":""},null,{"$f":"IF(ROWS(B$29:B32)<=$I$30,INDEX(masterlist!$C$2:$C$200,SMALL(IF(masterlist!$B$2:$B$200=\"LAB\",IF(masterlist!$E$2:$E$200=3,ROW(masterlist!$B$2:$B$200)-ROW(masterlist!$B$2)+1)),ROWS(B$29:B32))),\"\")","v":""},{"$f":"IFERROR(VLOOKUP(J32&\"-0\",'linked mastersheet'!$A$2:$K$200,7,FALSE),\"\")","v":""},{"$f":"IFERROR(VLOOKUP(J32&\"-1\",'linked mastersheet'!$A$2:$K$200,7,FALSE),\"\")","v":""},null,{"$f":"IF(ROWS(B$29:B32)<=$M$30,INDEX(masterlist!$C$2:$C$200,SMALL(IF(masterlist!$B$2:$B$200=\"DPM\",IF(masterlist!$E$2:$E$200=3,ROW(masterlist!$B$2:$B$200)-ROW(masterlist!$B$2)+1)),ROWS(B$29:B32))),\"\")","v":""},{"$f":"IFERROR(VLOOKUP(N32&\"-0\",'linked mastersheet'!$A$2:$K$200,7,FALSE),\"\")","v":""},{"$f":"IFERROR(VLOOKUP(N32&\"-1\",'linked mastersheet'!$A$2:$K$200,7,FALSE),\"\")","v":""},null,{"$f":"IF(ROWS(B$29:B32)<=$Q$30,INDEX(masterlist!$C$2:$C$200,SMALL(IF(masterlist!$B$2:$B$200=\"IEC\",IF(masterlist!$E$2:$E$200=3,ROW(masterlist!$B$2:$B$200)-ROW(masterlist!$B$2)+1)),ROWS(B$29:B32))),\"\")","v":""},{"$f":"IFERROR(VLOOKUP(R32&\"-0\",'linked mastersheet'!$A$2:$K$200,7,FALSE),\"\")","v":""},{"$f":"IFERROR(VLOOKUP(R32&\"-1\",'linked mastersheet'!$A$2:$K$200,7,FALSE),\"\")","v":""},null,{"$f":"IF(ROWS(B$29:B32)<=$U$30,INDEX(masterlist!$C$2:$C$200,SMALL(IF(masterlist!$B$2:$B$200=\"CCI\",IF(masterlist!$E$2:$E$200=3,ROW(masterlist!$B$2:$B$200)-ROW(masterlist!$B$2)+1)),ROWS(B$29:B32))),\"\")","v":""},{"$f":"IFERROR(VLOOKUP(V32&\"-0\",'linked mastersheet'!$A$2:$K$200,7,FALSE),\"\")","v":""},{"$f":"IFERROR(VLOOKUP(V32&\"-1\",'linked mastersheet'!$A$2:$K$200,7,FALSE),\"\")","v":""},null,{"$f":"IF(ROWS(B$29:B32)<=$Y$30,INDEX(masterlist!$C$2:$C$200,SMALL(IF(masterlist!$B$2:$B$200=\"LEG\",IF(masterlist!$E$2:$E$200=3,ROW(masterlist!$B$2:$B$200)-ROW(masterlist!$B$2)+1)),ROWS(B$29:B32))),\"\")","v":""},{"$f":"IFERROR(VLOOKUP(Z32&\"-0\",'linked mastersheet'!$A$2:$K$200,7,FALSE),\"\")","v":""},{"$f":"IFERROR(VLOOKUP(Z32&\"-1\",'linked mastersheet'!$A$2:$K$200,7,FALSE),\"\")","v":""}]
[null,{"$f":"IF(ROWS(B$29:B33)<=$A$30,INDEX(masterlist!$C$2:$C$200,SMALL(IF(masterlist!$B$2:$B$200=\"DCA\",IF(masterlist!$E$2:$E$200=3,ROW(masterlist!$B$2:$B$200)-ROW(masterlist!$B$2)+1)),ROWS(B$29:B33))),\"\")","v":""},{"$f":"IFERROR(VLOOKUP(B33&\"-0\",'linked mastersheet'!$A$2:$K$200,7,FALSE),\"\")","v":""},{"$f":"IFERROR(VLOOKUP(B33&\"-1\",'linked mastersheet'!$A$2:$K$200,7,FALSE),\"\")","v":""},null,{"$f":"IF(ROWS(B$29:B33)<=$E$30,INDEX(masterlist!$C$2:$C$200,SMALL(IF(masterlist!$B$2:$B$200=\"PCO\",IF(masterlist!$E$2:$E$200=3,ROW(masterlist!$B$2:$B$200)-ROW(masterlist!$B$2)+1)),ROWS(B$29:B33))),\"\")","v":"PCO-Out-3-22"},{"$f":"IFERROR(VLOOKUP(F33&\"-0\",'linked mastersheet'!$A$2:$K$200,7,FALSE),\"\")","v":"Have potential rabies-free zones been identified where animal rabies cases caused by the canine rabies variant have been absent for at least a 2 year period?"},{"$f":"IFERROR(VLOOKUP(F33&\"-1\",'linked mastersheet'!$A$2:$K$200,7,FALSE),\"\")","v":""},null,{"$f":"IF(ROWS(B$29:B33)<=$I$30,INDEX(masterlist!$C$2:$C$200,SMALL(IF(masterlist!$B$2:$B$200=\"LAB\",IF(masterlist!$E$2:$E$200=3,ROW(masterlist!$B$2:$B$200)-ROW(masterlist!$B$2)+1)),ROWS(B$29:B33))),\"\")","v":""},{"$f":"IFERROR(VLOOKUP(J33&\"-0\",'linked mastersheet'!$A$2:$K$200,7,FALSE),\"\")","v":""},{"$f":"IFERROR(VLOOKUP(J33&\"-1\",'linked mastersheet'!$A$2:$K$200,7,FALSE),\"\")","v":""},null,{"$f":"IF(ROWS(B$29:B33)<=$M$30,INDEX(masterlist!$C$2:$C$200,SMALL(IF(masterlist!$B$2:$B$200=\"DPM\",IF(masterlist!$E$2:$E$200=3,ROW(masterlist!$B$2:$B$200)-ROW(masterlist!$B$2)+1)),ROWS(B$29:B33))),\"\")","v":""},{"$f":"IFERROR(VLOOKUP(N33&\"-0\",'linked mastersheet'!$A$2:$K$200,7,FALSE),\"\")","v":""},{"$f":"IFERROR(VLOOKUP(N33&\"-1\",'linked mastersheet'!$A$2:$K$200,7,FALSE),\"\")","v":""},null,{"$f":"IF(ROWS(B$29:B33)<=$Q$30,INDEX(masterlist!$C$2:$C$200,SMALL(IF(masterlist!$B$2:$B$200=\"IEC\",IF(masterlist!$E$2:$E$200=3,ROW(masterlist!$B$2:$B$200)-ROW(masterlist!$B$2)+1)),ROWS(B$29:B33))),\"\")","v":""},{"$f":"IFERROR(VLOOKUP(R33&\"-0\",'linked mastersheet'!$A$2:$K$200,7,FALSE),\"\")","v":""},{"$f":"IFERROR(VLOOKUP(R33&\"-1\",'linked mastersheet'!$A$2:$K$200,7,FALSE),\"\")","v":""},null,{"$f":"IF(ROWS(B$29:B33)<=$U$30,INDEX(masterlist!$C$2:$C$200,SMALL(IF(masterlist!$B$2:$B$200=\"CCI\",IF(masterlist!$E$2:$E$200=3,ROW(masterlist!$B$2:$B$200)-ROW(masterlist!$B$2)+1)),ROWS(B$29:B33))),\"\")","v":""},{"$f":"IFERROR(VLOOKUP(V33&\"-0\",'linked mastersheet'!$A$2:$K$200,7,FALSE),\"\")","v":""},{"$f":"IFERROR(VLOOKUP(V33&\"-1\",'linked mastersheet'!$A$2:$K$200,7,FALSE),\"\")","v":""},null,{"$f":"IF(ROWS(B$29:B33)<=$Y$30,INDEX(masterlist!$C$2:$C$200,SMALL(IF(masterlist!$B$2:$B$200=\"LEG\",IF(masterlist!$E$2:$E$200=3,ROW(masterlist!$B$2:$B$200)-ROW(masterlist!$B$2)+1)),ROWS(B$29:B33))),\"\")","v":""},{"$f":"IFERROR(VLOOKUP(Z33&\"-0\",'linked mastersheet'!$A$2:$K$200,7,FALSE),\"\")","v":""},{"$f":"IFERROR(VLOOKUP(Z33&\"-1\",'linked mastersheet'!$A$2:$K$200,7,FALSE),\"\")","v":""}]
[null,{"$f":"IF(ROWS(B$29:B34)<=$A$30,INDEX(masterlist!$C$2:$C$200,SMALL(IF(masterlist!$B$2:$B$200=\"DCA\",IF(masterlist!$E$2:$E$200=3,ROW(masterlist!$B$2:$B$200)-ROW(masterlist!$B$2)+1)),ROWS(B$29:B34))),\"\")","v":""},{"$f":"IFERROR(VLOOKUP(B34&\"-0\",'linked mastersheet'!$A$2:$K$200,7,FALSE),\"\")","v":""},{"$f":"IFERROR(VLOOKUP(B34&\"-1\",'linked mastersheet'!$A$2:$K$200,7,FALSE),\"\")","v":""},null,{"$f":"IF(ROWS(B$29:B34)<=$E$30,INDEX(masterlist!$C$2:$C$200,SMALL(IF(masterlist!$B$2:$B$200=\"PCO\",IF(masterlist!$E$2:$E$200=3,ROW(masterlist!$B$2:$B$200)-ROW(masterlist!$B$2)+1)),ROWS(B$29:B34))),\"\")","v":"PCO-Out-3-23"},{"$f":"IFERROR(VLOOKUP(F34&\"-0\",'linked mastersheet'!$A$2:$K$200,7,FALSE),\"\")","v":""},{"$f":"IFERROR(VLOOKUP(F34&\"-1\",'linked mastersheet'!$A$2:$K$200,7,FALSE),\"\")","v":"Has dialogue been initiated with neighbouring countries to prevent the re-introduction of rabies into designated rabies-free zones?"},null,{"$f":"IF(ROWS(B$29:B34)<=$I$30,INDEX(masterlist!$C$2:$C$200,SMALL(IF(masterlist!$B$2:$B$200=\"LAB\",IF(masterlist!$E$2:$E$200=3,ROW(masterlist!$B$2:$B$200)-ROW(masterlist!$B$2)+1)),ROWS(B$29:B34))),\"\")","v":""},{"$f":"IFERROR(VLOOKUP(J34&\"-0\",'linked mastersheet'!$A$2:$K$200,7,FALSE),\"\")","v":""},{"$f":"IFERROR(VLOOKUP(J34&\"-1\",'linked mastersheet'!$A$2:$K$200,7,FALSE),\"\")","v":""},null,{"$f":"IF(ROWS(B$29:B34)<=$M$30,INDEX(masterlist!$C$2:$C$200,SMALL(IF(masterlist!$B$2:$B$200=\"DPM\",IF(masterlist!$E$2:$E$200=3,ROW(masterlist!$B$2:$B$200)-ROW(masterlist!$B$2)+1)),ROWS(B$29:B34))),\"\")","v":""},{"$f":"IFERROR(VLOOKUP(N34&\"-0\",'linked mastersheet'!$A$2:$K$200,7,FALSE),\"\")","v":""},{"$f":"IFERROR(VLOOKUP(N34&\"-1\",'linked mastersheet'!$A$2:$K$200,7,FALSE),\"\")","v":""},null,{"$f":"IF(ROWS(B$29:B34)<=$Q$30,INDEX(masterlist!$C$2:$C$200,SMALL(IF(masterlist!$B$2:$B$200=\"IEC\",IF(masterlist!$E$2:$E$200=3,ROW(masterlist!$B$2:$B$200)-ROW(masterlist!$B$2)+1)),ROWS(B$29:B34))),\"\")","v":""},{"$f":"IFERROR(VLOOKUP(R34&\"-0\",'linked mastersheet'!$A$2:$K$200,7,FALSE),\"\")","v":""},{"$f":"IFERROR(VLOOKUP(R34&\"-1\",'linked mastersheet'!$A$2:$K$200,7,FALSE),\"\")","v":""},null,{"$f":"IF(ROWS(B$29:B34)<=$U$30,INDEX(masterlist!$C$2:$C$200,SMALL(IF(masterlist!$B$2:$B$200=\"CCI\",IF(masterlist!$E$2:$E$200=3,ROW(masterlist!$B$2:$B$200)-ROW(masterlist!$B$2)+1)),ROWS(B$29:B34))),\"\")","v":""},{"$f":"IFERROR(VLOOKUP(V34&\"-0\",'linked mastersheet'!$A$2:$K$200,7,FALSE),\"\")","v":""},{"$f":"IFERROR(VLOOKUP(V34&\"-1\",'linked mastersheet'!$A$2:$K$200,7,FALSE),\"\")","v":""},null,{"$f":"IF(ROWS(B$29:B34)<=$Y$30,INDEX(masterlist!$C$2:$C$200,SMALL(IF(masterlist!$B$2:$B$200=\"LEG\",IF(masterlist!$E$2:$E$200=3,ROW(masterlist!$B$2:$B$200)-ROW(masterlist!$B$2)+1)),ROWS(B$29:B34))),\"\")","v":""},{"$f":"IFERROR(VLOOKUP(Z34&\"-0\",'linked mastersheet'!$A$2:$K$200,7,FALSE),\"\")","v":""},{"$f":"IFERROR(VLOOKUP(Z34&\"-1\",'linked mastersheet'!$A$2:$K$200,7,FALSE),\"\")","v":""}]
[null,{"$f":"IF(ROWS(B$29:B35)<=$A$30,INDEX(masterlist!$C$2:$C$200,SMALL(IF(masterlist!$B$2:$B$200=\"DCA\",IF(masterlist!$E$2:$E$200=3,ROW(masterlist!$B$2:$B$200)-ROW(masterlist!$B$2)+1)),ROWS(B$29:B35))),\"\")","v":""},{"$f":"IFERROR(VLOOKUP(B35&\"-0\",'linked mastersheet'!$A$2:$K$200,7,FALSE),\"\")","v":""},{"$f":"IFERROR(VLOOKUP(B35&\"-1\",'linked mastersheet'!$A$2:$K$200,7,FALSE),\"\")","v":""},null,{"$f":"IF(ROWS(B$29:B35)<=$E$30,INDEX(masterlist!$C$2:$C$200,SMALL(IF(masterlist!$B$2:$B$200=\"PCO\",IF(masterlist!$E$2:$E$200=3,ROW(masterlist!$B$2:$B$200)-ROW(masterlist!$B$2)+1)),ROWS(B$29:B35))),\"\")","v":""},{"$f":"IFERROR(VLOOKUP(F35&\"-0\",'linked mastersheet'!$A$2:$K$200,7,FALSE),\"\")","v":""},{"$f":"IFERROR(VLOOKUP(F35&\"-1\",'linked mastersheet'!$A$2:$K$200,7,FALSE),\"\")","v":""},null,{"$f":"IF(ROWS(B$29:B35)<=$I$30,INDEX(masterlist!$C$2:$C$200,SMALL(IF(masterlist!$B$2:$B$200=\"LAB\",IF(masterlist!$E$2:$E$200=3,ROW(masterlist!$B$2:$B$200)-ROW(masterlist!$B$2)+1)),ROWS(B$29:B35))),\"\")","v":""},{"$f":"IFERROR(VLOOKUP(J35&\"-0\",'linked mastersheet'!$A$2:$K$200,7,FALSE),\"\")","v":""},{"$f":"IFERROR(VLOOKUP(J35&\"-1\",'linked mastersheet'!$A$2:$K$200,7,FALSE),\"\")","v":""},null,{"$f":"IF(ROWS(B$29:B35)<=$M$30,INDEX(masterlist!$C$2:$C$200,SMALL(IF(masterlist!$B$2:$B$200=\"DPM\",IF(masterlist!$E$2:$E$200=3,ROW(masterlist!$B$2:$B$200)-ROW(masterlist!$B$2)+1)),ROWS(B$29:B35))),\"\")","v":""},{"$f":"IFERROR(VLOOKUP(N35&\"-0\",'linked mastersheet'!$A$2:$K$200,7,FALSE),\"\")","v":""},{"$f":"IFERROR(VLOOKUP(N35&\"-1\",'linked mastersheet'!$A$2:$K$200,7,FALSE),\"\")","v":""},null,{"$f":"IF(ROWS(B$29:B35)<=$Q$30,INDEX(masterlist!$C$2:$C$200,SMALL(IF(masterlist!$B$2:$B$200=\"IEC\",IF(masterlist!$E$2:$E$200=3,ROW(masterlist!$B$2:$B$200)-ROW(masterlist!$B$2)+1)),ROWS(B$29:B35))),\"\")","v":""},{"$f":"IFERROR(VLOOKUP(R35&\"-0\",'linked mastersheet'!$A$2:$K$200,7,FALSE),\"\")","v":""},{"$f":"IFERROR(VLOOKUP(R35&\"-1\",'linked mastersheet'!$A$2:$K$200,7,FALSE),\"\")","v":""},null,{"$f":"IF(ROWS(B$29:B35)<=$U$30,INDEX(masterlist!$C$2:$C$200,SMALL(IF(masterlist!$B$2:$B$200=\"CCI\",IF(masterlist!$E$2:$E$200=3,ROW(masterlist!$B$2:$B$200)-ROW(masterlist!$B$2)+1)),ROWS(B$29:B35))),\"\")","v":""},{"$f":"IFERROR(VLOOKUP(V35&\"-0\",'linked mastersheet'!$A$2:$K$200,7,FALSE),\"\")","v":""},{"$f":"IFERROR(VLOOKUP(V35&\"-1\",'linked mastersheet'!$A$2:$K$200,7,FALSE),\"\")","v":""},null,{"$f":"IF(ROWS(B$29:B35)<=$Y$30,INDEX(masterlist!$C$2:$C$200,SMALL(IF(masterlist!$B$2:$B$200=\"LEG\",IF(masterlist!$E$2:$E$200=3,ROW(masterlist!$B$2:$B$200)-ROW(masterlist!$B$2)+1)),ROWS(B$29:B35))),\"\")","v":""},{"$f":"IFERROR(VLOOKUP(Z35&\"-0\",'linked mastersheet'!$A$2:$K$200,7,FALSE),\"\")","v":""},{"$f":"IFERROR(VLOOKUP(Z35&\"-1\",'linked mastersheet'!$A$2:$K$200,7,FALSE),\"\")","v":""}]
[4,{"$f":"IF(ROWS(B$36:B36)<=$A$37,INDEX(masterlist!$C$2:$C$200,SMALL(IF(masterlist!$B$2:$B$200=\"DCA\",IF(masterlist!$E$2:$E$200=4,ROW(masterlist!$B$2:$B$200)-ROW(masterlist!$B$2)+1)),ROWS(B$36:B36))),\"\")","v":"DCA-Sur-4-20"},{"$f":"IFERROR(VLOOKUP(B36&\"-0\",'linked mastersheet'!$A$2:$K$200,7,FALSE),\"\")","v":""},{"$f":"IFERROR(VLOOKUP(B36&\"-1\",'linked mastersheet'!$A$2:$K$200,7,FALSE),\"\")","v":"As there are no more laboratory confirmed human rabies cases, are existing surveillance activities for all suspected cases in humans maintained in the country?"},null,{"$f":"IF(ROWS(B$36:B36)<=$E$37,INDEX(masterlist!$C$2:$C$200,SMALL(IF(masterlist!$B$2:$B$200=\"PCO\",IF(masterlist!$E$2:$E$200=4,ROW(masterlist!$B$2:$B$200)-ROW(masterlist!$B$2)+1)),ROWS(B$36:B36))),\"\")","v":"PCO-Dog-4-13"},{"$f":"IFERROR(VLOOKUP(F36&\"-0\",'linked mastersheet'!$A$2:$K$200,7,FALSE),\"\")","v":""},{"$f":"IFERROR(VLOOKUP(F36&\"-1\",'linked mastersheet'!$A$2:$K$200,7,FALSE),\"\")","v":"Now that there are very few animal rabies cases in your country, are dog vaccination campaigns maintained in zones where dog rabies is still present or where otherwise justified (e.g. risk of introduction)?"},null,{"$f":"IF(ROWS(B$36:B36)<=$I$37,INDEX(masterlist!$C$2:$C$200,SMALL(IF(masterlist!$B$2:$B$200=\"LAB\",IF(masterlist!$E$2:$E$200=4,ROW(masterlist!$B$2:$B$200)-ROW(masterlist!$B$2)+1)),ROWS(B$36:B36))),\"\")","v":"LAB-Lab-4-10"},{"$f":"IFERROR(VLOOKUP(J36&\"-0\",'linked mastersheet'!$A$2:$K$200,7,FALSE),\"\")","v":""},{"$f":"IFERROR(VLOOKUP(J36&\"-1\",'linked mastersheet'!$A$2:$K$200,7,FALSE),\"\")","v":"Now that there are very few animal rabies cases in your country, is there maintenance of existing surveillance activities, including ongoing laboratory investigation, for all suspected cases in dogs in the country?"},null,{"$f":"IF(ROWS(B$36:B36)<=$M$37,INDEX(masterlist!$C$2:$C$200,SMALL(IF(masterlist!$B$2:$B$200=\"DPM\",IF(masterlist!$E$2:$E$200=4,ROW(masterlist!$B$2:$B$200)-ROW(masterlist!$B$2)+1)),ROWS(B$36:B36))),\"\")","v":""},{"$f":"IFERROR(VLOOKUP(N36&\"-0\",'linked mastersheet'!$A$2:$K$200,7,FALSE),\"\")","v":""},{"$f":"IFERROR(VLOOKUP(N36&\"-1\",'linked mastersheet'!$A$2:$K$200,7,FALSE),\"\")","v":""},null,{"$f":"IF(ROWS(B$36:B36)<=$Q$37,INDEX(masterlist!$C$2:$C$200,SMALL(IF(masterlist!$B$2:$B$200=\"IEC\",IF(masterlist!$E$2:$E$200=4,ROW(masterlist!$B$2:$B$200)-ROW(masterlist!$B$2)+1)),ROWS(B$36:B36))),\"\")","v":"IEC-Adv-4-18"},{"$f":"IFERROR(VLOOKUP(R36&\"-0\",'linked mastersheet'!$A$2:$K$200,7,FALSE),\"\")","v":"Have you declared publically that your entire country is free from dog-transmitted human rabies?"},{"$f":"IFERROR(VLOOKUP(R36&\"-1\",'linked mastersheet'!$A$2:$K$200,7,FALSE),\"\")","v":""},null,{"$f":"IF(ROWS(B$36:B36)<=$U$37,INDEX(masterlist!$C$2:$C$200,SMALL(IF(masterlist!$B$2:$B$200=\"CCI\",IF(masterlist!$E$2:$E$200=4,ROW(masterlist!$B$2:$B$200)-ROW(masterlist!$B$2)+1)),ROWS(B$36:B36))),\"\")","v":"CCI-Nat-4-11"},{"$f":"IFERROR(VLOOKUP(V36&\"-0\",'linked mastersheet'!$A$2:$K$200,7,FALSE),\"\")","v":""},{"$f":"IFERROR(VLOOKUP(V36&\"-1\",'linked mastersheet'!$A$2:$K$200,7,FALSE),\"\")","v":"Have veterinary border inspection and quarantine measures been fully implemented in accordance with national regulations?"},null,{"$f":"IF(ROWS(B$36:B36)<=$Y$37,INDEX(masterlist!$C$2:$C$200,SMALL(IF(masterlist!$B$2:$B$200=\"LEG\",IF(masterlist!$E$2:$E$200=4,ROW(masterlist!$B$2:$B$200)-ROW(masterlist!$B$2)+1)),ROWS(B$36:B36))),\"\")","v":""},{"$f":"IFERROR(VLOOKUP(Z36&\"-0\",'linked mastersheet'!$A$2:$K$200,7,FALSE),\"\")","v":""},{"$f":"IFERROR(VLOOKUP(Z36&\"-1\",'linked mastersheet'!$A$2:$K$200,7,FALSE),\"\")","v":""}]
[{"$f":"SUMPRODUCT((masterlist!B:B=\"DCA\")*(masterlist!E:E=4))","v":2},{"$f":"IF(ROWS(B$36:B37)<=$A$37,INDEX(masterlist!$C$2:$C$200,SMALL(IF(masterlist!$B$2:$B$200=\"DCA\",IF(masterlist!$E$2:$E$200=4,ROW(masterlist!$B$2:$B$200)-ROW(masterlist!$B$2)+1)),ROWS(B$36:B37))),\"\")","v":"DCA-Sur-4-21"},{"$f":"IFERROR(VLOOKUP(B37&\"-0\",'linked mastersheet'!$A$2:$K$200,7,FALSE),\"\")","v":"As your country nears dog-rabies elimination, has the epidemiological data from the routine surveillance of all animals (not only dogs) been used to refine the national rabies strategy?"},{"$f":"IFERROR(VLOOKUP(B37&\"-1\",'linked mastersheet'!$A$2:$K$200,7,FALSE),\"\")","v":""},{"$f":"SUMPRODUCT((masterlist!B:B=\"PCO\")*(masterlist!E:E=4))","v":3},{"$f":"IF(ROWS(B$36:B37)<=$E$37,INDEX(masterlist!$C$2:$C$200,SMALL(IF(masterlist!$B$2:$B$200=\"PCO\",IF(masterlist!$E$2:$E$200=4,ROW(masterlist!$B$2:$B$200)-ROW(masterlist!$B$2)+1)),ROWS(B$36:B37))),\"\")","v":"PCO-Out-4-24"},{"$f":"IFERROR(VLOOKUP(F37&\"-0\",'linked mastersheet'!$A$2:$K$200,7,FALSE),\"\")","v":""},{"$f":"IFERROR(VLOOKUP(F37&\"-1\",'linked mastersheet'!$A$2:$K$200,7,FALSE),\"\")","v":"Is there capacity to conduct field investigations and planned outbreak responses for animal rabies cases in the entire country?"},{"$f":"SUMPRODUCT((masterlist!B:B=\"LAB\")*(masterlist!E:E=4))","v":3},{"$f":"IF(ROWS(B$36:B37)<=$I$37,INDEX(masterlist!$C$2:$C$200,SMALL(IF(masterlist!$B$2:$B$200=\"LAB\",IF(masterlist!$E$2:$E$200=4,ROW(masterlist!$B$2:$B$200)-ROW(masterlist!$B$2)+1)),ROWS(B$36:B37))),\"\")","v":"LAB-Lab-4-11"},{"$f":"IFERROR(VLOOKUP(J37&\"-0\",'linked mastersheet'!$A$2:$K$200,7,FALSE),\"\")","v":""},{"$f":"IFERROR(VLOOKUP(J37&\"-1\",'linked mastersheet'!$A$2:$K$200,7,FALSE),\"\")","v":"Are terrestrial wildlife (carnivore) samples submitted for rabies laboratory diagnosis?"},{"$f":"SUMPRODUCT((masterlist!B:B=\"DPM\")*(masterlist!E:E=4))","v":0},{"$f":"IF(ROWS(B$36:B37)<=$M$37,INDEX(masterlist!$C$2:$C$200,SMALL(IF(masterlist!$B$2:$B$200=\"DPM\",IF(masterlist!$E$2:$E$200=4,ROW(masterlist!$B$2:$B$200)-ROW(masterlist!$B$2)+1)),ROWS(B$36:B37))),\"\")","v":""},{"$f":"IFERROR(VLOOKUP(N37&\"-0\",'linked mastersheet'!$A$2:$K$200,7,FALSE),\"\")","v":""},{"$f":"IFERROR(VLOOKUP(N37&\"-1\",'linked mastersheet'!$A$2:$K$200,7,FALSE),\"\")","v":""},{"$f":"SUMPRODUCT((masterlist!B:B=\"IEC\")*(masterlist!E:E=4))","v":1},{"$f":"IF(ROWS(B$36:B37)<=$Q$37,INDEX(masterlist!$C$2:$C$200,SMALL(IF(masterlist!$B$2:$B$200=\"IEC\",IF(masterlist!$E$2:$E$200=4,ROW(masterlist!$B$2:$B$200)-ROW(masterlist!$B$2)+1)),ROWS(B$36:B37))),\"\")","v":""},{"$f":"IFERROR(VLOOKUP(R37&\"-0\",'linked mastersheet'!$A$2:$K$200,7,FALSE),\"\")","v":""},{"$f":"IFERROR(VLOOKUP(R37&\"-1\",'linked mastersheet'!$A$2:$K$200,7,FALSE),\"\")","v":""},{"$f":"SUMPRODUCT((masterlist!B:B=\"CCI\")*(masterlist!E:E=4))","v":1},{"$f":"IF(ROWS(B$36:B37)<=$U$37,INDEX(masterlist!$C$2:$C$200,SMALL(IF(masterlist!$B$2:$B$200=\"CCI\",IF(masterlist!$E$2:$E$200=4,ROW(masterlist!$B$2:$B$200)-ROW(masterlist!$B$2)+1)),ROWS(B$36:B37))),\"\")","v":""},{"$f":"IFERROR(VLOOKUP(V37&\"-0\",'linked mastersheet'!$A$2:$K$200,7,FALSE),\"\")","v":""},{"$f":"IFERROR(VLOOKUP(V37&\"-1\",'linked mastersheet'!$A$2:$K$200,7,FALSE),\"\")","v":""},{"$f":"SUMPRODUCT((masterlist!B:B=\"LEG\")*(masterlist!E:E=4))","v":0},{"$f":"IF(ROWS(B$36:B37)<=$Y$37,INDEX(masterlist!$C$2:$C$200,SMALL(IF(masterlist!$B$2:$B$200=\"LEG\",IF(masterlist!$E$2:$E$200=4,ROW(masterlist!$B$2:$B$200)-ROW(masterlist!$B$2)+1)),ROWS(B$36:B37))),\"\")","v":""},{"$f":"IFERROR(VLOOKUP(Z37&\"-0\",'linked mastersheet'!$A$2:$K$200,7,FALSE),\"\")","v":""},{"$f":"IFERROR(VLOOKUP(Z37&\"-1\",'linked mastersheet'!$A$2:$K$200,7,FALSE),\"\")","v":""}]
[null,{"$f":"IF(ROWS(B$36:B38)<=$A$37,INDEX(masterlist!$C$2:$C$200,SMALL(IF(masterlist!$B$2:$B$200=\"DCA\",IF(masterlist!$E$2:$E$200=4,ROW(masterlist!$B$2:$B$200)-ROW(masterlist!$B$2)+1)),ROWS(B$36:B38))),\"\")","v":""},{"$f":"IFERROR(VLOOKUP(B38&\"-0\",'linked mastersheet'!$A$2:$K$200,7,FALSE),\"\")","v":""},{"$f":"IFERROR(VLOOKUP(B38&\"-1\",'linked mastersheet'!$A$2:$K$200,7,FALSE),\"\")","v":""},null,{"$f":"IF(ROWS(B$36:B38)<=$E$37,INDEX(masterlist!$C$2:$C$200,SMALL(IF(masterlist!$B$2:$B$200=\"PCO\",IF(masterlist!$E$2:$E$200=4,ROW(masterlist!$B$2:$B$200)-ROW(masterlist!$B$2)+1)),ROWS(B$36:B38))),\"\")","v":"PCO-Out-4-25"},{"$f":"IFERROR(VLOOKUP(F38&\"-0\",'linked mastersheet'!$A$2:$K$200,7,FALSE),\"\")","v":"Now that there are very few animal rabies cases in your country, has an emergency response/contingency plan been developed to address any reintroduced case of animal rabies involving a canine variant in rabies-free zones?"},{"$f":"IFERROR(VLOOKUP(F38&\"-1\",'linked mastersheet'!$A$2:$K$200,7,FALSE),\"\")","v":""},null,{"$f":"IF(ROWS(B$36:B38)<=$I$37,INDEX(masterlist!$C$2:$C$200,SMALL(IF(masterlist!$B$2:$B$200=\"LAB\",IF(masterlist!$E$2:$E$200=4,ROW(masterlist!$B$2:$B$200)-ROW(masterlist!$B$2)+1)),ROWS(B$36:B38))),\"\")","v":"LAB-Lab-4-12"},{"$f":"IFERROR(VLOOKUP(J38&\"-0\",'linked mastersheet'!$A$2:$K$200,7,FALSE),\"\")","v":"Is there regular characterization and analysis of circulating rabies virus variants by a national or international laboratory?"},{"$f":"IFERROR(VLOOKUP(J38&\"-1\",'linked mastersheet'!$A$2:$K$200,7,FALSE),\"\")","v":""},null,{"$f":"IF(ROWS(B$36:B38)<=$M$37,INDEX(masterlist!$C$2:$C$200,SMALL(IF(masterlist!$B$2:$B$200=\"DPM\",IF(masterlist!$E$2:$E$200=4,ROW(masterlist!$B$2:$B$200)-ROW(masterlist!$B$2)+1)),ROWS(B$36:B38))),\"\")","v":""},{"$f":"IFERROR(VLOOKUP(N38&\"-0\",'linked mastersheet'!$A$2:$K$200,7,FALSE),\"\")","v":""},{"$f":"IFERROR(VLOOKUP(N38&\"-1\",'linked mastersheet'!$A$2:$K$200,7,FALSE),\"\")","v":""},null,{"$f":"IF(ROWS(B$36:B38)<=$Q$37,INDEX(masterlist!$C$2:$C$200,SMALL(IF(masterlist!$B$2:$B$200=\"IEC\",IF(masterlist!$E$2:$E$200=4,ROW(masterlist!$B$2:$B$200)-ROW(masterlist!$B$2)+1)),ROWS(B$36:B38))),\"\")","v":""},{"$f":"IFERROR(VLOOKUP(R38&\"-0\",'linked mastersheet'!$A$2:$K$200,7,FALSE),\"\")","v":""},{"$f":"IFERROR(VLOOKUP(R38&\"-1\",'linked mastersheet'!$A$2:$K$200,7,FALSE),\"\")","v":""},null,{"$f":"IF(ROWS(B$36:B38)<=$U$37,INDEX(masterlist!$C$2:$C$200,SMALL(IF(masterlist!$B$2:$B$200=\"CCI\",IF(masterlist!$E$2:$E$200=4,ROW(masterlist!$B$2:$B$200)-ROW(masterlist!$B$2)+1)),ROWS(B$36:B38))),\"\")","v":""},{"$f":"IFERROR(VLOOKUP(V38&\"-0\",'linked mastersheet'!$A$2:$K$200,7,FALSE),\"\")","v":""},{"$f":"IFERROR(VLOOKUP(V38&\"-1\",'linked mastersheet'!$A$2:$K$200,7,FALSE),\"\")","v":""},null,{"$f":"IF(ROWS(B$36:B38)<=$Y$37,INDEX(masterlist!$C$2:$C$200,SMALL(IF(masterlist!$B$2:$B$200=\"LEG\",IF(masterlist!$E$2:$E$200=4,ROW(masterlist!$B$2:$B$200)-ROW(masterlist!$B$2)+1)),ROWS(B$36:B38))),\"\")","v":""},{"$f":"IFERROR(VLOOKUP(Z38&\"-0\",'linked mastersheet'!$A$2:$K$200,7,FALSE),\"\")","v":""},{"$f":"IFERROR(VLOOKUP(Z38&\"-1\",'linked mastersheet'!$A$2:$K$200,7,FALSE),\"\")","v":""}]
[null,{"$f":"IF(ROWS(B$36:B39)<=$A$37,INDEX(masterlist!$C$2:$C$200,SMALL(IF(masterlist!$B$2:$B$200=\"DCA\",IF(masterlist!$E$2:$E$200=4,ROW(masterlist!$B$2:$B$200)-ROW(masterlist!$B$2)+1)),ROWS(B$36:B39))),\"\")","v":""},{"$f":"IFERROR(VLOOKUP(B39&\"-0\",'linked mastersheet'!$A$2:$K$200,7,FALSE),\"\")","v":""},{"$f":"IFERROR(VLOOKUP(B39&\"-1\",'linked mastersheet'!$A$2:$K$200,7,FALSE),\"\")","v":""},null,{"$f":"IF(ROWS(B$36:B39)<=$E$37,INDEX(masterlist!$C$2:$C$200,SMALL(IF(masterlist!$B$2:$B$200=\"PCO\",IF(masterlist!$E$2:$E$200=4,ROW(masterlist!$B$2:$B$200)-ROW(masterlist!$B$2)+1)),ROWS(B$36:B39))),\"\")","v":""},{"$f":"IFERROR(VLOOKUP(F39&\"-0\",'linked mastersheet'!$A$2:$K$200,7,FALSE),\"\")","v":""},{"$f":"IFERROR(VLOOKUP(F39&\"-1\",'linked mastersheet'!$A$2:$K$200,7,FALSE),\"\")","v":""},null,{"$f":"IF(ROWS(B$36:B39)<=$I$37,INDEX(masterlist!$C$2:$C$200,SMALL(IF(masterlist!$B$2:$B$200=\"LAB\",IF(masterlist!$E$2:$E$200=4,ROW(masterlist!$B$2:$B$200)-ROW(masterlist!$B$2)+1)),ROWS(B$36:B39))),\"\")","v":""},{"$f":"IFERROR(VLOOKUP(J39&\"-0\",'linked mastersheet'!$A$2:$K$200,7,FALSE),\"\")","v":""},{"$f":"IFERROR(VLOOKUP(J39&\"-1\",'linked mastersheet'!$A$2:$K$200,7,FALSE),\"\")","v":""},null,{"$f":"IF(ROWS(B$36:B39)<=$M$37,INDEX(masterlist!$C$2:$C$200,SMALL(IF(masterlist!$B$2:$B$200=\"DPM\",IF(masterlist!$E$2:$E$200=4,ROW(masterlist!$B$2:$B$200)-ROW(masterlist!$B$2)+1)),ROWS(B$36:B39))),\"\")","v":""},{"$f":"IFERROR(VLOOKUP(N39&\"-0\",'linked mastersheet'!$A$2:$K$200,7,FALSE),\"\")","v":""},{"$f":"IFERROR(VLOOKUP(N39&\"-1\",'linked mastersheet'!$A$2:$K$200,7,FALSE),\"\")","v":""},null,{"$f":"IF(ROWS(B$36:B39)<=$Q$37,INDEX(masterlist!$C$2:$C$200,SMALL(IF(masterlist!$B$2:$B$200=\"IEC\",IF(masterlist!$E$2:$E$200=4,ROW(masterlist!$B$2:$B$200)-ROW(masterlist!$B$2)+1)),ROWS(B$36:B39))),\"\")","v":""},{"$f":"IFERROR(VLOOKUP(R39&\"-0\",'linked mastersheet'!$A$2:$K$200,7,FALSE),\"\")","v":""},{"$f":"IFERROR(VLOOKUP(R39&\"-1\",'linked mastersheet'!$A$2:$K$200,7,FALSE),\"\")","v":""},null,{"$f":"IF(ROWS(B$36:B39)<=$U$37,INDEX(masterlist!$C$2:$C$200,SMALL(IF(masterlist!$B$2:$B$200=\"CCI\",IF(masterlist!$E$2:$E$200=4,ROW(masterlist!$B$2:$B$200)-ROW(masterlist!$B$2)+1)),ROWS(B$36:B39))),\"\")","v":""},{"$f":"IFERROR(VLOOKUP(V39&\"-0\",'linked mastersheet'!$A$2:$K$200,7,FALSE),\"\")","v":""},{"$f":"IFERROR(VLOOKUP(V39&\"-1\",'linked mastersheet'!$A$2:$K$200,7,FALSE),\"\")","v":""},null,{"$f":"IF(ROWS(B$36:B39)<=$Y$37,INDEX(masterlist!$C$2:$C$200,SMALL(IF(masterlist!$B$2:$B$200=\"LEG\",IF(masterlist!$E$2:$E$200=4,ROW(masterlist!$B$2:$B$200)-ROW(masterlist!$B$2)+1)),ROWS(B$36:B39))),\"\")","v":""},{"$f":"IFERROR(VLOOKUP(Z39&\"-0\",'linked mastersheet'!$A$2:$K$200,7,FALSE),\"\")","v":""},{"$f":"IFERROR(VLOOKUP(Z39&\"-1\",'linked mastersheet'!$A$2:$K$200,7,FALSE),\"\")","v":""}]
[5,{"$f":"IF(ROWS(B$40:B40)<=$A$41,INDEX(masterlist!$C$2:$C$200,SMALL(IF(masterlist!$B$2:$B$200=\"DCA\",IF(masterlist!$E$2:$E$200=5,ROW(masterlist!$B$2:$B$200)-ROW(masterlist!$B$2)+1)),ROWS(B$40:B40))),\"\")","v":"DCA-Sur-5-22"},{"$f":"IFERROR(VLOOKUP(B40&\"-0\",'linked mastersheet'!$A$2:$K$200,7,FALSE),\"\")","v":"Has freedom from dog-transmitted rabies in the entire country been verified by the absence of canine variant cases for at least a 2 year period?"},{"$f":"IFERROR(VLOOKUP(B40&\"-1\",'linked mastersheet'!$A$2:$K$200,7,FALSE),\"\")","v":""},null,{"$f":"IF(ROWS(B$40:B40)<=$E$41,INDEX(masterlist!$C$2:$C$200,SMALL(IF(masterlist!$B$2:$B$200=\"PCO\",IF(masterlist!$E$2:$E$200=5,ROW(masterlist!$B$2:$B$200)-ROW(masterlist!$B$2)+1)),ROWS(B$40:B40))),\"\")","v":"PCO-Hum-5-7"},{"$f":"IFERROR(VLOOKUP(F40&\"-0\",'linked mastersheet'!$A$2:$K$200,7,FALSE),\"\")","v":"Now that your country is free from human and animal rabies, have modified protocols for PEP administration for rabies-free areas been implemented?"},{"$f":"IFERROR(VLOOKUP(F40&\"-1\",'linked mastersheet'!$A$2:$K$200,7,FALSE),\"\")","v":""},null,{"$f":"IF(ROWS(B$40:B40)<=$I$41,INDEX(masterlist!$C$2:$C$200,SMALL(IF(masterlist!$B$2:$B$200=\"LAB\",IF(masterlist!$E$2:$E$200=5,ROW(masterlist!$B$2:$B$200)-ROW(masterlist!$B$2)+1)),ROWS(B$40:B40))),\"\")","v":"LAB-Lab-5-13"},{"$f":"IFERROR(VLOOKUP(J40&\"-0\",'linked mastersheet'!$A$2:$K$200,7,FALSE),\"\")","v":""},{"$f":"IFERROR(VLOOKUP(J40&\"-1\",'linked mastersheet'!$A$2:$K$200,7,FALSE),\"\")","v":"Even though you are rabies-free based on successful mass vaccination campaigns, are there on-going laboratory investigations of all suspected cases in domestic and terrestrial wild animal (carnivore) species in the country?"},null,{"$f":"IF(ROWS(B$40:B40)<=$M$41,INDEX(masterlist!$C$2:$C$200,SMALL(IF(masterlist!$B$2:$B$200=\"DPM\",IF(masterlist!$E$2:$E$200=5,ROW(masterlist!$B$2:$B$200)-ROW(masterlist!$B$2)+1)),ROWS(B$40:B40))),\"\")","v":"DPM- -5-11"},{"$f":"IFERROR(VLOOKUP(N40&\"-0\",'linked mastersheet'!$A$2:$K$200,7,FALSE),\"\")","v":"Has the dog population management strategy been implemented nationwide?"},{"$f":"IFERROR(VLOOKUP(N40&\"-1\",'linked mastersheet'!$A$2:$K$200,7,FALSE),\"\")","v":""},null,{"$f":"IF(ROWS(B$40:B40)<=$Q$41,INDEX(masterlist!$C$2:$C$200,SMALL(IF(masterlist!$B$2:$B$200=\"IEC\",IF(masterlist!$E$2:$E$200=5,ROW(masterlist!$B$2:$B$200)-ROW(masterlist!$B$2)+1)),ROWS(B$40:B40))),\"\")","v":"IEC-Pub-5-6"},{"$f":"IFERROR(VLOOKUP(R40&\"-0\",'linked mastersheet'!$A$2:$K$200,7,FALSE),\"\")","v":"Have awareness programmes focusing on the maintenance of freedom from dog and dog-transmitted human rabies been implemented?"},{"$f":"IFERROR(VLOOKUP(R40&\"-1\",'linked mastersheet'!$A$2:$K$200,7,FALSE),\"\")","v":""},null,{"$f":"IF(ROWS(B$40:B40)<=$U$41,INDEX(masterlist!$C$2:$C$200,SMALL(IF(masterlist!$B$2:$B$200=\"CCI\",IF(masterlist!$E$2:$E$200=5,ROW(masterlist!$B$2:$B$200)-ROW(masterlist!$B$2)+1)),ROWS(B$40:B40))),\"\")","v":""},{"$f":"IFERROR(VLOOKUP(V40&\"-0\",'linked mastersheet'!$A$2:$K$200,7,FALSE),\"\")","v":""},{"$f":"IFERROR(VLOOKUP(V40&\"-1\",'linked mastersheet'!$A$2:$K$200,7,FALSE),\"\")","v":""},null,{"$f":"IF(ROWS(B$40:B40)<=$Y$41,INDEX(masterlist!$C$2:$C$200,SMALL(IF(masterlist!$B$2:$B$200=\"LEG\",IF(masterlist!$E$2:$E$200=5,ROW(masterlist!$B$2:$B$200)-ROW(masterlist!$B$2)+1)),ROWS(B$40:B40))),\"\")","v":""},{"$f":"IFERROR(VLOOKUP(Z40&\"-0\",'linked mastersheet'!$A$2:$K$200,7,FALSE),\"\")","v":""},{"$f":"IFERROR(VLOOKUP(Z40&\"-1\",'linked mastersheet'!$A$2:$K$200,7,FALSE),\"\")","v":""}]
[{"$f":"SUMPRODUCT((masterlist!B:B=\"DCA\")*(masterlist!E:E=5))","v":1},{"$f":"IF(ROWS(B$40:B41)<=$A$41,INDEX(masterlist!$C$2:$C$200,SMALL(IF(masterlist!$B$2:$B$200=\"DCA\",IF(masterlist!$E$2:$E$200=5,ROW(masterlist!$B$2:$B$200)-ROW(masterlist!$B$2)+1)),ROWS(B$40:B41))),\"\")","v":""},{"$f":"IFERROR(VLOOKUP(B41&\"-0\",'linked mastersheet'!$A$2:$K$200,7,FALSE),\"\")","v":""},{"$f":"IFERROR(VLOOKUP(B41&\"-1\",'linked mastersheet'!$A$2:$K$200,7,FALSE),\"\")","v":""},{"$f":"SUMPRODUCT((masterlist!B:B=\"PCO\")*(masterlist!E:E=5))","v":3},{"$f":"IF(ROWS(B$40:B41)<=$E$41,INDEX(masterlist!$C$2:$C$200,SMALL(IF(masterlist!$B$2:$B$200=\"PCO\",IF(masterlist!$E$2:$E$200=5,ROW(masterlist!$B$2:$B$200)-ROW(masterlist!$B$2)+1)),ROWS(B$40:B41))),\"\")","v":"PCO-Dog-5-14"},{"$f":"IFERROR(VLOOKUP(F41&\"-0\",'linked mastersheet'!$A$2:$K$200,7,FALSE),\"\")","v":"Even though you are rabies free based on successful mass vaccination campaigns, are strategic dog vaccination campaigns maintained where justifiable?"},{"$f":"IFERROR(VLOOKUP(F41&\"-1\",'linked mastersheet'!$A$2:$K$200,7,FALSE),\"\")","v":""},{"$f":"SUMPRODUCT((masterlist!B:B=\"LAB\")*(masterlist!E:E=5))","v":1},{"$f":"IF(ROWS(B$40:B41)<=$I$41,INDEX(masterlist!$C$2:$C$200,SMALL(IF(masterlist!$B$2:$B$200=\"LAB\",IF(masterlist!$E$2:$E$200=5,ROW(masterlist!$B$2:$B$200)-ROW(masterlist!$B$2)+1)),ROWS(B$40:B41))),\"\")","v":""},{"$f":"IFERROR(VLOOKUP(J41&\"-0\",'linked mastersheet'!$A$2:$K$200,7,FALSE),\"\")","v":""},{"$f":"IFERROR(VLOOKUP(J41&\"-1\",'linked mastersheet'!$A$2:$K$200,7,FALSE),\"\")","v":""},{"$f":"SUMPRODUCT((masterlist!B:B=\"DPM\")*(masterlist!E:E=5))","v":2},{"$f":"IF(ROWS(B$40:B41)<=$M$41,INDEX(masterlist!$C$2:$C$200,SMALL(IF(masterlist!$B$2:$B$200=\"DPM\",IF(masterlist!$E$2:$E$200=5,ROW(masterlist!$B$2:$B$200)-ROW(masterlist!$B$2)+1)),ROWS(B$40:B41))),\"\")","v":"DPM- -5-12"},{"$f":"IFERROR(VLOOKUP(N41&\"-0\",'linked mastersheet'!$A$2:$K$200,7,FALSE),\"\")","v":"Have dog population management and responsible dog ownership campaigns been continued after the elimination of canine-mediated human rabies?"},{"$f":"IFERROR(VLOOKUP(N41&\"-1\",'linked mastersheet'!$A$2:$K$200,7,FALSE),\"\")","v":""},{"$f":"SUMPRODUCT((masterlist!B:B=\"IEC\")*(masterlist!E:E=5))","v":2},{"$f":"IF(ROWS(B$40:B41)<=$Q$41,INDEX(masterlist!$C$2:$C$200,SMALL(IF(masterlist!$B$2:$B$200=\"IEC\",IF(masterlist!$E$2:$E$200=5,ROW(masterlist!$B$2:$B$200)-ROW(masterlist!$B$2)+1)),ROWS(B$40:B41))),\"\")","v":"IEC-Adv-5-19"},{"$f":"IFERROR(VLOOKUP(R41&\"-0\",'linked mastersheet'!$A$2:$K$200,7,FALSE),\"\")","v":"Have you declared publically that your entire country is free from dog rabies? "},{"$f":"IFERROR(VLOOKUP(R41&\"-1\",'linked mastersheet'!$A$2:$K$200,7,FALSE),\"\")","v":""},{"$f":"SUMPRODUCT((masterlist!B:B=\"CCI\")*(masterlist!E:E=5))","v":0},{"$f":"IF(ROWS(B$40:B41)<=$U$41,INDEX(masterlist!$C$2:$C$200,SMALL(IF(masterlist!$B$2:$B$200=\"CCI\",IF(masterlist!$E$2:$E$200=5,ROW(masterlist!$B$2:$B$200)-ROW(masterlist!$B$2)+1)),ROWS(B$40:B41))),\"\")","v":""},{"$f":"IFERROR(VLOOKUP(V41&\"-0\",'linked mastersheet'!$A$2:$K$200,7,FALSE),\"\")","v":""},{"$f":"IFERROR(VLOOKUP(V41&\"-1\",'linked mastersheet'!$A$2:$K$200,7,FALSE),\"\")","v":""},{"$f":"SUMPRODUCT((masterlist!B:B=\"LEG\")*(masterlist!E:E=5))","v":0},{"$f":"IF(ROWS(B$40:B41)<=$Y$41,INDEX(masterlist!$C$2:$C$200,SMALL(IF(masterlist!$B$2:$B$200=\"LEG\",IF(masterlist!$E$2:$E$200=5,ROW(masterlist!$B$2:$B$200)-ROW(masterlist!$B$2)+1)),ROWS(B$40:B41))),\"\")","v":""},{"$f":"IFERROR(VLOOKUP(Z41&\"-0\",'linked mastersheet'!$A$2:$K$200,7,FALSE),\"\")","v":""},{"$f":"IFERROR(VLOOKUP(Z41&\"-1\",'linked mastersheet'!$A$2:$K$200,7,FALSE),\"\")","v":""}]
[null,{"$f":"IF(ROWS(B$40:B42)<=$A$41,INDEX(masterlist!$C$2:$C$200,SMALL(IF(masterlist!$B$2:$B$200=\"DCA\",IF(masterlist!$E$2:$E$200=5,ROW(masterlist!$B$2:$B$200)-ROW(masterlist!$B$2)+1)),ROWS(B$40:B42))),\"\")","v":""},{"$f":"IFERROR(VLOOKUP(B42&\"-0\",'linked mastersheet'!$A$2:$K$200,7,FALSE),\"\")","v":""},{"$f":"IFERROR(VLOOKUP(B42&\"-1\",'linked mastersheet'!$A$2:$K$200,7,FALSE),\"\")","v":""},null,{"$f":"IF(ROWS(B$40:B42)<=$E$41,INDEX(masterlist!$C$2:$C$200,SMALL(IF(masterlist!$B$2:$B$200=\"PCO\",IF(masterlist!$E$2:$E$200=5,ROW(masterlist!$B$2:$B$200)-ROW(masterlist!$B$2)+1)),ROWS(B$40:B42))),\"\")","v":"PCO-Out-5-26"},{"$f":"IFERROR(VLOOKUP(F42&\"-0\",'linked mastersheet'!$A$2:$K$200,7,FALSE),\"\")","v":"Even though you are rabies free based on successful mass vaccination campaigns, has the capacity for outbreak and re-introduction response been maintained?"},{"$f":"IFERROR(VLOOKUP(F42&\"-1\",'linked mastersheet'!$A$2:$K$200,7,FALSE),\"\")","v":""},null,{"$f":"IF(ROWS(B$40:B42)<=$I$41,INDEX(masterlist!$C$2:$C$200,SMALL(IF(masterlist!$B$2:$B$200=\"LAB\",IF(masterlist!$E$2:$E$200=5,ROW(masterlist!$B$2:$B$200)-ROW(masterlist!$B$2)+1)),ROWS(B$40:B42))),\"\")","v":""},{"$f":"IFERROR(VLOOKUP(J42&\"-0\",'linked mastersheet'!$A$2:$K$200,7,FALSE),\"\")","v":""},{"$f":"IFERROR(VLOOKUP(J42&\"-1\",'linked mastersheet'!$A$2:$K$200,7,FALSE),\"\")","v":""},null,{"$f":"IF(ROWS(B$40:B42)<=$M$41,INDEX(masterlist!$C$2:$C$200,SMALL(IF(masterlist!$B$2:$B$200=\"DPM\",IF(masterlist!$E$2:$E$200=5,ROW(masterlist!$B$2:$B$200)-ROW(masterlist!$B$2)+1)),ROWS(B$40:B42))),\"\")","v":""},{"$f":"IFERROR(VLOOKUP(N42&\"-0\",'linked mastersheet'!$A$2:$K$200,7,FALSE),\"\")","v":""},{"$f":"IFERROR(VLOOKUP(N42&\"-1\",'linked mastersheet'!$A$2:$K$200,7,FALSE),\"\")","v":""},null,{"$f":"IF(ROWS(B$40:B42)<=$Q$41,INDEX(masterlist!$C$2:$C$200,SMALL(IF(masterlist!$B$2:$B$200=\"IEC\",IF(masterlist!$E$2:$E$200=5,ROW(masterlist!$B$2:$B$200)-ROW(masterlist!$B$2)+1)),ROWS(B$40:B42))),\"\")","v":""},{"$f":"IFERROR(VLOOKUP(R42&\"-0\",'linked mastersheet'!$A$2:$K$200,7,FALSE),\"\")","v":""},{"$f":"IFERROR(VLOOKUP(R42&\"-1\",'linked mastersheet'!$A$2:$K$200,7,FALSE),\"\")","v":""},null,{"$f":"IF(ROWS(B$40:B42)<=$U$41,INDEX(masterlist!$C$2:$C$200,SMALL(IF(masterlist!$B$2:$B$200=\"CCI\",IF(masterlist!$E$2:$E$200=5,ROW(masterlist!$B$2:$B$200)-ROW(masterlist!$B$2)+1)),ROWS(B$40:B42))),\"\")","v":""},{"$f":"IFERROR(VLOOKUP(V42&\"-0\",'linked mastersheet'!$A$2:$K$200,7,FALSE),\"\")","v":""},{"$f":"IFERROR(VLOOKUP(V42&\"-1\",'linked mastersheet'!$A$2:$K$200,7,FALSE),\"\")","v":""},null,{"$f":"IF(ROWS(B$40:B42)<=$Y$41,INDEX(masterlist!$C$2:$C$200,SMALL(IF(masterlist!$B$2:$B$200=\"LEG\",IF(masterlist!$E$2:$E$200=5,ROW(masterlist!$B$2:$B$200)-ROW(masterlist!$B$2)+1)),ROWS(B$40:B42))),\"\")","v":""},{"$f":"IFERROR(VLOOKUP(Z42&\"-0\",'linked mastersheet'!$A$2:$K$200,7,FALSE),\"\")","v":""},{"$f":"IFERROR(VLOOKUP(Z42&\"-1\",'linked mastersheet'!$A$2:$K$200,7,FALSE),\"\")","v":""}]
[null,{"$f":"IF(ROWS(B$40:B43)<=$A$41,INDEX(masterlist!$C$2:$C$200,SMALL(IF(masterlist!$B$2:$B$200=\"DCA\",IF(masterlist!$E$2:$E$200=5,ROW(masterlist!$B$2:$B$200)-ROW(masterlist!$B$2)+1)),ROWS(B$40:B43))),\"\")","v":""},{"$f":"IFERROR(VLOOKUP(B43&\"-0\",'linked mastersheet'!$A$2:$K$200,7,FALSE),\"\")","v":""},{"$f":"IFERROR(VLOOKUP(B43&\"-1\",'linked mastersheet'!$A$2:$K$200,7,FALSE),\"\")","v":""},null,{"$f":"IF(ROWS(B$40:B43)<=$E$41,INDEX(masterlist!$C$2:$C$200,SMALL(IF(masterlist!$B$2:$B$200=\"PCO\",IF(masterlist!$E$2:$E$200=5,ROW(masterlist!$B$2:$B$200)-ROW(masterlist!$B$2)+1)),ROWS(B$40:B43))),\"\")","v":""},{"$f":"IFERROR(VLOOKUP(F43&\"-0\",'linked mastersheet'!$A$2:$K$200,7,FALSE),\"\")","v":""},{"$f":"IFERROR(VLOOKUP(F43&\"-1\",'linked mastersheet'!$A$2:$K$200,7,FALSE),\"\")","v":""},null,{"$f":"IF(ROWS(B$40:B43)<=$I$41,INDEX(masterlist!$C$2:$C$200,SMALL(IF(masterlist!$B$2:$B$200=\"LAB\",IF(masterlist!$E$2:$E$200=5,ROW(masterlist!$B$2:$B$200)-ROW(masterlist!$B$2)+1)),ROWS(B$40:B43))),\"\")","v":""},{"$f":"IFERROR(VLOOKUP(J43&\"-0\",'linked mastersheet'!$A$2:$K$200,7,FALSE),\"\")","v":""},{"$f":"IFERROR(VLOOKUP(J43&\"-1\",'linked mastersheet'!$A$2:$K$200,7,FALSE),\"\")","v":""},null,{"$f":"IF(ROWS(B$40:B43)<=$M$41,INDEX(masterlist!$C$2:$C$200,SMALL(IF(masterlist!$B$2:$B$200=\"DPM\",IF(masterlist!$E$2:$E$200=5,ROW(masterlist!$B$2:$B$200)-ROW(masterlist!$B$2)+1)),ROWS(B$40:B43))),\"\")","v":""},{"$f":"IFERROR(VLOOKUP(N43&\"-0\",'linked mastersheet'!$A$2:$K$200,7,FALSE),\"\")","v":""},{"$f":"IFERROR(VLOOKUP(N43&\"-1\",'linked mastersheet'!$A$2:$K$200,7,FALSE),\"\")","v":""},null,{"$f":"IF(ROWS(B$40:B43)<=$Q$41,INDEX(masterlist!$C$2:$C$200,SMALL(IF(masterlist!$B$2:$B$200=\"IEC\",IF(masterlist!$E$2:$E$200=5,ROW(masterlist!$B$2:$B$200)-ROW(masterlist!$B$2)+1)),ROWS(B$40:B43))),\"\")","v":""},{"$f":"IFERROR(VLOOKUP(R43&\"-0\",'linked mastersheet'!$A$2:$K$200,7,FALSE),\"\")","v":""},{"$f":"IFERROR(VLOOKUP(R43&\"-1\",'linked mastersheet'!$A$2:$K$200,7,FALSE),\"\")","v":""},null,{"$f":"IF(ROWS(B$40:B43)<=$U$41,INDEX(masterlist!$C$2:$C$200,SMALL(IF(masterlist!$B$2:$B$200=\"CCI\",IF(masterlist!$E$2:$E$200=5,ROW(masterlist!$B$2:$B$200)-ROW(masterlist!$B$2)+1)),ROWS(B$40:B43))),\"\")","v":""},{"$f":"IFERROR(VLOOKUP(V43&\"-0\",'linked mastersheet'!$A$2:$K$200,7,FALSE),\"\")","v":""},{"$f":"IFERROR(VLOOKUP(V43&\"-1\",'linked mastersheet'!$A$2:$K$200,7,FALSE),\"\")","v":""},null,{"$f":"IF(ROWS(B$40:B43)<=$Y$41,INDEX(masterlist!$C$2:$C$200,SMALL(IF(masterlist!$B$2:$B$200=\"LEG\",IF(masterlist!$E$2:$E$200=5,ROW(masterlist!$B$2:$B$200)-ROW(masterlist!$B$2)+1)),ROWS(B$40:B43))),\"\")","v":""},{"$f":"IFERROR(VLOOKUP(Z43&\"-0\",'linked mastersheet'!$A$2:$K$200,7,FALSE),\"\")","v":""},{"$f":"IFERROR(VLOOKUP(Z43&\"-1\",'linked mastersheet'!$A$2:$K$200,7,FALSE),\"\")","v":""}]

{"sheet":"priorit","index":16,"n_rows":198,"n_cols":6,"rows_kept":198,"cut":false,"hidden":true,"merged":[[197,4,197,5],[0,1,0,3],[1,1,1,3],[191,4,191,5],[192,4,192,5],[193,4,193,5],[194,4,194,5],[195,4,195,5],[196,4,196,5],[185,4,185,5],[186,4,186,5],[187,4,187,5],[188,4,188,5],[189,4,189,5],[190,4,190,5],[179,4,179,5],[180,4,180,5],[181,4,181,5],[182,4,182,5],[183,4,183,5],[184,4,184,5],[173,4,173,5],[174,4,174,5],[175,4,175,5],[176,4,176,5],[177,4,177,5],[178,4,178,5],[167,4,167,5],[168,4,168,5],[169,4,169,5],[170,4,170,5],[171,4,171,5],[172,4,172,5],[161,4,161,5],[162,4,162,5],[163,4,163,5],[164,4,164,5],[165,4,165,5],[166,4,166,5],[155,4,155,5],[156,4,156,5],[157,4,157,5],[158,4,158,5],[159,4,159,5],[160,4,160,5],[149,4,149,5],[150,4,150,5],[151,4,151,5],[152,4,152,5],[153,4,153,5],[154,4,154,5],[143,4,143,5],[144,4,144,5],[145,4,145,5],[146,4,146,5],[147,4,147,5],[148,4,148,5],[137,4,137,5],[138,4,138,5],[139,4,139,5],[140,4,140,5],[141,4,141,5],[142,4,142,5],[131,4,131,5],[132,4,132,5],[133,4,133,5],[134,4,134,5],[135,4,135,5],[136,4,136,5],[125,4,125,5],[126,4,126,5],[127,4,127,5],[128,4,128,5],[129,4,129,5],[130,4,130,5],[119,4,119,5],[120,4,120,5],[121,4,121,5],[122,4,122,5],[123,4,123,5],[124,4,124,5],[113,4,113,5],[114,4,114,5],[115,4,115,5],[116,4,116,5],[117,4,117,5],[118,4,118,5],[107,4,107,5],[108,4,108,5],[109,4,109,5],[110,4,110,5],[111,4,111,5],[112,4,112,5],[101,4,101,5],[102,4,102,5],[103,4,103,5],[104,4,104,5],[105,4,105,5],[106,4,106,5],[95,4,95,5],[96,4,96,5],[97,4,97,5],[98,4,98,5],[99,4,99,5],[100,4,100,5],[89,4,89,5],[90,4,90,5],[91,4,91,5],[92,4,92,5],[93,4,93,5],[94,4,94,5],[83,4,83,5],[84,4,84,5],[85,4,85,5],[86,4,86,5],[87,4,87,5],[88,4,88,5],[77,4,77,5],[78,4,78,5],[79,4,79,5],[80,4,80,5],[81,4,81,5],[82,4,82,5],[71,4,71,5],[72,4,72,5],[73,4,73,5],[74,4,74,5],[75,4,75,5],[76,4,76,5],[65,4,65,5],[66,4,66,5],[67,4,67,5],[68,4,68,5],[69,4,69,5],[70,4,70,5],[59,4,59,5],[60,4,60,5],[61,4,61,5],[62,4,62,5],[63,4,63,5],[64,4,64,5],[53,4,53,5],[54,4,54,5],[55,4,55,5],[56,4,56,5],[57,4,57,5],[58,4,58,5],[47,4,47,5],[48,4,48,5],[49,4,49,5],[50,4,50,5],[51,4,51,5],[52,4,52,5],[41,4,41,5],[42,4,42,5],[43,4,43,5],[44,4,44,5],[45,4,45,5],[46,4,46,5],[35,4,35,5],[36,4,36,5],[37,4,37,5],[38,4,38,5],[39,4,39,5],[40,4,40,5],[29,4,29,5],[30,4,30,5],[31,4,31,5],[32,4,32,5],[33,4,33,5],[34,4,34,5],[23,4,23,5],[24,4,24,5],[25,4,25,5],[26,4,26,5],[27,4,27,5],[28,4,28,5],[17,4,17,5],[18,4,18,5],[19,4,19,5],[20,4,20,5],[21,4,21,5],[22,4,22,5],[11,4,11,5],[12,4,12,5],[13,4,13,5],[14,4,14,5],[15,4,15,5],[16,4,16,5],[5,4,5,5],[6,4,6,5],[7,4,7,5],[8,4,8,5],[9,4,9,5],[10,4,10,5],[0,5,1,5],[0,4,1,4],[4,4,4,5]]}
[{"$f":"SUMPRODUCT((masterlist!F:F>0)*(masterlist!J:J=0))","v":44},"Stepwise Approach towards Rabies Elimination",null,null,{"$f":"IF(ISBLANK('Country profile'!E3),\"\",UPPER('Country profile'!E3))","v":"SWAZILAND"},{"$f":"IF(ISBLANK('Country profile'!K8),IF(ISBLANK('Country profile'!K13),\"\",'Country profile'!K13),'Country profile'!K8)","v":2018}]
[null,"PRIORITISATION OF RABIES PROGRAM ACTIVITIES"]
[]
[]
["ID","STAGE","COMPONENT","ACTIVITY","NOTES"]
[{"$f":"IF(ROWS($A$6:A6)<=$A$1,INDEX(masterlist!$C$2:$C$200,SMALL(IF(masterlist!$F$2:$F$200>0,IF(masterlist!$J$2:$J$200=0,ROW(masterlist!$B$2:$B$200)-ROW(masterlist!$B$2)+1)),ROWS($A$6:A6))),\"\")","v":"DCA-Sur-1-11"},{"$f":"IFERROR(VLOOKUP($A6,masterlist!$C$2:$K$200,3,FALSE),\"\")","v":1},{"$f":"LEFT(A6,3)","v":"DCA"},{"$f":"IFERROR(VLOOKUP($A6,masterlist!$C$2:$K$200,5,FALSE),\"\")","v":"Have dog population studies and KAP surveys been conducted to determine size, turn-over and accessibility of dogs for vaccination on a small scale?"},{"$f":"IFERROR(IF((VLOOKUP($A6,masterlist!$C$2:$K$200,9,FALSE))=0,\"\",VLOOKUP($A6,masterlist!$C$2:$K$200,9,FALSE)),\"\")","v":""}]
[{"$f":"IF(ROWS($A$6:A7)<=$A$1,INDEX(masterlist!$C$2:$C$200,SMALL(IF(masterlist!$F$2:$F$200>0,IF(masterlist!$J$2:$J$200=0,ROW(masterlist!$B$2:$B$200)-ROW(masterlist!$B$2)+1)),ROWS($A$6:A7))),\"\")","v":"DCA-Sur-3-17"},{"$f":"IFERROR(VLOOKUP($A7,masterlist!$C$2:$K$200,3,FALSE),\"\")","v":3},{"$f":"LEFT(A7,3)","v":"DCA"},{"$f":"IFERROR(VLOOKUP($A7,masterlist!$C$2:$K$200,5,FALSE),\"\")","v":"As your country nears human rabies elimination, have field investigations for all suspected human rabies cases been conducted? "},{"$f":"IFERROR(IF((VLOOKUP($A7,masterlist!$C$2:$K$200,9,FALSE))=0,\"\",VLOOKUP($A7,masterlist!$C$2:$K$200,9,FALSE)),\"\")","v":""}]
[{"$f":"IF(ROWS($A$6:A8)<=$A$1,INDEX(masterlist!$C$2:$C$200,SMALL(IF(masterlist!$F$2:$F$200>0,IF(masterlist!$J$2:$J$200=0,ROW(masterlist!$B$2:$B$200)-ROW(masterlist!$B$2)+1)),ROWS($A$6:A8))),\"\")","v":"DCA-Sur-3-18"},{"$f":"IFERROR(VLOOKUP($A8,masterlist!$C$2:$K$200,3,FALSE),\"\")","v":3},"DCA",{"$f":"IFERROR(VLOOKUP($A8,masterlist!$C$2:$K$200,5,FALSE),\"\")","v":"As your country nears human rabies elimination, is epidemiological data being collected to provide evidence of dog-transmitted human rabies-free zones?"},{"$f":"IFERROR(IF((VLOOKUP($A8,masterlist!$C$2:$K$200,9,FALSE))=0,\"\",VLOOKUP($A8,masterlist!$C$2:$K$200,9,FALSE)),\"\")","v":""}]
[{"$f":"IF(ROWS($A$6:A9)<=$A$1,INDEX(masterlist!$C$2:$C$200,SMALL(IF(masterlist!$F$2:$F$200>0,IF(masterlist!$J$2:$J$200=0,ROW(masterlist!$B$2:$B$200)-ROW(masterlist!$B$2)+1)),ROWS($A$6:A9))),\"\")","v":"DCA-Sur-4-21"},{"$f":"IFERROR(VLOOKUP($A9,masterlist!$C$2:$K$200,3,FALSE),\"\")","v":4},"DCA",{"$f":"IFERROR(VLOOKUP($A9,masterlist!$C$2:$K$200,5,FALSE),\"\")","v":"As your country nears dog-rabies elimination, has the epidemiological data from the routine surveillance of all animals (not only dogs) been used to refine the national rabies strategy?"},{"$f":"IFERROR(IF((VLOOKUP($A9,masterlist!$C$2:$K$200,9,FALSE))=0,\"\",VLOOKUP($A9,masterlist!$C$2:$K$200,9,FALSE)),\"\")","v":""}]
[{"$f":"IF(ROWS($A$6:A10)<=$A$1,INDEX(masterlist!$C$2:$C$200,SMALL(IF(masterlist!$F$2:$F$200>0,IF(masterlist!$J$2:$J$200=0,ROW(masterlist!$B$2:$B$200)-ROW(masterlist!$B$2)+1)),ROWS($A$6:A10))),\"\")","v":"DCA-Sur-5-22"},{"$f":"IFERROR(VLOOKUP($A10,masterlist!$C$2:$K$200,3,FALSE),\"\")","v":5},"DCA",{"$f":"IFERROR(VLOOKUP($A10,masterlist!$C$2:$K$200,5,FALSE),\"\")","v":"Has freedom from dog-transmitted rabies in the entire country been verified by the absence of canine variant cases for at least a 2 year period?"},{"$f":"IFERROR(IF((VLOOKUP($A10,masterlist!$C$2:$K$200,9,FALSE))=0,\"\",VLOOKUP($A10,masterlist!$C$2:$K$200,9,FALSE)),\"\")","v":""}]
[{"$f":"IF(ROWS($A$6:A11)<=$A$1,INDEX(masterlist!$C$2:$C$200,SMALL(IF(masterlist!$F$2:$F$200>0,IF(masterlist!$J$2:$J$200=0,ROW(masterlist!$B$2:$B$200)-ROW(masterlist!$B$2)+1)),ROWS($A$6:A11))),\"\")","v":"PCO-Hum-2-3"},{"$f":"IFERROR(VLOOKUP($A11,masterlist!$C$2:$K$200,3,FALSE),\"\")","v":2},"PCO",{"$f":"IFERROR(VLOOKUP($A11,masterlist!$C$2:$K$200,5,FALSE),\"\")","v":"Has an assessment* been done to determine the availability and access to PEP (and PreP)?"},{"$f":"IFERROR(IF((VLOOKUP($A11,masterlist!$C$2:$K$200,9,FALSE))=0,\"\",VLOOKUP($A11,masterlist!$C$2:$K$200,9,FALSE)),\"\")","v":""}]
[{"$f":"IF(ROWS($A$6:A12)<=$A$1,INDEX(masterlist!$C$2:$C$200,SMALL(IF(masterlist!$F$2:$F$200>0,IF(masterlist!$J$2:$J$200=0,ROW(masterlist!$B$2:$B$200)-ROW(masterlist!$B$2)+1)),ROWS($A$6:A12))),\"\")","v":"PCO-Hum-5-7"},{"$f":"IFERROR(VLOOKUP($A12,masterlist!$C$2:$K$200,3,FALSE),\"\")","v":5},"PCO",{"$f":"IFERROR(VLOOKUP($A12,masterlist!$C$2:$K$200,5,FALSE),\"\")","v":"Now that your country is free from human and animal rabies, have modified protocols for PEP administration for rabies-free areas been implemented?"},{"$f":"IFERROR(IF((VLOOKUP($A12,masterlist!$C$2:$K$200,9,FALSE))=0,\"\",VLOOKUP($A12,masterlist!$C$2:$K$200,9,FALSE)),\"\")","v":""}]
[{"$f":"IF(ROWS($A$6:A13)<=$A$1,INDEX(masterlist!$C$2:$C$200,SMALL(IF(masterlist!$F$2:$F$200>0,IF(masterlist!$J$2:$J$200=0,ROW(masterlist!$B$2:$B$200)-ROW(masterlist!$B$2)+1)),ROWS($A$6:A13))),\"\")","v":"PCO-Dog-3-12"},{"$f":"IFERROR(VLOOKUP($A13,masterlist!$C$2:$K$200,3,FALSE),\"\")","v":3},"PCO",{"$f":"IFERROR(VLOOKUP($A13,masterlist!$C$2:$K$200,5,FALSE),\"\")","v":"Are post-vaccination surveys* in dogs being carried out to evaluate vaccination coverage?"},{"$f":"IFERROR(IF((VLOOKUP($A13,masterlist!$C$2:$K$200,9,FALSE))=0,\"\",VLOOKUP($A13,masterlist!$C$2:$K$200,9,FALSE)),\"\")","v":""}]
[{"$f":"IF(ROWS($A$6:A14)<=$A$1,INDEX(masterlist!$C$2:$C$200,SMALL(IF(masterlist!$F$2:$F$200>0,IF(masterlist!$J$2:$J$200=0,ROW(masterlist!$B$2:$B$200)-ROW(masterlist!$B$2)+1)),ROWS($A$6:A14))),\"\")","v":"PCO-Dog-5-14"},{"$f":"IFERROR(VLOOKUP($A14,masterlist!$C$2:$K$200,3,FALSE),\"\")","v":5},"PCO",{"$f":"IFERROR(VLOOKUP($A14,masterlist!$C$2:$K$200,5,FALSE),\"\")","v":"Even though you are rabies free based on successful mass vaccination campaigns, are strategic dog vaccination campaigns maintained where justifiable?"},{"$f":"IFERROR(IF((VLOOKUP($A14,masterlist!$C$2:$K$200,9,FALSE))=0,\"\",VLOOKUP($A14,masterlist!$C$2:$K$200,9,FALSE)),\"\")","v":""}]
[{"$f":"IF(ROWS($A$6:A15)<=$A$1,INDEX(masterlist!$C$2:$C$200,SMALL(IF(masterlist!$F$2:$F$200>0,IF(masterlist!$J$2:$J$200=0,ROW(masterlist!$B$2:$B$200)-ROW(masterlist!$B$2)+1)),ROWS($A$6:A15))),\"\")","v":"PCO-Out-2-20"},{"$f":"IFERROR(VLOOKUP($A15,masterlist!$C$2:$K$200,3,FALSE),\"\")","v":2},"PCO",{"$f":"IFERROR(VLOOKUP($A15,masterlist!$C$2:$K$200,5,FALSE),\"\")","v":"Have facilities been established for the observation of rabies-suspected dogs?"},{"$f":"IFERROR(IF((VLOOKUP($A15,masterlist!$C$2:$K$200,9,FALSE))=0,\"\",VLOOKUP($A15,masterlist!$C$2:$K$200,9,FALSE)),\"\")","v":""}]
[{"$f":"IF(ROWS($A$6:A16)<=$A$1,INDEX(masterlist!$C$2:$C$200,SMALL(IF(masterlist!$F$2:$F$200>0,IF(masterlist!$J$2:$J$200=0,ROW(masterlist!$B$2:$B$200)-ROW(masterlist!$B$2)+1)),ROWS($A$6:A16))),\"\")","v":"PCO-Out-3-21"},{"$f":"IFERROR(VLOOKUP($A16,masterlist!$C$2:$K$200,3,FALSE),\"\")","v":3},"PCO",{"$f":"IFERROR(VLOOKUP($A16,masterlist!$C$2:$K$200,5,FALSE),\"\")","v":"Is there capacity to conduct field investigations and planned outbreak responses for human rabies cases in the entire country?"},{"$f":"IFERROR(IF((VLOOKUP($A16,masterlist!$C$2:$K$200,9,FALSE))=0,\"\",VLOOKUP($A16,masterlist!$C$2:$K$200,9,FALSE)),\"\")","v":""}]
[{"$f":"IF(ROWS($A$6:A17)<=$A$1,INDEX(masterlist!$C$2:$C$200,SMALL(IF(masterlist!$F$2:$F$200>0,IF(masterlist!$J$2:$J$200=0,ROW(masterlist!$B$2:$B$200)-ROW(masterlist!$B$2)+1)),ROWS($A$6:A17))),\"\")","v":"PCO-Out-3-22"},{"$f":"IFERROR(VLOOKUP($A17,masterlist!$C$2:$K$200,3,FALSE),\"\")","v":3},"PCO",{"$f":"IFERROR(VLOOKUP($A17,masterlist!$C$2:$K$200,5,FALSE),\"\")","v":"Have potential rabies-free zones been identified where animal rabies cases caused by the canine rabies variant have been absent for at least a 2 year period?"},{"$f":"IFERROR(IF((VLOOKUP($A17,masterlist!$C$2:$K$200,9,FALSE))=0,\"\",VLOOKUP($A17,masterlist!$C$2:$K$200,9,FALSE)),\"\")","v":""}]
[{"$f":"IF(ROWS($A$6:A18)<=$A$1,INDEX(masterlist!$C$2:$C$200,SMALL(IF(masterlist!$F$2:$F$200>0,IF(masterlist!$J$2:$J$200=0,ROW(masterlist!$B$2:$B$200)-ROW(masterlist!$B$2)+1)),ROWS($A$6:A18))),\"\")","v":"PCO-Out-4-25"},{"$f":"IFERROR(VLOOKUP($A18,masterlist!$C$2:$K$200,3,FALSE),\"\")","v":4},"PCO",{"$f":"IFERROR(VLOOKUP($A18,masterlist!$C$2:$K$200,5,FALSE),\"\")","v":"Now that there are very few animal rabies cases in your country, has an emergency response/contingency plan been developed to address any reintroduced case of animal rabies involving a canine variant in rabies-free zones?"},{"$f":"IFERROR(IF((VLOOKUP($A18,masterlist!$C$2:$K$200,9,FALSE))=0,\"\",VLOOKUP($A18,masterlist!$C$2:$K$200,9,FALSE)),\"\")","v":""}]
[{"$f":"IF(ROWS($A$6:A19)<=$A$1,INDEX(masterlist!$C$2:$C$200,SMALL(IF(masterlist!$F$2:$F$200>0,IF(masterlist!$J$2:$J$200=0,ROW(masterlist!$B$2:$B$200)-ROW(masterlist!$B$2)+1)),ROWS($A$6:A19))),\"\")","v":"PCO-Out-5-26"},{"$f":"IFERROR(VLOOKUP($A19,masterlist!$C$2:$K$200,3,FALSE),\"\")","v":5},"PCO",{"$f":"IFERROR(VLOOKUP($A19,masterlist!$C$2:$K$200,5,FALSE),\"\")","v":"Even though you are rabies free based on successful mass vaccination campaigns, has the capacity for outbreak and re-introduction response been maintained?"},{"$f":"IFERROR(IF((VLOOKUP($A19,masterlist!$C$2:$K$200,9,FALSE))=0,\"\",VLOOKUP($A19,masterlist!$C$2:$K$200,9,FALSE)),\"\")","v":""}]
[{"$f":"IF(ROWS($A$6:A20)<=$A$1,INDEX(masterlist!$C$2:$C$200,SMALL(IF(masterlist!$F$2:$F$200>0,IF(masterlist!$J$2:$J$200=0,ROW(masterlist!$B$2:$B$200)-ROW(masterlist!$B$2)+1)),ROWS($A$6:A20))),\"\")","v":"LAB-Lab-4-12"},{"$f":"IFERROR(VLOOKUP($A20,masterlist!$C$2:$K$200,3,FALSE),\"\")","v":4},"LAB",{"$f":"IFERROR(VLOOKUP($A20,masterlist!$C$2:$K$200,5,FALSE),\"\")","v":"Is there regular characterization and analysis of circulating rabies virus variants by a national or international laboratory?"},{"$f":"IFERROR(IF((VLOOKUP($A20,masterlist!$C$2:$K$200,9,FALSE))=0,\"\",VLOOKUP($A20,masterlist!$C$2:$K$200,9,FALSE)),\"\")","v":""}]
[{"$f":"IF(ROWS($A$6:A21)<=$A$1,INDEX(masterlist!$C$2:$C$200,SMALL(IF(masterlist!$F$2:$F$200>0,IF(masterlist!$J$2:$J$200=0,ROW(masterlist!$B$2:$B$200)-ROW(masterlist!$B$2)+1)),ROWS($A$6:A21))),\"\")","v":"DPM- -1-2"},{"$f":"IFERROR(VLOOKUP($A21,masterlist!$C$2:$K$200,3,FALSE),\"\")","v":1},"DPM",{"$f":"IFERROR(VLOOKUP($A21,masterlist!$C$2:$K$200,5,FALSE),\"\")","v":"Have you involved officials in waste management in your stakeholder* meetings"},{"$f":"IFERROR(IF((VLOOKUP($A21,masterlist!$C$2:$K$200,9,FALSE))=0,\"\",VLOOKUP($A21,masterlist!$C$2:$K$200,9,FALSE)),\"\")","v":""}]
[{"$f":"IF(ROWS($A$6:A22)<=$A$1,INDEX(masterlist!$C$2:$C$200,SMALL(IF(masterlist!$F$2:$F$200>0,IF(masterlist!$J$2:$J$200=0,ROW(masterlist!$B$2:$B$200)-ROW(masterlist!$B$2)+1)),ROWS($A$6:A22))),\"\")","v":"DPM- -2-4"},{"$f":"IFERROR(VLOOKUP($A22,masterlist!$C$2:$K$200,3,FALSE),\"\")","v":2},"DPM",{"$f":"IFERROR(VLOOKUP($A22,masterlist!$C$2:$K$200,5,FALSE),\"\")","v":"Has a DPM* strategy and programme been drafted and shared with all relevant stakeholders at a local level?"},{"$f":"IFERROR(IF((VLOOKUP($A22,masterlist!$C$2:$K$200,9,FALSE))=0,\"\",VLOOKUP($A22,masterlist!$C$2:$K$200,9,FALSE)),\"\")","v":""}]
[{"$f":"IF(ROWS($A$6:A23)<=$A$1,INDEX(masterlist!$C$2:$C$200,SMALL(IF(masterlist!$F$2:$F$200>0,IF(masterlist!$J$2:$J$200=0,ROW(masterlist!$B$2:$B$200)-ROW(masterlist!$B$2)+1)),ROWS($A$6:A23))),\"\")","v":"DPM- -2-5"},{"$f":"IFERROR(VLOOKUP($A23,masterlist!$C$2:$K$200,3,FALSE),\"\")","v":2},"DPM",{"$f":"IFERROR(VLOOKUP($A23,masterlist!$C$2:$K$200,5,FALSE),\"\")","v":"Has the DPM strategy been finalized and implemented?"},{"$f":"IFERROR(IF((VLOOKUP($A23,masterlist!$C$2:$K$200,9,FALSE))=0,\"\",VLOOKUP($A23,masterlist!$C$2:$K$200,9,FALSE)),\"\")","v":""}]
[{"$f":"IF(ROWS($A$6:A24)<=$A$1,INDEX(masterlist!$C$2:$C$200,SMALL(IF(masterlist!$F$2:$F$200>0,IF(masterlist!$J$2:$J$200=0,ROW(masterlist!$B$2:$B$200)-ROW(masterlist!$B$2)+1)),ROWS($A$6:A24))),\"\")","v":"DPM- -3-10"},{"$f":"IFERROR(VLOOKUP($A24,masterlist!$C$2:$K$200,3,FALSE),\"\")","v":3},"DPM",{"$f":"IFERROR(VLOOKUP($A24,masterlist!$C$2:$K$200,5,FALSE),\"\")","v":"Has veterinary and animal technician training been completed across most of country?"},{"$f":"IFERROR(IF((VLOOKUP($A24,masterlist!$C$2:$K$200,9,FALSE))=0,\"\",VLOOKUP($A24,masterlist!$C$2:$K$200,9,FALSE)),\"\")","v":""}]
[{"$f":"IF(ROWS($A$6:A25)<=$A$1,INDEX(masterlist!$C$2:$C$200,SMALL(IF(masterlist!$F$2:$F$200>0,IF(masterlist!$J$2:$J$200=0,ROW(masterlist!$B$2:$B$200)-ROW(masterlist!$B$2)+1)),ROWS($A$6:A25))),\"\")","v":"DPM- -5-11"},{"$f":"IFERROR(VLOOKUP($A25,masterlist!$C$2:$K$200,3,FALSE),\"\")","v":5},"DPM",{"$f":"IFERROR(VLOOKUP($A25,masterlist!$C$2:$K$200,5,FALSE),\"\")","v":"Has the dog population management strategy been implemented nationwide?"},{"$f":"IFERROR(IF((VLOOKUP($A25,masterlist!$C$2:$K$200,9,FALSE))=0,\"\",VLOOKUP($A25,masterlist!$C$2:$K$200,9,FALSE)),\"\")","v":""}]
[{"$f":"IF(ROWS($A$6:A26)<=$A$1,INDEX(masterlist!$C$2:$C$200,SMALL(IF(masterlist!$F$2:$F$200>0,IF(masterlist!$J$2:$J$200=0,ROW(masterlist!$B$2:$B$200)-ROW(masterlist!$B$2)+1)),ROWS($A$6:A26))),\"\")","v":"DPM- -5-12"},{"$f":"IFERROR(VLOOKUP($A26,masterlist!$C$2:$K$200,3,FALSE),\"\")","v":5},"DPM",{"$f":"IFERROR(VLOOKUP($A26,masterlist!$C$2:$K$200,5,FALSE),\"\")","v":"Have dog population management and responsible dog ownership campaigns been continued after the elimination of canine-mediated human rabies?"},{"$f":"IFERROR(IF((VLOOKUP($A26,masterlist!$C$2:$K$200,9,FALSE))=0,\"\",VLOOKUP($A26,masterlist!$C$2:$K$200,9,FALSE)),\"\")","v":""}]
[{"$f":"IF(ROWS($A$6:A27)<=$A$1,INDEX(masterlist!$C$2:$C$200,SMALL(IF(masterlist!$F$2:$F$200>0,IF(masterlist!$J$2:$J$200=0,ROW(masterlist!$B$2:$B$200)-ROW(masterlist!$B$2)+1)),ROWS($A$6:A27))),\"\")","v":"IEC-Pub-3-5"},{"$f":"IFERROR(VLOOKUP($A27,masterlist!$C$2:$K$200,3,FALSE),\"\")","v":3},"IEC",{"$f":"IFERROR(VLOOKUP($A27,masterlist!$C$2:$K$200,5,FALSE),\"\")","v":"Has the IEC plan been integrated into the national rabies strategy, implemented at national level and updated where needed?"},{"$f":"IFERROR(IF((VLOOKUP($A27,masterlist!$C$2:$K$200,9,FALSE))=0,\"\",VLOOKUP($A27,masterlist!$C$2:$K$200,9,FALSE)),\"\")","v":""}]
[{"$f":"IF(ROWS($A$6:A28)<=$A$1,INDEX(masterlist!$C$2:$C$200,SMALL(IF(masterlist!$F$2:$F$200>0,IF(masterlist!$J$2:$J$200=0,ROW(masterlist!$B$2:$B$200)-ROW(masterlist!$B$2)+1)),ROWS($A$6:A28))),\"\")","v":"IEC-Pub-5-6"},{"$f":"IFERROR(VLOOKUP($A28,masterlist!$C$2:$K$200,3,FALSE),\"\")","v":5},"IEC",{"$f":"IFERROR(VLOOKUP($A28,masterlist!$C$2:$K$200,5,FALSE),\"\")","v":"Have awareness programmes focusing on the maintenance of freedom from dog and dog-transmitted human rabies been implemented?"},{"$f":"IFERROR(IF((VLOOKUP($A28,masterlist!$C$2:$K$200,9,FALSE))=0,\"\",VLOOKUP($A28,masterlist!$C$2:$K$200,9,FALSE)),\"\")","v":""}]
[{"$f":"IF(ROWS($A$6:A29)<=$A$1,INDEX(masterlist!$C$2:$C$200,SMALL(IF(masterlist!$F$2:$F$200>0,IF(masterlist!$J$2:$J$200=0,ROW(masterlist!$B$2:$B$200)-ROW(masterlist!$B$2)+1)),ROWS($A$6:A29))),\"\")","v":"IEC-Pro-1-8"},{"$f":"IFERROR(VLOOKUP($A29,masterlist!$C$2:$K$200,3,FALSE),\"\")","v":1},"IEC",{"$f":"IFERROR(VLOOKUP($A29,masterlist!$C$2:$K$200,5,FALSE),\"\")","v":"Has an assessment been undertaken to determine the training needs of the professionals at a local level? "},{"$f":"IFERROR(IF((VLOOKUP($A29,masterlist!$C$2:$K$200,9,FALSE))=0,\"\",VLOOKUP($A29,masterlist!$C$2:$K$200,9,FALSE)),\"\")","v":""}]
[{"$f":"IF(ROWS($A$6:A30)<=$A$1,INDEX(masterlist!$C$2:$C$200,SMALL(IF(masterlist!$F$2:$F$200>0,IF(masterlist!$J$2:$J$200=0,ROW(masterlist!$B$2:$B$200)-ROW(masterlist!$B$2)+1)),ROWS($A$6:A30))),\"\")","v":"IEC-Pro-1-9"},{"$f":"IFERROR(VLOOKUP($A30,masterlist!$C$2:$K$200,3,FALSE),\"\")","v":1},"IEC",{"$f":"IFERROR(VLOOKUP($A30,masterlist!$C$2:$K$200,5,FALSE),\"\")","v":"Has a training plan been developed at a national level?"},{"$f":"IFERROR(IF((VLOOKUP($A30,masterlist!$C$2:$K$200,9,FALSE))=0,\"\",VLOOKUP($A30,masterlist!$C$2:$K$200,9,FALSE)),\"\")","v":""}]
[{"$f":"IF(ROWS($A$6:A31)<=$A$1,INDEX(masterlist!$C$2:$C$200,SMALL(IF(masterlist!$F$2:$F$200>0,IF(masterlist!$J$2:$J$200=0,ROW(masterlist!$B$2:$B$200)-ROW(masterlist!$B$2)+1)),ROWS($A$6:A31))),\"\")","v":"IEC-Pro-1-10"},{"$f":"IFERROR(VLOOKUP($A31,masterlist!$C$2:$K$200,3,FALSE),\"\")","v":1},"IEC",{"$f":"IFERROR(VLOOKUP($A31,masterlist!$C$2:$K$200,5,FALSE),\"\")","v":"Have training or refresher courses on rabies and public communication been initiated for professionals in human and animal health at a local level?"},{"$f":"IFERROR(IF((VLOOKUP($A31,masterlist!$C$2:$K$200,9,FALSE))=0,\"\",VLOOKUP($A31,masterlist!$C$2:$K$200,9,FALSE)),\"\")","v":""}]
[{"$f":"IF(ROWS($A$6:A32)<=$A$1,INDEX(masterlist!$C$2:$C$200,SMALL(IF(masterlist!$F$2:$F$200>0,IF(masterlist!$J$2:$J$200=0,ROW(masterlist!$B$2:$B$200)-ROW(masterlist!$B$2)+1)),ROWS($A$6:A32))),\"\")","v":"IEC-Pro-2-11"},{"$f":"IFERROR(VLOOKUP($A32,masterlist!$C$2:$K$200,3,FALSE),\"\")","v":2},"IEC",{"$f":"IFERROR(VLOOKUP($A32,masterlist!$C$2:$K$200,5,FALSE),\"\")","v":"Has training of human and animal health personnel been conducted in most parts of the country?"},{"$f":"IFERROR(IF((VLOOKUP($A32,masterlist!$C$2:$K$200,9,FALSE))=0,\"\",VLOOKUP($A32,masterlist!$C$2:$K$200,9,FALSE)),\"\")","v":""}]
[{"$f":"IF(ROWS($A$6:A33)<=$A$1,INDEX(masterlist!$C$2:$C$200,SMALL(IF(masterlist!$F$2:$F$200>0,IF(masterlist!$J$2:$J$200=0,ROW(masterlist!$B$2:$B$200)-ROW(masterlist!$B$2)+1)),ROWS($A$6:A33))),\"\")","v":"IEC-Adv-1-13"},{"$f":"IFERROR(VLOOKUP($A33,masterlist!$C$2:$K$200,3,FALSE),\"\")","v":1},"IEC",{"$f":"IFERROR(VLOOKUP($A33,masterlist!$C$2:$K$200,5,FALSE),\"\")","v":"Has an advocacy stakeholder analysis* been done at a national level and target audiences been identified?"},{"$f":"IFERROR(IF((VLOOKUP($A33,masterlist!$C$2:$K$200,9,FALSE))=0,\"\",VLOOKUP($A33,masterlist!$C$2:$K$200,9,FALSE)),\"\")","v":""}]
[{"$f":"IF(ROWS($A$6:A34)<=$A$1,INDEX(masterlist!$C$2:$C$200,SMALL(IF(masterlist!$F$2:$F$200>0,IF(masterlist!$J$2:$J$200=0,ROW(masterlist!$B$2:$B$200)-ROW(masterlist!$B$2)+1)),ROWS($A$6:A34))),\"\")","v":"IEC-Adv-1-14"},{"$f":"IFERROR(VLOOKUP($A34,masterlist!$C$2:$K$200,3,FALSE),\"\")","v":1},"IEC",{"$f":"IFERROR(VLOOKUP($A34,masterlist!$C$2:$K$200,5,FALSE),\"\")","v":"Has an advocacy plan* been developed and implemented at a national level?"},{"$f":"IFERROR(IF((VLOOKUP($A34,masterlist!$C$2:$K$200,9,FALSE))=0,\"\",VLOOKUP($A34,masterlist!$C$2:$K$200,9,FALSE)),\"\")","v":""}]
[{"$f":"IF(ROWS($A$6:A35)<=$A$1,INDEX(masterlist!$C$2:$C$200,SMALL(IF(masterlist!$F$2:$F$200>0,IF(masterlist!$J$2:$J$200=0,ROW(masterlist!$B$2:$B$200)-ROW(masterlist!$B$2)+1)),ROWS($A$6:A35))),\"\")","v":"IEC-Adv-2-15"},{"$f":"IFERROR(VLOOKUP($A35,masterlist!$C$2:$K$200,3,FALSE),\"\")","v":2},"IEC",{"$f":"IFERROR(VLOOKUP($A35,masterlist!$C$2:$K$200,5,FALSE),\"\")","v":"Have you promoted any small-scale rabies control program successes using the national advocacy plan?"},{"$f":"IFERROR(IF((VLOOKUP($A35,masterlist!$C$2:$K$200,9,FALSE))=0,\"\",VLOOKUP($A35,masterlist!$C$2:$K$200,9,FALSE)),\"\")","v":""}]
[{"$f":"IF(ROWS($A$6:A36)<=$A$1,INDEX(masterlist!$C$2:$C$200,SMALL(IF(masterlist!$F$2:$F$200>0,IF(masterlist!$J$2:$J$200=0,ROW(masterlist!$B$2:$B$200)-ROW(masterlist!$B$2)+1)),ROWS($A$6:A36))),\"\")","v":"IEC-Adv-2-16"},{"$f":"IFERROR(VLOOKUP($A36,masterlist!$C$2:$K$200,3,FALSE),\"\")","v":2},"IEC",{"$f":"IFERROR(VLOOKUP($A36,masterlist!$C$2:$K$200,5,FALSE),\"\")","v":"Has the national advocacy plan been used to obtain support from stakeholders to financially resource the national rabies control strategy?"},{"$f":"IFERROR(IF((VLOOKUP($A36,masterlist!$C$2:$K$200,9,FALSE))=0,\"\",VLOOKUP($A36,masterlist!$C$2:$K$200,9,FALSE)),\"\")","v":""}]
[{"$f":"IF(ROWS($A$6:A37)<=$A$1,INDEX(masterlist!$C$2:$C$200,SMALL(IF(masterlist!$F$2:$F$200>0,IF(masterlist!$J$2:$J$200=0,ROW(masterlist!$B$2:$B$200)-ROW(masterlist!$B$2)+1)),ROWS($A$6:A37))),\"\")","v":"IEC-Adv-3-17"},{"$f":"IFERROR(VLOOKUP($A37,masterlist!$C$2:$K$200,3,FALSE),\"\")","v":3},"IEC",{"$f":"IFERROR(VLOOKUP($A37,masterlist!$C$2:$K$200,5,FALSE),\"\")","v":"Have dog-transmitted human rabies free zones been declared publicly?"},{"$f":"IFERROR(IF((VLOOKUP($A37,masterlist!$C$2:$K$200,9,FALSE))=0,\"\",VLOOKUP($A37,masterlist!$C$2:$K$200,9,FALSE)),\"\")","v":""}]
[{"$f":"IF(ROWS($A$6:A38)<=$A$1,INDEX(masterlist!$C$2:$C$200,SMALL(IF(masterlist!$F$2:$F$200>0,IF(masterlist!$J$2:$J$200=0,ROW(masterlist!$B$2:$B$200)-ROW(masterlist!$B$2)+1)),ROWS($A$6:A38))),\"\")","v":"IEC-Adv-4-18"},{"$f":"IFERROR(VLOOKUP($A38,masterlist!$C$2:$K$200,3,FALSE),\"\")","v":4},"IEC",{"$f":"IFERROR(VLOOKUP($A38,masterlist!$C$2:$K$200,5,FALSE),\"\")","v":"Have you declared publically that your entire country is free from dog-transmitted human rabies?"},{"$f":"IFERROR(IF((VLOOKUP($A38,masterlist!$C$2:$K$200,9,FALSE))=0,\"\",VLOOKUP($A38,masterlist!$C$2:$K$200,9,FALSE)),\"\")","v":""}]
[{"$f":"IF(ROWS($A$6:A39)<=$A$1,INDEX(masterlist!$C$2:$C$200,SMALL(IF(masterlist!$F$2:$F$200>0,IF(masterlist!$J$2:$J$200=0,ROW(masterlist!$B$2:$B$200)-ROW(masterlist!$B$2)+1)),ROWS($A$6:A39))),\"\")","v":"IEC-Adv-5-19"},{"$f":"IFERROR(VLOOKUP($A39,masterlist!$C$2:$K$200,3,FALSE),\"\")","v":5},"IEC",{"$f":"IFERROR(VLOOKUP($A39,masterlist!$C$2:$K$200,5,FALSE),\"\")","v":"Have you declared publically that your entire country is free from dog rabies? "},{"$f":"IFERROR(IF((VLOOKUP($A39,masterlist!$C$2:$K$200,9,FALSE))=0,\"\",VLOOKUP($A39,masterlist!$C$2:$K$200,9,FALSE)),\"\")","v":""}]
[{"$f":"IF(ROWS($A$6:A40)<=$A$1,INDEX(masterlist!$C$2:$C$200,SMALL(IF(masterlist!$F$2:$F$200>0,IF(masterlist!$J$2:$J$200=0,ROW(masterlist!$B$2:$B$200)-ROW(masterlist!$B$2)+1)),ROWS($A$6:A40))),\"\")","v":"CCI-Int-1-4"},{"$f":"IFERROR(VLOOKUP($A40,masterlist!$C$2:$K$200,3,FALSE),\"\")","v":1},"CCI",{"$f":"IFERROR(VLOOKUP($A40,masterlist!$C$2:$K$200,5,FALSE),\"\")","v":"Has an intersectoral rabies task force, committee or working group, including all relevant stakeholders*, been established at a local or national level and do they meet/communicate regularly?"},{"$f":"IFERROR(IF((VLOOKUP($A40,masterlist!$C$2:$K$200,9,FALSE))=0,\"\",VLOOKUP($A40,masterlist!$C$2:$K$200,9,FALSE)),\"\")","v":""}]
[{"$f":"IF(ROWS($A$6:A41)<=$A$1,INDEX(masterlist!$C$2:$C$200,SMALL(IF(masterlist!$F$2:$F$200>0,IF(masterlist!$J$2:$J$200=0,ROW(masterlist!$B$2:$B$200)-ROW(masterlist!$B$2)+1)),ROWS($A$6:A41))),\"\")","v":"CCI-Int-2-5"},{"$f":"IFERROR(VLOOKUP($A41,masterlist!$C$2:$K$200,3,FALSE),\"\")","v":2},"CCI",{"$f":"IFERROR(VLOOKUP($A41,masterlist!$C$2:$K$200,5,FALSE),\"\")","v":"Is the private sector included in the inter-sectoral task force's discussions and/or activities?"},{"$f":"IFERROR(IF((VLOOKUP($A41,masterlist!$C$2:$K$200,9,FALSE))=0,\"\",VLOOKUP($A41,masterlist!$C$2:$K$200,9,FALSE)),\"\")","v":""}]
[{"$f":"IF(ROWS($A$6:A42)<=$A$1,INDEX(masterlist!$C$2:$C$200,SMALL(IF(masterlist!$F$2:$F$200>0,IF(masterlist!$J$2:$J$200=0,ROW(masterlist!$B$2:$B$200)-ROW(masterlist!$B$2)+1)),ROWS($A$6:A42))),\"\")","v":"CCI-Nat-1-6"},{"$f":"IFERROR(VLOOKUP($A42,masterlist!$C$2:$K$200,3,FALSE),\"\")","v":1},"CCI",{"$f":"IFERROR(VLOOKUP($A42,masterlist!$C$2:$K$200,5,FALSE),\"\")","v":"Based on a small-scale experience, has a short term rabies action plan been developed and endorsed by relevant authorities at local / national level?"},{"$f":"IFERROR(IF((VLOOKUP($A42,masterlist!$C$2:$K$200,9,FALSE))=0,\"\",VLOOKUP($A42,masterlist!$C$2:$K$200,9,FALSE)),\"\")","v":""}]
[{"$f":"IF(ROWS($A$6:A43)<=$A$1,INDEX(masterlist!$C$2:$C$200,SMALL(IF(masterlist!$F$2:$F$200>0,IF(masterlist!$J$2:$J$200=0,ROW(masterlist!$B$2:$B$200)-ROW(masterlist!$B$2)+1)),ROWS($A$6:A43))),\"\")","v":"CCI-Nat-1-7"},{"$f":"IFERROR(VLOOKUP($A43,masterlist!$C$2:$K$200,3,FALSE),\"\")","v":1},"CCI",{"$f":"IFERROR(VLOOKUP($A43,masterlist!$C$2:$K$200,5,FALSE),\"\")","v":"Have mechanisms for mobilizing emergency funds for rabies control been identified?"},{"$f":"IFERROR(IF((VLOOKUP($A43,masterlist!$C$2:$K$200,9,FALSE))=0,\"\",VLOOKUP($A43,masterlist!$C$2:$K$200,9,FALSE)),\"\")","v":""}]
[{"$f":"IF(ROWS($A$6:A44)<=$A$1,INDEX(masterlist!$C$2:$C$200,SMALL(IF(masterlist!$F$2:$F$200>0,IF(masterlist!$J$2:$J$200=0,ROW(masterlist!$B$2:$B$200)-ROW(masterlist!$B$2)+1)),ROWS($A$6:A44))),\"\")","v":"CCI-Nat-2-8"},{"$f":"IFERROR(VLOOKUP($A44,masterlist!$C$2:$K$200,3,FALSE),\"\")","v":2},"CCI",{"$f":"IFERROR(VLOOKUP($A44,masterlist!$C$2:$K$200,5,FALSE),\"\")","v":"Has a national strategy for rabies prevention, control and eventual elimination been drafted and finalised in collaboration with all relevant stakeholders?"},{"$f":"IFERROR(IF((VLOOKUP($A44,masterlist!$C$2:$K$200,9,FALSE))=0,\"\",VLOOKUP($A44,masterlist!$C$2:$K$200,9,FALSE)),\"\")","v":""}]
[{"$f":"IF(ROWS($A$6:A45)<=$A$1,INDEX(masterlist!$C$2:$C$200,SMALL(IF(masterlist!$F$2:$F$200>0,IF(masterlist!$J$2:$J$200=0,ROW(masterlist!$B$2:$B$200)-ROW(masterlist!$B$2)+1)),ROWS($A$6:A45))),\"\")","v":"CCI-Nat-3-10"},{"$f":"IFERROR(VLOOKUP($A45,masterlist!$C$2:$K$200,3,FALSE),\"\")","v":3},"CCI",{"$f":"IFERROR(VLOOKUP($A45,masterlist!$C$2:$K$200,5,FALSE),\"\")","v":"Now that there are very few animal rabies cases in your country, has the national strategy been refined based on current data? "},{"$f":"IFERROR(IF((VLOOKUP($A45,masterlist!$C$2:$K$200,9,FALSE))=0,\"\",VLOOKUP($A45,masterlist!$C$2:$K$200,9,FALSE)),\"\")","v":""}]
[{"$f":"IF(ROWS($A$6:A46)<=$A$1,INDEX(masterlist!$C$2:$C$200,SMALL(IF(masterlist!$F$2:$F$200>0,IF(masterlist!$J$2:$J$200=0,ROW(masterlist!$B$2:$B$200)-ROW(masterlist!$B$2)+1)),ROWS($A$6:A46))),\"\")","v":"LEG-Ani-1-2"},{"$f":"IFERROR(VLOOKUP($A46,masterlist!$C$2:$K$200,3,FALSE),\"\")","v":1},"LEG",{"$f":"IFERROR(VLOOKUP($A46,masterlist!$C$2:$K$200,5,FALSE),\"\")","v":"Has the case definition for animal rabies been shared with all of the relevant professionals?"},{"$f":"IFERROR(IF((VLOOKUP($A46,masterlist!$C$2:$K$200,9,FALSE))=0,\"\",VLOOKUP($A46,masterlist!$C$2:$K$200,9,FALSE)),\"\")","v":""}]
[{"$f":"IF(ROWS($A$6:A47)<=$A$1,INDEX(masterlist!$C$2:$C$200,SMALL(IF(masterlist!$F$2:$F$200>0,IF(masterlist!$J$2:$J$200=0,ROW(masterlist!$B$2:$B$200)-ROW(masterlist!$B$2)+1)),ROWS($A$6:A47))),\"\")","v":"LEG-Hum-1-4"},{"$f":"IFERROR(VLOOKUP($A47,masterlist!$C$2:$K$200,3,FALSE),\"\")","v":1},"LEG",{"$f":"IFERROR(VLOOKUP($A47,masterlist!$C$2:$K$200,5,FALSE),\"\")","v":"Has the case definition for human rabies been shared with all of the relevant professionals?"},{"$f":"IFERROR(IF((VLOOKUP($A47,masterlist!$C$2:$K$200,9,FALSE))=0,\"\",VLOOKUP($A47,masterlist!$C$2:$K$200,9,FALSE)),\"\")","v":""}]
[{"$f":"IF(ROWS($A$6:A48)<=$A$1,INDEX(masterlist!$C$2:$C$200,SMALL(IF(masterlist!$F$2:$F$200>0,IF(masterlist!$J$2:$J$200=0,ROW(masterlist!$B$2:$B$200)-ROW(masterlist!$B$2)+1)),ROWS($A$6:A48))),\"\")","v":"LEG-Leg-1-6"},{"$f":"IFERROR(VLOOKUP($A48,masterlist!$C$2:$K$200,3,FALSE),\"\")","v":1},"LEG",{"$f":"IFERROR(VLOOKUP($A48,masterlist!$C$2:$K$200,5,FALSE),\"\")","v":"If there is legislation, has it been reviewed and endorsed?"},{"$f":"IFERROR(IF((VLOOKUP($A48,masterlist!$C$2:$K$200,9,FALSE))=0,\"\",VLOOKUP($A48,masterlist!$C$2:$K$200,9,FALSE)),\"\")","v":""}]
[{"$f":"IF(ROWS($A$6:A49)<=$A$1,INDEX(masterlist!$C$2:$C$200,SMALL(IF(masterlist!$F$2:$F$200>0,IF(masterlist!$J$2:$J$200=0,ROW(masterlist!$B$2:$B$200)-ROW(masterlist!$B$2)+1)),ROWS($A$6:A49))),\"\")","v":"LEG-Leg-2-10"},{"$f":"IFERROR(VLOOKUP($A49,masterlist!$C$2:$K$200,3,FALSE),\"\")","v":2},"LEG",{"$f":"IFERROR(VLOOKUP($A49,masterlist!$C$2:$K$200,5,FALSE),\"\")","v":"Does the legislation regarding nationally licenced vaccines reflect that of international guidelines?"},{"$f":"IFERROR(IF((VLOOKUP($A49,masterlist!$C$2:$K$200,9,FALSE))=0,\"\",VLOOKUP($A49,masterlist!$C$2:$K$200,9,FALSE)),\"\")","v":""}]
[{"$f":"IF(ROWS($A$6:A50)<=$A$1,INDEX(masterlist!$C$2:$C$200,SMALL(IF(masterlist!$F$2:$F$200>0,IF(masterlist!$J$2:$J$200=0,ROW(masterlist!$B$2:$B$200)-ROW(masterlist!$B$2)+1)),ROWS($A$6:A50))),\"\")","v":""},{"$f":"IFERROR(VLOOKUP($A50,masterlist!$C$2:$K$200,3,FALSE),\"\")","v":""},"",{"$f":"IFERROR(VLOOKUP($A50,masterlist!$C$2:$K$200,5,FALSE),\"\")","v":""},{"$f":"IFERROR(IF((VLOOKUP($A50,masterlist!$C$2:$K$200,9,FALSE))=0,\"\",VLOOKUP($A50,masterlist!$C$2:$K$200,9,FALSE)),\"\")","v":""}]
[{"$f":"IF(ROWS($A$6:A51)<=$A$1,INDEX(masterlist!$C$2:$C$200,SMALL(IF(masterlist!$F$2:$F$200>0,IF(masterlist!$J$2:$J$200=0,ROW(masterlist!$B$2:$B$200)-ROW(masterlist!$B$2)+1)),ROWS($A$6:A51))),\"\")","v":""},{"$f":"IFERROR(VLOOKUP($A51,masterlist!$C$2:$K$200,3,FALSE),\"\")","v":""},"",{"$f":"IFERROR(VLOOKUP($A51,masterlist!$C$2:$K$200,5,FALSE),\"\")","v":""},{"$f":"IFERROR(IF((VLOOKUP($A51,masterlist!$C$2:$K$200,9,FALSE))=0,\"\",VLOOKUP($A51,masterlist!$C$2:$K$200,9,FALSE)),\"\")","v":""}]
[{"$f":"IF(ROWS($A$6:A52)<=$A$1,INDEX(masterlist!$C$2:$C$200,SMALL(IF(masterlist!$F$2:$F$200>0,IF(masterlist!$J$2:$J$200=0,ROW(masterlist!$B$2:$B$200)-ROW(masterlist!$B$2)+1)),ROWS($A$6:A52))),\"\")","v":""},{"$f":"IFERROR(VLOOKUP($A52,masterlist!$C$2:$K$200,3,FALSE),\"\")","v":""},"",{"$f":"IFERROR(VLOOKUP($A52,masterlist!$C$2:$K$200,5,FALSE),\"\")","v":""},{"$f":"IFERROR(IF((VLOOKUP($A52,masterlist!$C$2:$K$200,9,FALSE))=0,\"\",VLOOKUP($A52,masterlist!$C$2:$K$200,9,FALSE)),\"\")","v":""}]
[{"$f":"IF(ROWS($A$6:A53)<=$A$1,INDEX(masterlist!$C$2:$C$200,SMALL(IF(masterlist!$F$2:$F$200>0,IF(masterlist!$J$2:$J$200=0,ROW(masterlist!$B$2:$B$200)-ROW(masterlist!$B$2)+1)),ROWS($A$6:A53))),\"\")","v":""},{"$f":"IFERROR(VLOOKUP($A53,masterlist!$C$2:$K$200,3,FALSE),\"\")","v":""},"",{"$f":"IFERROR(VLOOKUP($A53,masterlist!$C$2:$K$200,5,FALSE),\"\")","v":""},{"$f":"IFERROR(IF((VLOOKUP($A53,masterlist!$C$2:$K$200,9,FALSE))=0,\"\",VLOOKUP($A53,masterlist!$C$2:$K$200,9,FALSE)),\"\")","v":""}]
[{"$f":"IF(ROWS($A$6:A54)<=$A$1,INDEX(masterlist!$C$2:$C$200,SMALL(IF(masterlist!$F$2:$F$200>0,IF(masterlist!$J$2:$J$200=0,ROW(masterlist!$B$2:$B$200)-ROW(masterlist!$B$2)+1)),ROWS($A$6:A54))),\"\")","v":""},{"$f":"IFERROR(VLOOKUP($A54,masterlist!$C$2:$K$200,3,FALSE),\"\")","v":""},"",{"$f":"IFERROR(VLOOKUP($A54,masterlist!$C$2:$K$200,5,FALSE),\"\")","v":""},{"$f":"IFERROR(IF((VLOOKUP($A54,masterlist!$C$2:$K$200,9,FALSE))=0,\"\",VLOOKUP($A54,masterlist!$C$2:$K$200,9,FALSE)),\"\")","v":""}]
[{"$f":"IF(ROWS($A$6:A55)<=$A$1,INDEX(masterlist!$C$2:$C$200,SMALL(IF(masterlist!$F$2:$F$200>0,IF(masterlist!$J$2:$J$200=0,ROW(masterlist!$B$2:$B$200)-ROW(masterlist!$B$2)+1)),ROWS($A$6:A55))),\"\")","v":""},{"$f":"IFERROR(VLOOKUP($A55,masterlist!$C$2:$K$200,3,FALSE),\"\")","v":""},"",{"$f":"IFERROR(VLOOKUP($A55,masterlist!$C$2:$K$200,5,FALSE),\"\")","v":""},{"$f":"IFERROR(IF((VLOOKUP($A55,masterlist!$C$2:$K$200,9,FALSE))=0,\"\",VLOOKUP($A55,masterlist!$C$2:$K$200,9,FALSE)),\"\")","v":""}]
[{"$f":"IF(ROWS($A$6:A56)<=$A$1,INDEX(masterlist!$C$2:$C$200,SMALL(IF(masterlist!$F$2:$F$200>0,IF(masterlist!$J$2:$J$200=0,ROW(masterlist!$B$2:$B$200)-ROW(masterlist!$B$2)+1)),ROWS($A$6:A56))),\"\")","v":""},{"$f":"IFERROR(VLOOKUP($A56,masterlist!$C$2:$K$200,3,FALSE),\"\")","v":""},"",{"$f":"IFERROR(VLOOKUP($A56,masterlist!$C$2:$K$200,5,FALSE),\"\")","v":""},{"$f":"IFERROR(IF((VLOOKUP($A56,masterlist!$C$2:$K$200,9,FALSE))=0,\"\",VLOOKUP($A56,masterlist!$C$2:$K$200,9,FALSE)),\"\")","v":""}]
[{"$f":"IF(ROWS($A$6:A57)<=$A$1,INDEX(masterlist!$C$2:$C$200,SMALL(IF(masterlist!$F$2:$F$200>0,IF(masterlist!$J$2:$J$200=0,ROW(masterlist!$B$2:$B$200)-ROW(masterlist!$B$2)+1)),ROWS($A$6:A57))),\"\")","v":""},{"$f":"IFERROR(VLOOKUP($A57,masterlist!$C$2:$K$200,3,FALSE),\"\")","v":""},"",{"$f":"IFERROR(VLOOKUP($A57,masterlist!$C$2:$K$200,5,FALSE),\"\")","v":""},{"$f":"IFERROR(IF((VLOOKUP($A57,masterlist!$C$2:$K$200,9,FALSE))=0,\"\",VLOOKUP($A57,masterlist!$C$2:$K$200,9,FALSE)),\"\")","v":""}]
[{"$f":"IF(ROWS($A$6:A58)<=$A$1,INDEX(masterlist!$C$2:$C$200,SMALL(IF(masterlist!$F$2:$F$200>0,IF(masterlist!$J$2:$J$200=0,ROW(masterlist!$B$2:$B$200)-ROW(masterlist!$B$2)+1)),ROWS($A$6:A58))),\"\")","v":""},{"$f":"IFERROR(VLOOKUP($A58,masterlist!$C$2:$K$200,3,FALSE),\"\")","v":""},"",{"$f":"IFERROR(VLOOKUP($A58,masterlist!$C$2:$K$200,5,FALSE),\"\")","v":""},{"$f":"IFERROR(IF((VLOOKUP($A58,masterlist!$C$2:$K$200,9,FALSE))=0,\"\",VLOOKUP($A58,masterlist!$C$2:$K$200,9,FALSE)),\"\")","v":""}]
[{"$f":"IF(ROWS($A$6:A59)<=$A$1,INDEX(masterlist!$C$2:$C$200,SMALL(IF(masterlist!$F$2:$F$200>0,IF(masterlist!$J$2:$J$200=0,ROW(masterlist!$B$2:$B$200)-ROW(masterlist!$B$2)+1)),ROWS($A$6:A59))),\"\")","v":""},{"$f":"IFERROR(VLOOKUP($A59,masterlist!$C$2:$K$200,3,FALSE),\"\")","v":""},"",{"$f":"IFERROR(VLOOKUP($A59,masterlist!$C$2:$K$200,5,FALSE),\"\")","v":""},{"$f":"IFERROR(IF((VLOOKUP($A59,masterlist!$C$2:$K$200,9,FALSE))=0,\"\",VLOOKUP($A59,masterlist!$C$2:$K$200,9,FALSE)),\"\")","v":""}]
[{"$f":"IF(ROWS($A$6:A60)<=$A$1,INDEX(masterlist!$C$2:$C$200,SMALL(IF(masterlist!$F$2:$F$200>0,IF(masterlist!$J$2:$J$200=0,ROW(masterlist!$B$2:$B$200)-ROW(masterlist!$B$2)+1)),ROWS($A$6:A60))),\"\")","v":""},{"$f":"IFERROR(VLOOKUP($A60,masterlist!$C$2:$K$200,3,FALSE),\"\")","v":""},"",{"$f":"IFERROR(VLOOKUP($A60,masterlist!$C$2:$K$200,5,FALSE),\"\")","v":""},{"$f":"IFERROR(IF((VLOOKUP($A60,masterlist!$C$2:$K$200,9,FALSE))=0,\"\",VLOOKUP($A60,masterlist!$C$2:$K$200,9,FALSE)),\"\")","v":""}]
[{"$f":"IF(ROWS($A$6:A61)<=$A$1,INDEX(masterlist!$C$2:$C$200,SMALL(IF(masterlist!$F$2:$F$200>0,IF(masterlist!$J$2:$J$200=0,ROW(masterlist!$B$2:$B$200)-ROW(masterlist!$B$2)+1)),ROWS($A$6:A61))),\"\")","v":""},{"$f":"IFERROR(VLOOKUP($A61,masterlist!$C$2:$K$200,3,FALSE),\"\")","v":""},"",{"$f":"IFERROR(VLOOKUP($A61,masterlist!$C$2:$K$200,5,FALSE),\"\")","v":""},{"$f":"IFERROR(IF((VLOOKUP($A61,masterlist!$C$2:$K$200,9,FALSE))=0,\"\",VLOOKUP($A61,masterlist!$C$2:$K$200,9,FALSE)),\"\")","v":""}]
[{"$f":"IF(ROWS($A$6:A62)<=$A$1,INDEX(masterlist!$C$2:$C$200,SMALL(IF(masterlist!$F$2:$F$200>0,IF(masterlist!$J$2:$J$200=0,ROW(masterlist!$B$2:$B$200)-ROW(masterlist!$B$2)+1)),ROWS($A$6:A62))),\"\")","v":""},{"$f":"IFERROR(VLOOKUP($A62,masterlist!$C$2:$K$200,3,FALSE),\"\")","v":""},"",{"$f":"IFERROR(VLOOKUP($A62,masterlist!$C$2:$K$200,5,FALSE),\"\")","v":""},{"$f":"IFERROR(IF((VLOOKUP($A62,masterlist!$C$2:$K$200,9,FALSE))=0,\"\",VLOOKUP($A62,masterlist!$C$2:$K$200,9,FALSE)),\"\")","v":""}]
[{"$f":"IF(ROWS($A$6:A63)<=$A$1,INDEX(masterlist!$C$2:$C$200,SMALL(IF(masterlist!$F$2:$F$200>0,IF(masterlist!$J$2:$J$200=0,ROW(masterlist!$B$2:$B$200)-ROW(masterlist!$B$2)+1)),ROWS($A$6:A63))),\"\")","v":""},{"$f":"IFERROR(VLOOKUP($A63,masterlist!$C$2:$K$200,3,FALSE),\"\")","v":""},"",{"$f":"IFERROR(VLOOKUP($A63,masterlist!$C$2:$K$200,5,FALSE),\"\")","v":""},{"$f":"IFERROR(IF((VLOOKUP($A63,masterlist!$C$2:$K$200,9,FALSE))=0,\"\",VLOOKUP($A63,masterlist!$C$2:$K$200,9,FALSE)),\"\")","v":""}]
[{"$f":"IF(ROWS($A$6:A64)<=$A$1,INDEX(masterlist!$C$2:$C$200,SMALL(IF(masterlist!$F$2:$F$200>0,IF(masterlist!$J$2:$J$200=0,ROW(masterlist!$B$2:$B$200)-ROW(masterlist!$B$2)+1)),ROWS($A$6:A64))),\"\")","v":""},{"$f":"IFERROR(VLOOKUP($A64,masterlist!$C$2:$K$200,3,FALSE),\"\")","v":""},"",{"$f":"IFERROR(VLOOKUP($A64,masterlist!$C$2:$K$200,5,FALSE),\"\")","v":""},{"$f":"IFERROR(IF((VLOOKUP($A64,masterlist!$C$2:$K$200,9,FALSE))=0,\"\",VLOOKUP($A64,masterlist!$C$2:$K$200,9,FALSE)),\"\")","v":""}]
[{"$f":"IF(ROWS($A$6:A65)<=$A$1,INDEX(masterlist!$C$2:$C$200,SMALL(IF(masterlist!$F$2:$F$200>0,IF(masterlist!$J$2:$J$200=0,ROW(masterlist!$B$2:$B$200)-ROW(masterlist!$B$2)+1)),ROWS($A$6:A65))),\"\")","v":""},{"$f":"IFERROR(VLOOKUP($A65,masterlist!$C$2:$K$200,3,FALSE),\"\")","v":""},"",{"$f":"IFERROR(VLOOKUP($A65,masterlist!$C$2:$K$200,5,FALSE),\"\")","v":""},{"$f":"IFERROR(IF((VLOOKUP($A65,masterlist!$C$2:$K$200,9,FALSE))=0,\"\",VLOOKUP($A65,masterlist!$C$2:$K$200,9,FALSE)),\"\")","v":""}]
[{"$f":"IF(ROWS($A$6:A66)<=$A$1,INDEX(masterlist!$C$2:$C$200,SMALL(IF(masterlist!$F$2:$F$200>0,IF(masterlist!$J$2:$J$200=0,ROW(masterlist!$B$2:$B$200)-ROW(masterlist!$B$2)+1)),ROWS($A$6:A66))),\"\")","v":""},{"$f":"IFERROR(VLOOKUP($A66,masterlist!$C$2:$K$200,3,FALSE),\"\")","v":""},"",{"$f":"IFERROR(VLOOKUP($A66,masterlist!$C$2:$K$200,5,FALSE),\"\")","v":""},{"$f":"IFERROR(IF((VLOOKUP($A66,masterlist!$C$2:$K$200,9,FALSE))=0,\"\",VLOOKUP($A66,masterlist!$C$2:$K$200,9,FALSE)),\"\")","v":""}]
[{"$f":"IF(ROWS($A$6:A67)<=$A$1,INDEX(masterlist!$C$2:$C$200,SMALL(IF(masterlist!$F$2:$F$200>0,IF(masterlist!$J$2:$J$200=0,ROW(masterlist!$B$2:$B$200)-ROW(masterlist!$B$2)+1)),ROWS($A$6:A67))),\"\")","v":""},{"$f":"IFERROR(VLOOKUP($A67,masterlist!$C$2:$K$200,3,FALSE),\"\")","v":""},"",{"$f":"IFERROR(VLOOKUP($A67,masterlist!$C$2:$K$200,5,FALSE),\"\")","v":""},{"$f":"IFERROR(IF((VLOOKUP($A67,masterlist!$C$2:$K$200,9,FALSE))=0,\"\",VLOOKUP($A67,masterlist!$C$2:$K$200,9,FALSE)),\"\")","v":""}]
[{"$f":"IF(ROWS($A$6:A68)<=$A$1,INDEX(masterlist!$C$2:$C$200,SMALL(IF(masterlist!$F$2:$F$200>0,IF(masterlist!$J$2:$J$200=0,ROW(masterlist!$B$2:$B$200)-ROW(masterlist!$B$2)+1)),ROWS($A$6:A68))),\"\")","v":""},{"$f":"IFERROR(VLOOKUP($A68,masterlist!$C$2:$K$200,3,FALSE),\"\")","v":""},"",{"$f":"IFERROR(VLOOKUP($A68,masterlist!$C$2:$K$200,5,FALSE),\"\")","v":""},{"$f":"IFERROR(IF((VLOOKUP($A68,masterlist!$C$2:$K$200,9,FALSE))=0,\"\",VLOOKUP($A68,masterlist!$C$2:$K$200,9,FALSE)),\"\")","v":""}]
[{"$f":"IF(ROWS($A$6:A69)<=$A$1,INDEX(masterlist!$C$2:$C$200,SMALL(IF(masterlist!$F$2:$F$200>0,IF(masterlist!$J$2:$J$200=0,ROW(masterlist!$B$2:$B$200)-ROW(masterlist!$B$2)+1)),ROWS($A$6:A69))),\"\")","v":""},{"$f":"IFERROR(VLOOKUP($A69,masterlist!$C$2:$K$200,3,FALSE),\"\")","v":""},"",{"$f":"IFERROR(VLOOKUP($A69,masterlist!$C$2:$K$200,5,FALSE),\"\")","v":""},{"$f":"IFERROR(IF((VLOOKUP($A69,masterlist!$C$2:$K$200,9,FALSE))=0,\"\",VLOOKUP($A69,masterlist!$C$2:$K$200,9,FALSE)),\"\")","v":""}]
[{"$f":"IF(ROWS($A$6:A70)<=$A$1,INDEX(masterlist!$C$2:$C$200,SMALL(IF(masterlist!$F$2:$F$200>0,IF(masterlist!$J$2:$J$200=0,ROW(masterlist!$B$2:$B$200)-ROW(masterlist!$B$2)+1)),ROWS($A$6:A70))),\"\")","v":""},{"$f":"IFERROR(VLOOKUP($A70,masterlist!$C$2:$K$200,3,FALSE),\"\")","v":""},"",{"$f":"IFERROR(VLOOKUP($A70,masterlist!$C$2:$K$200,5,FALSE),\"\")","v":""},{"$f":"IFERROR(IF((VLOOKUP($A70,masterlist!$C$2:$K$200,9,FALSE))=0,\"\",VLOOKUP($A70,masterlist!$C$2:$K$200,9,FALSE)),\"\")","v":""}]
[{"$f":"IF(ROWS($A$6:A71)<=$A$1,INDEX(masterlist!$C$2:$C$200,SMALL(IF(masterlist!$F$2:$F$200>0,IF(masterlist!$J$2:$J$200=0,ROW(masterlist!$B$2:$B$200)-ROW(masterlist!$B$2)+1)),ROWS($A$6:A71))),\"\")","v":""},{"$f":"IFERROR(VLOOKUP($A71,masterlist!$C$2:$K$200,3,FALSE),\"\")","v":""},{"$f":"LEFT(A71,3)","v":""},{"$f":"IFERROR(VLOOKUP($A71,masterlist!$C$2:$K$200,5,FALSE),\"\")","v":""},{"$f":"IFERROR(IF((VLOOKUP($A71,masterlist!$C$2:$K$200,9,FALSE))=0,\"\",VLOOKUP($A71,masterlist!$C$2:$K$200,9,FALSE)),\"\")","v":""}]
[{"$f":"IF(ROWS($A$6:A72)<=$A$1,INDEX(masterlist!$C$2:$C$200,SMALL(IF(masterlist!$F$2:$F$200>0,IF(masterlist!$J$2:$J$200=0,ROW(masterlist!$B$2:$B$200)-ROW(masterlist!$B$2)+1)),ROWS($A$6:A72))),\"\")","v":""},{"$f":"IFERROR(VLOOKUP($A72,masterlist!$C$2:$K$200,3,FALSE),\"\")","v":""},"",{"$f":"IFERROR(VLOOKUP($A72,masterlist!$C$2:$K$200,5,FALSE),\"\")","v":""},{"$f":"IFERROR(IF((VLOOKUP($A72,masterlist!$C$2:$K$200,9,FALSE))=0,\"\",VLOOKUP($A72,masterlist!$C$2:$K$200,9,FALSE)),\"\")","v":""}]
[{"$f":"IF(ROWS($A$6:A73)<=$A$1,INDEX(masterlist!$C$2:$C$200,SMALL(IF(masterlist!$F$2:$F$200>0,IF(masterlist!$J$2:$J$200=0,ROW(masterlist!$B$2:$B$200)-ROW(masterlist!$B$2)+1)),ROWS($A$6:A73))),\"\")","v":""},{"$f":"IFERROR(VLOOKUP($A73,masterlist!$C$2:$K$200,3,FALSE),\"\")","v":""},"",{"$f":"IFERROR(VLOOKUP($A73,masterlist!$C$2:$K$200,5,FALSE),\"\")","v":""},{"$f":"IFERROR(IF((VLOOKUP($A73,masterlist!$C$2:$K$200,9,FALSE))=0,\"\",VLOOKUP($A73,masterlist!$C$2:$K$200,9,FALSE)),\"\")","v":""}]
[{"$f":"IF(ROWS($A$6:A74)<=$A$1,INDEX(masterlist!$C$2:$C$200,SMALL(IF(masterlist!$F$2:$F$200>0,IF(masterlist!$J$2:$J$200=0,ROW(masterlist!$B$2:$B$200)-ROW(masterlist!$B$2)+1)),ROWS($A$6:A74))),\"\")","v":""},{"$f":"IFERROR(VLOOKUP($A74,masterlist!$C$2:$K$200,3,FALSE),\"\")","v":""},"",{"$f":"IFERROR(VLOOKUP($A74,masterlist!$C$2:$K$200,5,FALSE),\"\")","v":""},{"$f":"IFERROR(IF((VLOOKUP($A74,masterlist!$C$2:$K$200,9,FALSE))=0,\"\",VLOOKUP($A74,masterlist!$C$2:$K$200,9,FALSE)),\"\")","v":""}]
[{"$f":"IF(ROWS($A$6:A75)<=$A$1,INDEX(masterlist!$C$2:$C$200,SMALL(IF(masterlist!$F$2:$F$200>0,IF(masterlist!$J$2:$J$200=0,ROW(masterlist!$B$2:$B$200)-ROW(masterlist!$B$2)+1)),ROWS($A$6:A75))),\"\")","v":""},{"$f":"IFERROR(VLOOKUP($A75,masterlist!$C$2:$K$200,3,FALSE),\"\")","v":""},"",{"$f":"IFERROR(VLOOKUP($A75,masterlist!$C$2:$K$200,5,FALSE),\"\")","v":""},{"$f":"IFERROR(IF((VLOOKUP($A75,masterlist!$C$2:$K$200,9,FALSE))=0,\"\",VLOOKUP($A75,masterlist!$C$2:$K$200,9,FALSE)),\"\")","v":""}]
[{"$f":"IF(ROWS($A$6:A76)<=$A$1,INDEX(masterlist!$C$2:$C$200,SMALL(IF(masterlist!$F$2:$F$200>0,IF(masterlist!$J$2:$J$200=0,ROW(masterlist!$B$2:$B$200)-ROW(masterlist!$B$2)+1)),ROWS($A$6:A76))),\"\")","v":""},{"$f":"IFERROR(VLOOKUP($A76,masterlist!$C$2:$K$200,3,FALSE),\"\")","v":""},"",{"$f":"IFERROR(VLOOKUP($A76,masterlist!$C$2:$K$200,5,FALSE),\"\")","v":""},{"$f":"IFERROR(IF((VLOOKUP($A76,masterlist!$C$2:$K$200,9,FALSE))=0,\"\",VLOOKUP($A76,masterlist!$C$2:$K$200,9,FALSE)),\"\")","v":""}]
[{"$f":"IF(ROWS($A$6:A77)<=$A$1,INDEX(masterlist!$C$2:$C$200,SMALL(IF(masterlist!$F$2:$F$200>0,IF(masterlist!$J$2:$J$200=0,ROW(masterlist!$B$2:$B$200)-ROW(masterlist!$B$2)+1)),ROWS($A$6:A77))),\"\")","v":""},{"$f":"IFERROR(VLOOKUP($A77,masterlist!$C$2:$K$200,3,FALSE),\"\")","v":""},"",{"$f":"IFERROR(VLOOKUP($A77,masterlist!$C$2:$K$200,5,FALSE),\"\")","v":""},{"$f":"IFERROR(IF((VLOOKUP($A77,masterlist!$C$2:$K$200,9,FALSE))=0,\"\",VLOOKUP($A77,masterlist!$C$2:$K$200,9,FALSE)),\"\")","v":""}]
[{"$f":"IF(ROWS($A$6:A78)<=$A$1,INDEX(masterlist!$C$2:$C$200,SMALL(IF(masterlist!$F$2:$F$200>0,IF(masterlist!$J$2:$J$200=0,ROW(masterlist!$B$2:$B$200)-ROW(masterlist!$B$2)+1)),ROWS($A$6:A78))),\"\")","v":""},{"$f":"IFERROR(VLOOKUP($A78,masterlist!$C$2:$K$200,3,FALSE),\"\")","v":""},"",{"$f":"IFERROR(VLOOKUP($A78,masterlist!$C$2:$K$200,5,FALSE),\"\")","v":""},{"$f":"IFERROR(IF((VLOOKUP($A78,masterlist!$C$2:$K$200,9,FALSE))=0,\"\",VLOOKUP($A78,masterlist!$C$2:$K$200,9,FALSE)),\"\")","v":""}]
[{"$f":"IF(ROWS($A$6:A79)<=$A$1,INDEX(masterlist!$C$2:$C$200,SMALL(IF(masterlist!$F$2:$F$200>0,IF(masterlist!$J$2:$J$200=0,ROW(masterlist!$B$2:$B$200)-ROW(masterlist!$B$2)+1)),ROWS($A$6:A79))),\"\")","v":""},{"$f":"IFERROR(VLOOKUP($A79,masterlist!$C$2:$K$200,3,FALSE),\"\")","v":""},"",{"$f":"IFERROR(VLOOKUP($A79,masterlist!$C$2:$K$200,5,FALSE),\"\")","v":""},{"$f":"IFERROR(IF((VLOOKUP($A79,masterlist!$C$2:$K$200,9,FALSE))=0,\"\",VLOOKUP($A79,masterlist!$C$2:$K$200,9,FALSE)),\"\")","v":""}]
[{"$f":"IF(ROWS($A$6:A80)<=$A$1,INDEX(masterlist!$C$2:$C$200,SMALL(IF(masterlist!$F$2:$F$200>0,IF(masterlist!$J$2:$J$200=0,ROW(masterlist!$B$2:$B$200)-ROW(masterlist!$B$2)+1)),ROWS($A$6:A80))),\"\")","v":""},{"$f":"IFERROR(VLOOKUP($A80,masterlist!$C$2:$K$200,3,FALSE),\"\")","v":""},"",{"$f":"IFERROR(VLOOKUP($A80,masterlist!$C$2:$K$200,5,FALSE),\"\")","v":""},{"$f":"IFERROR(IF((VLOOKUP($A80,masterlist!$C$2:$K$200,9,FALSE))=0,\"\",VLOOKUP($A80,masterlist!$C$2:$K$200,9,FALSE)),\"\")","v":""}]
[{"$f":"IF(ROWS($A$6:A81)<=$A$1,INDEX(masterlist!$C$2:$C$200,SMALL(IF(masterlist!$F$2:$F$200>0,IF(masterlist!$J$2:$J$200=0,ROW(masterlist!$B$2:$B$200)-ROW(masterlist!$B$2)+1)),ROWS($A$6:A81))),\"\")","v":""},{"$f":"IFERROR(VLOOKUP($A81,masterlist!$C$2:$K$200,3,FALSE),\"\")","v":""},"",{"$f":"IFERROR(VLOOKUP($A81,masterlist!$C$2:$K$200,5,FALSE),\"\")","v":""},{"$f":"IFERROR(IF((VLOOKUP($A81,masterlist!$C$2:$K$200,9,FALSE))=0,\"\",VLOOKUP($A81,masterlist!$C$2:$K$200,9,FALSE)),\"\")","v":""}]
[{"$f":"IF(ROWS($A$6:A82)<=$A$1,INDEX(masterlist!$C$2:$C$200,SMALL(IF(masterlist!$F$2:$F$200>0,IF(masterlist!$J$2:$J$200=0,ROW(masterlist!$B$2:$B$200)-ROW(masterlist!$B$2)+1)),ROWS($A$6:A82))),\"\")","v":""},{"$f":"IFERROR(VLOOKUP($A82,masterlist!$C$2:$K$200,3,FALSE),\"\")","v":""},"",{"$f":"IFERROR(VLOOKUP($A82,masterlist!$C$2:$K$200,5,FALSE),\"\")","v":""},{"$f":"IFERROR(IF((VLOOKUP($A82,masterlist!$C$2:$K$200,9,FALSE))=0,\"\",VLOOKUP($A82,masterlist!$C$2:$K$200,9,FALSE)),\"\")","v":""}]
[{"$f":"IF(ROWS($A$6:A83)<=$A$1,INDEX(masterlist!$C$2:$C$200,SMALL(IF(masterlist!$F$2:$F$200>0,IF(masterlist!$J$2:$J$200=0,ROW(masterlist!$B$2:$B$200)-ROW(masterlist!$B$2)+1)),ROWS($A$6:A83))),\"\")","v":""},{"$f":"IFERROR(VLOOKUP($A83,masterlist!$C$2:$K$200,3,FALSE),\"\")","v":""},"",{"$f":"IFERROR(VLOOKUP($A83,masterlist!$C$2:$K$200,5,FALSE),\"\")","v":""},{"$f":"IFERROR(IF((VLOOKUP($A83,masterlist!$C$2:$K$200,9,FALSE))=0,\"\",VLOOKUP($A83,masterlist!$C$2:$K$200,9,FALSE)),\"\")","v":""}]
[{"$f":"IF(ROWS($A$6:A84)<=$A$1,INDEX(masterlist!$C$2:$C$200,SMALL(IF(masterlist!$F$2:$F$200>0,IF(masterlist!$J$2:$J$200=0,ROW(masterlist!$B$2:$B$200)-ROW(masterlist!$B$2)+1)),ROWS($A$6:A84))),\"\")","v":""},{"$f":"IFERROR(VLOOKUP($A84,masterlist!$C$2:$K$200,3,FALSE),\"\")","v":""},"",{"$f":"IFERROR(VLOOKUP($A84,masterlist!$C$2:$K$200,5,FALSE),\"\")","v":""},{"$f":"IFERROR(IF((VLOOKUP($A84,masterlist!$C$2:$K$200,9,FALSE))=0,\"\",VLOOKUP($A84,masterlist!$C$2:$K$200,9,FALSE)),\"\")","v":""}]
[{"$f":"IF(ROWS($A$6:A85)<=$A$1,INDEX(masterlist!$C$2:$C$200,SMALL(IF(masterlist!$F$2:$F$200>0,IF(masterlist!$J$2:$J$200=0,ROW(masterlist!$B$2:$B$200)-ROW(masterlist!$B$2)+1)),ROWS($A$6:A85))),\"\")","v":""},{"$f":"IFERROR(VLOOKUP($A85,masterlist!$C$2:$K$200,3,FALSE),\"\")","v":""},"",{"$f":"IFERROR(VLOOKUP($A85,masterlist!$C$2:$K$200,5,FALSE),\"\")","v":""},{"$f":"IFERROR(IF((VLOOKUP($A85,masterlist!$C$2:$K$200,9,FALSE))=0,\"\",VLOOKUP($A85,masterlist!$C$2:$K$200,9,FALSE)),\"\")","v":""}]
[{"$f":"IF(ROWS($A$6:A86)<=$A$1,INDEX(masterlist!$C$2:$C$200,SMALL(IF(masterlist!$F$2:$F$200>0,IF(masterlist!$J$2:$J$200=0,ROW(masterlist!$B$2:$B$200)-ROW(masterlist!$B$2)+1)),ROWS($A$6:A86))),\"\")","v":""},{"$f":"IFERROR(VLOOKUP($A86,masterlist!$C$2:$K$200,3,FALSE),\"\")","v":""},"",{"$f":"IFERROR(VLOOKUP($A86,masterlist!$C$2:$K$200,5,FALSE),\"\")","v":""},{"$f":"IFERROR(IF((VLOOKUP($A86,masterlist!$C$2:$K$200,9,FALSE))=0,\"\",VLOOKUP($A86,masterlist!$C$2:$K$200,9,FALSE)),\"\")","v":""}]
[{"$f":"IF(ROWS($A$6:A87)<=$A$1,INDEX(masterlist!$C$2:$C$200,SMALL(IF(masterlist!$F$2:$F$200>0,IF(masterlist!$J$2:$J$200=0,ROW(masterlist!$B$2:$B$200)-ROW(masterlist!$B$2)+1)),ROWS($A$6:A87))),\"\")","v":""},{"$f":"IFERROR(VLOOKUP($A87,masterlist!$C$2:$K$200,3,FALSE),\"\")","v":""},"",{"$f":"IFERROR(VLOOKUP($A87,masterlist!$C$2:$K$200,5,FALSE),\"\")","v":""},{"$f":"IFERROR(IF((VLOOKUP($A87,masterlist!$C$2:$K$200,9,FALSE))=0,\"\",VLOOKUP($A87,masterlist!$C$2:$K$200,9,FALSE)),\"\")","v":""}]
[{"$f":"IF(ROWS($A$6:A88)<=$A$1,INDEX(masterlist!$C$2:$C$200,SMALL(IF(masterlist!$F$2:$F$200>0,IF(masterlist!$J$2:$J$200=0,ROW(masterlist!$B$2:$B$200)-ROW(masterlist!$B$2)+1)),ROWS($A$6:A88))),\"\")","v":""},{"$f":"IFERROR(VLOOKUP($A88,masterlist!$C$2:$K$200,3,FALSE),\"\")","v":""},"",{"$f":"IFERROR(VLOOKUP($A88,masterlist!$C$2:$K$200,5,FALSE),\"\")","v":""},{"$f":"IFERROR(IF((VLOOKUP($A88,masterlist!$C$2:$K$200,9,FALSE))=0,\"\",VLOOKUP($A88,masterlist!$C$2:$K$200,9,FALSE)),\"\")","v":""}]
[{"$f":"IF(ROWS($A$6:A89)<=$A$1,INDEX(masterlist!$C$2:$C$200,SMALL(IF(masterlist!$F$2:$F$200>0,IF(masterlist!$J$2:$J$200=0,ROW(masterlist!$B$2:$B$200)-ROW(masterlist!$B$2)+1)),ROWS($A$6:A89))),\"\")","v":""},{"$f":"IFERROR(VLOOKUP($A89,masterlist!$C$2:$K$200,3,FALSE),\"\")","v":""},"",{"$f":"IFERROR(VLOOKUP($A89,masterlist!$C$2:$K$200,5,FALSE),\"\")","v":""},{"$f":"IFERROR(IF((VLOOKUP($A89,masterlist!$C$2:$K$200,9,FALSE))=0,\"\",VLOOKUP($A89,masterlist!$C$2:$K$200,9,FALSE)),\"\")","v":""}]
[{"$f":"IF(ROWS($A$6:A90)<=$A$1,INDEX(masterlist!$C$2:$C$200,SMALL(IF(masterlist!$F$2:$F$200>0,IF(masterlist!$J$2:$J$200=0,ROW(masterlist!$B$2:$B$200)-ROW(masterlist!$B$2)+1)),ROWS($A$6:A90))),\"\")","v":""},{"$f":"IFERROR(VLOOKUP($A90,masterlist!$C$2:$K$200,3,FALSE),\"\")","v":""},"",{"$f":"IFERROR(VLOOKUP($A90,masterlist!$C$2:$K$200,5,FALSE),\"\")","v":""},{"$f":"IFERROR(IF((VLOOKUP($A90,masterlist!$C$2:$K$200,9,FALSE))=0,\"\",VLOOKUP($A90,masterlist!$C$2:$K$200,9,FALSE)),\"\")","v":""}]
[{"$f":"IF(ROWS($A$6:A91)<=$A$1,INDEX(masterlist!$C$2:$C$200,SMALL(IF(masterlist!$F$2:$F$200>0,IF(masterlist!$J$2:$J$200=0,ROW(masterlist!$B$2:$B$200)-ROW(masterlist!$B$2)+1)),ROWS($A$6:A91))),\"\")","v":""},{"$f":"IFERROR(VLOOKUP($A91,masterlist!$C$2:$K$200,3,FALSE),\"\")","v":""},"",{"$f":"IFERROR(VLOOKUP($A91,masterlist!$C$2:$K$200,5,FALSE),\"\")","v":""},{"$f":"IFERROR(IF((VLOOKUP($A91,masterlist!$C$2:$K$200,9,FALSE))=0,\"\",VLOOKUP($A91,masterlist!$C$2:$K$200,9,FALSE)),\"\")","v":""}]
[{"$f":"IF(ROWS($A$6:A92)<=$A$1,INDEX(masterlist!$C$2:$C$200,SMALL(IF(masterlist!$F$2:$F$200>0,IF(masterlist!$J$2:$J$200=0,ROW(masterlist!$B$2:$B$200)-ROW(masterlist!$B$2)+1)),ROWS($A$6:A92))),\"\")","v":""},{"$f":"IFERROR(VLOOKUP($A92,masterlist!$C$2:$K$200,3,FALSE),\"\")","v":""},"",{"$f":"IFERROR(VLOOKUP($A92,masterlist!$C$2:$K$200,5,FALSE),\"\")","v":""},{"$f":"IFERROR(IF((VLOOKUP($A92,masterlist!$C$2:$K$200,9,FALSE))=0,\"\",VLOOKUP($A92,masterlist!$C$2:$K$200,9,FALSE)),\"\")","v":""}]
[{"$f":"IF(ROWS($A$6:A93)<=$A$1,INDEX(masterlist!$C$2:$C$200,SMALL(IF(masterlist!$F$2:$F$200>0,IF(masterlist!$J$2:$J$200=0,ROW(masterlist!$B$2:$B$200)-ROW(masterlist!$B$2)+1)),ROWS($A$6:A93))),\"\")","v":""},{"$f":"IFERROR(VLOOKUP($A93,masterlist!$C$2:$K$200,3,FALSE),\"\")","v":""},"",{"$f":"IFERROR(VLOOKUP($A93,masterlist!$C$2:$K$200,5,FALSE),\"\")","v":""},{"$f":"IFERROR(IF((VLOOKUP($A93,masterlist!$C$2:$K$200,9,FALSE))=0,\"\",VLOOKUP($A93,masterlist!$C$2:$K$200,9,FALSE)),\"\")","v":""}]
[{"$f":"IF(ROWS($A$6:A94)<=$A$1,INDEX(masterlist!$C$2:$C$200,SMALL(IF(masterlist!$F$2:$F$200>0,IF(masterlist!$J$2:$J$200=0,ROW(masterlist!$B$2:$B$200)-ROW(masterlist!$B$2)+1)),ROWS($A$6:A94))),\"\")","v":""},{"$f":"IFERROR(VLOOKUP($A94,masterlist!$C$2:$K$200,3,FALSE),\"\")","v":""},"",{"$f":"IFERROR(VLOOKUP($A94,masterlist!$C$2:$K$200,5,FALSE),\"\")","v":""},{"$f":"IFERROR(IF((VLOOKUP($A94,masterlist!$C$2:$K$200,9,FALSE))=0,\"\",VLOOKUP($A94,masterlist!$C$2:$K$200,9,FALSE)),\"\")","v":""}]
[{"$f":"IF(ROWS($A$6:A95)<=$A$1,INDEX(masterlist!$C$2:$C$200,SMALL(IF(masterlist!$F$2:$F$200>0,IF(masterlist!$J$2:$J$200=0,ROW(masterlist!$B$2:$B$200)-ROW(masterlist!$B$2)+1)),ROWS($A$6:A95))),\"\")","v":""},{"$f":"IFERROR(VLOOKUP($A95,masterlist!$C$2:$K$200,3,FALSE),\"\")","v":""},"",{"$f":"IFERROR(VLOOKUP($A95,masterlist!$C$2:$K$200,5,FALSE),\"\")","v":""},{"$f":"IFERROR(IF((VLOOKUP($A95,masterlist!$C$2:$K$200,9,FALSE))=0,\"\",VLOOKUP($A95,masterlist!$C$2:$K$200,9,FALSE)),\"\")","v":""}]
[{"$f":"IF(ROWS($A$6:A96)<=$A$1,INDEX(masterlist!$C$2:$C$200,SMALL(IF(masterlist!$F$2:$F$200>0,IF(masterlist!$J$2:$J$200=0,ROW(masterlist!$B$2:$B$200)-ROW(masterlist!$B$2)+1)),ROWS($A$6:A96))),\"\")","v":""},{"$f":"IFERROR(VLOOKUP($A96,masterlist!$C$2:$K$200,3,FALSE),\"\")","v":""},"",{"$f":"IFERROR(VLOOKUP($A96,masterlist!$C$2:$K$200,5,FALSE),\"\")","v":""},{"$f":"IFERROR(IF((VLOOKUP($A96,masterlist!$C$2:$K$200,9,FALSE))=0,\"\",VLOOKUP($A96,masterlist!$C$2:$K$200,9,FALSE)),\"\")","v":""}]
[{"$f":"IF(ROWS($A$6:A97)<=$A$1,INDEX(masterlist!$C$2:$C$200,SMALL(IF(masterlist!$F$2:$F$200>0,IF(masterlist!$J$2:$J$200=0,ROW(masterlist!$B$2:$B$200)-ROW(masterlist!$B$2)+1)),ROWS($A$6:A97))),\"\")","v":""},{"$f":"IFERROR(VLOOKUP($A97,masterlist!$C$2:$K$200,3,FALSE),\"\")","v":""},"",{"$f":"IFERROR(VLOOKUP($A97,masterlist!$C$2:$K$200,5,FALSE),\"\")","v":""},{"$f":"IFERROR(IF((VLOOKUP($A97,masterlist!$C$2:$K$200,9,FALSE))=0,\"\",VLOOKUP($A97,masterlist!$C$2:$K$200,9,FALSE)),\"\")","v":""}]
[{"$f":"IF(ROWS($A$6:A98)<=$A$1,INDEX(masterlist!$C$2:$C$200,SMALL(IF(masterlist!$F$2:$F$200>0,IF(masterlist!$J$2:$J$200=0,ROW(masterlist!$B$2:$B$200)-ROW(masterlist!$B$2)+1)),ROWS($A$6:A98))),\"\")","v":""},{"$f":"IFERROR(VLOOKUP($A98,masterlist!$C$2:$K$200,3,FALSE),\"\")","v":""},"",{"$f":"IFERROR(VLOOKUP($A98,masterlist!$C$2:$K$200,5,FALSE),\"\")","v":""},{"$f":"IFERROR(IF((VLOOKUP($A98,masterlist!$C$2:$K$200,9,FALSE))=0,\"\",VLOOKUP($A98,masterlist!$C$2:$K$200,9,FALSE)),\"\")","v":""}]
[{"$f":"IF(ROWS($A$6:A99)<=$A$1,INDEX(masterlist!$C$2:$C$200,SMALL(IF(masterlist!$F$2:$F$200>0,IF(masterlist!$J$2:$J$200=0,ROW(masterlist!$B$2:$B$200)-ROW(masterlist!$B$2)+1)),ROWS($A$6:A99))),\"\")","v":""},{"$f":"IFERROR(VLOOKUP($A99,masterlist!$C$2:$K$200,3,FALSE),\"\")","v":""},"",{"$f":"IFERROR(VLOOKUP($A99,masterlist!$C$2:$K$200,5,FALSE),\"\")","v":""},{"$f":"IFERROR(IF((VLOOKUP($A99,masterlist!$C$2:$K$200,9,FALSE))=0,\"\",VLOOKUP($A99,masterlist!$C$2:$K$200,9,FALSE)),\"\")","v":""}]
[{"$f":"IF(ROWS($A$6:A100)<=$A$1,INDEX(masterlist!$C$2:$C$200,SMALL(IF(masterlist!$F$2:$F$200>0,IF(masterlist!$J$2:$J$200=0,ROW(masterlist!$B$2:$B$200)-ROW(masterlist!$B$2)+1)),ROWS($A$6:A100))),\"\")","v":""},{"$f":"IFERROR(VLOOKUP($A100,masterlist!$C$2:$K$200,3,FALSE),\"\")","v":""},"",{"$f":"IFERROR(VLOOKUP($A100,masterlist!$C$2:$K$200,5,FALSE),\"\")","v":""},{"$f":"IFERROR(IF((VLOOKUP($A100,masterlist!$C$2:$K$200,9,FALSE))=0,\"\",VLOOKUP($A100,masterlist!$C$2:$K$200,9,FALSE)),\"\")","v":""}]
[{"$f":"IF(ROWS($A$6:A101)<=$A$1,INDEX(masterlist!$C$2:$C$200,SMALL(IF(masterlist!$F$2:$F$200>0,IF(masterlist!$J$2:$J$200=0,ROW(masterlist!$B$2:$B$200)-ROW(masterlist!$B$2)+1)),ROWS($A$6:A101))),\"\")","v":""},{"$f":"IFERROR(VLOOKUP($A101,masterlist!$C$2:$K$200,3,FALSE),\"\")","v":""},"",{"$f":"IFERROR(VLOOKUP($A101,masterlist!$C$2:$K$200,5,FALSE),\"\")","v":""},{"$f":"IFERROR(IF((VLOOKUP($A101,masterlist!$C$2:$K$200,9,FALSE))=0,\"\",VLOOKUP($A101,masterlist!$C$2:$K$200,9,FALSE)),\"\")","v":""}]
[{"$f":"IF(ROWS($A$6:A102)<=$A$1,INDEX(masterlist!$C$2:$C$200,SMALL(IF(masterlist!$F$2:$F$200>0,IF(masterlist!$J$2:$J$200=0,ROW(masterlist!$B$2:$B$200)-ROW(masterlist!$B$2)+1)),ROWS($A$6:A102))),\"\")","v":""},{"$f":"IFERROR(VLOOKUP($A102,masterlist!$C$2:$K$200,3,FALSE),\"\")","v":""},"",{"$f":"IFERROR(VLOOKUP($A102,masterlist!$C$2:$K$200,5,FALSE),\"\")","v":""},{"$f":"IFERROR(IF((VLOOKUP($A102,masterlist!$C$2:$K$200,9,FALSE))=0,\"\",VLOOKUP($A102,masterlist!$C$2:$K$200,9,FALSE)),\"\")","v":""}]
[{"$f":"IF(ROWS($A$6:A103)<=$A$1,INDEX(masterlist!$C$2:$C$200,SMALL(IF(masterlist!$F$2:$F$200>0,IF(masterlist!$J$2:$J$200=0,ROW(masterlist!$B$2:$B$200)-ROW(masterlist!$B$2)+1)),ROWS($A$6:A103))),\"\")","v":""},{"$f":"IFERROR(VLOOKUP($A103,masterlist!$C$2:$K$200,3,FALSE),\"\")","v":""},"",{"$f":"IFERROR(VLOOKUP($A103,masterlist!$C$2:$K$200,5,FALSE),\"\")","v":""},{"$f":"IFERROR(IF((VLOOKUP($A103,masterlist!$C$2:$K$200,9,FALSE))=0,\"\",VLOOKUP($A103,masterlist!$C$2:$K$200,9,FALSE)),\"\")","v":""}]
[{"$f":"IF(ROWS($A$6:A104)<=$A$1,INDEX(masterlist!$C$2:$C$200,SMALL(IF(masterlist!$F$2:$F$200>0,IF(masterlist!$J$2:$J$200=0,ROW(masterlist!$B$2:$B$200)-ROW(masterlist!$B$2)+1)),ROWS($A$6:A104))),\"\")","v":""},{"$f":"IFERROR(VLOOKUP($A104,masterlist!$C$2:$K$200,3,FALSE),\"\")","v":""},"",{"$f":"IFERROR(VLOOKUP($A104,masterlist!$C$2:$K$200,5,FALSE),\"\")","v":""},{"$f":"IFERROR(IF((VLOOKUP($A104,masterlist!$C$2:$K$200,9,FALSE))=0,\"\",VLOOKUP($A104,masterlist!$C$2:$K$200,9,FALSE)),\"\")","v":""}]
[{"$f":"IF(ROWS($A$6:A105)<=$A$1,INDEX(masterlist!$C$2:$C$200,SMALL(IF(masterlist!$F$2:$F$200>0,IF(masterlist!$J$2:$J$200=0,ROW(masterlist!$B$2:$B$200)-ROW(masterlist!$B$2)+1)),ROWS($A$6:A105))),\"\")","v":""},{"$f":"IFERROR(VLOOKUP($A105,masterlist!$C$2:$K$200,3,FALSE),\"\")","v":""},"",{"$f":"IFERROR(VLOOKUP($A105,masterlist!$C$2:$K$200,5,FALSE),\"\")","v":""},{"$f":"IFERROR(IF((VLOOKUP($A105,masterlist!$C$2:$K$200,9,FALSE))=0,\"\",VLOOKUP($A105,masterlist!$C$2:$K$200,9,FALSE)),\"\")","v":""}]
[{"$f":"IF(ROWS($A$6:A106)<=$A$1,INDEX(masterlist!$C$2:$C$200,SMALL(IF(masterlist!$F$2:$F$200>0,IF(masterlist!$J$2:$J$200=0,ROW(masterlist!$B$2:$B$200)-ROW(masterlist!$B$2)+1)),ROWS($A$6:A106))),\"\")","v":""},{"$f":"IFERROR(VLOOKUP($A106,masterlist!$C$2:$K$200,3,FALSE),\"\")","v":""},"",{"$f":"IFERROR(VLOOKUP($A106,masterlist!$C$2:$K$200,5,FALSE),\"\")","v":""},{"$f":"IFERROR(IF((VLOOKUP($A106,masterlist!$C$2:$K$200,9,FALSE))=0,\"\",VLOOKUP($A106,masterlist!$C$2:$K$200,9,FALSE)),\"\")","v":""}]
[{"$f":"IF(ROWS($A$6:A107)<=$A$1,INDEX(masterlist!$C$2:$C$200,SMALL(IF(masterlist!$F$2:$F$200>0,IF(masterlist!$J$2:$J$200=0,ROW(masterlist!$B$2:$B$200)-ROW(masterlist!$B$2)+1)),ROWS($A$6:A107))),\"\")","v":""},{"$f":"IFERROR(VLOOKUP($A107,masterlist!$C$2:$K$200,3,FALSE),\"\")","v":""},"",{"$f":"IFERROR(VLOOKUP($A107,masterlist!$C$2:$K$200,5,FALSE),\"\")","v":""},{"$f":"IFERROR(IF((VLOOKUP($A107,masterlist!$C$2:$K$200,9,FALSE))=0,\"\",VLOOKUP($A107,masterlist!$C$2:$K$200,9,FALSE)),\"\")","v":""}]
[{"$f":"IF(ROWS($A$6:A108)<=$A$1,INDEX(masterlist!$C$2:$C$200,SMALL(IF(masterlist!$F$2:$F$200>0,IF(masterlist!$J$2:$J$200=0,ROW(masterlist!$B$2:$B$200)-ROW(masterlist!$B$2)+1)),ROWS($A$6:A108))),\"\")","v":""},{"$f":"IFERROR(VLOOKUP($A108,masterlist!$C$2:$K$200,3,FALSE),\"\")","v":""},"",{"$f":"IFERROR(VLOOKUP($A108,masterlist!$C$2:$K$200,5,FALSE),\"\")","v":""},{"$f":"IFERROR(IF((VLOOKUP($A108,masterlist!$C$2:$K$200,9,FALSE))=0,\"\",VLOOKUP($A108,masterlist!$C$2:$K$200,9,FALSE)),\"\")","v":""}]
[{"$f":"IF(ROWS($A$6:A109)<=$A$1,INDEX(masterlist!$C$2:$C$200,SMALL(IF(masterlist!$F$2:$F$200>0,IF(masterlist!$J$2:$J$200=0,ROW(masterlist!$B$2:$B$200)-ROW(masterlist!$B$2)+1)),ROWS($A$6:A109))),\"\")","v":""},{"$f":"IFERROR(VLOOKUP($A109,masterlist!$C$2:$K$200,3,FALSE),\"\")","v":""},"",{"$f":"IFERROR(VLOOKUP($A109,masterlist!$C$2:$K$200,5,FALSE),\"\")","v":""},{"$f":"IFERROR(IF((VLOOKUP($A109,masterlist!$C$2:$K$200,9,FALSE))=0,\"\",VLOOKUP($A109,masterlist!$C$2:$K$200,9,FALSE)),\"\")","v":""}]
[{"$f":"IF(ROWS($A$6:A110)<=$A$1,INDEX(masterlist!$C$2:$C$200,SMALL(IF(masterlist!$F$2:$F$200>0,IF(masterlist!$J$2:$J$200=0,ROW(masterlist!$B$2:$B$200)-ROW(masterlist!$B$2)+1)),ROWS($A$6:A110))),\"\")","v":""},{"$f":"IFERROR(VLOOKUP($A110,masterlist!$C$2:$K$200,3,FALSE),\"\")","v":""},"",{"$f":"IFERROR(VLOOKUP($A110,masterlist!$C$2:$K$200,5,FALSE),\"\")","v":""},{"$f":"IFERROR(IF((VLOOKUP($A110,masterlist!$C$2:$K$200,9,FALSE))=0,\"\",VLOOKUP($A110,masterlist!$C$2:$K$200,9,FALSE)),\"\")","v":""}]
[{"$f":"IF(ROWS($A$6:A111)<=$A$1,INDEX(masterlist!$C$2:$C$200,SMALL(IF(masterlist!$F$2:$F$200>0,IF(masterlist!$J$2:$J$200=0,ROW(masterlist!$B$2:$B$200)-ROW(masterlist!$B$2)+1)),ROWS($A$6:A111))),\"\")","v":""},{"$f":"IFERROR(VLOOKUP($A111,masterlist!$C$2:$K$200,3,FALSE),\"\")","v":""},"",{"$f":"IFERROR(VLOOKUP($A111,masterlist!$C$2:$K$200,5,FALSE),\"\")","v":""},{"$f":"IFERROR(IF((VLOOKUP($A111,masterlist!$C$2:$K$200,9,FALSE))=0,\"\",VLOOKUP($A111,masterlist!$C$2:$K$200,9,FALSE)),\"\")","v":""}]
[{"$f":"IF(ROWS($A$6:A112)<=$A$1,INDEX(masterlist!$C$2:$C$200,SMALL(IF(masterlist!$F$2:$F$200>0,IF(masterlist!$J$2:$J$200=0,ROW(masterlist!$B$2:$B$200)-ROW(masterlist!$B$2)+1)),ROWS($A$6:A112))),\"\")","v":""},{"$f":"IFERROR(VLOOKUP($A112,masterlist!$C$2:$K$200,3,FALSE),\"\")","v":""},"",{"$f":"IFERROR(VLOOKUP($A112,masterlist!$C$2:$K$200,5,FALSE),\"\")","v":""},{"$f":"IFERROR(IF((VLOOKUP($A112,masterlist!$C$2:$K$200,9,FALSE))=0,\"\",VLOOKUP($A112,masterlist!$C$2:$K$200,9,FALSE)),\"\")","v":""}]
[{"$f":"IF(ROWS($A$6:A113)<=$A$1,INDEX(masterlist!$C$2:$C$200,SMALL(IF(masterlist!$F$2:$F$200>0,IF(masterlist!$J$2:$J$200=0,ROW(masterlist!$B$2:$B$200)-ROW(masterlist!$B$2)+1)),ROWS($A$6:A113))),\"\")","v":""},{"$f":"IFERROR(VLOOKUP($A113,masterlist!$C$2:$K$200,3,FALSE),\"\")","v":""},"",{"$f":"IFERROR(VLOOKUP($A113,masterlist!$C$2:$K$200,5,FALSE),\"\")","v":""},{"$f":"IFERROR(IF((VLOOKUP($A113,masterlist!$C$2:$K$200,9,FALSE))=0,\"\",VLOOKUP($A113,masterlist!$C$2:$K$200,9,FALSE)),\"\")","v":""}]
[{"$f":"IF(ROWS($A$6:A114)<=$A$1,INDEX(masterlist!$C$2:$C$200,SMALL(IF(masterlist!$F$2:$F$200>0,IF(masterlist!$J$2:$J$200=0,ROW(masterlist!$B$2:$B$200)-ROW(masterlist!$B$2)+1)),ROWS($A$6:A114))),\"\")","v":""},{"$f":"IFERROR(VLOOKUP($A114,masterlist!$C$2:$K$200,3,FALSE),\"\")","v":""},"",{"$f":"IFERROR(VLOOKUP($A114,masterlist!$C$2:$K$200,5,FALSE),\"\")","v":""},{"$f":"IFERROR(IF((VLOOKUP($A114,masterlist!$C$2:$K$200,9,FALSE))=0,\"\",VLOOKUP($A114,masterlist!$C$2:$K$200,9,FALSE)),\"\")","v":""}]
[{"$f":"IF(ROWS($A$6:A115)<=$A$1,INDEX(masterlist!$C$2:$C$200,SMALL(IF(masterlist!$F$2:$F$200>0,IF(masterlist!$J$2:$J$200=0,ROW(masterlist!$B$2:$B$200)-ROW(masterlist!$B$2)+1)),ROWS($A$6:A115))),\"\")","v":""},{"$f":"IFERROR(VLOOKUP($A115,masterlist!$C$2:$K$200,3,FALSE),\"\")","v":""},"",{"$f":"IFERROR(VLOOKUP($A115,masterlist!$C$2:$K$200,5,FALSE),\"\")","v":""},{"$f":"IFERROR(IF((VLOOKUP($A115,masterlist!$C$2:$K$200,9,FALSE))=0,\"\",VLOOKUP($A115,masterlist!$C$2:$K$200,9,FALSE)),\"\")","v":""}]
[{"$f":"IF(ROWS($A$6:A116)<=$A$1,INDEX(masterlist!$C$2:$C$200,SMALL(IF(masterlist!$F$2:$F$200>0,IF(masterlist!$J$2:$J$200=0,ROW(masterlist!$B$2:$B$200)-ROW(masterlist!$B$2)+1)),ROWS($A$6:A116))),\"\")","v":""},{"$f":"IFERROR(VLOOKUP($A116,masterlist!$C$2:$K$200,3,FALSE),\"\")","v":""},"",{"$f":"IFERROR(VLOOKUP($A116,masterlist!$C$2:$K$200,5,FALSE),\"\")","v":""},{"$f":"IFERROR(IF((VLOOKUP($A116,masterlist!$C$2:$K$200,9,FALSE))=0,\"\",VLOOKUP($A116,masterlist!$C$2:$K$200,9,FALSE)),\"\")","v":""}]
[{"$f":"IF(ROWS($A$6:A117)<=$A$1,INDEX(masterlist!$C$2:$C$200,SMALL(IF(masterlist!$F$2:$F$200>0,IF(masterlist!$J$2:$J$200=0,ROW(masterlist!$B$2:$B$200)-ROW(masterlist!$B$2)+1)),ROWS($A$6:A117))),\"\")","v":""},{"$f":"IFERROR(VLOOKUP($A117,masterlist!$C$2:$K$200,3,FALSE),\"\")","v":""},"",{"$f":"IFERROR(VLOOKUP($A117,masterlist!$C$2:$K$200,5,FALSE),\"\")","v":""},{"$f":"IFERROR(IF((VLOOKUP($A117,masterlist!$C$2:$K$200,9,FALSE))=0,\"\",VLOOKUP($A117,masterlist!$C$2:$K$200,9,FALSE)),\"\")","v":""}]
[{"$f":"IF(ROWS($A$6:A118)<=$A$1,INDEX(masterlist!$C$2:$C$200,SMALL(IF(masterlist!$F$2:$F$200>0,IF(masterlist!$J$2:$J$200=0,ROW(masterlist!$B$2:$B$200)-ROW(masterlist!$B$2)+1)),ROWS($A$6:A118))),\"\")","v":""},{"$f":"IFERROR(VLOOKUP($A118,masterlist!$C$2:$K$200,3,FALSE),\"\")","v":""},"",{"$f":"IFERROR(VLOOKUP($A118,masterlist!$C$2:$K$200,5,FALSE),\"\")","v":""},{"$f":"IFERROR(IF((VLOOKUP($A118,masterlist!$C$2:$K$200,9,FALSE))=0,\"\",VLOOKUP($A118,masterlist!$C$2:$K$200,9,FALSE)),\"\")","v":""}]
[{"$f":"IF(ROWS($A$6:A119)<=$A$1,INDEX(masterlist!$C$2:$C$200,SMALL(IF(masterlist!$F$2:$F$200>0,IF(masterlist!$J$2:$J$200=0,ROW(masterlist!$B$2:$B$200)-ROW(masterlist!$B$2)+1)),ROWS($A$6:A119))),\"\")","v":""},{"$f":"IFERROR(VLOOKUP($A119,masterlist!$C$2:$K$200,3,FALSE),\"\")","v":""},"",{"$f":"IFERROR(VLOOKUP($A119,masterlist!$C$2:$K$200,5,FALSE),\"\")","v":""},{"$f":"IFERROR(IF((VLOOKUP($A119,masterlist!$C$2:$K$200,9,FALSE))=0,\"\",VLOOKUP($A119,masterlist!$C$2:$K$200,9,FALSE)),\"\")","v":""}]
[{"$f":"IF(ROWS($A$6:A120)<=$A$1,INDEX(masterlist!$C$2:$C$200,SMALL(IF(masterlist!$F$2:$F$200>0,IF(masterlist!$J$2:$J$200=0,ROW(masterlist!$B$2:$B$200)-ROW(masterlist!$B$2)+1)),ROWS($A$6:A120))),\"\")","v":""},{"$f":"IFERROR(VLOOKUP($A120,masterlist!$C$2:$K$200,3,FALSE),\"\")","v":""},"",{"$f":"IFERROR(VLOOKUP($A120,masterlist!$C$2:$K$200,5,FALSE),\"\")","v":""},{"$f":"IFERROR(IF((VLOOKUP($A120,masterlist!$C$2:$K$200,9,FALSE))=0,\"\",VLOOKUP($A120,masterlist!$C$2:$K$200,9,FALSE)),\"\")","v":""}]
[{"$f":"IF(ROWS($A$6:A121)<=$A$1,INDEX(masterlist!$C$2:$C$200,SMALL(IF(masterlist!$F$2:$F$200>0,IF(masterlist!$J$2:$J$200=0,ROW(masterlist!$B$2:$B$200)-ROW(masterlist!$B$2)+1)),ROWS($A$6:A121))),\"\")","v":""},{"$f":"IFERROR(VLOOKUP($A121,masterlist!$C$2:$K$200,3,FALSE),\"\")","v":""},"",{"$f":"IFERROR(VLOOKUP($A121,masterlist!$C$2:$K$200,5,FALSE),\"\")","v":""},{"$f":"IFERROR(IF((VLOOKUP($A121,masterlist!$C$2:$K$200,9,FALSE))=0,\"\",VLOOKUP($A121,masterlist!$C$2:$K$200,9,FALSE)),\"\")","v":""}]
[{"$f":"IF(ROWS($A$6:A122)<=$A$1,INDEX(masterlist!$C$2:$C$200,SMALL(IF(masterlist!$F$2:$F$200>0,IF(masterlist!$J$2:$J$200=0,ROW(masterlist!$B$2:$B$200)-ROW(masterlist!$B$2)+1)),ROWS($A$6:A122))),\"\")","v":""},{"$f":"IFERROR(VLOOKUP($A122,masterlist!$C$2:$K$200,3,FALSE),\"\")","v":""},"",{"$f":"IFERROR(VLOOKUP($A122,masterlist!$C$2:$K$200,5,FALSE),\"\")","v":""},{"$f":"IFERROR(IF((VLOOKUP($A122,masterlist!$C$2:$K$200,9,FALSE))=0,\"\",VLOOKUP($A122,masterlist!$C$2:$K$200,9,FALSE)),\"\")","v":""}]
[{"$f":"IF(ROWS($A$6:A123)<=$A$1,INDEX(masterlist!$C$2:$C$200,SMALL(IF(masterlist!$F$2:$F$200>0,IF(masterlist!$J$2:$J$200=0,ROW(masterlist!$B$2:$B$200)-ROW(masterlist!$B$2)+1)),ROWS($A$6:A123))),\"\")","v":""},{"$f":"IFERROR(VLOOKUP($A123,masterlist!$C$2:$K$200,3,FALSE),\"\")","v":""},"",{"$f":"IFERROR(VLOOKUP($A123,masterlist!$C$2:$K$200,5,FALSE),\"\")","v":""},{"$f":"IFERROR(IF((VLOOKUP($A123,masterlist!$C$2:$K$200,9,FALSE))=0,\"\",VLOOKUP($A123,masterlist!$C$2:$K$200,9,FALSE)),\"\")","v":""}]
[{"$f":"IF(ROWS($A$6:A124)<=$A$1,INDEX(masterlist!$C$2:$C$200,SMALL(IF(masterlist!$F$2:$F$200>0,IF(masterlist!$J$2:$J$200=0,ROW(masterlist!$B$2:$B$200)-ROW(masterlist!$B$2)+1)),ROWS($A$6:A124))),\"\")","v":""},{"$f":"IFERROR(VLOOKUP($A124,masterlist!$C$2:$K$200,3,FALSE),\"\")","v":""},"",{"$f":"IFERROR(VLOOKUP($A124,masterlist!$C$2:$K$200,5,FALSE),\"\")","v":""},{"$f":"IFERROR(IF((VLOOKUP($A124,masterlist!$C$2:$K$200,9,FALSE))=0,\"\",VLOOKUP($A124,masterlist!$C$2:$K$200,9,FALSE)),\"\")","v":""}]
[{"$f":"IF(ROWS($A$6:A125)<=$A$1,INDEX(masterlist!$C$2:$C$200,SMALL(IF(masterlist!$F$2:$F$200>0,IF(masterlist!$J$2:$J$200=0,ROW(masterlist!$B$2:$B$200)-ROW(masterlist!$B$2)+1)),ROWS($A$6:A125))),\"\")","v":""},{"$f":"IFERROR(VLOOKUP($A125,masterlist!$C$2:$K$200,3,FALSE),\"\")","v":""},"",{"$f":"IFERROR(VLOOKUP($A125,masterlist!$C$2:$K$200,5,FALSE),\"\")","v":""},{"$f":"IFERROR(IF((VLOOKUP($A125,masterlist!$C$2:$K$200,9,FALSE))=0,\"\",VLOOKUP($A125,masterlist!$C$2:$K$200,9,FALSE)),\"\")","v":""}]
[{"$f":"IF(ROWS($A$6:A126)<=$A$1,INDEX(masterlist!$C$2:$C$200,SMALL(IF(masterlist!$F$2:$F$200>0,IF(masterlist!$J$2:$J$200=0,ROW(masterlist!$B$2:$B$200)-ROW(masterlist!$B$2)+1)),ROWS($A$6:A126))),\"\")","v":""},{"$f":"IFERROR(VLOOKUP($A126,masterlist!$C$2:$K$200,3,FALSE),\"\")","v":""},"",{"$f":"IFERROR(VLOOKUP($A126,masterlist!$C$2:$K$200,5,FALSE),\"\")","v":""},{"$f":"IFERROR(IF((VLOOKUP($A126,masterlist!$C$2:$K$200,9,FALSE))=0,\"\",VLOOKUP($A126,masterlist!$C$2:$K$200,9,FALSE)),\"\")","v":""}]
[{"$f":"IF(ROWS($A$6:A127)<=$A$1,INDEX(masterlist!$C$2:$C$200,SMALL(IF(masterlist!$F$2:$F$200>0,IF(masterlist!$J$2:$J$200=0,ROW(masterlist!$B$2:$B$200)-ROW(masterlist!$B$2)+1)),ROWS($A$6:A127))),\"\")","v":""},{"$f":"IFERROR(VLOOKUP($A127,masterlist!$C$2:$K$200,3,FALSE),\"\")","v":""},"",{"$f":"IFERROR(VLOOKUP($A127,masterlist!$C$2:$K$200,5,FALSE),\"\")","v":""},{"$f":"IFERROR(IF((VLOOKUP($A127,masterlist!$C$2:$K$200,9,FALSE))=0,\"\",VLOOKUP($A127,masterlist!$C$2:$K$200,9,FALSE)),\"\")","v":""}]
[{"$f":"IF(ROWS($A$6:A128)<=$A$1,INDEX(masterlist!$C$2:$C$200,SMALL(IF(masterlist!$F$2:$F$200>0,IF(masterlist!$J$2:$J$200=0,ROW(masterlist!$B$2:$B$200)-ROW(masterlist!$B$2)+1)),ROWS($A$6:A128))),\"\")","v":""},{"$f":"IFERROR(VLOOKUP($A128,masterlist!$C$2:$K$200,3,FALSE),\"\")","v":""},"",{"$f":"IFERROR(VLOOKUP($A128,masterlist!$C$2:$K$200,5,FALSE),\"\")","v":""},{"$f":"IFERROR(IF((VLOOKUP($A128,masterlist!$C$2:$K$200,9,FALSE))=0,\"\",VLOOKUP($A128,masterlist!$C$2:$K$200,9,FALSE)),\"\")","v":""}]
[{"$f":"IF(ROWS($A$6:A129)<=$A$1,INDEX(masterlist!$C$2:$C$200,SMALL(IF(masterlist!$F$2:$F$200>0,IF(masterlist!$J$2:$J$200=0,ROW(masterlist!$B$2:$B$200)-ROW(masterlist!$B$2)+1)),ROWS($A$6:A129))),\"\")","v":""},{"$f":"IFERROR(VLOOKUP($A129,masterlist!$C$2:$K$200,3,FALSE),\"\")","v":""},"",{"$f":"IFERROR(VLOOKUP($A129,masterlist!$C$2:$K$200,5,FALSE),\"\")","v":""},{"$f":"IFERROR(IF((VLOOKUP($A129,masterlist!$C$2:$K$200,9,FALSE))=0,\"\",VLOOKUP($A129,masterlist!$C$2:$K$200,9,FALSE)),\"\")","v":""}]
[{"$f":"IF(ROWS($A$6:A130)<=$A$1,INDEX(masterlist!$C$2:$C$200,SMALL(IF(masterlist!$F$2:$F$200>0,IF(masterlist!$J$2:$J$200=0,ROW(masterlist!$B$2:$B$200)-ROW(masterlist!$B$2)+1)),ROWS($A$6:A130))),\"\")","v":""},{"$f":"IFERROR(VLOOKUP($A130,masterlist!$C$2:$K$200,3,FALSE),\"\")","v":""},"",{"$f":"IFERROR(VLOOKUP($A130,masterlist!$C$2:$K$200,5,FALSE),\"\")","v":""},{"$f":"IFERROR(IF((VLOOKUP($A130,masterlist!$C$2:$K$200,9,FALSE))=0,\"\",VLOOKUP($A130,masterlist!$C$2:$K$200,9,FALSE)),\"\")","v":""}]
[{"$f":"IF(ROWS($A$6:A131)<=$A$1,INDEX(masterlist!$C$2:$C$200,SMALL(IF(masterlist!$F$2:$F$200>0,IF(masterlist!$J$2:$J$200=0,ROW(masterlist!$B$2:$B$200)-ROW(masterlist!$B$2)+1)),ROWS($A$6:A131))),\"\")","v":""},{"$f":"IFERROR(VLOOKUP($A131,masterlist!$C$2:$K$200,3,FALSE),\"\")","v":""},"",{"$f":"IFERROR(VLOOKUP($A131,masterlist!$C$2:$K$200,5,FALSE),\"\")","v":""},{"$f":"IFERROR(IF((VLOOKUP($A131,masterlist!$C$2:$K$200,9,FALSE))=0,\"\",VLOOKUP($A131,masterlist!$C$2:$K$200,9,FALSE)),\"\")","v":""}]
[{"$f":"IF(ROWS($A$6:A132)<=$A$1,INDEX(masterlist!$C$2:$C$200,SMALL(IF(masterlist!$F$2:$F$200>0,IF(masterlist!$J$2:$J$200=0,ROW(masterlist!$B$2:$B$200)-ROW(masterlist!$B$2)+1)),ROWS($A$6:A132))),\"\")","v":""},{"$f":"IFERROR(VLOOKUP($A132,masterlist!$C$2:$K$200,3,FALSE),\"\")","v":""},"",{"$f":"IFERROR(VLOOKUP($A132,masterlist!$C$2:$K$200,5,FALSE),\"\")","v":""},{"$f":"IFERROR(IF((VLOOKUP($A132,masterlist!$C$2:$K$200,9,FALSE))=0,\"\",VLOOKUP($A132,masterlist!$C$2:$K$200,9,FALSE)),\"\")","v":""}]
[{"$f":"IF(ROWS($A$6:A133)<=$A$1,INDEX(masterlist!$C$2:$C$200,SMALL(IF(masterlist!$F$2:$F$200>0,IF(masterlist!$J$2:$J$200=0,ROW(masterlist!$B$2:$B$200)-ROW(masterlist!$B$2)+1)),ROWS($A$6:A133))),\"\")","v":""},{"$f":"IFERROR(VLOOKUP($A133,masterlist!$C$2:$K$200,3,FALSE),\"\")","v":""},"",{"$f":"IFERROR(VLOOKUP($A133,masterlist!$C$2:$K$200,5,FALSE),\"\")","v":""},{"$f":"IFERROR(IF((VLOOKUP($A133,masterlist!$C$2:$K$200,9,FALSE))=0,\"\",VLOOKUP($A133,masterlist!$C$2:$K$200,9,FALSE)),\"\")","v":""}]
[{"$f":"IF(ROWS($A$6:A134)<=$A$1,INDEX(masterlist!$C$2:$C$200,SMALL(IF(masterlist!$F$2:$F$200>0,IF(masterlist!$J$2:$J$200=0,ROW(masterlist!$B$2:$B$200)-ROW(masterlist!$B$2)+1)),ROWS($A$6:A134))),\"\")","v":""},{"$f":"IFERROR(VLOOKUP($A134,masterlist!$C$2:$K$200,3,FALSE),\"\")","v":""},"",{"$f":"IFERROR(VLOOKUP($A134,masterlist!$C$2:$K$200,5,FALSE),\"\")","v":""},{"$f":"IFERROR(IF((VLOOKUP($A134,masterlist!$C$2:$K$200,9,FALSE))=0,\"\",VLOOKUP($A134,masterlist!$C$2:$K$200,9,FALSE)),\"\")","v":""}]
[{"$f":"IF(ROWS($A$6:A135)<=$A$1,INDEX(masterlist!$C$2:$C$200,SMALL(IF(masterlist!$F$2:$F$200>0,IF(masterlist!$J$2:$J$200=0,ROW(masterlist!$B$2:$B$200)-ROW(masterlist!$B$2)+1)),ROWS($A$6:A135))),\"\")","v":""},{"$f":"IFERROR(VLOOKUP($A135,masterlist!$C$2:$K$200,3,FALSE),\"\")","v":""},{"$f":"LEFT(A135,3)","v":""},{"$f":"IFERROR(VLOOKUP($A135,masterlist!$C$2:$K$200,5,FALSE),\"\")","v":""},{"$f":"IFERROR(IF((VLOOKUP($A135,masterlist!$C$2:$K$200,9,FALSE))=0,\"\",VLOOKUP($A135,masterlist!$C$2:$K$200,9,FALSE)),\"\")","v":""}]
[{"$f":"IF(ROWS($A$6:A136)<=$A$1,INDEX(masterlist!$C$2:$C$200,SMALL(IF(masterlist!$F$2:$F$200>0,IF(masterlist!$J$2:$J$200=0,ROW(masterlist!$B$2:$B$200)-ROW(masterlist!$B$2)+1)),ROWS($A$6:A136))),\"\")","v":""},{"$f":"IFERROR(VLOOKUP($A136,masterlist!$C$2:$K$200,3,FALSE),\"\")","v":""},"",{"$f":"IFERROR(VLOOKUP($A136,masterlist!$C$2:$K$200,5,FALSE),\"\")","v":""},{"$f":"IFERROR(IF((VLOOKUP($A136,masterlist!$C$2:$K$200,9,FALSE))=0,\"\",VLOOKUP($A136,masterlist!$C$2:$K$200,9,FALSE)),\"\")","v":""}]
[{"$f":"IF(ROWS($A$6:A137)<=$A$1,INDEX(masterlist!$C$2:$C$200,SMALL(IF(masterlist!$F$2:$F$200>0,IF(masterlist!$J$2:$J$200=0,ROW(masterlist!$B$2:$B$200)-ROW(masterlist!$B$2)+1)),ROWS($A$6:A137))),\"\")","v":""},{"$f":"IFERROR(VLOOKUP($A137,masterlist!$C$2:$K$200,3,FALSE),\"\")","v":""},"",{"$f":"IFERROR(VLOOKUP($A137,masterlist!$C$2:$K$200,5,FALSE),\"\")","v":""},{"$f":"IFERROR(IF((VLOOKUP($A137,masterlist!$C$2:$K$200,9,FALSE))=0,\"\",VLOOKUP($A137,masterlist!$C$2:$K$200,9,FALSE)),\"\")","v":""}]
[{"$f":"IF(ROWS($A$6:A138)<=$A$1,INDEX(masterlist!$C$2:$C$200,SMALL(IF(masterlist!$F$2:$F$200>0,IF(masterlist!$J$2:$J$200=0,ROW(masterlist!$B$2:$B$200)-ROW(masterlist!$B$2)+1)),ROWS($A$6:A138))),\"\")","v":""},{"$f":"IFERROR(VLOOKUP($A138,masterlist!$C$2:$K$200,3,FALSE),\"\")","v":""},"",{"$f":"IFERROR(VLOOKUP($A138,masterlist!$C$2:$K$200,5,FALSE),\"\")","v":""},{"$f":"IFERROR(IF((VLOOKUP($A138,masterlist!$C$2:$K$200,9,FALSE))=0,\"\",VLOOKUP($A138,masterlist!$C$2:$K$200,9,FALSE)),\"\")","v":""}]
[{"$f":"IF(ROWS($A$6:A139)<=$A$1,INDEX(masterlist!$C$2:$C$200,SMALL(IF(masterlist!$F$2:$F$200>0,IF(masterlist!$J$2:$J$200=0,ROW(masterlist!$B$2:$B$200)-ROW(masterlist!$B$2)+1)),ROWS($A$6:A139))),\"\")","v":""},{"$f":"IFERROR(VLOOKUP($A139,masterlist!$C$2:$K$200,3,FALSE),\"\")","v":""},"",{"$f":"IFERROR(VLOOKUP($A139,masterlist!$C$2:$K$200,5,FALSE),\"\")","v":""},{"$f":"IFERROR(IF((VLOOKUP($A139,masterlist!$C$2:$K$200,9,FALSE))=0,\"\",VLOOKUP($A139,masterlist!$C$2:$K$200,9,FALSE)),\"\")","v":""}]
[{"$f":"IF(ROWS($A$6:A140)<=$A$1,INDEX(masterlist!$C$2:$C$200,SMALL(IF(masterlist!$F$2:$F$200>0,IF(masterlist!$J$2:$J$200=0,ROW(masterlist!$B$2:$B$200)-ROW(masterlist!$B$2)+1)),ROWS($A$6:A140))),\"\")","v":""},{"$f":"IFERROR(VLOOKUP($A140,masterlist!$C$2:$K$200,3,FALSE),\"\")","v":""},"",{"$f":"IFERROR(VLOOKUP($A140,masterlist!$C$2:$K$200,5,FALSE),\"\")","v":""},{"$f":"IFERROR(IF((VLOOKUP($A140,masterlist!$C$2:$K$200,9,FALSE))=0,\"\",VLOOKUP($A140,masterlist!$C$2:$K$200,9,FALSE)),\"\")","v":""}]
[{"$f":"IF(ROWS($A$6:A141)<=$A$1,INDEX(masterlist!$C$2:$C$200,SMALL(IF(masterlist!$F$2:$F$200>0,IF(masterlist!$J$2:$J$200=0,ROW(masterlist!$B$2:$B$200)-ROW(masterlist!$B$2)+1)),ROWS($A$6:A141))),\"\")","v":""},{"$f":"IFERROR(VLOOKUP($A141,masterlist!$C$2:$K$200,3,FALSE),\"\")","v":""},"",{"$f":"IFERROR(VLOOKUP($A141,masterlist!$C$2:$K$200,5,FALSE),\"\")","v":""},{"$f":"IFERROR(IF((VLOOKUP($A141,masterlist!$C$2:$K$200,9,FALSE))=0,\"\",VLOOKUP($A141,masterlist!$C$2:$K$200,9,FALSE)),\"\")","v":""}]
[{"$f":"IF(ROWS($A$6:A142)<=$A$1,INDEX(masterlist!$C$2:$C$200,SMALL(IF(masterlist!$F$2:$F$200>0,IF(masterlist!$J$2:$J$200=0,ROW(masterlist!$B$2:$B$200)-ROW(masterlist!$B$2)+1)),ROWS($A$6:A142))),\"\")","v":""},{"$f":"IFERROR(VLOOKUP($A142,masterlist!$C$2:$K$200,3,FALSE),\"\")","v":""},"",{"$f":"IFERROR(VLOOKUP($A142,masterlist!$C$2:$K$200,5,FALSE),\"\")","v":""},{"$f":"IFERROR(IF((VLOOKUP($A142,masterlist!$C$2:$K$200,9,FALSE))=0,\"\",VLOOKUP($A142,masterlist!$C$2:$K$200,9,FALSE)),\"\")","v":""}]
[{"$f":"IF(ROWS($A$6:A143)<=$A$1,INDEX(masterlist!$C$2:$C$200,SMALL(IF(masterlist!$F$2:$F$200>0,IF(masterlist!$J$2:$J$200=0,ROW(masterlist!$B$2:$B$200)-ROW(masterlist!$B$2)+1)),ROWS($A$6:A143))),\"\")","v":""},{"$f":"IFERROR(VLOOKUP($A143,masterlist!$C$2:$K$200,3,FALSE),\"\")","v":""},"",{"$f":"IFERROR(VLOOKUP($A143,masterlist!$C$2:$K$200,5,FALSE),\"\")","v":""},{"$f":"IFERROR(IF((VLOOKUP($A143,masterlist!$C$2:$K$200,9,FALSE))=0,\"\",VLOOKUP($A143,masterlist!$C$2:$K$200,9,FALSE)),\"\")","v":""}]
[{"$f":"IF(ROWS($A$6:A144)<=$A$1,INDEX(masterlist!$C$2:$C$200,SMALL(IF(masterlist!$F$2:$F$200>0,IF(masterlist!$J$2:$J$200=0,ROW(masterlist!$B$2:$B$200)-ROW(masterlist!$B$2)+1)),ROWS($A$6:A144))),\"\")","v":""},{"$f":"IFERROR(VLOOKUP($A144,masterlist!$C$2:$K$200,3,FALSE),\"\")","v":""},"",{"$f":"IFERROR(VLOOKUP($A144,masterlist!$C$2:$K$200,5,FALSE),\"\")","v":""},{"$f":"IFERROR(IF((VLOOKUP($A144,masterlist!$C$2:$K$200,9,FALSE))=0,\"\",VLOOKUP($A144,masterlist!$C$2:$K$200,9,FALSE)),\"\")","v":""}]
[{"$f":"IF(ROWS($A$6:A145)<=$A$1,INDEX(masterlist!$C$2:$C$200,SMALL(IF(masterlist!$F$2:$F$200>0,IF(masterlist!$J$2:$J$200=0,ROW(masterlist!$B$2:$B$200)-ROW(masterlist!$B$2)+1)),ROWS($A$6:A145))),\"\")","v":""},{"$f":"IFERROR(VLOOKUP($A145,masterlist!$C$2:$K$200,3,FALSE),\"\")","v":""},"",{"$f":"IFERROR(VLOOKUP($A145,masterlist!$C$2:$K$200,5,FALSE),\"\")","v":""},{"$f":"IFERROR(IF((VLOOKUP($A145,masterlist!$C$2:$K$200,9,FALSE))=0,\"\",VLOOKUP($A145,masterlist!$C$2:$K$200,9,FALSE)),\"\")","v":""}]
[{"$f":"IF(ROWS($A$6:A146)<=$A$1,INDEX(masterlist!$C$2:$C$200,SMALL(IF(masterlist!$F$2:$F$200>0,IF(masterlist!$J$2:$J$200=0,ROW(masterlist!$B$2:$B$200)-ROW(masterlist!$B$2)+1)),ROWS($A$6:A146))),\"\")","v":""},{"$f":"IFERROR(VLOOKUP($A146,masterlist!$C$2:$K$200,3,FALSE),\"\")","v":""},"",{"$f":"IFERROR(VLOOKUP($A146,masterlist!$C$2:$K$200,5,FALSE),\"\")","v":""},{"$f":"IFERROR(IF((VLOOKUP($A146,masterlist!$C$2:$K$200,9,FALSE))=0,\"\",VLOOKUP($A146,masterlist!$C$2:$K$200,9,FALSE)),\"\")","v":""}]
[{"$f":"IF(ROWS($A$6:A147)<=$A$1,INDEX(masterlist!$C$2:$C$200,SMALL(IF(masterlist!$F$2:$F$200>0,IF(masterlist!$J$2:$J$200=0,ROW(masterlist!$B$2:$B$200)-ROW(masterlist!$B$2)+1)),ROWS($A$6:A147))),\"\")","v":""},{"$f":"IFERROR(VLOOKUP($A147,masterlist!$C$2:$K$200,3,FALSE),\"\")","v":""},"",{"$f":"IFERROR(VLOOKUP($A147,masterlist!$C$2:$K$200,5,FALSE),\"\")","v":""},{"$f":"IFERROR(IF((VLOOKUP($A147,masterlist!$C$2:$K$200,9,FALSE))=0,\"\",VLOOKUP($A147,masterlist!$C$2:$K$200,9,FALSE)),\"\")","v":""}]
[{"$f":"IF(ROWS($A$6:A148)<=$A$1,INDEX(masterlist!$C$2:$C$200,SMALL(IF(masterlist!$F$2:$F$200>0,IF(masterlist!$J$2:$J$200=0,ROW(masterlist!$B$2:$B$200)-ROW(masterlist!$B$2)+1)),ROWS($A$6:A148))),\"\")","v":""},{"$f":"IFERROR(VLOOKUP($A148,masterlist!$C$2:$K$200,3,FALSE),\"\")","v":""},"",{"$f":"IFERROR(VLOOKUP($A148,masterlist!$C$2:$K$200,5,FALSE),\"\")","v":""},{"$f":"IFERROR(IF((VLOOKUP($A148,masterlist!$C$2:$K$200,9,FALSE))=0,\"\",VLOOKUP($A148,masterlist!$C$2:$K$200,9,FALSE)),\"\")","v":""}]
[{"$f":"IF(ROWS($A$6:A149)<=$A$1,INDEX(masterlist!$C$2:$C$200,SMALL(IF(masterlist!$F$2:$F$200>0,IF(masterlist!$J$2:$J$200=0,ROW(masterlist!$B$2:$B$200)-ROW(masterlist!$B$2)+1)),ROWS($A$6:A149))),\"\")","v":""},{"$f":"IFERROR(VLOOKUP($A149,masterlist!$C$2:$K$200,3,FALSE),\"\")","v":""},"",{"$f":"IFERROR(VLOOKUP($A149,masterlist!$C$2:$K$200,5,FALSE),\"\")","v":""},{"$f":"IFERROR(IF((VLOOKUP($A149,masterlist!$C$2:$K$200,9,FALSE))=0,\"\",VLOOKUP($A149,masterlist!$C$2:$K$200,9,FALSE)),\"\")","v":""}]
[{"$f":"IF(ROWS($A$6:A150)<=$A$1,INDEX(masterlist!$C$2:$C$200,SMALL(IF(masterlist!$F$2:$F$200>0,IF(masterlist!$J$2:$J$200=0,ROW(masterlist!$B$2:$B$200)-ROW(masterlist!$B$2)+1)),ROWS($A$6:A150))),\"\")","v":""},{"$f":"IFERROR(VLOOKUP($A150,masterlist!$C$2:$K$200,3,FALSE),\"\")","v":""},"",{"$f":"IFERROR(VLOOKUP($A150,masterlist!$C$2:$K$200,5,FALSE),\"\")","v":""},{"$f":"IFERROR(IF((VLOOKUP($A150,masterlist!$C$2:$K$200,9,FALSE))=0,\"\",VLOOKUP($A150,masterlist!$C$2:$K$200,9,FALSE)),\"\")","v":""}]
[{"$f":"IF(ROWS($A$6:A151)<=$A$1,INDEX(masterlist!$C$2:$C$200,SMALL(IF(masterlist!$F$2:$F$200>0,IF(masterlist!$J$2:$J$200=0,ROW(masterlist!$B$2:$B$200)-ROW(masterlist!$B$2)+1)),ROWS($A$6:A151))),\"\")","v":""},{"$f":"IFERROR(VLOOKUP($A151,masterlist!$C$2:$K$200,3,FALSE),\"\")","v":""},"",{"$f":"IFERROR(VLOOKUP($A151,masterlist!$C$2:$K$200,5,FALSE),\"\")","v":""},{"$f":"IFERROR(IF((VLOOKUP($A151,masterlist!$C$2:$K$200,9,FALSE))=0,\"\",VLOOKUP($A151,masterlist!$C$2:$K$200,9,FALSE)),\"\")","v":""}]
[{"$f":"IF(ROWS($A$6:A152)<=$A$1,INDEX(masterlist!$C$2:$C$200,SMALL(IF(masterlist!$F$2:$F$200>0,IF(masterlist!$J$2:$J$200=0,ROW(masterlist!$B$2:$B$200)-ROW(masterlist!$B$2)+1)),ROWS($A$6:A152))),\"\")","v":""},{"$f":"IFERROR(VLOOKUP($A152,masterlist!$C$2:$K$200,3,FALSE),\"\")","v":""},"",{"$f":"IFERROR(VLOOKUP($A152,masterlist!$C$2:$K$200,5,FALSE),\"\")","v":""},{"$f":"IFERROR(IF((VLOOKUP($A152,masterlist!$C$2:$K$200,9,FALSE))=0,\"\",VLOOKUP($A152,masterlist!$C$2:$K$200,9,FALSE)),\"\")","v":""}]
[{"$f":"IF(ROWS($A$6:A153)<=$A$1,INDEX(masterlist!$C$2:$C$200,SMALL(IF(masterlist!$F$2:$F$200>0,IF(masterlist!$J$2:$J$200=0,ROW(masterlist!$B$2:$B$200)-ROW(masterlist!$B$2)+1)),ROWS($A$6:A153))),\"\")","v":""},{"$f":"IFERROR(VLOOKUP($A153,masterlist!$C$2:$K$200,3,FALSE),\"\")","v":""},"",{"$f":"IFERROR(VLOOKUP($A153,masterlist!$C$2:$K$200,5,FALSE),\"\")","v":""},{"$f":"IFERROR(IF((VLOOKUP($A153,masterlist!$C$2:$K$200,9,FALSE))=0,\"\",VLOOKUP($A153,masterlist!$C$2:$K$200,9,FALSE)),\"\")","v":""}]
[{"$f":"IF(ROWS($A$6:A154)<=$A$1,INDEX(masterlist!$C$2:$C$200,SMALL(IF(masterlist!$F$2:$F$200>0,IF(masterlist!$J$2:$J$200=0,ROW(masterlist!$B$2:$B$200)-ROW(masterlist!$B$2)+1)),ROWS($A$6:A154))),\"\")","v":""},{"$f":"IFERROR(VLOOKUP($A154,masterlist!$C$2:$K$200,3,FALSE),\"\")","v":""},"",{"$f":"IFERROR(VLOOKUP($A154,masterlist!$C$2:$K$200,5,FALSE),\"\")","v":""},{"$f":"IFERROR(IF((VLOOKUP($A154,masterlist!$C$2:$K$200,9,FALSE))=0,\"\",VLOOKUP($A154,masterlist!$C$2:$K$200,9,FALSE)),\"\")","v":""}]
[{"$f":"IF(ROWS($A$6:A155)<=$A$1,INDEX(masterlist!$C$2:$C$200,SMALL(IF(masterlist!$F$2:$F$200>0,IF(masterlist!$J$2:$J$200=0,ROW(masterlist!$B$2:$B$200)-ROW(masterlist!$B$2)+1)),ROWS($A$6:A155))),\"\")","v":""},{"$f":"IFERROR(VLOOKUP($A155,masterlist!$C$2:$K$200,3,FALSE),\"\")","v":""},"",{"$f":"IFERROR(VLOOKUP($A155,masterlist!$C$2:$K$200,5,FALSE),\"\")","v":""},{"$f":"IFERROR(IF((VLOOKUP($A155,masterlist!$C$2:$K$200,9,FALSE))=0,\"\",VLOOKUP($A155,masterlist!$C$2:$K$200,9,FALSE)),\"\")","v":""}]
[{"$f":"IF(ROWS($A$6:A156)<=$A$1,INDEX(masterlist!$C$2:$C$200,SMALL(IF(masterlist!$F$2:$F$200>0,IF(masterlist!$J$2:$J$200=0,ROW(masterlist!$B$2:$B$200)-ROW(masterlist!$B$2)+1)),ROWS($A$6:A156))),\"\")","v":""},{"$f":"IFERROR(VLOOKUP($A156,masterlist!$C$2:$K$200,3,FALSE),\"\")","v":""},"",{"$f":"IFERROR(VLOOKUP($A156,masterlist!$C$2:$K$200,5,FALSE),\"\")","v":""},{"$f":"IFERROR(IF((VLOOKUP($A156,masterlist!$C$2:$K$200,9,FALSE))=0,\"\",VLOOKUP($A156,masterlist!$C$2:$K$200,9,FALSE)),\"\")","v":""}]
[{"$f":"IF(ROWS($A$6:A157)<=$A$1,INDEX(masterlist!$C$2:$C$200,SMALL(IF(masterlist!$F$2:$F$200>0,IF(masterlist!$J$2:$J$200=0,ROW(masterlist!$B$2:$B$200)-ROW(masterlist!$B$2)+1)),ROWS($A$6:A157))),\"\")","v":""},{"$f":"IFERROR(VLOOKUP($A157,masterlist!$C$2:$K$200,3,FALSE),\"\")","v":""},"",{"$f":"IFERROR(VLOOKUP($A157,masterlist!$C$2:$K$200,5,FALSE),\"\")","v":""},{"$f":"IFERROR(IF((VLOOKUP($A157,masterlist!$C$2:$K$200,9,FALSE))=0,\"\",VLOOKUP($A157,masterlist!$C$2:$K$200,9,FALSE)),\"\")","v":""}]
[{"$f":"IF(ROWS($A$6:A158)<=$A$1,INDEX(masterlist!$C$2:$C$200,SMALL(IF(masterlist!$F$2:$F$200>0,IF(masterlist!$J$2:$J$200=0,ROW(masterlist!$B$2:$B$200)-ROW(masterlist!$B$2)+1)),ROWS($A$6:A158))),\"\")","v":""},{"$f":"IFERROR(VLOOKUP($A158,masterlist!$C$2:$K$200,3,FALSE),\"\")","v":""},"",{"$f":"IFERROR(VLOOKUP($A158,masterlist!$C$2:$K$200,5,FALSE),\"\")","v":""},{"$f":"IFERROR(IF((VLOOKUP($A158,masterlist!$C$2:$K$200,9,FALSE))=0,\"\",VLOOKUP($A158,masterlist!$C$2:$K$200,9,FALSE)),\"\")","v":""}]
[{"$f":"IF(ROWS($A$6:A159)<=$A$1,INDEX(masterlist!$C$2:$C$200,SMALL(IF(masterlist!$F$2:$F$200>0,IF(masterlist!$J$2:$J$200=0,ROW(masterlist!$B$2:$B$200)-ROW(masterlist!$B$2)+1)),ROWS($A$6:A159))),\"\")","v":""},{"$f":"IFERROR(VLOOKUP($A159,masterlist!$C$2:$K$200,3,FALSE),\"\")","v":""},"",{"$f":"IFERROR(VLOOKUP($A159,masterlist!$C$2:$K$200,5,FALSE),\"\")","v":""},{"$f":"IFERROR(IF((VLOOKUP($A159,masterlist!$C$2:$K$200,9,FALSE))=0,\"\",VLOOKUP($A159,masterlist!$C$2:$K$200,9,FALSE)),\"\")","v":""}]
[{"$f":"IF(ROWS($A$6:A160)<=$A$1,INDEX(masterlist!$C$2:$C$200,SMALL(IF(masterlist!$F$2:$F$200>0,IF(masterlist!$J$2:$J$200=0,ROW(masterlist!$B$2:$B$200)-ROW(masterlist!$B$2)+1)),ROWS($A$6:A160))),\"\")","v":""},{"$f":"IFERROR(VLOOKUP($A160,masterlist!$C$2:$K$200,3,FALSE),\"\")","v":""},"",{"$f":"IFERROR(VLOOKUP($A160,masterlist!$C$2:$K$200,5,FALSE),\"\")","v":""},{"$f":"IFERROR(IF((VLOOKUP($A160,masterlist!$C$2:$K$200,9,FALSE))=0,\"\",VLOOKUP($A160,masterlist!$C$2:$K$200,9,FALSE)),\"\")","v":""}]
[{"$f":"IF(ROWS($A$6:A161)<=$A$1,INDEX(masterlist!$C$2:$C$200,SMALL(IF(masterlist!$F$2:$F$200>0,IF(masterlist!$J$2:$J$200=0,ROW(masterlist!$B$2:$B$200)-ROW(masterlist!$B$2)+1)),ROWS($A$6:A161))),\"\")","v":""},{"$f":"IFERROR(VLOOKUP($A161,masterlist!$C$2:$K$200,3,FALSE),\"\")","v":""},"",{"$f":"IFERROR(VLOOKUP($A161,masterlist!$C$2:$K$200,5,FALSE),\"\")","v":""},{"$f":"IFERROR(IF((VLOOKUP($A161,masterlist!$C$2:$K$200,9,FALSE))=0,\"\",VLOOKUP($A161,masterlist!$C$2:$K$200,9,FALSE)),\"\")","v":""}]
[{"$f":"IF(ROWS($A$6:A162)<=$A$1,INDEX(masterlist!$C$2:$C$200,SMALL(IF(masterlist!$F$2:$F$200>0,IF(masterlist!$J$2:$J$200=0,ROW(masterlist!$B$2:$B$200)-ROW(masterlist!$B$2)+1)),ROWS($A$6:A162))),\"\")","v":""},{"$f":"IFERROR(VLOOKUP($A162,masterlist!$C$2:$K$200,3,FALSE),\"\")","v":""},"",{"$f":"IFERROR(VLOOKUP($A162,masterlist!$C$2:$K$200,5,FALSE),\"\")","v":""},{"$f":"IFERROR(IF((VLOOKUP($A162,masterlist!$C$2:$K$200,9,FALSE))=0,\"\",VLOOKUP($A162,masterlist!$C$2:$K$200,9,FALSE)),\"\")","v":""}]
[{"$f":"IF(ROWS($A$6:A163)<=$A$1,INDEX(masterlist!$C$2:$C$200,SMALL(IF(masterlist!$F$2:$F$200>0,IF(masterlist!$J$2:$J$200=0,ROW(masterlist!$B$2:$B$200)-ROW(masterlist!$B$2)+1)),ROWS($A$6:A163))),\"\")","v":""},{"$f":"IFERROR(VLOOKUP($A163,masterlist!$C$2:$K$200,3,FALSE),\"\")","v":""},"",{"$f":"IFERROR(VLOOKUP($A163,masterlist!$C$2:$K$200,5,FALSE),\"\")","v":""},{"$f":"IFERROR(IF((VLOOKUP($A163,masterlist!$C$2:$K$200,9,FALSE))=0,\"\",VLOOKUP($A163,masterlist!$C$2:$K$200,9,FALSE)),\"\")","v":""}]
[{"$f":"IF(ROWS($A$6:A164)<=$A$1,INDEX(masterlist!$C$2:$C$200,SMALL(IF(masterlist!$F$2:$F$200>0,IF(masterlist!$J$2:$J$200=0,ROW(masterlist!$B$2:$B$200)-ROW(masterlist!$B$2)+1)),ROWS($A$6:A164))),\"\")","v":""},{"$f":"IFERROR(VLOOKUP($A164,masterlist!$C$2:$K$200,3,FALSE),\"\")","v":""},"",{"$f":"IFERROR(VLOOKUP($A164,masterlist!$C$2:$K$200,5,FALSE),\"\")","v":""},{"$f":"IFERROR(IF((VLOOKUP($A164,masterlist!$C$2:$K$200,9,FALSE))=0,\"\",VLOOKUP($A164,masterlist!$C$2:$K$200,9,FALSE)),\"\")","v":""}]
[{"$f":"IF(ROWS($A$6:A165)<=$A$1,INDEX(masterlist!$C$2:$C$200,SMALL(IF(masterlist!$F$2:$F$200>0,IF(masterlist!$J$2:$J$200=0,ROW(masterlist!$B$2:$B$200)-ROW(masterlist!$B$2)+1)),ROWS($A$6:A165))),\"\")","v":""},{"$f":"IFERROR(VLOOKUP($A165,masterlist!$C$2:$K$200,3,FALSE),\"\")","v":""},"",{"$f":"IFERROR(VLOOKUP($A165,masterlist!$C$2:$K$200,5,FALSE),\"\")","v":""},{"$f":"IFERROR(IF((VLOOKUP($A165,masterlist!$C$2:$K$200,9,FALSE))=0,\"\",VLOOKUP($A165,masterlist!$C$2:$K$200,9,FALSE)),\"\")","v":""}]
[{"$f":"IF(ROWS($A$6:A166)<=$A$1,INDEX(masterlist!$C$2:$C$200,SMALL(IF(masterlist!$F$2:$F$200>0,IF(masterlist!$J$2:$J$200=0,ROW(masterlist!$B$2:$B$200)-ROW(masterlist!$B$2)+1)),ROWS($A$6:A166))),\"\")","v":""},{"$f":"IFERROR(VLOOKUP($A166,masterlist!$C$2:$K$200,3,FALSE),\"\")","v":""},"",{"$f":"IFERROR(VLOOKUP($A166,masterlist!$C$2:$K$200,5,FALSE),\"\")","v":""},{"$f":"IFERROR(IF((VLOOKUP($A166,masterlist!$C$2:$K$200,9,FALSE))=0,\"\",VLOOKUP($A166,masterlist!$C$2:$K$200,9,FALSE)),\"\")","v":""}]
[{"$f":"IF(ROWS($A$6:A167)<=$A$1,INDEX(masterlist!$C$2:$C$200,SMALL(IF(masterlist!$F$2:$F$200>0,IF(masterlist!$J$2:$J$200=0,ROW(masterlist!$B$2:$B$200)-ROW(masterlist!$B$2)+1)),ROWS($A$6:A167))),\"\")","v":""},{"$f":"IFERROR(VLOOKUP($A167,masterlist!$C$2:$K$200,3,FALSE),\"\")","v":""},"",{"$f":"IFERROR(VLOOKUP($A167,masterlist!$C$2:$K$200,5,FALSE),\"\")","v":""},{"$f":"IFERROR(IF((VLOOKUP($A167,masterlist!$C$2:$K$200,9,FALSE))=0,\"\",VLOOKUP($A167,masterlist!$C$2:$K$200,9,FALSE)),\"\")","v":""}]
[{"$f":"IF(ROWS($A$6:A168)<=$A$1,INDEX(masterlist!$C$2:$C$200,SMALL(IF(masterlist!$F$2:$F$200>0,IF(masterlist!$J$2:$J$200=0,ROW(masterlist!$B$2:$B$200)-ROW(masterlist!$B$2)+1)),ROWS($A$6:A168))),\"\")","v":""},{"$f":"IFERROR(VLOOKUP($A168,masterlist!$C$2:$K$200,3,FALSE),\"\")","v":""},"",{"$f":"IFERROR(VLOOKUP($A168,masterlist!$C$2:$K$200,5,FALSE),\"\")","v":""},{"$f":"IFERROR(IF((VLOOKUP($A168,masterlist!$C$2:$K$200,9,FALSE))=0,\"\",VLOOKUP($A168,masterlist!$C$2:$K$200,9,FALSE)),\"\")","v":""}]
[{"$f":"IF(ROWS($A$6:A169)<=$A$1,INDEX(masterlist!$C$2:$C$200,SMALL(IF(masterlist!$F$2:$F$200>0,IF(masterlist!$J$2:$J$200=0,ROW(masterlist!$B$2:$B$200)-ROW(masterlist!$B$2)+1)),ROWS($A$6:A169))),\"\")","v":""},{"$f":"IFERROR(VLOOKUP($A169,masterlist!$C$2:$K$200,3,FALSE),\"\")","v":""},"",{"$f":"IFERROR(VLOOKUP($A169,masterlist!$C$2:$K$200,5,FALSE),\"\")","v":""},{"$f":"IFERROR(IF((VLOOKUP($A169,masterlist!$C$2:$K$200,9,FALSE))=0,\"\",VLOOKUP($A169,masterlist!$C$2:$K$200,9,FALSE)),\"\")","v":""}]
[{"$f":"IF(ROWS($A$6:A170)<=$A$1,INDEX(masterlist!$C$2:$C$200,SMALL(IF(masterlist!$F$2:$F$200>0,IF(masterlist!$J$2:$J$200=0,ROW(masterlist!$B$2:$B$200)-ROW(masterlist!$B$2)+1)),ROWS($A$6:A170))),\"\")","v":""},{"$f":"IFERROR(VLOOKUP($A170,masterlist!$C$2:$K$200,3,FALSE),\"\")","v":""},"",{"$f":"IFERROR(VLOOKUP($A170,masterlist!$C$2:$K$200,5,FALSE),\"\")","v":""},{"$f":"IFERROR(IF((VLOOKUP($A170,masterlist!$C$2:$K$200,9,FALSE))=0,\"\",VLOOKUP($A170,masterlist!$C$2:$K$200,9,FALSE)),\"\")","v":""}]
[{"$f":"IF(ROWS($A$6:A171)<=$A$1,INDEX(masterlist!$C$2:$C$200,SMALL(IF(masterlist!$F$2:$F$200>0,IF(masterlist!$J$2:$J$200=0,ROW(masterlist!$B$2:$B$200)-ROW(masterlist!$B$2)+1)),ROWS($A$6:A171))),\"\")","v":""},{"$f":"IFERROR(VLOOKUP($A171,masterlist!$C$2:$K$200,3,FALSE),\"\")","v":""},"",{"$f":"IFERROR(VLOOKUP($A171,masterlist!$C$2:$K$200,5,FALSE),\"\")","v":""},{"$f":"IFERROR(IF((VLOOKUP($A171,masterlist!$C$2:$K$200,9,FALSE))=0,\"\",VLOOKUP($A171,masterlist!$C$2:$K$200,9,FALSE)),\"\")","v":""}]
[{"$f":"IF(ROWS($A$6:A172)<=$A$1,INDEX(masterlist!$C$2:$C$200,SMALL(IF(masterlist!$F$2:$F$200>0,IF(masterlist!$J$2:$J$200=0,ROW(masterlist!$B$2:$B$200)-ROW(masterlist!$B$2)+1)),ROWS($A$6:A172))),\"\")","v":""},{"$f":"IFERROR(VLOOKUP($A172,masterlist!$C$2:$K$200,3,FALSE),\"\")","v":""},"",{"$f":"IFERROR(VLOOKUP($A172,masterlist!$C$2:$K$200,5,FALSE),\"\")","v":""},{"$f":"IFERROR(IF((VLOOKUP($A172,masterlist!$C$2:$K$200,9,FALSE))=0,\"\",VLOOKUP($A172,masterlist!$C$2:$K$200,9,FALSE)),\"\")","v":""}]
[{"$f":"IF(ROWS($A$6:A173)<=$A$1,INDEX(masterlist!$C$2:$C$200,SMALL(IF(masterlist!$F$2:$F$200>0,IF(masterlist!$J$2:$J$200=0,ROW(masterlist!$B$2:$B$200)-ROW(masterlist!$B$2)+1)),ROWS($A$6:A173))),\"\")","v":""},{"$f":"IFERROR(VLOOKUP($A173,masterlist!$C$2:$K$200,3,FALSE),\"\")","v":""},"",{"$f":"IFERROR(VLOOKUP($A173,masterlist!$C$2:$K$200,5,FALSE),\"\")","v":""},{"$f":"IFERROR(IF((VLOOKUP($A173,masterlist!$C$2:$K$200,9,FALSE))=0,\"\",VLOOKUP($A173,masterlist!$C$2:$K$200,9,FALSE)),\"\")","v":""}]
[{"$f":"IF(ROWS($A$6:A174)<=$A$1,INDEX(masterlist!$C$2:$C$200,SMALL(IF(masterlist!$F$2:$F$200>0,IF(masterlist!$J$2:$J$200=0,ROW(masterlist!$B$2:$B$200)-ROW(masterlist!$B$2)+1)),ROWS($A$6:A174))),\"\")","v":""},{"$f":"IFERROR(VLOOKUP($A174,masterlist!$C$2:$K$200,3,FALSE),\"\")","v":""},"",{"$f":"IFERROR(VLOOKUP($A174,masterlist!$C$2:$K$200,5,FALSE),\"\")","v":""},{"$f":"IFERROR(IF((VLOOKUP($A174,masterlist!$C$2:$K$200,9,FALSE))=0,\"\",VLOOKUP($A174,masterlist!$C$2:$K$200,9,FALSE)),\"\")","v":""}]
[{"$f":"IF(ROWS($A$6:A175)<=$A$1,INDEX(masterlist!$C$2:$C$200,SMALL(IF(masterlist!$F$2:$F$200>0,IF(masterlist!$J$2:$J$200=0,ROW(masterlist!$B$2:$B$200)-ROW(masterlist!$B$2)+1)),ROWS($A$6:A175))),\"\")","v":""},{"$f":"IFERROR(VLOOKUP($A175,masterlist!$C$2:$K$200,3,FALSE),\"\")","v":""},"",{"$f":"IFERROR(VLOOKUP($A175,masterlist!$C$2:$K$200,5,FALSE),\"\")","v":""},{"$f":"IFERROR(IF((VLOOKUP($A175,masterlist!$C$2:$K$200,9,FALSE))=0,\"\",VLOOKUP($A175,masterlist!$C$2:$K$200,9,FALSE)),\"\")","v":""}]
[{"$f":"IF(ROWS($A$6:A176)<=$A$1,INDEX(masterlist!$C$2:$C$200,SMALL(IF(masterlist!$F$2:$F$200>0,IF(masterlist!$J$2:$J$200=0,ROW(masterlist!$B$2:$B$200)-ROW(masterlist!$B$2)+1)),ROWS($A$6:A176))),\"\")","v":""},{"$f":"IFERROR(VLOOKUP($A176,masterlist!$C$2:$K$200,3,FALSE),\"\")","v":""},"",{"$f":"IFERROR(VLOOKUP($A176,masterlist!$C$2:$K$200,5,FALSE),\"\")","v":""},{"$f":"IFERROR(IF((VLOOKUP($A176,masterlist!$C$2:$K$200,9,FALSE))=0,\"\",VLOOKUP($A176,masterlist!$C$2:$K$200,9,FALSE)),\"\")","v":""}]
[{"$f":"IF(ROWS($A$6:A177)<=$A$1,INDEX(masterlist!$C$2:$C$200,SMALL(IF(masterlist!$F$2:$F$200>0,IF(masterlist!$J$2:$J$200=0,ROW(masterlist!$B$2:$B$200)-ROW(masterlist!$B$2)+1)),ROWS($A$6:A177))),\"\")","v":""},{"$f":"IFERROR(VLOOKUP($A177,masterlist!$C$2:$K$200,3,FALSE),\"\")","v":""},"",{"$f":"IFERROR(VLOOKUP($A177,masterlist!$C$2:$K$200,5,FALSE),\"\")","v":""},{"$f":"IFERROR(IF((VLOOKUP($A177,masterlist!$C$2:$K$200,9,FALSE))=0,\"\",VLOOKUP($A177,masterlist!$C$2:$K$200,9,FALSE)),\"\")","v":""}]
[{"$f":"IF(ROWS($A$6:A178)<=$A$1,INDEX(masterlist!$C$2:$C$200,SMALL(IF(masterlist!$F$2:$F$200>0,IF(masterlist!$J$2:$J$200=0,ROW(masterlist!$B$2:$B$200)-ROW(masterlist!$B$2)+1)),ROWS($A$6:A178))),\"\")","v":""},{"$f":"IFERROR(VLOOKUP($A178,masterlist!$C$2:$K$200,3,FALSE),\"\")","v":""},"",{"$f":"IFERROR(VLOOKUP($A178,masterlist!$C$2:$K$200,5,FALSE),\"\")","v":""},{"$f":"IFERROR(IF((VLOOKUP($A178,masterlist!$C$2:$K$200,9,FALSE))=0,\"\",VLOOKUP($A178,masterlist!$C$2:$K$200,9,FALSE)),\"\")","v":""}]
[{"$f":"IF(ROWS($A$6:A179)<=$A$1,INDEX(masterlist!$C$2:$C$200,SMALL(IF(masterlist!$F$2:$F$200>0,IF(masterlist!$J$2:$J$200=0,ROW(masterlist!$B$2:$B$200)-ROW(masterlist!$B$2)+1)),ROWS($A$6:A179))),\"\")","v":""},{"$f":"IFERROR(VLOOKUP($A179,masterlist!$C$2:$K$200,3,FALSE),\"\")","v":""},"",{"$f":"IFERROR(VLOOKUP($A179,masterlist!$C$2:$K$200,5,FALSE),\"\")","v":""},{"$f":"IFERROR(IF((VLOOKUP($A179,masterlist!$C$2:$K$200,9,FALSE))=0,\"\",VLOOKUP($A179,masterlist!$C$2:$K$200,9,FALSE)),\"\")","v":""}]
[{"$f":"IF(ROWS($A$6:A180)<=$A$1,INDEX(masterlist!$C$2:$C$200,SMALL(IF(masterlist!$F$2:$F$200>0,IF(masterlist!$J$2:$J$200=0,ROW(masterlist!$B$2:$B$200)-ROW(masterlist!$B$2)+1)),ROWS($A$6:A180))),\"\")","v":""},{"$f":"IFERROR(VLOOKUP($A180,masterlist!$C$2:$K$200,3,FALSE),\"\")","v":""},"",{"$f":"IFERROR(VLOOKUP($A180,masterlist!$C$2:$K$200,5,FALSE),\"\")","v":""},{"$f":"IFERROR(IF((VLOOKUP($A180,masterlist!$C$2:$K$200,9,FALSE))=0,\"\",VLOOKUP($A180,masterlist!$C$2:$K$200,9,FALSE)),\"\")","v":""}]
[{"$f":"IF(ROWS($A$6:A181)<=$A$1,INDEX(masterlist!$C$2:$C$200,SMALL(IF(masterlist!$F$2:$F$200>0,IF(masterlist!$J$2:$J$200=0,ROW(masterlist!$B$2:$B$200)-ROW(masterlist!$B$2)+1)),ROWS($A$6:A181))),\"\")","v":""},{"$f":"IFERROR(VLOOKUP($A181,masterlist!$C$2:$K$200,3,FALSE),\"\")","v":""},"",{"$f":"IFERROR(VLOOKUP($A181,masterlist!$C$2:$K$200,5,FALSE),\"\")","v":""},{"$f":"IFERROR(IF((VLOOKUP($A181,masterlist!$C$2:$K$200,9,FALSE))=0,\"\",VLOOKUP($A181,masterlist!$C$2:$K$200,9,FALSE)),\"\")","v":""}]
[{"$f":"IF(ROWS($A$6:A182)<=$A$1,INDEX(masterlist!$C$2:$C$200,SMALL(IF(masterlist!$F$2:$F$200>0,IF(masterlist!$J$2:$J$200=0,ROW(masterlist!$B$2:$B$200)-ROW(masterlist!$B$2)+1)),ROWS($A$6:A182))),\"\")","v":""},{"$f":"IFERROR(VLOOKUP($A182,masterlist!$C$2:$K$200,3,FALSE),\"\")","v":""},"",{"$f":"IFERROR(VLOOKUP($A182,masterlist!$C$2:$K$200,5,FALSE),\"\")","v":""},{"$f":"IFERROR(IF((VLOOKUP($A182,masterlist!$C$2:$K$200,9,FALSE))=0,\"\",VLOOKUP($A182,masterlist!$C$2:$K$200,9,FALSE)),\"\")","v":""}]
[{"$f":"IF(ROWS($A$6:A183)<=$A$1,INDEX(masterlist!$C$2:$C$200,SMALL(IF(masterlist!$F$2:$F$200>0,IF(masterlist!$J$2:$J$200=0,ROW(masterlist!$B$2:$B$200)-ROW(masterlist!$B$2)+1)),ROWS($A$6:A183))),\"\")","v":""},{"$f":"IFERROR(VLOOKUP($A183,masterlist!$C$2:$K$200,3,FALSE),\"\")","v":""},"",{"$f":"IFERROR(VLOOKUP($A183,masterlist!$C$2:$K$200,5,FALSE),\"\")","v":""},{"$f":"IFERROR(IF((VLOOKUP($A183,masterlist!$C$2:$K$200,9,FALSE))=0,\"\",VLOOKUP($A183,masterlist!$C$2:$K$200,9,FALSE)),\"\")","v":""}]
[{"$f":"IF(ROWS($A$6:A184)<=$A$1,INDEX(masterlist!$C$2:$C$200,SMALL(IF(masterlist!$F$2:$F$200>0,IF(masterlist!$J$2:$J$200=0,ROW(masterlist!$B$2:$B$200)-ROW(masterlist!$B$2)+1)),ROWS($A$6:A184))),\"\")","v":""},{"$f":"IFERROR(VLOOKUP($A184,masterlist!$C$2:$K$200,3,FALSE),\"\")","v":""},"",{"$f":"IFERROR(VLOOKUP($A184,masterlist!$C$2:$K$200,5,FALSE),\"\")","v":""},{"$f":"IFERROR(IF((VLOOKUP($A184,masterlist!$C$2:$K$200,9,FALSE))=0,\"\",VLOOKUP($A184,masterlist!$C$2:$K$200,9,FALSE)),\"\")","v":""}]
[{"$f":"IF(ROWS($A$6:A185)<=$A$1,INDEX(masterlist!$C$2:$C$200,SMALL(IF(masterlist!$F$2:$F$200>0,IF(masterlist!$J$2:$J$200=0,ROW(masterlist!$B$2:$B$200)-ROW(masterlist!$B$2)+1)),ROWS($A$6:A185))),\"\")","v":""},{"$f":"IFERROR(VLOOKUP($A185,masterlist!$C$2:$K$200,3,FALSE),\"\")","v":""},"",{"$f":"IFERROR(VLOOKUP($A185,masterlist!$C$2:$K$200,5,FALSE),\"\")","v":""},{"$f":"IFERROR(IF((VLOOKUP($A185,masterlist!$C$2:$K$200,9,FALSE))=0,\"\",VLOOKUP($A185,masterlist!$C$2:$K$200,9,FALSE)),\"\")","v":""}]
[{"$f":"IF(ROWS($A$6:A186)<=$A$1,INDEX(masterlist!$C$2:$C$200,SMALL(IF(masterlist!$F$2:$F$200>0,IF(masterlist!$J$2:$J$200=0,ROW(masterlist!$B$2:$B$200)-ROW(masterlist!$B$2)+1)),ROWS($A$6:A186))),\"\")","v":""},{"$f":"IFERROR(VLOOKUP($A186,masterlist!$C$2:$K$200,3,FALSE),\"\")","v":""},"",{"$f":"IFERROR(VLOOKUP($A186,masterlist!$C$2:$K$200,5,FALSE),\"\")","v":""},{"$f":"IFERROR(IF((VLOOKUP($A186,masterlist!$C$2:$K$200,9,FALSE))=0,\"\",VLOOKUP($A186,masterlist!$C$2:$K$200,9,FALSE)),\"\")","v":""}]
[{"$f":"IF(ROWS($A$6:A187)<=$A$1,INDEX(masterlist!$C$2:$C$200,SMALL(IF(masterlist!$F$2:$F$200>0,IF(masterlist!$J$2:$J$200=0,ROW(masterlist!$B$2:$B$200)-ROW(masterlist!$B$2)+1)),ROWS($A$6:A187))),\"\")","v":""},{"$f":"IFERROR(VLOOKUP($A187,masterlist!$C$2:$K$200,3,FALSE),\"\")","v":""},"",{"$f":"IFERROR(VLOOKUP($A187,masterlist!$C$2:$K$200,5,FALSE),\"\")","v":""},{"$f":"IFERROR(IF((VLOOKUP($A187,masterlist!$C$2:$K$200,9,FALSE))=0,\"\",VLOOKUP($A187,masterlist!$C$2:$K$200,9,FALSE)),\"\")","v":""}]
[{"$f":"IF(ROWS($A$6:A188)<=$A$1,INDEX(masterlist!$C$2:$C$200,SMALL(IF(masterlist!$F$2:$F$200>0,IF(masterlist!$J$2:$J$200=0,ROW(masterlist!$B$2:$B$200)-ROW(masterlist!$B$2)+1)),ROWS($A$6:A188))),\"\")","v":""},{"$f":"IFERROR(VLOOKUP($A188,masterlist!$C$2:$K$200,3,FALSE),\"\")","v":""},"",{"$f":"IFERROR(VLOOKUP($A188,masterlist!$C$2:$K$200,5,FALSE),\"\")","v":""},{"$f":"IFERROR(IF((VLOOKUP($A188,masterlist!$C$2:$K$200,9,FALSE))=0,\"\",VLOOKUP($A188,masterlist!$C$2:$K$200,9,FALSE)),\"\")","v":""}]
[{"$f":"IF(ROWS($A$6:A189)<=$A$1,INDEX(masterlist!$C$2:$C$200,SMALL(IF(masterlist!$F$2:$F$200>0,IF(masterlist!$J$2:$J$200=0,ROW(masterlist!$B$2:$B$200)-ROW(masterlist!$B$2)+1)),ROWS($A$6:A189))),\"\")","v":""},{"$f":"IFERROR(VLOOKUP($A189,masterlist!$C$2:$K$200,3,FALSE),\"\")","v":""},"",{"$f":"IFERROR(VLOOKUP($A189,masterlist!$C$2:$K$200,5,FALSE),\"\")","v":""},{"$f":"IFERROR(IF((VLOOKUP($A189,masterlist!$C$2:$K$200,9,FALSE))=0,\"\",VLOOKUP($A189,masterlist!$C$2:$K$200,9,FALSE)),\"\")","v":""}]
[{"$f":"IF(ROWS($A$6:A190)<=$A$1,INDEX(masterlist!$C$2:$C$200,SMALL(IF(masterlist!$F$2:$F$200>0,IF(masterlist!$J$2:$J$200=0,ROW(masterlist!$B$2:$B$200)-ROW(masterlist!$B$2)+1)),ROWS($A$6:A190))),\"\")","v":""},{"$f":"IFERROR(VLOOKUP($A190,masterlist!$C$2:$K$200,3,FALSE),\"\")","v":""},"",{"$f":"IFERROR(VLOOKUP($A190,masterlist!$C$2:$K$200,5,FALSE),\"\")","v":""},{"$f":"IFERROR(IF((VLOOKUP($A190,masterlist!$C$2:$K$200,9,FALSE))=0,\"\",VLOOKUP($A190,masterlist!$C$2:$K$200,9,FALSE)),\"\")","v":""}]
[{"$f":"IF(ROWS($A$6:A191)<=$A$1,INDEX(masterlist!$C$2:$C$200,SMALL(IF(masterlist!$F$2:$F$200>0,IF(masterlist!$J$2:$J$200=0,ROW(masterlist!$B$2:$B$200)-ROW(masterlist!$B$2)+1)),ROWS($A$6:A191))),\"\")","v":""},{"$f":"IFERROR(VLOOKUP($A191,masterlist!$C$2:$K$200,3,FALSE),\"\")","v":""},"",{"$f":"IFERROR(VLOOKUP($A191,masterlist!$C$2:$K$200,5,FALSE),\"\")","v":""},{"$f":"IFERROR(IF((VLOOKUP($A191,masterlist!$C$2:$K$200,9,FALSE))=0,\"\",VLOOKUP($A191,masterlist!$C$2:$K$200,9,FALSE)),\"\")","v":""}]
[{"$f":"IF(ROWS($A$6:A192)<=$A$1,INDEX(masterlist!$C$2:$C$200,SMALL(IF(masterlist!$F$2:$F$200>0,IF(masterlist!$J$2:$J$200=0,ROW(masterlist!$B$2:$B$200)-ROW(masterlist!$B$2)+1)),ROWS($A$6:A192))),\"\")","v":""},{"$f":"IFERROR(VLOOKUP($A192,masterlist!$C$2:$K$200,3,FALSE),\"\")","v":""},"",{"$f":"IFERROR(VLOOKUP($A192,masterlist!$C$2:$K$200,5,FALSE),\"\")","v":""},{"$f":"IFERROR(IF((VLOOKUP($A192,masterlist!$C$2:$K$200,9,FALSE))=0,\"\",VLOOKUP($A192,masterlist!$C$2:$K$200,9,FALSE)),\"\")","v":""}]
[{"$f":"IF(ROWS($A$6:A193)<=$A$1,INDEX(masterlist!$C$2:$C$200,SMALL(IF(masterlist!$F$2:$F$200>0,IF(masterlist!$J$2:$J$200=0,ROW(masterlist!$B$2:$B$200)-ROW(masterlist!$B$2)+1)),ROWS($A$6:A193))),\"\")","v":""},{"$f":"IFERROR(VLOOKUP($A193,masterlist!$C$2:$K$200,3,FALSE),\"\")","v":""},"",{"$f":"IFERROR(VLOOKUP($A193,masterlist!$C$2:$K$200,5,FALSE),\"\")","v":""},{"$f":"IFERROR(IF((VLOOKUP($A193,masterlist!$C$2:$K$200,9,FALSE))=0,\"\",VLOOKUP($A193,masterlist!$C$2:$K$200,9,FALSE)),\"\")","v":""}]
[{"$f":"IF(ROWS($A$6:A194)<=$A$1,INDEX(masterlist!$C$2:$C$200,SMALL(IF(masterlist!$F$2:$F$200>0,IF(masterlist!$J$2:$J$200=0,ROW(masterlist!$B$2:$B$200)-ROW(masterlist!$B$2)+1)),ROWS($A$6:A194))),\"\")","v":""},{"$f":"IFERROR(VLOOKUP($A194,masterlist!$C$2:$K$200,3,FALSE),\"\")","v":""},"",{"$f":"IFERROR(VLOOKUP($A194,masterlist!$C$2:$K$200,5,FALSE),\"\")","v":""},{"$f":"IFERROR(IF((VLOOKUP($A194,masterlist!$C$2:$K$200,9,FALSE))=0,\"\",VLOOKUP($A194,masterlist!$C$2:$K$200,9,FALSE)),\"\")","v":""}]
[{"$f":"IF(ROWS($A$6:A195)<=$A$1,INDEX(masterlist!$C$2:$C$200,SMALL(IF(masterlist!$F$2:$F$200>0,IF(masterlist!$J$2:$J$200=0,ROW(masterlist!$B$2:$B$200)-ROW(masterlist!$B$2)+1)),ROWS($A$6:A195))),\"\")","v":""},{"$f":"IFERROR(VLOOKUP($A195,masterlist!$C$2:$K$200,3,FALSE),\"\")","v":""},"",{"$f":"IFERROR(VLOOKUP($A195,masterlist!$C$2:$K$200,5,FALSE),\"\")","v":""},{"$f":"IFERROR(IF((VLOOKUP($A195,masterlist!$C$2:$K$200,9,FALSE))=0,\"\",VLOOKUP($A195,masterlist!$C$2:$K$200,9,FALSE)),\"\")","v":""}]
[{"$f":"IF(ROWS($A$6:A196)<=$A$1,INDEX(masterlist!$C$2:$C$200,SMALL(IF(masterlist!$F$2:$F$200>0,IF(masterlist!$J$2:$J$200=0,ROW(masterlist!$B$2:$B$200)-ROW(masterlist!$B$2)+1)),ROWS($A$6:A196))),\"\")","v":""},{"$f":"IFERROR(VLOOKUP($A196,masterlist!$C$2:$K$200,3,FALSE),\"\")","v":""},"",{"$f":"IFERROR(VLOOKUP($A196,masterlist!$C$2:$K$200,5,FALSE),\"\")","v":""},{"$f":"IFERROR(IF((VLOOKUP($A196,masterlist!$C$2:$K$200,9,FALSE))=0,\"\",VLOOKUP($A196,masterlist!$C$2:$K$200,9,FALSE)),\"\")","v":""}]
[{"$f":"IF(ROWS($A$6:A197)<=$A$1,INDEX(masterlist!$C$2:$C$200,SMALL(IF(masterlist!$F$2:$F$200>0,IF(masterlist!$J$2:$J$200=0,ROW(masterlist!$B$2:$B$200)-ROW(masterlist!$B$2)+1)),ROWS($A$6:A197))),\"\")","v":""},{"$f":"IFERROR(VLOOKUP($A197,masterlist!$C$2:$K$200,3,FALSE),\"\")","v":""},"",{"$f":"IFERROR(VLOOKUP($A197,masterlist!$C$2:$K$200,5,FALSE),\"\")","v":""},{"$f":"IFERROR(IF((VLOOKUP($A197,masterlist!$C$2:$K$200,9,FALSE))=0,\"\",VLOOKUP($A197,masterlist!$C$2:$K$200,9,FALSE)),\"\")","v":""}]
[{"$f":"IF(ROWS($A$6:A198)<=$A$1,INDEX(masterlist!$C$2:$C$200,SMALL(IF(masterlist!$F$2:$F$200>0,IF(masterlist!$J$2:$J$200=0,ROW(masterlist!$B$2:$B$200)-ROW(masterlist!$B$2)+1)),ROWS($A$6:A198))),\"\")","v":""},{"$f":"IFERROR(VLOOKUP($A198,masterlist!$C$2:$K$200,3,FALSE),\"\")","v":""},"",{"$f":"IFERROR(VLOOKUP($A198,masterlist!$C$2:$K$200,5,FALSE),\"\")","v":""},{"$f":"IFERROR(IF((VLOOKUP($A198,masterlist!$C$2:$K$200,9,FALSE))=0,\"\",VLOOKUP($A198,masterlist!$C$2:$K$200,9,FALSE)),\"\")","v":""}]

{"sheet":"Prioritisation","index":17,"n_rows":6,"n_cols":5,"rows_kept":6,"cut":false,"hidden":true,"merged":[[5,3,5,4],[0,0,0,2],[0,3,1,3],[0,4,1,4],[1,0,1,2]]}
["Stepwise Approach towards Rabies Elimination",null,null,{"$f":"IF(ISBLANK('Country profile'!E3),\"\",UPPER('Country profile'!E3))","v":"SWAZILAND"},{"$f":"IF(ISBLANK('Country profile'!K8),IF(ISBLANK('Country profile'!K13),\"\",'Country profile'!K13),'Country profile'!K8)","v":2018}]
["PRIORITISATION OF RABIES PROGRAM ACTIVITIES"]
[]
[]
[]
["STAGE","COMPONENT","ACTIVITY","NOTES"]

{"sheet":"masterlist","index":18,"n_rows":200,"n_cols":29,"rows_kept":200,"cut":false,"hidden":true,"merged":[]}
["COUNT","COMPONENT","ID","SUBCOMPONENT","STAGE","NUMBER","ACTIVITY","OTHER INFO","KEY","COUNTRY STATUS","COUNTRY NOTES","LINKS 1","Links 1 address","LINKS 2","Links 2 address","LINKS 3","Links 3 address","LINKS 4","Links 4 address","LINKS 5","Links 5 address","OBJECTIVES","OUTCOMES","RESPONSIBLE AUTHORITY","YEAR OF COMPLETION","DELIVERABLES","countryOBJECTIVES","countryAUTHORITY","countryYEARCOMPLETION"]
[1,"DCA",{"$f":"B2&\"-\"&LEFT(D2,3)&\"-\"&E2&\"-\"&F2","v":"DCA-Sur-0-1"},"Surveillance",0,1,"Does the national authority report at least one confirmed rabies case to the WHO, OIE or PARACON?","Year of last reported rabies case","KEY",{"$f":"IFERROR(INDEX('Data coll & an'!$F$5:$F$50,MATCH($C2,'Data coll & an'!$A$5:$A$50,0)),IFERROR(INDEX('Prev & Ctrl'!$F$5:$F$50,MATCH($C2,'Prev & Ctrl'!$A$5:$A$50,0)),IFERROR(INDEX('Lab dx'!$F$5:$F$50,MATCH($C2,'Lab dx'!$A$5:$A$50,0)),IFERROR(INDEX('Dog popn'!$F$5:$F$50,MATCH($C2,'Dog popn'!$A$5:$A$50,0)),IFERROR(INDEX(IEC!$F$5:$F$50,MATCH($C2,IEC!$A$5:$A$50,0)),IFERROR(INDEX('Cross-cutting issues'!$F$5:$F$50,MATCH($C2,'Cross-cutting issues'!$A$5:$A$50,0)),IFERROR(INDEX(Legislation!$F$5:$F$50,MATCH($C2,Legislation!$A$5:$A$50,0)),\"\")))))))","v":1},{"$f":"IFERROR(INDEX('Data coll & an'!$G$5:$G$50,MATCH($C2,'Data coll & an'!$A$5:$A$50,0)),IFERROR(INDEX('Prev & Ctrl'!$G$5:$G$50,MATCH($C2,'Prev & Ctrl'!$A$5:$A$50,0)),IFERROR(INDEX('Lab dx'!$G$5:$G$50,MATCH($C2,'Lab dx'!$A$5:$A$50,0)),IFERROR(INDEX('Dog popn'!$G$5:$G$50,MATCH($C2,'Dog popn'!$A$5:$A$50,0)),IFERROR(INDEX(IEC!$G$5:$G$50,MATCH($C2,IEC!$A$5:$A$50,0)),IFERROR(INDEX('Cross-cutting issues'!$G$5:$G$50,MATCH($C2,'Cross-cutting issues'!$A$5:$A$50,0)),IFERROR(INDEX(Legislation!$G$5:$G$50,MATCH($C2,Legislation!$A$5:$A$50,0)),\"\")))))))","v":0},"WHO Collaborating Centres and OIE Reference Laboratories","http://rabiessurveillanceblueprint.org/WHO-Collaborating-Centres-for",null,null,null,null,null,null,null,null,"Review international databases for rabies to see whether rabies has ever been reported;\nIdentify professionals responsible for reporting (human and animal health sectors);\nDetermine whether any suspect cases have been identified in the country (in the case of no laboratory diagnosis);\nHave responsible person submit report of all suspected / confirmed rabies case (human or animal) in the country;","Suspected and confirmed rabies cases reported and visible on one international database (e.g. OIE WAHIS);","OIE nominated representative; WHO focal person; Rabies focal person",1,"Number of reported cases visible on international database;",{"$f":"IFERROR(VLOOKUP($C2,INDIRECT(\"DCA!a13:j49\"),6,FALSE),IFERROR(VLOOKUP($C2,INDIRECT(\"pco!a13:j49\"),6,FALSE),IFERROR(VLOOKUP($C2,INDIRECT(\"lab!a13:j49\"),6,FALSE),IFERROR(VLOOKUP($C2,INDIRECT(\"dpm!a13:j49\"),6,FALSE),IFERROR(VLOOKUP($C2,INDIRECT(\"iecnw!a13:j49\"),6,FALSE),IFERROR(VLOOKUP($C2,INDIRECT(\"cci!a13:j49\"),6,FALSE),IFERROR(VLOOKUP($C2,INDIRECT(\"leg!a13:j49\"),6,FALSE),\"\")))))))","v":""},{"$f":"IFERROR(VLOOKUP($C2,INDIRECT(\"DCA!a13:j49\"),8,FALSE),IFERROR(VLOOKUP($C2,INDIRECT(\"pco!a13:j49\"),8,FALSE),IFERROR(VLOOKUP($C2,INDIRECT(\"lab!a13:j49\"),8,FALSE),IFERROR(VLOOKUP($C2,INDIRECT(\"dpm!a13:j49\"),8,FALSE),IFERROR(VLOOKUP($C2,INDIRECT(\"iecnw!a13:j49\"),8,FALSE),IFERROR(VLOOKUP($C2,INDIRECT(\"cci!a13:j49\"),8,FALSE),IFERROR(VLOOKUP($C2,INDIRECT(\"leg!a13:j49\"),8,FALSE),\"\")))))))","v":""},{"$f":"IFERROR(VLOOKUP($C2,INDIRECT(\"DCA!a13:j49\"),9,FALSE),IFERROR(VLOOKUP($C2,INDIRECT(\"pco!a13:j49\"),9,FALSE),IFERROR(VLOOKUP($C2,INDIRECT(\"lab!a13:j49\"),9,FALSE),IFERROR(VLOOKUP($C2,INDIRECT(\"dpm!a13:j49\"),9,FALSE),IFERROR(VLOOKUP($C2,INDIRECT(\"iecnw!a13:j49\"),9,FALSE),IFERROR(VLOOKUP($C2,INDIRECT(\"cci!a13:j49\"),9,FALSE),IFERROR(VLOOKUP($C2,INDIRECT(\"leg!a13:j49\"),9,FALSE),\"\")))))))","v":""}]
[2,"DCA","DCA-Sur-0-2","Surveillance",0,2,"Have there been reports on rabies in the country? ","e.g. media, newspaper, Twitter, Facebook, etc.",null,{"$f":"IFERROR(INDEX('Data coll & an'!$F$5:$F$50,MATCH($C3,'Data coll & an'!$A$5:$A$50,0)),IFERROR(INDEX('Prev & Ctrl'!$F$5:$F$50,MATCH($C3,'Prev & Ctrl'!$A$5:$A$50,0)),IFERROR(INDEX('Lab dx'!$F$5:$F$50,MATCH($C3,'Lab dx'!$A$5:$A$50,0)),IFERROR(INDEX('Dog popn'!$F$5:$F$50,MATCH($C3,'Dog popn'!$A$5:$A$50,0)),IFERROR(INDEX(IEC!$F$5:$F$50,MATCH($C3,IEC!$A$5:$A$50,0)),IFERROR(INDEX('Cross-cutting issues'!$F$5:$F$50,MATCH($C3,'Cross-cutting issues'!$A$5:$A$50,0)),IFERROR(INDEX(Legislation!$F$5:$F$50,MATCH($C3,Legislation!$A$5:$A$50,0)),\"\")))))))","v":1},{"$f":"IFERROR(INDEX('Data coll & an'!$G$5:$G$50,MATCH($C3,'Data coll & an'!$A$5:$A$50,0)),IFERROR(INDEX('Prev & Ctrl'!$G$5:$G$50,MATCH($C3,'Prev & Ctrl'!$A$5:$A$50,0)),IFERROR(INDEX('Lab dx'!$G$5:$G$50,MATCH($C3,'Lab dx'!$A$5:$A$50,0)),IFERROR(INDEX('Dog popn'!$G$5:$G$50,MATCH($C3,'Dog popn'!$A$5:$A$50,0)),IFERROR(INDEX(IEC!$G$5:$G$50,MATCH($C3,IEC!$A$5:$A$50,0)),IFERROR(INDEX('Cross-cutting issues'!$G$5:$G$50,MATCH($C3,'Cross-cutting issues'!$A$5:$A$50,0)),IFERROR(INDEX(Legislation!$G$5:$G$50,MATCH($C3,Legislation!$A$5:$A$50,0)),\"\")))))))","v":0},null,null,null,null,null,null,null,null,null,null,"Review media releases regarding potential rabies cases;\nReview scientific literature regarding rabies in the country;\nReview international databases for rabies to see whether rabies has ever been reported;\n","Compilation of all recently reported rabies cases from all sources","Ministry of Agriculture (Animal cases); Ministry of Health (human cases)",1,"Numer of databases reviewed;\nNumber of literature reviewed;\nNumber of reports on rabies identified;",{"$f":"IFERROR(VLOOKUP($C3,INDIRECT(\"DCA!a13:j49\"),6,FALSE),IFERROR(VLOOKUP($C3,INDIRECT(\"pco!a13:j49\"),6,FALSE),IFERROR(VLOOKUP($C3,INDIRECT(\"lab!a13:j49\"),6,FALSE),IFERROR(VLOOKUP($C3,INDIRECT(\"dpm!a13:j49\"),6,FALSE),IFERROR(VLOOKUP($C3,INDIRECT(\"iecnw!a13:j49\"),6,FALSE),IFERROR(VLOOKUP($C3,INDIRECT(\"cci!a13:j49\"),6,FALSE),IFERROR(VLOOKUP($C3,INDIRECT(\"leg!a13:j49\"),6,FALSE),\"\")))))))","v":""},{"$f":"IFERROR(VLOOKUP($C3,INDIRECT(\"DCA!a13:j49\"),8,FALSE),IFERROR(VLOOKUP($C3,INDIRECT(\"pco!a13:j49\"),8,FALSE),IFERROR(VLOOKUP($C3,INDIRECT(\"lab!a13:j49\"),8,FALSE),IFERROR(VLOOKUP($C3,INDIRECT(\"dpm!a13:j49\"),8,FALSE),IFERROR(VLOOKUP($C3,INDIRECT(\"iecnw!a13:j49\"),8,FALSE),IFERROR(VLOOKUP($C3,INDIRECT(\"cci!a13:j49\"),8,FALSE),IFERROR(VLOOKUP($C3,INDIRECT(\"leg!a13:j49\"),8,FALSE),\"\")))))))","v":""},{"$f":"IFERROR(VLOOKUP($C3,INDIRECT(\"DCA!a13:j49\"),9,FALSE),IFERROR(VLOOKUP($C3,INDIRECT(\"pco!a13:j49\"),9,FALSE),IFERROR(VLOOKUP($C3,INDIRECT(\"lab!a13:j49\"),9,FALSE),IFERROR(VLOOKUP($C3,INDIRECT(\"dpm!a13:j49\"),9,FALSE),IFERROR(VLOOKUP($C3,INDIRECT(\"iecnw!a13:j49\"),9,FALSE),IFERROR(VLOOKUP($C3,INDIRECT(\"cci!a13:j49\"),9,FALSE),IFERROR(VLOOKUP($C3,INDIRECT(\"leg!a13:j49\"),9,FALSE),\"\")))))))","v":""}]
[3,"DCA","DCA-Sur-1-3","Surveillance",1,3,"Are dog rabies cases reported from a local to the national level? "," ","KEY",{"$f":"IFERROR(INDEX('Data coll & an'!$F$5:$F$50,MATCH($C4,'Data coll & an'!$A$5:$A$50,0)),IFERROR(INDEX('Prev & Ctrl'!$F$5:$F$50,MATCH($C4,'Prev & Ctrl'!$A$5:$A$50,0)),IFERROR(INDEX('Lab dx'!$F$5:$F$50,MATCH($C4,'Lab dx'!$A$5:$A$50,0)),IFERROR(INDEX('Dog popn'!$F$5:$F$50,MATCH($C4,'Dog popn'!$A$5:$A$50,0)),IFERROR(INDEX(IEC!$F$5:$F$50,MATCH($C4,IEC!$A$5:$A$50,0)),IFERROR(INDEX('Cross-cutting issues'!$F$5:$F$50,MATCH($C4,'Cross-cutting issues'!$A$5:$A$50,0)),IFERROR(INDEX(Legislation!$F$5:$F$50,MATCH($C4,Legislation!$A$5:$A$50,0)),\"\")))))))","v":1},{"$f":"IFERROR(INDEX('Data coll & an'!$G$5:$G$50,MATCH($C4,'Data coll & an'!$A$5:$A$50,0)),IFERROR(INDEX('Prev & Ctrl'!$G$5:$G$50,MATCH($C4,'Prev & Ctrl'!$A$5:$A$50,0)),IFERROR(INDEX('Lab dx'!$G$5:$G$50,MATCH($C4,'Lab dx'!$A$5:$A$50,0)),IFERROR(INDEX('Dog popn'!$G$5:$G$50,MATCH($C4,'Dog popn'!$A$5:$A$50,0)),IFERROR(INDEX(IEC!$G$5:$G$50,MATCH($C4,IEC!$A$5:$A$50,0)),IFERROR(INDEX('Cross-cutting issues'!$G$5:$G$50,MATCH($C4,'Cross-cutting issues'!$A$5:$A$50,0)),IFERROR(INDEX(Legislation!$G$5:$G$50,MATCH($C4,Legislation!$A$5:$A$50,0)),\"\")))))))","v":0},"3.1.3-Infrastructure-surveillance","http://caninerabiesblueprint.org/3-1-3-What-personnel-and?lang=en","Challenges of animal health information systems and surveillance for animal diseases and zoonoses ","http://www.fao.org/3/a-i2415e.pdf","Zoonotic diseases : a guide to establishing collaboration","http://caninerabiesblueprint.org/Zoonotic-diseases-a-guide-to"," 6. Reporting of rabies data","http://rabiessurveillanceblueprint.org/-Reporting-dissemination-and-",null,null,"Communicate with rabies focal persons and laboratories to determine whether any suspect or confirmed cases have been identified;\nDetermine whether the relevant personnel are reporting any of these cases to a higher level;\nIf so, determine the contact to whom the data is being reported;\nCommunicate with contact to determine where the reported data is stored/ located;","Database of dog rabies cases stored and regularly updated at national level","Ministry of Agriculture",1,"Number of dog rabies cases reported from local to national level;","","",""]
[4,"DCA","DCA-Sur-1-4","Surveillance",1,4,"Are human rabies cases reported from a local to the national level? "," ","KEY",{"$f":"IFERROR(INDEX('Data coll & an'!$F$5:$F$50,MATCH($C5,'Data coll & an'!$A$5:$A$50,0)),IFERROR(INDEX('Prev & Ctrl'!$F$5:$F$50,MATCH($C5,'Prev & Ctrl'!$A$5:$A$50,0)),IFERROR(INDEX('Lab dx'!$F$5:$F$50,MATCH($C5,'Lab dx'!$A$5:$A$50,0)),IFERROR(INDEX('Dog popn'!$F$5:$F$50,MATCH($C5,'Dog popn'!$A$5:$A$50,0)),IFERROR(INDEX(IEC!$F$5:$F$50,MATCH($C5,IEC!$A$5:$A$50,0)),IFERROR(INDEX('Cross-cutting issues'!$F$5:$F$50,MATCH($C5,'Cross-cutting issues'!$A$5:$A$50,0)),IFERROR(INDEX(Legislation!$F$5:$F$50,MATCH($C5,Legislation!$A$5:$A$50,0)),\"\")))))))","v":1},{"$f":"IFERROR(INDEX('Data coll & an'!$G$5:$G$50,MATCH($C5,'Data coll & an'!$A$5:$A$50,0)),IFERROR(INDEX('Prev & Ctrl'!$G$5:$G$50,MATCH($C5,'Prev & Ctrl'!$A$5:$A$50,0)),IFERROR(INDEX('Lab dx'!$G$5:$G$50,MATCH($C5,'Lab dx'!$A$5:$A$50,0)),IFERROR(INDEX('Dog popn'!$G$5:$G$50,MATCH($C5,'Dog popn'!$A$5:$A$50,0)),IFERROR(INDEX(IEC!$G$5:$G$50,MATCH($C5,IEC!$A$5:$A$50,0)),IFERROR(INDEX('Cross-cutting issues'!$G$5:$G$50,MATCH($C5,'Cross-cutting issues'!$A$5:$A$50,0)),IFERROR(INDEX(Legislation!$G$5:$G$50,MATCH($C5,Legislation!$A$5:$A$50,0)),\"\")))))))","v":0},"3.1.3-Infrastructure-surveillance","http://caninerabiesblueprint.org/3-1-3-What-personnel-and?lang=en","Challenges of animal health information systems and surveillance for animal diseases and zoonoses ","http://www.fao.org/3/a-i2415e.pdf","Zoonotic diseases : a guide to establishing collaboration","http://caninerabiesblueprint.org/Zoonotic-diseases-a-guide-to"," 6. Reporting of rabies data","http://rabiessurveillanceblueprint.org/-Reporting-dissemination-and-",null,null,"Communicate with rabies focal persons and laboratories to determine whether any suspect or confirmed cases have been identified;\nDetermine whether the relevant personnel are reporting any of these cases to a higher level;\nIf so, determine the contact to whom the data is being reported;\nCommunicate with contact to determine where the reported data is stored/ located;","Database of human rabies cases stored and regularly updated at national level","Ministry of Health",1,"Number of human rabies cases reported from local to national level;","","",""]
[5,"DCA","DCA-Sur-1-5","Surveillance",1,5,"Are you reporting all of the human or animal rabies cases that have been tested to a relevant international database such as WHO, OIE or PARACON?"," ",null,{"$f":"IFERROR(INDEX('Data coll & an'!$F$5:$F$50,MATCH($C6,'Data coll & an'!$A$5:$A$50,0)),IFERROR(INDEX('Prev & Ctrl'!$F$5:$F$50,MATCH($C6,'Prev & Ctrl'!$A$5:$A$50,0)),IFERROR(INDEX('Lab dx'!$F$5:$F$50,MATCH($C6,'Lab dx'!$A$5:$A$50,0)),IFERROR(INDEX('Dog popn'!$F$5:$F$50,MATCH($C6,'Dog popn'!$A$5:$A$50,0)),IFERROR(INDEX(IEC!$F$5:$F$50,MATCH($C6,IEC!$A$5:$A$50,0)),IFERROR(INDEX('Cross-cutting issues'!$F$5:$F$50,MATCH($C6,'Cross-cutting issues'!$A$5:$A$50,0)),IFERROR(INDEX(Legislation!$F$5:$F$50,MATCH($C6,Legislation!$A$5:$A$50,0)),\"\")))))))","v":1},{"$f":"IFERROR(INDEX('Data coll & an'!$G$5:$G$50,MATCH($C6,'Data coll & an'!$A$5:$A$50,0)),IFERROR(INDEX('Prev & Ctrl'!$G$5:$G$50,MATCH($C6,'Prev & Ctrl'!$A$5:$A$50,0)),IFERROR(INDEX('Lab dx'!$G$5:$G$50,MATCH($C6,'Lab dx'!$A$5:$A$50,0)),IFERROR(INDEX('Dog popn'!$G$5:$G$50,MATCH($C6,'Dog popn'!$A$5:$A$50,0)),IFERROR(INDEX(IEC!$G$5:$G$50,MATCH($C6,IEC!$A$5:$A$50,0)),IFERROR(INDEX('Cross-cutting issues'!$G$5:$G$50,MATCH($C6,'Cross-cutting issues'!$A$5:$A$50,0)),IFERROR(INDEX(Legislation!$G$5:$G$50,MATCH($C6,Legislation!$A$5:$A$50,0)),\"\")))))))","v":0},"6.7 International databases","http://rabiessurveillanceblueprint.org/6-7-What-international-rabies?lang=en",null,null,null,null,null,null,null,null,"Identify professionals responsible for reporting to international organisations (human and animal health sectors);\nDirect the responsible persons to the database where reported cases are stored at a national level;\nHave responsible person submit report of all suspected / confirmed rabies case (human or animal) in the country to the relevant international database;","All human and animal rabies cases reported to the national level are reflected on an international database ","Ministry of Health and Ministry of Agriculture",1,"Number of rabies cases detected;\nNumber of rabies cases tested;\nNumber of rabies cases reported to international organisation;","","",""]
[6,"DCA","DCA-Sur-1-6","Surveillance",1,6,"Is there capacity to analyze dog rabies data at the national level? ","For example, data analysis infrastructure in place for other diseases/programmes, adequately trained staff, sufficient technology, etc. ",null,{"$f":"IFERROR(INDEX('Data coll & an'!$F$5:$F$50,MATCH($C7,'Data coll & an'!$A$5:$A$50,0)),IFERROR(INDEX('Prev & Ctrl'!$F$5:$F$50,MATCH($C7,'Prev & Ctrl'!$A$5:$A$50,0)),IFERROR(INDEX('Lab dx'!$F$5:$F$50,MATCH($C7,'Lab dx'!$A$5:$A$50,0)),IFERROR(INDEX('Dog popn'!$F$5:$F$50,MATCH($C7,'Dog popn'!$A$5:$A$50,0)),IFERROR(INDEX(IEC!$F$5:$F$50,MATCH($C7,IEC!$A$5:$A$50,0)),IFERROR(INDEX('Cross-cutting issues'!$F$5:$F$50,MATCH($C7,'Cross-cutting issues'!$A$5:$A$50,0)),IFERROR(INDEX(Legislation!$F$5:$F$50,MATCH($C7,Legislation!$A$5:$A$50,0)),\"\")))))))","v":1},{"$f":"IFERROR(INDEX('Data coll & an'!$G$5:$G$50,MATCH($C7,'Data coll & an'!$A$5:$A$50,0)),IFERROR(INDEX('Prev & Ctrl'!$G$5:$G$50,MATCH($C7,'Prev & Ctrl'!$A$5:$A$50,0)),IFERROR(INDEX('Lab dx'!$G$5:$G$50,MATCH($C7,'Lab dx'!$A$5:$A$50,0)),IFERROR(INDEX('Dog popn'!$G$5:$G$50,MATCH($C7,'Dog popn'!$A$5:$A$50,0)),IFERROR(INDEX(IEC!$G$5:$G$50,MATCH($C7,IEC!$A$5:$A$50,0)),IFERROR(INDEX('Cross-cutting issues'!$G$5:$G$50,MATCH($C7,'Cross-cutting issues'!$A$5:$A$50,0)),IFERROR(INDEX(Legislation!$G$5:$G$50,MATCH($C7,Legislation!$A$5:$A$50,0)),\"\")))))))","v":0},"3.1.3-Infrastructure-surveillance","http://caninerabiesblueprint.org/3-1-3-What-personnel-and?lang=en","Challenges of animal health information systems and surveillance for animal diseases and zoonoses ","http://www.fao.org/3/a-i2415e.pdf","2.3 Animal rabies surveillance","http://rabiessurveillanceblueprint.org/-2-3-Animal-rabies-surveillance-",null,null,null,null,"Identify relevant professionals responsible for epidemiological analysis;\nAssess available equipment, personnel and resources required for rabies data analysis;\nDetermine whether capacity for other diseases can be used for rabies analysis;\n ","Facilities assessment for computers and software. Staff competency for data analysis at national level determined.","Ministry of Agriculture; Disease Epidemiology",1,"Number of professionals capable of analysing dog rabies data;\nNumber of facilities capable of analysing dog rabies data;\nReport on availability of resources (equipmennt, funding);","","",""]
[7,"DCA","DCA-Sur-1-7","Surveillance",1,7,"Is there capacity to analyze human rabies data at the national level? ","For example, data analysis infrastructure in place for other diseases/programmes, adequately trained staff, sufficient technology, etc.",null,{"$f":"IFERROR(INDEX('Data coll & an'!$F$5:$F$50,MATCH($C8,'Data coll & an'!$A$5:$A$50,0)),IFERROR(INDEX('Prev & Ctrl'!$F$5:$F$50,MATCH($C8,'Prev & Ctrl'!$A$5:$A$50,0)),IFERROR(INDEX('Lab dx'!$F$5:$F$50,MATCH($C8,'Lab dx'!$A$5:$A$50,0)),IFERROR(INDEX('Dog popn'!$F$5:$F$50,MATCH($C8,'Dog popn'!$A$5:$A$50,0)),IFERROR(INDEX(IEC!$F$5:$F$50,MATCH($C8,IEC!$A$5:$A$50,0)),IFERROR(INDEX('Cross-cutting issues'!$F$5:$F$50,MATCH($C8,'Cross-cutting issues'!$A$5:$A$50,0)),IFERROR(INDEX(Legislation!$F$5:$F$50,MATCH($C8,Legislation!$A$5:$A$50,0)),\"\")))))))","v":1},{"$f":"IFERROR(INDEX('Data coll & an'!$G$5:$G$50,MATCH($C8,'Data coll & an'!$A$5:$A$50,0)),IFERROR(INDEX('Prev & Ctrl'!$G$5:$G$50,MATCH($C8,'Prev & Ctrl'!$A$5:$A$50,0)),IFERROR(INDEX('Lab dx'!$G$5:$G$50,MATCH($C8,'Lab dx'!$A$5:$A$50,0)),IFERROR(INDEX('Dog popn'!$G$5:$G$50,MATCH($C8,'Dog popn'!$A$5:$A$50,0)),IFERROR(INDEX(IEC!$G$5:$G$50,MATCH($C8,IEC!$A$5:$A$50,0)),IFERROR(INDEX('Cross-cutting issues'!$G$5:$G$50,MATCH($C8,'Cross-cutting issues'!$A$5:$A$50,0)),IFERROR(INDEX(Legislation!$G$5:$G$50,MATCH($C8,Legislation!$A$5:$A$50,0)),\"\")))))))","v":0},"3.1.3-Infrastructure-surveillance","http://caninerabiesblueprint.org/3-1-3-What-personnel-and?lang=en","Challenges of animal health information systems and surveillance for animal diseases and zoonoses ","http://www.fao.org/3/a-i2415e.pdf","2.2 Human rabies surveillance","http://rabiessurveillanceblueprint.org/-2-2-Human-rabies-surveillance-",null,null,null,null,"Identify relevant professionals responsible for epidemiological analysis;\nAssess available equipment, personnel and resources required for rabies data analysis;\nDetermine whether capacity for other diseases can be used for rabies analysis;\n ","Facilities assessment for computers and software. Staff competency for data analysis at national level determined.","Ministry of Health; Disease Epidemiology",1,"Number of professionals capable of analysing dog rabies data;\nNumber of facilities capable of analysing dog rabies data;\nReport on availability of resources (equipmennt, funding);","","",""]
[8,"DCA","DCA-Sur-1-8","Surveillance",1,8,"Has an animal rabies surveillance* system been established at the national level?"," ",null,{"$f":"IFERROR(INDEX('Data coll & an'!$F$5:$F$50,MATCH($C9,'Data coll & an'!$A$5:$A$50,0)),IFERROR(INDEX('Prev & Ctrl'!$F$5:$F$50,MATCH($C9,'Prev & Ctrl'!$A$5:$A$50,0)),IFERROR(INDEX('Lab dx'!$F$5:$F$50,MATCH($C9,'Lab dx'!$A$5:$A$50,0)),IFERROR(INDEX('Dog popn'!$F$5:$F$50,MATCH($C9,'Dog popn'!$A$5:$A$50,0)),IFERROR(INDEX(IEC!$F$5:$F$50,MATCH($C9,IEC!$A$5:$A$50,0)),IFERROR(INDEX('Cross-cutting issues'!$F$5:$F$50,MATCH($C9,'Cross-cutting issues'!$A$5:$A$50,0)),IFERROR(INDEX(Legislation!$F$5:$F$50,MATCH($C9,Legislation!$A$5:$A$50,0)),\"\")))))))","v":1},{"$f":"IFERROR(INDEX('Data coll & an'!$G$5:$G$50,MATCH($C9,'Data coll & an'!$A$5:$A$50,0)),IFERROR(INDEX('Prev & Ctrl'!$G$5:$G$50,MATCH($C9,'Prev & Ctrl'!$A$5:$A$50,0)),IFERROR(INDEX('Lab dx'!$G$5:$G$50,MATCH($C9,'Lab dx'!$A$5:$A$50,0)),IFERROR(INDEX('Dog popn'!$G$5:$G$50,MATCH($C9,'Dog popn'!$A$5:$A$50,0)),IFERROR(INDEX(IEC!$G$5:$G$50,MATCH($C9,IEC!$A$5:$A$50,0)),IFERROR(INDEX('Cross-cutting issues'!$G$5:$G$50,MATCH($C9,'Cross-cutting issues'!$A$5:$A$50,0)),IFERROR(INDEX(Legislation!$G$5:$G$50,MATCH($C9,Legislation!$A$5:$A$50,0)),\"\")))))))","v":0},"3.1.3-Infrastructure-surveillance","http://caninerabiesblueprint.org/3-1-3-What-personnel-and?lang=en","Challenges of animal health information systems and surveillance for animal diseases and zoonoses ","http://www.fao.org/3/a-i2415e.pdf","Zoonotic diseases : a guide to establishing collaboration","http://caninerabiesblueprint.org/Zoonotic-diseases-a-guide-to","2.3 Animal rabies surveillance","http://rabiessurveillanceblueprint.org/-2-3-Animal-rabies-surveillance-",null,null,"Investigate whether established systems for other diseases can be adapted and used for rabies;\nDetermine how rabies data is currently reported to the national level;\nDetermine what rabies data should ideally be collected on the surveillance system;\nDetermine personnel responsible for reporting and analysing data;\nDetermine what analysis is required on the reported rabies data;\nIdentify feedback mechanisms for data flow from national down to local level;\nDo needs assessment based on findings regarding the current surveillance system;\nDevelop a workplan for the roll-out and implementation of the surveillance system;\nCreate a budget to advocate for funding for the surveillance system (if applicable);\nEstablish a functional rabies surveillance system;","Database created/implemented for reported data.","Ministry of Agriculture ",2,"Report on what rabies data should be collected and what analysis is required;\nReport on means of data flow (local to national and national to local);\nNeeds assessment on current surveillance;\nWorkplan on roll-out of surveillance system;\nBudget;\nNumber of cases reported;","","",""]
[9,"DCA","DCA-Sur-1-9","Surveillance",1,9,"Has a human rabies surveillance* system been established at the national level?"," ",null,{"$f":"IFERROR(INDEX('Data coll & an'!$F$5:$F$50,MATCH($C10,'Data coll & an'!$A$5:$A$50,0)),IFERROR(INDEX('Prev & Ctrl'!$F$5:$F$50,MATCH($C10,'Prev & Ctrl'!$A$5:$A$50,0)),IFERROR(INDEX('Lab dx'!$F$5:$F$50,MATCH($C10,'Lab dx'!$A$5:$A$50,0)),IFERROR(INDEX('Dog popn'!$F$5:$F$50,MATCH($C10,'Dog popn'!$A$5:$A$50,0)),IFERROR(INDEX(IEC!$F$5:$F$50,MATCH($C10,IEC!$A$5:$A$50,0)),IFERROR(INDEX('Cross-cutting issues'!$F$5:$F$50,MATCH($C10,'Cross-cutting issues'!$A$5:$A$50,0)),IFERROR(INDEX(Legislation!$F$5:$F$50,MATCH($C10,Legislation!$A$5:$A$50,0)),\"\")))))))","v":1},{"$f":"IFERROR(INDEX('Data coll & an'!$G$5:$G$50,MATCH($C10,'Data coll & an'!$A$5:$A$50,0)),IFERROR(INDEX('Prev & Ctrl'!$G$5:$G$50,MATCH($C10,'Prev & Ctrl'!$A$5:$A$50,0)),IFERROR(INDEX('Lab dx'!$G$5:$G$50,MATCH($C10,'Lab dx'!$A$5:$A$50,0)),IFERROR(INDEX('Dog popn'!$G$5:$G$50,MATCH($C10,'Dog popn'!$A$5:$A$50,0)),IFERROR(INDEX(IEC!$G$5:$G$50,MATCH($C10,IEC!$A$5:$A$50,0)),IFERROR(INDEX('Cross-cutting issues'!$G$5:$G$50,MATCH($C10,'Cross-cutting issues'!$A$5:$A$50,0)),IFERROR(INDEX(Legislation!$G$5:$G$50,MATCH($C10,Legislation!$A$5:$A$50,0)),\"\")))))))","v":0},"3.1.3-Infrastructure-surveillance","http://caninerabiesblueprint.org/3-1-3-What-personnel-and?lang=en","Challenges of animal health information systems and surveillance for animal diseases and zoonoses ","http://www.fao.org/3/a-i2415e.pdf","Zoonotic diseases : a guide to establishing collaboration","http://caninerabiesblueprint.org/Zoonotic-diseases-a-guide-to","2.2 Human rabies surveillance ","http://rabiessurveillanceblueprint.org/-2-2-Human-rabies-surveillance-",null,null,"Investigate whether established systems for other diseases can be adapted and used for rabies;\nDetermine how rabies data is currently reported to the national level;\nDetermine what rabies data should ideally be collected on the surveillance system;\nDetermine personnel responsible for reporting and analysing data;\nDetermine what analysis is required on the reported rabies data;\nIdentify feedback mechanisms for data flow from national down to local level;\nDo needs assessment based on findings regarding the current surveillance system;\nDevelop a workplan for the roll-out and implementation of the surveillance system;\nCreate a budget to advocate for funding for the surveillance system (if applicable);\nEstablish a functional rabies surveillance system;","Database created/implemented for reported data.","Ministry of Health ",2,"Report on what rabies data should be collected and what analysis is required;\nReport on means of data flow (local to national and national to local);\nNeeds assessment on current surveillance;\nWorkplan on roll-out of surveillance system;\nBudget;\nNumber of cases reported;","","",""]
[10,"DCA","DCA-Sur-1-10","Surveillance",1,10,"Are human bite case data collected and used for decision-making?"," ",null,{"$f":"IFERROR(INDEX('Data coll & an'!$F$5:$F$50,MATCH($C11,'Data coll & an'!$A$5:$A$50,0)),IFERROR(INDEX('Prev & Ctrl'!$F$5:$F$50,MATCH($C11,'Prev & Ctrl'!$A$5:$A$50,0)),IFERROR(INDEX('Lab dx'!$F$5:$F$50,MATCH($C11,'Lab dx'!$A$5:$A$50,0)),IFERROR(INDEX('Dog popn'!$F$5:$F$50,MATCH($C11,'Dog popn'!$A$5:$A$50,0)),IFERROR(INDEX(IEC!$F$5:$F$50,MATCH($C11,IEC!$A$5:$A$50,0)),IFERROR(INDEX('Cross-cutting issues'!$F$5:$F$50,MATCH($C11,'Cross-cutting issues'!$A$5:$A$50,0)),IFERROR(INDEX(Legislation!$F$5:$F$50,MATCH($C11,Legislation!$A$5:$A$50,0)),\"\")))))))","v":1},{"$f":"IFERROR(INDEX('Data coll & an'!$G$5:$G$50,MATCH($C11,'Data coll & an'!$A$5:$A$50,0)),IFERROR(INDEX('Prev & Ctrl'!$G$5:$G$50,MATCH($C11,'Prev & Ctrl'!$A$5:$A$50,0)),IFERROR(INDEX('Lab dx'!$G$5:$G$50,MATCH($C11,'Lab dx'!$A$5:$A$50,0)),IFERROR(INDEX('Dog popn'!$G$5:$G$50,MATCH($C11,'Dog popn'!$A$5:$A$50,0)),IFERROR(INDEX(IEC!$G$5:$G$50,MATCH($C11,IEC!$A$5:$A$50,0)),IFERROR(INDEX('Cross-cutting issues'!$G$5:$G$50,MATCH($C11,'Cross-cutting issues'!$A$5:$A$50,0)),IFERROR(INDEX(Legislation!$G$5:$G$50,MATCH($C11,Legislation!$A$5:$A$50,0)),\"\")))))))","v":0},"5.3.1-Rabies-surveillance","http://caninerabiesblueprint.org/5-3-1-Rabies-surveillance?lang=en",null,null,null,null,null,null,null,null,"Determine if human bite case data is collected;\n\nIf no bite case data are recorded:\nDevelop SOPs on recording bite cases at the local level;\nDevelop SOPs for reporting bite cases to national level;\nDo needs assessment to determine what resources are needed to record and report bite cases;\nDevelop budget and identify funding sources to drive bite case recording and reporting;\nTrain staff on the implementation of the developed SOPs;\n\nIf bite case data is recorded at local level:\nDetermine whether the human bite case data from local level is reported to national level;\nIf so, determine how the human bite case data is reported to the national level;\nDetermine who the bite case data is reported to at the national level;\nDetermine whether this data is analysed;\nDetermine the format that reports are required for decision-makers; \nEnsure that reports generated are disseminated to decision-makers;","Reports on analysed bite case data are generated with recommendations and disseminated to the relevant decision-makers","Ministry of Health",1,"Finalised SOPs;\nReport on needs assessment and budget required;\nNumber of staff trained;\nNumber of human bite cases recorded;\nNumber of human bite cases reported to decision-makers;","","",""]
[11,"DCA","DCA-Sur-1-11","Surveillance",1,11,"Have dog population studies and KAP surveys been conducted to determine size, turn-over and accessibility of dogs for vaccination on a small scale?","Mention the years in which the studies were conducted",null,{"$f":"IFERROR(INDEX('Data coll & an'!$F$5:$F$50,MATCH($C12,'Data coll & an'!$A$5:$A$50,0)),IFERROR(INDEX('Prev & Ctrl'!$F$5:$F$50,MATCH($C12,'Prev & Ctrl'!$A$5:$A$50,0)),IFERROR(INDEX('Lab dx'!$F$5:$F$50,MATCH($C12,'Lab dx'!$A$5:$A$50,0)),IFERROR(INDEX('Dog popn'!$F$5:$F$50,MATCH($C12,'Dog popn'!$A$5:$A$50,0)),IFERROR(INDEX(IEC!$F$5:$F$50,MATCH($C12,IEC!$A$5:$A$50,0)),IFERROR(INDEX('Cross-cutting issues'!$F$5:$F$50,MATCH($C12,'Cross-cutting issues'!$A$5:$A$50,0)),IFERROR(INDEX(Legislation!$F$5:$F$50,MATCH($C12,Legislation!$A$5:$A$50,0)),\"\")))))))","v":0},{"$f":"IFERROR(INDEX('Data coll & an'!$G$5:$G$50,MATCH($C12,'Data coll & an'!$A$5:$A$50,0)),IFERROR(INDEX('Prev & Ctrl'!$G$5:$G$50,MATCH($C12,'Prev & Ctrl'!$A$5:$A$50,0)),IFERROR(INDEX('Lab dx'!$G$5:$G$50,MATCH($C12,'Lab dx'!$A$5:$A$50,0)),IFERROR(INDEX('Dog popn'!$G$5:$G$50,MATCH($C12,'Dog popn'!$A$5:$A$50,0)),IFERROR(INDEX(IEC!$G$5:$G$50,MATCH($C12,IEC!$A$5:$A$50,0)),IFERROR(INDEX('Cross-cutting issues'!$G$5:$G$50,MATCH($C12,'Cross-cutting issues'!$A$5:$A$50,0)),IFERROR(INDEX(Legislation!$G$5:$G$50,MATCH($C12,Legislation!$A$5:$A$50,0)),\"\")))))))","v":0},"5.4.1-estimate the number of dogs","http://caninerabiesblueprint.org/5-4-1-What-techniques-are?lang=en",null,null,null,null,null,null,null,null,"Determine the location for a small-scale dog ecology study;\nReview available methodologies and choose the most applicable one for the chosen location;\nBudget for the study and secure required funding to undertake study;\nIdentify personnel required for the study;\nDraft SOPs required for personnel to implement study;\nTrain personnel on SOPs for the study;\nUndertake study in chosen location;\nCollect, collate and analyse dog ecology data;\nDisseminate results to relevant authorities;","Dog ecology data for a small-scale area has been collected, collated, analysed and disseminated.","Ministry of Agriculture",2,"Report on chosen small-scale site and methodologies required, including budget;\nSOPs developed for study;\nNumber of staff trained;\nFindings of dog ecology study (e.g. number of dogs);\n","Determine the location for a small-scale dog ecology study;\nReview available methodologies and choose the most applicable one for the chosen location;\nBudget for the study and secure required funding to undertake study;\nIdentify personnel required for the study;\nDraft SOPs required for personnel to implement study;\nTrain personnel on SOPs for the study;\nUndertake study in chosen location;\nCollect, collate and analyse dog ecology data;\nDisseminate results to relevant authorities;","Ministry of Agriculture",-1]
[12,"DCA","DCA-Sur-2-12","Surveillance",2,12,"Are human rabies surveillance systems, including feedback mechanisms, functioning and coordinated between administrative levels (national, province, district, municipal, etc.)? ","Timeliness (e.g. monthly or real time) of reporting and feedback, feedback mechanisms established and stakeholders involved with clear reporting channels. (Follows on from establishment of data analysis capacity above)",null,{"$f":"IFERROR(INDEX('Data coll & an'!$F$5:$F$50,MATCH($C13,'Data coll & an'!$A$5:$A$50,0)),IFERROR(INDEX('Prev & Ctrl'!$F$5:$F$50,MATCH($C13,'Prev & Ctrl'!$A$5:$A$50,0)),IFERROR(INDEX('Lab dx'!$F$5:$F$50,MATCH($C13,'Lab dx'!$A$5:$A$50,0)),IFERROR(INDEX('Dog popn'!$F$5:$F$50,MATCH($C13,'Dog popn'!$A$5:$A$50,0)),IFERROR(INDEX(IEC!$F$5:$F$50,MATCH($C13,IEC!$A$5:$A$50,0)),IFERROR(INDEX('Cross-cutting issues'!$F$5:$F$50,MATCH($C13,'Cross-cutting issues'!$A$5:$A$50,0)),IFERROR(INDEX(Legislation!$F$5:$F$50,MATCH($C13,Legislation!$A$5:$A$50,0)),\"\")))))))","v":1},{"$f":"IFERROR(INDEX('Data coll & an'!$G$5:$G$50,MATCH($C13,'Data coll & an'!$A$5:$A$50,0)),IFERROR(INDEX('Prev & Ctrl'!$G$5:$G$50,MATCH($C13,'Prev & Ctrl'!$A$5:$A$50,0)),IFERROR(INDEX('Lab dx'!$G$5:$G$50,MATCH($C13,'Lab dx'!$A$5:$A$50,0)),IFERROR(INDEX('Dog popn'!$G$5:$G$50,MATCH($C13,'Dog popn'!$A$5:$A$50,0)),IFERROR(INDEX(IEC!$G$5:$G$50,MATCH($C13,IEC!$A$5:$A$50,0)),IFERROR(INDEX('Cross-cutting issues'!$G$5:$G$50,MATCH($C13,'Cross-cutting issues'!$A$5:$A$50,0)),IFERROR(INDEX(Legislation!$G$5:$G$50,MATCH($C13,Legislation!$A$5:$A$50,0)),\"\")))))))","v":0},"5.1.1-epidemiology-of-rabies","http://caninerabiesblueprint.org/5-1-1-The-epidemiology-of-rabies?lang=en","WHO International Health Regulations","http://caninerabiesblueprint.org/WHO-International-Health",null,null,null,null,null,null,"Assess data flow and reporting from local level to national level in terms of data completeness and reporting frequency;\nAssess whether reported data is recorded and analysed at the national level; \nAssess whether the local level is provided feedback on the reported data;\nIdentify existing shortcomings in the existing surveillance network; \nCompile a report on the findings of the surveillance network assessment with recommendations;\nDevelop a budget to address the shortcomings in the surveillance network;\nIdentify relevant individuals to implement recommendations and address shortcomings highlighted in the assessment;\nAddress shortcomings to improve surveillance network; ","Functional surveillance system in place for human rabies cases, including data collection, reporting, analysis and subsequent feedback for action","Ministry of Health\nData reporting and analysis personnel",4,"Report on findings of network assessment with associated budget;\nNumber of surveillance reports received at national level;\nNumber of feedback surveillance reports received at local level;\n","","",""]
[13,"DCA","DCA-Sur-2-13","Surveillance",2,13,"Are animal rabies surveillance systems, including feedback mechanisms, functioning and coordinated between administrative levels (national, province, district, municipal, etc.)?","Timeliness (e.g. monthly or real time) of reporting and feedback, feedback mechanisms established and stakeholders involved with clear reporting channels. (Follows on from establishment of data analysis capacity above)",null,{"$f":"IFERROR(INDEX('Data coll & an'!$F$5:$F$50,MATCH($C14,'Data coll & an'!$A$5:$A$50,0)),IFERROR(INDEX('Prev & Ctrl'!$F$5:$F$50,MATCH($C14,'Prev & Ctrl'!$A$5:$A$50,0)),IFERROR(INDEX('Lab dx'!$F$5:$F$50,MATCH($C14,'Lab dx'!$A$5:$A$50,0)),IFERROR(INDEX('Dog popn'!$F$5:$F$50,MATCH($C14,'Dog popn'!$A$5:$A$50,0)),IFERROR(INDEX(IEC!$F$5:$F$50,MATCH($C14,IEC!$A$5:$A$50,0)),IFERROR(INDEX('Cross-cutting issues'!$F$5:$F$50,MATCH($C14,'Cross-cutting issues'!$A$5:$A$50,0)),IFERROR(INDEX(Legislation!$F$5:$F$50,MATCH($C14,Legislation!$A$5:$A$50,0)),\"\")))))))","v":1},{"$f":"IFERROR(INDEX('Data coll & an'!$G$5:$G$50,MATCH($C14,'Data coll & an'!$A$5:$A$50,0)),IFERROR(INDEX('Prev & Ctrl'!$G$5:$G$50,MATCH($C14,'Prev & Ctrl'!$A$5:$A$50,0)),IFERROR(INDEX('Lab dx'!$G$5:$G$50,MATCH($C14,'Lab dx'!$A$5:$A$50,0)),IFERROR(INDEX('Dog popn'!$G$5:$G$50,MATCH($C14,'Dog popn'!$A$5:$A$50,0)),IFERROR(INDEX(IEC!$G$5:$G$50,MATCH($C14,IEC!$A$5:$A$50,0)),IFERROR(INDEX('Cross-cutting issues'!$G$5:$G$50,MATCH($C14,'Cross-cutting issues'!$A$5:$A$50,0)),IFERROR(INDEX(Legislation!$G$5:$G$50,MATCH($C14,Legislation!$A$5:$A$50,0)),\"\")))))))","v":0},"5.1.1-epidemiology-of-rabies","http://caninerabiesblueprint.org/5-1-1-The-epidemiology-of-rabies?lang=en","OIE Terrestrial Animal Health Code","http://caninerabiesblueprint.org/OIE-Terrestrial-Animal-Health-Code",null,null,null,null,null,null,"Assess data flow and reporting from local level to national level in terms of data completeness and reporting frequency;\nAssess whether reported data is recorded and analysed at the national level; \nAssess whether the local level is provided feedback on the reported data;\nIdentify existing shortcomings in the existing surveillance network; \nCompile a report on the findings of the surveillance network assessment with recommendations;\nDevelop a budget to address the shortcomings in the surveillance network;\nIdentify relevant individuals to implement recommendations and address shortcomings highlighted in the assessment;\nAddress shortcomings to improve surveillance network; ","Functional surveillance system in place for animal rabies cases, including data collection, reporting, analysis and subsequent feedback for action","Ministry of Agriculture\nData reporting and analysis personnel",4,"Report on findings of network assessment with associated budget;\nNumber of surveillance reports received at national level;\nNumber of feedback surveillance reports received at local level;\n","","",""]
[14,"DCA","DCA-Sur-2-14","Surveillance",2,14,"Have linked human and animal rabies surveillance systems, including agreed SOPs, been established?","Please describe the surveillance systems briefly, showing how data are shared. Note: Implementation of these linked measures is covered under 'Prevention and Control'",null,{"$f":"IFERROR(INDEX('Data coll & an'!$F$5:$F$50,MATCH($C15,'Data coll & an'!$A$5:$A$50,0)),IFERROR(INDEX('Prev & Ctrl'!$F$5:$F$50,MATCH($C15,'Prev & Ctrl'!$A$5:$A$50,0)),IFERROR(INDEX('Lab dx'!$F$5:$F$50,MATCH($C15,'Lab dx'!$A$5:$A$50,0)),IFERROR(INDEX('Dog popn'!$F$5:$F$50,MATCH($C15,'Dog popn'!$A$5:$A$50,0)),IFERROR(INDEX(IEC!$F$5:$F$50,MATCH($C15,IEC!$A$5:$A$50,0)),IFERROR(INDEX('Cross-cutting issues'!$F$5:$F$50,MATCH($C15,'Cross-cutting issues'!$A$5:$A$50,0)),IFERROR(INDEX(Legislation!$F$5:$F$50,MATCH($C15,Legislation!$A$5:$A$50,0)),\"\")))))))","v":1},{"$f":"IFERROR(INDEX('Data coll & an'!$G$5:$G$50,MATCH($C15,'Data coll & an'!$A$5:$A$50,0)),IFERROR(INDEX('Prev & Ctrl'!$G$5:$G$50,MATCH($C15,'Prev & Ctrl'!$A$5:$A$50,0)),IFERROR(INDEX('Lab dx'!$G$5:$G$50,MATCH($C15,'Lab dx'!$A$5:$A$50,0)),IFERROR(INDEX('Dog popn'!$G$5:$G$50,MATCH($C15,'Dog popn'!$A$5:$A$50,0)),IFERROR(INDEX(IEC!$G$5:$G$50,MATCH($C15,IEC!$A$5:$A$50,0)),IFERROR(INDEX('Cross-cutting issues'!$G$5:$G$50,MATCH($C15,'Cross-cutting issues'!$A$5:$A$50,0)),IFERROR(INDEX(Legislation!$G$5:$G$50,MATCH($C15,Legislation!$A$5:$A$50,0)),\"\")))))))","v":0},null,null,null,null,null,null,null,null,null,null,"Assess functionality of both human and animal health surveillance systems;\nDetermine what data each system is collecting and what data should be shared;\nInvestigate mechanisms whereby data can be shared;\nDraft SOPs for inter-sectoral collaboration (surveillance data shared between human and animal sectors);\nCirculate SOPs for feedback from both sectors (including deadlines for feedback);\nFinalise SOPs and publish; \nEnsure data flow between the two systems; ","Established and functional reporting and data sharing between sectors (animal and human)","Ministry of Agriculture\nMinistry of Health\nOthers involved in data collection and reporting",5,"SOPs for inter-sectoral collaboration;\nConsistency of data from reports between sectors;\nNumber of reports shared with the other sector (human to animal, animal to human);","","",""]
[15,"DCA","DCA-Sur-2-15","Surveillance",2,15,"Is information on the epidemiology of rabies regularly shared with all stakeholders?","Stakeholders involved - for example, policy makers, educators, NGOs and other relevant individuals and organisations","KEY",{"$f":"IFERROR(INDEX('Data coll & an'!$F$5:$F$50,MATCH($C16,'Data coll & an'!$A$5:$A$50,0)),IFERROR(INDEX('Prev & Ctrl'!$F$5:$F$50,MATCH($C16,'Prev & Ctrl'!$A$5:$A$50,0)),IFERROR(INDEX('Lab dx'!$F$5:$F$50,MATCH($C16,'Lab dx'!$A$5:$A$50,0)),IFERROR(INDEX('Dog popn'!$F$5:$F$50,MATCH($C16,'Dog popn'!$A$5:$A$50,0)),IFERROR(INDEX(IEC!$F$5:$F$50,MATCH($C16,IEC!$A$5:$A$50,0)),IFERROR(INDEX('Cross-cutting issues'!$F$5:$F$50,MATCH($C16,'Cross-cutting issues'!$A$5:$A$50,0)),IFERROR(INDEX(Legislation!$F$5:$F$50,MATCH($C16,Legislation!$A$5:$A$50,0)),\"\")))))))","v":1},{"$f":"IFERROR(INDEX('Data coll & an'!$G$5:$G$50,MATCH($C16,'Data coll & an'!$A$5:$A$50,0)),IFERROR(INDEX('Prev & Ctrl'!$G$5:$G$50,MATCH($C16,'Prev & Ctrl'!$A$5:$A$50,0)),IFERROR(INDEX('Lab dx'!$G$5:$G$50,MATCH($C16,'Lab dx'!$A$5:$A$50,0)),IFERROR(INDEX('Dog popn'!$G$5:$G$50,MATCH($C16,'Dog popn'!$A$5:$A$50,0)),IFERROR(INDEX(IEC!$G$5:$G$50,MATCH($C16,IEC!$A$5:$A$50,0)),IFERROR(INDEX('Cross-cutting issues'!$G$5:$G$50,MATCH($C16,'Cross-cutting issues'!$A$5:$A$50,0)),IFERROR(INDEX(Legislation!$G$5:$G$50,MATCH($C16,Legislation!$A$5:$A$50,0)),\"\")))))))","v":0},"5.1.1-epidemiology-of-rabies","http://caninerabiesblueprint.org/5-1-1-The-epidemiology-of-rabies?lang=en","WHO International Health Regulations","http://caninerabiesblueprint.org/WHO-International-Health","OIE Terrestrial Animal Health Code","http://caninerabiesblueprint.org/OIE-Terrestrial-Animal-Health-Code","2. Roles-and-Responsibilities","http://caninerabiesblueprint.org/Roles-and-Responsibilities?lang=en",null,null,"Identify the relevant stakeholders; \nEnsure that the stakeholders regularly receive the reports from the surveillance system; ","Stakeholders remain notified and informed regarding the most recent information about the situation of rabies in the country. ","Ministry of Agriculture (animal data reporting); \nMinistry of Health (human data reporting);\nPersonnel responsilbe for inter-sectoral surveillance system (collaborative data reporting, if in place); \nPersonnel tasked with reporting to stakeholders",4,"List of relevant stakeholders to receive information;\nNumber of surveillance reports shared with other stakeholders;","","",""]
[16,"DCA","DCA-Sur-2-16","Surveillance",2,16,"Is the on-going surveillance system for rabies being maintained?","e.g. dog meat markets, opportunistic sampling (roadkill), human bite cases, etc.","KEY",{"$f":"IFERROR(INDEX('Data coll & an'!$F$5:$F$50,MATCH($C17,'Data coll & an'!$A$5:$A$50,0)),IFERROR(INDEX('Prev & Ctrl'!$F$5:$F$50,MATCH($C17,'Prev & Ctrl'!$A$5:$A$50,0)),IFERROR(INDEX('Lab dx'!$F$5:$F$50,MATCH($C17,'Lab dx'!$A$5:$A$50,0)),IFERROR(INDEX('Dog popn'!$F$5:$F$50,MATCH($C17,'Dog popn'!$A$5:$A$50,0)),IFERROR(INDEX(IEC!$F$5:$F$50,MATCH($C17,IEC!$A$5:$A$50,0)),IFERROR(INDEX('Cross-cutting issues'!$F$5:$F$50,MATCH($C17,'Cross-cutting issues'!$A$5:$A$50,0)),IFERROR(INDEX(Legislation!$F$5:$F$50,MATCH($C17,Legislation!$A$5:$A$50,0)),\"\")))))))","v":1},{"$f":"IFERROR(INDEX('Data coll & an'!$G$5:$G$50,MATCH($C17,'Data coll & an'!$A$5:$A$50,0)),IFERROR(INDEX('Prev & Ctrl'!$G$5:$G$50,MATCH($C17,'Prev & Ctrl'!$A$5:$A$50,0)),IFERROR(INDEX('Lab dx'!$G$5:$G$50,MATCH($C17,'Lab dx'!$A$5:$A$50,0)),IFERROR(INDEX('Dog popn'!$G$5:$G$50,MATCH($C17,'Dog popn'!$A$5:$A$50,0)),IFERROR(INDEX(IEC!$G$5:$G$50,MATCH($C17,IEC!$A$5:$A$50,0)),IFERROR(INDEX('Cross-cutting issues'!$G$5:$G$50,MATCH($C17,'Cross-cutting issues'!$A$5:$A$50,0)),IFERROR(INDEX(Legislation!$G$5:$G$50,MATCH($C17,Legislation!$A$5:$A$50,0)),\"\")))))))","v":0},"WHO International Health Regulations","http://caninerabiesblueprint.org/WHO-International-Health","OIE Terrestrial Animal Health Code","http://caninerabiesblueprint.org/OIE-Terrestrial-Animal-Health-Code",null,null,null,null,null,null,"Assess whether data is collected and reported frequently, including feedback to local level;\nIf not, determine shortcomings;\nCompile a report on the shortcomings and identify responsible people at each level in the surveillance network;\nCommunicate with responsible people throughout network to try to address the shortcomings and re-initiate effective surveillance; \n","Frequent and rapid reporting, data collection, analysis and feedback occurs throughout the country on a regular basis. ","Ministry of Agriculture (animal data reporting); \nMinistry of Health (human data reporting);\nPersonnel responsilbe for inter-sectoral surveillance system (collaborative data reporting, if in place); \nPersonnel tasked with reporting to stakeholders",6,"Report on the assessment of the current system and its functionality including budgetary requirements;\nData consistency and quality assessment report: Number of reports generated over time; Frequency of reports over time;  \n\n","","",""]
[17,"DCA","DCA-Sur-3-17","Surveillance",3,17,"As your country nears human rabies elimination, have field investigations for all suspected human rabies cases been conducted? ","Data shared between human and animal sectors in real time and joint actions taken","KEY",{"$f":"IFERROR(INDEX('Data coll & an'!$F$5:$F$50,MATCH($C18,'Data coll & an'!$A$5:$A$50,0)),IFERROR(INDEX('Prev & Ctrl'!$F$5:$F$50,MATCH($C18,'Prev & Ctrl'!$A$5:$A$50,0)),IFERROR(INDEX('Lab dx'!$F$5:$F$50,MATCH($C18,'Lab dx'!$A$5:$A$50,0)),IFERROR(INDEX('Dog popn'!$F$5:$F$50,MATCH($C18,'Dog popn'!$A$5:$A$50,0)),IFERROR(INDEX(IEC!$F$5:$F$50,MATCH($C18,IEC!$A$5:$A$50,0)),IFERROR(INDEX('Cross-cutting issues'!$F$5:$F$50,MATCH($C18,'Cross-cutting issues'!$A$5:$A$50,0)),IFERROR(INDEX(Legislation!$F$5:$F$50,MATCH($C18,Legislation!$A$5:$A$50,0)),\"\")))))))","v":0},{"$f":"IFERROR(INDEX('Data coll & an'!$G$5:$G$50,MATCH($C18,'Data coll & an'!$A$5:$A$50,0)),IFERROR(INDEX('Prev & Ctrl'!$G$5:$G$50,MATCH($C18,'Prev & Ctrl'!$A$5:$A$50,0)),IFERROR(INDEX('Lab dx'!$G$5:$G$50,MATCH($C18,'Lab dx'!$A$5:$A$50,0)),IFERROR(INDEX('Dog popn'!$G$5:$G$50,MATCH($C18,'Dog popn'!$A$5:$A$50,0)),IFERROR(INDEX(IEC!$G$5:$G$50,MATCH($C18,IEC!$A$5:$A$50,0)),IFERROR(INDEX('Cross-cutting issues'!$G$5:$G$50,MATCH($C18,'Cross-cutting issues'!$A$5:$A$50,0)),IFERROR(INDEX(Legislation!$G$5:$G$50,MATCH($C18,Legislation!$A$5:$A$50,0)),\"\")))))))","v":0},"2.2 Human rabies surveillance ","http://rabiessurveillanceblueprint.org/-2-2-Human-rabies-surveillance-",null,null,null,null,null,null,null,null,"Determine whether effective surveillance is in place to detect suspect human cases;\nEnsure rapid reporting of suspect human cases from local to national level;\nEnsure feedback of analysed data back to local level; \nEnsure that protocols (SOPs) for case investigation and response based on surveillance are in place and known by all relevant professionals;\nEnsure that the relevant professionals are equipped with the relevant resources to investigate suspect human rabies cases;\nEnsure action and case investigation based on feedback;\nEnsure the outcomes of the investigations are reported to the national level;","Each suspect human case is investigated based on surveillance data and case investigation protocols","Ministry of Health supported by inter-sectoral surveillance personnel",8,"Report on efficacy of existing surveillance system;\nSOPs finalised and available;\nNumber of suspect human cases;\nNumber of human case investigations undertaken;","Determine whether effective surveillance is in place to detect suspect human cases;\nEnsure rapid reporting of suspect human cases from local to national level;\nEnsure feedback of analysed data back to local level; \nEnsure that protocols (SOPs) for case investigation and response based on surveillance are in place and known by all relevant professionals;\nEnsure that the relevant professionals are equipped with the relevant resources to investigate suspect human rabies cases;\nEnsure action and case investigation based on feedback;\nEnsure the outcomes of the investigations are reported to the national level;","Ministry of Health supported by inter-sectoral surveillance personnel",5]
[18,"DCA","DCA-Sur-3-18","Surveillance",3,18,"As your country nears human rabies elimination, is epidemiological data being collected to provide evidence of dog-transmitted human rabies-free zones?"," ","KEY",{"$f":"IFERROR(INDEX('Data coll & an'!$F$5:$F$50,MATCH($C19,'Data coll & an'!$A$5:$A$50,0)),IFERROR(INDEX('Prev & Ctrl'!$F$5:$F$50,MATCH($C19,'Prev & Ctrl'!$A$5:$A$50,0)),IFERROR(INDEX('Lab dx'!$F$5:$F$50,MATCH($C19,'Lab dx'!$A$5:$A$50,0)),IFERROR(INDEX('Dog popn'!$F$5:$F$50,MATCH($C19,'Dog popn'!$A$5:$A$50,0)),IFERROR(INDEX(IEC!$F$5:$F$50,MATCH($C19,IEC!$A$5:$A$50,0)),IFERROR(INDEX('Cross-cutting issues'!$F$5:$F$50,MATCH($C19,'Cross-cutting issues'!$A$5:$A$50,0)),IFERROR(INDEX(Legislation!$F$5:$F$50,MATCH($C19,Legislation!$A$5:$A$50,0)),\"\")))))))","v":0},{"$f":"IFERROR(INDEX('Data coll & an'!$G$5:$G$50,MATCH($C19,'Data coll & an'!$A$5:$A$50,0)),IFERROR(INDEX('Prev & Ctrl'!$G$5:$G$50,MATCH($C19,'Prev & Ctrl'!$A$5:$A$50,0)),IFERROR(INDEX('Lab dx'!$G$5:$G$50,MATCH($C19,'Lab dx'!$A$5:$A$50,0)),IFERROR(INDEX('Dog popn'!$G$5:$G$50,MATCH($C19,'Dog popn'!$A$5:$A$50,0)),IFERROR(INDEX(IEC!$G$5:$G$50,MATCH($C19,IEC!$A$5:$A$50,0)),IFERROR(INDEX('Cross-cutting issues'!$G$5:$G$50,MATCH($C19,'Cross-cutting issues'!$A$5:$A$50,0)),IFERROR(INDEX(Legislation!$G$5:$G$50,MATCH($C19,Legislation!$A$5:$A$50,0)),\"\")))))))","v":0},null,null,null,null,null,null,null,null,null,null,"Ensure that an effective surveillance system for the detection of all suspect human rabies cases is in place and maintained;\nEnsure that effective field investigations of all suspect human rabies cases are on-going;\nCompile all of the relevant data regarding the positive and negative diagnosis of all suspect rabies cases;","Up-to-date epidemiological evidence based on an effective national surveillance system with reliable laboratory diagnosis and case investigation is collected and available to provide evidence of a dog-transmitted human rabies free zones (no human cases for 2 years). ","Ministry of Health supported by inter-sectoral surveillance personnel",8,"Case investigation consistency and quality assessment report: Number of case investigations generated over time; Frequency of case investigations over time;\nNumber of suspect rabies cases;\nNumber of positively diagnosed suspect rabies cases;\nNumber of negatively diagnosed suspect rabies cases;  ","Ensure that an effective surveillance system for the detection of all suspect human rabies cases is in place and maintained;\nEnsure that effective field investigations of all suspect human rabies cases are on-going;\nCompile all of the relevant data regarding the positive and negative diagnosis of all suspect rabies cases;","Ministry of Health supported by inter-sectoral surveillance personnel",5]
[19,"DCA","DCA-Sur-3-19","Surveillance",3,19,"Now that there are very few animal rabies cases in your country, are field investigations and laboratory confirmations conducted for all suspected rabies outbreaks in dogs?"," ","KEY",{"$f":"IFERROR(INDEX('Data coll & an'!$F$5:$F$50,MATCH($C20,'Data coll & an'!$A$5:$A$50,0)),IFERROR(INDEX('Prev & Ctrl'!$F$5:$F$50,MATCH($C20,'Prev & Ctrl'!$A$5:$A$50,0)),IFERROR(INDEX('Lab dx'!$F$5:$F$50,MATCH($C20,'Lab dx'!$A$5:$A$50,0)),IFERROR(INDEX('Dog popn'!$F$5:$F$50,MATCH($C20,'Dog popn'!$A$5:$A$50,0)),IFERROR(INDEX(IEC!$F$5:$F$50,MATCH($C20,IEC!$A$5:$A$50,0)),IFERROR(INDEX('Cross-cutting issues'!$F$5:$F$50,MATCH($C20,'Cross-cutting issues'!$A$5:$A$50,0)),IFERROR(INDEX(Legislation!$F$5:$F$50,MATCH($C20,Legislation!$A$5:$A$50,0)),\"\")))))))","v":1},{"$f":"IFERROR(INDEX('Data coll & an'!$G$5:$G$50,MATCH($C20,'Data coll & an'!$A$5:$A$50,0)),IFERROR(INDEX('Prev & Ctrl'!$G$5:$G$50,MATCH($C20,'Prev & Ctrl'!$A$5:$A$50,0)),IFERROR(INDEX('Lab dx'!$G$5:$G$50,MATCH($C20,'Lab dx'!$A$5:$A$50,0)),IFERROR(INDEX('Dog popn'!$G$5:$G$50,MATCH($C20,'Dog popn'!$A$5:$A$50,0)),IFERROR(INDEX(IEC!$G$5:$G$50,MATCH($C20,IEC!$A$5:$A$50,0)),IFERROR(INDEX('Cross-cutting issues'!$G$5:$G$50,MATCH($C20,'Cross-cutting issues'!$A$5:$A$50,0)),IFERROR(INDEX(Legislation!$G$5:$G$50,MATCH($C20,Legislation!$A$5:$A$50,0)),\"\")))))))","v":0},null,null,null,null,null,null,null,null,null,null,"Determine whether effective surveillance is in place to detect suspect animal rabies cases;\nEnsure protocols for a risk-assessment of suspect animals are in place and known by all relevant professionals;\nEnsure that the relevant professionals are equipped with the relevant resources to investigate suspect animal rabies cases;\nEnsure that all suspect animal rabies cases (after undertaking a risk assessment) are submitted for laboratory diagnosis; \nEnsure rapid reporting of laboratory results from the suspect animal cases to national level;\nEnsure feedback of analysed data back to local level for action (e.g. for outbreak response); ","Each suspect animal case is investigated based on surveillance data and case investigation protocols","Ministry of Agriculture, supported by inter-sectoral surveillance personnel and laboratory network personnel ",9,"Number of outbreaks reported;\nNumber of outbreak responses;\nNumber of suspect samples collected;\nNumber of suspect samples laboratory diagnosed;\nNumber of diagnostic reports sent to national level;\nNumber of feedback reports sent ot local level;","","",""]
[20,"DCA","DCA-Sur-4-20","Surveillance",4,20,"As there are no more laboratory confirmed human rabies cases, are existing surveillance activities for all suspected cases in humans maintained in the country?","e.g. clinical investigation of all patients presenting with encephalitic symptoms.","KEY",{"$f":"IFERROR(INDEX('Data coll & an'!$F$5:$F$50,MATCH($C21,'Data coll & an'!$A$5:$A$50,0)),IFERROR(INDEX('Prev & Ctrl'!$F$5:$F$50,MATCH($C21,'Prev & Ctrl'!$A$5:$A$50,0)),IFERROR(INDEX('Lab dx'!$F$5:$F$50,MATCH($C21,'Lab dx'!$A$5:$A$50,0)),IFERROR(INDEX('Dog popn'!$F$5:$F$50,MATCH($C21,'Dog popn'!$A$5:$A$50,0)),IFERROR(INDEX(IEC!$F$5:$F$50,MATCH($C21,IEC!$A$5:$A$50,0)),IFERROR(INDEX('Cross-cutting issues'!$F$5:$F$50,MATCH($C21,'Cross-cutting issues'!$A$5:$A$50,0)),IFERROR(INDEX(Legislation!$F$5:$F$50,MATCH($C21,Legislation!$A$5:$A$50,0)),\"\")))))))","v":1},{"$f":"IFERROR(INDEX('Data coll & an'!$G$5:$G$50,MATCH($C21,'Data coll & an'!$A$5:$A$50,0)),IFERROR(INDEX('Prev & Ctrl'!$G$5:$G$50,MATCH($C21,'Prev & Ctrl'!$A$5:$A$50,0)),IFERROR(INDEX('Lab dx'!$G$5:$G$50,MATCH($C21,'Lab dx'!$A$5:$A$50,0)),IFERROR(INDEX('Dog popn'!$G$5:$G$50,MATCH($C21,'Dog popn'!$A$5:$A$50,0)),IFERROR(INDEX(IEC!$G$5:$G$50,MATCH($C21,IEC!$A$5:$A$50,0)),IFERROR(INDEX('Cross-cutting issues'!$G$5:$G$50,MATCH($C21,'Cross-cutting issues'!$A$5:$A$50,0)),IFERROR(INDEX(Legislation!$G$5:$G$50,MATCH($C21,Legislation!$A$5:$A$50,0)),\"\")))))))","v":0},null,null,null,null,null,null,null,null,null,null,"Ensure that all encephalitic cases are reported frequently to the national level;\nEnsure that case investigations of each encephalitic case are undertaken;\nGenerate and disseminate reports on the case investigations with all relevant stakeholders; \n","All suspect human rabies cases detected and case investigations undertaken and reported upon to ensure that no new human cases arise and the country remains free from human rabies. ","Minsitry of Health",11,"Number of suspect human rabies cases reported;\nNumber of suspect human rabies cases investigated;\nNumber of positively diagnosed suspect rabies cases;\nNumber of negatively diagnosed suspect rabies cases;  ","","",""]
[21,"DCA","DCA-Sur-4-21","Surveillance",4,21,"As your country nears dog-rabies elimination, has the epidemiological data from the routine surveillance of all animals (not only dogs) been used to refine the national rabies strategy?","e.g. working animals, livestock and wildlife","KEY",{"$f":"IFERROR(INDEX('Data coll & an'!$F$5:$F$50,MATCH($C22,'Data coll & an'!$A$5:$A$50,0)),IFERROR(INDEX('Prev & Ctrl'!$F$5:$F$50,MATCH($C22,'Prev & Ctrl'!$A$5:$A$50,0)),IFERROR(INDEX('Lab dx'!$F$5:$F$50,MATCH($C22,'Lab dx'!$A$5:$A$50,0)),IFERROR(INDEX('Dog popn'!$F$5:$F$50,MATCH($C22,'Dog popn'!$A$5:$A$50,0)),IFERROR(INDEX(IEC!$F$5:$F$50,MATCH($C22,IEC!$A$5:$A$50,0)),IFERROR(INDEX('Cross-cutting issues'!$F$5:$F$50,MATCH($C22,'Cross-cutting issues'!$A$5:$A$50,0)),IFERROR(INDEX(Legislation!$F$5:$F$50,MATCH($C22,Legislation!$A$5:$A$50,0)),\"\")))))))","v":0},{"$f":"IFERROR(INDEX('Data coll & an'!$G$5:$G$50,MATCH($C22,'Data coll & an'!$A$5:$A$50,0)),IFERROR(INDEX('Prev & Ctrl'!$G$5:$G$50,MATCH($C22,'Prev & Ctrl'!$A$5:$A$50,0)),IFERROR(INDEX('Lab dx'!$G$5:$G$50,MATCH($C22,'Lab dx'!$A$5:$A$50,0)),IFERROR(INDEX('Dog popn'!$G$5:$G$50,MATCH($C22,'Dog popn'!$A$5:$A$50,0)),IFERROR(INDEX(IEC!$G$5:$G$50,MATCH($C22,IEC!$A$5:$A$50,0)),IFERROR(INDEX('Cross-cutting issues'!$G$5:$G$50,MATCH($C22,'Cross-cutting issues'!$A$5:$A$50,0)),IFERROR(INDEX(Legislation!$G$5:$G$50,MATCH($C22,Legislation!$A$5:$A$50,0)),\"\")))))))","v":0},"WHO International Health Regulations","http://caninerabiesblueprint.org/WHO-International-Health",null,null,null,null,null,null,null,null,"Compile and review epidemiological data based on surveillance in other animal species, including wildlife;\nIdentify remaining areas with dog-rabies (hotspots);\nIdentify additional possible reservoir species (e.g. wildlife carnivores);\nIdentify methods to vaccinate and control rabies in additional identified reservoir species;\nCompile a report, including budget and resources required, with the findings and recommendations;\nShare report with national task force for integration and updating of national rabies control strategy; \nNational rabies control and elimination strategy refined based on the report; ","National rabies control and elimination strategy refined to focus on final steps towards elimination of dog rabies (strategic vaccination), the situation of rabies in wildlife and the prevention of re-introduction of rabies into the human and dog population. ","All stakeholders involved in development and implementation of the national strategy; \nled by the personnel responsible for data collection and analysis",10,"Report on findings and associated budget including:\nInformation on epidemiological data based on surveillance in other animal species;\nLocations of remaining hotspots/high-risk areas;\nInformation on additional reservoir species;\nUpdated national strategy;\n","Compile and review epidemiological data based on surveillance in other animal species, including wildlife;\nIdentify remaining areas with dog-rabies (hotspots);\nIdentify additional possible reservoir species (e.g. wildlife carnivores);\nIdentify methods to vaccinate and control rabies in additional identified reservoir species;\nCompile a report, including budget and resources required, with the findings and recommendations;\nShare report with national task force for integration and updating of national rabies control strategy; \nNational rabies control and elimination strategy refined based on the report; ","All stakeholders involved in development and implementation of the national strategy; \nled by the personnel responsible for data collection and analysis",7]
[22,"DCA","DCA-Sur-5-22","Surveillance",5,22,"Has freedom from dog-transmitted rabies in the entire country been verified by the absence of canine variant cases for at least a 2 year period?"," ","KEY",{"$f":"IFERROR(INDEX('Data coll & an'!$F$5:$F$50,MATCH($C23,'Data coll & an'!$A$5:$A$50,0)),IFERROR(INDEX('Prev & Ctrl'!$F$5:$F$50,MATCH($C23,'Prev & Ctrl'!$A$5:$A$50,0)),IFERROR(INDEX('Lab dx'!$F$5:$F$50,MATCH($C23,'Lab dx'!$A$5:$A$50,0)),IFERROR(INDEX('Dog popn'!$F$5:$F$50,MATCH($C23,'Dog popn'!$A$5:$A$50,0)),IFERROR(INDEX(IEC!$F$5:$F$50,MATCH($C23,IEC!$A$5:$A$50,0)),IFERROR(INDEX('Cross-cutting issues'!$F$5:$F$50,MATCH($C23,'Cross-cutting issues'!$A$5:$A$50,0)),IFERROR(INDEX(Legislation!$F$5:$F$50,MATCH($C23,Legislation!$A$5:$A$50,0)),\"\")))))))","v":0},{"$f":"IFERROR(INDEX('Data coll & an'!$G$5:$G$50,MATCH($C23,'Data coll & an'!$A$5:$A$50,0)),IFERROR(INDEX('Prev & Ctrl'!$G$5:$G$50,MATCH($C23,'Prev & Ctrl'!$A$5:$A$50,0)),IFERROR(INDEX('Lab dx'!$G$5:$G$50,MATCH($C23,'Lab dx'!$A$5:$A$50,0)),IFERROR(INDEX('Dog popn'!$G$5:$G$50,MATCH($C23,'Dog popn'!$A$5:$A$50,0)),IFERROR(INDEX(IEC!$G$5:$G$50,MATCH($C23,IEC!$A$5:$A$50,0)),IFERROR(INDEX('Cross-cutting issues'!$G$5:$G$50,MATCH($C23,'Cross-cutting issues'!$A$5:$A$50,0)),IFERROR(INDEX(Legislation!$G$5:$G$50,MATCH($C23,Legislation!$A$5:$A$50,0)),\"\")))))))","v":0},"5.4.17 Keeping an area rabies-free","http://caninerabiesblueprint.org/5-4-17-Our-programme-has-been",null,null,null,null,null,null,null,null,"Ensure ongoing sample collection and routine rabies diagnosis from the entire country;\nEnsure adequate case investigation is maintained throughout the country;\nCompile epidemiological reports with up-to-date surveillance data showing absence of the disease;\nIf any rabies-positive cases are detected, subject the samples to molecular or antigenic typing to determine the variant;\n","Epidemiological report providing evidence supporting the notion of freedom from the canine variatn fo rabeis for a 2 year period in line with the OIE standards for self-declaration of freedom;","Ministry of Agriculture",13,"The number of suspect rabies samples diagnosed;\nNumber of rabies-negative samples identified;\nNumber of rabies-positive samples diagnosed;\nNumber of rabies-positive samples subjected to characterisation;\nVaccination coverage map; ","Ensure ongoing sample collection and routine rabies diagnosis from the entire country;\nEnsure adequate case investigation is maintained throughout the country;\nCompile epidemiological reports with up-to-date surveillance data showing absence of the disease;\nIf any rabies-positive cases are detected, subject the samples to molecular or antigenic typing to determine the variant;\n","Ministry of Agriculture",10]
[23,"PCO","PCO-Hum-1-1","Human vaccines",1,1,"Are vaccines for human rabies prophylaxis available in one or more parts of the country?"," ","KEY",{"$f":"IFERROR(INDEX('Data coll & an'!$F$5:$F$50,MATCH($C24,'Data coll & an'!$A$5:$A$50,0)),IFERROR(INDEX('Prev & Ctrl'!$F$5:$F$50,MATCH($C24,'Prev & Ctrl'!$A$5:$A$50,0)),IFERROR(INDEX('Lab dx'!$F$5:$F$50,MATCH($C24,'Lab dx'!$A$5:$A$50,0)),IFERROR(INDEX('Dog popn'!$F$5:$F$50,MATCH($C24,'Dog popn'!$A$5:$A$50,0)),IFERROR(INDEX(IEC!$F$5:$F$50,MATCH($C24,IEC!$A$5:$A$50,0)),IFERROR(INDEX('Cross-cutting issues'!$F$5:$F$50,MATCH($C24,'Cross-cutting issues'!$A$5:$A$50,0)),IFERROR(INDEX(Legislation!$F$5:$F$50,MATCH($C24,Legislation!$A$5:$A$50,0)),\"\")))))))","v":1},{"$f":"IFERROR(INDEX('Data coll & an'!$G$5:$G$50,MATCH($C24,'Data coll & an'!$A$5:$A$50,0)),IFERROR(INDEX('Prev & Ctrl'!$G$5:$G$50,MATCH($C24,'Prev & Ctrl'!$A$5:$A$50,0)),IFERROR(INDEX('Lab dx'!$G$5:$G$50,MATCH($C24,'Lab dx'!$A$5:$A$50,0)),IFERROR(INDEX('Dog popn'!$G$5:$G$50,MATCH($C24,'Dog popn'!$A$5:$A$50,0)),IFERROR(INDEX(IEC!$G$5:$G$50,MATCH($C24,IEC!$A$5:$A$50,0)),IFERROR(INDEX('Cross-cutting issues'!$G$5:$G$50,MATCH($C24,'Cross-cutting issues'!$A$5:$A$50,0)),IFERROR(INDEX(Legislation!$G$5:$G$50,MATCH($C24,Legislation!$A$5:$A$50,0)),\"\")))))))","v":0},"5.5.3-human-biologics","http://caninerabiesblueprint.org/5-5-3-What-do-we-need-to-know?lang=en","Human-vaccination-supply","http://caninerabiesblueprint.org/Rabies-blueprint-human-vaccination?lang=en",null,null,null,null,null,null,"Conduct an assessment to evaluate available funds to purchase human rabies vaccines; \nProcure and import required cell culture vaccine and rabies immunoglobulin to meet local demand if possible;\nAssess and identify health care facilities that have the required infrastructure to store and administer rabies PEP;\nDistribute human rabies PEP to the identified health care facilities;","Natioanlly licenced human rabies prophylaxis is accessible in one or more parts of the country","Ministry of Health",1,"Number of vaccines procured;\nNumber of RIG doses procured;\nHealth facility assessment;\nNumber of vaccine doses distributed to each health facility;\nNumber of RIG doses distributed to each health facility;","","",""]
[24,"PCO","PCO-Hum-1-2","Human vaccines",1,2,"Has the supply and access to nationally licensed human rabies vaccines for PrEP for professionals at risk been ensured in local areas?"," ","KEY",{"$f":"IFERROR(INDEX('Data coll & an'!$F$5:$F$50,MATCH($C25,'Data coll & an'!$A$5:$A$50,0)),IFERROR(INDEX('Prev & Ctrl'!$F$5:$F$50,MATCH($C25,'Prev & Ctrl'!$A$5:$A$50,0)),IFERROR(INDEX('Lab dx'!$F$5:$F$50,MATCH($C25,'Lab dx'!$A$5:$A$50,0)),IFERROR(INDEX('Dog popn'!$F$5:$F$50,MATCH($C25,'Dog popn'!$A$5:$A$50,0)),IFERROR(INDEX(IEC!$F$5:$F$50,MATCH($C25,IEC!$A$5:$A$50,0)),IFERROR(INDEX('Cross-cutting issues'!$F$5:$F$50,MATCH($C25,'Cross-cutting issues'!$A$5:$A$50,0)),IFERROR(INDEX(Legislation!$F$5:$F$50,MATCH($C25,Legislation!$A$5:$A$50,0)),\"\")))))))","v":1},{"$f":"IFERROR(INDEX('Data coll & an'!$G$5:$G$50,MATCH($C25,'Data coll & an'!$A$5:$A$50,0)),IFERROR(INDEX('Prev & Ctrl'!$G$5:$G$50,MATCH($C25,'Prev & Ctrl'!$A$5:$A$50,0)),IFERROR(INDEX('Lab dx'!$G$5:$G$50,MATCH($C25,'Lab dx'!$A$5:$A$50,0)),IFERROR(INDEX('Dog popn'!$G$5:$G$50,MATCH($C25,'Dog popn'!$A$5:$A$50,0)),IFERROR(INDEX(IEC!$G$5:$G$50,MATCH($C25,IEC!$A$5:$A$50,0)),IFERROR(INDEX('Cross-cutting issues'!$G$5:$G$50,MATCH($C25,'Cross-cutting issues'!$A$5:$A$50,0)),IFERROR(INDEX(Legislation!$G$5:$G$50,MATCH($C25,Legislation!$A$5:$A$50,0)),\"\")))))))","v":0},null,null,null,null,null,null,null,null,null,null,"Identify project sites where high-risk professionals are operating;\nIdentify number of high-risk professionals that require a full course of rabies PrEP;\nIdentify number of high-risk professionals that require a booster vaccination;\nEnsure health facilities in target areas have sufficient PrEP to meet the requirements of the professionals in the area; \nEnsure staff in health facilities have adequate training to effectively administer PrEP; \nProportion of immune professionals who receive a booster vaccination\nProportion of high-risk professionals vaccinated;\nProportion of professionals who have a adequate antibody titre to rabies; ","High-risk professionals in target areas have access to nationally licenced PrEP","Ministry of Health",2,"Number of project sites identified at local areas;\nNumber of professionals identified at each project site;\nNumber of professionals that received a full course of PrEP;\nNumber of professionals that received a booster vaccination;\nNumber of professionals with adequate antibody titres for protection;","","",""]
[25,"PCO","PCO-Hum-2-3","Human vaccines",2,3,"Has an assessment* been done to determine the availability and access to PEP (and PreP)?"," ",null,{"$f":"IFERROR(INDEX('Data coll & an'!$F$5:$F$50,MATCH($C26,'Data coll & an'!$A$5:$A$50,0)),IFERROR(INDEX('Prev & Ctrl'!$F$5:$F$50,MATCH($C26,'Prev & Ctrl'!$A$5:$A$50,0)),IFERROR(INDEX('Lab dx'!$F$5:$F$50,MATCH($C26,'Lab dx'!$A$5:$A$50,0)),IFERROR(INDEX('Dog popn'!$F$5:$F$50,MATCH($C26,'Dog popn'!$A$5:$A$50,0)),IFERROR(INDEX(IEC!$F$5:$F$50,MATCH($C26,IEC!$A$5:$A$50,0)),IFERROR(INDEX('Cross-cutting issues'!$F$5:$F$50,MATCH($C26,'Cross-cutting issues'!$A$5:$A$50,0)),IFERROR(INDEX(Legislation!$F$5:$F$50,MATCH($C26,Legislation!$A$5:$A$50,0)),\"\")))))))","v":0},{"$f":"IFERROR(INDEX('Data coll & an'!$G$5:$G$50,MATCH($C26,'Data coll & an'!$A$5:$A$50,0)),IFERROR(INDEX('Prev & Ctrl'!$G$5:$G$50,MATCH($C26,'Prev & Ctrl'!$A$5:$A$50,0)),IFERROR(INDEX('Lab dx'!$G$5:$G$50,MATCH($C26,'Lab dx'!$A$5:$A$50,0)),IFERROR(INDEX('Dog popn'!$G$5:$G$50,MATCH($C26,'Dog popn'!$A$5:$A$50,0)),IFERROR(INDEX(IEC!$G$5:$G$50,MATCH($C26,IEC!$A$5:$A$50,0)),IFERROR(INDEX('Cross-cutting issues'!$G$5:$G$50,MATCH($C26,'Cross-cutting issues'!$A$5:$A$50,0)),IFERROR(INDEX(Legislation!$G$5:$G$50,MATCH($C26,Legislation!$A$5:$A$50,0)),\"\")))))))","v":0},"3.1-Infrastructure","http://caninerabiesblueprint.org/3-1-Infrastructure?lang=en",null,null,null,null,null,null,null,null,"Compile a list of all health facilities that would be able to store and administer PEP and PrEP;\nContact health facilities to determine whether vaccine and RIG stock is available;\nUndertake a training needs-assessment to determine competency of staff;\nCompile a report on the health facilities that have access to PEP and PrEP;","Report compiled on the health facilities throughout the country that have access to rabies PEP and PrEP;","Ministry of Health",1,"Report on health facilities: List of health facilities capable of storing and administering PEP and PrEP;\nNumber of health facilities with vaccine and RIG available;\nTraining needs assessment and budget;\n","","",""]
[26,"PCO","PCO-Hum-2-4","Human vaccines",2,4,"Are WHO pre-qualified human rabies vaccines available and accessible in most parts of the country?","Areas available and accessible","KEY",{"$f":"IFERROR(INDEX('Data coll & an'!$F$5:$F$50,MATCH($C27,'Data coll & an'!$A$5:$A$50,0)),IFERROR(INDEX('Prev & Ctrl'!$F$5:$F$50,MATCH($C27,'Prev & Ctrl'!$A$5:$A$50,0)),IFERROR(INDEX('Lab dx'!$F$5:$F$50,MATCH($C27,'Lab dx'!$A$5:$A$50,0)),IFERROR(INDEX('Dog popn'!$F$5:$F$50,MATCH($C27,'Dog popn'!$A$5:$A$50,0)),IFERROR(INDEX(IEC!$F$5:$F$50,MATCH($C27,IEC!$A$5:$A$50,0)),IFERROR(INDEX('Cross-cutting issues'!$F$5:$F$50,MATCH($C27,'Cross-cutting issues'!$A$5:$A$50,0)),IFERROR(INDEX(Legislation!$F$5:$F$50,MATCH($C27,Legislation!$A$5:$A$50,0)),\"\")))))))","v":1},{"$f":"IFERROR(INDEX('Data coll & an'!$G$5:$G$50,MATCH($C27,'Data coll & an'!$A$5:$A$50,0)),IFERROR(INDEX('Prev & Ctrl'!$G$5:$G$50,MATCH($C27,'Prev & Ctrl'!$A$5:$A$50,0)),IFERROR(INDEX('Lab dx'!$G$5:$G$50,MATCH($C27,'Lab dx'!$A$5:$A$50,0)),IFERROR(INDEX('Dog popn'!$G$5:$G$50,MATCH($C27,'Dog popn'!$A$5:$A$50,0)),IFERROR(INDEX(IEC!$G$5:$G$50,MATCH($C27,IEC!$A$5:$A$50,0)),IFERROR(INDEX('Cross-cutting issues'!$G$5:$G$50,MATCH($C27,'Cross-cutting issues'!$A$5:$A$50,0)),IFERROR(INDEX(Legislation!$G$5:$G$50,MATCH($C27,Legislation!$A$5:$A$50,0)),\"\")))))))","v":0},"WHO expert consultation on rabies","http://caninerabiesblueprint.org/WHO-expert-consultation-on-rabies","WHO vaccines position papers","http://www.who.int/immunization/policy/position_papers/rabies/en/",null,null,null,null,null,null,"Conduct a needs assessment for the availability of vaccine in health facilities across the country including: training, infrastructure, storage capacity, availability of WHO pre-qualified vaccines;\nCompile a report based on the needs assessment, including recommendations;\nDevelop plan for addressing needs for [~70%] of the facilities in the country;\nDevelop budget and secure resources for plan; \nImplement plan so that WHO pre-qualified vaccines are available in [~70%] of facilities throughout the country;\n","WHO pre-qualified human rabies vaccines are available and accessible in most parts of the country","Ministry of Health",6,"Needs assessment report;\nPlan of action to have WHO pre-qualified vaccine available in most of the country;\nNumber of facilities with WHO pre-qualified vaccine;\nNumber of facilities without WHO pre-qualified vaccines;\n","","",""]
[27,"PCO","PCO-Hum-2-5","Human vaccines",2,5,"Are any human biologics that are not WHO-pre-qualified being phased out? (e.g. nerve tissue vaccines, low quality vaccines)","If only WHO pre-qualified humans rabies vaccines are being used, mark the status as \"1\"\n",null,{"$f":"IFERROR(INDEX('Data coll & an'!$F$5:$F$50,MATCH($C28,'Data coll & an'!$A$5:$A$50,0)),IFERROR(INDEX('Prev & Ctrl'!$F$5:$F$50,MATCH($C28,'Prev & Ctrl'!$A$5:$A$50,0)),IFERROR(INDEX('Lab dx'!$F$5:$F$50,MATCH($C28,'Lab dx'!$A$5:$A$50,0)),IFERROR(INDEX('Dog popn'!$F$5:$F$50,MATCH($C28,'Dog popn'!$A$5:$A$50,0)),IFERROR(INDEX(IEC!$F$5:$F$50,MATCH($C28,IEC!$A$5:$A$50,0)),IFERROR(INDEX('Cross-cutting issues'!$F$5:$F$50,MATCH($C28,'Cross-cutting issues'!$A$5:$A$50,0)),IFERROR(INDEX(Legislation!$F$5:$F$50,MATCH($C28,Legislation!$A$5:$A$50,0)),\"\")))))))","v":1},{"$f":"IFERROR(INDEX('Data coll & an'!$G$5:$G$50,MATCH($C28,'Data coll & an'!$A$5:$A$50,0)),IFERROR(INDEX('Prev & Ctrl'!$G$5:$G$50,MATCH($C28,'Prev & Ctrl'!$A$5:$A$50,0)),IFERROR(INDEX('Lab dx'!$G$5:$G$50,MATCH($C28,'Lab dx'!$A$5:$A$50,0)),IFERROR(INDEX('Dog popn'!$G$5:$G$50,MATCH($C28,'Dog popn'!$A$5:$A$50,0)),IFERROR(INDEX(IEC!$G$5:$G$50,MATCH($C28,IEC!$A$5:$A$50,0)),IFERROR(INDEX('Cross-cutting issues'!$G$5:$G$50,MATCH($C28,'Cross-cutting issues'!$A$5:$A$50,0)),IFERROR(INDEX(Legislation!$G$5:$G$50,MATCH($C28,Legislation!$A$5:$A$50,0)),\"\")))))))","v":0},"WHO prequalified vaccines list","http://caninerabiesblueprint.org/WHO-prequalified-vaccines-list",null,null,null,null,null,null,null,null,"Identify all sources of human rabies vaccine in the country;\nConfirm whether the human rabies vaccine sources are WHO pre-qualified;\nDetermine reasons as to why vaccines that are not WHO-pre-qualified are still in use in the country;\nDetermine whether a plan is in place to phase out vaccines that are not WHO-pre-qualified;\nIf not, develop a plan to phase out vaccines that are not WHO-pre-qualified;","Phasing out of all non-WHO-pre-qualified vaccines in the country with the eventual goal that all human rabies vaccines used in the country are WHO-pre-qualified;","Ministry of Health",5,"Number of vaccine doses that are not WHO pre-qualified;\nNumber of vaccines doses that are not WHO pre-qualified administered per year;\nPlan to phase out vaccines that are not WHO pre-qualified;","","",""]
[28,"PCO","PCO-Hum-3-6","Human vaccines",3,6,"Are WHO pre-qualified vaccines and RIG available and accessible to high risk and exposed individuals throughout the country?"," ","KEY",{"$f":"IFERROR(INDEX('Data coll & an'!$F$5:$F$50,MATCH($C29,'Data coll & an'!$A$5:$A$50,0)),IFERROR(INDEX('Prev & Ctrl'!$F$5:$F$50,MATCH($C29,'Prev & Ctrl'!$A$5:$A$50,0)),IFERROR(INDEX('Lab dx'!$F$5:$F$50,MATCH($C29,'Lab dx'!$A$5:$A$50,0)),IFERROR(INDEX('Dog popn'!$F$5:$F$50,MATCH($C29,'Dog popn'!$A$5:$A$50,0)),IFERROR(INDEX(IEC!$F$5:$F$50,MATCH($C29,IEC!$A$5:$A$50,0)),IFERROR(INDEX('Cross-cutting issues'!$F$5:$F$50,MATCH($C29,'Cross-cutting issues'!$A$5:$A$50,0)),IFERROR(INDEX(Legislation!$F$5:$F$50,MATCH($C29,Legislation!$A$5:$A$50,0)),\"\")))))))","v":1},{"$f":"IFERROR(INDEX('Data coll & an'!$G$5:$G$50,MATCH($C29,'Data coll & an'!$A$5:$A$50,0)),IFERROR(INDEX('Prev & Ctrl'!$G$5:$G$50,MATCH($C29,'Prev & Ctrl'!$A$5:$A$50,0)),IFERROR(INDEX('Lab dx'!$G$5:$G$50,MATCH($C29,'Lab dx'!$A$5:$A$50,0)),IFERROR(INDEX('Dog popn'!$G$5:$G$50,MATCH($C29,'Dog popn'!$A$5:$A$50,0)),IFERROR(INDEX(IEC!$G$5:$G$50,MATCH($C29,IEC!$A$5:$A$50,0)),IFERROR(INDEX('Cross-cutting issues'!$G$5:$G$50,MATCH($C29,'Cross-cutting issues'!$A$5:$A$50,0)),IFERROR(INDEX(Legislation!$G$5:$G$50,MATCH($C29,Legislation!$A$5:$A$50,0)),\"\")))))))","v":0},"WHO prequalified vaccines list","http://caninerabiesblueprint.org/WHO-prequalified-vaccines-list",null,null,null,null,null,null,null,null,"Conduct a needs assessment for the availability of vaccine and RIG in health facilities across the country including: training, infrastructure, storage capacity, availability of WHO pre-qualified vaccines;\nCompile a report based on the needs assessment, including recommendations;\nDevelop plan for addressing needs for the remaining facilities lacking WHO-pre-qualified vaccine and/or RIG in the entire country;\nDevelop budget and secure resources for plan; \nImplement plan so that WHO pre-qualified vaccines and RIG are available in all facilities throughout the country;\n","WHO pre-qualified human rabies vaccines and RIG are available and accessible throughout the country","Ministry of Health",8,"Needs assessment report;\nAction plan to address identified shortcomings;\nBudget;\nNumber and percentage of facilities with access to WHO pre-qualified vaccine;\nNumber and percentage of facilities with access to RIG;","","",""]
[29,"PCO","PCO-Hum-5-7","Human vaccines",5,7,"Now that your country is free from human and animal rabies, have modified protocols for PEP administration for rabies-free areas been implemented?","Modification of protocols includes improved risk-assessment before the administration of PEP, as the country is now free from endemic rabies. ","KEY",{"$f":"IFERROR(INDEX('Data coll & an'!$F$5:$F$50,MATCH($C30,'Data coll & an'!$A$5:$A$50,0)),IFERROR(INDEX('Prev & Ctrl'!$F$5:$F$50,MATCH($C30,'Prev & Ctrl'!$A$5:$A$50,0)),IFERROR(INDEX('Lab dx'!$F$5:$F$50,MATCH($C30,'Lab dx'!$A$5:$A$50,0)),IFERROR(INDEX('Dog popn'!$F$5:$F$50,MATCH($C30,'Dog popn'!$A$5:$A$50,0)),IFERROR(INDEX(IEC!$F$5:$F$50,MATCH($C30,IEC!$A$5:$A$50,0)),IFERROR(INDEX('Cross-cutting issues'!$F$5:$F$50,MATCH($C30,'Cross-cutting issues'!$A$5:$A$50,0)),IFERROR(INDEX(Legislation!$F$5:$F$50,MATCH($C30,Legislation!$A$5:$A$50,0)),\"\")))))))","v":0},{"$f":"IFERROR(INDEX('Data coll & an'!$G$5:$G$50,MATCH($C30,'Data coll & an'!$A$5:$A$50,0)),IFERROR(INDEX('Prev & Ctrl'!$G$5:$G$50,MATCH($C30,'Prev & Ctrl'!$A$5:$A$50,0)),IFERROR(INDEX('Lab dx'!$G$5:$G$50,MATCH($C30,'Lab dx'!$A$5:$A$50,0)),IFERROR(INDEX('Dog popn'!$G$5:$G$50,MATCH($C30,'Dog popn'!$A$5:$A$50,0)),IFERROR(INDEX(IEC!$G$5:$G$50,MATCH($C30,IEC!$A$5:$A$50,0)),IFERROR(INDEX('Cross-cutting issues'!$G$5:$G$50,MATCH($C30,'Cross-cutting issues'!$A$5:$A$50,0)),IFERROR(INDEX(Legislation!$G$5:$G$50,MATCH($C30,Legislation!$A$5:$A$50,0)),\"\")))))))","v":0},"WHO expert consultation on rabies","http://caninerabiesblueprint.org/WHO-expert-consultation-on-rabies",null,null,"Guidelines on human prophylaxis","http://caninerabiesblueprint.org/Guidelines-on-human-prophylaxis",null,null,null,null,"Assess applicability of existig SOPs for implementation in rabies-free areas with regards to current WHO guidelines;\nModify SOPs in accordance with the guidelines;\nShare updated SOPs with relevant professionals;\nTrain professionals on the use of the updated SOPs;\nEnsure that the updated SOPs are implemented country-wide;","Updated SOPs and protocols for the administration of rabies PEP in rabies-free areas have been implemented country-wide;","Ministry of Health",10,"Modified SOPs;\nNumber of professionals receiving the SOPs;\nNumber of professionals trained;\nNumber of case investigations;\nNumber of high-risk case investigations undertaken;\nNumber of cases receiving a full course of PEP based on the outcomes of the risk-assesment;","","",""]
[30,"PCO","PCO-Dog-1-8","Dog vaccines",1,8,"Are dog rabies vaccines available in at least one location in the country?"," ","KEY",{"$f":"IFERROR(INDEX('Data coll & an'!$F$5:$F$50,MATCH($C31,'Data coll & an'!$A$5:$A$50,0)),IFERROR(INDEX('Prev & Ctrl'!$F$5:$F$50,MATCH($C31,'Prev & Ctrl'!$A$5:$A$50,0)),IFERROR(INDEX('Lab dx'!$F$5:$F$50,MATCH($C31,'Lab dx'!$A$5:$A$50,0)),IFERROR(INDEX('Dog popn'!$F$5:$F$50,MATCH($C31,'Dog popn'!$A$5:$A$50,0)),IFERROR(INDEX(IEC!$F$5:$F$50,MATCH($C31,IEC!$A$5:$A$50,0)),IFERROR(INDEX('Cross-cutting issues'!$F$5:$F$50,MATCH($C31,'Cross-cutting issues'!$A$5:$A$50,0)),IFERROR(INDEX(Legislation!$F$5:$F$50,MATCH($C31,Legislation!$A$5:$A$50,0)),\"\")))))))","v":1},{"$f":"IFERROR(INDEX('Data coll & an'!$G$5:$G$50,MATCH($C31,'Data coll & an'!$A$5:$A$50,0)),IFERROR(INDEX('Prev & Ctrl'!$G$5:$G$50,MATCH($C31,'Prev & Ctrl'!$A$5:$A$50,0)),IFERROR(INDEX('Lab dx'!$G$5:$G$50,MATCH($C31,'Lab dx'!$A$5:$A$50,0)),IFERROR(INDEX('Dog popn'!$G$5:$G$50,MATCH($C31,'Dog popn'!$A$5:$A$50,0)),IFERROR(INDEX(IEC!$G$5:$G$50,MATCH($C31,IEC!$A$5:$A$50,0)),IFERROR(INDEX('Cross-cutting issues'!$G$5:$G$50,MATCH($C31,'Cross-cutting issues'!$A$5:$A$50,0)),IFERROR(INDEX(Legislation!$G$5:$G$50,MATCH($C31,Legislation!$A$5:$A$50,0)),\"\")))))))","v":0},"3.1-Infrastructure","http://caninerabiesblueprint.org/3-1-Infrastructure?lang=en",null,null,null,null,null,null,null,null,"Conduct an assessment to evaluate available funds to purchase dog rabies vaccines; \nProcure and import required dog rabies vaccine to meet local demand if possible;\nAssess and identify animal health facilities that have the required infrastructure to store vaccine and consumables;\nDistribute animal rabies vaccine to the identified facilities;","Animal rabies vaccine are accessible in at least one part of the country","Ministry of Agriculture",1,"Animal health facilities assessment;\nNumber of dog rabies vaccines procured;\nNumber of dog rabies vaccines distributed to each facility;\n","","",""]
[31,"PCO","PCO-Dog-1-9","Dog vaccines",1,9,"Has dog vaccination been initiated in some parts of the country? ","Areas covered",null,{"$f":"IFERROR(INDEX('Data coll & an'!$F$5:$F$50,MATCH($C32,'Data coll & an'!$A$5:$A$50,0)),IFERROR(INDEX('Prev & Ctrl'!$F$5:$F$50,MATCH($C32,'Prev & Ctrl'!$A$5:$A$50,0)),IFERROR(INDEX('Lab dx'!$F$5:$F$50,MATCH($C32,'Lab dx'!$A$5:$A$50,0)),IFERROR(INDEX('Dog popn'!$F$5:$F$50,MATCH($C32,'Dog popn'!$A$5:$A$50,0)),IFERROR(INDEX(IEC!$F$5:$F$50,MATCH($C32,IEC!$A$5:$A$50,0)),IFERROR(INDEX('Cross-cutting issues'!$F$5:$F$50,MATCH($C32,'Cross-cutting issues'!$A$5:$A$50,0)),IFERROR(INDEX(Legislation!$F$5:$F$50,MATCH($C32,Legislation!$A$5:$A$50,0)),\"\")))))))","v":1},{"$f":"IFERROR(INDEX('Data coll & an'!$G$5:$G$50,MATCH($C32,'Data coll & an'!$A$5:$A$50,0)),IFERROR(INDEX('Prev & Ctrl'!$G$5:$G$50,MATCH($C32,'Prev & Ctrl'!$A$5:$A$50,0)),IFERROR(INDEX('Lab dx'!$G$5:$G$50,MATCH($C32,'Lab dx'!$A$5:$A$50,0)),IFERROR(INDEX('Dog popn'!$G$5:$G$50,MATCH($C32,'Dog popn'!$A$5:$A$50,0)),IFERROR(INDEX(IEC!$G$5:$G$50,MATCH($C32,IEC!$A$5:$A$50,0)),IFERROR(INDEX('Cross-cutting issues'!$G$5:$G$50,MATCH($C32,'Cross-cutting issues'!$A$5:$A$50,0)),IFERROR(INDEX(Legislation!$G$5:$G$50,MATCH($C32,Legislation!$A$5:$A$50,0)),\"\")))))))","v":0},"5.4-What-are-we-going-to-do-dog-component","http://caninerabiesblueprint.org/5-4-What-are-we-going-to-do-dog?lang=en",null,null,null,null,null,null,null,null,"Identify local area(s) for small-scale dog vaccination campaign;\nIdentify relevant personnel and resources to undertake small-scale vaccination campaign;\nEnsure adequate budget to finance the vaccination campaign in the local area(s);\nEnsure that professionals are trained on humane animal handling and vaccination;\nAssess equipment and consumables requirements for the vaccination campaign;\nEnsure supply of equipment and consuambles (ensuring cold chain), to target areas;\nEnsure that awareness campaigns are held at the local area(s);\nInitiate dog vaccination campaigns in target area(s);","Dog vaccination taking place in some parts of the country","Ministry of Agriculture",1,"Number of vaccination project sites identified at local areas;\nNumber of professionals identified at each project site;\nNumber of professionals trained in dog vaccination and animal handling;\nReport and budget on equipment and consumables requirements;\nNumber of dogs vaccinated;\nAnalysed data on number of dogs vaccinated (e.g. maps, graphs, reports);  ","","",""]
[32,"PCO","PCO-Dog-2-10","Dog vaccines",2,10,"Are only quality dog vaccines in accordance with OIE standards being used?"," ",null,{"$f":"IFERROR(INDEX('Data coll & an'!$F$5:$F$50,MATCH($C33,'Data coll & an'!$A$5:$A$50,0)),IFERROR(INDEX('Prev & Ctrl'!$F$5:$F$50,MATCH($C33,'Prev & Ctrl'!$A$5:$A$50,0)),IFERROR(INDEX('Lab dx'!$F$5:$F$50,MATCH($C33,'Lab dx'!$A$5:$A$50,0)),IFERROR(INDEX('Dog popn'!$F$5:$F$50,MATCH($C33,'Dog popn'!$A$5:$A$50,0)),IFERROR(INDEX(IEC!$F$5:$F$50,MATCH($C33,IEC!$A$5:$A$50,0)),IFERROR(INDEX('Cross-cutting issues'!$F$5:$F$50,MATCH($C33,'Cross-cutting issues'!$A$5:$A$50,0)),IFERROR(INDEX(Legislation!$F$5:$F$50,MATCH($C33,Legislation!$A$5:$A$50,0)),\"\")))))))","v":1},{"$f":"IFERROR(INDEX('Data coll & an'!$G$5:$G$50,MATCH($C33,'Data coll & an'!$A$5:$A$50,0)),IFERROR(INDEX('Prev & Ctrl'!$G$5:$G$50,MATCH($C33,'Prev & Ctrl'!$A$5:$A$50,0)),IFERROR(INDEX('Lab dx'!$G$5:$G$50,MATCH($C33,'Lab dx'!$A$5:$A$50,0)),IFERROR(INDEX('Dog popn'!$G$5:$G$50,MATCH($C33,'Dog popn'!$A$5:$A$50,0)),IFERROR(INDEX(IEC!$G$5:$G$50,MATCH($C33,IEC!$A$5:$A$50,0)),IFERROR(INDEX('Cross-cutting issues'!$G$5:$G$50,MATCH($C33,'Cross-cutting issues'!$A$5:$A$50,0)),IFERROR(INDEX(Legislation!$G$5:$G$50,MATCH($C33,Legislation!$A$5:$A$50,0)),\"\")))))))","v":0},"OIE terrestrial-manual","http://caninerabiesblueprint.org/OIE-Manual-of-Diagnostic-Tests-and",null,null,null,null,null,null,null,null,"Identify all sources of animal rabies vaccine in the country;\nConfirm whether the animal rabies vaccine sources comply with OIE standards;\nDetermine reasons as to why vaccines that do not comply with OIE standards are still in use in the country;\nDetermine whether a plan is in place to phase out vaccines that do not comply with OIE standards;\nIf not, develop a plan to phase out vaccines that do not comply with OIE standards;\nEnsure future supply of vaccines comply with OIE standards;","Phasing out of all animal rabies vaccines that do not comply with OIE standards in the country with the eventual goal that all animal rabies vaccines used in the country comply with OIE standards;","Ministry of Agriculture",6,"Number of dog vaccines that comply with OIE standards;\nNumber of vaccine doses that do not comply with OIE standards;\nNumber of vaccines doses that do not comply with OIE standards administered per year;\nPlan to phase out vaccines that do not comply with OIE standards;","","",""]
[33,"PCO",{"$f":"B34&\"-\"&LEFT(D34,3)&\"-\"&E34&\"-\"&F34","v":"PCO-Dog-3-11"},"Dog vaccines",3,11,"Are mass dog vaccination campaigns reaching at least 70% of the total dog population conducted according to the plan described in the national rabies strategy? "," ","KEY",{"$f":"IFERROR(INDEX('Data coll & an'!$F$5:$F$50,MATCH($C34,'Data coll & an'!$A$5:$A$50,0)),IFERROR(INDEX('Prev & Ctrl'!$F$5:$F$50,MATCH($C34,'Prev & Ctrl'!$A$5:$A$50,0)),IFERROR(INDEX('Lab dx'!$F$5:$F$50,MATCH($C34,'Lab dx'!$A$5:$A$50,0)),IFERROR(INDEX('Dog popn'!$F$5:$F$50,MATCH($C34,'Dog popn'!$A$5:$A$50,0)),IFERROR(INDEX(IEC!$F$5:$F$50,MATCH($C34,IEC!$A$5:$A$50,0)),IFERROR(INDEX('Cross-cutting issues'!$F$5:$F$50,MATCH($C34,'Cross-cutting issues'!$A$5:$A$50,0)),IFERROR(INDEX(Legislation!$F$5:$F$50,MATCH($C34,Legislation!$A$5:$A$50,0)),\"\")))))))","v":1},{"$f":"IFERROR(INDEX('Data coll & an'!$G$5:$G$50,MATCH($C34,'Data coll & an'!$A$5:$A$50,0)),IFERROR(INDEX('Prev & Ctrl'!$G$5:$G$50,MATCH($C34,'Prev & Ctrl'!$A$5:$A$50,0)),IFERROR(INDEX('Lab dx'!$G$5:$G$50,MATCH($C34,'Lab dx'!$A$5:$A$50,0)),IFERROR(INDEX('Dog popn'!$G$5:$G$50,MATCH($C34,'Dog popn'!$A$5:$A$50,0)),IFERROR(INDEX(IEC!$G$5:$G$50,MATCH($C34,IEC!$A$5:$A$50,0)),IFERROR(INDEX('Cross-cutting issues'!$G$5:$G$50,MATCH($C34,'Cross-cutting issues'!$A$5:$A$50,0)),IFERROR(INDEX(Legislation!$G$5:$G$50,MATCH($C34,Legislation!$A$5:$A$50,0)),\"\")))))))","v":0},"5.4.13-Vaccination campaign-coverage","http://caninerabiesblueprint.org/5-4-13-How-can-the-level-of?lang=en",null,null,null,null,null,null,null,null,"Review literature to identify most sustainable approach for conducting an MDV campaign;\nDevelop and finalise SOPs based on the identified approach for the planning and implemention of MDV campaigns;\nShare the SOPs throughout the country;\nTrain relevant professionals on the implementation of the MDV SOPs;\nEstimate the number of dogs that will need to be vaccinated;\nProcure sufficient quantities of animal rabies vaccine and associated consumables;\nSecure funding and resources for the implmentation of the MDV campaigns; \nDetermine vaccination coverage;\nRevise MDV campaign strategy where needed; \nContinue implmentation until 70% coverage throughout country;","MDV campaigns are conducted throughout the country according to the plan described in the national strategy, and at least 70% of the dog population has been vaccinated against rabies;","Ministry of Agriculture",13,"MDV plan and budget;\npercentage of budget obtained; \nSOPs;\nNumber of professionals trained;\nDog population estimate;\nNumber of vaccine doses;\nNumber of dogs vaccinated;\nVaccination coverage; ","","",""]
[34,"PCO","PCO-Dog-3-12","Dog vaccines",3,12,"Are post-vaccination surveys* in dogs being carried out to evaluate vaccination coverage?","Briefly describe post-vaccination survey","KEY",{"$f":"IFERROR(INDEX('Data coll & an'!$F$5:$F$50,MATCH($C35,'Data coll & an'!$A$5:$A$50,0)),IFERROR(INDEX('Prev & Ctrl'!$F$5:$F$50,MATCH($C35,'Prev & Ctrl'!$A$5:$A$50,0)),IFERROR(INDEX('Lab dx'!$F$5:$F$50,MATCH($C35,'Lab dx'!$A$5:$A$50,0)),IFERROR(INDEX('Dog popn'!$F$5:$F$50,MATCH($C35,'Dog popn'!$A$5:$A$50,0)),IFERROR(INDEX(IEC!$F$5:$F$50,MATCH($C35,IEC!$A$5:$A$50,0)),IFERROR(INDEX('Cross-cutting issues'!$F$5:$F$50,MATCH($C35,'Cross-cutting issues'!$A$5:$A$50,0)),IFERROR(INDEX(Legislation!$F$5:$F$50,MATCH($C35,Legislation!$A$5:$A$50,0)),\"\")))))))","v":0},{"$f":"IFERROR(INDEX('Data coll & an'!$G$5:$G$50,MATCH($C35,'Data coll & an'!$A$5:$A$50,0)),IFERROR(INDEX('Prev & Ctrl'!$G$5:$G$50,MATCH($C35,'Prev & Ctrl'!$A$5:$A$50,0)),IFERROR(INDEX('Lab dx'!$G$5:$G$50,MATCH($C35,'Lab dx'!$A$5:$A$50,0)),IFERROR(INDEX('Dog popn'!$G$5:$G$50,MATCH($C35,'Dog popn'!$A$5:$A$50,0)),IFERROR(INDEX(IEC!$G$5:$G$50,MATCH($C35,IEC!$A$5:$A$50,0)),IFERROR(INDEX('Cross-cutting issues'!$G$5:$G$50,MATCH($C35,'Cross-cutting issues'!$A$5:$A$50,0)),IFERROR(INDEX(Legislation!$G$5:$G$50,MATCH($C35,Legislation!$A$5:$A$50,0)),\"\")))))))","v":0},"5.6-Evaluation","http://caninerabiesblueprint.org/5-6-Evaluation?lang=en",null,null,null,null,null,null,null,null,"Review literature and determine the best method to evaluate vaccination coverage for each area;\nDevelop post-vaccination survey SOPs;\nIdentify and train professionals on the post-vaccination survey SOPs; \nDetermine the vaccination coverage after each of the MDV campaigns;","Post-vaccination surveys conducted to evaluate each of the MDV campaigns; ","Ministry of Agriculture",13,"SOPs;\nNumber of professionals trained;\nNumber of surveys completed;\nNumber of dogs vaccinated;\nEstimated dog population;\nVaccination coverage;","","",""]
[35,"PCO","PCO-Dog-4-13","Dog vaccines",4,13,"Now that there are very few animal rabies cases in your country, are dog vaccination campaigns maintained in zones where dog rabies is still present or where otherwise justified (e.g. risk of introduction)?"," ","KEY",{"$f":"IFERROR(INDEX('Data coll & an'!$F$5:$F$50,MATCH($C36,'Data coll & an'!$A$5:$A$50,0)),IFERROR(INDEX('Prev & Ctrl'!$F$5:$F$50,MATCH($C36,'Prev & Ctrl'!$A$5:$A$50,0)),IFERROR(INDEX('Lab dx'!$F$5:$F$50,MATCH($C36,'Lab dx'!$A$5:$A$50,0)),IFERROR(INDEX('Dog popn'!$F$5:$F$50,MATCH($C36,'Dog popn'!$A$5:$A$50,0)),IFERROR(INDEX(IEC!$F$5:$F$50,MATCH($C36,IEC!$A$5:$A$50,0)),IFERROR(INDEX('Cross-cutting issues'!$F$5:$F$50,MATCH($C36,'Cross-cutting issues'!$A$5:$A$50,0)),IFERROR(INDEX(Legislation!$F$5:$F$50,MATCH($C36,Legislation!$A$5:$A$50,0)),\"\")))))))","v":1},{"$f":"IFERROR(INDEX('Data coll & an'!$G$5:$G$50,MATCH($C36,'Data coll & an'!$A$5:$A$50,0)),IFERROR(INDEX('Prev & Ctrl'!$G$5:$G$50,MATCH($C36,'Prev & Ctrl'!$A$5:$A$50,0)),IFERROR(INDEX('Lab dx'!$G$5:$G$50,MATCH($C36,'Lab dx'!$A$5:$A$50,0)),IFERROR(INDEX('Dog popn'!$G$5:$G$50,MATCH($C36,'Dog popn'!$A$5:$A$50,0)),IFERROR(INDEX(IEC!$G$5:$G$50,MATCH($C36,IEC!$A$5:$A$50,0)),IFERROR(INDEX('Cross-cutting issues'!$G$5:$G$50,MATCH($C36,'Cross-cutting issues'!$A$5:$A$50,0)),IFERROR(INDEX(Legislation!$G$5:$G$50,MATCH($C36,Legislation!$A$5:$A$50,0)),\"\")))))))","v":0},null,null,null,null,null,null,null,null,null,null,"Identify areas where dog rabies is still present;\nIdentify areas where risk of introduction is high; \nPerform a needs assessment for the identified areas;\nAllocate additional resources and professionals based on the findings of the needs assessment;\nContinue MDV campaigns in identified areas according to the national strategy;","The revision of needs and the continuation of the vaccination of dogs in high-risk areas or areas where dog rabies is still present; ","Ministry of Agriculture",10,"Number of areas where dog rabies is still present;\nNumber of areas at risk of introduction identified;\nNeeds assessment report;\nNumber of MDV campaigns in target areas;\n ","","",""]
[36,"PCO","PCO-Dog-5-14","Dog vaccines",5,14,"Even though you are rabies free based on successful mass vaccination campaigns, are strategic dog vaccination campaigns maintained where justifiable?","e.g. areas bordering endemic countries, ports of entry","KEY",{"$f":"IFERROR(INDEX('Data coll & an'!$F$5:$F$50,MATCH($C37,'Data coll & an'!$A$5:$A$50,0)),IFERROR(INDEX('Prev & Ctrl'!$F$5:$F$50,MATCH($C37,'Prev & Ctrl'!$A$5:$A$50,0)),IFERROR(INDEX('Lab dx'!$F$5:$F$50,MATCH($C37,'Lab dx'!$A$5:$A$50,0)),IFERROR(INDEX('Dog popn'!$F$5:$F$50,MATCH($C37,'Dog popn'!$A$5:$A$50,0)),IFERROR(INDEX(IEC!$F$5:$F$50,MATCH($C37,IEC!$A$5:$A$50,0)),IFERROR(INDEX('Cross-cutting issues'!$F$5:$F$50,MATCH($C37,'Cross-cutting issues'!$A$5:$A$50,0)),IFERROR(INDEX(Legislation!$F$5:$F$50,MATCH($C37,Legislation!$A$5:$A$50,0)),\"\")))))))","v":0},{"$f":"IFERROR(INDEX('Data coll & an'!$G$5:$G$50,MATCH($C37,'Data coll & an'!$A$5:$A$50,0)),IFERROR(INDEX('Prev & Ctrl'!$G$5:$G$50,MATCH($C37,'Prev & Ctrl'!$A$5:$A$50,0)),IFERROR(INDEX('Lab dx'!$G$5:$G$50,MATCH($C37,'Lab dx'!$A$5:$A$50,0)),IFERROR(INDEX('Dog popn'!$G$5:$G$50,MATCH($C37,'Dog popn'!$A$5:$A$50,0)),IFERROR(INDEX(IEC!$G$5:$G$50,MATCH($C37,IEC!$A$5:$A$50,0)),IFERROR(INDEX('Cross-cutting issues'!$G$5:$G$50,MATCH($C37,'Cross-cutting issues'!$A$5:$A$50,0)),IFERROR(INDEX(Legislation!$G$5:$G$50,MATCH($C37,Legislation!$A$5:$A$50,0)),\"\")))))))","v":0},"5.4-What-are-we-going-to-do-dog-component","http://caninerabiesblueprint.org/5-4-What-are-we-going-to-do-dog?lang=en",null,null,null,null,null,null,null,null,"Identify areas considered a high-risk for the re-introduction of canine-rabies;\nPerform a needs assessment for the identified areas;\nAllocate resources and professionals to the identified areas;\nImplement strategic vaccination in the identified areas;","Strategic vaccination of dogs in areas that are at risk for the re-introduction of the canine variant of rabies implemented and maintained; ","Ministry of Agriculture",12,"Number of high-risk areas identified;\nNeeds assessment;\nAmount fo funding available;\nNumber of MDV campaigns implemented in identified areas;","","",""]
[37,"PCO","PCO-Out-1-15","Outbreak response and other rabies control activities",1,15,"Have Standard Operating Procedures (SOPs) for coordinated action on reported outbreaks* at a local level been established?"," ",null,{"$f":"IFERROR(INDEX('Data coll & an'!$F$5:$F$50,MATCH($C38,'Data coll & an'!$A$5:$A$50,0)),IFERROR(INDEX('Prev & Ctrl'!$F$5:$F$50,MATCH($C38,'Prev & Ctrl'!$A$5:$A$50,0)),IFERROR(INDEX('Lab dx'!$F$5:$F$50,MATCH($C38,'Lab dx'!$A$5:$A$50,0)),IFERROR(INDEX('Dog popn'!$F$5:$F$50,MATCH($C38,'Dog popn'!$A$5:$A$50,0)),IFERROR(INDEX(IEC!$F$5:$F$50,MATCH($C38,IEC!$A$5:$A$50,0)),IFERROR(INDEX('Cross-cutting issues'!$F$5:$F$50,MATCH($C38,'Cross-cutting issues'!$A$5:$A$50,0)),IFERROR(INDEX(Legislation!$F$5:$F$50,MATCH($C38,Legislation!$A$5:$A$50,0)),\"\")))))))","v":1},{"$f":"IFERROR(INDEX('Data coll & an'!$G$5:$G$50,MATCH($C38,'Data coll & an'!$A$5:$A$50,0)),IFERROR(INDEX('Prev & Ctrl'!$G$5:$G$50,MATCH($C38,'Prev & Ctrl'!$A$5:$A$50,0)),IFERROR(INDEX('Lab dx'!$G$5:$G$50,MATCH($C38,'Lab dx'!$A$5:$A$50,0)),IFERROR(INDEX('Dog popn'!$G$5:$G$50,MATCH($C38,'Dog popn'!$A$5:$A$50,0)),IFERROR(INDEX(IEC!$G$5:$G$50,MATCH($C38,IEC!$A$5:$A$50,0)),IFERROR(INDEX('Cross-cutting issues'!$G$5:$G$50,MATCH($C38,'Cross-cutting issues'!$A$5:$A$50,0)),IFERROR(INDEX(Legislation!$G$5:$G$50,MATCH($C38,Legislation!$A$5:$A$50,0)),\"\")))))))","v":0},"Challenges of animal health information systems and surveillance for animal diseases and zoonoses","http://www.fao.org/3/a-i2415e.pdf",null,null,null,null,null,null,null,null,"Identify relevant authorities from each sector involved that would coordinate outbreak response;\nReview existing SOPs on outbreak response from each of the relevant sectors; \nDraft an SOP for coordinated outbreak response;  \nShare drafted SOP with all relevant authorities for feedback, including a deadline for feedback;\nRefine SOP based on feedback;\nFinalise and publish SOP, and share with all relevant professionals;","Finalised SOPs for the coordinated action on reported outbreaks developed and approved","Ministry of Agriculture; Ministry of Health; Other relevant sectors involved in outbreak response; ",2,"SOPs available;","","",""]
[38,"PCO","PCO-Out-1-16","Outbreak response and other rabies control activities",1,16,"Has Integrated Bite Case Management (IBCM)* been implemented at a local level? "," ",null,{"$f":"IFERROR(INDEX('Data coll & an'!$F$5:$F$50,MATCH($C39,'Data coll & an'!$A$5:$A$50,0)),IFERROR(INDEX('Prev & Ctrl'!$F$5:$F$50,MATCH($C39,'Prev & Ctrl'!$A$5:$A$50,0)),IFERROR(INDEX('Lab dx'!$F$5:$F$50,MATCH($C39,'Lab dx'!$A$5:$A$50,0)),IFERROR(INDEX('Dog popn'!$F$5:$F$50,MATCH($C39,'Dog popn'!$A$5:$A$50,0)),IFERROR(INDEX(IEC!$F$5:$F$50,MATCH($C39,IEC!$A$5:$A$50,0)),IFERROR(INDEX('Cross-cutting issues'!$F$5:$F$50,MATCH($C39,'Cross-cutting issues'!$A$5:$A$50,0)),IFERROR(INDEX(Legislation!$F$5:$F$50,MATCH($C39,Legislation!$A$5:$A$50,0)),\"\")))))))","v":1},{"$f":"IFERROR(INDEX('Data coll & an'!$G$5:$G$50,MATCH($C39,'Data coll & an'!$A$5:$A$50,0)),IFERROR(INDEX('Prev & Ctrl'!$G$5:$G$50,MATCH($C39,'Prev & Ctrl'!$A$5:$A$50,0)),IFERROR(INDEX('Lab dx'!$G$5:$G$50,MATCH($C39,'Lab dx'!$A$5:$A$50,0)),IFERROR(INDEX('Dog popn'!$G$5:$G$50,MATCH($C39,'Dog popn'!$A$5:$A$50,0)),IFERROR(INDEX(IEC!$G$5:$G$50,MATCH($C39,IEC!$A$5:$A$50,0)),IFERROR(INDEX('Cross-cutting issues'!$G$5:$G$50,MATCH($C39,'Cross-cutting issues'!$A$5:$A$50,0)),IFERROR(INDEX(Legislation!$G$5:$G$50,MATCH($C39,Legislation!$A$5:$A$50,0)),\"\")))))))","v":0},"Operational-activities","http://caninerabiesblueprint.org/Operational-activities?lang=en",null,null,null,null,null,null,null,null,"Identify relevant authorities from each sector involved with coordinating IBCM;\nReview existing SOPs on IBCM from published literature, Blueprint and other sources; \nDraft an SOP for coordinated IBCM;  \nShare drafted SOP with all relevant authorities for feedback, including a deadline for feedback;\nRefine SOP based on feedback;\nFinalise and publish SOP, and share with all relevant professionals;\nIdentify relevant personnel involved in IBCM programme;\nTrain relevant personnel in the implementation of the IBCM programme;\nObtain funding and resources to perform IBCM programme;\nImplement the IBCM programme at a local level;","IBCM programme operational at a local level","Ministry of Agriculture; Ministry of Health; All relevant stakeholders involved in IBCM; ",3,"SOPs available for IBCM;\nNumber of professionals trained in IBCM;\nNumber of bite cases reported; \nNumber of bite cases investigated;\n","","",""]
[39,"PCO","PCO-Out-2-17","Outbreak response and other rabies control activities",2,17,"Have IBCM SOPs, including sharing of information between sectors, been agreed upon at a national level?","Sectors involved. Please explain how the information is shared between sectors",null,{"$f":"IFERROR(INDEX('Data coll & an'!$F$5:$F$50,MATCH($C40,'Data coll & an'!$A$5:$A$50,0)),IFERROR(INDEX('Prev & Ctrl'!$F$5:$F$50,MATCH($C40,'Prev & Ctrl'!$A$5:$A$50,0)),IFERROR(INDEX('Lab dx'!$F$5:$F$50,MATCH($C40,'Lab dx'!$A$5:$A$50,0)),IFERROR(INDEX('Dog popn'!$F$5:$F$50,MATCH($C40,'Dog popn'!$A$5:$A$50,0)),IFERROR(INDEX(IEC!$F$5:$F$50,MATCH($C40,IEC!$A$5:$A$50,0)),IFERROR(INDEX('Cross-cutting issues'!$F$5:$F$50,MATCH($C40,'Cross-cutting issues'!$A$5:$A$50,0)),IFERROR(INDEX(Legislation!$F$5:$F$50,MATCH($C40,Legislation!$A$5:$A$50,0)),\"\")))))))","v":1},{"$f":"IFERROR(INDEX('Data coll & an'!$G$5:$G$50,MATCH($C40,'Data coll & an'!$A$5:$A$50,0)),IFERROR(INDEX('Prev & Ctrl'!$G$5:$G$50,MATCH($C40,'Prev & Ctrl'!$A$5:$A$50,0)),IFERROR(INDEX('Lab dx'!$G$5:$G$50,MATCH($C40,'Lab dx'!$A$5:$A$50,0)),IFERROR(INDEX('Dog popn'!$G$5:$G$50,MATCH($C40,'Dog popn'!$A$5:$A$50,0)),IFERROR(INDEX(IEC!$G$5:$G$50,MATCH($C40,IEC!$A$5:$A$50,0)),IFERROR(INDEX('Cross-cutting issues'!$G$5:$G$50,MATCH($C40,'Cross-cutting issues'!$A$5:$A$50,0)),IFERROR(INDEX(Legislation!$G$5:$G$50,MATCH($C40,Legislation!$A$5:$A$50,0)),\"\")))))))","v":0},"WHO expert consultation on rabies","http://caninerabiesblueprint.org/WHO-expert-consultation-on-rabies","Challenges of animal health information systems and surveillance for animal diseases and zoonoses ","http://www.fao.org/3/a-i2415e.pdf","Zoonotic diseases: A guide to collaboration","http://caninerabiesblueprint.org/Zoonotic-diseases-a-guide-to",null,null,null,null,"Identify relevant authorities from each sector involved with coordinating IBCM;\nReview existing SOPs on IBCM from local level; \nAdapt local level SOPs and draft an SOP for coordinated IBCM at the national level;  \nShare drafted SOP with all relevant authorities for feedback, including a deadline for feedback;\nRefine SOP based on feedback;\nFinalise and publish SOP, and share with all relevant professionals;\n","SOPs for an IBCM programme at the national level developed, finalised and approved;","Ministry of Agriculture; Ministry of Health; All relevant stakeholders involved in IBCM; ",4,"SOPs for IBCM at national level;\nNumber of professionals receiving the updated SOPs;","","",""]
[40,"PCO","PCO-Out-2-18","Outbreak response and other rabies control activities",2,18,"Is there active response to outbreaks in line with established SOPs?"," ","KEY",{"$f":"IFERROR(INDEX('Data coll & an'!$F$5:$F$50,MATCH($C41,'Data coll & an'!$A$5:$A$50,0)),IFERROR(INDEX('Prev & Ctrl'!$F$5:$F$50,MATCH($C41,'Prev & Ctrl'!$A$5:$A$50,0)),IFERROR(INDEX('Lab dx'!$F$5:$F$50,MATCH($C41,'Lab dx'!$A$5:$A$50,0)),IFERROR(INDEX('Dog popn'!$F$5:$F$50,MATCH($C41,'Dog popn'!$A$5:$A$50,0)),IFERROR(INDEX(IEC!$F$5:$F$50,MATCH($C41,IEC!$A$5:$A$50,0)),IFERROR(INDEX('Cross-cutting issues'!$F$5:$F$50,MATCH($C41,'Cross-cutting issues'!$A$5:$A$50,0)),IFERROR(INDEX(Legislation!$F$5:$F$50,MATCH($C41,Legislation!$A$5:$A$50,0)),\"\")))))))","v":1},{"$f":"IFERROR(INDEX('Data coll & an'!$G$5:$G$50,MATCH($C41,'Data coll & an'!$A$5:$A$50,0)),IFERROR(INDEX('Prev & Ctrl'!$G$5:$G$50,MATCH($C41,'Prev & Ctrl'!$A$5:$A$50,0)),IFERROR(INDEX('Lab dx'!$G$5:$G$50,MATCH($C41,'Lab dx'!$A$5:$A$50,0)),IFERROR(INDEX('Dog popn'!$G$5:$G$50,MATCH($C41,'Dog popn'!$A$5:$A$50,0)),IFERROR(INDEX(IEC!$G$5:$G$50,MATCH($C41,IEC!$A$5:$A$50,0)),IFERROR(INDEX('Cross-cutting issues'!$G$5:$G$50,MATCH($C41,'Cross-cutting issues'!$A$5:$A$50,0)),IFERROR(INDEX(Legislation!$G$5:$G$50,MATCH($C41,Legislation!$A$5:$A$50,0)),\"\")))))))","v":0},"5.4-What-are-we-going-to-do-dog-component","http://caninerabiesblueprint.org/5-4-What-are-we-going-to-do-dog?lang=en",null,null,null,null,null,null,null,null,"Identify whether SOPs have been shared with all relevant professionals;\nIdentify whether relevant professionals have been trained on using the SOPs;\nEnsure that communication channels used to report outbreaks are functional;\nEnsure that sufficient resources and funding are available for active and continued outbreak response;\nAssess frequency of outbreak responses;","Professionals actively respond to potential rabies outbreaks according to an established SOP;","Ministry of Agriculture / Ministry of Health",4,"Number of professionals trained;\nNumber of outbreaks reported;\nNumber of outbreak responses;\nReport on frequency of reported outbreaks and frequency of responses;\n","","",""]
[41,"PCO","PCO-Out-2-19","Outbreak response and other rabies control activities",2,19,"Are SOPs available for the observation of rabies suspect dogs? ","e.g. dogs  involved in biting incidents",null,{"$f":"IFERROR(INDEX('Data coll & an'!$F$5:$F$50,MATCH($C42,'Data coll & an'!$A$5:$A$50,0)),IFERROR(INDEX('Prev & Ctrl'!$F$5:$F$50,MATCH($C42,'Prev & Ctrl'!$A$5:$A$50,0)),IFERROR(INDEX('Lab dx'!$F$5:$F$50,MATCH($C42,'Lab dx'!$A$5:$A$50,0)),IFERROR(INDEX('Dog popn'!$F$5:$F$50,MATCH($C42,'Dog popn'!$A$5:$A$50,0)),IFERROR(INDEX(IEC!$F$5:$F$50,MATCH($C42,IEC!$A$5:$A$50,0)),IFERROR(INDEX('Cross-cutting issues'!$F$5:$F$50,MATCH($C42,'Cross-cutting issues'!$A$5:$A$50,0)),IFERROR(INDEX(Legislation!$F$5:$F$50,MATCH($C42,Legislation!$A$5:$A$50,0)),\"\")))))))","v":1},{"$f":"IFERROR(INDEX('Data coll & an'!$G$5:$G$50,MATCH($C42,'Data coll & an'!$A$5:$A$50,0)),IFERROR(INDEX('Prev & Ctrl'!$G$5:$G$50,MATCH($C42,'Prev & Ctrl'!$A$5:$A$50,0)),IFERROR(INDEX('Lab dx'!$G$5:$G$50,MATCH($C42,'Lab dx'!$A$5:$A$50,0)),IFERROR(INDEX('Dog popn'!$G$5:$G$50,MATCH($C42,'Dog popn'!$A$5:$A$50,0)),IFERROR(INDEX(IEC!$G$5:$G$50,MATCH($C42,IEC!$A$5:$A$50,0)),IFERROR(INDEX('Cross-cutting issues'!$G$5:$G$50,MATCH($C42,'Cross-cutting issues'!$A$5:$A$50,0)),IFERROR(INDEX(Legislation!$G$5:$G$50,MATCH($C42,Legislation!$A$5:$A$50,0)),\"\")))))))","v":0},"Guidelines-animal-shelters","http://caninerabiesblueprint.org/Guidelines-for-the-design-and,178?lang=en","WHO expert consultation on rabies","http://caninerabiesblueprint.org/WHO-expert-consultation-on-rabies",null,null,null,null,null,null,"Review sources for established SOPs (e.g. Blueprint);\nDraft SOPs based on international guidelines;\nShare SOPs with all relevant authorities (especially those responsible for reporting bite incidences) for feedback;\nRefine and finalise SOPs based on feedback;\nShare SOPs with all relevant professionals;","SOPs for the observation of rabies-suspect dogs have been developed, finalised, approved and shared with all relevant professionals;","Ministry of Agriculture; Ministry of Health; All relevant stakeholders involved in biting incidences; ",4,"SOPs for observation of suspect dogs;\nNumber of professionals receiving updated SOPs;\n","","",""]
[42,"PCO","PCO-Out-2-20","Outbreak response and other rabies control activities",2,20,"Have facilities been established for the observation of rabies-suspected dogs?","Home quarantine is adequate so long as the owner ensures the dog is provided sufficient food, water and shelter during the observation period.",null,{"$f":"IFERROR(INDEX('Data coll & an'!$F$5:$F$50,MATCH($C43,'Data coll & an'!$A$5:$A$50,0)),IFERROR(INDEX('Prev & Ctrl'!$F$5:$F$50,MATCH($C43,'Prev & Ctrl'!$A$5:$A$50,0)),IFERROR(INDEX('Lab dx'!$F$5:$F$50,MATCH($C43,'Lab dx'!$A$5:$A$50,0)),IFERROR(INDEX('Dog popn'!$F$5:$F$50,MATCH($C43,'Dog popn'!$A$5:$A$50,0)),IFERROR(INDEX(IEC!$F$5:$F$50,MATCH($C43,IEC!$A$5:$A$50,0)),IFERROR(INDEX('Cross-cutting issues'!$F$5:$F$50,MATCH($C43,'Cross-cutting issues'!$A$5:$A$50,0)),IFERROR(INDEX(Legislation!$F$5:$F$50,MATCH($C43,Legislation!$A$5:$A$50,0)),\"\")))))))","v":0},{"$f":"IFERROR(INDEX('Data coll & an'!$G$5:$G$50,MATCH($C43,'Data coll & an'!$A$5:$A$50,0)),IFERROR(INDEX('Prev & Ctrl'!$G$5:$G$50,MATCH($C43,'Prev & Ctrl'!$A$5:$A$50,0)),IFERROR(INDEX('Lab dx'!$G$5:$G$50,MATCH($C43,'Lab dx'!$A$5:$A$50,0)),IFERROR(INDEX('Dog popn'!$G$5:$G$50,MATCH($C43,'Dog popn'!$A$5:$A$50,0)),IFERROR(INDEX(IEC!$G$5:$G$50,MATCH($C43,IEC!$A$5:$A$50,0)),IFERROR(INDEX('Cross-cutting issues'!$G$5:$G$50,MATCH($C43,'Cross-cutting issues'!$A$5:$A$50,0)),IFERROR(INDEX(Legislation!$G$5:$G$50,MATCH($C43,Legislation!$A$5:$A$50,0)),\"\")))))))","v":0},"Guidelines-animal-shelters","http://caninerabiesblueprint.org/Guidelines-for-the-design-and,178?lang=en","ICAM animal shelter guidelines","http://www.icam-coalition.org/downloads/Shelter guidelines.pdf",null,null,null,null,null,null,"Assess available infrastructure to identify facilities that could be re-purposed as animal observation/quarantine facilities;\nReview international guidelines to perform a needs assessment on the identified infrastructure;\nCreate plan and accompanying budget to re-purpose identified infrasastrcture / build new facilities according to international guideliens; \nSecure funding to re-purpose identified facilities or build new facilities;\nRe-purpose/build facilities;\nTrain operational staff for the facilities;\nImplement the relevant SOPs within each of the facilities;","Facilities are established in compliance with international guidelines for the observation suspect rabid dogs; ","Ministry of Agriculture; NGOs; Animal welfare organisations; ",6,"Needs assessment report;\nPlan and budget for refurbishing/developing new facilities;\nNumber of facilities built;\nNumber of facilities re-purposed;","","",""]
[43,"PCO","PCO-Out-3-21","Outbreak response and other rabies control activities",3,21,"Is there capacity to conduct field investigations and planned outbreak responses for human rabies cases in the entire country?","Agencies of personnel involved in field investigations and outbreak response",null,{"$f":"IFERROR(INDEX('Data coll & an'!$F$5:$F$50,MATCH($C44,'Data coll & an'!$A$5:$A$50,0)),IFERROR(INDEX('Prev & Ctrl'!$F$5:$F$50,MATCH($C44,'Prev & Ctrl'!$A$5:$A$50,0)),IFERROR(INDEX('Lab dx'!$F$5:$F$50,MATCH($C44,'Lab dx'!$A$5:$A$50,0)),IFERROR(INDEX('Dog popn'!$F$5:$F$50,MATCH($C44,'Dog popn'!$A$5:$A$50,0)),IFERROR(INDEX(IEC!$F$5:$F$50,MATCH($C44,IEC!$A$5:$A$50,0)),IFERROR(INDEX('Cross-cutting issues'!$F$5:$F$50,MATCH($C44,'Cross-cutting issues'!$A$5:$A$50,0)),IFERROR(INDEX(Legislation!$F$5:$F$50,MATCH($C44,Legislation!$A$5:$A$50,0)),\"\")))))))","v":0},{"$f":"IFERROR(INDEX('Data coll & an'!$G$5:$G$50,MATCH($C44,'Data coll & an'!$A$5:$A$50,0)),IFERROR(INDEX('Prev & Ctrl'!$G$5:$G$50,MATCH($C44,'Prev & Ctrl'!$A$5:$A$50,0)),IFERROR(INDEX('Lab dx'!$G$5:$G$50,MATCH($C44,'Lab dx'!$A$5:$A$50,0)),IFERROR(INDEX('Dog popn'!$G$5:$G$50,MATCH($C44,'Dog popn'!$A$5:$A$50,0)),IFERROR(INDEX(IEC!$G$5:$G$50,MATCH($C44,IEC!$A$5:$A$50,0)),IFERROR(INDEX('Cross-cutting issues'!$G$5:$G$50,MATCH($C44,'Cross-cutting issues'!$A$5:$A$50,0)),IFERROR(INDEX(Legislation!$G$5:$G$50,MATCH($C44,Legislation!$A$5:$A$50,0)),\"\")))))))","v":0},"WHO International Health Regulations","http://caninerabiesblueprint.org/WHO-International-Health","Challenges of animal health information systems and surveillance for animal diseases and zoonoses ","http://www.fao.org/3/a-i2415e.pdf",null,null,null,null,null,null,"Review literature and guidelines on human rabies case field investigations;\nDevelop and finalise SOPs for human rabies case field investigations;\nShare SOPs with all relevant professionals;\nTrain the relevant professionals in the use of the SOPs;\nEnsure adequate resources are available to conduct the field investigations;","Capacity to conduct field investigations and planned outbreak responses for human rabies cases in the entire country;","Ministry of Agriculture / Ministry of Health",8,"SOPs;\nNumber of professionals receiving the SOPs;\nNumber of professionals trained;\nAmount of funding available;","","",""]
[44,"PCO","PCO-Out-3-22","Outbreak response and other rabies control activities",3,22,"Have potential rabies-free zones been identified where animal rabies cases caused by the canine rabies variant have been absent for at least a 2 year period?","Names of rabies-free zones","KEY",{"$f":"IFERROR(INDEX('Data coll & an'!$F$5:$F$50,MATCH($C45,'Data coll & an'!$A$5:$A$50,0)),IFERROR(INDEX('Prev & Ctrl'!$F$5:$F$50,MATCH($C45,'Prev & Ctrl'!$A$5:$A$50,0)),IFERROR(INDEX('Lab dx'!$F$5:$F$50,MATCH($C45,'Lab dx'!$A$5:$A$50,0)),IFERROR(INDEX('Dog popn'!$F$5:$F$50,MATCH($C45,'Dog popn'!$A$5:$A$50,0)),IFERROR(INDEX(IEC!$F$5:$F$50,MATCH($C45,IEC!$A$5:$A$50,0)),IFERROR(INDEX('Cross-cutting issues'!$F$5:$F$50,MATCH($C45,'Cross-cutting issues'!$A$5:$A$50,0)),IFERROR(INDEX(Legislation!$F$5:$F$50,MATCH($C45,Legislation!$A$5:$A$50,0)),\"\")))))))","v":0},{"$f":"IFERROR(INDEX('Data coll & an'!$G$5:$G$50,MATCH($C45,'Data coll & an'!$A$5:$A$50,0)),IFERROR(INDEX('Prev & Ctrl'!$G$5:$G$50,MATCH($C45,'Prev & Ctrl'!$A$5:$A$50,0)),IFERROR(INDEX('Lab dx'!$G$5:$G$50,MATCH($C45,'Lab dx'!$A$5:$A$50,0)),IFERROR(INDEX('Dog popn'!$G$5:$G$50,MATCH($C45,'Dog popn'!$A$5:$A$50,0)),IFERROR(INDEX(IEC!$G$5:$G$50,MATCH($C45,IEC!$A$5:$A$50,0)),IFERROR(INDEX('Cross-cutting issues'!$G$5:$G$50,MATCH($C45,'Cross-cutting issues'!$A$5:$A$50,0)),IFERROR(INDEX(Legislation!$G$5:$G$50,MATCH($C45,Legislation!$A$5:$A$50,0)),\"\")))))))","v":0},"5.4.17 Keeping an area rabies-free","http://caninerabiesblueprint.org/5-4-17-Our-programme-has-been",null,null,null,null,null,null,null,null,"Ensure ongoing sample collection and routine rabies diagnosis from identified area(s);\nCompile epidemiological reports with up to date surveillance data showing absence of the disease;\nIdentify areas where epidemiological data reflects the absence of rabies for 2 years; ","Zones free from animal rabies cases caused by the canine rabies variant have been identified based on sound epidemiological data;","Ministry of Agriculture",8,"The number of suspect rabies samples diagnosed;\nNumber of rabies-negative samples diagnosed;\nPercentage of samples diagnosed that are rabies-negative;\nSurveillance reports;\nAreas identified;","","",""]
[45,"PCO","PCO-Out-3-23","Outbreak response and other rabies control activities",3,23,"Has dialogue been initiated with neighbouring countries to prevent the re-introduction of rabies into designated rabies-free zones?"," ",null,{"$f":"IFERROR(INDEX('Data coll & an'!$F$5:$F$50,MATCH($C46,'Data coll & an'!$A$5:$A$50,0)),IFERROR(INDEX('Prev & Ctrl'!$F$5:$F$50,MATCH($C46,'Prev & Ctrl'!$A$5:$A$50,0)),IFERROR(INDEX('Lab dx'!$F$5:$F$50,MATCH($C46,'Lab dx'!$A$5:$A$50,0)),IFERROR(INDEX('Dog popn'!$F$5:$F$50,MATCH($C46,'Dog popn'!$A$5:$A$50,0)),IFERROR(INDEX(IEC!$F$5:$F$50,MATCH($C46,IEC!$A$5:$A$50,0)),IFERROR(INDEX('Cross-cutting issues'!$F$5:$F$50,MATCH($C46,'Cross-cutting issues'!$A$5:$A$50,0)),IFERROR(INDEX(Legislation!$F$5:$F$50,MATCH($C46,Legislation!$A$5:$A$50,0)),\"\")))))))","v":1},{"$f":"IFERROR(INDEX('Data coll & an'!$G$5:$G$50,MATCH($C46,'Data coll & an'!$A$5:$A$50,0)),IFERROR(INDEX('Prev & Ctrl'!$G$5:$G$50,MATCH($C46,'Prev & Ctrl'!$A$5:$A$50,0)),IFERROR(INDEX('Lab dx'!$G$5:$G$50,MATCH($C46,'Lab dx'!$A$5:$A$50,0)),IFERROR(INDEX('Dog popn'!$G$5:$G$50,MATCH($C46,'Dog popn'!$A$5:$A$50,0)),IFERROR(INDEX(IEC!$G$5:$G$50,MATCH($C46,IEC!$A$5:$A$50,0)),IFERROR(INDEX('Cross-cutting issues'!$G$5:$G$50,MATCH($C46,'Cross-cutting issues'!$A$5:$A$50,0)),IFERROR(INDEX(Legislation!$G$5:$G$50,MATCH($C46,Legislation!$A$5:$A$50,0)),\"\")))))))","v":0},"5.4.17-successful-maintenance","http://caninerabiesblueprint.org/5-4-17-Our-programme-has-been?lang=en","Challenges of animal health information systems and surveillance for animal diseases and zoonoses ","http://www.fao.org/3/a-i2415e.pdf",null,null,null,null,null,null,"Identify relevant authorities in neighbouring countries;\nShare and discuss epidemiological data of rabies-free zones and surrounding areas;\nShare MDV campaign details with neighbouring authorities;\nIdentify possible ways to prevent re-introduction of rabies;","Open dialogue initiated and continued with regards to joint efforts for the prevention of the re-introduction of rabies into designated rabies-free zones has been established;","Ministry of Agriculture and Ministry of Health from your country and neighbouring countries;",7,"Number of relevant neighbouring authorities contacted;\nNumber of epidemiological reports shared;\nMDV campaign details shared;","","",""]
[46,"PCO","PCO-Out-4-24","Outbreak response and other rabies control activities",4,24,"Is there capacity to conduct field investigations and planned outbreak responses for animal rabies cases in the entire country?"," ",null,{"$f":"IFERROR(INDEX('Data coll & an'!$F$5:$F$50,MATCH($C47,'Data coll & an'!$A$5:$A$50,0)),IFERROR(INDEX('Prev & Ctrl'!$F$5:$F$50,MATCH($C47,'Prev & Ctrl'!$A$5:$A$50,0)),IFERROR(INDEX('Lab dx'!$F$5:$F$50,MATCH($C47,'Lab dx'!$A$5:$A$50,0)),IFERROR(INDEX('Dog popn'!$F$5:$F$50,MATCH($C47,'Dog popn'!$A$5:$A$50,0)),IFERROR(INDEX(IEC!$F$5:$F$50,MATCH($C47,IEC!$A$5:$A$50,0)),IFERROR(INDEX('Cross-cutting issues'!$F$5:$F$50,MATCH($C47,'Cross-cutting issues'!$A$5:$A$50,0)),IFERROR(INDEX(Legislation!$F$5:$F$50,MATCH($C47,Legislation!$A$5:$A$50,0)),\"\")))))))","v":1},{"$f":"IFERROR(INDEX('Data coll & an'!$G$5:$G$50,MATCH($C47,'Data coll & an'!$A$5:$A$50,0)),IFERROR(INDEX('Prev & Ctrl'!$G$5:$G$50,MATCH($C47,'Prev & Ctrl'!$A$5:$A$50,0)),IFERROR(INDEX('Lab dx'!$G$5:$G$50,MATCH($C47,'Lab dx'!$A$5:$A$50,0)),IFERROR(INDEX('Dog popn'!$G$5:$G$50,MATCH($C47,'Dog popn'!$A$5:$A$50,0)),IFERROR(INDEX(IEC!$G$5:$G$50,MATCH($C47,IEC!$A$5:$A$50,0)),IFERROR(INDEX('Cross-cutting issues'!$G$5:$G$50,MATCH($C47,'Cross-cutting issues'!$A$5:$A$50,0)),IFERROR(INDEX(Legislation!$G$5:$G$50,MATCH($C47,Legislation!$A$5:$A$50,0)),\"\")))))))","v":0},null,null,null,null,null,null,null,null,null,null,"Review and finalise SOPs on animal rabies case field investigations and outbreak response;\nShare relevant SOPs with all relevant professionals;\nTrain the relevant professionals in the use of the SOPs;\nEnsure adequate resources are available to conduct the field investigations and outbreak responses;","Capacity to conduct field investigations and planned outbreak responses for animal rabies cases in the entire country;","Ministry of Agriculture ",9,"Updated SOPs;\nNumber of professionals trained;\nAmount of funding available;","","",""]
[47,"PCO","PCO-Out-4-25","Outbreak response and other rabies control activities",4,25,"Now that there are very few animal rabies cases in your country, has an emergency response/contingency plan been developed to address any reintroduced case of animal rabies involving a canine variant in rabies-free zones?"," ","KEY",{"$f":"IFERROR(INDEX('Data coll & an'!$F$5:$F$50,MATCH($C48,'Data coll & an'!$A$5:$A$50,0)),IFERROR(INDEX('Prev & Ctrl'!$F$5:$F$50,MATCH($C48,'Prev & Ctrl'!$A$5:$A$50,0)),IFERROR(INDEX('Lab dx'!$F$5:$F$50,MATCH($C48,'Lab dx'!$A$5:$A$50,0)),IFERROR(INDEX('Dog popn'!$F$5:$F$50,MATCH($C48,'Dog popn'!$A$5:$A$50,0)),IFERROR(INDEX(IEC!$F$5:$F$50,MATCH($C48,IEC!$A$5:$A$50,0)),IFERROR(INDEX('Cross-cutting issues'!$F$5:$F$50,MATCH($C48,'Cross-cutting issues'!$A$5:$A$50,0)),IFERROR(INDEX(Legislation!$F$5:$F$50,MATCH($C48,Legislation!$A$5:$A$50,0)),\"\")))))))","v":0},{"$f":"IFERROR(INDEX('Data coll & an'!$G$5:$G$50,MATCH($C48,'Data coll & an'!$A$5:$A$50,0)),IFERROR(INDEX('Prev & Ctrl'!$G$5:$G$50,MATCH($C48,'Prev & Ctrl'!$A$5:$A$50,0)),IFERROR(INDEX('Lab dx'!$G$5:$G$50,MATCH($C48,'Lab dx'!$A$5:$A$50,0)),IFERROR(INDEX('Dog popn'!$G$5:$G$50,MATCH($C48,'Dog popn'!$A$5:$A$50,0)),IFERROR(INDEX(IEC!$G$5:$G$50,MATCH($C48,IEC!$A$5:$A$50,0)),IFERROR(INDEX('Cross-cutting issues'!$G$5:$G$50,MATCH($C48,'Cross-cutting issues'!$A$5:$A$50,0)),IFERROR(INDEX(Legislation!$G$5:$G$50,MATCH($C48,Legislation!$A$5:$A$50,0)),\"\")))))))","v":0},"5.4.20 Reintroduction response ","http://caninerabiesblueprint.org/5-4-20-What-do-we-need-to-do-if",null,null,null,null,null,null,null,null,"Emergency plan drafted and shared with relevant authorities;\nEmergeny plan updated with feedback;\nSecure funding for the possible implementation of the emergency plan;\nEnsure that the relevant personnel are trained and resourced for the possible implementation of the plan;","Emergency/contingency plan developed, funding secured, personnel trained and resources available for the possible implementation of the plan;","National Rabies taskforce",9,"Emergency plan;\nAmount of funding available;\nNumber of Professionals trained;","","",""]
[48,"PCO","PCO-Out-5-26","Outbreak response and other rabies control activities",5,26,"Even though you are rabies free based on successful mass vaccination campaigns, has the capacity for outbreak and re-introduction response been maintained?"," ","KEY",{"$f":"IFERROR(INDEX('Data coll & an'!$F$5:$F$50,MATCH($C49,'Data coll & an'!$A$5:$A$50,0)),IFERROR(INDEX('Prev & Ctrl'!$F$5:$F$50,MATCH($C49,'Prev & Ctrl'!$A$5:$A$50,0)),IFERROR(INDEX('Lab dx'!$F$5:$F$50,MATCH($C49,'Lab dx'!$A$5:$A$50,0)),IFERROR(INDEX('Dog popn'!$F$5:$F$50,MATCH($C49,'Dog popn'!$A$5:$A$50,0)),IFERROR(INDEX(IEC!$F$5:$F$50,MATCH($C49,IEC!$A$5:$A$50,0)),IFERROR(INDEX('Cross-cutting issues'!$F$5:$F$50,MATCH($C49,'Cross-cutting issues'!$A$5:$A$50,0)),IFERROR(INDEX(Legislation!$F$5:$F$50,MATCH($C49,Legislation!$A$5:$A$50,0)),\"\")))))))","v":0},{"$f":"IFERROR(INDEX('Data coll & an'!$G$5:$G$50,MATCH($C49,'Data coll & an'!$A$5:$A$50,0)),IFERROR(INDEX('Prev & Ctrl'!$G$5:$G$50,MATCH($C49,'Prev & Ctrl'!$A$5:$A$50,0)),IFERROR(INDEX('Lab dx'!$G$5:$G$50,MATCH($C49,'Lab dx'!$A$5:$A$50,0)),IFERROR(INDEX('Dog popn'!$G$5:$G$50,MATCH($C49,'Dog popn'!$A$5:$A$50,0)),IFERROR(INDEX(IEC!$G$5:$G$50,MATCH($C49,IEC!$A$5:$A$50,0)),IFERROR(INDEX('Cross-cutting issues'!$G$5:$G$50,MATCH($C49,'Cross-cutting issues'!$A$5:$A$50,0)),IFERROR(INDEX(Legislation!$G$5:$G$50,MATCH($C49,Legislation!$A$5:$A$50,0)),\"\")))))))","v":0},"5.4.17-successful-maintenance","http://caninerabiesblueprint.org/5-4-17-Our-programme-has-been?lang=en",null,null,null,null,null,null,null,null,"Regularly review and update the established SOPs for outbreak response;\nShare SOPs with new professionals working in the local areas;\nProfessionals regularly trained on all relevant rabies intervention activities (e.g. outbreak response, animal handling and vaccination; case investigation, etc.);\nEnsure that adequate funding and resources remain available for possible intervention; ","Continued awareness and preparedness within expert network operating at the local level;","Ministry of Agriculture / Ministry of Health",12,"SOPs reviewed and updated where necessary;\nPercentage of new professionals receiving SOPs;\nNumber of profesisonals trained each year;\nAmount of funding available;","","",""]
[49,"LAB","LAB-Spe-0-1","Specimen referral",0,1,"Have contacts with an international rabies reference laboratory or international collaborating/reference center been established?","Names of international rabies reference laboratories or collaborating/reference centers","KEY",{"$f":"IFERROR(INDEX('Data coll & an'!$F$5:$F$50,MATCH($C50,'Data coll & an'!$A$5:$A$50,0)),IFERROR(INDEX('Prev & Ctrl'!$F$5:$F$50,MATCH($C50,'Prev & Ctrl'!$A$5:$A$50,0)),IFERROR(INDEX('Lab dx'!$F$5:$F$50,MATCH($C50,'Lab dx'!$A$5:$A$50,0)),IFERROR(INDEX('Dog popn'!$F$5:$F$50,MATCH($C50,'Dog popn'!$A$5:$A$50,0)),IFERROR(INDEX(IEC!$F$5:$F$50,MATCH($C50,IEC!$A$5:$A$50,0)),IFERROR(INDEX('Cross-cutting issues'!$F$5:$F$50,MATCH($C50,'Cross-cutting issues'!$A$5:$A$50,0)),IFERROR(INDEX(Legislation!$F$5:$F$50,MATCH($C50,Legislation!$A$5:$A$50,0)),\"\")))))))","v":1},{"$f":"IFERROR(INDEX('Data coll & an'!$G$5:$G$50,MATCH($C50,'Data coll & an'!$A$5:$A$50,0)),IFERROR(INDEX('Prev & Ctrl'!$G$5:$G$50,MATCH($C50,'Prev & Ctrl'!$A$5:$A$50,0)),IFERROR(INDEX('Lab dx'!$G$5:$G$50,MATCH($C50,'Lab dx'!$A$5:$A$50,0)),IFERROR(INDEX('Dog popn'!$G$5:$G$50,MATCH($C50,'Dog popn'!$A$5:$A$50,0)),IFERROR(INDEX(IEC!$G$5:$G$50,MATCH($C50,IEC!$A$5:$A$50,0)),IFERROR(INDEX('Cross-cutting issues'!$G$5:$G$50,MATCH($C50,'Cross-cutting issues'!$A$5:$A$50,0)),IFERROR(INDEX(Legislation!$G$5:$G$50,MATCH($C50,Legislation!$A$5:$A$50,0)),\"\")))))))","v":0},"3.1.7 Which laboratories are-available","http://caninerabiesblueprint.org/3-1-7-Which-laboratories-are?lang=en","OIE reference laboratories","http://www.oie.int/en/our-scientific-expertise/reference-laboratories/list-of-laboratories/","WHO collaborating centres","http://apps.who.int/whocc/List.aspx?cc_subject=Rabies+&","FAO reference centre","http://www.izsvenezie.com/reference-laboratories/rabies/","WHO expert consultation on rabies","http://caninerabiesblueprint.org/WHO-expert-consultation-on-rabies","Identify closest international rabies reference laboratory/collaborating centre;\nIdentify and initiate contact with the responsible person at the international laboratory; \nDetermine whether a formal agreement or line of communication is required with the international laboratory;\n","Contact has been made with an  international rabies reference laboratory or international collaborating/reference center","Ministry of Agriculture / Ministry of Health",1,"Relevant contact has been identified;\nCommunications have been initiated;\nThe possible requirement for a formal line of communication/MoU has been determined; ","","",""]
[50,"LAB","LAB-Spe-0-2","Specimen referral",0,2,"If there is no laboratory diagnosis in your country, has at least one human or animal rabies suspect sample been submitted to an international rabies reference laboratory for confirmation?","If there has been any functional laboratory diagnosis in your country, mark this activity as \"complete\".\nYear of most recent specimen referral;\nName of international rabies reference laboratory","KEY",{"$f":"IFERROR(INDEX('Data coll & an'!$F$5:$F$50,MATCH($C51,'Data coll & an'!$A$5:$A$50,0)),IFERROR(INDEX('Prev & Ctrl'!$F$5:$F$50,MATCH($C51,'Prev & Ctrl'!$A$5:$A$50,0)),IFERROR(INDEX('Lab dx'!$F$5:$F$50,MATCH($C51,'Lab dx'!$A$5:$A$50,0)),IFERROR(INDEX('Dog popn'!$F$5:$F$50,MATCH($C51,'Dog popn'!$A$5:$A$50,0)),IFERROR(INDEX(IEC!$F$5:$F$50,MATCH($C51,IEC!$A$5:$A$50,0)),IFERROR(INDEX('Cross-cutting issues'!$F$5:$F$50,MATCH($C51,'Cross-cutting issues'!$A$5:$A$50,0)),IFERROR(INDEX(Legislation!$F$5:$F$50,MATCH($C51,Legislation!$A$5:$A$50,0)),\"\")))))))","v":1},{"$f":"IFERROR(INDEX('Data coll & an'!$G$5:$G$50,MATCH($C51,'Data coll & an'!$A$5:$A$50,0)),IFERROR(INDEX('Prev & Ctrl'!$G$5:$G$50,MATCH($C51,'Prev & Ctrl'!$A$5:$A$50,0)),IFERROR(INDEX('Lab dx'!$G$5:$G$50,MATCH($C51,'Lab dx'!$A$5:$A$50,0)),IFERROR(INDEX('Dog popn'!$G$5:$G$50,MATCH($C51,'Dog popn'!$A$5:$A$50,0)),IFERROR(INDEX(IEC!$G$5:$G$50,MATCH($C51,IEC!$A$5:$A$50,0)),IFERROR(INDEX('Cross-cutting issues'!$G$5:$G$50,MATCH($C51,'Cross-cutting issues'!$A$5:$A$50,0)),IFERROR(INDEX(Legislation!$G$5:$G$50,MATCH($C51,Legislation!$A$5:$A$50,0)),\"\")))))))","v":0},"Simple-techniques-for animal brain-sampling","http://caninerabiesblueprint.org/Simple-techniques-for-brain-sample?lang=en","3.6 Human samples","http://rabiessurveillanceblueprint.org/3-6-What-samples-do-we-need-to",null,null,null,null,null,null,"Formalise relationship with international laboratory;\nDetermine requirements for sample submission (e.g. sample requirements - storage, transport, etc.)\nCollect and store rabies suspect samples according to the requirements of the international laboratory;\nDetermine whether funding is required for the shipment of samples and acquire if necessary;\nSend suspect rabies samples to the identified international laboratory;\nFollow up on diagnostic outcome of submitted samples;  ","Rabies suspect samples have been submitted for diagnosis at an international reference laboratory; \nResults from diagnosis have been received; ","Ministry of Agriculture / Ministry of Health",1,"At least 1 suspect rabeis sample has been submitted for diagnosis;\nNumber of rabies-positive or -negative samples;","","",""]
[51,"LAB","LAB-Lab-1-3","Laboratory capacity and testing",1,3,"Is rabies diagnosis being conducted in at least one national laboratory (veterinary or medical laboratory)?"," ","KEY",{"$f":"IFERROR(INDEX('Data coll & an'!$F$5:$F$50,MATCH($C52,'Data coll & an'!$A$5:$A$50,0)),IFERROR(INDEX('Prev & Ctrl'!$F$5:$F$50,MATCH($C52,'Prev & Ctrl'!$A$5:$A$50,0)),IFERROR(INDEX('Lab dx'!$F$5:$F$50,MATCH($C52,'Lab dx'!$A$5:$A$50,0)),IFERROR(INDEX('Dog popn'!$F$5:$F$50,MATCH($C52,'Dog popn'!$A$5:$A$50,0)),IFERROR(INDEX(IEC!$F$5:$F$50,MATCH($C52,IEC!$A$5:$A$50,0)),IFERROR(INDEX('Cross-cutting issues'!$F$5:$F$50,MATCH($C52,'Cross-cutting issues'!$A$5:$A$50,0)),IFERROR(INDEX(Legislation!$F$5:$F$50,MATCH($C52,Legislation!$A$5:$A$50,0)),\"\")))))))","v":1},{"$f":"IFERROR(INDEX('Data coll & an'!$G$5:$G$50,MATCH($C52,'Data coll & an'!$A$5:$A$50,0)),IFERROR(INDEX('Prev & Ctrl'!$G$5:$G$50,MATCH($C52,'Prev & Ctrl'!$A$5:$A$50,0)),IFERROR(INDEX('Lab dx'!$G$5:$G$50,MATCH($C52,'Lab dx'!$A$5:$A$50,0)),IFERROR(INDEX('Dog popn'!$G$5:$G$50,MATCH($C52,'Dog popn'!$A$5:$A$50,0)),IFERROR(INDEX(IEC!$G$5:$G$50,MATCH($C52,IEC!$A$5:$A$50,0)),IFERROR(INDEX('Cross-cutting issues'!$G$5:$G$50,MATCH($C52,'Cross-cutting issues'!$A$5:$A$50,0)),IFERROR(INDEX(Legislation!$G$5:$G$50,MATCH($C52,Legislation!$A$5:$A$50,0)),\"\")))))))","v":0},"3.1.8 Minimum laboratory requirements","http://caninerabiesblueprint.org/3-1-8-What-are-the-minimum?lang=en","OIE Manual of Diagnostic Tests and Vaccines  for Terrestrial Animals  ","http://caninerabiesblueprint.org/OIE-Manual-of-Diagnostic-Tests-and"," Laboratory biorisk management/","http://caninerabiesblueprint.org/Laboratory-biorisk-management","4. Laboratory rabies diagnosis","http://rabiessurveillanceblueprint.org/-Laboratory-rabies-diagnosis-",null,null,"Ensure governmental buy-in and support for the establishment of a rabies diagnostic facility;\nIdentify a suitable facility for rabies diagnosis;\nUndertake a needs assessment to determine rabies diagnostic capacity: Availability of SOPs, reagents, trained personnel, equipment, etc.;\nDevelop a budget and secure funding to address shortcomings identified in the needs assessment;\nAddress identified shortcomings and establish the diagnostic facility;\nNotify surveillance officers of the availability of the rabies diagnostic facility to obtain samples;\nDiagnose any samples that have been submitted; ","Diagnostic outcomes for suspect rabies samples determined by the laboratory;","Ministry of Agriculture / Ministry of Health",2,"Government support acquired;\nFacility  established;\nNumber of staff capable of undertaking rabies diagnosis;\nNumber of suspect rabies samples diagnosed;","","",""]
[52,"LAB","LAB-Lab-1-4","Laboratory capacity and testing",1,4,"Have several rabies suspect samples of animals or humans been submitted to a national laboratory and analysed? ","Name of national laboratory;\nLaboratory test used",null,{"$f":"IFERROR(INDEX('Data coll & an'!$F$5:$F$50,MATCH($C53,'Data coll & an'!$A$5:$A$50,0)),IFERROR(INDEX('Prev & Ctrl'!$F$5:$F$50,MATCH($C53,'Prev & Ctrl'!$A$5:$A$50,0)),IFERROR(INDEX('Lab dx'!$F$5:$F$50,MATCH($C53,'Lab dx'!$A$5:$A$50,0)),IFERROR(INDEX('Dog popn'!$F$5:$F$50,MATCH($C53,'Dog popn'!$A$5:$A$50,0)),IFERROR(INDEX(IEC!$F$5:$F$50,MATCH($C53,IEC!$A$5:$A$50,0)),IFERROR(INDEX('Cross-cutting issues'!$F$5:$F$50,MATCH($C53,'Cross-cutting issues'!$A$5:$A$50,0)),IFERROR(INDEX(Legislation!$F$5:$F$50,MATCH($C53,Legislation!$A$5:$A$50,0)),\"\")))))))","v":1},{"$f":"IFERROR(INDEX('Data coll & an'!$G$5:$G$50,MATCH($C53,'Data coll & an'!$A$5:$A$50,0)),IFERROR(INDEX('Prev & Ctrl'!$G$5:$G$50,MATCH($C53,'Prev & Ctrl'!$A$5:$A$50,0)),IFERROR(INDEX('Lab dx'!$G$5:$G$50,MATCH($C53,'Lab dx'!$A$5:$A$50,0)),IFERROR(INDEX('Dog popn'!$G$5:$G$50,MATCH($C53,'Dog popn'!$A$5:$A$50,0)),IFERROR(INDEX(IEC!$G$5:$G$50,MATCH($C53,IEC!$A$5:$A$50,0)),IFERROR(INDEX('Cross-cutting issues'!$G$5:$G$50,MATCH($C53,'Cross-cutting issues'!$A$5:$A$50,0)),IFERROR(INDEX(Legislation!$G$5:$G$50,MATCH($C53,Legislation!$A$5:$A$50,0)),\"\")))))))","v":0},"Simple-techniques-for animal brain-sampling","http://caninerabiesblueprint.org/Simple-techniques-for-brain-sample?lang=en","Manual of Diagnostic Tests and Vaccines for Terrestrial Animals 2016","http://caninerabiesblueprint.org/OIE-Manual-of-Diagnostic-Tests-and","WHO guidance on regulations for the transport of infectious substances","http://caninerabiesblueprint.org/WHO-Guidance-on-Transport-of",null,null,null,null,"Determine existing shortcomings in sample collection, submission and diagnosis;\nResearch potential solutions to the identified shortcomings highlighted (e.g. using the Rabies Blueprint);\nDevelop a budget and secure the necessary funding to address the shortcomings;\nAddress the shortcomings to improve sample colelction, submission and diagnosis;\nPeriodically re-assess situation to ensure that several rabies suspect samples are being diagnosed at a national laboratory; ","Several suspect rabies samples have been submitted and diagnosed at the national rabies laboratory;","Ministry of Agriculture / Ministry of Health",3,"Report on identified shortcomings regarding sample collection, submission and diagnosis;\nList of suspect rabies samples arriving at the laboratory for diagnosis;\nList of diagnostic outcomes for all of the submitted suspect rabies samples; \n","","",""]
[53,"LAB","LAB-Lab-2-5","Laboratory capacity and testing",2,5,"Does your country undergo proficiency testing with an internationally recognised laboratory? ","e.g OIE reference lab, WHO collaborating centre etc.",null,{"$f":"IFERROR(INDEX('Data coll & an'!$F$5:$F$50,MATCH($C54,'Data coll & an'!$A$5:$A$50,0)),IFERROR(INDEX('Prev & Ctrl'!$F$5:$F$50,MATCH($C54,'Prev & Ctrl'!$A$5:$A$50,0)),IFERROR(INDEX('Lab dx'!$F$5:$F$50,MATCH($C54,'Lab dx'!$A$5:$A$50,0)),IFERROR(INDEX('Dog popn'!$F$5:$F$50,MATCH($C54,'Dog popn'!$A$5:$A$50,0)),IFERROR(INDEX(IEC!$F$5:$F$50,MATCH($C54,IEC!$A$5:$A$50,0)),IFERROR(INDEX('Cross-cutting issues'!$F$5:$F$50,MATCH($C54,'Cross-cutting issues'!$A$5:$A$50,0)),IFERROR(INDEX(Legislation!$F$5:$F$50,MATCH($C54,Legislation!$A$5:$A$50,0)),\"\")))))))","v":1},{"$f":"IFERROR(INDEX('Data coll & an'!$G$5:$G$50,MATCH($C54,'Data coll & an'!$A$5:$A$50,0)),IFERROR(INDEX('Prev & Ctrl'!$G$5:$G$50,MATCH($C54,'Prev & Ctrl'!$A$5:$A$50,0)),IFERROR(INDEX('Lab dx'!$G$5:$G$50,MATCH($C54,'Lab dx'!$A$5:$A$50,0)),IFERROR(INDEX('Dog popn'!$G$5:$G$50,MATCH($C54,'Dog popn'!$A$5:$A$50,0)),IFERROR(INDEX(IEC!$G$5:$G$50,MATCH($C54,IEC!$A$5:$A$50,0)),IFERROR(INDEX('Cross-cutting issues'!$G$5:$G$50,MATCH($C54,'Cross-cutting issues'!$A$5:$A$50,0)),IFERROR(INDEX(Legislation!$G$5:$G$50,MATCH($C54,Legislation!$A$5:$A$50,0)),\"\")))))))","v":0},"6.7 International databases","http://rabiessurveillanceblueprint.org/6-7-What-international-rabies?lang=en",null,null,null,null,null,null,null,null,"Contact international rabies reference laboratory or international collaborating/reference centre with regards to taking part in a proficiency test;\nEnsure that samples for proficiency test arrive at the laboratory;\nTest all samples received for the proficiency test;\nReport final diagnostic outcomes of the proficiency test back to the international laboratory;\nObtain final results of the proficiency testing from the international laboratory;\nDiscuss results with international laboratory and determine best course of action based on the results; ","The national laboratory undertakes proficiency testing regularly;","Ministry of Agriculture / Ministry of Health",5,"Number of samples correctly diagnosed;\nNumber of samples incorrectly diagnosed;\nOutlined course of action to improve future diagnosis;\n","","",""]
[54,"LAB","LAB-Lab-2-6","Laboratory capacity and testing",2,6,"Has capacity for regular sample collection and transportation been established and functioning?","Capacity includes the following: costing and payment system for sample transport, contact persons, transport companies/vehicles, packaging etc. ",null,{"$f":"IFERROR(INDEX('Data coll & an'!$F$5:$F$50,MATCH($C55,'Data coll & an'!$A$5:$A$50,0)),IFERROR(INDEX('Prev & Ctrl'!$F$5:$F$50,MATCH($C55,'Prev & Ctrl'!$A$5:$A$50,0)),IFERROR(INDEX('Lab dx'!$F$5:$F$50,MATCH($C55,'Lab dx'!$A$5:$A$50,0)),IFERROR(INDEX('Dog popn'!$F$5:$F$50,MATCH($C55,'Dog popn'!$A$5:$A$50,0)),IFERROR(INDEX(IEC!$F$5:$F$50,MATCH($C55,IEC!$A$5:$A$50,0)),IFERROR(INDEX('Cross-cutting issues'!$F$5:$F$50,MATCH($C55,'Cross-cutting issues'!$A$5:$A$50,0)),IFERROR(INDEX(Legislation!$F$5:$F$50,MATCH($C55,Legislation!$A$5:$A$50,0)),\"\")))))))","v":1},{"$f":"IFERROR(INDEX('Data coll & an'!$G$5:$G$50,MATCH($C55,'Data coll & an'!$A$5:$A$50,0)),IFERROR(INDEX('Prev & Ctrl'!$G$5:$G$50,MATCH($C55,'Prev & Ctrl'!$A$5:$A$50,0)),IFERROR(INDEX('Lab dx'!$G$5:$G$50,MATCH($C55,'Lab dx'!$A$5:$A$50,0)),IFERROR(INDEX('Dog popn'!$G$5:$G$50,MATCH($C55,'Dog popn'!$A$5:$A$50,0)),IFERROR(INDEX(IEC!$G$5:$G$50,MATCH($C55,IEC!$A$5:$A$50,0)),IFERROR(INDEX('Cross-cutting issues'!$G$5:$G$50,MATCH($C55,'Cross-cutting issues'!$A$5:$A$50,0)),IFERROR(INDEX(Legislation!$G$5:$G$50,MATCH($C55,Legislation!$A$5:$A$50,0)),\"\")))))))","v":0},"OIE Manual of Diagnostic Tests and Vaccines  for Terrestrial Animals ","http://caninerabiesblueprint.org/OIE-Manual-of-Diagnostic-Tests-and","Laboratory biorisk management","http://caninerabiesblueprint.org/Laboratory-biorisk-management","5.3.1-Rabies-surveillance","http://caninerabiesblueprint.org/5-3-1-Rabies-surveillance?lang=en",null,null,null,null,"Perform a needs assessment relating to the current capacity to collect and transport samples;\nResearch alternative/improved methods for sample collection and transportation;\nIdentify best means to improve samples collection and transportation;\nDevelop a budget and secure funding for the implementation of improved means for sample collection and transportation;\nImplement and assess course of action on a small-scale to determine its efficacy;  \nGenerate a report on the small-scale project investigating the improved sample collection and transportation mechanisms;\nDevelop, finalise and distribute SOP based on improved methods for sample collection and transportation for use throughout the country;","Regular sample collection and transportation to the laboratory has been established and is functioning;","Ministry of Agriculture / Ministry of Health",5,"Barriers to sample collection and transportation identified and addressed;\nNumber of samples received per month; \nList of the locations of the samples received;\nFinal SOP for sample collection and transport developed and distributed;","","",""]
[55,"LAB","LAB-Lab-2-7","Laboratory capacity and testing",2,7,"Is there routine laboratory diagnosis of animal rabies cases in country?","e.g. if at least some suspect samples are diagnosed most (if not all) months of the year. \nNames and locations of laboratories; Frequency of diagnosis",null,{"$f":"IFERROR(INDEX('Data coll & an'!$F$5:$F$50,MATCH($C56,'Data coll & an'!$A$5:$A$50,0)),IFERROR(INDEX('Prev & Ctrl'!$F$5:$F$50,MATCH($C56,'Prev & Ctrl'!$A$5:$A$50,0)),IFERROR(INDEX('Lab dx'!$F$5:$F$50,MATCH($C56,'Lab dx'!$A$5:$A$50,0)),IFERROR(INDEX('Dog popn'!$F$5:$F$50,MATCH($C56,'Dog popn'!$A$5:$A$50,0)),IFERROR(INDEX(IEC!$F$5:$F$50,MATCH($C56,IEC!$A$5:$A$50,0)),IFERROR(INDEX('Cross-cutting issues'!$F$5:$F$50,MATCH($C56,'Cross-cutting issues'!$A$5:$A$50,0)),IFERROR(INDEX(Legislation!$F$5:$F$50,MATCH($C56,Legislation!$A$5:$A$50,0)),\"\")))))))","v":1},{"$f":"IFERROR(INDEX('Data coll & an'!$G$5:$G$50,MATCH($C56,'Data coll & an'!$A$5:$A$50,0)),IFERROR(INDEX('Prev & Ctrl'!$G$5:$G$50,MATCH($C56,'Prev & Ctrl'!$A$5:$A$50,0)),IFERROR(INDEX('Lab dx'!$G$5:$G$50,MATCH($C56,'Lab dx'!$A$5:$A$50,0)),IFERROR(INDEX('Dog popn'!$G$5:$G$50,MATCH($C56,'Dog popn'!$A$5:$A$50,0)),IFERROR(INDEX(IEC!$G$5:$G$50,MATCH($C56,IEC!$A$5:$A$50,0)),IFERROR(INDEX('Cross-cutting issues'!$G$5:$G$50,MATCH($C56,'Cross-cutting issues'!$A$5:$A$50,0)),IFERROR(INDEX(Legislation!$G$5:$G$50,MATCH($C56,Legislation!$A$5:$A$50,0)),\"\")))))))","v":0},"3.1.8 Minimum laboratory requirements","http://caninerabiesblueprint.org/3-1-8-What-are-the-minimum?lang=en","Laboratory biorisk management","http://caninerabiesblueprint.org/Laboratory-biorisk-management",null,null,null,null,null,null,"Undertake a needs assessment to identify shortcomings as to why routine diagnosis is not performed;\nIdentify means to address the shortcomings identified to ensure routine rabies diagnosis (e.g. poor sample collection and transport, lack of reagents, lack of trained staff, etc.);\nDevelop, revise and finalise an SOP based on research findings to best address the shortcomings identified;\nCreate budget and secure funding to implement the SOP that addresses the identified shortcomings;\nTrain personnel in the implementation of the developed SOP;\nAddress the highlighted shortcomings through the implmentation of the SOP;\nRegularly monitor frequency of sample submission and diagnosis;","Routine laboratory diagnosis for animal rabies is undertaken at a laboratory;","Ministry of Agriculture / Ministry of Health;",6,"List of suspect rabies samples arriving at the laboratory for diagnosis;\nList of diagnostic outcome for all of the suspect rabies samples;","","",""]
[56,"LAB","LAB-Lab-3-8","Laboratory capacity and testing",3,8,"Is access to reliable laboratory diagnosis available throughout the country for animal samples (and if possible also for human and wildlife samples)?","Names and locations of laboratories",null,{"$f":"IFERROR(INDEX('Data coll & an'!$F$5:$F$50,MATCH($C57,'Data coll & an'!$A$5:$A$50,0)),IFERROR(INDEX('Prev & Ctrl'!$F$5:$F$50,MATCH($C57,'Prev & Ctrl'!$A$5:$A$50,0)),IFERROR(INDEX('Lab dx'!$F$5:$F$50,MATCH($C57,'Lab dx'!$A$5:$A$50,0)),IFERROR(INDEX('Dog popn'!$F$5:$F$50,MATCH($C57,'Dog popn'!$A$5:$A$50,0)),IFERROR(INDEX(IEC!$F$5:$F$50,MATCH($C57,IEC!$A$5:$A$50,0)),IFERROR(INDEX('Cross-cutting issues'!$F$5:$F$50,MATCH($C57,'Cross-cutting issues'!$A$5:$A$50,0)),IFERROR(INDEX(Legislation!$F$5:$F$50,MATCH($C57,Legislation!$A$5:$A$50,0)),\"\")))))))","v":1},{"$f":"IFERROR(INDEX('Data coll & an'!$G$5:$G$50,MATCH($C57,'Data coll & an'!$A$5:$A$50,0)),IFERROR(INDEX('Prev & Ctrl'!$G$5:$G$50,MATCH($C57,'Prev & Ctrl'!$A$5:$A$50,0)),IFERROR(INDEX('Lab dx'!$G$5:$G$50,MATCH($C57,'Lab dx'!$A$5:$A$50,0)),IFERROR(INDEX('Dog popn'!$G$5:$G$50,MATCH($C57,'Dog popn'!$A$5:$A$50,0)),IFERROR(INDEX(IEC!$G$5:$G$50,MATCH($C57,IEC!$A$5:$A$50,0)),IFERROR(INDEX('Cross-cutting issues'!$G$5:$G$50,MATCH($C57,'Cross-cutting issues'!$A$5:$A$50,0)),IFERROR(INDEX(Legislation!$G$5:$G$50,MATCH($C57,Legislation!$A$5:$A$50,0)),\"\")))))))","v":0},"3.1.8-laboratory diagnosis","http://caninerabiesblueprint.org/3-1-8-What-are-the-minimum?lang=en","4. Laboratory rabies diagnosis","http://rabiessurveillanceblueprint.org/-Laboratory-rabies-diagnosis-",null,null,null,null,null,null,"Identify areas in the country where reliable laboratory diagnosis is not available;\nPerform a needs assessment to determine why reliable lab diagnosis is not available in these areas; \nIdentify means to address the shortcomings identified (e.g. poor sample collection and transport, lack of reagents, lack of trained staff, etc.);\nCreate budget and secure funding to address the identified shortcomings;\nAddress the highlighted shortcomings;\nRegularly monitor frequency of sample submission and diagnosis from identified areas;\n","Suspect rabies samples from various sources are collected throughout the country are routinely diagnosed","Ministry of Agriculture / Ministry of Health",8,"Number of suspect rabies samples arriving at the laboratory for diagnosis from the identified areas;\nAll areas in country submit all rabies suspect samples for animals;\nList of diagnostic outcomes for all of the suspect rabies samples throughout the country; ","","",""]
[57,"LAB","LAB-Lab-3-9","Laboratory capacity and testing",3,9,"Do you regularly assess your capacity to accurately diagnose suspect rabies samples (both human and animal)","e.g. diagnostic twinning, submission of samples to international laboratory, molecular confirmation (e.g. PCR)",null,{"$f":"IFERROR(INDEX('Data coll & an'!$F$5:$F$50,MATCH($C58,'Data coll & an'!$A$5:$A$50,0)),IFERROR(INDEX('Prev & Ctrl'!$F$5:$F$50,MATCH($C58,'Prev & Ctrl'!$A$5:$A$50,0)),IFERROR(INDEX('Lab dx'!$F$5:$F$50,MATCH($C58,'Lab dx'!$A$5:$A$50,0)),IFERROR(INDEX('Dog popn'!$F$5:$F$50,MATCH($C58,'Dog popn'!$A$5:$A$50,0)),IFERROR(INDEX(IEC!$F$5:$F$50,MATCH($C58,IEC!$A$5:$A$50,0)),IFERROR(INDEX('Cross-cutting issues'!$F$5:$F$50,MATCH($C58,'Cross-cutting issues'!$A$5:$A$50,0)),IFERROR(INDEX(Legislation!$F$5:$F$50,MATCH($C58,Legislation!$A$5:$A$50,0)),\"\")))))))","v":1},{"$f":"IFERROR(INDEX('Data coll & an'!$G$5:$G$50,MATCH($C58,'Data coll & an'!$A$5:$A$50,0)),IFERROR(INDEX('Prev & Ctrl'!$G$5:$G$50,MATCH($C58,'Prev & Ctrl'!$A$5:$A$50,0)),IFERROR(INDEX('Lab dx'!$G$5:$G$50,MATCH($C58,'Lab dx'!$A$5:$A$50,0)),IFERROR(INDEX('Dog popn'!$G$5:$G$50,MATCH($C58,'Dog popn'!$A$5:$A$50,0)),IFERROR(INDEX(IEC!$G$5:$G$50,MATCH($C58,IEC!$A$5:$A$50,0)),IFERROR(INDEX('Cross-cutting issues'!$G$5:$G$50,MATCH($C58,'Cross-cutting issues'!$A$5:$A$50,0)),IFERROR(INDEX(Legislation!$G$5:$G$50,MATCH($C58,Legislation!$A$5:$A$50,0)),\"\")))))))","v":0},null,null,null,null,null,null,null,null,null,null,"Contact international rabies reference laboratory or international collaborating/reference centre with regards to assessing your capacity to undertake rabies diagnosis;\nDiscuss your specific needs with the international rabies reference laboratory or international collaborating/reference centre\nDetermine whether MOU's need to be established and finalize of required;\nCompile cohort of samples diagnosed previously as either rabies-positive or -negative;\nDetermine courier requirements (e.g. packaging and permits) and fees associated with shipping the samples; \nSecure funding and send samples;\nEnsures the international rabies reference laboratory or international collaborating/reference centre receives the samples;\nDiscuss results with international laboratory and determine best course of action based on the results; ","A representative sample cohort is sent to an international rabies reference laboratory for diagnostic confirmation and evaluation","Ministry of Agriculture / Ministry of Health",9,"Report on findings presented by international laboratory containing information specific to your request (e.g. confirmation of samples correctly diagnosed as either rabies-positive or -negative; molecalar epidemiological findings; serology)\nOutlined course of action to improve future diagnosis;\nPossible publication of findings in a peer-reviewed scientific journal","","",""]
[58,"LAB","LAB-Lab-4-10","Laboratory capacity and testing",4,10,"Now that there are very few animal rabies cases in your country, is there maintenance of existing surveillance activities, including ongoing laboratory investigation, for all suspected cases in dogs in the country?"," ","KEY",{"$f":"IFERROR(INDEX('Data coll & an'!$F$5:$F$50,MATCH($C59,'Data coll & an'!$A$5:$A$50,0)),IFERROR(INDEX('Prev & Ctrl'!$F$5:$F$50,MATCH($C59,'Prev & Ctrl'!$A$5:$A$50,0)),IFERROR(INDEX('Lab dx'!$F$5:$F$50,MATCH($C59,'Lab dx'!$A$5:$A$50,0)),IFERROR(INDEX('Dog popn'!$F$5:$F$50,MATCH($C59,'Dog popn'!$A$5:$A$50,0)),IFERROR(INDEX(IEC!$F$5:$F$50,MATCH($C59,IEC!$A$5:$A$50,0)),IFERROR(INDEX('Cross-cutting issues'!$F$5:$F$50,MATCH($C59,'Cross-cutting issues'!$A$5:$A$50,0)),IFERROR(INDEX(Legislation!$F$5:$F$50,MATCH($C59,Legislation!$A$5:$A$50,0)),\"\")))))))","v":1},{"$f":"IFERROR(INDEX('Data coll & an'!$G$5:$G$50,MATCH($C59,'Data coll & an'!$A$5:$A$50,0)),IFERROR(INDEX('Prev & Ctrl'!$G$5:$G$50,MATCH($C59,'Prev & Ctrl'!$A$5:$A$50,0)),IFERROR(INDEX('Lab dx'!$G$5:$G$50,MATCH($C59,'Lab dx'!$A$5:$A$50,0)),IFERROR(INDEX('Dog popn'!$G$5:$G$50,MATCH($C59,'Dog popn'!$A$5:$A$50,0)),IFERROR(INDEX(IEC!$G$5:$G$50,MATCH($C59,IEC!$A$5:$A$50,0)),IFERROR(INDEX('Cross-cutting issues'!$G$5:$G$50,MATCH($C59,'Cross-cutting issues'!$A$5:$A$50,0)),IFERROR(INDEX(Legislation!$G$5:$G$50,MATCH($C59,Legislation!$A$5:$A$50,0)),\"\")))))))","v":0},"OIE Terrestrial Animal Health Code","http://caninerabiesblueprint.org/OIE-Terrestrial-Animal-Health-Code",null,null,null,null,null,null,null,null,"Regularly review and update the established SOPs for sample collection, transport and lab diagnosis;\nShare SOPs with new professionals working in the local areas;\nProfessionals regularly trained on all relevant rabies surveillance activities (e.g. sample collection, sample transport, laboratory diagnosis, etc.);\nEnsure that adequate funding and resources remain available for continued surveillance activities; \n","Existing and adequate surveillance activites are maintained throughout the country; ","Ministry of Agriculture / Ministry of Health",10,"Number of suspect rabies samples diagnosed;\nNumber of samples diagnosed per month;\nNumber of samples diagnosed per area in the country;\nNumber of rabies-negative samples diagnosed;\n","","",""]
[59,"LAB","LAB-Lab-4-11","Laboratory capacity and testing",4,11,"Are terrestrial wildlife (carnivore) samples submitted for rabies laboratory diagnosis?"," ",null,{"$f":"IFERROR(INDEX('Data coll & an'!$F$5:$F$50,MATCH($C60,'Data coll & an'!$A$5:$A$50,0)),IFERROR(INDEX('Prev & Ctrl'!$F$5:$F$50,MATCH($C60,'Prev & Ctrl'!$A$5:$A$50,0)),IFERROR(INDEX('Lab dx'!$F$5:$F$50,MATCH($C60,'Lab dx'!$A$5:$A$50,0)),IFERROR(INDEX('Dog popn'!$F$5:$F$50,MATCH($C60,'Dog popn'!$A$5:$A$50,0)),IFERROR(INDEX(IEC!$F$5:$F$50,MATCH($C60,IEC!$A$5:$A$50,0)),IFERROR(INDEX('Cross-cutting issues'!$F$5:$F$50,MATCH($C60,'Cross-cutting issues'!$A$5:$A$50,0)),IFERROR(INDEX(Legislation!$F$5:$F$50,MATCH($C60,Legislation!$A$5:$A$50,0)),\"\")))))))","v":1},{"$f":"IFERROR(INDEX('Data coll & an'!$G$5:$G$50,MATCH($C60,'Data coll & an'!$A$5:$A$50,0)),IFERROR(INDEX('Prev & Ctrl'!$G$5:$G$50,MATCH($C60,'Prev & Ctrl'!$A$5:$A$50,0)),IFERROR(INDEX('Lab dx'!$G$5:$G$50,MATCH($C60,'Lab dx'!$A$5:$A$50,0)),IFERROR(INDEX('Dog popn'!$G$5:$G$50,MATCH($C60,'Dog popn'!$A$5:$A$50,0)),IFERROR(INDEX(IEC!$G$5:$G$50,MATCH($C60,IEC!$A$5:$A$50,0)),IFERROR(INDEX('Cross-cutting issues'!$G$5:$G$50,MATCH($C60,'Cross-cutting issues'!$A$5:$A$50,0)),IFERROR(INDEX(Legislation!$G$5:$G$50,MATCH($C60,Legislation!$A$5:$A$50,0)),\"\")))))))","v":0},null,null,null,null,null,null,null,null,null,null,"Identify areas where wildlife is present;\nIdentify relevant professionals responsible for rabies surveillance in the identified areas; \nDevelop and finalise a SOP for the surveillance of wildlife rabies in the identified areas;\nEnsure adequate funding and resources available for the implementation of wildlife rabies surveillance in the identified areas;\nRegularly monitor frequency of wildlife carnivore sample submission and diagnosis from identified areas;","Terrestrial wildlife (carnivore) samples have been submitted to the laboratory for rabies diagnosis;","Ministry of Agriculture ",11,"Number of wildlife samples submitted for diagnosis;","","",""]
[60,"LAB","LAB-Lab-4-12","Laboratory capacity and testing",4,12,"Is there regular characterization and analysis of circulating rabies virus variants by a national or international laboratory?","Name of laboratory/institute where molecular tests are being performed",null,{"$f":"IFERROR(INDEX('Data coll & an'!$F$5:$F$50,MATCH($C61,'Data coll & an'!$A$5:$A$50,0)),IFERROR(INDEX('Prev & Ctrl'!$F$5:$F$50,MATCH($C61,'Prev & Ctrl'!$A$5:$A$50,0)),IFERROR(INDEX('Lab dx'!$F$5:$F$50,MATCH($C61,'Lab dx'!$A$5:$A$50,0)),IFERROR(INDEX('Dog popn'!$F$5:$F$50,MATCH($C61,'Dog popn'!$A$5:$A$50,0)),IFERROR(INDEX(IEC!$F$5:$F$50,MATCH($C61,IEC!$A$5:$A$50,0)),IFERROR(INDEX('Cross-cutting issues'!$F$5:$F$50,MATCH($C61,'Cross-cutting issues'!$A$5:$A$50,0)),IFERROR(INDEX(Legislation!$F$5:$F$50,MATCH($C61,Legislation!$A$5:$A$50,0)),\"\")))))))","v":0},{"$f":"IFERROR(INDEX('Data coll & an'!$G$5:$G$50,MATCH($C61,'Data coll & an'!$A$5:$A$50,0)),IFERROR(INDEX('Prev & Ctrl'!$G$5:$G$50,MATCH($C61,'Prev & Ctrl'!$A$5:$A$50,0)),IFERROR(INDEX('Lab dx'!$G$5:$G$50,MATCH($C61,'Lab dx'!$A$5:$A$50,0)),IFERROR(INDEX('Dog popn'!$G$5:$G$50,MATCH($C61,'Dog popn'!$A$5:$A$50,0)),IFERROR(INDEX(IEC!$G$5:$G$50,MATCH($C61,IEC!$A$5:$A$50,0)),IFERROR(INDEX('Cross-cutting issues'!$G$5:$G$50,MATCH($C61,'Cross-cutting issues'!$A$5:$A$50,0)),IFERROR(INDEX(Legislation!$G$5:$G$50,MATCH($C61,Legislation!$A$5:$A$50,0)),\"\")))))))","v":0},"OIE reference laboratories","http://www.oie.int/en/our-scientific-expertise/reference-laboratories/list-of-laboratories/","WHO collaborating centres  ","http://apps.who.int/whocc/Search.aspx","WHO expert consultation on rabies","http://caninerabiesblueprint.org/WHO-expert-consultation-on-rabies","FAO reference centre","http://www.izsvenezie.com/reference-laboratories/rabies/",null,null,"Identify relevant national or international laboratory to facilitate characterizaion of rabies virus variants;\nEstablish a working relationship with the identified laboratory;\nSubmit all rabies-positive samples for characterization;\nEnsure continued and regular submission of rabies-positive samples for characterization;","Regular characterization and analysis of circulating rabies virus variants undertaken;","Ministry of Agriculture ",11,"Number of rabies-positive samples characterised; ","Identify relevant national or international laboratory to facilitate characterizaion of rabies virus variants;\nEstablish a working relationship with the identified laboratory;\nSubmit all rabies-positive samples for characterization;\nEnsure continued and regular submission of rabies-positive samples for characterization;","Ministry of Agriculture ",8]
[61,"LAB","LAB-Lab-5-13","Laboratory capacity and testing",5,13,"Even though you are rabies-free based on successful mass vaccination campaigns, are there on-going laboratory investigations of all suspected cases in domestic and terrestrial wild animal (carnivore) species in the country?"," ","KEY",{"$f":"IFERROR(INDEX('Data coll & an'!$F$5:$F$50,MATCH($C62,'Data coll & an'!$A$5:$A$50,0)),IFERROR(INDEX('Prev & Ctrl'!$F$5:$F$50,MATCH($C62,'Prev & Ctrl'!$A$5:$A$50,0)),IFERROR(INDEX('Lab dx'!$F$5:$F$50,MATCH($C62,'Lab dx'!$A$5:$A$50,0)),IFERROR(INDEX('Dog popn'!$F$5:$F$50,MATCH($C62,'Dog popn'!$A$5:$A$50,0)),IFERROR(INDEX(IEC!$F$5:$F$50,MATCH($C62,IEC!$A$5:$A$50,0)),IFERROR(INDEX('Cross-cutting issues'!$F$5:$F$50,MATCH($C62,'Cross-cutting issues'!$A$5:$A$50,0)),IFERROR(INDEX(Legislation!$F$5:$F$50,MATCH($C62,Legislation!$A$5:$A$50,0)),\"\")))))))","v":1},{"$f":"IFERROR(INDEX('Data coll & an'!$G$5:$G$50,MATCH($C62,'Data coll & an'!$A$5:$A$50,0)),IFERROR(INDEX('Prev & Ctrl'!$G$5:$G$50,MATCH($C62,'Prev & Ctrl'!$A$5:$A$50,0)),IFERROR(INDEX('Lab dx'!$G$5:$G$50,MATCH($C62,'Lab dx'!$A$5:$A$50,0)),IFERROR(INDEX('Dog popn'!$G$5:$G$50,MATCH($C62,'Dog popn'!$A$5:$A$50,0)),IFERROR(INDEX(IEC!$G$5:$G$50,MATCH($C62,IEC!$A$5:$A$50,0)),IFERROR(INDEX('Cross-cutting issues'!$G$5:$G$50,MATCH($C62,'Cross-cutting issues'!$A$5:$A$50,0)),IFERROR(INDEX(Legislation!$G$5:$G$50,MATCH($C62,Legislation!$A$5:$A$50,0)),\"\")))))))","v":0},"OIE Terrestrial Animal Health Code","http://caninerabiesblueprint.org/OIE-Terrestrial-Animal-Health-Code",null,null,null,null,null,null,null,null,"Identify barriers that prevent on-going surveillance in the country;\nRe-convene relevant stakeholders for rabies control to highlight the importance of continued surveillance after freedom from dog rabies and the potential for wildlife rabies spillover;\nDevelop a short-term action plan with the relevant stakeholders to re-initiate surveillance in hig-risk areas (e.g. those with wildlife vectors or those bordering endemic countries); ","On-going laboratory investigations of all suspected rabies cases in domestic and terrestrial wildlife species in the country are undertaken; ","Ministry of Agriculture",13,"Number of rabies-suspect samples in domestic and terrestrial wild animals;\nNumber of diagnosed rabies-suspect samples in domestic and terrestrial wild animals;","","",""]
[62,"DPM","DPM- -1-1"," ",1,1,"Have discussions been held with stakeholders* to create a dog population management strategy at a local level?","Stakeholders involved, how this integrates with rabies control strategy. Studies and surveys from \"Prevention and Control\" need to be completed before this item.",null,{"$f":"IFERROR(INDEX('Data coll & an'!$F$5:$F$50,MATCH($C63,'Data coll & an'!$A$5:$A$50,0)),IFERROR(INDEX('Prev & Ctrl'!$F$5:$F$50,MATCH($C63,'Prev & Ctrl'!$A$5:$A$50,0)),IFERROR(INDEX('Lab dx'!$F$5:$F$50,MATCH($C63,'Lab dx'!$A$5:$A$50,0)),IFERROR(INDEX('Dog popn'!$F$5:$F$50,MATCH($C63,'Dog popn'!$A$5:$A$50,0)),IFERROR(INDEX(IEC!$F$5:$F$50,MATCH($C63,IEC!$A$5:$A$50,0)),IFERROR(INDEX('Cross-cutting issues'!$F$5:$F$50,MATCH($C63,'Cross-cutting issues'!$A$5:$A$50,0)),IFERROR(INDEX(Legislation!$F$5:$F$50,MATCH($C63,Legislation!$A$5:$A$50,0)),\"\")))))))","v":1},{"$f":"IFERROR(INDEX('Data coll & an'!$G$5:$G$50,MATCH($C63,'Data coll & an'!$A$5:$A$50,0)),IFERROR(INDEX('Prev & Ctrl'!$G$5:$G$50,MATCH($C63,'Prev & Ctrl'!$A$5:$A$50,0)),IFERROR(INDEX('Lab dx'!$G$5:$G$50,MATCH($C63,'Lab dx'!$A$5:$A$50,0)),IFERROR(INDEX('Dog popn'!$G$5:$G$50,MATCH($C63,'Dog popn'!$A$5:$A$50,0)),IFERROR(INDEX(IEC!$G$5:$G$50,MATCH($C63,IEC!$A$5:$A$50,0)),IFERROR(INDEX('Cross-cutting issues'!$G$5:$G$50,MATCH($C63,'Cross-cutting issues'!$A$5:$A$50,0)),IFERROR(INDEX(Legislation!$G$5:$G$50,MATCH($C63,Legislation!$A$5:$A$50,0)),\"\")))))))","v":0},"5.4.16 Dog population management tools","http://caninerabiesblueprint.org/5-4-16-What-dog-population","Guidelines-dog-population-management","http://caninerabiesblueprint.org/Guidelines-for-dog-population?lang=en",null,null,null,null,null,null,"Identify relevant stakeholders involved in DPM at the local level;\nReview existing DPM strategies from literature and guidelines for informed discussion with stakeholders;\nHold discussions regarding a local-level DPM strategy;\nGenerate timelines for the drafting of a strategy for review and implementation;","Discussions and fixed deadlines  determined and agreed upon with all relevant stakeholders for a DPM strategy at the local level;","Ministry of Agriculture; Animal welfare oragnisations; ",1,"Number of stakeholders identified;\nFinal timelines and deadlines available;\n","","",""]
[63,"DPM","DPM- -1-2"," ",1,2,"Have you involved officials in waste management in your stakeholder* meetings","Removal of garbage or preventing animals from reaching the garbage takes away available food sources for dogs. This will help to reduce the number of free-roaming dogs in the community.",null,{"$f":"IFERROR(INDEX('Data coll & an'!$F$5:$F$50,MATCH($C64,'Data coll & an'!$A$5:$A$50,0)),IFERROR(INDEX('Prev & Ctrl'!$F$5:$F$50,MATCH($C64,'Prev & Ctrl'!$A$5:$A$50,0)),IFERROR(INDEX('Lab dx'!$F$5:$F$50,MATCH($C64,'Lab dx'!$A$5:$A$50,0)),IFERROR(INDEX('Dog popn'!$F$5:$F$50,MATCH($C64,'Dog popn'!$A$5:$A$50,0)),IFERROR(INDEX(IEC!$F$5:$F$50,MATCH($C64,IEC!$A$5:$A$50,0)),IFERROR(INDEX('Cross-cutting issues'!$F$5:$F$50,MATCH($C64,'Cross-cutting issues'!$A$5:$A$50,0)),IFERROR(INDEX(Legislation!$F$5:$F$50,MATCH($C64,Legislation!$A$5:$A$50,0)),\"\")))))))","v":0},{"$f":"IFERROR(INDEX('Data coll & an'!$G$5:$G$50,MATCH($C64,'Data coll & an'!$A$5:$A$50,0)),IFERROR(INDEX('Prev & Ctrl'!$G$5:$G$50,MATCH($C64,'Prev & Ctrl'!$A$5:$A$50,0)),IFERROR(INDEX('Lab dx'!$G$5:$G$50,MATCH($C64,'Lab dx'!$A$5:$A$50,0)),IFERROR(INDEX('Dog popn'!$G$5:$G$50,MATCH($C64,'Dog popn'!$A$5:$A$50,0)),IFERROR(INDEX(IEC!$G$5:$G$50,MATCH($C64,IEC!$A$5:$A$50,0)),IFERROR(INDEX('Cross-cutting issues'!$G$5:$G$50,MATCH($C64,'Cross-cutting issues'!$A$5:$A$50,0)),IFERROR(INDEX(Legislation!$G$5:$G$50,MATCH($C64,Legislation!$A$5:$A$50,0)),\"\")))))))","v":0},null,null,null,null,null,null,null,null,null,null,"Determine responsible and reliable contact within waste management sector;\nInvite identified official to stakeholder meetings for a local DPM strategy;","Relevant waste management officials present at all stakeholder meetings regarding DPM;","Ministry of Agriculture; Animal welfare oragnisations; ",1,"Role of waste management sector in DPM clearly defined;","","",""]
[64,"DPM","DPM- -1-3"," ",1,3,"Has a baseline number of dogs been determined at a local level?"," ",null,{"$f":"IFERROR(INDEX('Data coll & an'!$F$5:$F$50,MATCH($C65,'Data coll & an'!$A$5:$A$50,0)),IFERROR(INDEX('Prev & Ctrl'!$F$5:$F$50,MATCH($C65,'Prev & Ctrl'!$A$5:$A$50,0)),IFERROR(INDEX('Lab dx'!$F$5:$F$50,MATCH($C65,'Lab dx'!$A$5:$A$50,0)),IFERROR(INDEX('Dog popn'!$F$5:$F$50,MATCH($C65,'Dog popn'!$A$5:$A$50,0)),IFERROR(INDEX(IEC!$F$5:$F$50,MATCH($C65,IEC!$A$5:$A$50,0)),IFERROR(INDEX('Cross-cutting issues'!$F$5:$F$50,MATCH($C65,'Cross-cutting issues'!$A$5:$A$50,0)),IFERROR(INDEX(Legislation!$F$5:$F$50,MATCH($C65,Legislation!$A$5:$A$50,0)),\"\")))))))","v":1},{"$f":"IFERROR(INDEX('Data coll & an'!$G$5:$G$50,MATCH($C65,'Data coll & an'!$A$5:$A$50,0)),IFERROR(INDEX('Prev & Ctrl'!$G$5:$G$50,MATCH($C65,'Prev & Ctrl'!$A$5:$A$50,0)),IFERROR(INDEX('Lab dx'!$G$5:$G$50,MATCH($C65,'Lab dx'!$A$5:$A$50,0)),IFERROR(INDEX('Dog popn'!$G$5:$G$50,MATCH($C65,'Dog popn'!$A$5:$A$50,0)),IFERROR(INDEX(IEC!$G$5:$G$50,MATCH($C65,IEC!$A$5:$A$50,0)),IFERROR(INDEX('Cross-cutting issues'!$G$5:$G$50,MATCH($C65,'Cross-cutting issues'!$A$5:$A$50,0)),IFERROR(INDEX(Legislation!$G$5:$G$50,MATCH($C65,Legislation!$A$5:$A$50,0)),\"\")))))))","v":0},null,null,null,null,null,null,null,null,null,null,"Investigate if any previous records indicate estimated dog population at local level;\nDetermine whether any surveys have been undertaken regarding dog population;\nDetermine whether a human:dog ratio is known for urban and rural areas in your country;\nIf no data available, identify a small-scale project area to determine a dog population estimate;\nReview available methodologies for estimating dog population;\nSelect most appropriate methodology and devise a plan based on this methodology for the selected area;\nSecure funding and resources to implement the dog population estimate plan;\nTrain professionals in the  implementation of the dog population estimate plan;\nDevelop a baseline dog population estimate for the small-scale area;","Baseline dog population estimate known at local level","Ministry of Agriculture; Animal welfare oragnisations; ",1,"Number of small-scale areas identified;\nAction plan;\nAmount of funding available;\nNumber of professionals trained;\nEstimated dog population at local level;\n\n","","",""]
[65,"DPM",{"$f":"B66&\"-\"&LEFT(D66,3)&\"-\"&E66&\"-\"&F66","v":"DPM- -2-4"}," ",2,4,"Has a DPM* strategy and programme been drafted and shared with all relevant stakeholders at a local level?"," ",null,{"$f":"IFERROR(INDEX('Data coll & an'!$F$5:$F$50,MATCH($C66,'Data coll & an'!$A$5:$A$50,0)),IFERROR(INDEX('Prev & Ctrl'!$F$5:$F$50,MATCH($C66,'Prev & Ctrl'!$A$5:$A$50,0)),IFERROR(INDEX('Lab dx'!$F$5:$F$50,MATCH($C66,'Lab dx'!$A$5:$A$50,0)),IFERROR(INDEX('Dog popn'!$F$5:$F$50,MATCH($C66,'Dog popn'!$A$5:$A$50,0)),IFERROR(INDEX(IEC!$F$5:$F$50,MATCH($C66,IEC!$A$5:$A$50,0)),IFERROR(INDEX('Cross-cutting issues'!$F$5:$F$50,MATCH($C66,'Cross-cutting issues'!$A$5:$A$50,0)),IFERROR(INDEX(Legislation!$F$5:$F$50,MATCH($C66,Legislation!$A$5:$A$50,0)),\"\")))))))","v":0},{"$f":"IFERROR(INDEX('Data coll & an'!$G$5:$G$50,MATCH($C66,'Data coll & an'!$A$5:$A$50,0)),IFERROR(INDEX('Prev & Ctrl'!$G$5:$G$50,MATCH($C66,'Prev & Ctrl'!$A$5:$A$50,0)),IFERROR(INDEX('Lab dx'!$G$5:$G$50,MATCH($C66,'Lab dx'!$A$5:$A$50,0)),IFERROR(INDEX('Dog popn'!$G$5:$G$50,MATCH($C66,'Dog popn'!$A$5:$A$50,0)),IFERROR(INDEX(IEC!$G$5:$G$50,MATCH($C66,IEC!$A$5:$A$50,0)),IFERROR(INDEX('Cross-cutting issues'!$G$5:$G$50,MATCH($C66,'Cross-cutting issues'!$A$5:$A$50,0)),IFERROR(INDEX(Legislation!$G$5:$G$50,MATCH($C66,Legislation!$A$5:$A$50,0)),\"\")))))))","v":0},"World Animal Protection-DPM guidelines","https://www.worldanimalprotection.org/our-work/protecting-animals-communities/better-lives-dogs","World Animal Protection-humane dog management","https://www.worldanimalprotection.org/sites/default/files/int_files/humane-dog-management.pdf",null,null,null,null,null,null,"Draft a local DPM strategy based on stakeholder consultations;\nShare the drafted DPM strategy with all relevant stakeholders for review and feedback;\nDeadlines for feedback and finalisation of strategy agreed upon;","A draft of the local-level DPM strategy is available with specific deadlines for feedback and review in place.","All stakeholders involved in DPM strategy",4,"Draft DPM strategy;\nDeadlines for finalisation agreed upon;","","",""]
[66,"DPM","DPM- -2-5"," ",2,5,"Has the DPM strategy been finalized and implemented?","Please list what strategies are currently being used. \nNOTE: Mass culling is NOT considered an effective DPM strategy. However, responsible dog management is considered appropriate. Euthanasia of suspect rabid animals according to the international standards is part of responsible dog management",null,{"$f":"IFERROR(INDEX('Data coll & an'!$F$5:$F$50,MATCH($C67,'Data coll & an'!$A$5:$A$50,0)),IFERROR(INDEX('Prev & Ctrl'!$F$5:$F$50,MATCH($C67,'Prev & Ctrl'!$A$5:$A$50,0)),IFERROR(INDEX('Lab dx'!$F$5:$F$50,MATCH($C67,'Lab dx'!$A$5:$A$50,0)),IFERROR(INDEX('Dog popn'!$F$5:$F$50,MATCH($C67,'Dog popn'!$A$5:$A$50,0)),IFERROR(INDEX(IEC!$F$5:$F$50,MATCH($C67,IEC!$A$5:$A$50,0)),IFERROR(INDEX('Cross-cutting issues'!$F$5:$F$50,MATCH($C67,'Cross-cutting issues'!$A$5:$A$50,0)),IFERROR(INDEX(Legislation!$F$5:$F$50,MATCH($C67,Legislation!$A$5:$A$50,0)),\"\")))))))","v":0},{"$f":"IFERROR(INDEX('Data coll & an'!$G$5:$G$50,MATCH($C67,'Data coll & an'!$A$5:$A$50,0)),IFERROR(INDEX('Prev & Ctrl'!$G$5:$G$50,MATCH($C67,'Prev & Ctrl'!$A$5:$A$50,0)),IFERROR(INDEX('Lab dx'!$G$5:$G$50,MATCH($C67,'Lab dx'!$A$5:$A$50,0)),IFERROR(INDEX('Dog popn'!$G$5:$G$50,MATCH($C67,'Dog popn'!$A$5:$A$50,0)),IFERROR(INDEX(IEC!$G$5:$G$50,MATCH($C67,IEC!$A$5:$A$50,0)),IFERROR(INDEX('Cross-cutting issues'!$G$5:$G$50,MATCH($C67,'Cross-cutting issues'!$A$5:$A$50,0)),IFERROR(INDEX(Legislation!$G$5:$G$50,MATCH($C67,Legislation!$A$5:$A$50,0)),\"\")))))))","v":0},"Monitoring and evaluation of dog population management programmes","http://www.icam-coalition.org/downloads/ICAM_Are_we_making_a_difference_Updated_Nov2015.pdf","OIE-terrestrial code chapter 7.7","http://www.oie.int/index.php?id=169&L=0&htmfile=chapitre_aw_stray_dog.htm",null,null,null,null,null,null,"Finalise DPM strategy based on stakeholder feedback; \nEnsure that the DPM strategy is recognised / endorsed by competent authority;\nIdentify resources and responsible authorities for the implmentation of the local DPM strategy;\nSecure funding for the implementation of the DPM strategy at the local level;\nCirculatate the final version of strategy to all relevant professionals;\nTrain all relevant professionals in the implementation of the DPM strategy;\nImplementation of DPM strategy at local level;","The local-level DPM strategy is finalised with all associated stakeholders in agreement. Funding and resources are available for the local implementation of the strategy and it is effected upon endorsement / recognition of the strategy. ","All stakeholders involved in DPM strategy",6,"Finalised DPM strategy;\nPercentage of funding available per DPM strategy;\nNumber of professionals trained;\nNumber of dogs reached;\n",{"$f":"IFERROR(VLOOKUP($C67,INDIRECT(\"DCA!a13:j49\"),6,FALSE),IFERROR(VLOOKUP($C67,INDIRECT(\"pco!a13:j49\"),6,FALSE),IFERROR(VLOOKUP($C67,INDIRECT(\"lab!a13:j49\"),6,FALSE),IFERROR(VLOOKUP($C67,INDIRECT(\"dpm!a13:j49\"),6,FALSE),IFERROR(VLOOKUP($C67,INDIRECT(\"iecnw!a13:j49\"),6,FALSE),IFERROR(VLOOKUP($C67,INDIRECT(\"cci!a13:j49\"),6,FALSE),IFERROR(VLOOKUP($C67,INDIRECT(\"leg!a13:j49\"),6,FALSE),\"\")))))))","v":""},{"$f":"IFERROR(VLOOKUP($C67,INDIRECT(\"DCA!a13:j49\"),8,FALSE),IFERROR(VLOOKUP($C67,INDIRECT(\"pco!a13:j49\"),8,FALSE),IFERROR(VLOOKUP($C67,INDIRECT(\"lab!a13:j49\"),8,FALSE),IFERROR(VLOOKUP($C67,INDIRECT(\"dpm!a13:j49\"),8,FALSE),IFERROR(VLOOKUP($C67,INDIRECT(\"iecnw!a13:j49\"),8,FALSE),IFERROR(VLOOKUP($C67,INDIRECT(\"cci!a13:j49\"),8,FALSE),IFERROR(VLOOKUP($C67,INDIRECT(\"leg!a13:j49\"),8,FALSE),\"\")))))))","v":""},{"$f":"IFERROR(VLOOKUP($C67,INDIRECT(\"DCA!a13:j49\"),9,FALSE),IFERROR(VLOOKUP($C67,INDIRECT(\"pco!a13:j49\"),9,FALSE),IFERROR(VLOOKUP($C67,INDIRECT(\"lab!a13:j49\"),9,FALSE),IFERROR(VLOOKUP($C67,INDIRECT(\"dpm!a13:j49\"),9,FALSE),IFERROR(VLOOKUP($C67,INDIRECT(\"iecnw!a13:j49\"),9,FALSE),IFERROR(VLOOKUP($C67,INDIRECT(\"cci!a13:j49\"),9,FALSE),IFERROR(VLOOKUP($C67,INDIRECT(\"leg!a13:j49\"),9,FALSE),\"\")))))))","v":""}]
[67,"DPM","DPM- -2-6"," ",2,6,"Has public sensitisation about DPM been built into rabies awareness campaigns at a local level?"," ",null,{"$f":"IFERROR(INDEX('Data coll & an'!$F$5:$F$50,MATCH($C68,'Data coll & an'!$A$5:$A$50,0)),IFERROR(INDEX('Prev & Ctrl'!$F$5:$F$50,MATCH($C68,'Prev & Ctrl'!$A$5:$A$50,0)),IFERROR(INDEX('Lab dx'!$F$5:$F$50,MATCH($C68,'Lab dx'!$A$5:$A$50,0)),IFERROR(INDEX('Dog popn'!$F$5:$F$50,MATCH($C68,'Dog popn'!$A$5:$A$50,0)),IFERROR(INDEX(IEC!$F$5:$F$50,MATCH($C68,IEC!$A$5:$A$50,0)),IFERROR(INDEX('Cross-cutting issues'!$F$5:$F$50,MATCH($C68,'Cross-cutting issues'!$A$5:$A$50,0)),IFERROR(INDEX(Legislation!$F$5:$F$50,MATCH($C68,Legislation!$A$5:$A$50,0)),\"\")))))))","v":1},{"$f":"IFERROR(INDEX('Data coll & an'!$G$5:$G$50,MATCH($C68,'Data coll & an'!$A$5:$A$50,0)),IFERROR(INDEX('Prev & Ctrl'!$G$5:$G$50,MATCH($C68,'Prev & Ctrl'!$A$5:$A$50,0)),IFERROR(INDEX('Lab dx'!$G$5:$G$50,MATCH($C68,'Lab dx'!$A$5:$A$50,0)),IFERROR(INDEX('Dog popn'!$G$5:$G$50,MATCH($C68,'Dog popn'!$A$5:$A$50,0)),IFERROR(INDEX(IEC!$G$5:$G$50,MATCH($C68,IEC!$A$5:$A$50,0)),IFERROR(INDEX('Cross-cutting issues'!$G$5:$G$50,MATCH($C68,'Cross-cutting issues'!$A$5:$A$50,0)),IFERROR(INDEX(Legislation!$G$5:$G$50,MATCH($C68,Legislation!$A$5:$A$50,0)),\"\")))))))","v":0},null,null,null,null,null,null,null,null,null,null,"Develop public sensitisation messages and materials in line with the finalised DPM strategy;\nIdentify individuals responsible for rabies awareness campaigns at local level; \nCo-ordinate with responsible person for rabies awareness campaigns regarding public sensitisation;\nEnsure necessary resources and materials are provided to rabies awareness campaign for sensitisation regarding DPM;","Rabies awareness campaigns include public sensitisation regarding DPM and its importance at a local level;","DPM stakeholders/task force; Animal welfare organisations; Ministry of Agriculture",6,"Number of messages available;\nAmount of resources available;\n","","",""]
[68,"DPM","DPM- -2-7"," ",2,7,"Have training or refresher courses on responsible dog management been initiated for professionals in animal health at a local level?"," ",null,{"$f":"IFERROR(INDEX('Data coll & an'!$F$5:$F$50,MATCH($C69,'Data coll & an'!$A$5:$A$50,0)),IFERROR(INDEX('Prev & Ctrl'!$F$5:$F$50,MATCH($C69,'Prev & Ctrl'!$A$5:$A$50,0)),IFERROR(INDEX('Lab dx'!$F$5:$F$50,MATCH($C69,'Lab dx'!$A$5:$A$50,0)),IFERROR(INDEX('Dog popn'!$F$5:$F$50,MATCH($C69,'Dog popn'!$A$5:$A$50,0)),IFERROR(INDEX(IEC!$F$5:$F$50,MATCH($C69,IEC!$A$5:$A$50,0)),IFERROR(INDEX('Cross-cutting issues'!$F$5:$F$50,MATCH($C69,'Cross-cutting issues'!$A$5:$A$50,0)),IFERROR(INDEX(Legislation!$F$5:$F$50,MATCH($C69,Legislation!$A$5:$A$50,0)),\"\")))))))","v":1},{"$f":"IFERROR(INDEX('Data coll & an'!$G$5:$G$50,MATCH($C69,'Data coll & an'!$A$5:$A$50,0)),IFERROR(INDEX('Prev & Ctrl'!$G$5:$G$50,MATCH($C69,'Prev & Ctrl'!$A$5:$A$50,0)),IFERROR(INDEX('Lab dx'!$G$5:$G$50,MATCH($C69,'Lab dx'!$A$5:$A$50,0)),IFERROR(INDEX('Dog popn'!$G$5:$G$50,MATCH($C69,'Dog popn'!$A$5:$A$50,0)),IFERROR(INDEX(IEC!$G$5:$G$50,MATCH($C69,IEC!$A$5:$A$50,0)),IFERROR(INDEX('Cross-cutting issues'!$G$5:$G$50,MATCH($C69,'Cross-cutting issues'!$A$5:$A$50,0)),IFERROR(INDEX(Legislation!$G$5:$G$50,MATCH($C69,Legislation!$A$5:$A$50,0)),\"\")))))))","v":0},"GARC Animal Handling and Vaccination course","https://education.rabiesalliance.org/login/index.php",null,null,null,null,null,null,null,null,"Perform needs assessment to determine level of training regarding DPM for professionals;\nIdentify effective and relevant training course material for training;\nIdentify and secure funding to undertake training courses;\nIdentify logistical requirements (venue, time, date etc.) to undertake refresher course for professionals;\nInitiate training on resposible dog management for professionals at the local level;","Professionals in animal health at the local level have been trained / updated on the latest techniques and information regarding DPM;","DPM stakeholders/task force; Animal welfare organisations; Ministry of Agriculture",7,"Needs assessment report;\nNumber of professionals trained;\nAmount of resources available;","","",""]
[69,"DPM","DPM- -3-8"," ",3,8,"Has the DPM strategy been assessed and refined based on current dog ecology or KAP surveys done at a local level?"," ",null,{"$f":"IFERROR(INDEX('Data coll & an'!$F$5:$F$50,MATCH($C70,'Data coll & an'!$A$5:$A$50,0)),IFERROR(INDEX('Prev & Ctrl'!$F$5:$F$50,MATCH($C70,'Prev & Ctrl'!$A$5:$A$50,0)),IFERROR(INDEX('Lab dx'!$F$5:$F$50,MATCH($C70,'Lab dx'!$A$5:$A$50,0)),IFERROR(INDEX('Dog popn'!$F$5:$F$50,MATCH($C70,'Dog popn'!$A$5:$A$50,0)),IFERROR(INDEX(IEC!$F$5:$F$50,MATCH($C70,IEC!$A$5:$A$50,0)),IFERROR(INDEX('Cross-cutting issues'!$F$5:$F$50,MATCH($C70,'Cross-cutting issues'!$A$5:$A$50,0)),IFERROR(INDEX(Legislation!$F$5:$F$50,MATCH($C70,Legislation!$A$5:$A$50,0)),\"\")))))))","v":1},{"$f":"IFERROR(INDEX('Data coll & an'!$G$5:$G$50,MATCH($C70,'Data coll & an'!$A$5:$A$50,0)),IFERROR(INDEX('Prev & Ctrl'!$G$5:$G$50,MATCH($C70,'Prev & Ctrl'!$A$5:$A$50,0)),IFERROR(INDEX('Lab dx'!$G$5:$G$50,MATCH($C70,'Lab dx'!$A$5:$A$50,0)),IFERROR(INDEX('Dog popn'!$G$5:$G$50,MATCH($C70,'Dog popn'!$A$5:$A$50,0)),IFERROR(INDEX(IEC!$G$5:$G$50,MATCH($C70,IEC!$A$5:$A$50,0)),IFERROR(INDEX('Cross-cutting issues'!$G$5:$G$50,MATCH($C70,'Cross-cutting issues'!$A$5:$A$50,0)),IFERROR(INDEX(Legislation!$G$5:$G$50,MATCH($C70,Legislation!$A$5:$A$50,0)),\"\")))))))","v":0},"Knowledge-Attitude-Practice","http://caninerabiesblueprint.org/Examples-of-Knowledge-Attitude-and?lang=en",null,null,null,null,null,null,null,null,"If no data available, undertake KAP or dog ecology surveys at local level;\nAssess data collected from surveys and analyse in relation to current DPM strategy;\nConvene all relevant stakeholders for DPM to re-assess DPM strategy, based on updated dog ecology data;\nReview and finalise revised strategy;\nSecure funding to implement the revised DPM strategy;\nOfficially document updated strategy;","A newly refined DPM strategy is finalised and documenteded based on the most up-to-date dog ecology data from the local level;","DPM stakeholders/task force; ",8,"Number of surveys undertaken;\nReport on survey findings;\nUpdated DPM strategy;\nPercentage of funding available of the DPM strategy;","","",""]
[70,"DPM","DPM- -3-9"," ",3,9,"Have rabies awareness campaigns, including responsible dog ownership, been expanded to more areas?","Intended audience and areas covered\n",null,{"$f":"IFERROR(INDEX('Data coll & an'!$F$5:$F$50,MATCH($C71,'Data coll & an'!$A$5:$A$50,0)),IFERROR(INDEX('Prev & Ctrl'!$F$5:$F$50,MATCH($C71,'Prev & Ctrl'!$A$5:$A$50,0)),IFERROR(INDEX('Lab dx'!$F$5:$F$50,MATCH($C71,'Lab dx'!$A$5:$A$50,0)),IFERROR(INDEX('Dog popn'!$F$5:$F$50,MATCH($C71,'Dog popn'!$A$5:$A$50,0)),IFERROR(INDEX(IEC!$F$5:$F$50,MATCH($C71,IEC!$A$5:$A$50,0)),IFERROR(INDEX('Cross-cutting issues'!$F$5:$F$50,MATCH($C71,'Cross-cutting issues'!$A$5:$A$50,0)),IFERROR(INDEX(Legislation!$F$5:$F$50,MATCH($C71,Legislation!$A$5:$A$50,0)),\"\")))))))","v":1},{"$f":"IFERROR(INDEX('Data coll & an'!$G$5:$G$50,MATCH($C71,'Data coll & an'!$A$5:$A$50,0)),IFERROR(INDEX('Prev & Ctrl'!$G$5:$G$50,MATCH($C71,'Prev & Ctrl'!$A$5:$A$50,0)),IFERROR(INDEX('Lab dx'!$G$5:$G$50,MATCH($C71,'Lab dx'!$A$5:$A$50,0)),IFERROR(INDEX('Dog popn'!$G$5:$G$50,MATCH($C71,'Dog popn'!$A$5:$A$50,0)),IFERROR(INDEX(IEC!$G$5:$G$50,MATCH($C71,IEC!$A$5:$A$50,0)),IFERROR(INDEX('Cross-cutting issues'!$G$5:$G$50,MATCH($C71,'Cross-cutting issues'!$A$5:$A$50,0)),IFERROR(INDEX(Legislation!$G$5:$G$50,MATCH($C71,Legislation!$A$5:$A$50,0)),\"\")))))))","v":0},"Communication-plan","http://caninerabiesblueprint.org/Communications-plan?lang=en","5.4.16- dog-population-management","http://caninerabiesblueprint.org/5-4-16-What-dog-population?lang=en",null,null,null,null,null,null,"Initiate communications with other areas (neighbouring areas) to determine needs;\nShare rabies awareness strategy (with integrated DPM strategy) with other areas for review and customisation;\nEnsure all relevant stakeholders are present in other areas, identify relevant individuals;\nCurrent local stakeholders to communicate and share experiences with stakeholders in new area;\nIdentify resources and materials for rabies awareness campaigns in other areas;\nImplement rabies awareness campaigns (including DPM strategy) in other areas;","Rabies awareness campaigns, including DPM, are revised, customised, resourced and expanded to other areas for implementation","DPM stakeholders/task force; Animal welfare organisations; Ministry of Agriculture",7,"Number of areas reached by awareness campaigns;\nNumber of new areas identified;\nNumber of new areas reached by awareness campaigns;","","",""]
[71,"DPM","DPM- -3-10"," ",3,10,"Has veterinary and animal technician training been completed across most of country?"," ",null,{"$f":"IFERROR(INDEX('Data coll & an'!$F$5:$F$50,MATCH($C72,'Data coll & an'!$A$5:$A$50,0)),IFERROR(INDEX('Prev & Ctrl'!$F$5:$F$50,MATCH($C72,'Prev & Ctrl'!$A$5:$A$50,0)),IFERROR(INDEX('Lab dx'!$F$5:$F$50,MATCH($C72,'Lab dx'!$A$5:$A$50,0)),IFERROR(INDEX('Dog popn'!$F$5:$F$50,MATCH($C72,'Dog popn'!$A$5:$A$50,0)),IFERROR(INDEX(IEC!$F$5:$F$50,MATCH($C72,IEC!$A$5:$A$50,0)),IFERROR(INDEX('Cross-cutting issues'!$F$5:$F$50,MATCH($C72,'Cross-cutting issues'!$A$5:$A$50,0)),IFERROR(INDEX(Legislation!$F$5:$F$50,MATCH($C72,Legislation!$A$5:$A$50,0)),\"\")))))))","v":0},{"$f":"IFERROR(INDEX('Data coll & an'!$G$5:$G$50,MATCH($C72,'Data coll & an'!$A$5:$A$50,0)),IFERROR(INDEX('Prev & Ctrl'!$G$5:$G$50,MATCH($C72,'Prev & Ctrl'!$A$5:$A$50,0)),IFERROR(INDEX('Lab dx'!$G$5:$G$50,MATCH($C72,'Lab dx'!$A$5:$A$50,0)),IFERROR(INDEX('Dog popn'!$G$5:$G$50,MATCH($C72,'Dog popn'!$A$5:$A$50,0)),IFERROR(INDEX(IEC!$G$5:$G$50,MATCH($C72,IEC!$A$5:$A$50,0)),IFERROR(INDEX('Cross-cutting issues'!$G$5:$G$50,MATCH($C72,'Cross-cutting issues'!$A$5:$A$50,0)),IFERROR(INDEX(Legislation!$G$5:$G$50,MATCH($C72,Legislation!$A$5:$A$50,0)),\"\")))))))","v":0},null,null,null,null,null,null,null,null,null,null,"Develop plan to expand training plan from local areas to the remainder of the country;\nIdentify and secure funding to undertake training courses;\nIdentify logistical requirements (venue, time, date etc.) to undertake training for professionals;\nInitiate training of professionals across the country;\nAssess efficacy and reach of training courses to ensure that professionals have been trained across most of the country;","The majority of veterinary and animal technicians have been trained in DPM across the country;","Ministry of Agriculture;",8,"Training plan;\nPercentage of funding available as per plan;\nNumber of professionals trained;\nReport on efficacy of training plan implementation;","","",""]
[72,"DPM","DPM- -5-11"," ",5,11,"Has the dog population management strategy been implemented nationwide?","Areas covered","KEY",{"$f":"IFERROR(INDEX('Data coll & an'!$F$5:$F$50,MATCH($C73,'Data coll & an'!$A$5:$A$50,0)),IFERROR(INDEX('Prev & Ctrl'!$F$5:$F$50,MATCH($C73,'Prev & Ctrl'!$A$5:$A$50,0)),IFERROR(INDEX('Lab dx'!$F$5:$F$50,MATCH($C73,'Lab dx'!$A$5:$A$50,0)),IFERROR(INDEX('Dog popn'!$F$5:$F$50,MATCH($C73,'Dog popn'!$A$5:$A$50,0)),IFERROR(INDEX(IEC!$F$5:$F$50,MATCH($C73,IEC!$A$5:$A$50,0)),IFERROR(INDEX('Cross-cutting issues'!$F$5:$F$50,MATCH($C73,'Cross-cutting issues'!$A$5:$A$50,0)),IFERROR(INDEX(Legislation!$F$5:$F$50,MATCH($C73,Legislation!$A$5:$A$50,0)),\"\")))))))","v":0},{"$f":"IFERROR(INDEX('Data coll & an'!$G$5:$G$50,MATCH($C73,'Data coll & an'!$A$5:$A$50,0)),IFERROR(INDEX('Prev & Ctrl'!$G$5:$G$50,MATCH($C73,'Prev & Ctrl'!$A$5:$A$50,0)),IFERROR(INDEX('Lab dx'!$G$5:$G$50,MATCH($C73,'Lab dx'!$A$5:$A$50,0)),IFERROR(INDEX('Dog popn'!$G$5:$G$50,MATCH($C73,'Dog popn'!$A$5:$A$50,0)),IFERROR(INDEX(IEC!$G$5:$G$50,MATCH($C73,IEC!$A$5:$A$50,0)),IFERROR(INDEX('Cross-cutting issues'!$G$5:$G$50,MATCH($C73,'Cross-cutting issues'!$A$5:$A$50,0)),IFERROR(INDEX(Legislation!$G$5:$G$50,MATCH($C73,Legislation!$A$5:$A$50,0)),\"\")))))))","v":0},null,null,null,null,null,null,null,null,null,null,"Identify relevant stakeholders at a national level for DPM;\nEnsure that national stakeholders review local-level DPM strategies;\nAdapt local-level DPM strategies based on feedback and discussions;\nDevelop a national DPM strategy based on local level experiences/strategies, ensuring support and continuation of local strategies;\nSecure funding and resources for the implementation of the national DPM strategy;\nFinalise, endorse and document the national DPM strategy;\nTrain all relevant professionals in the implementation of the national DPM strategy, where required;  \nImplement national strategy at all levels, including support to local-level strategies and stakeholders;","A national DPM strategy is devised, documented, funded, endorsed and implemented based on the experiences and feedback from local-level strategies. The national DPM strategy should ensure sufficient resources and support to local-level implementation;","National DPM stakeholders",12,"National DPM strategy;\nPercentage of funding available as per national DPM strategy;\nNumber of professionals trained;\nNumber of dogs reached;","","",""]
[73,"DPM","DPM- -5-12"," ",5,12,"Have dog population management and responsible dog ownership campaigns been continued after the elimination of canine-mediated human rabies?"," ","KEY",{"$f":"IFERROR(INDEX('Data coll & an'!$F$5:$F$50,MATCH($C74,'Data coll & an'!$A$5:$A$50,0)),IFERROR(INDEX('Prev & Ctrl'!$F$5:$F$50,MATCH($C74,'Prev & Ctrl'!$A$5:$A$50,0)),IFERROR(INDEX('Lab dx'!$F$5:$F$50,MATCH($C74,'Lab dx'!$A$5:$A$50,0)),IFERROR(INDEX('Dog popn'!$F$5:$F$50,MATCH($C74,'Dog popn'!$A$5:$A$50,0)),IFERROR(INDEX(IEC!$F$5:$F$50,MATCH($C74,IEC!$A$5:$A$50,0)),IFERROR(INDEX('Cross-cutting issues'!$F$5:$F$50,MATCH($C74,'Cross-cutting issues'!$A$5:$A$50,0)),IFERROR(INDEX(Legislation!$F$5:$F$50,MATCH($C74,Legislation!$A$5:$A$50,0)),\"\")))))))","v":0},{"$f":"IFERROR(INDEX('Data coll & an'!$G$5:$G$50,MATCH($C74,'Data coll & an'!$A$5:$A$50,0)),IFERROR(INDEX('Prev & Ctrl'!$G$5:$G$50,MATCH($C74,'Prev & Ctrl'!$A$5:$A$50,0)),IFERROR(INDEX('Lab dx'!$G$5:$G$50,MATCH($C74,'Lab dx'!$A$5:$A$50,0)),IFERROR(INDEX('Dog popn'!$G$5:$G$50,MATCH($C74,'Dog popn'!$A$5:$A$50,0)),IFERROR(INDEX(IEC!$G$5:$G$50,MATCH($C74,IEC!$A$5:$A$50,0)),IFERROR(INDEX('Cross-cutting issues'!$G$5:$G$50,MATCH($C74,'Cross-cutting issues'!$A$5:$A$50,0)),IFERROR(INDEX(Legislation!$G$5:$G$50,MATCH($C74,Legislation!$A$5:$A$50,0)),\"\")))))))","v":0},"Guidelines-dog-population-management","http://caninerabiesblueprint.org/Guidelines-for-dog-population?lang=en",null,null,null,null,null,null,null,null,"Regularly review and update the established SOPs for DPM;\nShare SOPs with new professionals working in the local areas;\nProfessionals regularly trained on all relevant DPM activities;\nEnsure that adequate funding and resources remain available for the continuation of the DPM strategy; \nContinue public awareness and public sensitisation regarding the importance of DPM; ","The national DPM strategy has been revised and allocated sufficient funding to continue DPM efforts after the elimination of canine-mediated human rabies. ","National DPM stakeholders",12,"Updated SOPs (where required);\nPercentage of new professionals receiving SOPs;\nNumber of profesisonals trained each year;\nAmount of funding available;\nNumber of dogs reached;\nNumber of public awareness messages disseminated;","","",""]
[74,"IEC","IEC-Pub-1-1","Public awareness",1,1,"Have the target audiences been identified at a local level (e.g. at-risk communities, dog owners, children)?"," ",null,{"$f":"IFERROR(INDEX('Data coll & an'!$F$5:$F$50,MATCH($C75,'Data coll & an'!$A$5:$A$50,0)),IFERROR(INDEX('Prev & Ctrl'!$F$5:$F$50,MATCH($C75,'Prev & Ctrl'!$A$5:$A$50,0)),IFERROR(INDEX('Lab dx'!$F$5:$F$50,MATCH($C75,'Lab dx'!$A$5:$A$50,0)),IFERROR(INDEX('Dog popn'!$F$5:$F$50,MATCH($C75,'Dog popn'!$A$5:$A$50,0)),IFERROR(INDEX(IEC!$F$5:$F$50,MATCH($C75,IEC!$A$5:$A$50,0)),IFERROR(INDEX('Cross-cutting issues'!$F$5:$F$50,MATCH($C75,'Cross-cutting issues'!$A$5:$A$50,0)),IFERROR(INDEX(Legislation!$F$5:$F$50,MATCH($C75,Legislation!$A$5:$A$50,0)),\"\")))))))","v":1},{"$f":"IFERROR(INDEX('Data coll & an'!$G$5:$G$50,MATCH($C75,'Data coll & an'!$A$5:$A$50,0)),IFERROR(INDEX('Prev & Ctrl'!$G$5:$G$50,MATCH($C75,'Prev & Ctrl'!$A$5:$A$50,0)),IFERROR(INDEX('Lab dx'!$G$5:$G$50,MATCH($C75,'Lab dx'!$A$5:$A$50,0)),IFERROR(INDEX('Dog popn'!$G$5:$G$50,MATCH($C75,'Dog popn'!$A$5:$A$50,0)),IFERROR(INDEX(IEC!$G$5:$G$50,MATCH($C75,IEC!$A$5:$A$50,0)),IFERROR(INDEX('Cross-cutting issues'!$G$5:$G$50,MATCH($C75,'Cross-cutting issues'!$A$5:$A$50,0)),IFERROR(INDEX(Legislation!$G$5:$G$50,MATCH($C75,Legislation!$A$5:$A$50,0)),\"\")))))))","v":0},"4.2.3 Understanding who needs to be involved","http://caninerabiesblueprint.org/4-2-3-Identifying-and",null,null,null,null,null,null,null,null,"Undertake a literature review of all reports and cases of rabies in the country to identify target audiences;\nAssess international literature regarding target audiences for rabies public awareness;","Target audiences have been identified for public awareness campaigns regarding rabies","Ministry of Communication; Ministry of Health; Ministry of Agriculture",1,"Demographics of target audiences;","","",""]
[75,"IEC","IEC-Pub-1-2","Public awareness",1,2,"Has an assessment been done to determine what message should be communicated to the target audience at a local level?","Determine who the target audience is and what message is appropriate to them. For example, through focus groups or surveys. ",null,{"$f":"IFERROR(INDEX('Data coll & an'!$F$5:$F$50,MATCH($C76,'Data coll & an'!$A$5:$A$50,0)),IFERROR(INDEX('Prev & Ctrl'!$F$5:$F$50,MATCH($C76,'Prev & Ctrl'!$A$5:$A$50,0)),IFERROR(INDEX('Lab dx'!$F$5:$F$50,MATCH($C76,'Lab dx'!$A$5:$A$50,0)),IFERROR(INDEX('Dog popn'!$F$5:$F$50,MATCH($C76,'Dog popn'!$A$5:$A$50,0)),IFERROR(INDEX(IEC!$F$5:$F$50,MATCH($C76,IEC!$A$5:$A$50,0)),IFERROR(INDEX('Cross-cutting issues'!$F$5:$F$50,MATCH($C76,'Cross-cutting issues'!$A$5:$A$50,0)),IFERROR(INDEX(Legislation!$F$5:$F$50,MATCH($C76,Legislation!$A$5:$A$50,0)),\"\")))))))","v":1},{"$f":"IFERROR(INDEX('Data coll & an'!$G$5:$G$50,MATCH($C76,'Data coll & an'!$A$5:$A$50,0)),IFERROR(INDEX('Prev & Ctrl'!$G$5:$G$50,MATCH($C76,'Prev & Ctrl'!$A$5:$A$50,0)),IFERROR(INDEX('Lab dx'!$G$5:$G$50,MATCH($C76,'Lab dx'!$A$5:$A$50,0)),IFERROR(INDEX('Dog popn'!$G$5:$G$50,MATCH($C76,'Dog popn'!$A$5:$A$50,0)),IFERROR(INDEX(IEC!$G$5:$G$50,MATCH($C76,IEC!$A$5:$A$50,0)),IFERROR(INDEX('Cross-cutting issues'!$G$5:$G$50,MATCH($C76,'Cross-cutting issues'!$A$5:$A$50,0)),IFERROR(INDEX(Legislation!$G$5:$G$50,MATCH($C76,Legislation!$A$5:$A$50,0)),\"\")))))))","v":0},"Examples of KAP surveys","http://caninerabiesblueprint.org/Examples-of-Knowledge-Attitude-and,1355",null,null,null,null,null,null,null,null,"Design KAP survey to determine current knowledge of population about rabies at local level; \nAcquire resources and funding to undertake KAP survey;\nDetermine best time(s) and date(s) for KAP survey to be undertaken to ensure best coverage;\nUndertake KAP survey in selected communities;\nAssess results of KAP surveys to identify gaps in knowledge within population;\nIdentify specific messages to be communicated to target audiences from the results of the surveys;","Results of KAP surveys assessed and analysed to determine ideal messages for target audience at local level","Ministry of Communication; Ministry of Health; Ministry of Agriculture",2,"Number of unique messages to be communicated to each target audience;","","",""]
[76,"IEC","IEC-Pub-1-3","Public awareness",1,3,"Has an IEC plan* been developed and implemented on a small scale?","Main messages and intended audiences (e.g. responsible dog ownership, rabies and bite prevention and management, and any other relevant messages for audiences such as dog owners, teachers, children, etc.)","KEY",{"$f":"IFERROR(INDEX('Data coll & an'!$F$5:$F$50,MATCH($C77,'Data coll & an'!$A$5:$A$50,0)),IFERROR(INDEX('Prev & Ctrl'!$F$5:$F$50,MATCH($C77,'Prev & Ctrl'!$A$5:$A$50,0)),IFERROR(INDEX('Lab dx'!$F$5:$F$50,MATCH($C77,'Lab dx'!$A$5:$A$50,0)),IFERROR(INDEX('Dog popn'!$F$5:$F$50,MATCH($C77,'Dog popn'!$A$5:$A$50,0)),IFERROR(INDEX(IEC!$F$5:$F$50,MATCH($C77,IEC!$A$5:$A$50,0)),IFERROR(INDEX('Cross-cutting issues'!$F$5:$F$50,MATCH($C77,'Cross-cutting issues'!$A$5:$A$50,0)),IFERROR(INDEX(Legislation!$F$5:$F$50,MATCH($C77,Legislation!$A$5:$A$50,0)),\"\")))))))","v":1},{"$f":"IFERROR(INDEX('Data coll & an'!$G$5:$G$50,MATCH($C77,'Data coll & an'!$A$5:$A$50,0)),IFERROR(INDEX('Prev & Ctrl'!$G$5:$G$50,MATCH($C77,'Prev & Ctrl'!$A$5:$A$50,0)),IFERROR(INDEX('Lab dx'!$G$5:$G$50,MATCH($C77,'Lab dx'!$A$5:$A$50,0)),IFERROR(INDEX('Dog popn'!$G$5:$G$50,MATCH($C77,'Dog popn'!$A$5:$A$50,0)),IFERROR(INDEX(IEC!$G$5:$G$50,MATCH($C77,IEC!$A$5:$A$50,0)),IFERROR(INDEX('Cross-cutting issues'!$G$5:$G$50,MATCH($C77,'Cross-cutting issues'!$A$5:$A$50,0)),IFERROR(INDEX(Legislation!$G$5:$G$50,MATCH($C77,Legislation!$A$5:$A$50,0)),\"\")))))))","v":0},"Communication-plan","http://caninerabiesblueprint.org/Communications-plan?lang=en","5.4.7-Awareness-campaign","http://caninerabiesblueprint.org/5-4-7-How-do-we-make-sure-that-dog?lang=en",null,null,null,null,null,null,"Do a literature search for any existing IEC plans for rabies (e.g. Rabies Blueprint);\nDraft an IEC plan based on identified target audiences and unique messages;\nReview drafted IEC plan with relevant stakeholders including specific deadlines for feedback;\nFinalise the IEC plan and ensure that is recognized by all relevant stakeholders;\nEnsure sufficient resources and finances to implement IEC plan;\nImplement IEC plan at a local level / small-scale;","A comprehensive IEC plan is finalised, recognized, resourced and implemented on a small-scale;","Ministry of Communication; Ministry of Health; Ministry of Agriculture",2,"IEC plan developed for a small-scale area;","","",""]
[77,"IEC","IEC-Pub-1-4","Public awareness",1,4,"Has broad public awareness messaging started at a national level?","To increase awareness about responsible dog ownership, rabies and bite prevention and management (through channels such as World Rabies Day, other health days, newspaper radio and television campaigns, and other channels)  ",null,{"$f":"IFERROR(INDEX('Data coll & an'!$F$5:$F$50,MATCH($C78,'Data coll & an'!$A$5:$A$50,0)),IFERROR(INDEX('Prev & Ctrl'!$F$5:$F$50,MATCH($C78,'Prev & Ctrl'!$A$5:$A$50,0)),IFERROR(INDEX('Lab dx'!$F$5:$F$50,MATCH($C78,'Lab dx'!$A$5:$A$50,0)),IFERROR(INDEX('Dog popn'!$F$5:$F$50,MATCH($C78,'Dog popn'!$A$5:$A$50,0)),IFERROR(INDEX(IEC!$F$5:$F$50,MATCH($C78,IEC!$A$5:$A$50,0)),IFERROR(INDEX('Cross-cutting issues'!$F$5:$F$50,MATCH($C78,'Cross-cutting issues'!$A$5:$A$50,0)),IFERROR(INDEX(Legislation!$F$5:$F$50,MATCH($C78,Legislation!$A$5:$A$50,0)),\"\")))))))","v":1},{"$f":"IFERROR(INDEX('Data coll & an'!$G$5:$G$50,MATCH($C78,'Data coll & an'!$A$5:$A$50,0)),IFERROR(INDEX('Prev & Ctrl'!$G$5:$G$50,MATCH($C78,'Prev & Ctrl'!$A$5:$A$50,0)),IFERROR(INDEX('Lab dx'!$G$5:$G$50,MATCH($C78,'Lab dx'!$A$5:$A$50,0)),IFERROR(INDEX('Dog popn'!$G$5:$G$50,MATCH($C78,'Dog popn'!$A$5:$A$50,0)),IFERROR(INDEX(IEC!$G$5:$G$50,MATCH($C78,IEC!$A$5:$A$50,0)),IFERROR(INDEX('Cross-cutting issues'!$G$5:$G$50,MATCH($C78,'Cross-cutting issues'!$A$5:$A$50,0)),IFERROR(INDEX(Legislation!$G$5:$G$50,MATCH($C78,Legislation!$A$5:$A$50,0)),\"\")))))))","v":0},"World Rabies Day","https://rabiesalliance.org/world-rabies-day/",null,null,null,null,null,null,null,null,"Develop mass public awareness messages (e.g. World Rabies Day, Radio broadcasts);\nIdentify avenues to disseminate mass public awareness messages at national level (e.g. radio, TV);\nSecure funding to deliver public awareness messages about rabies at national level;\nBegin raising public awareness at national level using developed messages;","Broad-target public awareness messages are delivered en masse to the public","Ministry of Communication; Ministry of Health; Ministry of Agriculture",2,"Number of avenues identified for the broadcasting of the messages;\nNumber of messages broadcast/delivered at the national level;\nNumber of times each message is broadcast/delivered;\nEstimated number of people reached;","","",""]
[78,"IEC","IEC-Pub-3-5","Public awareness",3,5,"Has the IEC plan been integrated into the national rabies strategy, implemented at national level and updated where needed?","Main messages, intended audience and areas covered\nConsider including information to travellers","KEY",{"$f":"IFERROR(INDEX('Data coll & an'!$F$5:$F$50,MATCH($C79,'Data coll & an'!$A$5:$A$50,0)),IFERROR(INDEX('Prev & Ctrl'!$F$5:$F$50,MATCH($C79,'Prev & Ctrl'!$A$5:$A$50,0)),IFERROR(INDEX('Lab dx'!$F$5:$F$50,MATCH($C79,'Lab dx'!$A$5:$A$50,0)),IFERROR(INDEX('Dog popn'!$F$5:$F$50,MATCH($C79,'Dog popn'!$A$5:$A$50,0)),IFERROR(INDEX(IEC!$F$5:$F$50,MATCH($C79,IEC!$A$5:$A$50,0)),IFERROR(INDEX('Cross-cutting issues'!$F$5:$F$50,MATCH($C79,'Cross-cutting issues'!$A$5:$A$50,0)),IFERROR(INDEX(Legislation!$F$5:$F$50,MATCH($C79,Legislation!$A$5:$A$50,0)),\"\")))))))","v":0},{"$f":"IFERROR(INDEX('Data coll & an'!$G$5:$G$50,MATCH($C79,'Data coll & an'!$A$5:$A$50,0)),IFERROR(INDEX('Prev & Ctrl'!$G$5:$G$50,MATCH($C79,'Prev & Ctrl'!$A$5:$A$50,0)),IFERROR(INDEX('Lab dx'!$G$5:$G$50,MATCH($C79,'Lab dx'!$A$5:$A$50,0)),IFERROR(INDEX('Dog popn'!$G$5:$G$50,MATCH($C79,'Dog popn'!$A$5:$A$50,0)),IFERROR(INDEX(IEC!$G$5:$G$50,MATCH($C79,IEC!$A$5:$A$50,0)),IFERROR(INDEX('Cross-cutting issues'!$G$5:$G$50,MATCH($C79,'Cross-cutting issues'!$A$5:$A$50,0)),IFERROR(INDEX(Legislation!$G$5:$G$50,MATCH($C79,Legislation!$A$5:$A$50,0)),\"\")))))))","v":0},"Communication-plan","http://caninerabiesblueprint.org/Communications-plan?lang=en",null,null,null,null,null,null,null,null,"Review IEC plan from local level;\nUpdate plan accordingly to make it applicable for national level implementation;\nReview national rabies control strategy and determine how IEC plan can be integrated;\nIntegrate relevant IEC plan into National rabies control strategy;\nHave updates on national rabies control strategy endorsed;\nImplement updated national rabies control strategy, including implementation of IEC components; ","The national rabies control strategy has been updated to include a national IEC plan. The updates in the national rabies control strategy are endorsed by the relevant stakeholders and implemented.","Ministry of Communication; Ministry of Health; Ministry of Agriculture; All other stakeholders involved in development of National Rabies control strategy",7,"National rabies control strategy with integrated IEC plan;","","",""]
[79,"IEC","IEC-Pub-5-6","Public awareness",5,6,"Have awareness programmes focusing on the maintenance of freedom from dog and dog-transmitted human rabies been implemented?","What are the main messages? Who is the intended audience? How often are messages broadcasted?","KEY",{"$f":"IFERROR(INDEX('Data coll & an'!$F$5:$F$50,MATCH($C80,'Data coll & an'!$A$5:$A$50,0)),IFERROR(INDEX('Prev & Ctrl'!$F$5:$F$50,MATCH($C80,'Prev & Ctrl'!$A$5:$A$50,0)),IFERROR(INDEX('Lab dx'!$F$5:$F$50,MATCH($C80,'Lab dx'!$A$5:$A$50,0)),IFERROR(INDEX('Dog popn'!$F$5:$F$50,MATCH($C80,'Dog popn'!$A$5:$A$50,0)),IFERROR(INDEX(IEC!$F$5:$F$50,MATCH($C80,IEC!$A$5:$A$50,0)),IFERROR(INDEX('Cross-cutting issues'!$F$5:$F$50,MATCH($C80,'Cross-cutting issues'!$A$5:$A$50,0)),IFERROR(INDEX(Legislation!$F$5:$F$50,MATCH($C80,Legislation!$A$5:$A$50,0)),\"\")))))))","v":0},{"$f":"IFERROR(INDEX('Data coll & an'!$G$5:$G$50,MATCH($C80,'Data coll & an'!$A$5:$A$50,0)),IFERROR(INDEX('Prev & Ctrl'!$G$5:$G$50,MATCH($C80,'Prev & Ctrl'!$A$5:$A$50,0)),IFERROR(INDEX('Lab dx'!$G$5:$G$50,MATCH($C80,'Lab dx'!$A$5:$A$50,0)),IFERROR(INDEX('Dog popn'!$G$5:$G$50,MATCH($C80,'Dog popn'!$A$5:$A$50,0)),IFERROR(INDEX(IEC!$G$5:$G$50,MATCH($C80,IEC!$A$5:$A$50,0)),IFERROR(INDEX('Cross-cutting issues'!$G$5:$G$50,MATCH($C80,'Cross-cutting issues'!$A$5:$A$50,0)),IFERROR(INDEX(Legislation!$G$5:$G$50,MATCH($C80,Legislation!$A$5:$A$50,0)),\"\")))))))","v":0},null,null,null,null,null,null,null,null,null,null,"Revise IEC plan to incorporate continued awareness campaigns after the declaration of freedom from dog-transmitted rabies;\nDetermine whether awareness messages will need to change as the country is now free from dog-mediated human rabies;\nInclude messages regarding the possible risk of rabies transmission from terrestrial wildlife carnivores;\nDetermine what awareness campaigns would be most appropriate for target audience;\nSecure funding and resources to continue awareness campaigns after decalration of freedom from dog rabies;\nImplement relevant IEC plan and broadcast relevant messages to public;","Updated IEC plan with awareness programmes delivered to the public to ensure the maintenance of freedom from dog-transmitted rabies in the country.","Ministry of Communication; Ministry of Health; Ministry of Agriculture",13,"Number of awareness messages broadcast;\nEstimated number of people reached;\nNumber of new public awareness messages developed;\n\n","","",""]
[80,"IEC","IEC-Pro-1-7","Professional education",1,7,"Have human and animal health professionals involved in rabies control been identified at a local level?"," ",null,{"$f":"IFERROR(INDEX('Data coll & an'!$F$5:$F$50,MATCH($C81,'Data coll & an'!$A$5:$A$50,0)),IFERROR(INDEX('Prev & Ctrl'!$F$5:$F$50,MATCH($C81,'Prev & Ctrl'!$A$5:$A$50,0)),IFERROR(INDEX('Lab dx'!$F$5:$F$50,MATCH($C81,'Lab dx'!$A$5:$A$50,0)),IFERROR(INDEX('Dog popn'!$F$5:$F$50,MATCH($C81,'Dog popn'!$A$5:$A$50,0)),IFERROR(INDEX(IEC!$F$5:$F$50,MATCH($C81,IEC!$A$5:$A$50,0)),IFERROR(INDEX('Cross-cutting issues'!$F$5:$F$50,MATCH($C81,'Cross-cutting issues'!$A$5:$A$50,0)),IFERROR(INDEX(Legislation!$F$5:$F$50,MATCH($C81,Legislation!$A$5:$A$50,0)),\"\")))))))","v":1},{"$f":"IFERROR(INDEX('Data coll & an'!$G$5:$G$50,MATCH($C81,'Data coll & an'!$A$5:$A$50,0)),IFERROR(INDEX('Prev & Ctrl'!$G$5:$G$50,MATCH($C81,'Prev & Ctrl'!$A$5:$A$50,0)),IFERROR(INDEX('Lab dx'!$G$5:$G$50,MATCH($C81,'Lab dx'!$A$5:$A$50,0)),IFERROR(INDEX('Dog popn'!$G$5:$G$50,MATCH($C81,'Dog popn'!$A$5:$A$50,0)),IFERROR(INDEX(IEC!$G$5:$G$50,MATCH($C81,IEC!$A$5:$A$50,0)),IFERROR(INDEX('Cross-cutting issues'!$G$5:$G$50,MATCH($C81,'Cross-cutting issues'!$A$5:$A$50,0)),IFERROR(INDEX(Legislation!$G$5:$G$50,MATCH($C81,Legislation!$A$5:$A$50,0)),\"\")))))))","v":0},null,null,null,null,null,null,null,null,null,null,"Assess which professionals are active in the specific local areas;\nDetermine if these professionals are active in rabies control and elimination;\n\n","All relevant professionals that could be involved in rabies have been identified  in the target/local areas;  ","Ministry of Health, Ministry of Agriculture, Ministry of Environmental Affairs; Ministry of Education; Local Council; NGOs; ",1,"Number of professionals identified in the local areas;","","",""]
[81,"IEC","IEC-Pro-1-8","Professional education",1,8,"Has an assessment been undertaken to determine the training needs of the professionals at a local level? ","For example: Did officials assess whether doctors can diagnose rabies? Did officials assess whether veterinarians can vaccinate dogs safely?",null,{"$f":"IFERROR(INDEX('Data coll & an'!$F$5:$F$50,MATCH($C82,'Data coll & an'!$A$5:$A$50,0)),IFERROR(INDEX('Prev & Ctrl'!$F$5:$F$50,MATCH($C82,'Prev & Ctrl'!$A$5:$A$50,0)),IFERROR(INDEX('Lab dx'!$F$5:$F$50,MATCH($C82,'Lab dx'!$A$5:$A$50,0)),IFERROR(INDEX('Dog popn'!$F$5:$F$50,MATCH($C82,'Dog popn'!$A$5:$A$50,0)),IFERROR(INDEX(IEC!$F$5:$F$50,MATCH($C82,IEC!$A$5:$A$50,0)),IFERROR(INDEX('Cross-cutting issues'!$F$5:$F$50,MATCH($C82,'Cross-cutting issues'!$A$5:$A$50,0)),IFERROR(INDEX(Legislation!$F$5:$F$50,MATCH($C82,Legislation!$A$5:$A$50,0)),\"\")))))))","v":0},{"$f":"IFERROR(INDEX('Data coll & an'!$G$5:$G$50,MATCH($C82,'Data coll & an'!$A$5:$A$50,0)),IFERROR(INDEX('Prev & Ctrl'!$G$5:$G$50,MATCH($C82,'Prev & Ctrl'!$A$5:$A$50,0)),IFERROR(INDEX('Lab dx'!$G$5:$G$50,MATCH($C82,'Lab dx'!$A$5:$A$50,0)),IFERROR(INDEX('Dog popn'!$G$5:$G$50,MATCH($C82,'Dog popn'!$A$5:$A$50,0)),IFERROR(INDEX(IEC!$G$5:$G$50,MATCH($C82,IEC!$A$5:$A$50,0)),IFERROR(INDEX('Cross-cutting issues'!$G$5:$G$50,MATCH($C82,'Cross-cutting issues'!$A$5:$A$50,0)),IFERROR(INDEX(Legislation!$G$5:$G$50,MATCH($C82,Legislation!$A$5:$A$50,0)),\"\")))))))","v":0},"5.3-Who-do-we-need-to-train","http://caninerabiesblueprint.org/5-3-Who-do-we-need-to-train-and-in?lang=en",null,null,null,null,null,null,null,null,"Design an assessment (e.g. KAP survey) to determine current knowledge of professionals about rabies at local level; \nAcquire resources and funding to undertake the assessment at the local level;\nDetermine best time(s) and date(s) for the assessment to be undertaken to ensure best coverage of all professionals in all sectors;\nUndertake the assessment in the target area;\nAssess results of assessment to identify gaps in knowledge within the professional population;\nCompile a report of the findings of the assessment with recommendations; ","Results of assessment assessed and analysed to determine training needs for the professionals at a local level;","Ministry of Health, Ministry of Agriculture, Ministry of Environmental Affairs; Ministry of Education; Local Council; NGOs; ",2,"Number of professionals surveyed;\nReport on the recommendations for training needs compiled;","","",""]
[82,"IEC","IEC-Pro-1-9","Professional education",1,9,"Has a training plan been developed at a national level?"," ",null,{"$f":"IFERROR(INDEX('Data coll & an'!$F$5:$F$50,MATCH($C83,'Data coll & an'!$A$5:$A$50,0)),IFERROR(INDEX('Prev & Ctrl'!$F$5:$F$50,MATCH($C83,'Prev & Ctrl'!$A$5:$A$50,0)),IFERROR(INDEX('Lab dx'!$F$5:$F$50,MATCH($C83,'Lab dx'!$A$5:$A$50,0)),IFERROR(INDEX('Dog popn'!$F$5:$F$50,MATCH($C83,'Dog popn'!$A$5:$A$50,0)),IFERROR(INDEX(IEC!$F$5:$F$50,MATCH($C83,IEC!$A$5:$A$50,0)),IFERROR(INDEX('Cross-cutting issues'!$F$5:$F$50,MATCH($C83,'Cross-cutting issues'!$A$5:$A$50,0)),IFERROR(INDEX(Legislation!$F$5:$F$50,MATCH($C83,Legislation!$A$5:$A$50,0)),\"\")))))))","v":0},{"$f":"IFERROR(INDEX('Data coll & an'!$G$5:$G$50,MATCH($C83,'Data coll & an'!$A$5:$A$50,0)),IFERROR(INDEX('Prev & Ctrl'!$G$5:$G$50,MATCH($C83,'Prev & Ctrl'!$A$5:$A$50,0)),IFERROR(INDEX('Lab dx'!$G$5:$G$50,MATCH($C83,'Lab dx'!$A$5:$A$50,0)),IFERROR(INDEX('Dog popn'!$G$5:$G$50,MATCH($C83,'Dog popn'!$A$5:$A$50,0)),IFERROR(INDEX(IEC!$G$5:$G$50,MATCH($C83,IEC!$A$5:$A$50,0)),IFERROR(INDEX('Cross-cutting issues'!$G$5:$G$50,MATCH($C83,'Cross-cutting issues'!$A$5:$A$50,0)),IFERROR(INDEX(Legislation!$G$5:$G$50,MATCH($C83,Legislation!$A$5:$A$50,0)),\"\")))))))","v":0},"5.5-What-are-we-going-to-do-human-component","http://caninerabiesblueprint.org/5-5-What-are-we-going-to-do-human?lang=en",null,null,null,null,null,null,null,null,"Review assessment of training needs of professionals undertaken at local levels;\nIdentify appropriate sources for the training of the professionals; \nBased on these results, draft a national training plan for professionals involved in rabies control and elimination;\nReview draft plan with all relevant stakeholders;\nFinalise the plan and ensure that it is recognised by all of the relevant stakeholders;\nEnsure that the national plan is also communicated to all relevant stakeholders at the local level;","A national training plan for professionals is developed and disseminated throughout the country to all of the relevant stakeholders at a local and national level;","All relevant stakeholders",3,"National training plan finalised and recognised by all relevant stakeholders;","","",""]
[83,"IEC","IEC-Pro-1-10","Professional education",1,10,"Have training or refresher courses on rabies and public communication been initiated for professionals in human and animal health at a local level?","Participant organisations/agencies",null,{"$f":"IFERROR(INDEX('Data coll & an'!$F$5:$F$50,MATCH($C84,'Data coll & an'!$A$5:$A$50,0)),IFERROR(INDEX('Prev & Ctrl'!$F$5:$F$50,MATCH($C84,'Prev & Ctrl'!$A$5:$A$50,0)),IFERROR(INDEX('Lab dx'!$F$5:$F$50,MATCH($C84,'Lab dx'!$A$5:$A$50,0)),IFERROR(INDEX('Dog popn'!$F$5:$F$50,MATCH($C84,'Dog popn'!$A$5:$A$50,0)),IFERROR(INDEX(IEC!$F$5:$F$50,MATCH($C84,IEC!$A$5:$A$50,0)),IFERROR(INDEX('Cross-cutting issues'!$F$5:$F$50,MATCH($C84,'Cross-cutting issues'!$A$5:$A$50,0)),IFERROR(INDEX(Legislation!$F$5:$F$50,MATCH($C84,Legislation!$A$5:$A$50,0)),\"\")))))))","v":0},{"$f":"IFERROR(INDEX('Data coll & an'!$G$5:$G$50,MATCH($C84,'Data coll & an'!$A$5:$A$50,0)),IFERROR(INDEX('Prev & Ctrl'!$G$5:$G$50,MATCH($C84,'Prev & Ctrl'!$A$5:$A$50,0)),IFERROR(INDEX('Lab dx'!$G$5:$G$50,MATCH($C84,'Lab dx'!$A$5:$A$50,0)),IFERROR(INDEX('Dog popn'!$G$5:$G$50,MATCH($C84,'Dog popn'!$A$5:$A$50,0)),IFERROR(INDEX(IEC!$G$5:$G$50,MATCH($C84,IEC!$A$5:$A$50,0)),IFERROR(INDEX('Cross-cutting issues'!$G$5:$G$50,MATCH($C84,'Cross-cutting issues'!$A$5:$A$50,0)),IFERROR(INDEX(Legislation!$G$5:$G$50,MATCH($C84,Legislation!$A$5:$A$50,0)),\"\")))))))","v":0},"GARC Education Platform","https://education.rabiesalliance.org/login/index.php",null,null,null,null,null,null,null,null,"Identify effective and relevant training course material for training;\nIdentify and secure funding to undertake training courses;\nIdentify logistical requirements (venue, time, date etc.) to undertake training/refresher courses for professionals (nurses, animal health technicians, etc);\nInitiate training for professionals (nurses, animal health technicians, etc) at the local level based on the national plan;","Training of local professionals in rabies control and elimination has been initiated for all relevant professionals at the local level","All relevant stakeholders",3,"Number of trainings held;\nNumber of professionals trained;\nNumber of sectors involved in trainings courses;","","",""]
[84,"IEC","IEC-Pro-2-11","Professional education",2,11,"Has training of human and animal health personnel been conducted in most parts of the country?","Participant organisations/agencies",null,{"$f":"IFERROR(INDEX('Data coll & an'!$F$5:$F$50,MATCH($C85,'Data coll & an'!$A$5:$A$50,0)),IFERROR(INDEX('Prev & Ctrl'!$F$5:$F$50,MATCH($C85,'Prev & Ctrl'!$A$5:$A$50,0)),IFERROR(INDEX('Lab dx'!$F$5:$F$50,MATCH($C85,'Lab dx'!$A$5:$A$50,0)),IFERROR(INDEX('Dog popn'!$F$5:$F$50,MATCH($C85,'Dog popn'!$A$5:$A$50,0)),IFERROR(INDEX(IEC!$F$5:$F$50,MATCH($C85,IEC!$A$5:$A$50,0)),IFERROR(INDEX('Cross-cutting issues'!$F$5:$F$50,MATCH($C85,'Cross-cutting issues'!$A$5:$A$50,0)),IFERROR(INDEX(Legislation!$F$5:$F$50,MATCH($C85,Legislation!$A$5:$A$50,0)),\"\")))))))","v":0},{"$f":"IFERROR(INDEX('Data coll & an'!$G$5:$G$50,MATCH($C85,'Data coll & an'!$A$5:$A$50,0)),IFERROR(INDEX('Prev & Ctrl'!$G$5:$G$50,MATCH($C85,'Prev & Ctrl'!$A$5:$A$50,0)),IFERROR(INDEX('Lab dx'!$G$5:$G$50,MATCH($C85,'Lab dx'!$A$5:$A$50,0)),IFERROR(INDEX('Dog popn'!$G$5:$G$50,MATCH($C85,'Dog popn'!$A$5:$A$50,0)),IFERROR(INDEX(IEC!$G$5:$G$50,MATCH($C85,IEC!$A$5:$A$50,0)),IFERROR(INDEX('Cross-cutting issues'!$G$5:$G$50,MATCH($C85,'Cross-cutting issues'!$A$5:$A$50,0)),IFERROR(INDEX(Legislation!$G$5:$G$50,MATCH($C85,Legislation!$A$5:$A$50,0)),\"\")))))))","v":0},"5.3-Who-do-we-need-to-train","http://caninerabiesblueprint.org/5-3-Who-do-we-need-to-train-and-in?lang=en","GARC Education Platform","https://education.rabiesalliance.org/login/index.php",null,null,null,null,null,null,"Re-evaluate training needs of professionals throughout country with surveys, studies, and feedback from local level training plans;\nDetermine whether target professionals have been trained in most parts of the country;\nIdentify areas where further training is required;\nSecure funding and resources required to undertake additional training workshops;\nEnsure that all relevant human and animal health personnel have been trained in most parts of the country;","A clear indication of the training needs for professionals involved in rabies control and elimination has been acquired, including identifying areas where training is sufficient, as well as identifying areas where training is still lacking. The majority of professionals throughout the country have been adequately trained.","Ministry of Communication; Ministry of Health; Ministry of Agriculture",5,"Number of professionals requiring training;\nNumber of professionals trained;\n","","",""]
[85,"IEC","IEC-Adv-0-12","Advocacy",0,12,"Is rabies a priority disease in your country?","This would be known after the disease prioritisation workshop has been undertaken in collaboration with the US Centers for Disease Control. ",null,{"$f":"IFERROR(INDEX('Data coll & an'!$F$5:$F$50,MATCH($C86,'Data coll & an'!$A$5:$A$50,0)),IFERROR(INDEX('Prev & Ctrl'!$F$5:$F$50,MATCH($C86,'Prev & Ctrl'!$A$5:$A$50,0)),IFERROR(INDEX('Lab dx'!$F$5:$F$50,MATCH($C86,'Lab dx'!$A$5:$A$50,0)),IFERROR(INDEX('Dog popn'!$F$5:$F$50,MATCH($C86,'Dog popn'!$A$5:$A$50,0)),IFERROR(INDEX(IEC!$F$5:$F$50,MATCH($C86,IEC!$A$5:$A$50,0)),IFERROR(INDEX('Cross-cutting issues'!$F$5:$F$50,MATCH($C86,'Cross-cutting issues'!$A$5:$A$50,0)),IFERROR(INDEX(Legislation!$F$5:$F$50,MATCH($C86,Legislation!$A$5:$A$50,0)),\"\")))))))","v":1},{"$f":"IFERROR(INDEX('Data coll & an'!$G$5:$G$50,MATCH($C86,'Data coll & an'!$A$5:$A$50,0)),IFERROR(INDEX('Prev & Ctrl'!$G$5:$G$50,MATCH($C86,'Prev & Ctrl'!$A$5:$A$50,0)),IFERROR(INDEX('Lab dx'!$G$5:$G$50,MATCH($C86,'Lab dx'!$A$5:$A$50,0)),IFERROR(INDEX('Dog popn'!$G$5:$G$50,MATCH($C86,'Dog popn'!$A$5:$A$50,0)),IFERROR(INDEX(IEC!$G$5:$G$50,MATCH($C86,IEC!$A$5:$A$50,0)),IFERROR(INDEX('Cross-cutting issues'!$G$5:$G$50,MATCH($C86,'Cross-cutting issues'!$A$5:$A$50,0)),IFERROR(INDEX(Legislation!$G$5:$G$50,MATCH($C86,Legislation!$A$5:$A$50,0)),\"\")))))))","v":0},"Public-health-and-economic-burden-of rabies","http://caninerabiesblueprint.org/Public-health-and-economic-burden?lang=en","Health economic studies on rabies","http://caninerabiesblueprint.org/A-study-that-quantified-the?lang=en",null,null,null,null,null,null,"Contact the US Centers for Disease Control and Prevention to request a disease prioritisation workshop in the country;\nUndertake US Centers for Disease Control and Prevention disease prioritisation workshop with all relevant stakeholders;\nMake rabies a priority disease in your country;","Rabies is acknowledged as a priority disease in your country","All relevant stakeholders in rabies control and elimination; \nCollaboration with US CDC",1,"List of prioritised diseases available;","","",""]
[86,"IEC","IEC-Adv-1-13","Advocacy",1,13,"Has an advocacy stakeholder analysis* been done at a national level and target audiences been identified?","For example, at-risk community leaders/authorities, politicians and other policy influencers and decision makers ",null,{"$f":"IFERROR(INDEX('Data coll & an'!$F$5:$F$50,MATCH($C87,'Data coll & an'!$A$5:$A$50,0)),IFERROR(INDEX('Prev & Ctrl'!$F$5:$F$50,MATCH($C87,'Prev & Ctrl'!$A$5:$A$50,0)),IFERROR(INDEX('Lab dx'!$F$5:$F$50,MATCH($C87,'Lab dx'!$A$5:$A$50,0)),IFERROR(INDEX('Dog popn'!$F$5:$F$50,MATCH($C87,'Dog popn'!$A$5:$A$50,0)),IFERROR(INDEX(IEC!$F$5:$F$50,MATCH($C87,IEC!$A$5:$A$50,0)),IFERROR(INDEX('Cross-cutting issues'!$F$5:$F$50,MATCH($C87,'Cross-cutting issues'!$A$5:$A$50,0)),IFERROR(INDEX(Legislation!$F$5:$F$50,MATCH($C87,Legislation!$A$5:$A$50,0)),\"\")))))))","v":0},{"$f":"IFERROR(INDEX('Data coll & an'!$G$5:$G$50,MATCH($C87,'Data coll & an'!$A$5:$A$50,0)),IFERROR(INDEX('Prev & Ctrl'!$G$5:$G$50,MATCH($C87,'Prev & Ctrl'!$A$5:$A$50,0)),IFERROR(INDEX('Lab dx'!$G$5:$G$50,MATCH($C87,'Lab dx'!$A$5:$A$50,0)),IFERROR(INDEX('Dog popn'!$G$5:$G$50,MATCH($C87,'Dog popn'!$A$5:$A$50,0)),IFERROR(INDEX(IEC!$G$5:$G$50,MATCH($C87,IEC!$A$5:$A$50,0)),IFERROR(INDEX('Cross-cutting issues'!$G$5:$G$50,MATCH($C87,'Cross-cutting issues'!$A$5:$A$50,0)),IFERROR(INDEX(Legislation!$G$5:$G$50,MATCH($C87,Legislation!$A$5:$A$50,0)),\"\")))))))","v":0},null,null,null,null,null,null,null,null,null,null,"Identify the relevant people and organisations who play a role in rabies prevention and control;\nDetermine the most effective ways to help make rabies a priority for the identified stakeholders;\n","Advocacy stakeholders identified and target messages to help them prioritise rabies have been identified;","All relevant stakeholders",1,"Demographics of target audiences;\nReport identifying relevant stakeholders;\n","","",""]
[87,"IEC","IEC-Adv-1-14","Advocacy",1,14,"Has an advocacy plan* been developed and implemented at a national level?","Include sharing of advocacy with neighbouring countries and regional level in national plan",null,{"$f":"IFERROR(INDEX('Data coll & an'!$F$5:$F$50,MATCH($C88,'Data coll & an'!$A$5:$A$50,0)),IFERROR(INDEX('Prev & Ctrl'!$F$5:$F$50,MATCH($C88,'Prev & Ctrl'!$A$5:$A$50,0)),IFERROR(INDEX('Lab dx'!$F$5:$F$50,MATCH($C88,'Lab dx'!$A$5:$A$50,0)),IFERROR(INDEX('Dog popn'!$F$5:$F$50,MATCH($C88,'Dog popn'!$A$5:$A$50,0)),IFERROR(INDEX(IEC!$F$5:$F$50,MATCH($C88,IEC!$A$5:$A$50,0)),IFERROR(INDEX('Cross-cutting issues'!$F$5:$F$50,MATCH($C88,'Cross-cutting issues'!$A$5:$A$50,0)),IFERROR(INDEX(Legislation!$F$5:$F$50,MATCH($C88,Legislation!$A$5:$A$50,0)),\"\")))))))","v":0},{"$f":"IFERROR(INDEX('Data coll & an'!$G$5:$G$50,MATCH($C88,'Data coll & an'!$A$5:$A$50,0)),IFERROR(INDEX('Prev & Ctrl'!$G$5:$G$50,MATCH($C88,'Prev & Ctrl'!$A$5:$A$50,0)),IFERROR(INDEX('Lab dx'!$G$5:$G$50,MATCH($C88,'Lab dx'!$A$5:$A$50,0)),IFERROR(INDEX('Dog popn'!$G$5:$G$50,MATCH($C88,'Dog popn'!$A$5:$A$50,0)),IFERROR(INDEX(IEC!$G$5:$G$50,MATCH($C88,IEC!$A$5:$A$50,0)),IFERROR(INDEX('Cross-cutting issues'!$G$5:$G$50,MATCH($C88,'Cross-cutting issues'!$A$5:$A$50,0)),IFERROR(INDEX(Legislation!$G$5:$G$50,MATCH($C88,Legislation!$A$5:$A$50,0)),\"\")))))))","v":0},"Drafting an advocacy strategy","http://www.unicef.org/cbsc/files/Advocacy_Toolkit.pdf","A toolkit for influencing policy","http://caninerabiesblueprint.org/A-toolkit-for-influencing-policy",null,null,null,null,null,null,"Do a literature search for any existing advocacy plans for rabies (e.g. Rabies Blueprint);\nDraft an advocacy plan based on identified target audiences and stakeholder analysis;\nReview drafted advocacy plan with relevant stakeholders including specific deadlines for feedback;\nFinalise the advocacy plan and ensure that is recognized by all relevant stakeholders;\nEnsure sufficient resources and finances to implement the advocacy plan;\nImplement advocacy plan at the national level;","A structured plan to make rabies prevention and control a priority among leaders, decision-makers and policy influencers is available, resourced and recognised;","All relevant stakeholders",3,"A national advocacy plan developed and recognised;","","",""]
[88,"IEC","IEC-Adv-2-15","Advocacy",2,15,"Have you promoted any small-scale rabies control program successes using the national advocacy plan?","Main messages, audiences, areas covered",null,{"$f":"IFERROR(INDEX('Data coll & an'!$F$5:$F$50,MATCH($C89,'Data coll & an'!$A$5:$A$50,0)),IFERROR(INDEX('Prev & Ctrl'!$F$5:$F$50,MATCH($C89,'Prev & Ctrl'!$A$5:$A$50,0)),IFERROR(INDEX('Lab dx'!$F$5:$F$50,MATCH($C89,'Lab dx'!$A$5:$A$50,0)),IFERROR(INDEX('Dog popn'!$F$5:$F$50,MATCH($C89,'Dog popn'!$A$5:$A$50,0)),IFERROR(INDEX(IEC!$F$5:$F$50,MATCH($C89,IEC!$A$5:$A$50,0)),IFERROR(INDEX('Cross-cutting issues'!$F$5:$F$50,MATCH($C89,'Cross-cutting issues'!$A$5:$A$50,0)),IFERROR(INDEX(Legislation!$F$5:$F$50,MATCH($C89,Legislation!$A$5:$A$50,0)),\"\")))))))","v":0},{"$f":"IFERROR(INDEX('Data coll & an'!$G$5:$G$50,MATCH($C89,'Data coll & an'!$A$5:$A$50,0)),IFERROR(INDEX('Prev & Ctrl'!$G$5:$G$50,MATCH($C89,'Prev & Ctrl'!$A$5:$A$50,0)),IFERROR(INDEX('Lab dx'!$G$5:$G$50,MATCH($C89,'Lab dx'!$A$5:$A$50,0)),IFERROR(INDEX('Dog popn'!$G$5:$G$50,MATCH($C89,'Dog popn'!$A$5:$A$50,0)),IFERROR(INDEX(IEC!$G$5:$G$50,MATCH($C89,IEC!$A$5:$A$50,0)),IFERROR(INDEX('Cross-cutting issues'!$G$5:$G$50,MATCH($C89,'Cross-cutting issues'!$A$5:$A$50,0)),IFERROR(INDEX(Legislation!$G$5:$G$50,MATCH($C89,Legislation!$A$5:$A$50,0)),\"\")))))))","v":0},null,null,null,null,null,null,null,null,null,null,"Communicate with all existing rabies control programmes to highlight any potential successes;\nRefer to national advocacy plan to determine best means of the promotion of these successes;\nPromote successes at a national level using national advocacy plan, including the resources and personnel associated with the national plan;","All smale-scale successes have been identified and promoted using the national advocacy plan and resources","Ministry of Communication; Ministry of Health; Ministry of Agriculture",2,"Number of small-scale successes promoted;\nNumber of stakeholders reached;\nNumber of stakeholders that provided feedack;","","",""]
[89,"IEC","IEC-Adv-2-16","Advocacy",2,16,"Has the national advocacy plan been used to obtain support from stakeholders to financially resource the national rabies control strategy?","Main messages, audiences","KEY",{"$f":"IFERROR(INDEX('Data coll & an'!$F$5:$F$50,MATCH($C90,'Data coll & an'!$A$5:$A$50,0)),IFERROR(INDEX('Prev & Ctrl'!$F$5:$F$50,MATCH($C90,'Prev & Ctrl'!$A$5:$A$50,0)),IFERROR(INDEX('Lab dx'!$F$5:$F$50,MATCH($C90,'Lab dx'!$A$5:$A$50,0)),IFERROR(INDEX('Dog popn'!$F$5:$F$50,MATCH($C90,'Dog popn'!$A$5:$A$50,0)),IFERROR(INDEX(IEC!$F$5:$F$50,MATCH($C90,IEC!$A$5:$A$50,0)),IFERROR(INDEX('Cross-cutting issues'!$F$5:$F$50,MATCH($C90,'Cross-cutting issues'!$A$5:$A$50,0)),IFERROR(INDEX(Legislation!$F$5:$F$50,MATCH($C90,Legislation!$A$5:$A$50,0)),\"\")))))))","v":0},{"$f":"IFERROR(INDEX('Data coll & an'!$G$5:$G$50,MATCH($C90,'Data coll & an'!$A$5:$A$50,0)),IFERROR(INDEX('Prev & Ctrl'!$G$5:$G$50,MATCH($C90,'Prev & Ctrl'!$A$5:$A$50,0)),IFERROR(INDEX('Lab dx'!$G$5:$G$50,MATCH($C90,'Lab dx'!$A$5:$A$50,0)),IFERROR(INDEX('Dog popn'!$G$5:$G$50,MATCH($C90,'Dog popn'!$A$5:$A$50,0)),IFERROR(INDEX(IEC!$G$5:$G$50,MATCH($C90,IEC!$A$5:$A$50,0)),IFERROR(INDEX('Cross-cutting issues'!$G$5:$G$50,MATCH($C90,'Cross-cutting issues'!$A$5:$A$50,0)),IFERROR(INDEX(Legislation!$G$5:$G$50,MATCH($C90,Legislation!$A$5:$A$50,0)),\"\")))))))","v":0},null,null,null,null,null,null,null,null,null,null,"Identify potential funders and stakeholders who could resource the national rabies control strategy;\nDetermine as to how the national advocacy plan can be used to leverage the identified stakeholders to financially resource the national rabies control strategy;\nShare small-scale successes throughout the country with potential stakeholders;\nObtain financial and logistical support from the relevant stakeholders that have been identified;","Stakeholders and funders are identified and have pledged their financial support towards the national rabies control strategy, through the use of the national advocacy plan; ","Ministry of Communication; Ministry of Health; Ministry of Agriculture",6,"Number of stakeholders approached;\nNumber of stakeholders pledging support;\nFinancial amount pledged towards the national rabies control strategy;","","",""]
[90,"IEC","IEC-Adv-3-17","Advocacy",3,17,"Have dog-transmitted human rabies free zones been declared publicly?","Areas covered","KEY",{"$f":"IFERROR(INDEX('Data coll & an'!$F$5:$F$50,MATCH($C91,'Data coll & an'!$A$5:$A$50,0)),IFERROR(INDEX('Prev & Ctrl'!$F$5:$F$50,MATCH($C91,'Prev & Ctrl'!$A$5:$A$50,0)),IFERROR(INDEX('Lab dx'!$F$5:$F$50,MATCH($C91,'Lab dx'!$A$5:$A$50,0)),IFERROR(INDEX('Dog popn'!$F$5:$F$50,MATCH($C91,'Dog popn'!$A$5:$A$50,0)),IFERROR(INDEX(IEC!$F$5:$F$50,MATCH($C91,IEC!$A$5:$A$50,0)),IFERROR(INDEX('Cross-cutting issues'!$F$5:$F$50,MATCH($C91,'Cross-cutting issues'!$A$5:$A$50,0)),IFERROR(INDEX(Legislation!$F$5:$F$50,MATCH($C91,Legislation!$A$5:$A$50,0)),\"\")))))))","v":0},{"$f":"IFERROR(INDEX('Data coll & an'!$G$5:$G$50,MATCH($C91,'Data coll & an'!$A$5:$A$50,0)),IFERROR(INDEX('Prev & Ctrl'!$G$5:$G$50,MATCH($C91,'Prev & Ctrl'!$A$5:$A$50,0)),IFERROR(INDEX('Lab dx'!$G$5:$G$50,MATCH($C91,'Lab dx'!$A$5:$A$50,0)),IFERROR(INDEX('Dog popn'!$G$5:$G$50,MATCH($C91,'Dog popn'!$A$5:$A$50,0)),IFERROR(INDEX(IEC!$G$5:$G$50,MATCH($C91,IEC!$A$5:$A$50,0)),IFERROR(INDEX('Cross-cutting issues'!$G$5:$G$50,MATCH($C91,'Cross-cutting issues'!$A$5:$A$50,0)),IFERROR(INDEX(Legislation!$G$5:$G$50,MATCH($C91,Legislation!$A$5:$A$50,0)),\"\")))))))","v":0},null,null,null,null,null,null,null,null,null,null,"Identify rabies-free zones;\nInform the entire country of successes and freedom from dog-transmitted human rabies in the identified zones using the national advocacy plan;","Public broadcasts declaring identified areas free from dog-transmitted human rabies;","Ministry of Communication; Ministry of Health; Ministry of Agriculture; All other stakeholders involved in development of National Rabies control strategy",9,"Number of broadcasts per dog-transmitted human rabies-free areas;\nEstimated number of people reached;\n","","",""]
[91,"IEC","IEC-Adv-4-18","Advocacy",4,18,"Have you declared publically that your entire country is free from dog-transmitted human rabies?"," ","KEY",{"$f":"IFERROR(INDEX('Data coll & an'!$F$5:$F$50,MATCH($C92,'Data coll & an'!$A$5:$A$50,0)),IFERROR(INDEX('Prev & Ctrl'!$F$5:$F$50,MATCH($C92,'Prev & Ctrl'!$A$5:$A$50,0)),IFERROR(INDEX('Lab dx'!$F$5:$F$50,MATCH($C92,'Lab dx'!$A$5:$A$50,0)),IFERROR(INDEX('Dog popn'!$F$5:$F$50,MATCH($C92,'Dog popn'!$A$5:$A$50,0)),IFERROR(INDEX(IEC!$F$5:$F$50,MATCH($C92,IEC!$A$5:$A$50,0)),IFERROR(INDEX('Cross-cutting issues'!$F$5:$F$50,MATCH($C92,'Cross-cutting issues'!$A$5:$A$50,0)),IFERROR(INDEX(Legislation!$F$5:$F$50,MATCH($C92,Legislation!$A$5:$A$50,0)),\"\")))))))","v":0},{"$f":"IFERROR(INDEX('Data coll & an'!$G$5:$G$50,MATCH($C92,'Data coll & an'!$A$5:$A$50,0)),IFERROR(INDEX('Prev & Ctrl'!$G$5:$G$50,MATCH($C92,'Prev & Ctrl'!$A$5:$A$50,0)),IFERROR(INDEX('Lab dx'!$G$5:$G$50,MATCH($C92,'Lab dx'!$A$5:$A$50,0)),IFERROR(INDEX('Dog popn'!$G$5:$G$50,MATCH($C92,'Dog popn'!$A$5:$A$50,0)),IFERROR(INDEX(IEC!$G$5:$G$50,MATCH($C92,IEC!$A$5:$A$50,0)),IFERROR(INDEX('Cross-cutting issues'!$G$5:$G$50,MATCH($C92,'Cross-cutting issues'!$A$5:$A$50,0)),IFERROR(INDEX(Legislation!$G$5:$G$50,MATCH($C92,Legislation!$A$5:$A$50,0)),\"\")))))))","v":0},null,null,null,null,null,null,null,null,null,null,"Assess data to determine whether country has been free from dog-transmitted human rabies for 2 years;\nEnsure surveillance is adequate to confirm data;\nRefer to national advocacy plan to determine most effective means to proclaim freedom from human rabies;\nAllocate resources and identify most appropriate personnel to do declaration;\nDeclare country free from dog-transmitted human rabies at a national level; ","A public declaration informing the entire country that the country is free from dog-transmitted human rabies, backed by adequate surveillance","Ministry of Communication; Ministry of Health; Ministry of Agriculture; All other stakeholders involved in development of National Rabies control strategy",11,"Number of broadcasts declaring freedom from dog-transmitted human rabies;\nEstimated number of people reached;\nInternational recognition of dog-transmitted human rabies-free status;\n","","",""]
[92,"IEC","IEC-Adv-5-19","Advocacy",5,19,"Have you declared publically that your entire country is free from dog rabies? "," ","KEY",{"$f":"IFERROR(INDEX('Data coll & an'!$F$5:$F$50,MATCH($C93,'Data coll & an'!$A$5:$A$50,0)),IFERROR(INDEX('Prev & Ctrl'!$F$5:$F$50,MATCH($C93,'Prev & Ctrl'!$A$5:$A$50,0)),IFERROR(INDEX('Lab dx'!$F$5:$F$50,MATCH($C93,'Lab dx'!$A$5:$A$50,0)),IFERROR(INDEX('Dog popn'!$F$5:$F$50,MATCH($C93,'Dog popn'!$A$5:$A$50,0)),IFERROR(INDEX(IEC!$F$5:$F$50,MATCH($C93,IEC!$A$5:$A$50,0)),IFERROR(INDEX('Cross-cutting issues'!$F$5:$F$50,MATCH($C93,'Cross-cutting issues'!$A$5:$A$50,0)),IFERROR(INDEX(Legislation!$F$5:$F$50,MATCH($C93,Legislation!$A$5:$A$50,0)),\"\")))))))","v":0},{"$f":"IFERROR(INDEX('Data coll & an'!$G$5:$G$50,MATCH($C93,'Data coll & an'!$A$5:$A$50,0)),IFERROR(INDEX('Prev & Ctrl'!$G$5:$G$50,MATCH($C93,'Prev & Ctrl'!$A$5:$A$50,0)),IFERROR(INDEX('Lab dx'!$G$5:$G$50,MATCH($C93,'Lab dx'!$A$5:$A$50,0)),IFERROR(INDEX('Dog popn'!$G$5:$G$50,MATCH($C93,'Dog popn'!$A$5:$A$50,0)),IFERROR(INDEX(IEC!$G$5:$G$50,MATCH($C93,IEC!$A$5:$A$50,0)),IFERROR(INDEX('Cross-cutting issues'!$G$5:$G$50,MATCH($C93,'Cross-cutting issues'!$A$5:$A$50,0)),IFERROR(INDEX(Legislation!$G$5:$G$50,MATCH($C93,Legislation!$A$5:$A$50,0)),\"\")))))))","v":0},null,null,null,null,null,null,null,null,null,null,"Assess data to determine whether country has been free from dog-rabies for 2 years;\nEnsure surveillance is adequate to confirm data;\nRefer to national advocacy plan to determine most effective means to proclaim freedom from dog rabies;\nAllocate resources and identify most appropriate personnel to do declaration;\nDeclare country free from dog-rabies at a national level; ","A public declaration informing the entire country that the country is free from dog-rabies, backed by adequate surveillance","Ministry of Communication; Ministry of Health; Ministry of Agriculture; All other stakeholders involved in development of National Rabies control strategy",13,"Number of broadcasts declaring freedom from dog-rabies;\nEstimated number of people reached;\nInternational recognition of dog-rabies-free status;\n","","",""]
[93,"CCI","CCI-Int-0-1","Intersectoral collaboration",0,1,"Are the results of rabies sample(s) shared with local and national authorities? ","Agencies involved",null,{"$f":"IFERROR(INDEX('Data coll & an'!$F$5:$F$50,MATCH($C94,'Data coll & an'!$A$5:$A$50,0)),IFERROR(INDEX('Prev & Ctrl'!$F$5:$F$50,MATCH($C94,'Prev & Ctrl'!$A$5:$A$50,0)),IFERROR(INDEX('Lab dx'!$F$5:$F$50,MATCH($C94,'Lab dx'!$A$5:$A$50,0)),IFERROR(INDEX('Dog popn'!$F$5:$F$50,MATCH($C94,'Dog popn'!$A$5:$A$50,0)),IFERROR(INDEX(IEC!$F$5:$F$50,MATCH($C94,IEC!$A$5:$A$50,0)),IFERROR(INDEX('Cross-cutting issues'!$F$5:$F$50,MATCH($C94,'Cross-cutting issues'!$A$5:$A$50,0)),IFERROR(INDEX(Legislation!$F$5:$F$50,MATCH($C94,Legislation!$A$5:$A$50,0)),\"\")))))))","v":1},{"$f":"IFERROR(INDEX('Data coll & an'!$G$5:$G$50,MATCH($C94,'Data coll & an'!$A$5:$A$50,0)),IFERROR(INDEX('Prev & Ctrl'!$G$5:$G$50,MATCH($C94,'Prev & Ctrl'!$A$5:$A$50,0)),IFERROR(INDEX('Lab dx'!$G$5:$G$50,MATCH($C94,'Lab dx'!$A$5:$A$50,0)),IFERROR(INDEX('Dog popn'!$G$5:$G$50,MATCH($C94,'Dog popn'!$A$5:$A$50,0)),IFERROR(INDEX(IEC!$G$5:$G$50,MATCH($C94,IEC!$A$5:$A$50,0)),IFERROR(INDEX('Cross-cutting issues'!$G$5:$G$50,MATCH($C94,'Cross-cutting issues'!$A$5:$A$50,0)),IFERROR(INDEX(Legislation!$G$5:$G$50,MATCH($C94,Legislation!$A$5:$A$50,0)),\"\")))))))","v":0},"6. Reporting of rabies data","http://rabiessurveillanceblueprint.org/-Reporting-dissemination-and-",null,null,null,null,null,null,null,null,"Identify the relevant authorities, including the OIE and WHO representatives within the country;\nDetermine results that need to be reported to the relevant authorities;\nCompile relevant data;\nShare the compiled data with the identified authorities;\nEnsure that all relevant authorities acknowledge receipt of the reported data;\nSend data to international authorities","Results of rabies samples are shared with all of the relevant authorities throughout the country;","Ministry of Agriculture / Ministry of Health",1,"Number of authorities identified;\nNumber of samples reported to authorities;\n\n","","",""]
[94,"CCI","CCI-Int-1-2","Intersectoral collaboration",1,2,"Have the main national stakeholders* in rabies prevention and control been identified?","Agencies of stakeholders involved",null,{"$f":"IFERROR(INDEX('Data coll & an'!$F$5:$F$50,MATCH($C95,'Data coll & an'!$A$5:$A$50,0)),IFERROR(INDEX('Prev & Ctrl'!$F$5:$F$50,MATCH($C95,'Prev & Ctrl'!$A$5:$A$50,0)),IFERROR(INDEX('Lab dx'!$F$5:$F$50,MATCH($C95,'Lab dx'!$A$5:$A$50,0)),IFERROR(INDEX('Dog popn'!$F$5:$F$50,MATCH($C95,'Dog popn'!$A$5:$A$50,0)),IFERROR(INDEX(IEC!$F$5:$F$50,MATCH($C95,IEC!$A$5:$A$50,0)),IFERROR(INDEX('Cross-cutting issues'!$F$5:$F$50,MATCH($C95,'Cross-cutting issues'!$A$5:$A$50,0)),IFERROR(INDEX(Legislation!$F$5:$F$50,MATCH($C95,Legislation!$A$5:$A$50,0)),\"\")))))))","v":1},{"$f":"IFERROR(INDEX('Data coll & an'!$G$5:$G$50,MATCH($C95,'Data coll & an'!$A$5:$A$50,0)),IFERROR(INDEX('Prev & Ctrl'!$G$5:$G$50,MATCH($C95,'Prev & Ctrl'!$A$5:$A$50,0)),IFERROR(INDEX('Lab dx'!$G$5:$G$50,MATCH($C95,'Lab dx'!$A$5:$A$50,0)),IFERROR(INDEX('Dog popn'!$G$5:$G$50,MATCH($C95,'Dog popn'!$A$5:$A$50,0)),IFERROR(INDEX(IEC!$G$5:$G$50,MATCH($C95,IEC!$A$5:$A$50,0)),IFERROR(INDEX('Cross-cutting issues'!$G$5:$G$50,MATCH($C95,'Cross-cutting issues'!$A$5:$A$50,0)),IFERROR(INDEX(Legislation!$G$5:$G$50,MATCH($C95,Legislation!$A$5:$A$50,0)),\"\")))))))","v":0},"2. Roles-and-Responsibilities","http://caninerabiesblueprint.org/Roles-and-Responsibilities?lang=en","Challenges of animal health information systems and surveillance for animal diseases and zoonoses ","http://www.fao.org/3/a-i2415e.pdf",null,null,null,null,null,null,"Identify sectors that need to be represented as primary national stakeholders for prevention and control;\nContact the relevant sectors and identify the individual stakeholders within each of those sectors;","Main stakehiolders identified and contacted ","Ministry of Health;  \nMinstry of Agriculture; ",1,"Number of sectors identified;\nNumber of stakeholders within those sectors identified;\n","","",""]
[95,"CCI","CCI-Int-1-3","Intersectoral collaboration",1,3,"Are the key stakeholders* still actively involved in rabies control? "," ",null,{"$f":"IFERROR(INDEX('Data coll & an'!$F$5:$F$50,MATCH($C96,'Data coll & an'!$A$5:$A$50,0)),IFERROR(INDEX('Prev & Ctrl'!$F$5:$F$50,MATCH($C96,'Prev & Ctrl'!$A$5:$A$50,0)),IFERROR(INDEX('Lab dx'!$F$5:$F$50,MATCH($C96,'Lab dx'!$A$5:$A$50,0)),IFERROR(INDEX('Dog popn'!$F$5:$F$50,MATCH($C96,'Dog popn'!$A$5:$A$50,0)),IFERROR(INDEX(IEC!$F$5:$F$50,MATCH($C96,IEC!$A$5:$A$50,0)),IFERROR(INDEX('Cross-cutting issues'!$F$5:$F$50,MATCH($C96,'Cross-cutting issues'!$A$5:$A$50,0)),IFERROR(INDEX(Legislation!$F$5:$F$50,MATCH($C96,Legislation!$A$5:$A$50,0)),\"\")))))))","v":1},{"$f":"IFERROR(INDEX('Data coll & an'!$G$5:$G$50,MATCH($C96,'Data coll & an'!$A$5:$A$50,0)),IFERROR(INDEX('Prev & Ctrl'!$G$5:$G$50,MATCH($C96,'Prev & Ctrl'!$A$5:$A$50,0)),IFERROR(INDEX('Lab dx'!$G$5:$G$50,MATCH($C96,'Lab dx'!$A$5:$A$50,0)),IFERROR(INDEX('Dog popn'!$G$5:$G$50,MATCH($C96,'Dog popn'!$A$5:$A$50,0)),IFERROR(INDEX(IEC!$G$5:$G$50,MATCH($C96,IEC!$A$5:$A$50,0)),IFERROR(INDEX('Cross-cutting issues'!$G$5:$G$50,MATCH($C96,'Cross-cutting issues'!$A$5:$A$50,0)),IFERROR(INDEX(Legislation!$G$5:$G$50,MATCH($C96,Legislation!$A$5:$A$50,0)),\"\")))))))","v":0},"2. Roles-and-Responsibilities","http://caninerabiesblueprint.org/Roles-and-Responsibilities?lang=en",null,null,null,null,null,null,null,null,"Contact relevant professionals within relevant sectors;\nDetermine and ensure ther continued interest of the identified stakeholders;\nSecure buy-in and support from the identified stakeholders;","Surety that relevant stakeholders are still actively involved in rabies control;","Ministry of Health;  \nMinstry of Agriculture; ",3,"Number of stakeholders contacted;\nNumber of stakeholders with continued interest in rabies prevention and control;\nNumber of new stakeholders incorporated into the key stakeholders list;","","",""]
[96,"CCI","CCI-Int-1-4","Intersectoral collaboration",1,4,"Has an intersectoral rabies task force, committee or working group, including all relevant stakeholders*, been established at a local or national level and do they meet/communicate regularly?","Agencies of members of task force; methods of communication; regularity of meetings/communication",null,{"$f":"IFERROR(INDEX('Data coll & an'!$F$5:$F$50,MATCH($C97,'Data coll & an'!$A$5:$A$50,0)),IFERROR(INDEX('Prev & Ctrl'!$F$5:$F$50,MATCH($C97,'Prev & Ctrl'!$A$5:$A$50,0)),IFERROR(INDEX('Lab dx'!$F$5:$F$50,MATCH($C97,'Lab dx'!$A$5:$A$50,0)),IFERROR(INDEX('Dog popn'!$F$5:$F$50,MATCH($C97,'Dog popn'!$A$5:$A$50,0)),IFERROR(INDEX(IEC!$F$5:$F$50,MATCH($C97,IEC!$A$5:$A$50,0)),IFERROR(INDEX('Cross-cutting issues'!$F$5:$F$50,MATCH($C97,'Cross-cutting issues'!$A$5:$A$50,0)),IFERROR(INDEX(Legislation!$F$5:$F$50,MATCH($C97,Legislation!$A$5:$A$50,0)),\"\")))))))","v":0},{"$f":"IFERROR(INDEX('Data coll & an'!$G$5:$G$50,MATCH($C97,'Data coll & an'!$A$5:$A$50,0)),IFERROR(INDEX('Prev & Ctrl'!$G$5:$G$50,MATCH($C97,'Prev & Ctrl'!$A$5:$A$50,0)),IFERROR(INDEX('Lab dx'!$G$5:$G$50,MATCH($C97,'Lab dx'!$A$5:$A$50,0)),IFERROR(INDEX('Dog popn'!$G$5:$G$50,MATCH($C97,'Dog popn'!$A$5:$A$50,0)),IFERROR(INDEX(IEC!$G$5:$G$50,MATCH($C97,IEC!$A$5:$A$50,0)),IFERROR(INDEX('Cross-cutting issues'!$G$5:$G$50,MATCH($C97,'Cross-cutting issues'!$A$5:$A$50,0)),IFERROR(INDEX(Legislation!$G$5:$G$50,MATCH($C97,Legislation!$A$5:$A$50,0)),\"\")))))))","v":0},"2. Roles-and-Responsibilities","http://caninerabiesblueprint.org/Roles-and-Responsibilities?lang=en","Challenges of animal health information systems and surveillance for animal diseases and zoonoses ","http://www.fao.org/3/a-i2415e.pdf",null,null,null,null,null,null,"Contact relevant professionals within relevant sectors;\nCreate an intersectoral task force in collaboration including the relevant stakeholders;\nDraft terms of reference (TORs) for the task force;\nFinalise the TORs and ensure that they are recognised by all taskforce members;\nInvestigate mechanisms whereby continued communication can be ensured;","A multi-sectoral rabies task force has been developed","Ministry of Health; \nMinistry of Finance; \nMinstry of Agriculture; \nMinistry of Education; \nResearch/Training institutions (e.g. Universities); \nLocal authorities (civil administration, police, environmental affairs); \nLocal council; \nNGOs; \nRepresentation from international bodies (e.g. OIE, FAO, WHO, GARC)",2,"Number of stakeholders involved in taskforce;\nTORs developed;","","",""]
[97,"CCI",{"$f":"B98&\"-\"&LEFT(D98,3)&\"-\"&E98&\"-\"&F98","v":"CCI-Int-2-5"},"Intersectoral collaboration",2,5,"Is the private sector included in the inter-sectoral task force's discussions and/or activities?"," ",null,{"$f":"IFERROR(INDEX('Data coll & an'!$F$5:$F$50,MATCH($C98,'Data coll & an'!$A$5:$A$50,0)),IFERROR(INDEX('Prev & Ctrl'!$F$5:$F$50,MATCH($C98,'Prev & Ctrl'!$A$5:$A$50,0)),IFERROR(INDEX('Lab dx'!$F$5:$F$50,MATCH($C98,'Lab dx'!$A$5:$A$50,0)),IFERROR(INDEX('Dog popn'!$F$5:$F$50,MATCH($C98,'Dog popn'!$A$5:$A$50,0)),IFERROR(INDEX(IEC!$F$5:$F$50,MATCH($C98,IEC!$A$5:$A$50,0)),IFERROR(INDEX('Cross-cutting issues'!$F$5:$F$50,MATCH($C98,'Cross-cutting issues'!$A$5:$A$50,0)),IFERROR(INDEX(Legislation!$F$5:$F$50,MATCH($C98,Legislation!$A$5:$A$50,0)),\"\")))))))","v":0},{"$f":"IFERROR(INDEX('Data coll & an'!$G$5:$G$50,MATCH($C98,'Data coll & an'!$A$5:$A$50,0)),IFERROR(INDEX('Prev & Ctrl'!$G$5:$G$50,MATCH($C98,'Prev & Ctrl'!$A$5:$A$50,0)),IFERROR(INDEX('Lab dx'!$G$5:$G$50,MATCH($C98,'Lab dx'!$A$5:$A$50,0)),IFERROR(INDEX('Dog popn'!$G$5:$G$50,MATCH($C98,'Dog popn'!$A$5:$A$50,0)),IFERROR(INDEX(IEC!$G$5:$G$50,MATCH($C98,IEC!$A$5:$A$50,0)),IFERROR(INDEX('Cross-cutting issues'!$G$5:$G$50,MATCH($C98,'Cross-cutting issues'!$A$5:$A$50,0)),IFERROR(INDEX(Legislation!$G$5:$G$50,MATCH($C98,Legislation!$A$5:$A$50,0)),\"\")))))))","v":0},"2. Roles-and-Responsibilities","http://caninerabiesblueprint.org/Roles-and-Responsibilities?lang=en",null,null,null,null,null,null,null,null,"Identify relevant members of private sector;\nContact relevant professionals within private sector;\nSecure buy-in and support from professionals in the private sector;\nEnsure the participation of the relevant stakeholders from the private sector in the inter-sectoral task force's discussions and activities;","Private sector's role in the national rabies task force has been identified and participation has been ensured","Multi-sectoral task force",4,"Number of private sector stakeholders identified;\nNumber of private sector stakeholders included into the national inter-sectoral task force;","","",""]
[98,"CCI","CCI-Nat-1-6","National programme and strategy",1,6,"Based on a small-scale experience, has a short term rabies action plan been developed and endorsed by relevant authorities at local / national level?"," ",null,{"$f":"IFERROR(INDEX('Data coll & an'!$F$5:$F$50,MATCH($C99,'Data coll & an'!$A$5:$A$50,0)),IFERROR(INDEX('Prev & Ctrl'!$F$5:$F$50,MATCH($C99,'Prev & Ctrl'!$A$5:$A$50,0)),IFERROR(INDEX('Lab dx'!$F$5:$F$50,MATCH($C99,'Lab dx'!$A$5:$A$50,0)),IFERROR(INDEX('Dog popn'!$F$5:$F$50,MATCH($C99,'Dog popn'!$A$5:$A$50,0)),IFERROR(INDEX(IEC!$F$5:$F$50,MATCH($C99,IEC!$A$5:$A$50,0)),IFERROR(INDEX('Cross-cutting issues'!$F$5:$F$50,MATCH($C99,'Cross-cutting issues'!$A$5:$A$50,0)),IFERROR(INDEX(Legislation!$F$5:$F$50,MATCH($C99,Legislation!$A$5:$A$50,0)),\"\")))))))","v":0},{"$f":"IFERROR(INDEX('Data coll & an'!$G$5:$G$50,MATCH($C99,'Data coll & an'!$A$5:$A$50,0)),IFERROR(INDEX('Prev & Ctrl'!$G$5:$G$50,MATCH($C99,'Prev & Ctrl'!$A$5:$A$50,0)),IFERROR(INDEX('Lab dx'!$G$5:$G$50,MATCH($C99,'Lab dx'!$A$5:$A$50,0)),IFERROR(INDEX('Dog popn'!$G$5:$G$50,MATCH($C99,'Dog popn'!$A$5:$A$50,0)),IFERROR(INDEX(IEC!$G$5:$G$50,MATCH($C99,IEC!$A$5:$A$50,0)),IFERROR(INDEX('Cross-cutting issues'!$G$5:$G$50,MATCH($C99,'Cross-cutting issues'!$A$5:$A$50,0)),IFERROR(INDEX(Legislation!$G$5:$G$50,MATCH($C99,Legislation!$A$5:$A$50,0)),\"\")))))))","v":0},"5.1-What-do-we-need-to-know-before","http://caninerabiesblueprint.org/5-1-What-do-we-need-to-know-before?lang=en","1.8-What-measures-are-available","http://caninerabiesblueprint.org/1-8-What-measures-are-available?lang=en","2. Roles-and-Responsibilities","http://caninerabiesblueprint.org/Roles-and-Responsibilities?lang=en",null,null,null,null,"Compile evidence from small-scale expreriences in a report; \nDraft a proposal for a short-term action plan;\nDevelop budget and secure funding for the short-term action plan;\nShare the proposal with all stakeholders for feedback;\nIncorporate feedback and finalize proposal;\nOnce finalised, ensure that all stakeholders endorse the short-term action plan;\nSecure funding for proposal;\n","A short term rabies action plan has been developed and endorsed;","Multi-sectoral task force",3,"A short-term action plan is avaialble;\nThe action plan has been endorsed by all stakeholders; \nAmount of funding seccured for short-term action plan;","","",""]
[99,"CCI","CCI-Nat-1-7","National programme and strategy",1,7,"Have mechanisms for mobilizing emergency funds for rabies control been identified?"," ",null,{"$f":"IFERROR(INDEX('Data coll & an'!$F$5:$F$50,MATCH($C100,'Data coll & an'!$A$5:$A$50,0)),IFERROR(INDEX('Prev & Ctrl'!$F$5:$F$50,MATCH($C100,'Prev & Ctrl'!$A$5:$A$50,0)),IFERROR(INDEX('Lab dx'!$F$5:$F$50,MATCH($C100,'Lab dx'!$A$5:$A$50,0)),IFERROR(INDEX('Dog popn'!$F$5:$F$50,MATCH($C100,'Dog popn'!$A$5:$A$50,0)),IFERROR(INDEX(IEC!$F$5:$F$50,MATCH($C100,IEC!$A$5:$A$50,0)),IFERROR(INDEX('Cross-cutting issues'!$F$5:$F$50,MATCH($C100,'Cross-cutting issues'!$A$5:$A$50,0)),IFERROR(INDEX(Legislation!$F$5:$F$50,MATCH($C100,Legislation!$A$5:$A$50,0)),\"\")))))))","v":0},{"$f":"IFERROR(INDEX('Data coll & an'!$G$5:$G$50,MATCH($C100,'Data coll & an'!$A$5:$A$50,0)),IFERROR(INDEX('Prev & Ctrl'!$G$5:$G$50,MATCH($C100,'Prev & Ctrl'!$A$5:$A$50,0)),IFERROR(INDEX('Lab dx'!$G$5:$G$50,MATCH($C100,'Lab dx'!$A$5:$A$50,0)),IFERROR(INDEX('Dog popn'!$G$5:$G$50,MATCH($C100,'Dog popn'!$A$5:$A$50,0)),IFERROR(INDEX(IEC!$G$5:$G$50,MATCH($C100,IEC!$A$5:$A$50,0)),IFERROR(INDEX('Cross-cutting issues'!$G$5:$G$50,MATCH($C100,'Cross-cutting issues'!$A$5:$A$50,0)),IFERROR(INDEX(Legislation!$G$5:$G$50,MATCH($C100,Legislation!$A$5:$A$50,0)),\"\")))))))","v":0},"3.3-Costs-and-Funding","http://caninerabiesblueprint.org/3-3-Costs-and-Funding?lang=en",null,null,null,null,null,null,null,null,"Identify possible sources of funding in case of emergency;\nContact professionals responsible for managing emergency funds and their allocation;\nIdentify requirements for accessing funds;\nObtain written approval ensuring access to emergency funds when required;","Emergency funds have been identified and can be accessed if needed","Multi-sectoral task force",3,"Amount of funding ring-fenced for emergency rabies interventions;","","",""]
[100,"CCI","CCI-Nat-2-8","National programme and strategy",2,8,"Has a national strategy for rabies prevention, control and eventual elimination been drafted and finalised in collaboration with all relevant stakeholders?"," ","KEY",{"$f":"IFERROR(INDEX('Data coll & an'!$F$5:$F$50,MATCH($C101,'Data coll & an'!$A$5:$A$50,0)),IFERROR(INDEX('Prev & Ctrl'!$F$5:$F$50,MATCH($C101,'Prev & Ctrl'!$A$5:$A$50,0)),IFERROR(INDEX('Lab dx'!$F$5:$F$50,MATCH($C101,'Lab dx'!$A$5:$A$50,0)),IFERROR(INDEX('Dog popn'!$F$5:$F$50,MATCH($C101,'Dog popn'!$A$5:$A$50,0)),IFERROR(INDEX(IEC!$F$5:$F$50,MATCH($C101,IEC!$A$5:$A$50,0)),IFERROR(INDEX('Cross-cutting issues'!$F$5:$F$50,MATCH($C101,'Cross-cutting issues'!$A$5:$A$50,0)),IFERROR(INDEX(Legislation!$F$5:$F$50,MATCH($C101,Legislation!$A$5:$A$50,0)),\"\")))))))","v":0},{"$f":"IFERROR(INDEX('Data coll & an'!$G$5:$G$50,MATCH($C101,'Data coll & an'!$A$5:$A$50,0)),IFERROR(INDEX('Prev & Ctrl'!$G$5:$G$50,MATCH($C101,'Prev & Ctrl'!$A$5:$A$50,0)),IFERROR(INDEX('Lab dx'!$G$5:$G$50,MATCH($C101,'Lab dx'!$A$5:$A$50,0)),IFERROR(INDEX('Dog popn'!$G$5:$G$50,MATCH($C101,'Dog popn'!$A$5:$A$50,0)),IFERROR(INDEX(IEC!$G$5:$G$50,MATCH($C101,IEC!$A$5:$A$50,0)),IFERROR(INDEX('Cross-cutting issues'!$G$5:$G$50,MATCH($C101,'Cross-cutting issues'!$A$5:$A$50,0)),IFERROR(INDEX(Legislation!$G$5:$G$50,MATCH($C101,Legislation!$A$5:$A$50,0)),\"\")))))))","v":0},"Components-of-a-successful-rabies-programme","http://caninerabiesblueprint.org/The-components-of-a-successful?lang=en",null,null,null,null,null,null,null,null,"Analyse and compile results from implementation of the short term rabies action plan;\nDraft proposal for the national strategy using the Stepwise Approach towards Rabies Elimination assessment as a guideline;\nSend proposal to all stakeholders for feedback;\nIncorporate feedback and finalize proposal;\nEnsure that the national strategy has been endorsed by all relevant stakeholders;","National rabies strategy developed in line with the Stepwise Appraoch towards Rabies Elimination (SARE) assessment;","Multi-sectoral task force",5,"National rabies control and elimination strategy available;\nEndorsement from all stakeholders;\n\n","","",""]
[101,"CCI","CCI-Nat-2-9","National programme and strategy",2,9,"Have government resources been identified and allocated in support of the national rabies control strategy?  "," ","KEY",{"$f":"IFERROR(INDEX('Data coll & an'!$F$5:$F$50,MATCH($C102,'Data coll & an'!$A$5:$A$50,0)),IFERROR(INDEX('Prev & Ctrl'!$F$5:$F$50,MATCH($C102,'Prev & Ctrl'!$A$5:$A$50,0)),IFERROR(INDEX('Lab dx'!$F$5:$F$50,MATCH($C102,'Lab dx'!$A$5:$A$50,0)),IFERROR(INDEX('Dog popn'!$F$5:$F$50,MATCH($C102,'Dog popn'!$A$5:$A$50,0)),IFERROR(INDEX(IEC!$F$5:$F$50,MATCH($C102,IEC!$A$5:$A$50,0)),IFERROR(INDEX('Cross-cutting issues'!$F$5:$F$50,MATCH($C102,'Cross-cutting issues'!$A$5:$A$50,0)),IFERROR(INDEX(Legislation!$F$5:$F$50,MATCH($C102,Legislation!$A$5:$A$50,0)),\"\")))))))","v":1},{"$f":"IFERROR(INDEX('Data coll & an'!$G$5:$G$50,MATCH($C102,'Data coll & an'!$A$5:$A$50,0)),IFERROR(INDEX('Prev & Ctrl'!$G$5:$G$50,MATCH($C102,'Prev & Ctrl'!$A$5:$A$50,0)),IFERROR(INDEX('Lab dx'!$G$5:$G$50,MATCH($C102,'Lab dx'!$A$5:$A$50,0)),IFERROR(INDEX('Dog popn'!$G$5:$G$50,MATCH($C102,'Dog popn'!$A$5:$A$50,0)),IFERROR(INDEX(IEC!$G$5:$G$50,MATCH($C102,IEC!$A$5:$A$50,0)),IFERROR(INDEX('Cross-cutting issues'!$G$5:$G$50,MATCH($C102,'Cross-cutting issues'!$A$5:$A$50,0)),IFERROR(INDEX(Legislation!$G$5:$G$50,MATCH($C102,Legislation!$A$5:$A$50,0)),\"\")))))))","v":0},"3.3-Costs-and-Funding","http://caninerabiesblueprint.org/3-3-Costs-and-Funding?lang=en",null,null,null,null,null,null,null,null,"Develop budget for proposal using the GDREP tool or any other relevant budgetary assessment;\nIdentify funding sources within the government and also all other relevant stakeholders;\nEnsure buy-in and endorsement from governmental authorities with regards to the proposal and associated budget;\nSecure funding for national rabies control strategy;\nEstablish mechanisms whereby funding can be allocated/accessed by the relevant sectors in line with the budget;","Resources, including financial support, has been secured for the implementation of the national rabies control strategy","Multi-sectoral task force",6,"A comprehensive budget is available;\nResources and funding secured from relevant stakeholders;\nAllocation of resources/means to access funds established (e.g. cost centres, distribution of resources etc.); ","","",""]
[102,"CCI","CCI-Nat-3-10","National programme and strategy",3,10,"Now that there are very few animal rabies cases in your country, has the national strategy been refined based on current data? ","e.g. molecular epidemiological information, current research studies/surveys, PEP usage and bite case data.",null,{"$f":"IFERROR(INDEX('Data coll & an'!$F$5:$F$50,MATCH($C103,'Data coll & an'!$A$5:$A$50,0)),IFERROR(INDEX('Prev & Ctrl'!$F$5:$F$50,MATCH($C103,'Prev & Ctrl'!$A$5:$A$50,0)),IFERROR(INDEX('Lab dx'!$F$5:$F$50,MATCH($C103,'Lab dx'!$A$5:$A$50,0)),IFERROR(INDEX('Dog popn'!$F$5:$F$50,MATCH($C103,'Dog popn'!$A$5:$A$50,0)),IFERROR(INDEX(IEC!$F$5:$F$50,MATCH($C103,IEC!$A$5:$A$50,0)),IFERROR(INDEX('Cross-cutting issues'!$F$5:$F$50,MATCH($C103,'Cross-cutting issues'!$A$5:$A$50,0)),IFERROR(INDEX(Legislation!$F$5:$F$50,MATCH($C103,Legislation!$A$5:$A$50,0)),\"\")))))))","v":0},{"$f":"IFERROR(INDEX('Data coll & an'!$G$5:$G$50,MATCH($C103,'Data coll & an'!$A$5:$A$50,0)),IFERROR(INDEX('Prev & Ctrl'!$G$5:$G$50,MATCH($C103,'Prev & Ctrl'!$A$5:$A$50,0)),IFERROR(INDEX('Lab dx'!$G$5:$G$50,MATCH($C103,'Lab dx'!$A$5:$A$50,0)),IFERROR(INDEX('Dog popn'!$G$5:$G$50,MATCH($C103,'Dog popn'!$A$5:$A$50,0)),IFERROR(INDEX(IEC!$G$5:$G$50,MATCH($C103,IEC!$A$5:$A$50,0)),IFERROR(INDEX('Cross-cutting issues'!$G$5:$G$50,MATCH($C103,'Cross-cutting issues'!$A$5:$A$50,0)),IFERROR(INDEX(Legislation!$G$5:$G$50,MATCH($C103,Legislation!$A$5:$A$50,0)),\"\")))))))","v":0},"5.6-Evaluation","http://caninerabiesblueprint.org/5-6-Evaluation?lang=en","5.7.1-Sustainability","http://caninerabiesblueprint.org/5-7-1-How-do-we-ensure?lang=en",null,null,null,null,null,null,"Evaluate current surveillance data regarding the situation of rabies in the country;\nDiscuss the next steps based on current epidemiological data with the entire rabies control taskforce and all relevant stakeholders;\nRefine national rabies control strategy based on discussions and current data, including new budgetary needs;\nEnsure that all of the updates to the national rabies control strategy have been endorsed;\nPublish revisions and ensure that all professionals are aware of the updates made;\nImplement updated national rabies control strategy;","The national rabies control strategy has been revised based on the most recent surveillance data, updated, costed, endorsed, disseminated to all relevant professionals, and the updates have been implemented;","All relevant stakeholders in rabies control and elimination; National Rabies control strategy task force;",9,"Updated national rabies control strategy;\nEndorsement of national rabies control strategy by all stakeholders;\nBudget developed;\nAmount of money secured for updated strategy;","","",""]
[103,"CCI","CCI-Nat-4-11","National programme and strategy",4,11,"Have veterinary border inspection and quarantine measures been fully implemented in accordance with national regulations?"," ",null,{"$f":"IFERROR(INDEX('Data coll & an'!$F$5:$F$50,MATCH($C104,'Data coll & an'!$A$5:$A$50,0)),IFERROR(INDEX('Prev & Ctrl'!$F$5:$F$50,MATCH($C104,'Prev & Ctrl'!$A$5:$A$50,0)),IFERROR(INDEX('Lab dx'!$F$5:$F$50,MATCH($C104,'Lab dx'!$A$5:$A$50,0)),IFERROR(INDEX('Dog popn'!$F$5:$F$50,MATCH($C104,'Dog popn'!$A$5:$A$50,0)),IFERROR(INDEX(IEC!$F$5:$F$50,MATCH($C104,IEC!$A$5:$A$50,0)),IFERROR(INDEX('Cross-cutting issues'!$F$5:$F$50,MATCH($C104,'Cross-cutting issues'!$A$5:$A$50,0)),IFERROR(INDEX(Legislation!$F$5:$F$50,MATCH($C104,Legislation!$A$5:$A$50,0)),\"\")))))))","v":1},{"$f":"IFERROR(INDEX('Data coll & an'!$G$5:$G$50,MATCH($C104,'Data coll & an'!$A$5:$A$50,0)),IFERROR(INDEX('Prev & Ctrl'!$G$5:$G$50,MATCH($C104,'Prev & Ctrl'!$A$5:$A$50,0)),IFERROR(INDEX('Lab dx'!$G$5:$G$50,MATCH($C104,'Lab dx'!$A$5:$A$50,0)),IFERROR(INDEX('Dog popn'!$G$5:$G$50,MATCH($C104,'Dog popn'!$A$5:$A$50,0)),IFERROR(INDEX(IEC!$G$5:$G$50,MATCH($C104,IEC!$A$5:$A$50,0)),IFERROR(INDEX('Cross-cutting issues'!$G$5:$G$50,MATCH($C104,'Cross-cutting issues'!$A$5:$A$50,0)),IFERROR(INDEX(Legislation!$G$5:$G$50,MATCH($C104,Legislation!$A$5:$A$50,0)),\"\")))))))","v":0},"OIE Terrestrial Animal Health Code","http://caninerabiesblueprint.org/OIE-Terrestrial-Animal-Health-Code",null,null,null,null,null,null,null,null,"Review national regulations regarding veterinary border inspection and quarantine;\nUndertake assessment to determine current implementation of guidelines;\nAssess and review any possible shortcomings/limitations that are hindering effective implementation;\nDevelop budget to address shortcoming/limitations;\nAddress challenges faced that prevent full implementation according to national regulations;","Veterinary border inspection and quarantine measures have been fully implemented and are working in accordance with the national regulations","Ministry of Agriculture",10,"Report on findings of the assessment;\nBudget developed to address shortcomings;\nNnumber of veterinary border inspection facilities;\nNumber of quarantine measures used in country;","","",""]
[104,"LEG","LEG-Ani-0-1","Animal rabies national case definition",0,1,"Is a case definition available that is consistent with the OIE standards for animal rabies?"," ",null,{"$f":"IFERROR(INDEX('Data coll & an'!$F$5:$F$50,MATCH($C105,'Data coll & an'!$A$5:$A$50,0)),IFERROR(INDEX('Prev & Ctrl'!$F$5:$F$50,MATCH($C105,'Prev & Ctrl'!$A$5:$A$50,0)),IFERROR(INDEX('Lab dx'!$F$5:$F$50,MATCH($C105,'Lab dx'!$A$5:$A$50,0)),IFERROR(INDEX('Dog popn'!$F$5:$F$50,MATCH($C105,'Dog popn'!$A$5:$A$50,0)),IFERROR(INDEX(IEC!$F$5:$F$50,MATCH($C105,IEC!$A$5:$A$50,0)),IFERROR(INDEX('Cross-cutting issues'!$F$5:$F$50,MATCH($C105,'Cross-cutting issues'!$A$5:$A$50,0)),IFERROR(INDEX(Legislation!$F$5:$F$50,MATCH($C105,Legislation!$A$5:$A$50,0)),\"\")))))))","v":1},{"$f":"IFERROR(INDEX('Data coll & an'!$G$5:$G$50,MATCH($C105,'Data coll & an'!$A$5:$A$50,0)),IFERROR(INDEX('Prev & Ctrl'!$G$5:$G$50,MATCH($C105,'Prev & Ctrl'!$A$5:$A$50,0)),IFERROR(INDEX('Lab dx'!$G$5:$G$50,MATCH($C105,'Lab dx'!$A$5:$A$50,0)),IFERROR(INDEX('Dog popn'!$G$5:$G$50,MATCH($C105,'Dog popn'!$A$5:$A$50,0)),IFERROR(INDEX(IEC!$G$5:$G$50,MATCH($C105,IEC!$A$5:$A$50,0)),IFERROR(INDEX('Cross-cutting issues'!$G$5:$G$50,MATCH($C105,'Cross-cutting issues'!$A$5:$A$50,0)),IFERROR(INDEX(Legislation!$G$5:$G$50,MATCH($C105,Legislation!$A$5:$A$50,0)),\"\")))))))","v":0},"OIE Terrestrial Animal Health Code","http://caninerabiesblueprint.org/OIE-Terrestrial-Animal-Health-Code",null,null,null,null,null,null,null,null,"Determine if a case definition for rabies in animals is available in your country;\nIf available, determine if case definition is consistent with the OIE standards for animal rabies;\nIf no case definition available, create a case definition based on the OIE standards;\nDisseminate drafted/updated case definition with all relevant stakeholders involved in rabies;\nFollow due process to have new case definition accepted and recognised;\nPublish case definition and share with relevant professionals;","A case definition has been defined or updated to reflect the OIE standards for animal rabies","Ministry of Agriculture",2,"Case definition available;","","",""]
[105,"LEG","LEG-Ani-1-2","Animal rabies national case definition",1,2,"Has the case definition for animal rabies been shared with all of the relevant professionals?","Agencies the case definition was disseminated to",null,{"$f":"IFERROR(INDEX('Data coll & an'!$F$5:$F$50,MATCH($C106,'Data coll & an'!$A$5:$A$50,0)),IFERROR(INDEX('Prev & Ctrl'!$F$5:$F$50,MATCH($C106,'Prev & Ctrl'!$A$5:$A$50,0)),IFERROR(INDEX('Lab dx'!$F$5:$F$50,MATCH($C106,'Lab dx'!$A$5:$A$50,0)),IFERROR(INDEX('Dog popn'!$F$5:$F$50,MATCH($C106,'Dog popn'!$A$5:$A$50,0)),IFERROR(INDEX(IEC!$F$5:$F$50,MATCH($C106,IEC!$A$5:$A$50,0)),IFERROR(INDEX('Cross-cutting issues'!$F$5:$F$50,MATCH($C106,'Cross-cutting issues'!$A$5:$A$50,0)),IFERROR(INDEX(Legislation!$F$5:$F$50,MATCH($C106,Legislation!$A$5:$A$50,0)),\"\")))))))","v":0},{"$f":"IFERROR(INDEX('Data coll & an'!$G$5:$G$50,MATCH($C106,'Data coll & an'!$A$5:$A$50,0)),IFERROR(INDEX('Prev & Ctrl'!$G$5:$G$50,MATCH($C106,'Prev & Ctrl'!$A$5:$A$50,0)),IFERROR(INDEX('Lab dx'!$G$5:$G$50,MATCH($C106,'Lab dx'!$A$5:$A$50,0)),IFERROR(INDEX('Dog popn'!$G$5:$G$50,MATCH($C106,'Dog popn'!$A$5:$A$50,0)),IFERROR(INDEX(IEC!$G$5:$G$50,MATCH($C106,IEC!$A$5:$A$50,0)),IFERROR(INDEX('Cross-cutting issues'!$G$5:$G$50,MATCH($C106,'Cross-cutting issues'!$A$5:$A$50,0)),IFERROR(INDEX(Legislation!$G$5:$G$50,MATCH($C106,Legislation!$A$5:$A$50,0)),\"\")))))))","v":0},"OIE Terrestrial Animal Health Code","http://caninerabiesblueprint.org/OIE-Terrestrial-Animal-Health-Code",null,null,null,null,null,null,null,null,"Identify whether case definition for rabies in animals is available;\nReview case definition in accordance with international guidelines;\nIdentify all relevant professionals that would rely on the case definition;\nAssess whether rabies professionals are aware of case definition;\nShare relevant case definition with all professionals involved in rabies control;","All professionals are aware of the relevant case definition for rabies","Ministry of Agriculture",2,"Number of professionals informed of new case definition;","","",""]
[106,"LEG","LEG-Hum-0-3","Human rabies national case definition",0,3,"Is a case definition available that is consistent with the WHO guidelines for human rabies?"," ",null,{"$f":"IFERROR(INDEX('Data coll & an'!$F$5:$F$50,MATCH($C107,'Data coll & an'!$A$5:$A$50,0)),IFERROR(INDEX('Prev & Ctrl'!$F$5:$F$50,MATCH($C107,'Prev & Ctrl'!$A$5:$A$50,0)),IFERROR(INDEX('Lab dx'!$F$5:$F$50,MATCH($C107,'Lab dx'!$A$5:$A$50,0)),IFERROR(INDEX('Dog popn'!$F$5:$F$50,MATCH($C107,'Dog popn'!$A$5:$A$50,0)),IFERROR(INDEX(IEC!$F$5:$F$50,MATCH($C107,IEC!$A$5:$A$50,0)),IFERROR(INDEX('Cross-cutting issues'!$F$5:$F$50,MATCH($C107,'Cross-cutting issues'!$A$5:$A$50,0)),IFERROR(INDEX(Legislation!$F$5:$F$50,MATCH($C107,Legislation!$A$5:$A$50,0)),\"\")))))))","v":1},{"$f":"IFERROR(INDEX('Data coll & an'!$G$5:$G$50,MATCH($C107,'Data coll & an'!$A$5:$A$50,0)),IFERROR(INDEX('Prev & Ctrl'!$G$5:$G$50,MATCH($C107,'Prev & Ctrl'!$A$5:$A$50,0)),IFERROR(INDEX('Lab dx'!$G$5:$G$50,MATCH($C107,'Lab dx'!$A$5:$A$50,0)),IFERROR(INDEX('Dog popn'!$G$5:$G$50,MATCH($C107,'Dog popn'!$A$5:$A$50,0)),IFERROR(INDEX(IEC!$G$5:$G$50,MATCH($C107,IEC!$A$5:$A$50,0)),IFERROR(INDEX('Cross-cutting issues'!$G$5:$G$50,MATCH($C107,'Cross-cutting issues'!$A$5:$A$50,0)),IFERROR(INDEX(Legislation!$G$5:$G$50,MATCH($C107,Legislation!$A$5:$A$50,0)),\"\")))))))","v":0},"WHO expert consultation on rabies","http://caninerabiesblueprint.org/WHO-expert-consultation-on-rabies",null,null,null,null,null,null,null,null,"Determine if a case definition for rabies in humans is available in your country;\nIf available, determine if case definition is consistent with the WHO guidelines for human rabies;\nIf no case definition available, create a case definition based on the WHO guidelines;\nDisseminate drafted/updated case definition with all relevant stakeholders involved in rabies;\nFollow due process to have new case definition accepted and recognised;\nPublish case definition and share with relevant professionals;","A case definition has been defined or updated to reflect the WHO guidelines for human rabies","Ministry of Health",2,"Case definition available;","","",""]
[107,"LEG","LEG-Hum-1-4","Human rabies national case definition",1,4,"Has the case definition for human rabies been shared with all of the relevant professionals?","Agencies the case definition was disseminated to",null,{"$f":"IFERROR(INDEX('Data coll & an'!$F$5:$F$50,MATCH($C108,'Data coll & an'!$A$5:$A$50,0)),IFERROR(INDEX('Prev & Ctrl'!$F$5:$F$50,MATCH($C108,'Prev & Ctrl'!$A$5:$A$50,0)),IFERROR(INDEX('Lab dx'!$F$5:$F$50,MATCH($C108,'Lab dx'!$A$5:$A$50,0)),IFERROR(INDEX('Dog popn'!$F$5:$F$50,MATCH($C108,'Dog popn'!$A$5:$A$50,0)),IFERROR(INDEX(IEC!$F$5:$F$50,MATCH($C108,IEC!$A$5:$A$50,0)),IFERROR(INDEX('Cross-cutting issues'!$F$5:$F$50,MATCH($C108,'Cross-cutting issues'!$A$5:$A$50,0)),IFERROR(INDEX(Legislation!$F$5:$F$50,MATCH($C108,Legislation!$A$5:$A$50,0)),\"\")))))))","v":0},{"$f":"IFERROR(INDEX('Data coll & an'!$G$5:$G$50,MATCH($C108,'Data coll & an'!$A$5:$A$50,0)),IFERROR(INDEX('Prev & Ctrl'!$G$5:$G$50,MATCH($C108,'Prev & Ctrl'!$A$5:$A$50,0)),IFERROR(INDEX('Lab dx'!$G$5:$G$50,MATCH($C108,'Lab dx'!$A$5:$A$50,0)),IFERROR(INDEX('Dog popn'!$G$5:$G$50,MATCH($C108,'Dog popn'!$A$5:$A$50,0)),IFERROR(INDEX(IEC!$G$5:$G$50,MATCH($C108,IEC!$A$5:$A$50,0)),IFERROR(INDEX('Cross-cutting issues'!$G$5:$G$50,MATCH($C108,'Cross-cutting issues'!$A$5:$A$50,0)),IFERROR(INDEX(Legislation!$G$5:$G$50,MATCH($C108,Legislation!$A$5:$A$50,0)),\"\")))))))","v":0},"WHO expert consultation on rabies","http://caninerabiesblueprint.org/WHO-expert-consultation-on-rabies",null,null,null,null,null,null,null,null,"Identify whether case definition for rabies in humans is available;\nReview case definition in accordance with international guidelines;\nIdentify all relevant professionals that would rely on the case definition;\nAssess whether rabies professionals are aware of case definition;\nShare relevant case definition with all professionals involved in rabies control;","All professionals are aware of the relevant case definition for rabies","Ministry of Health",2,"Number of professionals informed of new case definition;","","",""]
[108,"LEG","LEG-Leg-1-5","Legal Framework",1,5,"Is there national legislation that is relevant to rabies prevention and control?","For example: an Animal act; compulsory vaccination, etc.\nTitle of the framework and the year it was passed","KEY",{"$f":"IFERROR(INDEX('Data coll & an'!$F$5:$F$50,MATCH($C109,'Data coll & an'!$A$5:$A$50,0)),IFERROR(INDEX('Prev & Ctrl'!$F$5:$F$50,MATCH($C109,'Prev & Ctrl'!$A$5:$A$50,0)),IFERROR(INDEX('Lab dx'!$F$5:$F$50,MATCH($C109,'Lab dx'!$A$5:$A$50,0)),IFERROR(INDEX('Dog popn'!$F$5:$F$50,MATCH($C109,'Dog popn'!$A$5:$A$50,0)),IFERROR(INDEX(IEC!$F$5:$F$50,MATCH($C109,IEC!$A$5:$A$50,0)),IFERROR(INDEX('Cross-cutting issues'!$F$5:$F$50,MATCH($C109,'Cross-cutting issues'!$A$5:$A$50,0)),IFERROR(INDEX(Legislation!$F$5:$F$50,MATCH($C109,Legislation!$A$5:$A$50,0)),\"\")))))))","v":1},{"$f":"IFERROR(INDEX('Data coll & an'!$G$5:$G$50,MATCH($C109,'Data coll & an'!$A$5:$A$50,0)),IFERROR(INDEX('Prev & Ctrl'!$G$5:$G$50,MATCH($C109,'Prev & Ctrl'!$A$5:$A$50,0)),IFERROR(INDEX('Lab dx'!$G$5:$G$50,MATCH($C109,'Lab dx'!$A$5:$A$50,0)),IFERROR(INDEX('Dog popn'!$G$5:$G$50,MATCH($C109,'Dog popn'!$A$5:$A$50,0)),IFERROR(INDEX(IEC!$G$5:$G$50,MATCH($C109,IEC!$A$5:$A$50,0)),IFERROR(INDEX('Cross-cutting issues'!$G$5:$G$50,MATCH($C109,'Cross-cutting issues'!$A$5:$A$50,0)),IFERROR(INDEX(Legislation!$G$5:$G$50,MATCH($C109,Legislation!$A$5:$A$50,0)),\"\")))))))","v":0},"3.2. Legislation","http://caninerabiesblueprint.org/3-2-Legislation?lang=en",null,null,null,null,null,null,null,null,"Identify all existing legislation that may pertain to rabies control, dog population control or management, neglected or zoonotic diseases, notifiable diseases etc. in your country;\nIdentify any legislation that may be applicable to rabies control;\nIdentify examples of legislation from other countries that can be used for rabies control;\nDo a needs assesment of legislation that is lacking in your country based on examples from other countries; \nApproach relevant legislative authority regarding the inclusion of identified legislation into national legislation;","All possible relevant legislation regarding rabies is in place;","Ministry of Agriculture;\nMinistry of Health; ",3,"Number of legislations included directly relating to rabies;","","",""]
[109,"LEG","LEG-Leg-1-6","Legal Framework",1,6,"If there is legislation, has it been reviewed and endorsed?","Year the framework was reviewed",null,{"$f":"IFERROR(INDEX('Data coll & an'!$F$5:$F$50,MATCH($C110,'Data coll & an'!$A$5:$A$50,0)),IFERROR(INDEX('Prev & Ctrl'!$F$5:$F$50,MATCH($C110,'Prev & Ctrl'!$A$5:$A$50,0)),IFERROR(INDEX('Lab dx'!$F$5:$F$50,MATCH($C110,'Lab dx'!$A$5:$A$50,0)),IFERROR(INDEX('Dog popn'!$F$5:$F$50,MATCH($C110,'Dog popn'!$A$5:$A$50,0)),IFERROR(INDEX(IEC!$F$5:$F$50,MATCH($C110,IEC!$A$5:$A$50,0)),IFERROR(INDEX('Cross-cutting issues'!$F$5:$F$50,MATCH($C110,'Cross-cutting issues'!$A$5:$A$50,0)),IFERROR(INDEX(Legislation!$F$5:$F$50,MATCH($C110,Legislation!$A$5:$A$50,0)),\"\")))))))","v":0},{"$f":"IFERROR(INDEX('Data coll & an'!$G$5:$G$50,MATCH($C110,'Data coll & an'!$A$5:$A$50,0)),IFERROR(INDEX('Prev & Ctrl'!$G$5:$G$50,MATCH($C110,'Prev & Ctrl'!$A$5:$A$50,0)),IFERROR(INDEX('Lab dx'!$G$5:$G$50,MATCH($C110,'Lab dx'!$A$5:$A$50,0)),IFERROR(INDEX('Dog popn'!$G$5:$G$50,MATCH($C110,'Dog popn'!$A$5:$A$50,0)),IFERROR(INDEX(IEC!$G$5:$G$50,MATCH($C110,IEC!$A$5:$A$50,0)),IFERROR(INDEX('Cross-cutting issues'!$G$5:$G$50,MATCH($C110,'Cross-cutting issues'!$A$5:$A$50,0)),IFERROR(INDEX(Legislation!$G$5:$G$50,MATCH($C110,Legislation!$A$5:$A$50,0)),\"\")))))))","v":0},"3.2. Legislation","http://caninerabiesblueprint.org/3-2-Legislation?lang=en",null,null,null,null,null,null,null,null,"Assess identified legislation to determine if applicable to rabies control;\nReview identified legislation to determine relevance and date of revision;\nFollow due process to have the relevant legislation updated if required and endorsed;\nCirculate the updated legislation with all relevant professionals;","All legislation has been reviewed, possibly updated and endorsed for potential to be enforced","Ministry of Agriculture;\nMinistry of Health; ",3,"Number of legislations directly relating to rabies updated, reviewed and endorsed;","","",""]
[110,"LEG","LEG-Leg-1-7","Legal Framework",1,7,"Has rabies been made a notifiable disease in animals?"," ","KEY",{"$f":"IFERROR(INDEX('Data coll & an'!$F$5:$F$50,MATCH($C111,'Data coll & an'!$A$5:$A$50,0)),IFERROR(INDEX('Prev & Ctrl'!$F$5:$F$50,MATCH($C111,'Prev & Ctrl'!$A$5:$A$50,0)),IFERROR(INDEX('Lab dx'!$F$5:$F$50,MATCH($C111,'Lab dx'!$A$5:$A$50,0)),IFERROR(INDEX('Dog popn'!$F$5:$F$50,MATCH($C111,'Dog popn'!$A$5:$A$50,0)),IFERROR(INDEX(IEC!$F$5:$F$50,MATCH($C111,IEC!$A$5:$A$50,0)),IFERROR(INDEX('Cross-cutting issues'!$F$5:$F$50,MATCH($C111,'Cross-cutting issues'!$A$5:$A$50,0)),IFERROR(INDEX(Legislation!$F$5:$F$50,MATCH($C111,Legislation!$A$5:$A$50,0)),\"\")))))))","v":1},{"$f":"IFERROR(INDEX('Data coll & an'!$G$5:$G$50,MATCH($C111,'Data coll & an'!$A$5:$A$50,0)),IFERROR(INDEX('Prev & Ctrl'!$G$5:$G$50,MATCH($C111,'Prev & Ctrl'!$A$5:$A$50,0)),IFERROR(INDEX('Lab dx'!$G$5:$G$50,MATCH($C111,'Lab dx'!$A$5:$A$50,0)),IFERROR(INDEX('Dog popn'!$G$5:$G$50,MATCH($C111,'Dog popn'!$A$5:$A$50,0)),IFERROR(INDEX(IEC!$G$5:$G$50,MATCH($C111,IEC!$A$5:$A$50,0)),IFERROR(INDEX('Cross-cutting issues'!$G$5:$G$50,MATCH($C111,'Cross-cutting issues'!$A$5:$A$50,0)),IFERROR(INDEX(Legislation!$G$5:$G$50,MATCH($C111,Legislation!$A$5:$A$50,0)),\"\")))))))","v":0},"3.2. Legislation","http://caninerabiesblueprint.org/3-2-Legislation?lang=en","3.2.3-Why-does-rabies-need-to-be-notifiable","http://caninerabiesblueprint.org/3-2-3-Why-does-rabies-need-to-be-a?lang=en","OIE Terrestrial Animal Health Code","http://caninerabiesblueprint.org/OIE-Terrestrial-Animal-Health-Code","3.2.9-How-to-make-rabies-notifiable","http://caninerabiesblueprint.org/3-2-9-How-do-I-make-rabies-a?lang=en",null,null,"Determine criteria for a disease to be a notifiable disease in country;\nMake a case for it to become notifiable to relevant stakeholders;\nFollow due process to ensure that rabies in animals becomes a notifiable disease in the country;","Rabies is a notifiable disease for animals in the country","Ministry of Agriculture;\nMinistry of Health; ",3,"Rabies is a notifiable disease in animals;","","",""]
[111,"LEG","LEG-Leg-1-8","Legal Framework",1,8,"Has rabies been made a notifiable disease in humans?"," ","KEY",{"$f":"IFERROR(INDEX('Data coll & an'!$F$5:$F$50,MATCH($C112,'Data coll & an'!$A$5:$A$50,0)),IFERROR(INDEX('Prev & Ctrl'!$F$5:$F$50,MATCH($C112,'Prev & Ctrl'!$A$5:$A$50,0)),IFERROR(INDEX('Lab dx'!$F$5:$F$50,MATCH($C112,'Lab dx'!$A$5:$A$50,0)),IFERROR(INDEX('Dog popn'!$F$5:$F$50,MATCH($C112,'Dog popn'!$A$5:$A$50,0)),IFERROR(INDEX(IEC!$F$5:$F$50,MATCH($C112,IEC!$A$5:$A$50,0)),IFERROR(INDEX('Cross-cutting issues'!$F$5:$F$50,MATCH($C112,'Cross-cutting issues'!$A$5:$A$50,0)),IFERROR(INDEX(Legislation!$F$5:$F$50,MATCH($C112,Legislation!$A$5:$A$50,0)),\"\")))))))","v":1},{"$f":"IFERROR(INDEX('Data coll & an'!$G$5:$G$50,MATCH($C112,'Data coll & an'!$A$5:$A$50,0)),IFERROR(INDEX('Prev & Ctrl'!$G$5:$G$50,MATCH($C112,'Prev & Ctrl'!$A$5:$A$50,0)),IFERROR(INDEX('Lab dx'!$G$5:$G$50,MATCH($C112,'Lab dx'!$A$5:$A$50,0)),IFERROR(INDEX('Dog popn'!$G$5:$G$50,MATCH($C112,'Dog popn'!$A$5:$A$50,0)),IFERROR(INDEX(IEC!$G$5:$G$50,MATCH($C112,IEC!$A$5:$A$50,0)),IFERROR(INDEX('Cross-cutting issues'!$G$5:$G$50,MATCH($C112,'Cross-cutting issues'!$A$5:$A$50,0)),IFERROR(INDEX(Legislation!$G$5:$G$50,MATCH($C112,Legislation!$A$5:$A$50,0)),\"\")))))))","v":0},"3.2. Legislation","http://caninerabiesblueprint.org/3-2-Legislation?lang=en","3.2.3-Why-does-rabies-need-to-be-notifiable","http://caninerabiesblueprint.org/3-2-3-Why-does-rabies-need-to-be-a?lang=en","WHO expert consultation on rabies","http://caninerabiesblueprint.org/WHO-expert-consultation-on-rabies","3.2.9-How-to-make-rabies-notifiable","http://caninerabiesblueprint.org/3-2-9-How-do-I-make-rabies-a?lang=en",null,null,"Determine criteria for a disease to be a notifiable disease in country;\nMake a case for it to become notifiable to relevant stakeholders;\nFollow due process to ensure that rabies in humans becomes a notifiable disease in the country;","Rabies is a notifiable disease for humans in the country","Ministry of Agriculture;\nMinistry of Health; ",3,"Rabies is a notifiable disease in humans;","","",""]
[112,"LEG","LEG-Leg-1-9","Legal Framework",1,9,"Does legislation include measures for rabies outbreak response?"," ",null,{"$f":"IFERROR(INDEX('Data coll & an'!$F$5:$F$50,MATCH($C113,'Data coll & an'!$A$5:$A$50,0)),IFERROR(INDEX('Prev & Ctrl'!$F$5:$F$50,MATCH($C113,'Prev & Ctrl'!$A$5:$A$50,0)),IFERROR(INDEX('Lab dx'!$F$5:$F$50,MATCH($C113,'Lab dx'!$A$5:$A$50,0)),IFERROR(INDEX('Dog popn'!$F$5:$F$50,MATCH($C113,'Dog popn'!$A$5:$A$50,0)),IFERROR(INDEX(IEC!$F$5:$F$50,MATCH($C113,IEC!$A$5:$A$50,0)),IFERROR(INDEX('Cross-cutting issues'!$F$5:$F$50,MATCH($C113,'Cross-cutting issues'!$A$5:$A$50,0)),IFERROR(INDEX(Legislation!$F$5:$F$50,MATCH($C113,Legislation!$A$5:$A$50,0)),\"\")))))))","v":1},{"$f":"IFERROR(INDEX('Data coll & an'!$G$5:$G$50,MATCH($C113,'Data coll & an'!$A$5:$A$50,0)),IFERROR(INDEX('Prev & Ctrl'!$G$5:$G$50,MATCH($C113,'Prev & Ctrl'!$A$5:$A$50,0)),IFERROR(INDEX('Lab dx'!$G$5:$G$50,MATCH($C113,'Lab dx'!$A$5:$A$50,0)),IFERROR(INDEX('Dog popn'!$G$5:$G$50,MATCH($C113,'Dog popn'!$A$5:$A$50,0)),IFERROR(INDEX(IEC!$G$5:$G$50,MATCH($C113,IEC!$A$5:$A$50,0)),IFERROR(INDEX('Cross-cutting issues'!$G$5:$G$50,MATCH($C113,'Cross-cutting issues'!$A$5:$A$50,0)),IFERROR(INDEX(Legislation!$G$5:$G$50,MATCH($C113,Legislation!$A$5:$A$50,0)),\"\")))))))","v":0},null,null,null,null,null,null,null,null,null,null,"Identify relevant legislation regarding rabies outbreak reponse from other sources;\nMake a case for outbreak response to be included into legislation to the relevant stakeholders;\nFollow due process to ensure that rabies outbreak response is included into legislation;","Legislation on rabies outbreak response available in the country;","Ministry of Agriculture;\nMinistry of Health; ",3,"Existence of rabies outbreak response legislation;","","",""]
[113,"LEG","LEG-Leg-2-10","Legal Framework",2,10,"Does the legislation regarding nationally licenced vaccines reflect that of international guidelines?"," ",null,{"$f":"IFERROR(INDEX('Data coll & an'!$F$5:$F$50,MATCH($C114,'Data coll & an'!$A$5:$A$50,0)),IFERROR(INDEX('Prev & Ctrl'!$F$5:$F$50,MATCH($C114,'Prev & Ctrl'!$A$5:$A$50,0)),IFERROR(INDEX('Lab dx'!$F$5:$F$50,MATCH($C114,'Lab dx'!$A$5:$A$50,0)),IFERROR(INDEX('Dog popn'!$F$5:$F$50,MATCH($C114,'Dog popn'!$A$5:$A$50,0)),IFERROR(INDEX(IEC!$F$5:$F$50,MATCH($C114,IEC!$A$5:$A$50,0)),IFERROR(INDEX('Cross-cutting issues'!$F$5:$F$50,MATCH($C114,'Cross-cutting issues'!$A$5:$A$50,0)),IFERROR(INDEX(Legislation!$F$5:$F$50,MATCH($C114,Legislation!$A$5:$A$50,0)),\"\")))))))","v":0},{"$f":"IFERROR(INDEX('Data coll & an'!$G$5:$G$50,MATCH($C114,'Data coll & an'!$A$5:$A$50,0)),IFERROR(INDEX('Prev & Ctrl'!$G$5:$G$50,MATCH($C114,'Prev & Ctrl'!$A$5:$A$50,0)),IFERROR(INDEX('Lab dx'!$G$5:$G$50,MATCH($C114,'Lab dx'!$A$5:$A$50,0)),IFERROR(INDEX('Dog popn'!$G$5:$G$50,MATCH($C114,'Dog popn'!$A$5:$A$50,0)),IFERROR(INDEX(IEC!$G$5:$G$50,MATCH($C114,IEC!$A$5:$A$50,0)),IFERROR(INDEX('Cross-cutting issues'!$G$5:$G$50,MATCH($C114,'Cross-cutting issues'!$A$5:$A$50,0)),IFERROR(INDEX(Legislation!$G$5:$G$50,MATCH($C114,Legislation!$A$5:$A$50,0)),\"\")))))))","v":0},null,null,null,null,null,null,null,null,null,null,"Identify and assess international guidelines regarding vaccines for rabies control;\nIdentify what vaccine brands are currently used in the country;\nIdentify and review national guidelines and vaccine usage in accordance with international guidelines;\nFinalise and endorse revised national legislation;\nShare updated legislation with relevant professionals\n","National legislation regarding licenced vaccines reflects that of international guidelines and any alterations to national legislation are communicated with relevant professionals;","Ministry of Agriculture;\nMinistry of Health; ",5,"Legislation reflects international guidelines;","","",""]
[114,"LEG","LEG-Leg-3-11","Legal Framework",3,11,"Has legislation been updated to include specifications on the compulsory vaccination and international movement of dogs? "," ","KEY",{"$f":"IFERROR(INDEX('Data coll & an'!$F$5:$F$50,MATCH($C115,'Data coll & an'!$A$5:$A$50,0)),IFERROR(INDEX('Prev & Ctrl'!$F$5:$F$50,MATCH($C115,'Prev & Ctrl'!$A$5:$A$50,0)),IFERROR(INDEX('Lab dx'!$F$5:$F$50,MATCH($C115,'Lab dx'!$A$5:$A$50,0)),IFERROR(INDEX('Dog popn'!$F$5:$F$50,MATCH($C115,'Dog popn'!$A$5:$A$50,0)),IFERROR(INDEX(IEC!$F$5:$F$50,MATCH($C115,IEC!$A$5:$A$50,0)),IFERROR(INDEX('Cross-cutting issues'!$F$5:$F$50,MATCH($C115,'Cross-cutting issues'!$A$5:$A$50,0)),IFERROR(INDEX(Legislation!$F$5:$F$50,MATCH($C115,Legislation!$A$5:$A$50,0)),\"\")))))))","v":1},{"$f":"IFERROR(INDEX('Data coll & an'!$G$5:$G$50,MATCH($C115,'Data coll & an'!$A$5:$A$50,0)),IFERROR(INDEX('Prev & Ctrl'!$G$5:$G$50,MATCH($C115,'Prev & Ctrl'!$A$5:$A$50,0)),IFERROR(INDEX('Lab dx'!$G$5:$G$50,MATCH($C115,'Lab dx'!$A$5:$A$50,0)),IFERROR(INDEX('Dog popn'!$G$5:$G$50,MATCH($C115,'Dog popn'!$A$5:$A$50,0)),IFERROR(INDEX(IEC!$G$5:$G$50,MATCH($C115,IEC!$A$5:$A$50,0)),IFERROR(INDEX('Cross-cutting issues'!$G$5:$G$50,MATCH($C115,'Cross-cutting issues'!$A$5:$A$50,0)),IFERROR(INDEX(Legislation!$G$5:$G$50,MATCH($C115,Legislation!$A$5:$A$50,0)),\"\")))))))","v":0},"General-guide-on-veterinary legislation","http://caninerabiesblueprint.org/General-guide-on-how-to-construct?lang=en","3.2.11- laws-and-by-laws","http://caninerabiesblueprint.org/3-2-11-What-laws-and-by-laws-may?lang=en",null,null,null,null,null,null,"Identify relevant legislation regarding compulsory vaccination and international movement of dogs from other sources;\nMake a case for compulsory vaccination and international movement of dogs to be included into legislation to the relevant stakeholders;\nUpdate current legislation to ensure that compulsory vaccination and international movement of dogs are included;\nFollow due process to ensure that compulsory vaccination and international movement of dogs are included into legislation;\nFinalise and disseminate any alterations to legislation to ensure that all relevant professionals are aware of changes;","National legislation includes the compulsory vaccination and international movement of dogs and this is known to all professionals in rabies control","Ministry of Agriculture;\nMinistry of Health; ",8,"Legislation includes the compulsory vaccination and international movement of dogs;","","",""]
[115,"LEG","LEG-Leg-3-12","Legal Framework",3,12,"Is the relevant legislation enforced at the national level?"," ",null,{"$f":"IFERROR(INDEX('Data coll & an'!$F$5:$F$50,MATCH($C116,'Data coll & an'!$A$5:$A$50,0)),IFERROR(INDEX('Prev & Ctrl'!$F$5:$F$50,MATCH($C116,'Prev & Ctrl'!$A$5:$A$50,0)),IFERROR(INDEX('Lab dx'!$F$5:$F$50,MATCH($C116,'Lab dx'!$A$5:$A$50,0)),IFERROR(INDEX('Dog popn'!$F$5:$F$50,MATCH($C116,'Dog popn'!$A$5:$A$50,0)),IFERROR(INDEX(IEC!$F$5:$F$50,MATCH($C116,IEC!$A$5:$A$50,0)),IFERROR(INDEX('Cross-cutting issues'!$F$5:$F$50,MATCH($C116,'Cross-cutting issues'!$A$5:$A$50,0)),IFERROR(INDEX(Legislation!$F$5:$F$50,MATCH($C116,Legislation!$A$5:$A$50,0)),\"\")))))))","v":1},{"$f":"IFERROR(INDEX('Data coll & an'!$G$5:$G$50,MATCH($C116,'Data coll & an'!$A$5:$A$50,0)),IFERROR(INDEX('Prev & Ctrl'!$G$5:$G$50,MATCH($C116,'Prev & Ctrl'!$A$5:$A$50,0)),IFERROR(INDEX('Lab dx'!$G$5:$G$50,MATCH($C116,'Lab dx'!$A$5:$A$50,0)),IFERROR(INDEX('Dog popn'!$G$5:$G$50,MATCH($C116,'Dog popn'!$A$5:$A$50,0)),IFERROR(INDEX(IEC!$G$5:$G$50,MATCH($C116,IEC!$A$5:$A$50,0)),IFERROR(INDEX('Cross-cutting issues'!$G$5:$G$50,MATCH($C116,'Cross-cutting issues'!$A$5:$A$50,0)),IFERROR(INDEX(Legislation!$G$5:$G$50,MATCH($C116,Legislation!$A$5:$A$50,0)),\"\")))))))","v":0},null,null,null,null,null,null,null,null,null,null,"Determine whether professionals in rabies control are aware of the relevant legislation;\nDetermine whether the legislation is enforced through surveys;\nIdentify methods to improve legislation enforcement in consultation with relevant legal bodies (e.g. fines);\nEnsure that all professionals are made aware of the relevant legislation and their responsibility to enforce the legislation;","The relevant legislation regarding rabies control is known to all professionals and is enforced;","Ministry of Agriculture;\nMinistry of Health; ",9,"Number of professionals aware of legislation;\nNumber of people surveyed regarding legislation practices;\nNumber of legislations enforced;\nList of possible techniques to be used to enforce legislation (e.g. fines); ","","",""]
[116,null,"---",null,null,null,null,null,null,{"$f":"IFERROR(INDEX('Data coll & an'!$F$5:$F$50,MATCH($C117,'Data coll & an'!$A$5:$A$50,0)),IFERROR(INDEX('Prev & Ctrl'!$F$5:$F$50,MATCH($C117,'Prev & Ctrl'!$A$5:$A$50,0)),IFERROR(INDEX('Lab dx'!$F$5:$F$50,MATCH($C117,'Lab dx'!$A$5:$A$50,0)),IFERROR(INDEX('Dog popn'!$F$5:$F$50,MATCH($C117,'Dog popn'!$A$5:$A$50,0)),IFERROR(INDEX(IEC!$F$5:$F$50,MATCH($C117,IEC!$A$5:$A$50,0)),IFERROR(INDEX('Cross-cutting issues'!$F$5:$F$50,MATCH($C117,'Cross-cutting issues'!$A$5:$A$50,0)),IFERROR(INDEX(Legislation!$F$5:$F$50,MATCH($C117,Legislation!$A$5:$A$50,0)),\"\")))))))","v":""},{"$f":"IFERROR(INDEX('Data coll & an'!$G$5:$G$50,MATCH($C117,'Data coll & an'!$A$5:$A$50,0)),IFERROR(INDEX('Prev & Ctrl'!$G$5:$G$50,MATCH($C117,'Prev & Ctrl'!$A$5:$A$50,0)),IFERROR(INDEX('Lab dx'!$G$5:$G$50,MATCH($C117,'Lab dx'!$A$5:$A$50,0)),IFERROR(INDEX('Dog popn'!$G$5:$G$50,MATCH($C117,'Dog popn'!$A$5:$A$50,0)),IFERROR(INDEX(IEC!$G$5:$G$50,MATCH($C117,IEC!$A$5:$A$50,0)),IFERROR(INDEX('Cross-cutting issues'!$G$5:$G$50,MATCH($C117,'Cross-cutting issues'!$A$5:$A$50,0)),IFERROR(INDEX(Legislation!$G$5:$G$50,MATCH($C117,Legislation!$A$5:$A$50,0)),\"\")))))))","v":""},null,null,null,null,null,null,null,null,null,null,null,null,null,null,null,"","",""]
[117,null,"---",null,null,null,null,null,null,{"$f":"IFERROR(INDEX('Data coll & an'!$F$5:$F$50,MATCH($C118,'Data coll & an'!$A$5:$A$50,0)),IFERROR(INDEX('Prev & Ctrl'!$F$5:$F$50,MATCH($C118,'Prev & Ctrl'!$A$5:$A$50,0)),IFERROR(INDEX('Lab dx'!$F$5:$F$50,MATCH($C118,'Lab dx'!$A$5:$A$50,0)),IFERROR(INDEX('Dog popn'!$F$5:$F$50,MATCH($C118,'Dog popn'!$A$5:$A$50,0)),IFERROR(INDEX(IEC!$F$5:$F$50,MATCH($C118,IEC!$A$5:$A$50,0)),IFERROR(INDEX('Cross-cutting issues'!$F$5:$F$50,MATCH($C118,'Cross-cutting issues'!$A$5:$A$50,0)),IFERROR(INDEX(Legislation!$F$5:$F$50,MATCH($C118,Legislation!$A$5:$A$50,0)),\"\")))))))","v":""},{"$f":"IFERROR(INDEX('Data coll & an'!$G$5:$G$50,MATCH($C118,'Data coll & an'!$A$5:$A$50,0)),IFERROR(INDEX('Prev & Ctrl'!$G$5:$G$50,MATCH($C118,'Prev & Ctrl'!$A$5:$A$50,0)),IFERROR(INDEX('Lab dx'!$G$5:$G$50,MATCH($C118,'Lab dx'!$A$5:$A$50,0)),IFERROR(INDEX('Dog popn'!$G$5:$G$50,MATCH($C118,'Dog popn'!$A$5:$A$50,0)),IFERROR(INDEX(IEC!$G$5:$G$50,MATCH($C118,IEC!$A$5:$A$50,0)),IFERROR(INDEX('Cross-cutting issues'!$G$5:$G$50,MATCH($C118,'Cross-cutting issues'!$A$5:$A$50,0)),IFERROR(INDEX(Legislation!$G$5:$G$50,MATCH($C118,Legislation!$A$5:$A$50,0)),\"\")))))))","v":""},null,null,null,null,null,null,null,null,null,null,null,null,null,null,null,"","",""]
[118,null,"---",null,null,null,null,null,null,{"$f":"IFERROR(INDEX('Data coll & an'!$F$5:$F$50,MATCH($C119,'Data coll & an'!$A$5:$A$50,0)),IFERROR(INDEX('Prev & Ctrl'!$F$5:$F$50,MATCH($C119,'Prev & Ctrl'!$A$5:$A$50,0)),IFERROR(INDEX('Lab dx'!$F$5:$F$50,MATCH($C119,'Lab dx'!$A$5:$A$50,0)),IFERROR(INDEX('Dog popn'!$F$5:$F$50,MATCH($C119,'Dog popn'!$A$5:$A$50,0)),IFERROR(INDEX(IEC!$F$5:$F$50,MATCH($C119,IEC!$A$5:$A$50,0)),IFERROR(INDEX('Cross-cutting issues'!$F$5:$F$50,MATCH($C119,'Cross-cutting issues'!$A$5:$A$50,0)),IFERROR(INDEX(Legislation!$F$5:$F$50,MATCH($C119,Legislation!$A$5:$A$50,0)),\"\")))))))","v":""},{"$f":"IFERROR(INDEX('Data coll & an'!$G$5:$G$50,MATCH($C119,'Data coll & an'!$A$5:$A$50,0)),IFERROR(INDEX('Prev & Ctrl'!$G$5:$G$50,MATCH($C119,'Prev & Ctrl'!$A$5:$A$50,0)),IFERROR(INDEX('Lab dx'!$G$5:$G$50,MATCH($C119,'Lab dx'!$A$5:$A$50,0)),IFERROR(INDEX('Dog popn'!$G$5:$G$50,MATCH($C119,'Dog popn'!$A$5:$A$50,0)),IFERROR(INDEX(IEC!$G$5:$G$50,MATCH($C119,IEC!$A$5:$A$50,0)),IFERROR(INDEX('Cross-cutting issues'!$G$5:$G$50,MATCH($C119,'Cross-cutting issues'!$A$5:$A$50,0)),IFERROR(INDEX(Legislation!$G$5:$G$50,MATCH($C119,Legislation!$A$5:$A$50,0)),\"\")))))))","v":""},null,null,null,null,null,null,null,null,null,null,null,null,null,null,null,"","",""]
[119,null,"---",null,null,null,null,null,null,{"$f":"IFERROR(INDEX('Data coll & an'!$F$5:$F$50,MATCH($C120,'Data coll & an'!$A$5:$A$50,0)),IFERROR(INDEX('Prev & Ctrl'!$F$5:$F$50,MATCH($C120,'Prev & Ctrl'!$A$5:$A$50,0)),IFERROR(INDEX('Lab dx'!$F$5:$F$50,MATCH($C120,'Lab dx'!$A$5:$A$50,0)),IFERROR(INDEX('Dog popn'!$F$5:$F$50,MATCH($C120,'Dog popn'!$A$5:$A$50,0)),IFERROR(INDEX(IEC!$F$5:$F$50,MATCH($C120,IEC!$A$5:$A$50,0)),IFERROR(INDEX('Cross-cutting issues'!$F$5:$F$50,MATCH($C120,'Cross-cutting issues'!$A$5:$A$50,0)),IFERROR(INDEX(Legislation!$F$5:$F$50,MATCH($C120,Legislation!$A$5:$A$50,0)),\"\")))))))","v":""},{"$f":"IFERROR(INDEX('Data coll & an'!$G$5:$G$50,MATCH($C120,'Data coll & an'!$A$5:$A$50,0)),IFERROR(INDEX('Prev & Ctrl'!$G$5:$G$50,MATCH($C120,'Prev & Ctrl'!$A$5:$A$50,0)),IFERROR(INDEX('Lab dx'!$G$5:$G$50,MATCH($C120,'Lab dx'!$A$5:$A$50,0)),IFERROR(INDEX('Dog popn'!$G$5:$G$50,MATCH($C120,'Dog popn'!$A$5:$A$50,0)),IFERROR(INDEX(IEC!$G$5:$G$50,MATCH($C120,IEC!$A$5:$A$50,0)),IFERROR(INDEX('Cross-cutting issues'!$G$5:$G$50,MATCH($C120,'Cross-cutting issues'!$A$5:$A$50,0)),IFERROR(INDEX(Legislation!$G$5:$G$50,MATCH($C120,Legislation!$A$5:$A$50,0)),\"\")))))))","v":""},null,null,null,null,null,null,null,null,null,null,null,null,null,null,null,"","",""]
[120,null,"---",null,null,null,null,null,null,{"$f":"IFERROR(INDEX('Data coll & an'!$F$5:$F$50,MATCH($C121,'Data coll & an'!$A$5:$A$50,0)),IFERROR(INDEX('Prev & Ctrl'!$F$5:$F$50,MATCH($C121,'Prev & Ctrl'!$A$5:$A$50,0)),IFERROR(INDEX('Lab dx'!$F$5:$F$50,MATCH($C121,'Lab dx'!$A$5:$A$50,0)),IFERROR(INDEX('Dog popn'!$F$5:$F$50,MATCH($C121,'Dog popn'!$A$5:$A$50,0)),IFERROR(INDEX(IEC!$F$5:$F$50,MATCH($C121,IEC!$A$5:$A$50,0)),IFERROR(INDEX('Cross-cutting issues'!$F$5:$F$50,MATCH($C121,'Cross-cutting issues'!$A$5:$A$50,0)),IFERROR(INDEX(Legislation!$F$5:$F$50,MATCH($C121,Legislation!$A$5:$A$50,0)),\"\")))))))","v":""},{"$f":"IFERROR(INDEX('Data coll & an'!$G$5:$G$50,MATCH($C121,'Data coll & an'!$A$5:$A$50,0)),IFERROR(INDEX('Prev & Ctrl'!$G$5:$G$50,MATCH($C121,'Prev & Ctrl'!$A$5:$A$50,0)),IFERROR(INDEX('Lab dx'!$G$5:$G$50,MATCH($C121,'Lab dx'!$A$5:$A$50,0)),IFERROR(INDEX('Dog popn'!$G$5:$G$50,MATCH($C121,'Dog popn'!$A$5:$A$50,0)),IFERROR(INDEX(IEC!$G$5:$G$50,MATCH($C121,IEC!$A$5:$A$50,0)),IFERROR(INDEX('Cross-cutting issues'!$G$5:$G$50,MATCH($C121,'Cross-cutting issues'!$A$5:$A$50,0)),IFERROR(INDEX(Legislation!$G$5:$G$50,MATCH($C121,Legislation!$A$5:$A$50,0)),\"\")))))))","v":""},null,null,null,null,null,null,null,null,null,null,null,null,null,null,null,"","",""]
[121,null,"---",null,null,null,null,null,null,{"$f":"IFERROR(INDEX('Data coll & an'!$F$5:$F$50,MATCH($C122,'Data coll & an'!$A$5:$A$50,0)),IFERROR(INDEX('Prev & Ctrl'!$F$5:$F$50,MATCH($C122,'Prev & Ctrl'!$A$5:$A$50,0)),IFERROR(INDEX('Lab dx'!$F$5:$F$50,MATCH($C122,'Lab dx'!$A$5:$A$50,0)),IFERROR(INDEX('Dog popn'!$F$5:$F$50,MATCH($C122,'Dog popn'!$A$5:$A$50,0)),IFERROR(INDEX(IEC!$F$5:$F$50,MATCH($C122,IEC!$A$5:$A$50,0)),IFERROR(INDEX('Cross-cutting issues'!$F$5:$F$50,MATCH($C122,'Cross-cutting issues'!$A$5:$A$50,0)),IFERROR(INDEX(Legislation!$F$5:$F$50,MATCH($C122,Legislation!$A$5:$A$50,0)),\"\")))))))","v":""},{"$f":"IFERROR(INDEX('Data coll & an'!$G$5:$G$50,MATCH($C122,'Data coll & an'!$A$5:$A$50,0)),IFERROR(INDEX('Prev & Ctrl'!$G$5:$G$50,MATCH($C122,'Prev & Ctrl'!$A$5:$A$50,0)),IFERROR(INDEX('Lab dx'!$G$5:$G$50,MATCH($C122,'Lab dx'!$A$5:$A$50,0)),IFERROR(INDEX('Dog popn'!$G$5:$G$50,MATCH($C122,'Dog popn'!$A$5:$A$50,0)),IFERROR(INDEX(IEC!$G$5:$G$50,MATCH($C122,IEC!$A$5:$A$50,0)),IFERROR(INDEX('Cross-cutting issues'!$G$5:$G$50,MATCH($C122,'Cross-cutting issues'!$A$5:$A$50,0)),IFERROR(INDEX(Legislation!$G$5:$G$50,MATCH($C122,Legislation!$A$5:$A$50,0)),\"\")))))))","v":""},null,null,null,null,null,null,null,null,null,null,null,null,null,null,null,"","",""]
[122,null,"---",null,null,null,null,null,null,{"$f":"IFERROR(INDEX('Data coll & an'!$F$5:$F$50,MATCH($C123,'Data coll & an'!$A$5:$A$50,0)),IFERROR(INDEX('Prev & Ctrl'!$F$5:$F$50,MATCH($C123,'Prev & Ctrl'!$A$5:$A$50,0)),IFERROR(INDEX('Lab dx'!$F$5:$F$50,MATCH($C123,'Lab dx'!$A$5:$A$50,0)),IFERROR(INDEX('Dog popn'!$F$5:$F$50,MATCH($C123,'Dog popn'!$A$5:$A$50,0)),IFERROR(INDEX(IEC!$F$5:$F$50,MATCH($C123,IEC!$A$5:$A$50,0)),IFERROR(INDEX('Cross-cutting issues'!$F$5:$F$50,MATCH($C123,'Cross-cutting issues'!$A$5:$A$50,0)),IFERROR(INDEX(Legislation!$F$5:$F$50,MATCH($C123,Legislation!$A$5:$A$50,0)),\"\")))))))","v":""},{"$f":"IFERROR(INDEX('Data coll & an'!$G$5:$G$50,MATCH($C123,'Data coll & an'!$A$5:$A$50,0)),IFERROR(INDEX('Prev & Ctrl'!$G$5:$G$50,MATCH($C123,'Prev & Ctrl'!$A$5:$A$50,0)),IFERROR(INDEX('Lab dx'!$G$5:$G$50,MATCH($C123,'Lab dx'!$A$5:$A$50,0)),IFERROR(INDEX('Dog popn'!$G$5:$G$50,MATCH($C123,'Dog popn'!$A$5:$A$50,0)),IFERROR(INDEX(IEC!$G$5:$G$50,MATCH($C123,IEC!$A$5:$A$50,0)),IFERROR(INDEX('Cross-cutting issues'!$G$5:$G$50,MATCH($C123,'Cross-cutting issues'!$A$5:$A$50,0)),IFERROR(INDEX(Legislation!$G$5:$G$50,MATCH($C123,Legislation!$A$5:$A$50,0)),\"\")))))))","v":""},null,null,null,null,null,null,null,null,null,null,null,null,null,null,null,"","",""]
[123,null,"---",null,null,null,null,null,null,{"$f":"IFERROR(INDEX('Data coll & an'!$F$5:$F$50,MATCH($C124,'Data coll & an'!$A$5:$A$50,0)),IFERROR(INDEX('Prev & Ctrl'!$F$5:$F$50,MATCH($C124,'Prev & Ctrl'!$A$5:$A$50,0)),IFERROR(INDEX('Lab dx'!$F$5:$F$50,MATCH($C124,'Lab dx'!$A$5:$A$50,0)),IFERROR(INDEX('Dog popn'!$F$5:$F$50,MATCH($C124,'Dog popn'!$A$5:$A$50,0)),IFERROR(INDEX(IEC!$F$5:$F$50,MATCH($C124,IEC!$A$5:$A$50,0)),IFERROR(INDEX('Cross-cutting issues'!$F$5:$F$50,MATCH($C124,'Cross-cutting issues'!$A$5:$A$50,0)),IFERROR(INDEX(Legislation!$F$5:$F$50,MATCH($C124,Legislation!$A$5:$A$50,0)),\"\")))))))","v":""},{"$f":"IFERROR(INDEX('Data coll & an'!$G$5:$G$50,MATCH($C124,'Data coll & an'!$A$5:$A$50,0)),IFERROR(INDEX('Prev & Ctrl'!$G$5:$G$50,MATCH($C124,'Prev & Ctrl'!$A$5:$A$50,0)),IFERROR(INDEX('Lab dx'!$G$5:$G$50,MATCH($C124,'Lab dx'!$A$5:$A$50,0)),IFERROR(INDEX('Dog popn'!$G$5:$G$50,MATCH($C124,'Dog popn'!$A$5:$A$50,0)),IFERROR(INDEX(IEC!$G$5:$G$50,MATCH($C124,IEC!$A$5:$A$50,0)),IFERROR(INDEX('Cross-cutting issues'!$G$5:$G$50,MATCH($C124,'Cross-cutting issues'!$A$5:$A$50,0)),IFERROR(INDEX(Legislation!$G$5:$G$50,MATCH($C124,Legislation!$A$5:$A$50,0)),\"\")))))))","v":""},null,null,null,null,null,null,null,null,null,null,null,null,null,null,null,"","",""]
[124,null,"---",null,null,null,null,null,null,{"$f":"IFERROR(INDEX('Data coll & an'!$F$5:$F$50,MATCH($C125,'Data coll & an'!$A$5:$A$50,0)),IFERROR(INDEX('Prev & Ctrl'!$F$5:$F$50,MATCH($C125,'Prev & Ctrl'!$A$5:$A$50,0)),IFERROR(INDEX('Lab dx'!$F$5:$F$50,MATCH($C125,'Lab dx'!$A$5:$A$50,0)),IFERROR(INDEX('Dog popn'!$F$5:$F$50,MATCH($C125,'Dog popn'!$A$5:$A$50,0)),IFERROR(INDEX(IEC!$F$5:$F$50,MATCH($C125,IEC!$A$5:$A$50,0)),IFERROR(INDEX('Cross-cutting issues'!$F$5:$F$50,MATCH($C125,'Cross-cutting issues'!$A$5:$A$50,0)),IFERROR(INDEX(Legislation!$F$5:$F$50,MATCH($C125,Legislation!$A$5:$A$50,0)),\"\")))))))","v":""},{"$f":"IFERROR(INDEX('Data coll & an'!$G$5:$G$50,MATCH($C125,'Data coll & an'!$A$5:$A$50,0)),IFERROR(INDEX('Prev & Ctrl'!$G$5:$G$50,MATCH($C125,'Prev & Ctrl'!$A$5:$A$50,0)),IFERROR(INDEX('Lab dx'!$G$5:$G$50,MATCH($C125,'Lab dx'!$A$5:$A$50,0)),IFERROR(INDEX('Dog popn'!$G$5:$G$50,MATCH($C125,'Dog popn'!$A$5:$A$50,0)),IFERROR(INDEX(IEC!$G$5:$G$50,MATCH($C125,IEC!$A$5:$A$50,0)),IFERROR(INDEX('Cross-cutting issues'!$G$5:$G$50,MATCH($C125,'Cross-cutting issues'!$A$5:$A$50,0)),IFERROR(INDEX(Legislation!$G$5:$G$50,MATCH($C125,Legislation!$A$5:$A$50,0)),\"\")))))))","v":""},null,null,null,null,null,null,null,null,null,null,null,null,null,null,null,"","",""]
[125,null,"---",null,null,null,null,null,null,{"$f":"IFERROR(INDEX('Data coll & an'!$F$5:$F$50,MATCH($C126,'Data coll & an'!$A$5:$A$50,0)),IFERROR(INDEX('Prev & Ctrl'!$F$5:$F$50,MATCH($C126,'Prev & Ctrl'!$A$5:$A$50,0)),IFERROR(INDEX('Lab dx'!$F$5:$F$50,MATCH($C126,'Lab dx'!$A$5:$A$50,0)),IFERROR(INDEX('Dog popn'!$F$5:$F$50,MATCH($C126,'Dog popn'!$A$5:$A$50,0)),IFERROR(INDEX(IEC!$F$5:$F$50,MATCH($C126,IEC!$A$5:$A$50,0)),IFERROR(INDEX('Cross-cutting issues'!$F$5:$F$50,MATCH($C126,'Cross-cutting issues'!$A$5:$A$50,0)),IFERROR(INDEX(Legislation!$F$5:$F$50,MATCH($C126,Legislation!$A$5:$A$50,0)),\"\")))))))","v":""},{"$f":"IFERROR(INDEX('Data coll & an'!$G$5:$G$50,MATCH($C126,'Data coll & an'!$A$5:$A$50,0)),IFERROR(INDEX('Prev & Ctrl'!$G$5:$G$50,MATCH($C126,'Prev & Ctrl'!$A$5:$A$50,0)),IFERROR(INDEX('Lab dx'!$G$5:$G$50,MATCH($C126,'Lab dx'!$A$5:$A$50,0)),IFERROR(INDEX('Dog popn'!$G$5:$G$50,MATCH($C126,'Dog popn'!$A$5:$A$50,0)),IFERROR(INDEX(IEC!$G$5:$G$50,MATCH($C126,IEC!$A$5:$A$50,0)),IFERROR(INDEX('Cross-cutting issues'!$G$5:$G$50,MATCH($C126,'Cross-cutting issues'!$A$5:$A$50,0)),IFERROR(INDEX(Legislation!$G$5:$G$50,MATCH($C126,Legislation!$A$5:$A$50,0)),\"\")))))))","v":""},null,null,null,null,null,null,null,null,null,null,null,null,null,null,null,"","",""]
[126,null,"---",null,null,null,null,null,null,{"$f":"IFERROR(INDEX('Data coll & an'!$F$5:$F$50,MATCH($C127,'Data coll & an'!$A$5:$A$50,0)),IFERROR(INDEX('Prev & Ctrl'!$F$5:$F$50,MATCH($C127,'Prev & Ctrl'!$A$5:$A$50,0)),IFERROR(INDEX('Lab dx'!$F$5:$F$50,MATCH($C127,'Lab dx'!$A$5:$A$50,0)),IFERROR(INDEX('Dog popn'!$F$5:$F$50,MATCH($C127,'Dog popn'!$A$5:$A$50,0)),IFERROR(INDEX(IEC!$F$5:$F$50,MATCH($C127,IEC!$A$5:$A$50,0)),IFERROR(INDEX('Cross-cutting issues'!$F$5:$F$50,MATCH($C127,'Cross-cutting issues'!$A$5:$A$50,0)),IFERROR(INDEX(Legislation!$F$5:$F$50,MATCH($C127,Legislation!$A$5:$A$50,0)),\"\")))))))","v":""},{"$f":"IFERROR(INDEX('Data coll & an'!$G$5:$G$50,MATCH($C127,'Data coll & an'!$A$5:$A$50,0)),IFERROR(INDEX('Prev & Ctrl'!$G$5:$G$50,MATCH($C127,'Prev & Ctrl'!$A$5:$A$50,0)),IFERROR(INDEX('Lab dx'!$G$5:$G$50,MATCH($C127,'Lab dx'!$A$5:$A$50,0)),IFERROR(INDEX('Dog popn'!$G$5:$G$50,MATCH($C127,'Dog popn'!$A$5:$A$50,0)),IFERROR(INDEX(IEC!$G$5:$G$50,MATCH($C127,IEC!$A$5:$A$50,0)),IFERROR(INDEX('Cross-cutting issues'!$G$5:$G$50,MATCH($C127,'Cross-cutting issues'!$A$5:$A$50,0)),IFERROR(INDEX(Legislation!$G$5:$G$50,MATCH($C127,Legislation!$A$5:$A$50,0)),\"\")))))))","v":""},null,null,null,null,null,null,null,null,null,null,null,null,null,null,null,"","",""]
[127,null,"---",null,null,null,null,null,null,{"$f":"IFERROR(INDEX('Data coll & an'!$F$5:$F$50,MATCH($C128,'Data coll & an'!$A$5:$A$50,0)),IFERROR(INDEX('Prev & Ctrl'!$F$5:$F$50,MATCH($C128,'Prev & Ctrl'!$A$5:$A$50,0)),IFERROR(INDEX('Lab dx'!$F$5:$F$50,MATCH($C128,'Lab dx'!$A$5:$A$50,0)),IFERROR(INDEX('Dog popn'!$F$5:$F$50,MATCH($C128,'Dog popn'!$A$5:$A$50,0)),IFERROR(INDEX(IEC!$F$5:$F$50,MATCH($C128,IEC!$A$5:$A$50,0)),IFERROR(INDEX('Cross-cutting issues'!$F$5:$F$50,MATCH($C128,'Cross-cutting issues'!$A$5:$A$50,0)),IFERROR(INDEX(Legislation!$F$5:$F$50,MATCH($C128,Legislation!$A$5:$A$50,0)),\"\")))))))","v":""},{"$f":"IFERROR(INDEX('Data coll & an'!$G$5:$G$50,MATCH($C128,'Data coll & an'!$A$5:$A$50,0)),IFERROR(INDEX('Prev & Ctrl'!$G$5:$G$50,MATCH($C128,'Prev & Ctrl'!$A$5:$A$50,0)),IFERROR(INDEX('Lab dx'!$G$5:$G$50,MATCH($C128,'Lab dx'!$A$5:$A$50,0)),IFERROR(INDEX('Dog popn'!$G$5:$G$50,MATCH($C128,'Dog popn'!$A$5:$A$50,0)),IFERROR(INDEX(IEC!$G$5:$G$50,MATCH($C128,IEC!$A$5:$A$50,0)),IFERROR(INDEX('Cross-cutting issues'!$G$5:$G$50,MATCH($C128,'Cross-cutting issues'!$A$5:$A$50,0)),IFERROR(INDEX(Legislation!$G$5:$G$50,MATCH($C128,Legislation!$A$5:$A$50,0)),\"\")))))))","v":""},null,null,null,null,null,null,null,null,null,null,null,null,null,null,null,"","",""]
[128,null,"---",null,null,null,null,null,null,{"$f":"IFERROR(INDEX('Data coll & an'!$F$5:$F$50,MATCH($C129,'Data coll & an'!$A$5:$A$50,0)),IFERROR(INDEX('Prev & Ctrl'!$F$5:$F$50,MATCH($C129,'Prev & Ctrl'!$A$5:$A$50,0)),IFERROR(INDEX('Lab dx'!$F$5:$F$50,MATCH($C129,'Lab dx'!$A$5:$A$50,0)),IFERROR(INDEX('Dog popn'!$F$5:$F$50,MATCH($C129,'Dog popn'!$A$5:$A$50,0)),IFERROR(INDEX(IEC!$F$5:$F$50,MATCH($C129,IEC!$A$5:$A$50,0)),IFERROR(INDEX('Cross-cutting issues'!$F$5:$F$50,MATCH($C129,'Cross-cutting issues'!$A$5:$A$50,0)),IFERROR(INDEX(Legislation!$F$5:$F$50,MATCH($C129,Legislation!$A$5:$A$50,0)),\"\")))))))","v":""},{"$f":"IFERROR(INDEX('Data coll & an'!$G$5:$G$50,MATCH($C129,'Data coll & an'!$A$5:$A$50,0)),IFERROR(INDEX('Prev & Ctrl'!$G$5:$G$50,MATCH($C129,'Prev & Ctrl'!$A$5:$A$50,0)),IFERROR(INDEX('Lab dx'!$G$5:$G$50,MATCH($C129,'Lab dx'!$A$5:$A$50,0)),IFERROR(INDEX('Dog popn'!$G$5:$G$50,MATCH($C129,'Dog popn'!$A$5:$A$50,0)),IFERROR(INDEX(IEC!$G$5:$G$50,MATCH($C129,IEC!$A$5:$A$50,0)),IFERROR(INDEX('Cross-cutting issues'!$G$5:$G$50,MATCH($C129,'Cross-cutting issues'!$A$5:$A$50,0)),IFERROR(INDEX(Legislation!$G$5:$G$50,MATCH($C129,Legislation!$A$5:$A$50,0)),\"\")))))))","v":""},null,null,null,null,null,null,null,null,null,null,null,null,null,null,null,"","",""]
[129,null,{"$f":"B130&\"-\"&LEFT(D130,3)&\"-\"&E130&\"-\"&F130","v":"---"},null,null,null,null,null,null,{"$f":"IFERROR(INDEX('Data coll & an'!$F$5:$F$50,MATCH($C130,'Data coll & an'!$A$5:$A$50,0)),IFERROR(INDEX('Prev & Ctrl'!$F$5:$F$50,MATCH($C130,'Prev & Ctrl'!$A$5:$A$50,0)),IFERROR(INDEX('Lab dx'!$F$5:$F$50,MATCH($C130,'Lab dx'!$A$5:$A$50,0)),IFERROR(INDEX('Dog popn'!$F$5:$F$50,MATCH($C130,'Dog popn'!$A$5:$A$50,0)),IFERROR(INDEX(IEC!$F$5:$F$50,MATCH($C130,IEC!$A$5:$A$50,0)),IFERROR(INDEX('Cross-cutting issues'!$F$5:$F$50,MATCH($C130,'Cross-cutting issues'!$A$5:$A$50,0)),IFERROR(INDEX(Legislation!$F$5:$F$50,MATCH($C130,Legislation!$A$5:$A$50,0)),\"\")))))))","v":""},{"$f":"IFERROR(INDEX('Data coll & an'!$G$5:$G$50,MATCH($C130,'Data coll & an'!$A$5:$A$50,0)),IFERROR(INDEX('Prev & Ctrl'!$G$5:$G$50,MATCH($C130,'Prev & Ctrl'!$A$5:$A$50,0)),IFERROR(INDEX('Lab dx'!$G$5:$G$50,MATCH($C130,'Lab dx'!$A$5:$A$50,0)),IFERROR(INDEX('Dog popn'!$G$5:$G$50,MATCH($C130,'Dog popn'!$A$5:$A$50,0)),IFERROR(INDEX(IEC!$G$5:$G$50,MATCH($C130,IEC!$A$5:$A$50,0)),IFERROR(INDEX('Cross-cutting issues'!$G$5:$G$50,MATCH($C130,'Cross-cutting issues'!$A$5:$A$50,0)),IFERROR(INDEX(Legislation!$G$5:$G$50,MATCH($C130,Legislation!$A$5:$A$50,0)),\"\")))))))","v":""},null,null,null,null,null,null,null,null,null,null,null,null,null,null,null,"","",""]
[130,null,"---",null,null,null,null,null,null,{"$f":"IFERROR(INDEX('Data coll & an'!$F$5:$F$50,MATCH($C131,'Data coll & an'!$A$5:$A$50,0)),IFERROR(INDEX('Prev & Ctrl'!$F$5:$F$50,MATCH($C131,'Prev & Ctrl'!$A$5:$A$50,0)),IFERROR(INDEX('Lab dx'!$F$5:$F$50,MATCH($C131,'Lab dx'!$A$5:$A$50,0)),IFERROR(INDEX('Dog popn'!$F$5:$F$50,MATCH($C131,'Dog popn'!$A$5:$A$50,0)),IFERROR(INDEX(IEC!$F$5:$F$50,MATCH($C131,IEC!$A$5:$A$50,0)),IFERROR(INDEX('Cross-cutting issues'!$F$5:$F$50,MATCH($C131,'Cross-cutting issues'!$A$5:$A$50,0)),IFERROR(INDEX(Legislation!$F$5:$F$50,MATCH($C131,Legislation!$A$5:$A$50,0)),\"\")))))))","v":""},{"$f":"IFERROR(INDEX('Data coll & an'!$G$5:$G$50,MATCH($C131,'Data coll & an'!$A$5:$A$50,0)),IFERROR(INDEX('Prev & Ctrl'!$G$5:$G$50,MATCH($C131,'Prev & Ctrl'!$A$5:$A$50,0)),IFERROR(INDEX('Lab dx'!$G$5:$G$50,MATCH($C131,'Lab dx'!$A$5:$A$50,0)),IFERROR(INDEX('Dog popn'!$G$5:$G$50,MATCH($C131,'Dog popn'!$A$5:$A$50,0)),IFERROR(INDEX(IEC!$G$5:$G$50,MATCH($C131,IEC!$A$5:$A$50,0)),IFERROR(INDEX('Cross-cutting issues'!$G$5:$G$50,MATCH($C131,'Cross-cutting issues'!$A$5:$A$50,0)),IFERROR(INDEX(Legislation!$G$5:$G$50,MATCH($C131,Legislation!$A$5:$A$50,0)),\"\")))))))","v":""},null,null,null,null,null,null,null,null,null,null,null,null,null,null,null,{"$f":"IFERROR(VLOOKUP($C131,INDIRECT(\"DCA!a13:j49\"),6,FALSE),IFERROR(VLOOKUP($C131,INDIRECT(\"pco!a13:j49\"),6,FALSE),IFERROR(VLOOKUP($C131,INDIRECT(\"lab!a13:j49\"),6,FALSE),IFERROR(VLOOKUP($C131,INDIRECT(\"dpm!a13:j49\"),6,FALSE),IFERROR(VLOOKUP($C131,INDIRECT(\"iecnw!a13:j49\"),6,FALSE),IFERROR(VLOOKUP($C131,INDIRECT(\"cci!a13:j49\"),6,FALSE),IFERROR(VLOOKUP($C131,INDIRECT(\"leg!a13:j49\"),6,FALSE),\"\")))))))","v":""},{"$f":"IFERROR(VLOOKUP($C131,INDIRECT(\"DCA!a13:j49\"),8,FALSE),IFERROR(VLOOKUP($C131,INDIRECT(\"pco!a13:j49\"),8,FALSE),IFERROR(VLOOKUP($C131,INDIRECT(\"lab!a13:j49\"),8,FALSE),IFERROR(VLOOKUP($C131,INDIRECT(\"dpm!a13:j49\"),8,FALSE),IFERROR(VLOOKUP($C131,INDIRECT(\"iecnw!a13:j49\"),8,FALSE),IFERROR(VLOOKUP($C131,INDIRECT(\"cci!a13:j49\"),8,FALSE),IFERROR(VLOOKUP($C131,INDIRECT(\"leg!a13:j49\"),8,FALSE),\"\")))))))","v":""},{"$f":"IFERROR(VLOOKUP($C131,INDIRECT(\"DCA!a13:j49\"),9,FALSE),IFERROR(VLOOKUP($C131,INDIRECT(\"pco!a13:j49\"),9,FALSE),IFERROR(VLOOKUP($C131,INDIRECT(\"lab!a13:j49\"),9,FALSE),IFERROR(VLOOKUP($C131,INDIRECT(\"dpm!a13:j49\"),9,FALSE),IFERROR(VLOOKUP($C131,INDIRECT(\"iecnw!a13:j49\"),9,FALSE),IFERROR(VLOOKUP($C131,INDIRECT(\"cci!a13:j49\"),9,FALSE),IFERROR(VLOOKUP($C131,INDIRECT(\"leg!a13:j49\"),9,FALSE),\"\")))))))","v":""}]
[131,null,"---",null,null,null,null,null,null,{"$f":"IFERROR(INDEX('Data coll & an'!$F$5:$F$50,MATCH($C132,'Data coll & an'!$A$5:$A$50,0)),IFERROR(INDEX('Prev & Ctrl'!$F$5:$F$50,MATCH($C132,'Prev & Ctrl'!$A$5:$A$50,0)),IFERROR(INDEX('Lab dx'!$F$5:$F$50,MATCH($C132,'Lab dx'!$A$5:$A$50,0)),IFERROR(INDEX('Dog popn'!$F$5:$F$50,MATCH($C132,'Dog popn'!$A$5:$A$50,0)),IFERROR(INDEX(IEC!$F$5:$F$50,MATCH($C132,IEC!$A$5:$A$50,0)),IFERROR(INDEX('Cross-cutting issues'!$F$5:$F$50,MATCH($C132,'Cross-cutting issues'!$A$5:$A$50,0)),IFERROR(INDEX(Legislation!$F$5:$F$50,MATCH($C132,Legislation!$A$5:$A$50,0)),\"\")))))))","v":""},{"$f":"IFERROR(INDEX('Data coll & an'!$G$5:$G$50,MATCH($C132,'Data coll & an'!$A$5:$A$50,0)),IFERROR(INDEX('Prev & Ctrl'!$G$5:$G$50,MATCH($C132,'Prev & Ctrl'!$A$5:$A$50,0)),IFERROR(INDEX('Lab dx'!$G$5:$G$50,MATCH($C132,'Lab dx'!$A$5:$A$50,0)),IFERROR(INDEX('Dog popn'!$G$5:$G$50,MATCH($C132,'Dog popn'!$A$5:$A$50,0)),IFERROR(INDEX(IEC!$G$5:$G$50,MATCH($C132,IEC!$A$5:$A$50,0)),IFERROR(INDEX('Cross-cutting issues'!$G$5:$G$50,MATCH($C132,'Cross-cutting issues'!$A$5:$A$50,0)),IFERROR(INDEX(Legislation!$G$5:$G$50,MATCH($C132,Legislation!$A$5:$A$50,0)),\"\")))))))","v":""},null,null,null,null,null,null,null,null,null,null,null,null,null,null,null,"","",""]
[132,null,"---",null,null,null,null,null,null,{"$f":"IFERROR(INDEX('Data coll & an'!$F$5:$F$50,MATCH($C133,'Data coll & an'!$A$5:$A$50,0)),IFERROR(INDEX('Prev & Ctrl'!$F$5:$F$50,MATCH($C133,'Prev & Ctrl'!$A$5:$A$50,0)),IFERROR(INDEX('Lab dx'!$F$5:$F$50,MATCH($C133,'Lab dx'!$A$5:$A$50,0)),IFERROR(INDEX('Dog popn'!$F$5:$F$50,MATCH($C133,'Dog popn'!$A$5:$A$50,0)),IFERROR(INDEX(IEC!$F$5:$F$50,MATCH($C133,IEC!$A$5:$A$50,0)),IFERROR(INDEX('Cross-cutting issues'!$F$5:$F$50,MATCH($C133,'Cross-cutting issues'!$A$5:$A$50,0)),IFERROR(INDEX(Legislation!$F$5:$F$50,MATCH($C133,Legislation!$A$5:$A$50,0)),\"\")))))))","v":""},{"$f":"IFERROR(INDEX('Data coll & an'!$G$5:$G$50,MATCH($C133,'Data coll & an'!$A$5:$A$50,0)),IFERROR(INDEX('Prev & Ctrl'!$G$5:$G$50,MATCH($C133,'Prev & Ctrl'!$A$5:$A$50,0)),IFERROR(INDEX('Lab dx'!$G$5:$G$50,MATCH($C133,'Lab dx'!$A$5:$A$50,0)),IFERROR(INDEX('Dog popn'!$G$5:$G$50,MATCH($C133,'Dog popn'!$A$5:$A$50,0)),IFERROR(INDEX(IEC!$G$5:$G$50,MATCH($C133,IEC!$A$5:$A$50,0)),IFERROR(INDEX('Cross-cutting issues'!$G$5:$G$50,MATCH($C133,'Cross-cutting issues'!$A$5:$A$50,0)),IFERROR(INDEX(Legislation!$G$5:$G$50,MATCH($C133,Legislation!$A$5:$A$50,0)),\"\")))))))","v":""},null,null,null,null,null,null,null,null,null,null,null,null,null,null,null,"","",""]
[133,null,"---",null,null,null,null,null,null,{"$f":"IFERROR(INDEX('Data coll & an'!$F$5:$F$50,MATCH($C134,'Data coll & an'!$A$5:$A$50,0)),IFERROR(INDEX('Prev & Ctrl'!$F$5:$F$50,MATCH($C134,'Prev & Ctrl'!$A$5:$A$50,0)),IFERROR(INDEX('Lab dx'!$F$5:$F$50,MATCH($C134,'Lab dx'!$A$5:$A$50,0)),IFERROR(INDEX('Dog popn'!$F$5:$F$50,MATCH($C134,'Dog popn'!$A$5:$A$50,0)),IFERROR(INDEX(IEC!$F$5:$F$50,MATCH($C134,IEC!$A$5:$A$50,0)),IFERROR(INDEX('Cross-cutting issues'!$F$5:$F$50,MATCH($C134,'Cross-cutting issues'!$A$5:$A$50,0)),IFERROR(INDEX(Legislation!$F$5:$F$50,MATCH($C134,Legislation!$A$5:$A$50,0)),\"\")))))))","v":""},{"$f":"IFERROR(INDEX('Data coll & an'!$G$5:$G$50,MATCH($C134,'Data coll & an'!$A$5:$A$50,0)),IFERROR(INDEX('Prev & Ctrl'!$G$5:$G$50,MATCH($C134,'Prev & Ctrl'!$A$5:$A$50,0)),IFERROR(INDEX('Lab dx'!$G$5:$G$50,MATCH($C134,'Lab dx'!$A$5:$A$50,0)),IFERROR(INDEX('Dog popn'!$G$5:$G$50,MATCH($C134,'Dog popn'!$A$5:$A$50,0)),IFERROR(INDEX(IEC!$G$5:$G$50,MATCH($C134,IEC!$A$5:$A$50,0)),IFERROR(INDEX('Cross-cutting issues'!$G$5:$G$50,MATCH($C134,'Cross-cutting issues'!$A$5:$A$50,0)),IFERROR(INDEX(Legislation!$G$5:$G$50,MATCH($C134,Legislation!$A$5:$A$50,0)),\"\")))))))","v":""},null,null,null,null,null,null,null,null,null,null,null,null,null,null,null,"","",""]
[134,null,"---",null,null,null,null,null,null,{"$f":"IFERROR(INDEX('Data coll & an'!$F$5:$F$50,MATCH($C135,'Data coll & an'!$A$5:$A$50,0)),IFERROR(INDEX('Prev & Ctrl'!$F$5:$F$50,MATCH($C135,'Prev & Ctrl'!$A$5:$A$50,0)),IFERROR(INDEX('Lab dx'!$F$5:$F$50,MATCH($C135,'Lab dx'!$A$5:$A$50,0)),IFERROR(INDEX('Dog popn'!$F$5:$F$50,MATCH($C135,'Dog popn'!$A$5:$A$50,0)),IFERROR(INDEX(IEC!$F$5:$F$50,MATCH($C135,IEC!$A$5:$A$50,0)),IFERROR(INDEX('Cross-cutting issues'!$F$5:$F$50,MATCH($C135,'Cross-cutting issues'!$A$5:$A$50,0)),IFERROR(INDEX(Legislation!$F$5:$F$50,MATCH($C135,Legislation!$A$5:$A$50,0)),\"\")))))))","v":""},{"$f":"IFERROR(INDEX('Data coll & an'!$G$5:$G$50,MATCH($C135,'Data coll & an'!$A$5:$A$50,0)),IFERROR(INDEX('Prev & Ctrl'!$G$5:$G$50,MATCH($C135,'Prev & Ctrl'!$A$5:$A$50,0)),IFERROR(INDEX('Lab dx'!$G$5:$G$50,MATCH($C135,'Lab dx'!$A$5:$A$50,0)),IFERROR(INDEX('Dog popn'!$G$5:$G$50,MATCH($C135,'Dog popn'!$A$5:$A$50,0)),IFERROR(INDEX(IEC!$G$5:$G$50,MATCH($C135,IEC!$A$5:$A$50,0)),IFERROR(INDEX('Cross-cutting issues'!$G$5:$G$50,MATCH($C135,'Cross-cutting issues'!$A$5:$A$50,0)),IFERROR(INDEX(Legislation!$G$5:$G$50,MATCH($C135,Legislation!$A$5:$A$50,0)),\"\")))))))","v":""},null,null,null,null,null,null,null,null,null,null,null,null,null,null,null,"","",""]
[135,null,"---",null,null,null,null,null,null,{"$f":"IFERROR(INDEX('Data coll & an'!$F$5:$F$50,MATCH($C136,'Data coll & an'!$A$5:$A$50,0)),IFERROR(INDEX('Prev & Ctrl'!$F$5:$F$50,MATCH($C136,'Prev & Ctrl'!$A$5:$A$50,0)),IFERROR(INDEX('Lab dx'!$F$5:$F$50,MATCH($C136,'Lab dx'!$A$5:$A$50,0)),IFERROR(INDEX('Dog popn'!$F$5:$F$50,MATCH($C136,'Dog popn'!$A$5:$A$50,0)),IFERROR(INDEX(IEC!$F$5:$F$50,MATCH($C136,IEC!$A$5:$A$50,0)),IFERROR(INDEX('Cross-cutting issues'!$F$5:$F$50,MATCH($C136,'Cross-cutting issues'!$A$5:$A$50,0)),IFERROR(INDEX(Legislation!$F$5:$F$50,MATCH($C136,Legislation!$A$5:$A$50,0)),\"\")))))))","v":""},{"$f":"IFERROR(INDEX('Data coll & an'!$G$5:$G$50,MATCH($C136,'Data coll & an'!$A$5:$A$50,0)),IFERROR(INDEX('Prev & Ctrl'!$G$5:$G$50,MATCH($C136,'Prev & Ctrl'!$A$5:$A$50,0)),IFERROR(INDEX('Lab dx'!$G$5:$G$50,MATCH($C136,'Lab dx'!$A$5:$A$50,0)),IFERROR(INDEX('Dog popn'!$G$5:$G$50,MATCH($C136,'Dog popn'!$A$5:$A$50,0)),IFERROR(INDEX(IEC!$G$5:$G$50,MATCH($C136,IEC!$A$5:$A$50,0)),IFERROR(INDEX('Cross-cutting issues'!$G$5:$G$50,MATCH($C136,'Cross-cutting issues'!$A$5:$A$50,0)),IFERROR(INDEX(Legislation!$G$5:$G$50,MATCH($C136,Legislation!$A$5:$A$50,0)),\"\")))))))","v":""},null,null,null,null,null,null,null,null,null,null,null,null,null,null,null,"","",""]
[136,null,"---",null,null,null,null,null,null,{"$f":"IFERROR(INDEX('Data coll & an'!$F$5:$F$50,MATCH($C137,'Data coll & an'!$A$5:$A$50,0)),IFERROR(INDEX('Prev & Ctrl'!$F$5:$F$50,MATCH($C137,'Prev & Ctrl'!$A$5:$A$50,0)),IFERROR(INDEX('Lab dx'!$F$5:$F$50,MATCH($C137,'Lab dx'!$A$5:$A$50,0)),IFERROR(INDEX('Dog popn'!$F$5:$F$50,MATCH($C137,'Dog popn'!$A$5:$A$50,0)),IFERROR(INDEX(IEC!$F$5:$F$50,MATCH($C137,IEC!$A$5:$A$50,0)),IFERROR(INDEX('Cross-cutting issues'!$F$5:$F$50,MATCH($C137,'Cross-cutting issues'!$A$5:$A$50,0)),IFERROR(INDEX(Legislation!$F$5:$F$50,MATCH($C137,Legislation!$A$5:$A$50,0)),\"\")))))))","v":""},{"$f":"IFERROR(INDEX('Data coll & an'!$G$5:$G$50,MATCH($C137,'Data coll & an'!$A$5:$A$50,0)),IFERROR(INDEX('Prev & Ctrl'!$G$5:$G$50,MATCH($C137,'Prev & Ctrl'!$A$5:$A$50,0)),IFERROR(INDEX('Lab dx'!$G$5:$G$50,MATCH($C137,'Lab dx'!$A$5:$A$50,0)),IFERROR(INDEX('Dog popn'!$G$5:$G$50,MATCH($C137,'Dog popn'!$A$5:$A$50,0)),IFERROR(INDEX(IEC!$G$5:$G$50,MATCH($C137,IEC!$A$5:$A$50,0)),IFERROR(INDEX('Cross-cutting issues'!$G$5:$G$50,MATCH($C137,'Cross-cutting issues'!$A$5:$A$50,0)),IFERROR(INDEX(Legislation!$G$5:$G$50,MATCH($C137,Legislation!$A$5:$A$50,0)),\"\")))))))","v":""},null,null,null,null,null,null,null,null,null,null,null,null,null,null,null,"","",""]
[137,null,"---",null,null,null,null,null,null,{"$f":"IFERROR(INDEX('Data coll & an'!$F$5:$F$50,MATCH($C138,'Data coll & an'!$A$5:$A$50,0)),IFERROR(INDEX('Prev & Ctrl'!$F$5:$F$50,MATCH($C138,'Prev & Ctrl'!$A$5:$A$50,0)),IFERROR(INDEX('Lab dx'!$F$5:$F$50,MATCH($C138,'Lab dx'!$A$5:$A$50,0)),IFERROR(INDEX('Dog popn'!$F$5:$F$50,MATCH($C138,'Dog popn'!$A$5:$A$50,0)),IFERROR(INDEX(IEC!$F$5:$F$50,MATCH($C138,IEC!$A$5:$A$50,0)),IFERROR(INDEX('Cross-cutting issues'!$F$5:$F$50,MATCH($C138,'Cross-cutting issues'!$A$5:$A$50,0)),IFERROR(INDEX(Legislation!$F$5:$F$50,MATCH($C138,Legislation!$A$5:$A$50,0)),\"\")))))))","v":""},{"$f":"IFERROR(INDEX('Data coll & an'!$G$5:$G$50,MATCH($C138,'Data coll & an'!$A$5:$A$50,0)),IFERROR(INDEX('Prev & Ctrl'!$G$5:$G$50,MATCH($C138,'Prev & Ctrl'!$A$5:$A$50,0)),IFERROR(INDEX('Lab dx'!$G$5:$G$50,MATCH($C138,'Lab dx'!$A$5:$A$50,0)),IFERROR(INDEX('Dog popn'!$G$5:$G$50,MATCH($C138,'Dog popn'!$A$5:$A$50,0)),IFERROR(INDEX(IEC!$G$5:$G$50,MATCH($C138,IEC!$A$5:$A$50,0)),IFERROR(INDEX('Cross-cutting issues'!$G$5:$G$50,MATCH($C138,'Cross-cutting issues'!$A$5:$A$50,0)),IFERROR(INDEX(Legislation!$G$5:$G$50,MATCH($C138,Legislation!$A$5:$A$50,0)),\"\")))))))","v":""},null,null,null,null,null,null,null,null,null,null,null,null,null,null,null,"","",""]
[138,null,"---",null,null,null,null,null,null,{"$f":"IFERROR(INDEX('Data coll & an'!$F$5:$F$50,MATCH($C139,'Data coll & an'!$A$5:$A$50,0)),IFERROR(INDEX('Prev & Ctrl'!$F$5:$F$50,MATCH($C139,'Prev & Ctrl'!$A$5:$A$50,0)),IFERROR(INDEX('Lab dx'!$F$5:$F$50,MATCH($C139,'Lab dx'!$A$5:$A$50,0)),IFERROR(INDEX('Dog popn'!$F$5:$F$50,MATCH($C139,'Dog popn'!$A$5:$A$50,0)),IFERROR(INDEX(IEC!$F$5:$F$50,MATCH($C139,IEC!$A$5:$A$50,0)),IFERROR(INDEX('Cross-cutting issues'!$F$5:$F$50,MATCH($C139,'Cross-cutting issues'!$A$5:$A$50,0)),IFERROR(INDEX(Legislation!$F$5:$F$50,MATCH($C139,Legislation!$A$5:$A$50,0)),\"\")))))))","v":""},{"$f":"IFERROR(INDEX('Data coll & an'!$G$5:$G$50,MATCH($C139,'Data coll & an'!$A$5:$A$50,0)),IFERROR(INDEX('Prev & Ctrl'!$G$5:$G$50,MATCH($C139,'Prev & Ctrl'!$A$5:$A$50,0)),IFERROR(INDEX('Lab dx'!$G$5:$G$50,MATCH($C139,'Lab dx'!$A$5:$A$50,0)),IFERROR(INDEX('Dog popn'!$G$5:$G$50,MATCH($C139,'Dog popn'!$A$5:$A$50,0)),IFERROR(INDEX(IEC!$G$5:$G$50,MATCH($C139,IEC!$A$5:$A$50,0)),IFERROR(INDEX('Cross-cutting issues'!$G$5:$G$50,MATCH($C139,'Cross-cutting issues'!$A$5:$A$50,0)),IFERROR(INDEX(Legislation!$G$5:$G$50,MATCH($C139,Legislation!$A$5:$A$50,0)),\"\")))))))","v":""},null,null,null,null,null,null,null,null,null,null,null,null,null,null,null,"","",""]
[139,null,"---",null,null,null,null,null,null,{"$f":"IFERROR(INDEX('Data coll & an'!$F$5:$F$50,MATCH($C140,'Data coll & an'!$A$5:$A$50,0)),IFERROR(INDEX('Prev & Ctrl'!$F$5:$F$50,MATCH($C140,'Prev & Ctrl'!$A$5:$A$50,0)),IFERROR(INDEX('Lab dx'!$F$5:$F$50,MATCH($C140,'Lab dx'!$A$5:$A$50,0)),IFERROR(INDEX('Dog popn'!$F$5:$F$50,MATCH($C140,'Dog popn'!$A$5:$A$50,0)),IFERROR(INDEX(IEC!$F$5:$F$50,MATCH($C140,IEC!$A$5:$A$50,0)),IFERROR(INDEX('Cross-cutting issues'!$F$5:$F$50,MATCH($C140,'Cross-cutting issues'!$A$5:$A$50,0)),IFERROR(INDEX(Legislation!$F$5:$F$50,MATCH($C140,Legislation!$A$5:$A$50,0)),\"\")))))))","v":""},{"$f":"IFERROR(INDEX('Data coll & an'!$G$5:$G$50,MATCH($C140,'Data coll & an'!$A$5:$A$50,0)),IFERROR(INDEX('Prev & Ctrl'!$G$5:$G$50,MATCH($C140,'Prev & Ctrl'!$A$5:$A$50,0)),IFERROR(INDEX('Lab dx'!$G$5:$G$50,MATCH($C140,'Lab dx'!$A$5:$A$50,0)),IFERROR(INDEX('Dog popn'!$G$5:$G$50,MATCH($C140,'Dog popn'!$A$5:$A$50,0)),IFERROR(INDEX(IEC!$G$5:$G$50,MATCH($C140,IEC!$A$5:$A$50,0)),IFERROR(INDEX('Cross-cutting issues'!$G$5:$G$50,MATCH($C140,'Cross-cutting issues'!$A$5:$A$50,0)),IFERROR(INDEX(Legislation!$G$5:$G$50,MATCH($C140,Legislation!$A$5:$A$50,0)),\"\")))))))","v":""},null,null,null,null,null,null,null,null,null,null,null,null,null,null,null,"","",""]
[140,null,"---",null,null,null,null,null,null,{"$f":"IFERROR(INDEX('Data coll & an'!$F$5:$F$50,MATCH($C141,'Data coll & an'!$A$5:$A$50,0)),IFERROR(INDEX('Prev & Ctrl'!$F$5:$F$50,MATCH($C141,'Prev & Ctrl'!$A$5:$A$50,0)),IFERROR(INDEX('Lab dx'!$F$5:$F$50,MATCH($C141,'Lab dx'!$A$5:$A$50,0)),IFERROR(INDEX('Dog popn'!$F$5:$F$50,MATCH($C141,'Dog popn'!$A$5:$A$50,0)),IFERROR(INDEX(IEC!$F$5:$F$50,MATCH($C141,IEC!$A$5:$A$50,0)),IFERROR(INDEX('Cross-cutting issues'!$F$5:$F$50,MATCH($C141,'Cross-cutting issues'!$A$5:$A$50,0)),IFERROR(INDEX(Legislation!$F$5:$F$50,MATCH($C141,Legislation!$A$5:$A$50,0)),\"\")))))))","v":""},{"$f":"IFERROR(INDEX('Data coll & an'!$G$5:$G$50,MATCH($C141,'Data coll & an'!$A$5:$A$50,0)),IFERROR(INDEX('Prev & Ctrl'!$G$5:$G$50,MATCH($C141,'Prev & Ctrl'!$A$5:$A$50,0)),IFERROR(INDEX('Lab dx'!$G$5:$G$50,MATCH($C141,'Lab dx'!$A$5:$A$50,0)),IFERROR(INDEX('Dog popn'!$G$5:$G$50,MATCH($C141,'Dog popn'!$A$5:$A$50,0)),IFERROR(INDEX(IEC!$G$5:$G$50,MATCH($C141,IEC!$A$5:$A$50,0)),IFERROR(INDEX('Cross-cutting issues'!$G$5:$G$50,MATCH($C141,'Cross-cutting issues'!$A$5:$A$50,0)),IFERROR(INDEX(Legislation!$G$5:$G$50,MATCH($C141,Legislation!$A$5:$A$50,0)),\"\")))))))","v":""},null,null,null,null,null,null,null,null,null,null,null,null,null,null,null,"","",""]
[141,null,"---",null,null,null,null,null,null,{"$f":"IFERROR(INDEX('Data coll & an'!$F$5:$F$50,MATCH($C142,'Data coll & an'!$A$5:$A$50,0)),IFERROR(INDEX('Prev & Ctrl'!$F$5:$F$50,MATCH($C142,'Prev & Ctrl'!$A$5:$A$50,0)),IFERROR(INDEX('Lab dx'!$F$5:$F$50,MATCH($C142,'Lab dx'!$A$5:$A$50,0)),IFERROR(INDEX('Dog popn'!$F$5:$F$50,MATCH($C142,'Dog popn'!$A$5:$A$50,0)),IFERROR(INDEX(IEC!$F$5:$F$50,MATCH($C142,IEC!$A$5:$A$50,0)),IFERROR(INDEX('Cross-cutting issues'!$F$5:$F$50,MATCH($C142,'Cross-cutting issues'!$A$5:$A$50,0)),IFERROR(INDEX(Legislation!$F$5:$F$50,MATCH($C142,Legislation!$A$5:$A$50,0)),\"\")))))))","v":""},{"$f":"IFERROR(INDEX('Data coll & an'!$G$5:$G$50,MATCH($C142,'Data coll & an'!$A$5:$A$50,0)),IFERROR(INDEX('Prev & Ctrl'!$G$5:$G$50,MATCH($C142,'Prev & Ctrl'!$A$5:$A$50,0)),IFERROR(INDEX('Lab dx'!$G$5:$G$50,MATCH($C142,'Lab dx'!$A$5:$A$50,0)),IFERROR(INDEX('Dog popn'!$G$5:$G$50,MATCH($C142,'Dog popn'!$A$5:$A$50,0)),IFERROR(INDEX(IEC!$G$5:$G$50,MATCH($C142,IEC!$A$5:$A$50,0)),IFERROR(INDEX('Cross-cutting issues'!$G$5:$G$50,MATCH($C142,'Cross-cutting issues'!$A$5:$A$50,0)),IFERROR(INDEX(Legislation!$G$5:$G$50,MATCH($C142,Legislation!$A$5:$A$50,0)),\"\")))))))","v":""},null,null,null,null,null,null,null,null,null,null,null,null,null,null,null,"","",""]
[142,null,"---",null,null,null,null,null,null,{"$f":"IFERROR(INDEX('Data coll & an'!$F$5:$F$50,MATCH($C143,'Data coll & an'!$A$5:$A$50,0)),IFERROR(INDEX('Prev & Ctrl'!$F$5:$F$50,MATCH($C143,'Prev & Ctrl'!$A$5:$A$50,0)),IFERROR(INDEX('Lab dx'!$F$5:$F$50,MATCH($C143,'Lab dx'!$A$5:$A$50,0)),IFERROR(INDEX('Dog popn'!$F$5:$F$50,MATCH($C143,'Dog popn'!$A$5:$A$50,0)),IFERROR(INDEX(IEC!$F$5:$F$50,MATCH($C143,IEC!$A$5:$A$50,0)),IFERROR(INDEX('Cross-cutting issues'!$F$5:$F$50,MATCH($C143,'Cross-cutting issues'!$A$5:$A$50,0)),IFERROR(INDEX(Legislation!$F$5:$F$50,MATCH($C143,Legislation!$A$5:$A$50,0)),\"\")))))))","v":""},{"$f":"IFERROR(INDEX('Data coll & an'!$G$5:$G$50,MATCH($C143,'Data coll & an'!$A$5:$A$50,0)),IFERROR(INDEX('Prev & Ctrl'!$G$5:$G$50,MATCH($C143,'Prev & Ctrl'!$A$5:$A$50,0)),IFERROR(INDEX('Lab dx'!$G$5:$G$50,MATCH($C143,'Lab dx'!$A$5:$A$50,0)),IFERROR(INDEX('Dog popn'!$G$5:$G$50,MATCH($C143,'Dog popn'!$A$5:$A$50,0)),IFERROR(INDEX(IEC!$G$5:$G$50,MATCH($C143,IEC!$A$5:$A$50,0)),IFERROR(INDEX('Cross-cutting issues'!$G$5:$G$50,MATCH($C143,'Cross-cutting issues'!$A$5:$A$50,0)),IFERROR(INDEX(Legislation!$G$5:$G$50,MATCH($C143,Legislation!$A$5:$A$50,0)),\"\")))))))","v":""},null,null,null,null,null,null,null,null,null,null,null,null,null,null,null,"","",""]
[143,null,"---",null,null,null,null,null,null,{"$f":"IFERROR(INDEX('Data coll & an'!$F$5:$F$50,MATCH($C144,'Data coll & an'!$A$5:$A$50,0)),IFERROR(INDEX('Prev & Ctrl'!$F$5:$F$50,MATCH($C144,'Prev & Ctrl'!$A$5:$A$50,0)),IFERROR(INDEX('Lab dx'!$F$5:$F$50,MATCH($C144,'Lab dx'!$A$5:$A$50,0)),IFERROR(INDEX('Dog popn'!$F$5:$F$50,MATCH($C144,'Dog popn'!$A$5:$A$50,0)),IFERROR(INDEX(IEC!$F$5:$F$50,MATCH($C144,IEC!$A$5:$A$50,0)),IFERROR(INDEX('Cross-cutting issues'!$F$5:$F$50,MATCH($C144,'Cross-cutting issues'!$A$5:$A$50,0)),IFERROR(INDEX(Legislation!$F$5:$F$50,MATCH($C144,Legislation!$A$5:$A$50,0)),\"\")))))))","v":""},{"$f":"IFERROR(INDEX('Data coll & an'!$G$5:$G$50,MATCH($C144,'Data coll & an'!$A$5:$A$50,0)),IFERROR(INDEX('Prev & Ctrl'!$G$5:$G$50,MATCH($C144,'Prev & Ctrl'!$A$5:$A$50,0)),IFERROR(INDEX('Lab dx'!$G$5:$G$50,MATCH($C144,'Lab dx'!$A$5:$A$50,0)),IFERROR(INDEX('Dog popn'!$G$5:$G$50,MATCH($C144,'Dog popn'!$A$5:$A$50,0)),IFERROR(INDEX(IEC!$G$5:$G$50,MATCH($C144,IEC!$A$5:$A$50,0)),IFERROR(INDEX('Cross-cutting issues'!$G$5:$G$50,MATCH($C144,'Cross-cutting issues'!$A$5:$A$50,0)),IFERROR(INDEX(Legislation!$G$5:$G$50,MATCH($C144,Legislation!$A$5:$A$50,0)),\"\")))))))","v":""},null,null,null,null,null,null,null,null,null,null,null,null,null,null,null,"","",""]
[144,null,"---",null,null,null,null,null,null,{"$f":"IFERROR(INDEX('Data coll & an'!$F$5:$F$50,MATCH($C145,'Data coll & an'!$A$5:$A$50,0)),IFERROR(INDEX('Prev & Ctrl'!$F$5:$F$50,MATCH($C145,'Prev & Ctrl'!$A$5:$A$50,0)),IFERROR(INDEX('Lab dx'!$F$5:$F$50,MATCH($C145,'Lab dx'!$A$5:$A$50,0)),IFERROR(INDEX('Dog popn'!$F$5:$F$50,MATCH($C145,'Dog popn'!$A$5:$A$50,0)),IFERROR(INDEX(IEC!$F$5:$F$50,MATCH($C145,IEC!$A$5:$A$50,0)),IFERROR(INDEX('Cross-cutting issues'!$F$5:$F$50,MATCH($C145,'Cross-cutting issues'!$A$5:$A$50,0)),IFERROR(INDEX(Legislation!$F$5:$F$50,MATCH($C145,Legislation!$A$5:$A$50,0)),\"\")))))))","v":""},{"$f":"IFERROR(INDEX('Data coll & an'!$G$5:$G$50,MATCH($C145,'Data coll & an'!$A$5:$A$50,0)),IFERROR(INDEX('Prev & Ctrl'!$G$5:$G$50,MATCH($C145,'Prev & Ctrl'!$A$5:$A$50,0)),IFERROR(INDEX('Lab dx'!$G$5:$G$50,MATCH($C145,'Lab dx'!$A$5:$A$50,0)),IFERROR(INDEX('Dog popn'!$G$5:$G$50,MATCH($C145,'Dog popn'!$A$5:$A$50,0)),IFERROR(INDEX(IEC!$G$5:$G$50,MATCH($C145,IEC!$A$5:$A$50,0)),IFERROR(INDEX('Cross-cutting issues'!$G$5:$G$50,MATCH($C145,'Cross-cutting issues'!$A$5:$A$50,0)),IFERROR(INDEX(Legislation!$G$5:$G$50,MATCH($C145,Legislation!$A$5:$A$50,0)),\"\")))))))","v":""},null,null,null,null,null,null,null,null,null,null,null,null,null,null,null,"","",""]
[145,null,"---",null,null,null,null,null,null,{"$f":"IFERROR(INDEX('Data coll & an'!$F$5:$F$50,MATCH($C146,'Data coll & an'!$A$5:$A$50,0)),IFERROR(INDEX('Prev & Ctrl'!$F$5:$F$50,MATCH($C146,'Prev & Ctrl'!$A$5:$A$50,0)),IFERROR(INDEX('Lab dx'!$F$5:$F$50,MATCH($C146,'Lab dx'!$A$5:$A$50,0)),IFERROR(INDEX('Dog popn'!$F$5:$F$50,MATCH($C146,'Dog popn'!$A$5:$A$50,0)),IFERROR(INDEX(IEC!$F$5:$F$50,MATCH($C146,IEC!$A$5:$A$50,0)),IFERROR(INDEX('Cross-cutting issues'!$F$5:$F$50,MATCH($C146,'Cross-cutting issues'!$A$5:$A$50,0)),IFERROR(INDEX(Legislation!$F$5:$F$50,MATCH($C146,Legislation!$A$5:$A$50,0)),\"\")))))))","v":""},{"$f":"IFERROR(INDEX('Data coll & an'!$G$5:$G$50,MATCH($C146,'Data coll & an'!$A$5:$A$50,0)),IFERROR(INDEX('Prev & Ctrl'!$G$5:$G$50,MATCH($C146,'Prev & Ctrl'!$A$5:$A$50,0)),IFERROR(INDEX('Lab dx'!$G$5:$G$50,MATCH($C146,'Lab dx'!$A$5:$A$50,0)),IFERROR(INDEX('Dog popn'!$G$5:$G$50,MATCH($C146,'Dog popn'!$A$5:$A$50,0)),IFERROR(INDEX(IEC!$G$5:$G$50,MATCH($C146,IEC!$A$5:$A$50,0)),IFERROR(INDEX('Cross-cutting issues'!$G$5:$G$50,MATCH($C146,'Cross-cutting issues'!$A$5:$A$50,0)),IFERROR(INDEX(Legislation!$G$5:$G$50,MATCH($C146,Legislation!$A$5:$A$50,0)),\"\")))))))","v":""},null,null,null,null,null,null,null,null,null,null,null,null,null,null,null,"","",""]
[146,null,"---",null,null,null,null,null,null,{"$f":"IFERROR(INDEX('Data coll & an'!$F$5:$F$50,MATCH($C147,'Data coll & an'!$A$5:$A$50,0)),IFERROR(INDEX('Prev & Ctrl'!$F$5:$F$50,MATCH($C147,'Prev & Ctrl'!$A$5:$A$50,0)),IFERROR(INDEX('Lab dx'!$F$5:$F$50,MATCH($C147,'Lab dx'!$A$5:$A$50,0)),IFERROR(INDEX('Dog popn'!$F$5:$F$50,MATCH($C147,'Dog popn'!$A$5:$A$50,0)),IFERROR(INDEX(IEC!$F$5:$F$50,MATCH($C147,IEC!$A$5:$A$50,0)),IFERROR(INDEX('Cross-cutting issues'!$F$5:$F$50,MATCH($C147,'Cross-cutting issues'!$A$5:$A$50,0)),IFERROR(INDEX(Legislation!$F$5:$F$50,MATCH($C147,Legislation!$A$5:$A$50,0)),\"\")))))))","v":""},{"$f":"IFERROR(INDEX('Data coll & an'!$G$5:$G$50,MATCH($C147,'Data coll & an'!$A$5:$A$50,0)),IFERROR(INDEX('Prev & Ctrl'!$G$5:$G$50,MATCH($C147,'Prev & Ctrl'!$A$5:$A$50,0)),IFERROR(INDEX('Lab dx'!$G$5:$G$50,MATCH($C147,'Lab dx'!$A$5:$A$50,0)),IFERROR(INDEX('Dog popn'!$G$5:$G$50,MATCH($C147,'Dog popn'!$A$5:$A$50,0)),IFERROR(INDEX(IEC!$G$5:$G$50,MATCH($C147,IEC!$A$5:$A$50,0)),IFERROR(INDEX('Cross-cutting issues'!$G$5:$G$50,MATCH($C147,'Cross-cutting issues'!$A$5:$A$50,0)),IFERROR(INDEX(Legislation!$G$5:$G$50,MATCH($C147,Legislation!$A$5:$A$50,0)),\"\")))))))","v":""},null,null,null,null,null,null,null,null,null,null,null,null,null,null,null,"","",""]
[147,null,"---",null,null,null,null,null,null,{"$f":"IFERROR(INDEX('Data coll & an'!$F$5:$F$50,MATCH($C148,'Data coll & an'!$A$5:$A$50,0)),IFERROR(INDEX('Prev & Ctrl'!$F$5:$F$50,MATCH($C148,'Prev & Ctrl'!$A$5:$A$50,0)),IFERROR(INDEX('Lab dx'!$F$5:$F$50,MATCH($C148,'Lab dx'!$A$5:$A$50,0)),IFERROR(INDEX('Dog popn'!$F$5:$F$50,MATCH($C148,'Dog popn'!$A$5:$A$50,0)),IFERROR(INDEX(IEC!$F$5:$F$50,MATCH($C148,IEC!$A$5:$A$50,0)),IFERROR(INDEX('Cross-cutting issues'!$F$5:$F$50,MATCH($C148,'Cross-cutting issues'!$A$5:$A$50,0)),IFERROR(INDEX(Legislation!$F$5:$F$50,MATCH($C148,Legislation!$A$5:$A$50,0)),\"\")))))))","v":""},{"$f":"IFERROR(INDEX('Data coll & an'!$G$5:$G$50,MATCH($C148,'Data coll & an'!$A$5:$A$50,0)),IFERROR(INDEX('Prev & Ctrl'!$G$5:$G$50,MATCH($C148,'Prev & Ctrl'!$A$5:$A$50,0)),IFERROR(INDEX('Lab dx'!$G$5:$G$50,MATCH($C148,'Lab dx'!$A$5:$A$50,0)),IFERROR(INDEX('Dog popn'!$G$5:$G$50,MATCH($C148,'Dog popn'!$A$5:$A$50,0)),IFERROR(INDEX(IEC!$G$5:$G$50,MATCH($C148,IEC!$A$5:$A$50,0)),IFERROR(INDEX('Cross-cutting issues'!$G$5:$G$50,MATCH($C148,'Cross-cutting issues'!$A$5:$A$50,0)),IFERROR(INDEX(Legislation!$G$5:$G$50,MATCH($C148,Legislation!$A$5:$A$50,0)),\"\")))))))","v":""},null,null,null,null,null,null,null,null,null,null,null,null,null,null,null,"","",""]
[148,null,"---",null,null,null,null,null,null,{"$f":"IFERROR(INDEX('Data coll & an'!$F$5:$F$50,MATCH($C149,'Data coll & an'!$A$5:$A$50,0)),IFERROR(INDEX('Prev & Ctrl'!$F$5:$F$50,MATCH($C149,'Prev & Ctrl'!$A$5:$A$50,0)),IFERROR(INDEX('Lab dx'!$F$5:$F$50,MATCH($C149,'Lab dx'!$A$5:$A$50,0)),IFERROR(INDEX('Dog popn'!$F$5:$F$50,MATCH($C149,'Dog popn'!$A$5:$A$50,0)),IFERROR(INDEX(IEC!$F$5:$F$50,MATCH($C149,IEC!$A$5:$A$50,0)),IFERROR(INDEX('Cross-cutting issues'!$F$5:$F$50,MATCH($C149,'Cross-cutting issues'!$A$5:$A$50,0)),IFERROR(INDEX(Legislation!$F$5:$F$50,MATCH($C149,Legislation!$A$5:$A$50,0)),\"\")))))))","v":""},{"$f":"IFERROR(INDEX('Data coll & an'!$G$5:$G$50,MATCH($C149,'Data coll & an'!$A$5:$A$50,0)),IFERROR(INDEX('Prev & Ctrl'!$G$5:$G$50,MATCH($C149,'Prev & Ctrl'!$A$5:$A$50,0)),IFERROR(INDEX('Lab dx'!$G$5:$G$50,MATCH($C149,'Lab dx'!$A$5:$A$50,0)),IFERROR(INDEX('Dog popn'!$G$5:$G$50,MATCH($C149,'Dog popn'!$A$5:$A$50,0)),IFERROR(INDEX(IEC!$G$5:$G$50,MATCH($C149,IEC!$A$5:$A$50,0)),IFERROR(INDEX('Cross-cutting issues'!$G$5:$G$50,MATCH($C149,'Cross-cutting issues'!$A$5:$A$50,0)),IFERROR(INDEX(Legislation!$G$5:$G$50,MATCH($C149,Legislation!$A$5:$A$50,0)),\"\")))))))","v":""},null,null,null,null,null,null,null,null,null,null,null,null,null,null,null,"","",""]
[149,null,"---",null,null,null,null,null,null,{"$f":"IFERROR(INDEX('Data coll & an'!$F$5:$F$50,MATCH($C150,'Data coll & an'!$A$5:$A$50,0)),IFERROR(INDEX('Prev & Ctrl'!$F$5:$F$50,MATCH($C150,'Prev & Ctrl'!$A$5:$A$50,0)),IFERROR(INDEX('Lab dx'!$F$5:$F$50,MATCH($C150,'Lab dx'!$A$5:$A$50,0)),IFERROR(INDEX('Dog popn'!$F$5:$F$50,MATCH($C150,'Dog popn'!$A$5:$A$50,0)),IFERROR(INDEX(IEC!$F$5:$F$50,MATCH($C150,IEC!$A$5:$A$50,0)),IFERROR(INDEX('Cross-cutting issues'!$F$5:$F$50,MATCH($C150,'Cross-cutting issues'!$A$5:$A$50,0)),IFERROR(INDEX(Legislation!$F$5:$F$50,MATCH($C150,Legislation!$A$5:$A$50,0)),\"\")))))))","v":""},{"$f":"IFERROR(INDEX('Data coll & an'!$G$5:$G$50,MATCH($C150,'Data coll & an'!$A$5:$A$50,0)),IFERROR(INDEX('Prev & Ctrl'!$G$5:$G$50,MATCH($C150,'Prev & Ctrl'!$A$5:$A$50,0)),IFERROR(INDEX('Lab dx'!$G$5:$G$50,MATCH($C150,'Lab dx'!$A$5:$A$50,0)),IFERROR(INDEX('Dog popn'!$G$5:$G$50,MATCH($C150,'Dog popn'!$A$5:$A$50,0)),IFERROR(INDEX(IEC!$G$5:$G$50,MATCH($C150,IEC!$A$5:$A$50,0)),IFERROR(INDEX('Cross-cutting issues'!$G$5:$G$50,MATCH($C150,'Cross-cutting issues'!$A$5:$A$50,0)),IFERROR(INDEX(Legislation!$G$5:$G$50,MATCH($C150,Legislation!$A$5:$A$50,0)),\"\")))))))","v":""},null,null,null,null,null,null,null,null,null,null,null,null,null,null,null,"","",""]
[150,null,"---",null,null,null,null,null,null,{"$f":"IFERROR(INDEX('Data coll & an'!$F$5:$F$50,MATCH($C151,'Data coll & an'!$A$5:$A$50,0)),IFERROR(INDEX('Prev & Ctrl'!$F$5:$F$50,MATCH($C151,'Prev & Ctrl'!$A$5:$A$50,0)),IFERROR(INDEX('Lab dx'!$F$5:$F$50,MATCH($C151,'Lab dx'!$A$5:$A$50,0)),IFERROR(INDEX('Dog popn'!$F$5:$F$50,MATCH($C151,'Dog popn'!$A$5:$A$50,0)),IFERROR(INDEX(IEC!$F$5:$F$50,MATCH($C151,IEC!$A$5:$A$50,0)),IFERROR(INDEX('Cross-cutting issues'!$F$5:$F$50,MATCH($C151,'Cross-cutting issues'!$A$5:$A$50,0)),IFERROR(INDEX(Legislation!$F$5:$F$50,MATCH($C151,Legislation!$A$5:$A$50,0)),\"\")))))))","v":""},{"$f":"IFERROR(INDEX('Data coll & an'!$G$5:$G$50,MATCH($C151,'Data coll & an'!$A$5:$A$50,0)),IFERROR(INDEX('Prev & Ctrl'!$G$5:$G$50,MATCH($C151,'Prev & Ctrl'!$A$5:$A$50,0)),IFERROR(INDEX('Lab dx'!$G$5:$G$50,MATCH($C151,'Lab dx'!$A$5:$A$50,0)),IFERROR(INDEX('Dog popn'!$G$5:$G$50,MATCH($C151,'Dog popn'!$A$5:$A$50,0)),IFERROR(INDEX(IEC!$G$5:$G$50,MATCH($C151,IEC!$A$5:$A$50,0)),IFERROR(INDEX('Cross-cutting issues'!$G$5:$G$50,MATCH($C151,'Cross-cutting issues'!$A$5:$A$50,0)),IFERROR(INDEX(Legislation!$G$5:$G$50,MATCH($C151,Legislation!$A$5:$A$50,0)),\"\")))))))","v":""},null,null,null,null,null,null,null,null,null,null,null,null,null,null,null,"","",""]
[151,null,"---",null,null,null,null,null,null,{"$f":"IFERROR(INDEX('Data coll & an'!$F$5:$F$50,MATCH($C152,'Data coll & an'!$A$5:$A$50,0)),IFERROR(INDEX('Prev & Ctrl'!$F$5:$F$50,MATCH($C152,'Prev & Ctrl'!$A$5:$A$50,0)),IFERROR(INDEX('Lab dx'!$F$5:$F$50,MATCH($C152,'Lab dx'!$A$5:$A$50,0)),IFERROR(INDEX('Dog popn'!$F$5:$F$50,MATCH($C152,'Dog popn'!$A$5:$A$50,0)),IFERROR(INDEX(IEC!$F$5:$F$50,MATCH($C152,IEC!$A$5:$A$50,0)),IFERROR(INDEX('Cross-cutting issues'!$F$5:$F$50,MATCH($C152,'Cross-cutting issues'!$A$5:$A$50,0)),IFERROR(INDEX(Legislation!$F$5:$F$50,MATCH($C152,Legislation!$A$5:$A$50,0)),\"\")))))))","v":""},{"$f":"IFERROR(INDEX('Data coll & an'!$G$5:$G$50,MATCH($C152,'Data coll & an'!$A$5:$A$50,0)),IFERROR(INDEX('Prev & Ctrl'!$G$5:$G$50,MATCH($C152,'Prev & Ctrl'!$A$5:$A$50,0)),IFERROR(INDEX('Lab dx'!$G$5:$G$50,MATCH($C152,'Lab dx'!$A$5:$A$50,0)),IFERROR(INDEX('Dog popn'!$G$5:$G$50,MATCH($C152,'Dog popn'!$A$5:$A$50,0)),IFERROR(INDEX(IEC!$G$5:$G$50,MATCH($C152,IEC!$A$5:$A$50,0)),IFERROR(INDEX('Cross-cutting issues'!$G$5:$G$50,MATCH($C152,'Cross-cutting issues'!$A$5:$A$50,0)),IFERROR(INDEX(Legislation!$G$5:$G$50,MATCH($C152,Legislation!$A$5:$A$50,0)),\"\")))))))","v":""},null,null,null,null,null,null,null,null,null,null,null,null,null,null,null,"","",""]
[152,null,"---",null,null,null,null,null,null,{"$f":"IFERROR(INDEX('Data coll & an'!$F$5:$F$50,MATCH($C153,'Data coll & an'!$A$5:$A$50,0)),IFERROR(INDEX('Prev & Ctrl'!$F$5:$F$50,MATCH($C153,'Prev & Ctrl'!$A$5:$A$50,0)),IFERROR(INDEX('Lab dx'!$F$5:$F$50,MATCH($C153,'Lab dx'!$A$5:$A$50,0)),IFERROR(INDEX('Dog popn'!$F$5:$F$50,MATCH($C153,'Dog popn'!$A$5:$A$50,0)),IFERROR(INDEX(IEC!$F$5:$F$50,MATCH($C153,IEC!$A$5:$A$50,0)),IFERROR(INDEX('Cross-cutting issues'!$F$5:$F$50,MATCH($C153,'Cross-cutting issues'!$A$5:$A$50,0)),IFERROR(INDEX(Legislation!$F$5:$F$50,MATCH($C153,Legislation!$A$5:$A$50,0)),\"\")))))))","v":""},{"$f":"IFERROR(INDEX('Data coll & an'!$G$5:$G$50,MATCH($C153,'Data coll & an'!$A$5:$A$50,0)),IFERROR(INDEX('Prev & Ctrl'!$G$5:$G$50,MATCH($C153,'Prev & Ctrl'!$A$5:$A$50,0)),IFERROR(INDEX('Lab dx'!$G$5:$G$50,MATCH($C153,'Lab dx'!$A$5:$A$50,0)),IFERROR(INDEX('Dog popn'!$G$5:$G$50,MATCH($C153,'Dog popn'!$A$5:$A$50,0)),IFERROR(INDEX(IEC!$G$5:$G$50,MATCH($C153,IEC!$A$5:$A$50,0)),IFERROR(INDEX('Cross-cutting issues'!$G$5:$G$50,MATCH($C153,'Cross-cutting issues'!$A$5:$A$50,0)),IFERROR(INDEX(Legislation!$G$5:$G$50,MATCH($C153,Legislation!$A$5:$A$50,0)),\"\")))))))","v":""},null,null,null,null,null,null,null,null,null,null,null,null,null,null,null,"","",""]
[153,null,"---",null,null,null,null,null,null,{"$f":"IFERROR(INDEX('Data coll & an'!$F$5:$F$50,MATCH($C154,'Data coll & an'!$A$5:$A$50,0)),IFERROR(INDEX('Prev & Ctrl'!$F$5:$F$50,MATCH($C154,'Prev & Ctrl'!$A$5:$A$50,0)),IFERROR(INDEX('Lab dx'!$F$5:$F$50,MATCH($C154,'Lab dx'!$A$5:$A$50,0)),IFERROR(INDEX('Dog popn'!$F$5:$F$50,MATCH($C154,'Dog popn'!$A$5:$A$50,0)),IFERROR(INDEX(IEC!$F$5:$F$50,MATCH($C154,IEC!$A$5:$A$50,0)),IFERROR(INDEX('Cross-cutting issues'!$F$5:$F$50,MATCH($C154,'Cross-cutting issues'!$A$5:$A$50,0)),IFERROR(INDEX(Legislation!$F$5:$F$50,MATCH($C154,Legislation!$A$5:$A$50,0)),\"\")))))))","v":""},{"$f":"IFERROR(INDEX('Data coll & an'!$G$5:$G$50,MATCH($C154,'Data coll & an'!$A$5:$A$50,0)),IFERROR(INDEX('Prev & Ctrl'!$G$5:$G$50,MATCH($C154,'Prev & Ctrl'!$A$5:$A$50,0)),IFERROR(INDEX('Lab dx'!$G$5:$G$50,MATCH($C154,'Lab dx'!$A$5:$A$50,0)),IFERROR(INDEX('Dog popn'!$G$5:$G$50,MATCH($C154,'Dog popn'!$A$5:$A$50,0)),IFERROR(INDEX(IEC!$G$5:$G$50,MATCH($C154,IEC!$A$5:$A$50,0)),IFERROR(INDEX('Cross-cutting issues'!$G$5:$G$50,MATCH($C154,'Cross-cutting issues'!$A$5:$A$50,0)),IFERROR(INDEX(Legislation!$G$5:$G$50,MATCH($C154,Legislation!$A$5:$A$50,0)),\"\")))))))","v":""},null,null,null,null,null,null,null,null,null,null,null,null,null,null,null,"","",""]
[154,null,"---",null,null,null,null,null,null,{"$f":"IFERROR(INDEX('Data coll & an'!$F$5:$F$50,MATCH($C155,'Data coll & an'!$A$5:$A$50,0)),IFERROR(INDEX('Prev & Ctrl'!$F$5:$F$50,MATCH($C155,'Prev & Ctrl'!$A$5:$A$50,0)),IFERROR(INDEX('Lab dx'!$F$5:$F$50,MATCH($C155,'Lab dx'!$A$5:$A$50,0)),IFERROR(INDEX('Dog popn'!$F$5:$F$50,MATCH($C155,'Dog popn'!$A$5:$A$50,0)),IFERROR(INDEX(IEC!$F$5:$F$50,MATCH($C155,IEC!$A$5:$A$50,0)),IFERROR(INDEX('Cross-cutting issues'!$F$5:$F$50,MATCH($C155,'Cross-cutting issues'!$A$5:$A$50,0)),IFERROR(INDEX(Legislation!$F$5:$F$50,MATCH($C155,Legislation!$A$5:$A$50,0)),\"\")))))))","v":""},{"$f":"IFERROR(INDEX('Data coll & an'!$G$5:$G$50,MATCH($C155,'Data coll & an'!$A$5:$A$50,0)),IFERROR(INDEX('Prev & Ctrl'!$G$5:$G$50,MATCH($C155,'Prev & Ctrl'!$A$5:$A$50,0)),IFERROR(INDEX('Lab dx'!$G$5:$G$50,MATCH($C155,'Lab dx'!$A$5:$A$50,0)),IFERROR(INDEX('Dog popn'!$G$5:$G$50,MATCH($C155,'Dog popn'!$A$5:$A$50,0)),IFERROR(INDEX(IEC!$G$5:$G$50,MATCH($C155,IEC!$A$5:$A$50,0)),IFERROR(INDEX('Cross-cutting issues'!$G$5:$G$50,MATCH($C155,'Cross-cutting issues'!$A$5:$A$50,0)),IFERROR(INDEX(Legislation!$G$5:$G$50,MATCH($C155,Legislation!$A$5:$A$50,0)),\"\")))))))","v":""},null,null,null,null,null,null,null,null,null,null,null,null,null,null,null,"","",""]
[155,null,"---",null,null,null,null,null,null,{"$f":"IFERROR(INDEX('Data coll & an'!$F$5:$F$50,MATCH($C156,'Data coll & an'!$A$5:$A$50,0)),IFERROR(INDEX('Prev & Ctrl'!$F$5:$F$50,MATCH($C156,'Prev & Ctrl'!$A$5:$A$50,0)),IFERROR(INDEX('Lab dx'!$F$5:$F$50,MATCH($C156,'Lab dx'!$A$5:$A$50,0)),IFERROR(INDEX('Dog popn'!$F$5:$F$50,MATCH($C156,'Dog popn'!$A$5:$A$50,0)),IFERROR(INDEX(IEC!$F$5:$F$50,MATCH($C156,IEC!$A$5:$A$50,0)),IFERROR(INDEX('Cross-cutting issues'!$F$5:$F$50,MATCH($C156,'Cross-cutting issues'!$A$5:$A$50,0)),IFERROR(INDEX(Legislation!$F$5:$F$50,MATCH($C156,Legislation!$A$5:$A$50,0)),\"\")))))))","v":""},{"$f":"IFERROR(INDEX('Data coll & an'!$G$5:$G$50,MATCH($C156,'Data coll & an'!$A$5:$A$50,0)),IFERROR(INDEX('Prev & Ctrl'!$G$5:$G$50,MATCH($C156,'Prev & Ctrl'!$A$5:$A$50,0)),IFERROR(INDEX('Lab dx'!$G$5:$G$50,MATCH($C156,'Lab dx'!$A$5:$A$50,0)),IFERROR(INDEX('Dog popn'!$G$5:$G$50,MATCH($C156,'Dog popn'!$A$5:$A$50,0)),IFERROR(INDEX(IEC!$G$5:$G$50,MATCH($C156,IEC!$A$5:$A$50,0)),IFERROR(INDEX('Cross-cutting issues'!$G$5:$G$50,MATCH($C156,'Cross-cutting issues'!$A$5:$A$50,0)),IFERROR(INDEX(Legislation!$G$5:$G$50,MATCH($C156,Legislation!$A$5:$A$50,0)),\"\")))))))","v":""},null,null,null,null,null,null,null,null,null,null,null,null,null,null,null,"","",""]
[156,null,"---",null,null,null,null,null,null,{"$f":"IFERROR(INDEX('Data coll & an'!$F$5:$F$50,MATCH($C157,'Data coll & an'!$A$5:$A$50,0)),IFERROR(INDEX('Prev & Ctrl'!$F$5:$F$50,MATCH($C157,'Prev & Ctrl'!$A$5:$A$50,0)),IFERROR(INDEX('Lab dx'!$F$5:$F$50,MATCH($C157,'Lab dx'!$A$5:$A$50,0)),IFERROR(INDEX('Dog popn'!$F$5:$F$50,MATCH($C157,'Dog popn'!$A$5:$A$50,0)),IFERROR(INDEX(IEC!$F$5:$F$50,MATCH($C157,IEC!$A$5:$A$50,0)),IFERROR(INDEX('Cross-cutting issues'!$F$5:$F$50,MATCH($C157,'Cross-cutting issues'!$A$5:$A$50,0)),IFERROR(INDEX(Legislation!$F$5:$F$50,MATCH($C157,Legislation!$A$5:$A$50,0)),\"\")))))))","v":""},{"$f":"IFERROR(INDEX('Data coll & an'!$G$5:$G$50,MATCH($C157,'Data coll & an'!$A$5:$A$50,0)),IFERROR(INDEX('Prev & Ctrl'!$G$5:$G$50,MATCH($C157,'Prev & Ctrl'!$A$5:$A$50,0)),IFERROR(INDEX('Lab dx'!$G$5:$G$50,MATCH($C157,'Lab dx'!$A$5:$A$50,0)),IFERROR(INDEX('Dog popn'!$G$5:$G$50,MATCH($C157,'Dog popn'!$A$5:$A$50,0)),IFERROR(INDEX(IEC!$G$5:$G$50,MATCH($C157,IEC!$A$5:$A$50,0)),IFERROR(INDEX('Cross-cutting issues'!$G$5:$G$50,MATCH($C157,'Cross-cutting issues'!$A$5:$A$50,0)),IFERROR(INDEX(Legislation!$G$5:$G$50,MATCH($C157,Legislation!$A$5:$A$50,0)),\"\")))))))","v":""},null,null,null,null,null,null,null,null,null,null,null,null,null,null,null,"","",""]
[157,null,"---",null,null,null,null,null,null,{"$f":"IFERROR(INDEX('Data coll & an'!$F$5:$F$50,MATCH($C158,'Data coll & an'!$A$5:$A$50,0)),IFERROR(INDEX('Prev & Ctrl'!$F$5:$F$50,MATCH($C158,'Prev & Ctrl'!$A$5:$A$50,0)),IFERROR(INDEX('Lab dx'!$F$5:$F$50,MATCH($C158,'Lab dx'!$A$5:$A$50,0)),IFERROR(INDEX('Dog popn'!$F$5:$F$50,MATCH($C158,'Dog popn'!$A$5:$A$50,0)),IFERROR(INDEX(IEC!$F$5:$F$50,MATCH($C158,IEC!$A$5:$A$50,0)),IFERROR(INDEX('Cross-cutting issues'!$F$5:$F$50,MATCH($C158,'Cross-cutting issues'!$A$5:$A$50,0)),IFERROR(INDEX(Legislation!$F$5:$F$50,MATCH($C158,Legislation!$A$5:$A$50,0)),\"\")))))))","v":""},{"$f":"IFERROR(INDEX('Data coll & an'!$G$5:$G$50,MATCH($C158,'Data coll & an'!$A$5:$A$50,0)),IFERROR(INDEX('Prev & Ctrl'!$G$5:$G$50,MATCH($C158,'Prev & Ctrl'!$A$5:$A$50,0)),IFERROR(INDEX('Lab dx'!$G$5:$G$50,MATCH($C158,'Lab dx'!$A$5:$A$50,0)),IFERROR(INDEX('Dog popn'!$G$5:$G$50,MATCH($C158,'Dog popn'!$A$5:$A$50,0)),IFERROR(INDEX(IEC!$G$5:$G$50,MATCH($C158,IEC!$A$5:$A$50,0)),IFERROR(INDEX('Cross-cutting issues'!$G$5:$G$50,MATCH($C158,'Cross-cutting issues'!$A$5:$A$50,0)),IFERROR(INDEX(Legislation!$G$5:$G$50,MATCH($C158,Legislation!$A$5:$A$50,0)),\"\")))))))","v":""},null,null,null,null,null,null,null,null,null,null,null,null,null,null,null,"","",""]
[158,null,"---",null,null,null,null,null,null,{"$f":"IFERROR(INDEX('Data coll & an'!$F$5:$F$50,MATCH($C159,'Data coll & an'!$A$5:$A$50,0)),IFERROR(INDEX('Prev & Ctrl'!$F$5:$F$50,MATCH($C159,'Prev & Ctrl'!$A$5:$A$50,0)),IFERROR(INDEX('Lab dx'!$F$5:$F$50,MATCH($C159,'Lab dx'!$A$5:$A$50,0)),IFERROR(INDEX('Dog popn'!$F$5:$F$50,MATCH($C159,'Dog popn'!$A$5:$A$50,0)),IFERROR(INDEX(IEC!$F$5:$F$50,MATCH($C159,IEC!$A$5:$A$50,0)),IFERROR(INDEX('Cross-cutting issues'!$F$5:$F$50,MATCH($C159,'Cross-cutting issues'!$A$5:$A$50,0)),IFERROR(INDEX(Legislation!$F$5:$F$50,MATCH($C159,Legislation!$A$5:$A$50,0)),\"\")))))))","v":""},{"$f":"IFERROR(INDEX('Data coll & an'!$G$5:$G$50,MATCH($C159,'Data coll & an'!$A$5:$A$50,0)),IFERROR(INDEX('Prev & Ctrl'!$G$5:$G$50,MATCH($C159,'Prev & Ctrl'!$A$5:$A$50,0)),IFERROR(INDEX('Lab dx'!$G$5:$G$50,MATCH($C159,'Lab dx'!$A$5:$A$50,0)),IFERROR(INDEX('Dog popn'!$G$5:$G$50,MATCH($C159,'Dog popn'!$A$5:$A$50,0)),IFERROR(INDEX(IEC!$G$5:$G$50,MATCH($C159,IEC!$A$5:$A$50,0)),IFERROR(INDEX('Cross-cutting issues'!$G$5:$G$50,MATCH($C159,'Cross-cutting issues'!$A$5:$A$50,0)),IFERROR(INDEX(Legislation!$G$5:$G$50,MATCH($C159,Legislation!$A$5:$A$50,0)),\"\")))))))","v":""},null,null,null,null,null,null,null,null,null,null,null,null,null,null,null,"","",""]
[159,null,"---",null,null,null,null,null,null,{"$f":"IFERROR(INDEX('Data coll & an'!$F$5:$F$50,MATCH($C160,'Data coll & an'!$A$5:$A$50,0)),IFERROR(INDEX('Prev & Ctrl'!$F$5:$F$50,MATCH($C160,'Prev & Ctrl'!$A$5:$A$50,0)),IFERROR(INDEX('Lab dx'!$F$5:$F$50,MATCH($C160,'Lab dx'!$A$5:$A$50,0)),IFERROR(INDEX('Dog popn'!$F$5:$F$50,MATCH($C160,'Dog popn'!$A$5:$A$50,0)),IFERROR(INDEX(IEC!$F$5:$F$50,MATCH($C160,IEC!$A$5:$A$50,0)),IFERROR(INDEX('Cross-cutting issues'!$F$5:$F$50,MATCH($C160,'Cross-cutting issues'!$A$5:$A$50,0)),IFERROR(INDEX(Legislation!$F$5:$F$50,MATCH($C160,Legislation!$A$5:$A$50,0)),\"\")))))))","v":""},{"$f":"IFERROR(INDEX('Data coll & an'!$G$5:$G$50,MATCH($C160,'Data coll & an'!$A$5:$A$50,0)),IFERROR(INDEX('Prev & Ctrl'!$G$5:$G$50,MATCH($C160,'Prev & Ctrl'!$A$5:$A$50,0)),IFERROR(INDEX('Lab dx'!$G$5:$G$50,MATCH($C160,'Lab dx'!$A$5:$A$50,0)),IFERROR(INDEX('Dog popn'!$G$5:$G$50,MATCH($C160,'Dog popn'!$A$5:$A$50,0)),IFERROR(INDEX(IEC!$G$5:$G$50,MATCH($C160,IEC!$A$5:$A$50,0)),IFERROR(INDEX('Cross-cutting issues'!$G$5:$G$50,MATCH($C160,'Cross-cutting issues'!$A$5:$A$50,0)),IFERROR(INDEX(Legislation!$G$5:$G$50,MATCH($C160,Legislation!$A$5:$A$50,0)),\"\")))))))","v":""},null,null,null,null,null,null,null,null,null,null,null,null,null,null,null,"","",""]
[160,null,"---",null,null,null,null,null,null,{"$f":"IFERROR(INDEX('Data coll & an'!$F$5:$F$50,MATCH($C161,'Data coll & an'!$A$5:$A$50,0)),IFERROR(INDEX('Prev & Ctrl'!$F$5:$F$50,MATCH($C161,'Prev & Ctrl'!$A$5:$A$50,0)),IFERROR(INDEX('Lab dx'!$F$5:$F$50,MATCH($C161,'Lab dx'!$A$5:$A$50,0)),IFERROR(INDEX('Dog popn'!$F$5:$F$50,MATCH($C161,'Dog popn'!$A$5:$A$50,0)),IFERROR(INDEX(IEC!$F$5:$F$50,MATCH($C161,IEC!$A$5:$A$50,0)),IFERROR(INDEX('Cross-cutting issues'!$F$5:$F$50,MATCH($C161,'Cross-cutting issues'!$A$5:$A$50,0)),IFERROR(INDEX(Legislation!$F$5:$F$50,MATCH($C161,Legislation!$A$5:$A$50,0)),\"\")))))))","v":""},{"$f":"IFERROR(INDEX('Data coll & an'!$G$5:$G$50,MATCH($C161,'Data coll & an'!$A$5:$A$50,0)),IFERROR(INDEX('Prev & Ctrl'!$G$5:$G$50,MATCH($C161,'Prev & Ctrl'!$A$5:$A$50,0)),IFERROR(INDEX('Lab dx'!$G$5:$G$50,MATCH($C161,'Lab dx'!$A$5:$A$50,0)),IFERROR(INDEX('Dog popn'!$G$5:$G$50,MATCH($C161,'Dog popn'!$A$5:$A$50,0)),IFERROR(INDEX(IEC!$G$5:$G$50,MATCH($C161,IEC!$A$5:$A$50,0)),IFERROR(INDEX('Cross-cutting issues'!$G$5:$G$50,MATCH($C161,'Cross-cutting issues'!$A$5:$A$50,0)),IFERROR(INDEX(Legislation!$G$5:$G$50,MATCH($C161,Legislation!$A$5:$A$50,0)),\"\")))))))","v":""},null,null,null,null,null,null,null,null,null,null,null,null,null,null,null,"","",""]
[161,null,{"$f":"B162&\"-\"&LEFT(D162,3)&\"-\"&E162&\"-\"&F162","v":"---"},null,null,null,null,null,null,{"$f":"IFERROR(INDEX('Data coll & an'!$F$5:$F$50,MATCH($C162,'Data coll & an'!$A$5:$A$50,0)),IFERROR(INDEX('Prev & Ctrl'!$F$5:$F$50,MATCH($C162,'Prev & Ctrl'!$A$5:$A$50,0)),IFERROR(INDEX('Lab dx'!$F$5:$F$50,MATCH($C162,'Lab dx'!$A$5:$A$50,0)),IFERROR(INDEX('Dog popn'!$F$5:$F$50,MATCH($C162,'Dog popn'!$A$5:$A$50,0)),IFERROR(INDEX(IEC!$F$5:$F$50,MATCH($C162,IEC!$A$5:$A$50,0)),IFERROR(INDEX('Cross-cutting issues'!$F$5:$F$50,MATCH($C162,'Cross-cutting issues'!$A$5:$A$50,0)),IFERROR(INDEX(Legislation!$F$5:$F$50,MATCH($C162,Legislation!$A$5:$A$50,0)),\"\")))))))","v":""},{"$f":"IFERROR(INDEX('Data coll & an'!$G$5:$G$50,MATCH($C162,'Data coll & an'!$A$5:$A$50,0)),IFERROR(INDEX('Prev & Ctrl'!$G$5:$G$50,MATCH($C162,'Prev & Ctrl'!$A$5:$A$50,0)),IFERROR(INDEX('Lab dx'!$G$5:$G$50,MATCH($C162,'Lab dx'!$A$5:$A$50,0)),IFERROR(INDEX('Dog popn'!$G$5:$G$50,MATCH($C162,'Dog popn'!$A$5:$A$50,0)),IFERROR(INDEX(IEC!$G$5:$G$50,MATCH($C162,IEC!$A$5:$A$50,0)),IFERROR(INDEX('Cross-cutting issues'!$G$5:$G$50,MATCH($C162,'Cross-cutting issues'!$A$5:$A$50,0)),IFERROR(INDEX(Legislation!$G$5:$G$50,MATCH($C162,Legislation!$A$5:$A$50,0)),\"\")))))))","v":""},null,null,null,null,null,null,null,null,null,null,null,null,null,null,null,"","",""]
[162,null,"---",null,null,null,null,null,null,{"$f":"IFERROR(INDEX('Data coll & an'!$F$5:$F$50,MATCH($C163,'Data coll & an'!$A$5:$A$50,0)),IFERROR(INDEX('Prev & Ctrl'!$F$5:$F$50,MATCH($C163,'Prev & Ctrl'!$A$5:$A$50,0)),IFERROR(INDEX('Lab dx'!$F$5:$F$50,MATCH($C163,'Lab dx'!$A$5:$A$50,0)),IFERROR(INDEX('Dog popn'!$F$5:$F$50,MATCH($C163,'Dog popn'!$A$5:$A$50,0)),IFERROR(INDEX(IEC!$F$5:$F$50,MATCH($C163,IEC!$A$5:$A$50,0)),IFERROR(INDEX('Cross-cutting issues'!$F$5:$F$50,MATCH($C163,'Cross-cutting issues'!$A$5:$A$50,0)),IFERROR(INDEX(Legislation!$F$5:$F$50,MATCH($C163,Legislation!$A$5:$A$50,0)),\"\")))))))","v":""},{"$f":"IFERROR(INDEX('Data coll & an'!$G$5:$G$50,MATCH($C163,'Data coll & an'!$A$5:$A$50,0)),IFERROR(INDEX('Prev & Ctrl'!$G$5:$G$50,MATCH($C163,'Prev & Ctrl'!$A$5:$A$50,0)),IFERROR(INDEX('Lab dx'!$G$5:$G$50,MATCH($C163,'Lab dx'!$A$5:$A$50,0)),IFERROR(INDEX('Dog popn'!$G$5:$G$50,MATCH($C163,'Dog popn'!$A$5:$A$50,0)),IFERROR(INDEX(IEC!$G$5:$G$50,MATCH($C163,IEC!$A$5:$A$50,0)),IFERROR(INDEX('Cross-cutting issues'!$G$5:$G$50,MATCH($C163,'Cross-cutting issues'!$A$5:$A$50,0)),IFERROR(INDEX(Legislation!$G$5:$G$50,MATCH($C163,Legislation!$A$5:$A$50,0)),\"\")))))))","v":""},null,null,null,null,null,null,null,null,null,null,null,null,null,null,null,"","",""]
[163,null,"---",null,null,null,null,null,null,{"$f":"IFERROR(INDEX('Data coll & an'!$F$5:$F$50,MATCH($C164,'Data coll & an'!$A$5:$A$50,0)),IFERROR(INDEX('Prev & Ctrl'!$F$5:$F$50,MATCH($C164,'Prev & Ctrl'!$A$5:$A$50,0)),IFERROR(INDEX('Lab dx'!$F$5:$F$50,MATCH($C164,'Lab dx'!$A$5:$A$50,0)),IFERROR(INDEX('Dog popn'!$F$5:$F$50,MATCH($C164,'Dog popn'!$A$5:$A$50,0)),IFERROR(INDEX(IEC!$F$5:$F$50,MATCH($C164,IEC!$A$5:$A$50,0)),IFERROR(INDEX('Cross-cutting issues'!$F$5:$F$50,MATCH($C164,'Cross-cutting issues'!$A$5:$A$50,0)),IFERROR(INDEX(Legislation!$F$5:$F$50,MATCH($C164,Legislation!$A$5:$A$50,0)),\"\")))))))","v":""},{"$f":"IFERROR(INDEX('Data coll & an'!$G$5:$G$50,MATCH($C164,'Data coll & an'!$A$5:$A$50,0)),IFERROR(INDEX('Prev & Ctrl'!$G$5:$G$50,MATCH($C164,'Prev & Ctrl'!$A$5:$A$50,0)),IFERROR(INDEX('Lab dx'!$G$5:$G$50,MATCH($C164,'Lab dx'!$A$5:$A$50,0)),IFERROR(INDEX('Dog popn'!$G$5:$G$50,MATCH($C164,'Dog popn'!$A$5:$A$50,0)),IFERROR(INDEX(IEC!$G$5:$G$50,MATCH($C164,IEC!$A$5:$A$50,0)),IFERROR(INDEX('Cross-cutting issues'!$G$5:$G$50,MATCH($C164,'Cross-cutting issues'!$A$5:$A$50,0)),IFERROR(INDEX(Legislation!$G$5:$G$50,MATCH($C164,Legislation!$A$5:$A$50,0)),\"\")))))))","v":""},null,null,null,null,null,null,null,null,null,null,null,null,null,null,null,"","",""]
[164,null,"---",null,null,null,null,null,null,{"$f":"IFERROR(INDEX('Data coll & an'!$F$5:$F$50,MATCH($C165,'Data coll & an'!$A$5:$A$50,0)),IFERROR(INDEX('Prev & Ctrl'!$F$5:$F$50,MATCH($C165,'Prev & Ctrl'!$A$5:$A$50,0)),IFERROR(INDEX('Lab dx'!$F$5:$F$50,MATCH($C165,'Lab dx'!$A$5:$A$50,0)),IFERROR(INDEX('Dog popn'!$F$5:$F$50,MATCH($C165,'Dog popn'!$A$5:$A$50,0)),IFERROR(INDEX(IEC!$F$5:$F$50,MATCH($C165,IEC!$A$5:$A$50,0)),IFERROR(INDEX('Cross-cutting issues'!$F$5:$F$50,MATCH($C165,'Cross-cutting issues'!$A$5:$A$50,0)),IFERROR(INDEX(Legislation!$F$5:$F$50,MATCH($C165,Legislation!$A$5:$A$50,0)),\"\")))))))","v":""},{"$f":"IFERROR(INDEX('Data coll & an'!$G$5:$G$50,MATCH($C165,'Data coll & an'!$A$5:$A$50,0)),IFERROR(INDEX('Prev & Ctrl'!$G$5:$G$50,MATCH($C165,'Prev & Ctrl'!$A$5:$A$50,0)),IFERROR(INDEX('Lab dx'!$G$5:$G$50,MATCH($C165,'Lab dx'!$A$5:$A$50,0)),IFERROR(INDEX('Dog popn'!$G$5:$G$50,MATCH($C165,'Dog popn'!$A$5:$A$50,0)),IFERROR(INDEX(IEC!$G$5:$G$50,MATCH($C165,IEC!$A$5:$A$50,0)),IFERROR(INDEX('Cross-cutting issues'!$G$5:$G$50,MATCH($C165,'Cross-cutting issues'!$A$5:$A$50,0)),IFERROR(INDEX(Legislation!$G$5:$G$50,MATCH($C165,Legislation!$A$5:$A$50,0)),\"\")))))))","v":""},null,null,null,null,null,null,null,null,null,null,null,null,null,null,null,"","",""]
[165,null,"---",null,null,null,null,null,null,{"$f":"IFERROR(INDEX('Data coll & an'!$F$5:$F$50,MATCH($C166,'Data coll & an'!$A$5:$A$50,0)),IFERROR(INDEX('Prev & Ctrl'!$F$5:$F$50,MATCH($C166,'Prev & Ctrl'!$A$5:$A$50,0)),IFERROR(INDEX('Lab dx'!$F$5:$F$50,MATCH($C166,'Lab dx'!$A$5:$A$50,0)),IFERROR(INDEX('Dog popn'!$F$5:$F$50,MATCH($C166,'Dog popn'!$A$5:$A$50,0)),IFERROR(INDEX(IEC!$F$5:$F$50,MATCH($C166,IEC!$A$5:$A$50,0)),IFERROR(INDEX('Cross-cutting issues'!$F$5:$F$50,MATCH($C166,'Cross-cutting issues'!$A$5:$A$50,0)),IFERROR(INDEX(Legislation!$F$5:$F$50,MATCH($C166,Legislation!$A$5:$A$50,0)),\"\")))))))","v":""},{"$f":"IFERROR(INDEX('Data coll & an'!$G$5:$G$50,MATCH($C166,'Data coll & an'!$A$5:$A$50,0)),IFERROR(INDEX('Prev & Ctrl'!$G$5:$G$50,MATCH($C166,'Prev & Ctrl'!$A$5:$A$50,0)),IFERROR(INDEX('Lab dx'!$G$5:$G$50,MATCH($C166,'Lab dx'!$A$5:$A$50,0)),IFERROR(INDEX('Dog popn'!$G$5:$G$50,MATCH($C166,'Dog popn'!$A$5:$A$50,0)),IFERROR(INDEX(IEC!$G$5:$G$50,MATCH($C166,IEC!$A$5:$A$50,0)),IFERROR(INDEX('Cross-cutting issues'!$G$5:$G$50,MATCH($C166,'Cross-cutting issues'!$A$5:$A$50,0)),IFERROR(INDEX(Legislation!$G$5:$G$50,MATCH($C166,Legislation!$A$5:$A$50,0)),\"\")))))))","v":""},null,null,null,null,null,null,null,null,null,null,null,null,null,null,null,"","",""]
[166,null,"---",null,null,null,null,null,null,{"$f":"IFERROR(INDEX('Data coll & an'!$F$5:$F$50,MATCH($C167,'Data coll & an'!$A$5:$A$50,0)),IFERROR(INDEX('Prev & Ctrl'!$F$5:$F$50,MATCH($C167,'Prev & Ctrl'!$A$5:$A$50,0)),IFERROR(INDEX('Lab dx'!$F$5:$F$50,MATCH($C167,'Lab dx'!$A$5:$A$50,0)),IFERROR(INDEX('Dog popn'!$F$5:$F$50,MATCH($C167,'Dog popn'!$A$5:$A$50,0)),IFERROR(INDEX(IEC!$F$5:$F$50,MATCH($C167,IEC!$A$5:$A$50,0)),IFERROR(INDEX('Cross-cutting issues'!$F$5:$F$50,MATCH($C167,'Cross-cutting issues'!$A$5:$A$50,0)),IFERROR(INDEX(Legislation!$F$5:$F$50,MATCH($C167,Legislation!$A$5:$A$50,0)),\"\")))))))","v":""},{"$f":"IFERROR(INDEX('Data coll & an'!$G$5:$G$50,MATCH($C167,'Data coll & an'!$A$5:$A$50,0)),IFERROR(INDEX('Prev & Ctrl'!$G$5:$G$50,MATCH($C167,'Prev & Ctrl'!$A$5:$A$50,0)),IFERROR(INDEX('Lab dx'!$G$5:$G$50,MATCH($C167,'Lab dx'!$A$5:$A$50,0)),IFERROR(INDEX('Dog popn'!$G$5:$G$50,MATCH($C167,'Dog popn'!$A$5:$A$50,0)),IFERROR(INDEX(IEC!$G$5:$G$50,MATCH($C167,IEC!$A$5:$A$50,0)),IFERROR(INDEX('Cross-cutting issues'!$G$5:$G$50,MATCH($C167,'Cross-cutting issues'!$A$5:$A$50,0)),IFERROR(INDEX(Legislation!$G$5:$G$50,MATCH($C167,Legislation!$A$5:$A$50,0)),\"\")))))))","v":""},null,null,null,null,null,null,null,null,null,null,null,null,null,null,null,"","",""]
[167,null,"---",null,null,null,null,null,null,{"$f":"IFERROR(INDEX('Data coll & an'!$F$5:$F$50,MATCH($C168,'Data coll & an'!$A$5:$A$50,0)),IFERROR(INDEX('Prev & Ctrl'!$F$5:$F$50,MATCH($C168,'Prev & Ctrl'!$A$5:$A$50,0)),IFERROR(INDEX('Lab dx'!$F$5:$F$50,MATCH($C168,'Lab dx'!$A$5:$A$50,0)),IFERROR(INDEX('Dog popn'!$F$5:$F$50,MATCH($C168,'Dog popn'!$A$5:$A$50,0)),IFERROR(INDEX(IEC!$F$5:$F$50,MATCH($C168,IEC!$A$5:$A$50,0)),IFERROR(INDEX('Cross-cutting issues'!$F$5:$F$50,MATCH($C168,'Cross-cutting issues'!$A$5:$A$50,0)),IFERROR(INDEX(Legislation!$F$5:$F$50,MATCH($C168,Legislation!$A$5:$A$50,0)),\"\")))))))","v":""},{"$f":"IFERROR(INDEX('Data coll & an'!$G$5:$G$50,MATCH($C168,'Data coll & an'!$A$5:$A$50,0)),IFERROR(INDEX('Prev & Ctrl'!$G$5:$G$50,MATCH($C168,'Prev & Ctrl'!$A$5:$A$50,0)),IFERROR(INDEX('Lab dx'!$G$5:$G$50,MATCH($C168,'Lab dx'!$A$5:$A$50,0)),IFERROR(INDEX('Dog popn'!$G$5:$G$50,MATCH($C168,'Dog popn'!$A$5:$A$50,0)),IFERROR(INDEX(IEC!$G$5:$G$50,MATCH($C168,IEC!$A$5:$A$50,0)),IFERROR(INDEX('Cross-cutting issues'!$G$5:$G$50,MATCH($C168,'Cross-cutting issues'!$A$5:$A$50,0)),IFERROR(INDEX(Legislation!$G$5:$G$50,MATCH($C168,Legislation!$A$5:$A$50,0)),\"\")))))))","v":""},null,null,null,null,null,null,null,null,null,null,null,null,null,null,null,"","",""]
[168,null,"---",null,null,null,null,null,null,{"$f":"IFERROR(INDEX('Data coll & an'!$F$5:$F$50,MATCH($C169,'Data coll & an'!$A$5:$A$50,0)),IFERROR(INDEX('Prev & Ctrl'!$F$5:$F$50,MATCH($C169,'Prev & Ctrl'!$A$5:$A$50,0)),IFERROR(INDEX('Lab dx'!$F$5:$F$50,MATCH($C169,'Lab dx'!$A$5:$A$50,0)),IFERROR(INDEX('Dog popn'!$F$5:$F$50,MATCH($C169,'Dog popn'!$A$5:$A$50,0)),IFERROR(INDEX(IEC!$F$5:$F$50,MATCH($C169,IEC!$A$5:$A$50,0)),IFERROR(INDEX('Cross-cutting issues'!$F$5:$F$50,MATCH($C169,'Cross-cutting issues'!$A$5:$A$50,0)),IFERROR(INDEX(Legislation!$F$5:$F$50,MATCH($C169,Legislation!$A$5:$A$50,0)),\"\")))))))","v":""},{"$f":"IFERROR(INDEX('Data coll & an'!$G$5:$G$50,MATCH($C169,'Data coll & an'!$A$5:$A$50,0)),IFERROR(INDEX('Prev & Ctrl'!$G$5:$G$50,MATCH($C169,'Prev & Ctrl'!$A$5:$A$50,0)),IFERROR(INDEX('Lab dx'!$G$5:$G$50,MATCH($C169,'Lab dx'!$A$5:$A$50,0)),IFERROR(INDEX('Dog popn'!$G$5:$G$50,MATCH($C169,'Dog popn'!$A$5:$A$50,0)),IFERROR(INDEX(IEC!$G$5:$G$50,MATCH($C169,IEC!$A$5:$A$50,0)),IFERROR(INDEX('Cross-cutting issues'!$G$5:$G$50,MATCH($C169,'Cross-cutting issues'!$A$5:$A$50,0)),IFERROR(INDEX(Legislation!$G$5:$G$50,MATCH($C169,Legislation!$A$5:$A$50,0)),\"\")))))))","v":""},null,null,null,null,null,null,null,null,null,null,null,null,null,null,null,"","",""]
[169,null,"---",null,null,null,null,null,null,{"$f":"IFERROR(INDEX('Data coll & an'!$F$5:$F$50,MATCH($C170,'Data coll & an'!$A$5:$A$50,0)),IFERROR(INDEX('Prev & Ctrl'!$F$5:$F$50,MATCH($C170,'Prev & Ctrl'!$A$5:$A$50,0)),IFERROR(INDEX('Lab dx'!$F$5:$F$50,MATCH($C170,'Lab dx'!$A$5:$A$50,0)),IFERROR(INDEX('Dog popn'!$F$5:$F$50,MATCH($C170,'Dog popn'!$A$5:$A$50,0)),IFERROR(INDEX(IEC!$F$5:$F$50,MATCH($C170,IEC!$A$5:$A$50,0)),IFERROR(INDEX('Cross-cutting issues'!$F$5:$F$50,MATCH($C170,'Cross-cutting issues'!$A$5:$A$50,0)),IFERROR(INDEX(Legislation!$F$5:$F$50,MATCH($C170,Legislation!$A$5:$A$50,0)),\"\")))))))","v":""},{"$f":"IFERROR(INDEX('Data coll & an'!$G$5:$G$50,MATCH($C170,'Data coll & an'!$A$5:$A$50,0)),IFERROR(INDEX('Prev & Ctrl'!$G$5:$G$50,MATCH($C170,'Prev & Ctrl'!$A$5:$A$50,0)),IFERROR(INDEX('Lab dx'!$G$5:$G$50,MATCH($C170,'Lab dx'!$A$5:$A$50,0)),IFERROR(INDEX('Dog popn'!$G$5:$G$50,MATCH($C170,'Dog popn'!$A$5:$A$50,0)),IFERROR(INDEX(IEC!$G$5:$G$50,MATCH($C170,IEC!$A$5:$A$50,0)),IFERROR(INDEX('Cross-cutting issues'!$G$5:$G$50,MATCH($C170,'Cross-cutting issues'!$A$5:$A$50,0)),IFERROR(INDEX(Legislation!$G$5:$G$50,MATCH($C170,Legislation!$A$5:$A$50,0)),\"\")))))))","v":""},null,null,null,null,null,null,null,null,null,null,null,null,null,null,null,"","",""]
[170,null,"---",null,null,null,null,null,null,{"$f":"IFERROR(INDEX('Data coll & an'!$F$5:$F$50,MATCH($C171,'Data coll & an'!$A$5:$A$50,0)),IFERROR(INDEX('Prev & Ctrl'!$F$5:$F$50,MATCH($C171,'Prev & Ctrl'!$A$5:$A$50,0)),IFERROR(INDEX('Lab dx'!$F$5:$F$50,MATCH($C171,'Lab dx'!$A$5:$A$50,0)),IFERROR(INDEX('Dog popn'!$F$5:$F$50,MATCH($C171,'Dog popn'!$A$5:$A$50,0)),IFERROR(INDEX(IEC!$F$5:$F$50,MATCH($C171,IEC!$A$5:$A$50,0)),IFERROR(INDEX('Cross-cutting issues'!$F$5:$F$50,MATCH($C171,'Cross-cutting issues'!$A$5:$A$50,0)),IFERROR(INDEX(Legislation!$F$5:$F$50,MATCH($C171,Legislation!$A$5:$A$50,0)),\"\")))))))","v":""},{"$f":"IFERROR(INDEX('Data coll & an'!$G$5:$G$50,MATCH($C171,'Data coll & an'!$A$5:$A$50,0)),IFERROR(INDEX('Prev & Ctrl'!$G$5:$G$50,MATCH($C171,'Prev & Ctrl'!$A$5:$A$50,0)),IFERROR(INDEX('Lab dx'!$G$5:$G$50,MATCH($C171,'Lab dx'!$A$5:$A$50,0)),IFERROR(INDEX('Dog popn'!$G$5:$G$50,MATCH($C171,'Dog popn'!$A$5:$A$50,0)),IFERROR(INDEX(IEC!$G$5:$G$50,MATCH($C171,IEC!$A$5:$A$50,0)),IFERROR(INDEX('Cross-cutting issues'!$G$5:$G$50,MATCH($C171,'Cross-cutting issues'!$A$5:$A$50,0)),IFERROR(INDEX(Legislation!$G$5:$G$50,MATCH($C171,Legislation!$A$5:$A$50,0)),\"\")))))))","v":""},null,null,null,null,null,null,null,null,null,null,null,null,null,null,null,"","",""]
[171,null,"---",null,null,null,null,null,null,{"$f":"IFERROR(INDEX('Data coll & an'!$F$5:$F$50,MATCH($C172,'Data coll & an'!$A$5:$A$50,0)),IFERROR(INDEX('Prev & Ctrl'!$F$5:$F$50,MATCH($C172,'Prev & Ctrl'!$A$5:$A$50,0)),IFERROR(INDEX('Lab dx'!$F$5:$F$50,MATCH($C172,'Lab dx'!$A$5:$A$50,0)),IFERROR(INDEX('Dog popn'!$F$5:$F$50,MATCH($C172,'Dog popn'!$A$5:$A$50,0)),IFERROR(INDEX(IEC!$F$5:$F$50,MATCH($C172,IEC!$A$5:$A$50,0)),IFERROR(INDEX('Cross-cutting issues'!$F$5:$F$50,MATCH($C172,'Cross-cutting issues'!$A$5:$A$50,0)),IFERROR(INDEX(Legislation!$F$5:$F$50,MATCH($C172,Legislation!$A$5:$A$50,0)),\"\")))))))","v":""},{"$f":"IFERROR(INDEX('Data coll & an'!$G$5:$G$50,MATCH($C172,'Data coll & an'!$A$5:$A$50,0)),IFERROR(INDEX('Prev & Ctrl'!$G$5:$G$50,MATCH($C172,'Prev & Ctrl'!$A$5:$A$50,0)),IFERROR(INDEX('Lab dx'!$G$5:$G$50,MATCH($C172,'Lab dx'!$A$5:$A$50,0)),IFERROR(INDEX('Dog popn'!$G$5:$G$50,MATCH($C172,'Dog popn'!$A$5:$A$50,0)),IFERROR(INDEX(IEC!$G$5:$G$50,MATCH($C172,IEC!$A$5:$A$50,0)),IFERROR(INDEX('Cross-cutting issues'!$G$5:$G$50,MATCH($C172,'Cross-cutting issues'!$A$5:$A$50,0)),IFERROR(INDEX(Legislation!$G$5:$G$50,MATCH($C172,Legislation!$A$5:$A$50,0)),\"\")))))))","v":""},null,null,null,null,null,null,null,null,null,null,null,null,null,null,null,"","",""]
[172,null,"---",null,null,null,null,null,null,{"$f":"IFERROR(INDEX('Data coll & an'!$F$5:$F$50,MATCH($C173,'Data coll & an'!$A$5:$A$50,0)),IFERROR(INDEX('Prev & Ctrl'!$F$5:$F$50,MATCH($C173,'Prev & Ctrl'!$A$5:$A$50,0)),IFERROR(INDEX('Lab dx'!$F$5:$F$50,MATCH($C173,'Lab dx'!$A$5:$A$50,0)),IFERROR(INDEX('Dog popn'!$F$5:$F$50,MATCH($C173,'Dog popn'!$A$5:$A$50,0)),IFERROR(INDEX(IEC!$F$5:$F$50,MATCH($C173,IEC!$A$5:$A$50,0)),IFERROR(INDEX('Cross-cutting issues'!$F$5:$F$50,MATCH($C173,'Cross-cutting issues'!$A$5:$A$50,0)),IFERROR(INDEX(Legislation!$F$5:$F$50,MATCH($C173,Legislation!$A$5:$A$50,0)),\"\")))))))","v":""},{"$f":"IFERROR(INDEX('Data coll & an'!$G$5:$G$50,MATCH($C173,'Data coll & an'!$A$5:$A$50,0)),IFERROR(INDEX('Prev & Ctrl'!$G$5:$G$50,MATCH($C173,'Prev & Ctrl'!$A$5:$A$50,0)),IFERROR(INDEX('Lab dx'!$G$5:$G$50,MATCH($C173,'Lab dx'!$A$5:$A$50,0)),IFERROR(INDEX('Dog popn'!$G$5:$G$50,MATCH($C173,'Dog popn'!$A$5:$A$50,0)),IFERROR(INDEX(IEC!$G$5:$G$50,MATCH($C173,IEC!$A$5:$A$50,0)),IFERROR(INDEX('Cross-cutting issues'!$G$5:$G$50,MATCH($C173,'Cross-cutting issues'!$A$5:$A$50,0)),IFERROR(INDEX(Legislation!$G$5:$G$50,MATCH($C173,Legislation!$A$5:$A$50,0)),\"\")))))))","v":""},null,null,null,null,null,null,null,null,null,null,null,null,null,null,null,"","",""]
[173,null,"---",null,null,null,null,null,null,{"$f":"IFERROR(INDEX('Data coll & an'!$F$5:$F$50,MATCH($C174,'Data coll & an'!$A$5:$A$50,0)),IFERROR(INDEX('Prev & Ctrl'!$F$5:$F$50,MATCH($C174,'Prev & Ctrl'!$A$5:$A$50,0)),IFERROR(INDEX('Lab dx'!$F$5:$F$50,MATCH($C174,'Lab dx'!$A$5:$A$50,0)),IFERROR(INDEX('Dog popn'!$F$5:$F$50,MATCH($C174,'Dog popn'!$A$5:$A$50,0)),IFERROR(INDEX(IEC!$F$5:$F$50,MATCH($C174,IEC!$A$5:$A$50,0)),IFERROR(INDEX('Cross-cutting issues'!$F$5:$F$50,MATCH($C174,'Cross-cutting issues'!$A$5:$A$50,0)),IFERROR(INDEX(Legislation!$F$5:$F$50,MATCH($C174,Legislation!$A$5:$A$50,0)),\"\")))))))","v":""},{"$f":"IFERROR(INDEX('Data coll & an'!$G$5:$G$50,MATCH($C174,'Data coll & an'!$A$5:$A$50,0)),IFERROR(INDEX('Prev & Ctrl'!$G$5:$G$50,MATCH($C174,'Prev & Ctrl'!$A$5:$A$50,0)),IFERROR(INDEX('Lab dx'!$G$5:$G$50,MATCH($C174,'Lab dx'!$A$5:$A$50,0)),IFERROR(INDEX('Dog popn'!$G$5:$G$50,MATCH($C174,'Dog popn'!$A$5:$A$50,0)),IFERROR(INDEX(IEC!$G$5:$G$50,MATCH($C174,IEC!$A$5:$A$50,0)),IFERROR(INDEX('Cross-cutting issues'!$G$5:$G$50,MATCH($C174,'Cross-cutting issues'!$A$5:$A$50,0)),IFERROR(INDEX(Legislation!$G$5:$G$50,MATCH($C174,Legislation!$A$5:$A$50,0)),\"\")))))))","v":""},null,null,null,null,null,null,null,null,null,null,null,null,null,null,null,"","",""]
[174,null,"---",null,null,null,null,null,null,{"$f":"IFERROR(INDEX('Data coll & an'!$F$5:$F$50,MATCH($C175,'Data coll & an'!$A$5:$A$50,0)),IFERROR(INDEX('Prev & Ctrl'!$F$5:$F$50,MATCH($C175,'Prev & Ctrl'!$A$5:$A$50,0)),IFERROR(INDEX('Lab dx'!$F$5:$F$50,MATCH($C175,'Lab dx'!$A$5:$A$50,0)),IFERROR(INDEX('Dog popn'!$F$5:$F$50,MATCH($C175,'Dog popn'!$A$5:$A$50,0)),IFERROR(INDEX(IEC!$F$5:$F$50,MATCH($C175,IEC!$A$5:$A$50,0)),IFERROR(INDEX('Cross-cutting issues'!$F$5:$F$50,MATCH($C175,'Cross-cutting issues'!$A$5:$A$50,0)),IFERROR(INDEX(Legislation!$F$5:$F$50,MATCH($C175,Legislation!$A$5:$A$50,0)),\"\")))))))","v":""},{"$f":"IFERROR(INDEX('Data coll & an'!$G$5:$G$50,MATCH($C175,'Data coll & an'!$A$5:$A$50,0)),IFERROR(INDEX('Prev & Ctrl'!$G$5:$G$50,MATCH($C175,'Prev & Ctrl'!$A$5:$A$50,0)),IFERROR(INDEX('Lab dx'!$G$5:$G$50,MATCH($C175,'Lab dx'!$A$5:$A$50,0)),IFERROR(INDEX('Dog popn'!$G$5:$G$50,MATCH($C175,'Dog popn'!$A$5:$A$50,0)),IFERROR(INDEX(IEC!$G$5:$G$50,MATCH($C175,IEC!$A$5:$A$50,0)),IFERROR(INDEX('Cross-cutting issues'!$G$5:$G$50,MATCH($C175,'Cross-cutting issues'!$A$5:$A$50,0)),IFERROR(INDEX(Legislation!$G$5:$G$50,MATCH($C175,Legislation!$A$5:$A$50,0)),\"\")))))))","v":""},null,null,null,null,null,null,null,null,null,null,null,null,null,null,null,"","",""]
[175,null,"---",null,null,null,null,null,null,{"$f":"IFERROR(INDEX('Data coll & an'!$F$5:$F$50,MATCH($C176,'Data coll & an'!$A$5:$A$50,0)),IFERROR(INDEX('Prev & Ctrl'!$F$5:$F$50,MATCH($C176,'Prev & Ctrl'!$A$5:$A$50,0)),IFERROR(INDEX('Lab dx'!$F$5:$F$50,MATCH($C176,'Lab dx'!$A$5:$A$50,0)),IFERROR(INDEX('Dog popn'!$F$5:$F$50,MATCH($C176,'Dog popn'!$A$5:$A$50,0)),IFERROR(INDEX(IEC!$F$5:$F$50,MATCH($C176,IEC!$A$5:$A$50,0)),IFERROR(INDEX('Cross-cutting issues'!$F$5:$F$50,MATCH($C176,'Cross-cutting issues'!$A$5:$A$50,0)),IFERROR(INDEX(Legislation!$F$5:$F$50,MATCH($C176,Legislation!$A$5:$A$50,0)),\"\")))))))","v":""},{"$f":"IFERROR(INDEX('Data coll & an'!$G$5:$G$50,MATCH($C176,'Data coll & an'!$A$5:$A$50,0)),IFERROR(INDEX('Prev & Ctrl'!$G$5:$G$50,MATCH($C176,'Prev & Ctrl'!$A$5:$A$50,0)),IFERROR(INDEX('Lab dx'!$G$5:$G$50,MATCH($C176,'Lab dx'!$A$5:$A$50,0)),IFERROR(INDEX('Dog popn'!$G$5:$G$50,MATCH($C176,'Dog popn'!$A$5:$A$50,0)),IFERROR(INDEX(IEC!$G$5:$G$50,MATCH($C176,IEC!$A$5:$A$50,0)),IFERROR(INDEX('Cross-cutting issues'!$G$5:$G$50,MATCH($C176,'Cross-cutting issues'!$A$5:$A$50,0)),IFERROR(INDEX(Legislation!$G$5:$G$50,MATCH($C176,Legislation!$A$5:$A$50,0)),\"\")))))))","v":""},null,null,null,null,null,null,null,null,null,null,null,null,null,null,null,"","",""]
[176,null,"---",null,null,null,null,null,null,{"$f":"IFERROR(INDEX('Data coll & an'!$F$5:$F$50,MATCH($C177,'Data coll & an'!$A$5:$A$50,0)),IFERROR(INDEX('Prev & Ctrl'!$F$5:$F$50,MATCH($C177,'Prev & Ctrl'!$A$5:$A$50,0)),IFERROR(INDEX('Lab dx'!$F$5:$F$50,MATCH($C177,'Lab dx'!$A$5:$A$50,0)),IFERROR(INDEX('Dog popn'!$F$5:$F$50,MATCH($C177,'Dog popn'!$A$5:$A$50,0)),IFERROR(INDEX(IEC!$F$5:$F$50,MATCH($C177,IEC!$A$5:$A$50,0)),IFERROR(INDEX('Cross-cutting issues'!$F$5:$F$50,MATCH($C177,'Cross-cutting issues'!$A$5:$A$50,0)),IFERROR(INDEX(Legislation!$F$5:$F$50,MATCH($C177,Legislation!$A$5:$A$50,0)),\"\")))))))","v":""},{"$f":"IFERROR(INDEX('Data coll & an'!$G$5:$G$50,MATCH($C177,'Data coll & an'!$A$5:$A$50,0)),IFERROR(INDEX('Prev & Ctrl'!$G$5:$G$50,MATCH($C177,'Prev & Ctrl'!$A$5:$A$50,0)),IFERROR(INDEX('Lab dx'!$G$5:$G$50,MATCH($C177,'Lab dx'!$A$5:$A$50,0)),IFERROR(INDEX('Dog popn'!$G$5:$G$50,MATCH($C177,'Dog popn'!$A$5:$A$50,0)),IFERROR(INDEX(IEC!$G$5:$G$50,MATCH($C177,IEC!$A$5:$A$50,0)),IFERROR(INDEX('Cross-cutting issues'!$G$5:$G$50,MATCH($C177,'Cross-cutting issues'!$A$5:$A$50,0)),IFERROR(INDEX(Legislation!$G$5:$G$50,MATCH($C177,Legislation!$A$5:$A$50,0)),\"\")))))))","v":""},null,null,null,null,null,null,null,null,null,null,null,null,null,null,null,"","",""]
[177,null,"---",null,null,null,null,null,null,{"$f":"IFERROR(INDEX('Data coll & an'!$F$5:$F$50,MATCH($C178,'Data coll & an'!$A$5:$A$50,0)),IFERROR(INDEX('Prev & Ctrl'!$F$5:$F$50,MATCH($C178,'Prev & Ctrl'!$A$5:$A$50,0)),IFERROR(INDEX('Lab dx'!$F$5:$F$50,MATCH($C178,'Lab dx'!$A$5:$A$50,0)),IFERROR(INDEX('Dog popn'!$F$5:$F$50,MATCH($C178,'Dog popn'!$A$5:$A$50,0)),IFERROR(INDEX(IEC!$F$5:$F$50,MATCH($C178,IEC!$A$5:$A$50,0)),IFERROR(INDEX('Cross-cutting issues'!$F$5:$F$50,MATCH($C178,'Cross-cutting issues'!$A$5:$A$50,0)),IFERROR(INDEX(Legislation!$F$5:$F$50,MATCH($C178,Legislation!$A$5:$A$50,0)),\"\")))))))","v":""},{"$f":"IFERROR(INDEX('Data coll & an'!$G$5:$G$50,MATCH($C178,'Data coll & an'!$A$5:$A$50,0)),IFERROR(INDEX('Prev & Ctrl'!$G$5:$G$50,MATCH($C178,'Prev & Ctrl'!$A$5:$A$50,0)),IFERROR(INDEX('Lab dx'!$G$5:$G$50,MATCH($C178,'Lab dx'!$A$5:$A$50,0)),IFERROR(INDEX('Dog popn'!$G$5:$G$50,MATCH($C178,'Dog popn'!$A$5:$A$50,0)),IFERROR(INDEX(IEC!$G$5:$G$50,MATCH($C178,IEC!$A$5:$A$50,0)),IFERROR(INDEX('Cross-cutting issues'!$G$5:$G$50,MATCH($C178,'Cross-cutting issues'!$A$5:$A$50,0)),IFERROR(INDEX(Legislation!$G$5:$G$50,MATCH($C178,Legislation!$A$5:$A$50,0)),\"\")))))))","v":""},null,null,null,null,null,null,null,null,null,null,null,null,null,null,null,"","",""]
[178,null,"---",null,null,null,null,null,null,{"$f":"IFERROR(INDEX('Data coll & an'!$F$5:$F$50,MATCH($C179,'Data coll & an'!$A$5:$A$50,0)),IFERROR(INDEX('Prev & Ctrl'!$F$5:$F$50,MATCH($C179,'Prev & Ctrl'!$A$5:$A$50,0)),IFERROR(INDEX('Lab dx'!$F$5:$F$50,MATCH($C179,'Lab dx'!$A$5:$A$50,0)),IFERROR(INDEX('Dog popn'!$F$5:$F$50,MATCH($C179,'Dog popn'!$A$5:$A$50,0)),IFERROR(INDEX(IEC!$F$5:$F$50,MATCH($C179,IEC!$A$5:$A$50,0)),IFERROR(INDEX('Cross-cutting issues'!$F$5:$F$50,MATCH($C179,'Cross-cutting issues'!$A$5:$A$50,0)),IFERROR(INDEX(Legislation!$F$5:$F$50,MATCH($C179,Legislation!$A$5:$A$50,0)),\"\")))))))","v":""},{"$f":"IFERROR(INDEX('Data coll & an'!$G$5:$G$50,MATCH($C179,'Data coll & an'!$A$5:$A$50,0)),IFERROR(INDEX('Prev & Ctrl'!$G$5:$G$50,MATCH($C179,'Prev & Ctrl'!$A$5:$A$50,0)),IFERROR(INDEX('Lab dx'!$G$5:$G$50,MATCH($C179,'Lab dx'!$A$5:$A$50,0)),IFERROR(INDEX('Dog popn'!$G$5:$G$50,MATCH($C179,'Dog popn'!$A$5:$A$50,0)),IFERROR(INDEX(IEC!$G$5:$G$50,MATCH($C179,IEC!$A$5:$A$50,0)),IFERROR(INDEX('Cross-cutting issues'!$G$5:$G$50,MATCH($C179,'Cross-cutting issues'!$A$5:$A$50,0)),IFERROR(INDEX(Legislation!$G$5:$G$50,MATCH($C179,Legislation!$A$5:$A$50,0)),\"\")))))))","v":""},null,null,null,null,null,null,null,null,null,null,null,null,null,null,null,"","",""]
[179,null,"---",null,null,null,null,null,null,{"$f":"IFERROR(INDEX('Data coll & an'!$F$5:$F$50,MATCH($C180,'Data coll & an'!$A$5:$A$50,0)),IFERROR(INDEX('Prev & Ctrl'!$F$5:$F$50,MATCH($C180,'Prev & Ctrl'!$A$5:$A$50,0)),IFERROR(INDEX('Lab dx'!$F$5:$F$50,MATCH($C180,'Lab dx'!$A$5:$A$50,0)),IFERROR(INDEX('Dog popn'!$F$5:$F$50,MATCH($C180,'Dog popn'!$A$5:$A$50,0)),IFERROR(INDEX(IEC!$F$5:$F$50,MATCH($C180,IEC!$A$5:$A$50,0)),IFERROR(INDEX('Cross-cutting issues'!$F$5:$F$50,MATCH($C180,'Cross-cutting issues'!$A$5:$A$50,0)),IFERROR(INDEX(Legislation!$F$5:$F$50,MATCH($C180,Legislation!$A$5:$A$50,0)),\"\")))))))","v":""},{"$f":"IFERROR(INDEX('Data coll & an'!$G$5:$G$50,MATCH($C180,'Data coll & an'!$A$5:$A$50,0)),IFERROR(INDEX('Prev & Ctrl'!$G$5:$G$50,MATCH($C180,'Prev & Ctrl'!$A$5:$A$50,0)),IFERROR(INDEX('Lab dx'!$G$5:$G$50,MATCH($C180,'Lab dx'!$A$5:$A$50,0)),IFERROR(INDEX('Dog popn'!$G$5:$G$50,MATCH($C180,'Dog popn'!$A$5:$A$50,0)),IFERROR(INDEX(IEC!$G$5:$G$50,MATCH($C180,IEC!$A$5:$A$50,0)),IFERROR(INDEX('Cross-cutting issues'!$G$5:$G$50,MATCH($C180,'Cross-cutting issues'!$A$5:$A$50,0)),IFERROR(INDEX(Legislation!$G$5:$G$50,MATCH($C180,Legislation!$A$5:$A$50,0)),\"\")))))))","v":""},null,null,null,null,null,null,null,null,null,null,null,null,null,null,null,"","",""]
[180,null,"---",null,null,null,null,null,null,{"$f":"IFERROR(INDEX('Data coll & an'!$F$5:$F$50,MATCH($C181,'Data coll & an'!$A$5:$A$50,0)),IFERROR(INDEX('Prev & Ctrl'!$F$5:$F$50,MATCH($C181,'Prev & Ctrl'!$A$5:$A$50,0)),IFERROR(INDEX('Lab dx'!$F$5:$F$50,MATCH($C181,'Lab dx'!$A$5:$A$50,0)),IFERROR(INDEX('Dog popn'!$F$5:$F$50,MATCH($C181,'Dog popn'!$A$5:$A$50,0)),IFERROR(INDEX(IEC!$F$5:$F$50,MATCH($C181,IEC!$A$5:$A$50,0)),IFERROR(INDEX('Cross-cutting issues'!$F$5:$F$50,MATCH($C181,'Cross-cutting issues'!$A$5:$A$50,0)),IFERROR(INDEX(Legislation!$F$5:$F$50,MATCH($C181,Legislation!$A$5:$A$50,0)),\"\")))))))","v":""},{"$f":"IFERROR(INDEX('Data coll & an'!$G$5:$G$50,MATCH($C181,'Data coll & an'!$A$5:$A$50,0)),IFERROR(INDEX('Prev & Ctrl'!$G$5:$G$50,MATCH($C181,'Prev & Ctrl'!$A$5:$A$50,0)),IFERROR(INDEX('Lab dx'!$G$5:$G$50,MATCH($C181,'Lab dx'!$A$5:$A$50,0)),IFERROR(INDEX('Dog popn'!$G$5:$G$50,MATCH($C181,'Dog popn'!$A$5:$A$50,0)),IFERROR(INDEX(IEC!$G$5:$G$50,MATCH($C181,IEC!$A$5:$A$50,0)),IFERROR(INDEX('Cross-cutting issues'!$G$5:$G$50,MATCH($C181,'Cross-cutting issues'!$A$5:$A$50,0)),IFERROR(INDEX(Legislation!$G$5:$G$50,MATCH($C181,Legislation!$A$5:$A$50,0)),\"\")))))))","v":""},null,null,null,null,null,null,null,null,null,null,null,null,null,null,null,"","",""]
[181,null,"---",null,null,null,null,null,null,{"$f":"IFERROR(INDEX('Data coll & an'!$F$5:$F$50,MATCH($C182,'Data coll & an'!$A$5:$A$50,0)),IFERROR(INDEX('Prev & Ctrl'!$F$5:$F$50,MATCH($C182,'Prev & Ctrl'!$A$5:$A$50,0)),IFERROR(INDEX('Lab dx'!$F$5:$F$50,MATCH($C182,'Lab dx'!$A$5:$A$50,0)),IFERROR(INDEX('Dog popn'!$F$5:$F$50,MATCH($C182,'Dog popn'!$A$5:$A$50,0)),IFERROR(INDEX(IEC!$F$5:$F$50,MATCH($C182,IEC!$A$5:$A$50,0)),IFERROR(INDEX('Cross-cutting issues'!$F$5:$F$50,MATCH($C182,'Cross-cutting issues'!$A$5:$A$50,0)),IFERROR(INDEX(Legislation!$F$5:$F$50,MATCH($C182,Legislation!$A$5:$A$50,0)),\"\")))))))","v":""},{"$f":"IFERROR(INDEX('Data coll & an'!$G$5:$G$50,MATCH($C182,'Data coll & an'!$A$5:$A$50,0)),IFERROR(INDEX('Prev & Ctrl'!$G$5:$G$50,MATCH($C182,'Prev & Ctrl'!$A$5:$A$50,0)),IFERROR(INDEX('Lab dx'!$G$5:$G$50,MATCH($C182,'Lab dx'!$A$5:$A$50,0)),IFERROR(INDEX('Dog popn'!$G$5:$G$50,MATCH($C182,'Dog popn'!$A$5:$A$50,0)),IFERROR(INDEX(IEC!$G$5:$G$50,MATCH($C182,IEC!$A$5:$A$50,0)),IFERROR(INDEX('Cross-cutting issues'!$G$5:$G$50,MATCH($C182,'Cross-cutting issues'!$A$5:$A$50,0)),IFERROR(INDEX(Legislation!$G$5:$G$50,MATCH($C182,Legislation!$A$5:$A$50,0)),\"\")))))))","v":""},null,null,null,null,null,null,null,null,null,null,null,null,null,null,null,"","",""]
[182,null,"---",null,null,null,null,null,null,{"$f":"IFERROR(INDEX('Data coll & an'!$F$5:$F$50,MATCH($C183,'Data coll & an'!$A$5:$A$50,0)),IFERROR(INDEX('Prev & Ctrl'!$F$5:$F$50,MATCH($C183,'Prev & Ctrl'!$A$5:$A$50,0)),IFERROR(INDEX('Lab dx'!$F$5:$F$50,MATCH($C183,'Lab dx'!$A$5:$A$50,0)),IFERROR(INDEX('Dog popn'!$F$5:$F$50,MATCH($C183,'Dog popn'!$A$5:$A$50,0)),IFERROR(INDEX(IEC!$F$5:$F$50,MATCH($C183,IEC!$A$5:$A$50,0)),IFERROR(INDEX('Cross-cutting issues'!$F$5:$F$50,MATCH($C183,'Cross-cutting issues'!$A$5:$A$50,0)),IFERROR(INDEX(Legislation!$F$5:$F$50,MATCH($C183,Legislation!$A$5:$A$50,0)),\"\")))))))","v":""},{"$f":"IFERROR(INDEX('Data coll & an'!$G$5:$G$50,MATCH($C183,'Data coll & an'!$A$5:$A$50,0)),IFERROR(INDEX('Prev & Ctrl'!$G$5:$G$50,MATCH($C183,'Prev & Ctrl'!$A$5:$A$50,0)),IFERROR(INDEX('Lab dx'!$G$5:$G$50,MATCH($C183,'Lab dx'!$A$5:$A$50,0)),IFERROR(INDEX('Dog popn'!$G$5:$G$50,MATCH($C183,'Dog popn'!$A$5:$A$50,0)),IFERROR(INDEX(IEC!$G$5:$G$50,MATCH($C183,IEC!$A$5:$A$50,0)),IFERROR(INDEX('Cross-cutting issues'!$G$5:$G$50,MATCH($C183,'Cross-cutting issues'!$A$5:$A$50,0)),IFERROR(INDEX(Legislation!$G$5:$G$50,MATCH($C183,Legislation!$A$5:$A$50,0)),\"\")))))))","v":""},null,null,null,null,null,null,null,null,null,null,null,null,null,null,null,"","",""]
[183,null,"---",null,null,null,null,null,null,{"$f":"IFERROR(INDEX('Data coll & an'!$F$5:$F$50,MATCH($C184,'Data coll & an'!$A$5:$A$50,0)),IFERROR(INDEX('Prev & Ctrl'!$F$5:$F$50,MATCH($C184,'Prev & Ctrl'!$A$5:$A$50,0)),IFERROR(INDEX('Lab dx'!$F$5:$F$50,MATCH($C184,'Lab dx'!$A$5:$A$50,0)),IFERROR(INDEX('Dog popn'!$F$5:$F$50,MATCH($C184,'Dog popn'!$A$5:$A$50,0)),IFERROR(INDEX(IEC!$F$5:$F$50,MATCH($C184,IEC!$A$5:$A$50,0)),IFERROR(INDEX('Cross-cutting issues'!$F$5:$F$50,MATCH($C184,'Cross-cutting issues'!$A$5:$A$50,0)),IFERROR(INDEX(Legislation!$F$5:$F$50,MATCH($C184,Legislation!$A$5:$A$50,0)),\"\")))))))","v":""},{"$f":"IFERROR(INDEX('Data coll & an'!$G$5:$G$50,MATCH($C184,'Data coll & an'!$A$5:$A$50,0)),IFERROR(INDEX('Prev & Ctrl'!$G$5:$G$50,MATCH($C184,'Prev & Ctrl'!$A$5:$A$50,0)),IFERROR(INDEX('Lab dx'!$G$5:$G$50,MATCH($C184,'Lab dx'!$A$5:$A$50,0)),IFERROR(INDEX('Dog popn'!$G$5:$G$50,MATCH($C184,'Dog popn'!$A$5:$A$50,0)),IFERROR(INDEX(IEC!$G$5:$G$50,MATCH($C184,IEC!$A$5:$A$50,0)),IFERROR(INDEX('Cross-cutting issues'!$G$5:$G$50,MATCH($C184,'Cross-cutting issues'!$A$5:$A$50,0)),IFERROR(INDEX(Legislation!$G$5:$G$50,MATCH($C184,Legislation!$A$5:$A$50,0)),\"\")))))))","v":""},null,null,null,null,null,null,null,null,null,null,null,null,null,null,null,"","",""]
[184,null,"---",null,null,null,null,null,null,{"$f":"IFERROR(INDEX('Data coll & an'!$F$5:$F$50,MATCH($C185,'Data coll & an'!$A$5:$A$50,0)),IFERROR(INDEX('Prev & Ctrl'!$F$5:$F$50,MATCH($C185,'Prev & Ctrl'!$A$5:$A$50,0)),IFERROR(INDEX('Lab dx'!$F$5:$F$50,MATCH($C185,'Lab dx'!$A$5:$A$50,0)),IFERROR(INDEX('Dog popn'!$F$5:$F$50,MATCH($C185,'Dog popn'!$A$5:$A$50,0)),IFERROR(INDEX(IEC!$F$5:$F$50,MATCH($C185,IEC!$A$5:$A$50,0)),IFERROR(INDEX('Cross-cutting issues'!$F$5:$F$50,MATCH($C185,'Cross-cutting issues'!$A$5:$A$50,0)),IFERROR(INDEX(Legislation!$F$5:$F$50,MATCH($C185,Legislation!$A$5:$A$50,0)),\"\")))))))","v":""},{"$f":"IFERROR(INDEX('Data coll & an'!$G$5:$G$50,MATCH($C185,'Data coll & an'!$A$5:$A$50,0)),IFERROR(INDEX('Prev & Ctrl'!$G$5:$G$50,MATCH($C185,'Prev & Ctrl'!$A$5:$A$50,0)),IFERROR(INDEX('Lab dx'!$G$5:$G$50,MATCH($C185,'Lab dx'!$A$5:$A$50,0)),IFERROR(INDEX('Dog popn'!$G$5:$G$50,MATCH($C185,'Dog popn'!$A$5:$A$50,0)),IFERROR(INDEX(IEC!$G$5:$G$50,MATCH($C185,IEC!$A$5:$A$50,0)),IFERROR(INDEX('Cross-cutting issues'!$G$5:$G$50,MATCH($C185,'Cross-cutting issues'!$A$5:$A$50,0)),IFERROR(INDEX(Legislation!$G$5:$G$50,MATCH($C185,Legislation!$A$5:$A$50,0)),\"\")))))))","v":""},null,null,null,null,null,null,null,null,null,null,null,null,null,null,null,"","",""]
[185,null,"---",null,null,null,null,null,null,{"$f":"IFERROR(INDEX('Data coll & an'!$F$5:$F$50,MATCH($C186,'Data coll & an'!$A$5:$A$50,0)),IFERROR(INDEX('Prev & Ctrl'!$F$5:$F$50,MATCH($C186,'Prev & Ctrl'!$A$5:$A$50,0)),IFERROR(INDEX('Lab dx'!$F$5:$F$50,MATCH($C186,'Lab dx'!$A$5:$A$50,0)),IFERROR(INDEX('Dog popn'!$F$5:$F$50,MATCH($C186,'Dog popn'!$A$5:$A$50,0)),IFERROR(INDEX(IEC!$F$5:$F$50,MATCH($C186,IEC!$A$5:$A$50,0)),IFERROR(INDEX('Cross-cutting issues'!$F$5:$F$50,MATCH($C186,'Cross-cutting issues'!$A$5:$A$50,0)),IFERROR(INDEX(Legislation!$F$5:$F$50,MATCH($C186,Legislation!$A$5:$A$50,0)),\"\")))))))","v":""},{"$f":"IFERROR(INDEX('Data coll & an'!$G$5:$G$50,MATCH($C186,'Data coll & an'!$A$5:$A$50,0)),IFERROR(INDEX('Prev & Ctrl'!$G$5:$G$50,MATCH($C186,'Prev & Ctrl'!$A$5:$A$50,0)),IFERROR(INDEX('Lab dx'!$G$5:$G$50,MATCH($C186,'Lab dx'!$A$5:$A$50,0)),IFERROR(INDEX('Dog popn'!$G$5:$G$50,MATCH($C186,'Dog popn'!$A$5:$A$50,0)),IFERROR(INDEX(IEC!$G$5:$G$50,MATCH($C186,IEC!$A$5:$A$50,0)),IFERROR(INDEX('Cross-cutting issues'!$G$5:$G$50,MATCH($C186,'Cross-cutting issues'!$A$5:$A$50,0)),IFERROR(INDEX(Legislation!$G$5:$G$50,MATCH($C186,Legislation!$A$5:$A$50,0)),\"\")))))))","v":""},null,null,null,null,null,null,null,null,null,null,null,null,null,null,null,"","",""]
[186,null,"---",null,null,null,null,null,null,{"$f":"IFERROR(INDEX('Data coll & an'!$F$5:$F$50,MATCH($C187,'Data coll & an'!$A$5:$A$50,0)),IFERROR(INDEX('Prev & Ctrl'!$F$5:$F$50,MATCH($C187,'Prev & Ctrl'!$A$5:$A$50,0)),IFERROR(INDEX('Lab dx'!$F$5:$F$50,MATCH($C187,'Lab dx'!$A$5:$A$50,0)),IFERROR(INDEX('Dog popn'!$F$5:$F$50,MATCH($C187,'Dog popn'!$A$5:$A$50,0)),IFERROR(INDEX(IEC!$F$5:$F$50,MATCH($C187,IEC!$A$5:$A$50,0)),IFERROR(INDEX('Cross-cutting issues'!$F$5:$F$50,MATCH($C187,'Cross-cutting issues'!$A$5:$A$50,0)),IFERROR(INDEX(Legislation!$F$5:$F$50,MATCH($C187,Legislation!$A$5:$A$50,0)),\"\")))))))","v":""},{"$f":"IFERROR(INDEX('Data coll & an'!$G$5:$G$50,MATCH($C187,'Data coll & an'!$A$5:$A$50,0)),IFERROR(INDEX('Prev & Ctrl'!$G$5:$G$50,MATCH($C187,'Prev & Ctrl'!$A$5:$A$50,0)),IFERROR(INDEX('Lab dx'!$G$5:$G$50,MATCH($C187,'Lab dx'!$A$5:$A$50,0)),IFERROR(INDEX('Dog popn'!$G$5:$G$50,MATCH($C187,'Dog popn'!$A$5:$A$50,0)),IFERROR(INDEX(IEC!$G$5:$G$50,MATCH($C187,IEC!$A$5:$A$50,0)),IFERROR(INDEX('Cross-cutting issues'!$G$5:$G$50,MATCH($C187,'Cross-cutting issues'!$A$5:$A$50,0)),IFERROR(INDEX(Legislation!$G$5:$G$50,MATCH($C187,Legislation!$A$5:$A$50,0)),\"\")))))))","v":""},null,null,null,null,null,null,null,null,null,null,null,null,null,null,null,"","",""]
[187,null,"---",null,null,null,null,null,null,{"$f":"IFERROR(INDEX('Data coll & an'!$F$5:$F$50,MATCH($C188,'Data coll & an'!$A$5:$A$50,0)),IFERROR(INDEX('Prev & Ctrl'!$F$5:$F$50,MATCH($C188,'Prev & Ctrl'!$A$5:$A$50,0)),IFERROR(INDEX('Lab dx'!$F$5:$F$50,MATCH($C188,'Lab dx'!$A$5:$A$50,0)),IFERROR(INDEX('Dog popn'!$F$5:$F$50,MATCH($C188,'Dog popn'!$A$5:$A$50,0)),IFERROR(INDEX(IEC!$F$5:$F$50,MATCH($C188,IEC!$A$5:$A$50,0)),IFERROR(INDEX('Cross-cutting issues'!$F$5:$F$50,MATCH($C188,'Cross-cutting issues'!$A$5:$A$50,0)),IFERROR(INDEX(Legislation!$F$5:$F$50,MATCH($C188,Legislation!$A$5:$A$50,0)),\"\")))))))","v":""},{"$f":"IFERROR(INDEX('Data coll & an'!$G$5:$G$50,MATCH($C188,'Data coll & an'!$A$5:$A$50,0)),IFERROR(INDEX('Prev & Ctrl'!$G$5:$G$50,MATCH($C188,'Prev & Ctrl'!$A$5:$A$50,0)),IFERROR(INDEX('Lab dx'!$G$5:$G$50,MATCH($C188,'Lab dx'!$A$5:$A$50,0)),IFERROR(INDEX('Dog popn'!$G$5:$G$50,MATCH($C188,'Dog popn'!$A$5:$A$50,0)),IFERROR(INDEX(IEC!$G$5:$G$50,MATCH($C188,IEC!$A$5:$A$50,0)),IFERROR(INDEX('Cross-cutting issues'!$G$5:$G$50,MATCH($C188,'Cross-cutting issues'!$A$5:$A$50,0)),IFERROR(INDEX(Legislation!$G$5:$G$50,MATCH($C188,Legislation!$A$5:$A$50,0)),\"\")))))))","v":""},null,null,null,null,null,null,null,null,null,null,null,null,null,null,null,"","",""]
[188,null,"---",null,null,null,null,null,null,{"$f":"IFERROR(INDEX('Data coll & an'!$F$5:$F$50,MATCH($C189,'Data coll & an'!$A$5:$A$50,0)),IFERROR(INDEX('Prev & Ctrl'!$F$5:$F$50,MATCH($C189,'Prev & Ctrl'!$A$5:$A$50,0)),IFERROR(INDEX('Lab dx'!$F$5:$F$50,MATCH($C189,'Lab dx'!$A$5:$A$50,0)),IFERROR(INDEX('Dog popn'!$F$5:$F$50,MATCH($C189,'Dog popn'!$A$5:$A$50,0)),IFERROR(INDEX(IEC!$F$5:$F$50,MATCH($C189,IEC!$A$5:$A$50,0)),IFERROR(INDEX('Cross-cutting issues'!$F$5:$F$50,MATCH($C189,'Cross-cutting issues'!$A$5:$A$50,0)),IFERROR(INDEX(Legislation!$F$5:$F$50,MATCH($C189,Legislation!$A$5:$A$50,0)),\"\")))))))","v":""},{"$f":"IFERROR(INDEX('Data coll & an'!$G$5:$G$50,MATCH($C189,'Data coll & an'!$A$5:$A$50,0)),IFERROR(INDEX('Prev & Ctrl'!$G$5:$G$50,MATCH($C189,'Prev & Ctrl'!$A$5:$A$50,0)),IFERROR(INDEX('Lab dx'!$G$5:$G$50,MATCH($C189,'Lab dx'!$A$5:$A$50,0)),IFERROR(INDEX('Dog popn'!$G$5:$G$50,MATCH($C189,'Dog popn'!$A$5:$A$50,0)),IFERROR(INDEX(IEC!$G$5:$G$50,MATCH($C189,IEC!$A$5:$A$50,0)),IFERROR(INDEX('Cross-cutting issues'!$G$5:$G$50,MATCH($C189,'Cross-cutting issues'!$A$5:$A$50,0)),IFERROR(INDEX(Legislation!$G$5:$G$50,MATCH($C189,Legislation!$A$5:$A$50,0)),\"\")))))))","v":""},null,null,null,null,null,null,null,null,null,null,null,null,null,null,null,"","",""]
[189,null,"---",null,null,null,null,null,null,{"$f":"IFERROR(INDEX('Data coll & an'!$F$5:$F$50,MATCH($C190,'Data coll & an'!$A$5:$A$50,0)),IFERROR(INDEX('Prev & Ctrl'!$F$5:$F$50,MATCH($C190,'Prev & Ctrl'!$A$5:$A$50,0)),IFERROR(INDEX('Lab dx'!$F$5:$F$50,MATCH($C190,'Lab dx'!$A$5:$A$50,0)),IFERROR(INDEX('Dog popn'!$F$5:$F$50,MATCH($C190,'Dog popn'!$A$5:$A$50,0)),IFERROR(INDEX(IEC!$F$5:$F$50,MATCH($C190,IEC!$A$5:$A$50,0)),IFERROR(INDEX('Cross-cutting issues'!$F$5:$F$50,MATCH($C190,'Cross-cutting issues'!$A$5:$A$50,0)),IFERROR(INDEX(Legislation!$F$5:$F$50,MATCH($C190,Legislation!$A$5:$A$50,0)),\"\")))))))","v":""},{"$f":"IFERROR(INDEX('Data coll & an'!$G$5:$G$50,MATCH($C190,'Data coll & an'!$A$5:$A$50,0)),IFERROR(INDEX('Prev & Ctrl'!$G$5:$G$50,MATCH($C190,'Prev & Ctrl'!$A$5:$A$50,0)),IFERROR(INDEX('Lab dx'!$G$5:$G$50,MATCH($C190,'Lab dx'!$A$5:$A$50,0)),IFERROR(INDEX('Dog popn'!$G$5:$G$50,MATCH($C190,'Dog popn'!$A$5:$A$50,0)),IFERROR(INDEX(IEC!$G$5:$G$50,MATCH($C190,IEC!$A$5:$A$50,0)),IFERROR(INDEX('Cross-cutting issues'!$G$5:$G$50,MATCH($C190,'Cross-cutting issues'!$A$5:$A$50,0)),IFERROR(INDEX(Legislation!$G$5:$G$50,MATCH($C190,Legislation!$A$5:$A$50,0)),\"\")))))))","v":""},null,null,null,null,null,null,null,null,null,null,null,null,null,null,null,"","",""]
[190,null,"---",null,null,null,null,null,null,{"$f":"IFERROR(INDEX('Data coll & an'!$F$5:$F$50,MATCH($C191,'Data coll & an'!$A$5:$A$50,0)),IFERROR(INDEX('Prev & Ctrl'!$F$5:$F$50,MATCH($C191,'Prev & Ctrl'!$A$5:$A$50,0)),IFERROR(INDEX('Lab dx'!$F$5:$F$50,MATCH($C191,'Lab dx'!$A$5:$A$50,0)),IFERROR(INDEX('Dog popn'!$F$5:$F$50,MATCH($C191,'Dog popn'!$A$5:$A$50,0)),IFERROR(INDEX(IEC!$F$5:$F$50,MATCH($C191,IEC!$A$5:$A$50,0)),IFERROR(INDEX('Cross-cutting issues'!$F$5:$F$50,MATCH($C191,'Cross-cutting issues'!$A$5:$A$50,0)),IFERROR(INDEX(Legislation!$F$5:$F$50,MATCH($C191,Legislation!$A$5:$A$50,0)),\"\")))))))","v":""},{"$f":"IFERROR(INDEX('Data coll & an'!$G$5:$G$50,MATCH($C191,'Data coll & an'!$A$5:$A$50,0)),IFERROR(INDEX('Prev & Ctrl'!$G$5:$G$50,MATCH($C191,'Prev & Ctrl'!$A$5:$A$50,0)),IFERROR(INDEX('Lab dx'!$G$5:$G$50,MATCH($C191,'Lab dx'!$A$5:$A$50,0)),IFERROR(INDEX('Dog popn'!$G$5:$G$50,MATCH($C191,'Dog popn'!$A$5:$A$50,0)),IFERROR(INDEX(IEC!$G$5:$G$50,MATCH($C191,IEC!$A$5:$A$50,0)),IFERROR(INDEX('Cross-cutting issues'!$G$5:$G$50,MATCH($C191,'Cross-cutting issues'!$A$5:$A$50,0)),IFERROR(INDEX(Legislation!$G$5:$G$50,MATCH($C191,Legislation!$A$5:$A$50,0)),\"\")))))))","v":""},null,null,null,null,null,null,null,null,null,null,null,null,null,null,null,"","",""]
[191,null,"---",null,null,null,null,null,null,{"$f":"IFERROR(INDEX('Data coll & an'!$F$5:$F$50,MATCH($C192,'Data coll & an'!$A$5:$A$50,0)),IFERROR(INDEX('Prev & Ctrl'!$F$5:$F$50,MATCH($C192,'Prev & Ctrl'!$A$5:$A$50,0)),IFERROR(INDEX('Lab dx'!$F$5:$F$50,MATCH($C192,'Lab dx'!$A$5:$A$50,0)),IFERROR(INDEX('Dog popn'!$F$5:$F$50,MATCH($C192,'Dog popn'!$A$5:$A$50,0)),IFERROR(INDEX(IEC!$F$5:$F$50,MATCH($C192,IEC!$A$5:$A$50,0)),IFERROR(INDEX('Cross-cutting issues'!$F$5:$F$50,MATCH($C192,'Cross-cutting issues'!$A$5:$A$50,0)),IFERROR(INDEX(Legislation!$F$5:$F$50,MATCH($C192,Legislation!$A$5:$A$50,0)),\"\")))))))","v":""},{"$f":"IFERROR(INDEX('Data coll & an'!$G$5:$G$50,MATCH($C192,'Data coll & an'!$A$5:$A$50,0)),IFERROR(INDEX('Prev & Ctrl'!$G$5:$G$50,MATCH($C192,'Prev & Ctrl'!$A$5:$A$50,0)),IFERROR(INDEX('Lab dx'!$G$5:$G$50,MATCH($C192,'Lab dx'!$A$5:$A$50,0)),IFERROR(INDEX('Dog popn'!$G$5:$G$50,MATCH($C192,'Dog popn'!$A$5:$A$50,0)),IFERROR(INDEX(IEC!$G$5:$G$50,MATCH($C192,IEC!$A$5:$A$50,0)),IFERROR(INDEX('Cross-cutting issues'!$G$5:$G$50,MATCH($C192,'Cross-cutting issues'!$A$5:$A$50,0)),IFERROR(INDEX(Legislation!$G$5:$G$50,MATCH($C192,Legislation!$A$5:$A$50,0)),\"\")))))))","v":""},null,null,null,null,null,null,null,null,null,null,null,null,null,null,null,"","",""]
[192,null,"---",null,null,null,null,null,null,{"$f":"IFERROR(INDEX('Data coll & an'!$F$5:$F$50,MATCH($C193,'Data coll & an'!$A$5:$A$50,0)),IFERROR(INDEX('Prev & Ctrl'!$F$5:$F$50,MATCH($C193,'Prev & Ctrl'!$A$5:$A$50,0)),IFERROR(INDEX('Lab dx'!$F$5:$F$50,MATCH($C193,'Lab dx'!$A$5:$A$50,0)),IFERROR(INDEX('Dog popn'!$F$5:$F$50,MATCH($C193,'Dog popn'!$A$5:$A$50,0)),IFERROR(INDEX(IEC!$F$5:$F$50,MATCH($C193,IEC!$A$5:$A$50,0)),IFERROR(INDEX('Cross-cutting issues'!$F$5:$F$50,MATCH($C193,'Cross-cutting issues'!$A$5:$A$50,0)),IFERROR(INDEX(Legislation!$F$5:$F$50,MATCH($C193,Legislation!$A$5:$A$50,0)),\"\")))))))","v":""},{"$f":"IFERROR(INDEX('Data coll & an'!$G$5:$G$50,MATCH($C193,'Data coll & an'!$A$5:$A$50,0)),IFERROR(INDEX('Prev & Ctrl'!$G$5:$G$50,MATCH($C193,'Prev & Ctrl'!$A$5:$A$50,0)),IFERROR(INDEX('Lab dx'!$G$5:$G$50,MATCH($C193,'Lab dx'!$A$5:$A$50,0)),IFERROR(INDEX('Dog popn'!$G$5:$G$50,MATCH($C193,'Dog popn'!$A$5:$A$50,0)),IFERROR(INDEX(IEC!$G$5:$G$50,MATCH($C193,IEC!$A$5:$A$50,0)),IFERROR(INDEX('Cross-cutting issues'!$G$5:$G$50,MATCH($C193,'Cross-cutting issues'!$A$5:$A$50,0)),IFERROR(INDEX(Legislation!$G$5:$G$50,MATCH($C193,Legislation!$A$5:$A$50,0)),\"\")))))))","v":""},null,null,null,null,null,null,null,null,null,null,null,null,null,null,null,"","",""]
[193,null,{"$f":"B194&\"-\"&LEFT(D194,3)&\"-\"&E194&\"-\"&F194","v":"---"},null,null,null,null,null,null,{"$f":"IFERROR(INDEX('Data coll & an'!$F$5:$F$50,MATCH($C194,'Data coll & an'!$A$5:$A$50,0)),IFERROR(INDEX('Prev & Ctrl'!$F$5:$F$50,MATCH($C194,'Prev & Ctrl'!$A$5:$A$50,0)),IFERROR(INDEX('Lab dx'!$F$5:$F$50,MATCH($C194,'Lab dx'!$A$5:$A$50,0)),IFERROR(INDEX('Dog popn'!$F$5:$F$50,MATCH($C194,'Dog popn'!$A$5:$A$50,0)),IFERROR(INDEX(IEC!$F$5:$F$50,MATCH($C194,IEC!$A$5:$A$50,0)),IFERROR(INDEX('Cross-cutting issues'!$F$5:$F$50,MATCH($C194,'Cross-cutting issues'!$A$5:$A$50,0)),IFERROR(INDEX(Legislation!$F$5:$F$50,MATCH($C194,Legislation!$A$5:$A$50,0)),\"\")))))))","v":""},{"$f":"IFERROR(INDEX('Data coll & an'!$G$5:$G$50,MATCH($C194,'Data coll & an'!$A$5:$A$50,0)),IFERROR(INDEX('Prev & Ctrl'!$G$5:$G$50,MATCH($C194,'Prev & Ctrl'!$A$5:$A$50,0)),IFERROR(INDEX('Lab dx'!$G$5:$G$50,MATCH($C194,'Lab dx'!$A$5:$A$50,0)),IFERROR(INDEX('Dog popn'!$G$5:$G$50,MATCH($C194,'Dog popn'!$A$5:$A$50,0)),IFERROR(INDEX(IEC!$G$5:$G$50,MATCH($C194,IEC!$A$5:$A$50,0)),IFERROR(INDEX('Cross-cutting issues'!$G$5:$G$50,MATCH($C194,'Cross-cutting issues'!$A$5:$A$50,0)),IFERROR(INDEX(Legislation!$G$5:$G$50,MATCH($C194,Legislation!$A$5:$A$50,0)),\"\")))))))","v":""},null,null,null,null,null,null,null,null,null,null,null,null,null,null,null,"","",""]
[194,null,"---",null,null,null,null,null,null,{"$f":"IFERROR(INDEX('Data coll & an'!$F$5:$F$50,MATCH($C195,'Data coll & an'!$A$5:$A$50,0)),IFERROR(INDEX('Prev & Ctrl'!$F$5:$F$50,MATCH($C195,'Prev & Ctrl'!$A$5:$A$50,0)),IFERROR(INDEX('Lab dx'!$F$5:$F$50,MATCH($C195,'Lab dx'!$A$5:$A$50,0)),IFERROR(INDEX('Dog popn'!$F$5:$F$50,MATCH($C195,'Dog popn'!$A$5:$A$50,0)),IFERROR(INDEX(IEC!$F$5:$F$50,MATCH($C195,IEC!$A$5:$A$50,0)),IFERROR(INDEX('Cross-cutting issues'!$F$5:$F$50,MATCH($C195,'Cross-cutting issues'!$A$5:$A$50,0)),IFERROR(INDEX(Legislation!$F$5:$F$50,MATCH($C195,Legislation!$A$5:$A$50,0)),\"\")))))))","v":""},{"$f":"IFERROR(INDEX('Data coll & an'!$G$5:$G$50,MATCH($C195,'Data coll & an'!$A$5:$A$50,0)),IFERROR(INDEX('Prev & Ctrl'!$G$5:$G$50,MATCH($C195,'Prev & Ctrl'!$A$5:$A$50,0)),IFERROR(INDEX('Lab dx'!$G$5:$G$50,MATCH($C195,'Lab dx'!$A$5:$A$50,0)),IFERROR(INDEX('Dog popn'!$G$5:$G$50,MATCH($C195,'Dog popn'!$A$5:$A$50,0)),IFERROR(INDEX(IEC!$G$5:$G$50,MATCH($C195,IEC!$A$5:$A$50,0)),IFERROR(INDEX('Cross-cutting issues'!$G$5:$G$50,MATCH($C195,'Cross-cutting issues'!$A$5:$A$50,0)),IFERROR(INDEX(Legislation!$G$5:$G$50,MATCH($C195,Legislation!$A$5:$A$50,0)),\"\")))))))","v":""},null,null,null,null,null,null,null,null,null,null,null,null,null,null,null,{"$f":"IFERROR(VLOOKUP($C195,INDIRECT(\"DCA!a13:j49\"),6,FALSE),IFERROR(VLOOKUP($C195,INDIRECT(\"pco!a13:j49\"),6,FALSE),IFERROR(VLOOKUP($C195,INDIRECT(\"lab!a13:j49\"),6,FALSE),IFERROR(VLOOKUP($C195,INDIRECT(\"dpm!a13:j49\"),6,FALSE),IFERROR(VLOOKUP($C195,INDIRECT(\"iecnw!a13:j49\"),6,FALSE),IFERROR(VLOOKUP($C195,INDIRECT(\"cci!a13:j49\"),6,FALSE),IFERROR(VLOOKUP($C195,INDIRECT(\"leg!a13:j49\"),6,FALSE),\"\")))))))","v":""},{"$f":"IFERROR(VLOOKUP($C195,INDIRECT(\"DCA!a13:j49\"),8,FALSE),IFERROR(VLOOKUP($C195,INDIRECT(\"pco!a13:j49\"),8,FALSE),IFERROR(VLOOKUP($C195,INDIRECT(\"lab!a13:j49\"),8,FALSE),IFERROR(VLOOKUP($C195,INDIRECT(\"dpm!a13:j49\"),8,FALSE),IFERROR(VLOOKUP($C195,INDIRECT(\"iecnw!a13:j49\"),8,FALSE),IFERROR(VLOOKUP($C195,INDIRECT(\"cci!a13:j49\"),8,FALSE),IFERROR(VLOOKUP($C195,INDIRECT(\"leg!a13:j49\"),8,FALSE),\"\")))))))","v":""},{"$f":"IFERROR(VLOOKUP($C195,INDIRECT(\"DCA!a13:j49\"),9,FALSE),IFERROR(VLOOKUP($C195,INDIRECT(\"pco!a13:j49\"),9,FALSE),IFERROR(VLOOKUP($C195,INDIRECT(\"lab!a13:j49\"),9,FALSE),IFERROR(VLOOKUP($C195,INDIRECT(\"dpm!a13:j49\"),9,FALSE),IFERROR(VLOOKUP($C195,INDIRECT(\"iecnw!a13:j49\"),9,FALSE),IFERROR(VLOOKUP($C195,INDIRECT(\"cci!a13:j49\"),9,FALSE),IFERROR(VLOOKUP($C195,INDIRECT(\"leg!a13:j49\"),9,FALSE),\"\")))))))","v":""}]
[195,null,"---",null,null,null,null,null,null,{"$f":"IFERROR(INDEX('Data coll & an'!$F$5:$F$50,MATCH($C196,'Data coll & an'!$A$5:$A$50,0)),IFERROR(INDEX('Prev & Ctrl'!$F$5:$F$50,MATCH($C196,'Prev & Ctrl'!$A$5:$A$50,0)),IFERROR(INDEX('Lab dx'!$F$5:$F$50,MATCH($C196,'Lab dx'!$A$5:$A$50,0)),IFERROR(INDEX('Dog popn'!$F$5:$F$50,MATCH($C196,'Dog popn'!$A$5:$A$50,0)),IFERROR(INDEX(IEC!$F$5:$F$50,MATCH($C196,IEC!$A$5:$A$50,0)),IFERROR(INDEX('Cross-cutting issues'!$F$5:$F$50,MATCH($C196,'Cross-cutting issues'!$A$5:$A$50,0)),IFERROR(INDEX(Legislation!$F$5:$F$50,MATCH($C196,Legislation!$A$5:$A$50,0)),\"\")))))))","v":""},{"$f":"IFERROR(INDEX('Data coll & an'!$G$5:$G$50,MATCH($C196,'Data coll & an'!$A$5:$A$50,0)),IFERROR(INDEX('Prev & Ctrl'!$G$5:$G$50,MATCH($C196,'Prev & Ctrl'!$A$5:$A$50,0)),IFERROR(INDEX('Lab dx'!$G$5:$G$50,MATCH($C196,'Lab dx'!$A$5:$A$50,0)),IFERROR(INDEX('Dog popn'!$G$5:$G$50,MATCH($C196,'Dog popn'!$A$5:$A$50,0)),IFERROR(INDEX(IEC!$G$5:$G$50,MATCH($C196,IEC!$A$5:$A$50,0)),IFERROR(INDEX('Cross-cutting issues'!$G$5:$G$50,MATCH($C196,'Cross-cutting issues'!$A$5:$A$50,0)),IFERROR(INDEX(Legislation!$G$5:$G$50,MATCH($C196,Legislation!$A$5:$A$50,0)),\"\")))))))","v":""},null,null,null,null,null,null,null,null,null,null,null,null,null,null,null,"","",""]
[196,null,"---",null,null,null,null,null,null,{"$f":"IFERROR(INDEX('Data coll & an'!$F$5:$F$50,MATCH($C197,'Data coll & an'!$A$5:$A$50,0)),IFERROR(INDEX('Prev & Ctrl'!$F$5:$F$50,MATCH($C197,'Prev & Ctrl'!$A$5:$A$50,0)),IFERROR(INDEX('Lab dx'!$F$5:$F$50,MATCH($C197,'Lab dx'!$A$5:$A$50,0)),IFERROR(INDEX('Dog popn'!$F$5:$F$50,MATCH($C197,'Dog popn'!$A$5:$A$50,0)),IFERROR(INDEX(IEC!$F$5:$F$50,MATCH($C197,IEC!$A$5:$A$50,0)),IFERROR(INDEX('Cross-cutting issues'!$F$5:$F$50,MATCH($C197,'Cross-cutting issues'!$A$5:$A$50,0)),IFERROR(INDEX(Legislation!$F$5:$F$50,MATCH($C197,Legislation!$A$5:$A$50,0)),\"\")))))))","v":""},{"$f":"IFERROR(INDEX('Data coll & an'!$G$5:$G$50,MATCH($C197,'Data coll & an'!$A$5:$A$50,0)),IFERROR(INDEX('Prev & Ctrl'!$G$5:$G$50,MATCH($C197,'Prev & Ctrl'!$A$5:$A$50,0)),IFERROR(INDEX('Lab dx'!$G$5:$G$50,MATCH($C197,'Lab dx'!$A$5:$A$50,0)),IFERROR(INDEX('Dog popn'!$G$5:$G$50,MATCH($C197,'Dog popn'!$A$5:$A$50,0)),IFERROR(INDEX(IEC!$G$5:$G$50,MATCH($C197,IEC!$A$5:$A$50,0)),IFERROR(INDEX('Cross-cutting issues'!$G$5:$G$50,MATCH($C197,'Cross-cutting issues'!$A$5:$A$50,0)),IFERROR(INDEX(Legislation!$G$5:$G$50,MATCH($C197,Legislation!$A$5:$A$50,0)),\"\")))))))","v":""},null,null,null,null,null,null,null,null,null,null,null,null,null,null,null,"","",""]
[197,null,"---",null,null,null,null,null,null,{"$f":"IFERROR(INDEX('Data coll & an'!$F$5:$F$50,MATCH($C198,'Data coll & an'!$A$5:$A$50,0)),IFERROR(INDEX('Prev & Ctrl'!$F$5:$F$50,MATCH($C198,'Prev & Ctrl'!$A$5:$A$50,0)),IFERROR(INDEX('Lab dx'!$F$5:$F$50,MATCH($C198,'Lab dx'!$A$5:$A$50,0)),IFERROR(INDEX('Dog popn'!$F$5:$F$50,MATCH($C198,'Dog popn'!$A$5:$A$50,0)),IFERROR(INDEX(IEC!$F$5:$F$50,MATCH($C198,IEC!$A$5:$A$50,0)),IFERROR(INDEX('Cross-cutting issues'!$F$5:$F$50,MATCH($C198,'Cross-cutting issues'!$A$5:$A$50,0)),IFERROR(INDEX(Legislation!$F$5:$F$50,MATCH($C198,Legislation!$A$5:$A$50,0)),\"\")))))))","v":""},{"$f":"IFERROR(INDEX('Data coll & an'!$G$5:$G$50,MATCH($C198,'Data coll & an'!$A$5:$A$50,0)),IFERROR(INDEX('Prev & Ctrl'!$G$5:$G$50,MATCH($C198,'Prev & Ctrl'!$A$5:$A$50,0)),IFERROR(INDEX('Lab dx'!$G$5:$G$50,MATCH($C198,'Lab dx'!$A$5:$A$50,0)),IFERROR(INDEX('Dog popn'!$G$5:$G$50,MATCH($C198,'Dog popn'!$A$5:$A$50,0)),IFERROR(INDEX(IEC!$G$5:$G$50,MATCH($C198,IEC!$A$5:$A$50,0)),IFERROR(INDEX('Cross-cutting issues'!$G$5:$G$50,MATCH($C198,'Cross-cutting issues'!$A$5:$A$50,0)),IFERROR(INDEX(Legislation!$G$5:$G$50,MATCH($C198,Legislation!$A$5:$A$50,0)),\"\")))))))","v":""},null,null,null,null,null,null,null,null,null,null,null,null,null,null,null,"","",""]
[198,null,"---",null,null,null,null,null,null,{"$f":"IFERROR(INDEX('Data coll & an'!$F$5:$F$50,MATCH($C199,'Data coll & an'!$A$5:$A$50,0)),IFERROR(INDEX('Prev & Ctrl'!$F$5:$F$50,MATCH($C199,'Prev & Ctrl'!$A$5:$A$50,0)),IFERROR(INDEX('Lab dx'!$F$5:$F$50,MATCH($C199,'Lab dx'!$A$5:$A$50,0)),IFERROR(INDEX('Dog popn'!$F$5:$F$50,MATCH($C199,'Dog popn'!$A$5:$A$50,0)),IFERROR(INDEX(IEC!$F$5:$F$50,MATCH($C199,IEC!$A$5:$A$50,0)),IFERROR(INDEX('Cross-cutting issues'!$F$5:$F$50,MATCH($C199,'Cross-cutting issues'!$A$5:$A$50,0)),IFERROR(INDEX(Legislation!$F$5:$F$50,MATCH($C199,Legislation!$A$5:$A$50,0)),\"\")))))))","v":""},{"$f":"IFERROR(INDEX('Data coll & an'!$G$5:$G$50,MATCH($C199,'Data coll & an'!$A$5:$A$50,0)),IFERROR(INDEX('Prev & Ctrl'!$G$5:$G$50,MATCH($C199,'Prev & Ctrl'!$A$5:$A$50,0)),IFERROR(INDEX('Lab dx'!$G$5:$G$50,MATCH($C199,'Lab dx'!$A$5:$A$50,0)),IFERROR(INDEX('Dog popn'!$G$5:$G$50,MATCH($C199,'Dog popn'!$A$5:$A$50,0)),IFERROR(INDEX(IEC!$G$5:$G$50,MATCH($C199,IEC!$A$5:$A$50,0)),IFERROR(INDEX('Cross-cutting issues'!$G$5:$G$50,MATCH($C199,'Cross-cutting issues'!$A$5:$A$50,0)),IFERROR(INDEX(Legislation!$G$5:$G$50,MATCH($C199,Legislation!$A$5:$A$50,0)),\"\")))))))","v":""},null,null,null,null,null,null,null,null,null,null,null,null,null,null,null,"","",""]
[199,null,"---",null,null,null,null,null,null,{"$f":"IFERROR(INDEX('Data coll & an'!$F$5:$F$50,MATCH($C200,'Data coll & an'!$A$5:$A$50,0)),IFERROR(INDEX('Prev & Ctrl'!$F$5:$F$50,MATCH($C200,'Prev & Ctrl'!$A$5:$A$50,0)),IFERROR(INDEX('Lab dx'!$F$5:$F$50,MATCH($C200,'Lab dx'!$A$5:$A$50,0)),IFERROR(INDEX('Dog popn'!$F$5:$F$50,MATCH($C200,'Dog popn'!$A$5:$A$50,0)),IFERROR(INDEX(IEC!$F$5:$F$50,MATCH($C200,IEC!$A$5:$A$50,0)),IFERROR(INDEX('Cross-cutting issues'!$F$5:$F$50,MATCH($C200,'Cross-cutting issues'!$A$5:$A$50,0)),IFERROR(INDEX(Legislation!$F$5:$F$50,MATCH($C200,Legislation!$A$5:$A$50,0)),\"\")))))))","v":""},{"$f":"IFERROR(INDEX('Data coll & an'!$G$5:$G$50,MATCH($C200,'Data coll & an'!$A$5:$A$50,0)),IFERROR(INDEX('Prev & Ctrl'!$G$5:$G$50,MATCH($C200,'Prev & Ctrl'!$A$5:$A$50,0)),IFERROR(INDEX('Lab dx'!$G$5:$G$50,MATCH($C200,'Lab dx'!$A$5:$A$50,0)),IFERROR(INDEX('Dog popn'!$G$5:$G$50,MATCH($C200,'Dog popn'!$A$5:$A$50,0)),IFERROR(INDEX(IEC!$G$5:$G$50,MATCH($C200,IEC!$A$5:$A$50,0)),IFERROR(INDEX('Cross-cutting issues'!$G$5:$G$50,MATCH($C200,'Cross-cutting issues'!$A$5:$A$50,0)),IFERROR(INDEX(Legislation!$G$5:$G$50,MATCH($C200,Legislation!$A$5:$A$50,0)),\"\")))))))","v":""},null,null,null,null,null,null,null,null,null,null,null,null,null,null,null,"","",""]

{"sheet":"NW Introduction","index":19,"n_rows":4,"n_cols":1,"rows_kept":4,"cut":false,"hidden":true,"merged":[[1,0,1,19],[2,0,2,19],[3,0,3,19]]}
[]
["Practical Workplan towards Achieving Rabies Elimination (PWARE):"]
[]
["An action plan development tool"]

{"sheet":"NW country","index":20,"n_rows":47,"n_cols":12,"rows_kept":47,"cut":false,"hidden":true,"merged":[[3,10,3,11],[6,9,9,9],[5,10,9,11],[21,10,21,11],[10,10,10,11],[11,10,11,11],[12,10,12,11],[13,10,13,11],[14,10,14,11],[15,10,15,11],[16,10,16,11],[17,10,17,11],[18,10,18,11],[19,10,19,11],[20,10,20,11],[33,10,33,11],[22,10,22,11],[23,10,23,11],[24,10,24,11],[25,10,25,11],[26,10,26,11],[27,10,27,11],[1,7,1,10],[0,7,0,10],[0,11,1,12],[40,10,40,11],[41,10,41,11],[34,10,34,11],[35,10,35,11],[36,10,36,11],[37,10,37,11],[38,10,38,11],[39,10,39,11],[28,10,28,11],[29,10,29,11],[30,10,30,11],[31,10,31,11],[32,10,32,11],[46,10,46,11],[42,10,42,11],[43,10,43,11],[44,10,44,11],[45,10,45,11],[34,0,36,1],[34,2,36,2],[34,3,36,3],[34,4,36,4],[9,0,13,6],[15,0,17,6],[20,2,20,3]]}
[null,null,null,null,null,null,null,"Practical Workplan towards Achieving Rabies Elimination",null,null,null,{"$f":"A16","v":"SWAZILAND"}]
[null,null,null,null,null,null,null,"COUNTRY INFORMATION"]
[null,null,null,null,null,null,null,"Please answer all blue cells."]
[null,null,null,null,null,null,null,null,"SARE Stage",null,{"$f":"INDEX('SUMMARY (Score)'!E8:E20,MATCH(\"PENDING\",'SUMMARY (Score)'!J8:J20,0))","v":2.5}]
[]
[null,null,null,null,null,null,null,null,"Background"]
[null,null,null,null,null,null,null,null,null,"Brief country background and brief history of rabies in the country"]
[]
[]
["Practical Workplan towards\nApproaching Rabies Elimination"]
[]
[null,null,null,null,null,null,null,null,"Administrative Divisions"]
[null,null,null,null,null,null,null,null,null,"Number of Provinces/ Districts/Regions"]
[]
[null,null,null,null,null,null,null,null,null,"Governance structure"]
[{"$f":"IF(ISBLANK('Country profile'!E3),\"\",UPPER('Country profile'!E3))","v":"SWAZILAND"}]
[null,null,null,null,null,null,null,null,"Human Population Information"]
[null,null,null,null,null,null,null,null,null,"Urban population"]
[]
[null,null,null,null,null,null,null,null,null,"Rural population"]
[null,null,"SARE Stage",null,{"$f":"INDEX('SUMMARY (Score)'!E8:E20,MATCH(\"PENDING\",'SUMMARY (Score)'!J8:J20,0))","v":2.5}]
[null,null,null,null,null,null,null,null,"Official Languages"]
[]
[]
[]
[]
[]
[null,null,null,null,null,null,null,null,"Official Languages"]
[]
[]
[]
[]
[]
[null,null,null,null,null,null,null,null,"Human Development Index"]
["Last updated:    ",null,null,null,2018]
[null,null,null,null,null,null,null,null,"Primary Income"]
[]
[null,null,"date","month","year"]
[]
[]
[]
[null,null,null,null,null,null,null,null,"Dog Population Information"]
[null,null,null,null,null,null,null,null,null,"Urban human:dog ratio",21.2]
[]
[null,null,null,null,null,null,null,null,null,"Rural human:dog ratio",7.4]
[]
[null,null,null,null,null,null,null,null,null,"Estimated dog population",{"$f":"($K$18/$K$43)+($K$20/$K$45)","v":0}]

{"sheet":"SUMMARY (Workplan)","index":21,"n_rows":21,"n_cols":9,"rows_kept":21,"cut":false,"hidden":true,"merged":[[20,8,20,9],[16,5,16,7],[17,5,17,7],[18,5,18,7],[19,5,19,7],[20,5,20,7],[16,8,16,9],[17,8,17,9],[19,3,19,4],[18,0,18,2],[19,0,19,2],[18,8,18,9],[19,8,19,9],[13,8,13,9],[14,8,14,9],[15,8,15,9],[20,0,20,2],[11,5,11,7],[12,5,12,7],[13,5,13,7],[14,5,14,7],[15,5,15,7],[20,3,20,4],[12,3,12,4],[18,3,18,4],[13,3,13,4],[14,3,14,4],[15,3,15,4],[16,3,16,4],[1,0,1,9],[3,0,3,9],[11,3,11,4],[11,0,11,2],[12,0,12,2],[11,8,11,9],[12,8,12,9],[2,0,2,6],[16,0,16,2],[17,0,17,2],[17,3,17,4],[13,0,13,2],[14,0,14,2],[15,0,15,2]]}
[]
["Practical Workplan towards Achieving Rabies Elimination"]
[]
[{"$f":"\"NATIONAL WORKPLAN SUMMARY\"&IF(ISBLANK('Country profile'!E3),\"\",\"   -  \")&'Country profile'!E3&IF(ISBLANK('Country profile'!K8),IF(ISBLANK('Country profile'!K13),\"\",\" - \"&'Country profile'!K13),\" - \"&'Country profile'!K8)","v":"NATIONAL WORKPLAN SUMMARY   -  Swaziland - 2018"}]
[]
[]
[]
[]
[null,null,"SARE Score",{"$f":"INDEX('SUMMARY (Score)'!E8:E20,MATCH(\"PENDING\",'SUMMARY (Score)'!J8:J20,0))","v":2.5},"Years to rabies elimination",null,null,null,{"$f":"IF('NW country'!$E$21<2,13,IF('NW country'!$E$21<3,10,IF('NW country'!$E$21<4,7,IF('NW country'!$E$21<5,4,2))))","v":10}]
[]
[]
["Phase",null,null,"SARE Stage",null,"Estimated Timeline",null,null,"Completed"]
["Assessment",null,null,"0 to 1",null,{"$f":"IF('NW country'!$K$4<2,\"Years 1, 2 and 3\",\"--\")","v":"--"},null,null,{"$f":"IF($D$9<2,\"Ongoing\",\"Completed\")","v":"Completed"}]
[]
["Strategic Planning",null,null,2,null,{"$f":"IF('NW country'!$K$4<2,\"Years 4, 5 and 6\",IF('NW country'!$K$4<3,\"Years 1, 2 and 3\",\"--\"))","v":"Years 1, 2 and 3"},null,null,{"$f":"IF($D$9<3,\"Ongoing\",\"Completed\")","v":"Ongoing"}]
[]
["Control",null,null,3,null,{"$f":"IF('NW country'!$K$4<2,\"Years 7, 8 and 9\",IF('NW country'!$K$4<3,\"Years 4, 5 and 6\",IF('NW country'!$K$4<4,\"Years 1, 2 and 3\",\"--\")))","v":"Years 4, 5 and 6"},null,null,{"$f":"IF($D$9<4,\"Ongoing\",\"Completed\")","v":"Ongoing"}]
[]
["Elimination",null,null,4,null,{"$f":"IF('NW country'!$K$4<2,\"Years 10 and 11\",IF('NW country'!$K$4<3,\"Years 7 and 8\",IF('NW country'!$K$4<4,\"Years 4 and 5\",IF('NW country'!$K$4<5,\"Years 1 and 2\",\"--\"))))","v":"Years 7 and 8"},null,null,{"$f":"IF($D$9<5,\"Ongoing\",\"Completed\")","v":"Ongoing"}]
[]
["Maintenance",null,null,5,null,{"$f":"IF('NW country'!$K$4<2,\"Years 12 and 13\",IF('NW country'!$K$4<3,\"Years 9 and 10\",IF('NW country'!$K$4<4,\"Years 6 and 7\",IF('NW country'!$K$4<5,\"Years 3 and 4\",\"Years 1 and 2\"))))","v":"Years 9 and 10"},null,null,{"$f":"IF($D$9<6,\"Ongoing\",\"Completed\")","v":"Ongoing"}]

{"sheet":"rawdca","index":22,"n_rows":49,"n_cols":10,"rows_kept":49,"cut":false,"hidden":true,"merged":[[6,1,8,3],[4,1,5,3],[1,1,1,9],[0,1,0,3],[0,4,0,9]]}
[null,"Practical Workplan towards Achieving Rabies Elimination",null,null,"Data Collection and Analysis"]
[null,"Data collection and analysis focuses on the collection, analysis and sharing of the most pertinent data about rabies to the relevant personnel. This includes the analysis and sharing of data at a national level to help stakeholders make the correct decisions regarding funding, the use and allocation of personnel and the improvement of national guidelines and plans for the control of rabies. It also focuses on the flow of analysed data not only from the ground up, but also from national level back down to the ground. This flow of information is vital for effective control, response and future planning to ensure that strategic and effective control plans can be implemented."]
[]
[]
[null,"Years to rabies elimination",null,null,null,"All stage 0 and 1 activities should ideally be completed within a 3-year period",null,null,null,{"$f":"IF('NW country'!$K$4<2,\"Years 1, 2 and 3\",\"--\")","v":"--"}]
[null,null,null,null,null,"All stage 2 activities should ideally be completed within a 3-year period",null,null,null,{"$f":"IF('NW country'!$K$4<2,\"Years 4, 5 and 6\",IF('NW country'!$K$4<3,\"Years 1, 2 and 3\",\"--\"))","v":"Years 1, 2 and 3"}]
[null,{"$f":"IF('NW country'!$K$4<2,13,IF('NW country'!$K$4<3,10,IF('NW country'!$K$4<4,7,IF('NW country'!$K$4<5,4,2))))","v":10},null,null,null,"All stage 3 activities should ideally be completed within a 3-year period",null,null,null,{"$f":"IF('NW country'!$K$4<2,\"Years 7, 8 and 9\",IF('NW country'!$K$4<3,\"Years 4, 5 and 6\",IF('NW country'!$K$4<4,\"Years 1, 2 and 3\",\"--\")))","v":"Years 4, 5 and 6"}]
[null,null,null,null,null,"All stage 4 activities should ideally be completed within a 2-year period",null,null,null,{"$f":"IF('NW country'!$K$4<2,\"Years 10 and 11\",IF('NW country'!$K$4<3,\"Years 7 and 8\",IF('NW country'!$K$4<4,\"Years 4 and 5\",IF('NW country'!$K$4<5,\"Years 1 and 2\",\"--\"))))","v":"Years 7 and 8"}]
[null,null,null,null,null,"All stage 5 activities should ideally be completed within a 2-year period",null,null,null,{"$f":"IF('NW country'!$K$4<2,\"Years 12 and 13\",IF('NW country'!$K$4<3,\"Years 9 and 10\",IF('NW country'!$K$4<4,\"Years 6 and 7\",IF('NW country'!$K$4<5,\"Years 3 and 4\",\"Years 1 and 2\"))))","v":"Years 9 and 10"}]
[]
[null,"INSTRUCTIONS:   Please edit the Objectives, Responsible authority, and Year of completion as applicable to your country"]
["ID","Stage","Theme","Pending activity","Comments from SARE tool","Objectives","Outcomes","Responsible authority","Number of years to completion (see above)","Deliverables"]
[{"$f":"IF(ROWS($A$13:A13)<=(SUMPRODUCT((masterlist!B:B=\"DCA\")*(masterlist!J:J=0))),INDEX(masterlist!$C$2:$C$200,SMALL(IF(masterlist!$B$2:$B$200=\"DCA\",IF(masterlist!$F$2:$F$200>0,IF(masterlist!$J$2:$J$200=0,ROW(masterlist!$B$2:$B$200)-ROW(masterlist!$B$2)+1))),ROWS($A$13:A13))),\"\")","v":"DCA-Sur-1-11"},{"$f":"IFERROR(VLOOKUP($A13,masterlist!$C$2:$AA$200,3,FALSE),\"\")","v":1},{"$f":"IFERROR(VLOOKUP($A13,masterlist!$C$2:$AA$200,2,FALSE),\"\")","v":"Surveillance"},{"$f":"IFERROR(VLOOKUP($A13,masterlist!$C$2:$AA$200,5,FALSE),\"\")","v":"Have dog population studies and KAP surveys been conducted to determine size, turn-over and accessibility of dogs for vaccination on a small scale?"},{"$f":"IFERROR(IF((VLOOKUP($A13,masterlist!$C$2:$AA$200,9,FALSE))=0,\"\",VLOOKUP($A13,masterlist!$C$2:$AA$200,9,FALSE)),\"\")","v":""},{"$f":"IFERROR(VLOOKUP($A13,masterlist!$C$2:$AA$200,20,FALSE),\"\")","v":"Determine the location for a small-scale dog ecology study;\nReview available methodologies and choose the most applicable one for the chosen location;\nBudget for the study and secure required funding to undertake study;\nIdentify personnel required for the study;\nDraft SOPs required for personnel to implement study;\nTrain personnel on SOPs for the study;\nUndertake study in chosen location;\nCollect, collate and analyse dog ecology data;\nDisseminate results to relevant authorities;"},{"$f":"IFERROR(VLOOKUP($A13,masterlist!$C$2:$AA$200,21,FALSE),\"\")","v":"Dog ecology data for a small-scale area has been collected, collated, analysed and disseminated."},{"$f":"IFERROR(VLOOKUP($A13,masterlist!$C$2:$AA$200,22,FALSE),\"\")","v":"Ministry of Agriculture"},{"$f":"IFERROR(IF($B$7=2,(VLOOKUP($A13,masterlist!$C$2:$AA$200,23,FALSE)-11),IF($B$7=4,(VLOOKUP($A13,masterlist!$C$2:$AA$200,23,FALSE)-9),IF($B$7=7,(VLOOKUP($A13,masterlist!$C$2:$AA$200,23,FALSE)-6),IF($B$7=10,(VLOOKUP($A13,masterlist!$C$2:$AA$200,23,FALSE)-3),(VLOOKUP($A13,masterlist!$C$2:$AA$200,23,FALSE)))))),\"\")","v":-1},{"$f":"IFERROR(VLOOKUP($A13,masterlist!$C$2:$AA$200,24,FALSE),\"\")","v":"Report on chosen small-scale site and methodologies required, including budget;\nSOPs developed for study;\nNumber of staff trained;\nFindings of dog ecology study (e.g. number of dogs);\n"}]
[{"$f":"IF(ROWS($A$13:A14)<=(SUMPRODUCT((masterlist!B:B=\"DCA\")*(masterlist!J:J=0))),INDEX(masterlist!$C$2:$C$200,SMALL(IF(masterlist!$B$2:$B$200=\"DCA\",IF(masterlist!$F$2:$F$200>0,IF(masterlist!$J$2:$J$200=0,ROW(masterlist!$B$2:$B$200)-ROW(masterlist!$B$2)+1))),ROWS($A$13:A14))),\"\")","v":"DCA-Sur-3-17"},{"$f":"IFERROR(VLOOKUP($A14,masterlist!$C$2:$AA$200,3,FALSE),\"\")","v":3},{"$f":"IFERROR(VLOOKUP($A14,masterlist!$C$2:$AA$200,2,FALSE),\"\")","v":"Surveillance"},{"$f":"IFERROR(VLOOKUP($A14,masterlist!$C$2:$AA$200,5,FALSE),\"\")","v":"As your country nears human rabies elimination, have field investigations for all suspected human rabies cases been conducted? "},{"$f":"IFERROR(IF((VLOOKUP($A14,masterlist!$C$2:$AA$200,9,FALSE))=0,\"\",VLOOKUP($A14,masterlist!$C$2:$AA$200,9,FALSE)),\"\")","v":""},{"$f":"IFERROR(VLOOKUP($A14,masterlist!$C$2:$AA$200,20,FALSE),\"\")","v":"Determine whether effective surveillance is in place to detect suspect human cases;\nEnsure rapid reporting of suspect human cases from local to national level;\nEnsure feedback of analysed data back to local level; \nEnsure that protocols (SOPs) for case investigation and response based on surveillance are in place and known by all relevant professionals;\nEnsure that the relevant professionals are equipped with the relevant resources to investigate suspect human rabies cases;\nEnsure action and case investigation based on feedback;\nEnsure the outcomes of the investigations are reported to the national level;"},{"$f":"IFERROR(VLOOKUP($A14,masterlist!$C$2:$AA$200,21,FALSE),\"\")","v":"Each suspect human case is investigated based on surveillance data and case investigation protocols"},{"$f":"IFERROR(VLOOKUP($A14,masterlist!$C$2:$AA$200,22,FALSE),\"\")","v":"Ministry of Health supported by inter-sectoral surveillance personnel"},{"$f":"IFERROR(IF($B$7=2,(VLOOKUP($A14,masterlist!$C$2:$AA$200,23,FALSE)-11),IF($B$7=4,(VLOOKUP($A14,masterlist!$C$2:$AA$200,23,FALSE)-9),IF($B$7=7,(VLOOKUP($A14,masterlist!$C$2:$AA$200,23,FALSE)-6),IF($B$7=10,(VLOOKUP($A14,masterlist!$C$2:$AA$200,23,FALSE)-3),(VLOOKUP($A14,masterlist!$C$2:$AA$200,23,FALSE)))))),\"\")","v":5},{"$f":"IFERROR(VLOOKUP($A14,masterlist!$C$2:$AA$200,24,FALSE),\"\")","v":"Report on efficacy of existing surveillance system;\nSOPs finalised and available;\nNumber of suspect human cases;\nNumber of human case investigations undertaken;"}]
[{"$f":"IF(ROWS($A$13:A15)<=(SUMPRODUCT((masterlist!B:B=\"DCA\")*(masterlist!J:J=0))),INDEX(masterlist!$C$2:$C$200,SMALL(IF(masterlist!$B$2:$B$200=\"DCA\",IF(masterlist!$F$2:$F$200>0,IF(masterlist!$J$2:$J$200=0,ROW(masterlist!$B$2:$B$200)-ROW(masterlist!$B$2)+1))),ROWS($A$13:A15))),\"\")","v":"DCA-Sur-3-18"},{"$f":"IFERROR(VLOOKUP($A15,masterlist!$C$2:$AA$200,3,FALSE),\"\")","v":3},{"$f":"IFERROR(VLOOKUP($A15,masterlist!$C$2:$AA$200,2,FALSE),\"\")","v":"Surveillance"},{"$f":"IFERROR(VLOOKUP($A15,masterlist!$C$2:$AA$200,5,FALSE),\"\")","v":"As your country nears human rabies elimination, is epidemiological data being collected to provide evidence of dog-transmitted human rabies-free zones?"},{"$f":"IFERROR(IF((VLOOKUP($A15,masterlist!$C$2:$AA$200,9,FALSE))=0,\"\",VLOOKUP($A15,masterlist!$C$2:$AA$200,9,FALSE)),\"\")","v":""},{"$f":"IFERROR(VLOOKUP($A15,masterlist!$C$2:$AA$200,20,FALSE),\"\")","v":"Ensure that an effective surveillance system for the detection of all suspect human rabies cases is in place and maintained;\nEnsure that effective field investigations of all suspect human rabies cases are on-going;\nCompile all of the relevant data regarding the positive and negative diagnosis of all suspect rabies cases;"},{"$f":"IFERROR(VLOOKUP($A15,masterlist!$C$2:$AA$200,21,FALSE),\"\")","v":"Up-to-date epidemiological evidence based on an effective national surveillance system with reliable laboratory diagnosis and case investigation is collected and available to provide evidence of a dog-transmitted human rabies free zones (no human cases for 2 years). "},{"$f":"IFERROR(VLOOKUP($A15,masterlist!$C$2:$AA$200,22,FALSE),\"\")","v":"Ministry of Health supported by inter-sectoral surveillance personnel"},{"$f":"IFERROR(IF($B$7=2,(VLOOKUP($A15,masterlist!$C$2:$AA$200,23,FALSE)-11),IF($B$7=4,(VLOOKUP($A15,masterlist!$C$2:$AA$200,23,FALSE)-9),IF($B$7=7,(VLOOKUP($A15,masterlist!$C$2:$AA$200,23,FALSE)-6),IF($B$7=10,(VLOOKUP($A15,masterlist!$C$2:$AA$200,23,FALSE)-3),(VLOOKUP($A15,masterlist!$C$2:$AA$200,23,FALSE)))))),\"\")","v":5},{"$f":"IFERROR(VLOOKUP($A15,masterlist!$C$2:$AA$200,24,FALSE),\"\")","v":"Case investigation consistency and quality assessment report: Number of case investigations generated over time; Frequency of case investigations over time;\nNumber of suspect rabies cases;\nNumber of positively diagnosed suspect rabies cases;\nNumber of negatively diagnosed suspect rabies cases;  "}]
[{"$f":"IF(ROWS($A$13:A16)<=(SUMPRODUCT((masterlist!B:B=\"DCA\")*(masterlist!J:J=0))),INDEX(masterlist!$C$2:$C$200,SMALL(IF(masterlist!$B$2:$B$200=\"DCA\",IF(masterlist!$F$2:$F$200>0,IF(masterlist!$J$2:$J$200=0,ROW(masterlist!$B$2:$B$200)-ROW(masterlist!$B$2)+1))),ROWS($A$13:A16))),\"\")","v":"DCA-Sur-4-21"},{"$f":"IFERROR(VLOOKUP($A16,masterlist!$C$2:$AA$200,3,FALSE),\"\")","v":4},{"$f":"IFERROR(VLOOKUP($A16,masterlist!$C$2:$AA$200,2,FALSE),\"\")","v":"Surveillance"},{"$f":"IFERROR(VLOOKUP($A16,masterlist!$C$2:$AA$200,5,FALSE),\"\")","v":"As your country nears dog-rabies elimination, has the epidemiological data from the routine surveillance of all animals (not only dogs) been used to refine the national rabies strategy?"},{"$f":"IFERROR(IF((VLOOKUP($A16,masterlist!$C$2:$AA$200,9,FALSE))=0,\"\",VLOOKUP($A16,masterlist!$C$2:$AA$200,9,FALSE)),\"\")","v":""},{"$f":"IFERROR(VLOOKUP($A16,masterlist!$C$2:$AA$200,20,FALSE),\"\")","v":"Compile and review epidemiological data based on surveillance in other animal species, including wildlife;\nIdentify remaining areas with dog-rabies (hotspots);\nIdentify additional possible reservoir species (e.g. wildlife carnivores);\nIdentify methods to vaccinate and control rabies in additional identified reservoir species;\nCompile a report, including budget and resources required, with the findings and recommendations;\nShare report with national task force for integration and updating of national rabies control strategy; \nNational rabies control and elimination strategy refined based on the report; "},{"$f":"IFERROR(VLOOKUP($A16,masterlist!$C$2:$AA$200,21,FALSE),\"\")","v":"National rabies control and elimination strategy refined to focus on final steps towards elimination of dog rabies (strategic vaccination), the situation of rabies in wildlife and the prevention of re-introduction of rabies into the human and dog population. "},{"$f":"IFERROR(VLOOKUP($A16,masterlist!$C$2:$AA$200,22,FALSE),\"\")","v":"All stakeholders involved in development and implementation of the national strategy; \nled by the personnel responsible for data collection and analysis"},{"$f":"IFERROR(IF($B$7=2,(VLOOKUP($A16,masterlist!$C$2:$AA$200,23,FALSE)-11),IF($B$7=4,(VLOOKUP($A16,masterlist!$C$2:$AA$200,23,FALSE)-9),IF($B$7=7,(VLOOKUP($A16,masterlist!$C$2:$AA$200,23,FALSE)-6),IF($B$7=10,(VLOOKUP($A16,masterlist!$C$2:$AA$200,23,FALSE)-3),(VLOOKUP($A16,masterlist!$C$2:$AA$200,23,FALSE)))))),\"\")","v":7},{"$f":"IFERROR(VLOOKUP($A16,masterlist!$C$2:$AA$200,24,FALSE),\"\")","v":"Report on findings and associated budget including:\nInformation on epidemiological data based on surveillance in other animal species;\nLocations of remaining hotspots/high-risk areas;\nInformation on additional reservoir species;\nUpdated national strategy;\n"}]
[{"$f":"IF(ROWS($A$13:A17)<=(SUMPRODUCT((masterlist!B:B=\"DCA\")*(masterlist!J:J=0))),INDEX(masterlist!$C$2:$C$200,SMALL(IF(masterlist!$B$2:$B$200=\"DCA\",IF(masterlist!$F$2:$F$200>0,IF(masterlist!$J$2:$J$200=0,ROW(masterlist!$B$2:$B$200)-ROW(masterlist!$B$2)+1))),ROWS($A$13:A17))),\"\")","v":"DCA-Sur-5-22"},{"$f":"IFERROR(VLOOKUP($A17,masterlist!$C$2:$AA$200,3,FALSE),\"\")","v":5},{"$f":"IFERROR(VLOOKUP($A17,masterlist!$C$2:$AA$200,2,FALSE),\"\")","v":"Surveillance"},{"$f":"IFERROR(VLOOKUP($A17,masterlist!$C$2:$AA$200,5,FALSE),\"\")","v":"Has freedom from dog-transmitted rabies in the entire country been verified by the absence of canine variant cases for at least a 2 year period?"},{"$f":"IFERROR(IF((VLOOKUP($A17,masterlist!$C$2:$AA$200,9,FALSE))=0,\"\",VLOOKUP($A17,masterlist!$C$2:$AA$200,9,FALSE)),\"\")","v":""},{"$f":"IFERROR(VLOOKUP($A17,masterlist!$C$2:$AA$200,20,FALSE),\"\")","v":"Ensure ongoing sample collection and routine rabies diagnosis from the entire country;\nEnsure adequate case investigation is maintained throughout the country;\nCompile epidemiological reports with up-to-date surveillance data showing absence of the disease;\nIf any rabies-positive cases are detected, subject the samples to molecular or antigenic typing to determine the variant;\n"},{"$f":"IFERROR(VLOOKUP($A17,masterlist!$C$2:$AA$200,21,FALSE),\"\")","v":"Epidemiological report providing evidence supporting the notion of freedom from the canine variatn fo rabeis for a 2 year period in line with the OIE standards for self-declaration of freedom;"},{"$f":"IFERROR(VLOOKUP($A17,masterlist!$C$2:$AA$200,22,FALSE),\"\")","v":"Ministry of Agriculture"},{"$f":"IFERROR(IF($B$7=2,(VLOOKUP($A17,masterlist!$C$2:$AA$200,23,FALSE)-11),IF($B$7=4,(VLOOKUP($A17,masterlist!$C$2:$AA$200,23,FALSE)-9),IF($B$7=7,(VLOOKUP($A17,masterlist!$C$2:$AA$200,23,FALSE)-6),IF($B$7=10,(VLOOKUP($A17,masterlist!$C$2:$AA$200,23,FALSE)-3),(VLOOKUP($A17,masterlist!$C$2:$AA$200,23,FALSE)))))),\"\")","v":10},{"$f":"IFERROR(VLOOKUP($A17,masterlist!$C$2:$AA$200,24,FALSE),\"\")","v":"The number of suspect rabies samples diagnosed;\nNumber of rabies-negative samples identified;\nNumber of rabies-positive samples diagnosed;\nNumber of rabies-positive samples subjected to characterisation;\nVaccination coverage map; "}]
[{"$f":"IF(ROWS($A$13:A18)<=(SUMPRODUCT((masterlist!B:B=\"DCA\")*(masterlist!J:J=0))),INDEX(masterlist!$C$2:$C$200,SMALL(IF(masterlist!$B$2:$B$200=\"DCA\",IF(masterlist!$F$2:$F$200>0,IF(masterlist!$J$2:$J$200=0,ROW(masterlist!$B$2:$B$200)-ROW(masterlist!$B$2)+1))),ROWS($A$13:A18))),\"\")","v":""},{"$f":"IFERROR(VLOOKUP($A18,masterlist!$C$2:$AA$200,3,FALSE),\"\")","v":""},{"$f":"IFERROR(VLOOKUP($A18,masterlist!$C$2:$AA$200,2,FALSE),\"\")","v":""},{"$f":"IFERROR(VLOOKUP($A18,masterlist!$C$2:$AA$200,5,FALSE),\"\")","v":""},{"$f":"IFERROR(IF((VLOOKUP($A18,masterlist!$C$2:$AA$200,9,FALSE))=0,\"\",VLOOKUP($A18,masterlist!$C$2:$AA$200,9,FALSE)),\"\")","v":""},{"$f":"IFERROR(VLOOKUP($A18,masterlist!$C$2:$AA$200,20,FALSE),\"\")","v":""},{"$f":"IFERROR(VLOOKUP($A18,masterlist!$C$2:$AA$200,21,FALSE),\"\")","v":""},{"$f":"IFERROR(VLOOKUP($A18,masterlist!$C$2:$AA$200,22,FALSE),\"\")","v":""},{"$f":"IFERROR(IF($B$7=2,(VLOOKUP($A18,masterlist!$C$2:$AA$200,23,FALSE)-11),IF($B$7=4,(VLOOKUP($A18,masterlist!$C$2:$AA$200,23,FALSE)-9),IF($B$7=7,(VLOOKUP($A18,masterlist!$C$2:$AA$200,23,FALSE)-6),IF($B$7=10,(VLOOKUP($A18,masterlist!$C$2:$AA$200,23,FALSE)-3),(VLOOKUP($A18,masterlist!$C$2:$AA$200,23,FALSE)))))),\"\")","v":""},{"$f":"IFERROR(VLOOKUP($A18,masterlist!$C$2:$AA$200,24,FALSE),\"\")","v":""}]
[{"$f":"IF(ROWS($A$13:A19)<=(SUMPRODUCT((masterlist!B:B=\"DCA\")*(masterlist!J:J=0))),INDEX(masterlist!$C$2:$C$200,SMALL(IF(masterlist!$B$2:$B$200=\"DCA\",IF(masterlist!$F$2:$F$200>0,IF(masterlist!$J$2:$J$200=0,ROW(masterlist!$B$2:$B$200)-ROW(masterlist!$B$2)+1))),ROWS($A$13:A19))),\"\")","v":""},{"$f":"IFERROR(VLOOKUP($A19,masterlist!$C$2:$AA$200,3,FALSE),\"\")","v":""},{"$f":"IFERROR(VLOOKUP($A19,masterlist!$C$2:$AA$200,2,FALSE),\"\")","v":""},{"$f":"IFERROR(VLOOKUP($A19,masterlist!$C$2:$AA$200,5,FALSE),\"\")","v":""},{"$f":"IFERROR(IF((VLOOKUP($A19,masterlist!$C$2:$AA$200,9,FALSE))=0,\"\",VLOOKUP($A19,masterlist!$C$2:$AA$200,9,FALSE)),\"\")","v":""},{"$f":"IFERROR(VLOOKUP($A19,masterlist!$C$2:$AA$200,20,FALSE),\"\")","v":""},{"$f":"IFERROR(VLOOKUP($A19,masterlist!$C$2:$AA$200,21,FALSE),\"\")","v":""},{"$f":"IFERROR(VLOOKUP($A19,masterlist!$C$2:$AA$200,22,FALSE),\"\")","v":""},{"$f":"IFERROR(IF($B$7=2,(VLOOKUP($A19,masterlist!$C$2:$AA$200,23,FALSE)-11),IF($B$7=4,(VLOOKUP($A19,masterlist!$C$2:$AA$200,23,FALSE)-9),IF($B$7=7,(VLOOKUP($A19,masterlist!$C$2:$AA$200,23,FALSE)-6),IF($B$7=10,(VLOOKUP($A19,masterlist!$C$2:$AA$200,23,FALSE)-3),(VLOOKUP($A19,masterlist!$C$2:$AA$200,23,FALSE)))))),\"\")","v":""},{"$f":"IFERROR(VLOOKUP($A19,masterlist!$C$2:$AA$200,24,FALSE),\"\")","v":""}]
[{"$f":"IF(ROWS($A$13:A20)<=(SUMPRODUCT((masterlist!B:B=\"DCA\")*(masterlist!J:J=0))),INDEX(masterlist!$C$2:$C$200,SMALL(IF(masterlist!$B$2:$B$200=\"DCA\",IF(masterlist!$F$2:$F$200>0,IF(masterlist!$J$2:$J$200=0,ROW(masterlist!$B$2:$B$200)-ROW(masterlist!$B$2)+1))),ROWS($A$13:A20))),\"\")","v":""},{"$f":"IFERROR(VLOOKUP($A20,masterlist!$C$2:$AA$200,3,FALSE),\"\")","v":""},{"$f":"IFERROR(VLOOKUP($A20,masterlist!$C$2:$AA$200,2,FALSE),\"\")","v":""},{"$f":"IFERROR(VLOOKUP($A20,masterlist!$C$2:$AA$200,5,FALSE),\"\")","v":""},{"$f":"IFERROR(IF((VLOOKUP($A20,masterlist!$C$2:$AA$200,9,FALSE))=0,\"\",VLOOKUP($A20,masterlist!$C$2:$AA$200,9,FALSE)),\"\")","v":""},{"$f":"IFERROR(VLOOKUP($A20,masterlist!$C$2:$AA$200,20,FALSE),\"\")","v":""},{"$f":"IFERROR(VLOOKUP($A20,masterlist!$C$2:$AA$200,21,FALSE),\"\")","v":""},{"$f":"IFERROR(VLOOKUP($A20,masterlist!$C$2:$AA$200,22,FALSE),\"\")","v":""},{"$f":"IFERROR(IF($B$7=2,(VLOOKUP($A20,masterlist!$C$2:$AA$200,23,FALSE)-11),IF($B$7=4,(VLOOKUP($A20,masterlist!$C$2:$AA$200,23,FALSE)-9),IF($B$7=7,(VLOOKUP($A20,masterlist!$C$2:$AA$200,23,FALSE)-6),IF($B$7=10,(VLOOKUP($A20,masterlist!$C$2:$AA$200,23,FALSE)-3),(VLOOKUP($A20,masterlist!$C$2:$AA$200,23,FALSE)))))),\"\")","v":""},{"$f":"IFERROR(VLOOKUP($A20,masterlist!$C$2:$AA$200,24,FALSE),\"\")","v":""}]
[{"$f":"IF(ROWS($A$13:A21)<=(SUMPRODUCT((masterlist!B:B=\"DCA\")*(masterlist!J:J=0))),INDEX(masterlist!$C$2:$C$200,SMALL(IF(masterlist!$B$2:$B$200=\"DCA\",IF(masterlist!$F$2:$F$200>0,IF(masterlist!$J$2:$J$200=0,ROW(masterlist!$B$2:$B$200)-ROW(masterlist!$B$2)+1))),ROWS($A$13:A21))),\"\")","v":""},{"$f":"IFERROR(VLOOKUP($A21,masterlist!$C$2:$AA$200,3,FALSE),\"\")","v":""},{"$f":"IFERROR(VLOOKUP($A21,masterlist!$C$2:$AA$200,2,FALSE),\"\")","v":""},{"$f":"IFERROR(VLOOKUP($A21,masterlist!$C$2:$AA$200,5,FALSE),\"\")","v":""},{"$f":"IFERROR(IF((VLOOKUP($A21,masterlist!$C$2:$AA$200,9,FALSE))=0,\"\",VLOOKUP($A21,masterlist!$C$2:$AA$200,9,FALSE)),\"\")","v":""},{"$f":"IFERROR(VLOOKUP($A21,masterlist!$C$2:$AA$200,20,FALSE),\"\")","v":""},{"$f":"IFERROR(VLOOKUP($A21,masterlist!$C$2:$AA$200,21,FALSE),\"\")","v":""},{"$f":"IFERROR(VLOOKUP($A21,masterlist!$C$2:$AA$200,22,FALSE),\"\")","v":""},{"$f":"IFERROR(IF($B$7=2,(VLOOKUP($A21,masterlist!$C$2:$AA$200,23,FALSE)-11),IF($B$7=4,(VLOOKUP($A21,masterlist!$C$2:$AA$200,23,FALSE)-9),IF($B$7=7,(VLOOKUP($A21,masterlist!$C$2:$AA$200,23,FALSE)-6),IF($B$7=10,(VLOOKUP($A21,masterlist!$C$2:$AA$200,23,FALSE)-3),(VLOOKUP($A21,masterlist!$C$2:$AA$200,23,FALSE)))))),\"\")","v":""},{"$f":"IFERROR(VLOOKUP($A21,masterlist!$C$2:$AA$200,24,FALSE),\"\")","v":""}]
[{"$f":"IF(ROWS($A$13:A22)<=(SUMPRODUCT((masterlist!B:B=\"DCA\")*(masterlist!J:J=0))),INDEX(masterlist!$C$2:$C$200,SMALL(IF(masterlist!$B$2:$B$200=\"DCA\",IF(masterlist!$F$2:$F$200>0,IF(masterlist!$J$2:$J$200=0,ROW(masterlist!$B$2:$B$200)-ROW(masterlist!$B$2)+1))),ROWS($A$13:A22))),\"\")","v":""},{"$f":"IFERROR(VLOOKUP($A22,masterlist!$C$2:$AA$200,3,FALSE),\"\")","v":""},{"$f":"IFERROR(VLOOKUP($A22,masterlist!$C$2:$AA$200,2,FALSE),\"\")","v":""},{"$f":"IFERROR(VLOOKUP($A22,masterlist!$C$2:$AA$200,5,FALSE),\"\")","v":""},{"$f":"IFERROR(IF((VLOOKUP($A22,masterlist!$C$2:$AA$200,9,FALSE))=0,\"\",VLOOKUP($A22,masterlist!$C$2:$AA$200,9,FALSE)),\"\")","v":""},{"$f":"IFERROR(VLOOKUP($A22,masterlist!$C$2:$AA$200,20,FALSE),\"\")","v":""},{"$f":"IFERROR(VLOOKUP($A22,masterlist!$C$2:$AA$200,21,FALSE),\"\")","v":""},{"$f":"IFERROR(VLOOKUP($A22,masterlist!$C$2:$AA$200,22,FALSE),\"\")","v":""},{"$f":"IFERROR(IF($B$7=2,(VLOOKUP($A22,masterlist!$C$2:$AA$200,23,FALSE)-11),IF($B$7=4,(VLOOKUP($A22,masterlist!$C$2:$AA$200,23,FALSE)-9),IF($B$7=7,(VLOOKUP($A22,masterlist!$C$2:$AA$200,23,FALSE)-6),IF($B$7=10,(VLOOKUP($A22,masterlist!$C$2:$AA$200,23,FALSE)-3),(VLOOKUP($A22,masterlist!$C$2:$AA$200,23,FALSE)))))),\"\")","v":""},{"$f":"IFERROR(VLOOKUP($A22,masterlist!$C$2:$AA$200,24,FALSE),\"\")","v":""}]
[{"$f":"IF(ROWS($A$13:A23)<=(SUMPRODUCT((masterlist!B:B=\"DCA\")*(masterlist!J:J=0))),INDEX(masterlist!$C$2:$C$200,SMALL(IF(masterlist!$B$2:$B$200=\"DCA\",IF(masterlist!$F$2:$F$200>0,IF(masterlist!$J$2:$J$200=0,ROW(masterlist!$B$2:$B$200)-ROW(masterlist!$B$2)+1))),ROWS($A$13:A23))),\"\")","v":""},{"$f":"IFERROR(VLOOKUP($A23,masterlist!$C$2:$AA$200,3,FALSE),\"\")","v":""},{"$f":"IFERROR(VLOOKUP($A23,masterlist!$C$2:$AA$200,2,FALSE),\"\")","v":""},{"$f":"IFERROR(VLOOKUP($A23,masterlist!$C$2:$AA$200,5,FALSE),\"\")","v":""},{"$f":"IFERROR(IF((VLOOKUP($A23,masterlist!$C$2:$AA$200,9,FALSE))=0,\"\",VLOOKUP($A23,masterlist!$C$2:$AA$200,9,FALSE)),\"\")","v":""},{"$f":"IFERROR(VLOOKUP($A23,masterlist!$C$2:$AA$200,20,FALSE),\"\")","v":""},{"$f":"IFERROR(VLOOKUP($A23,masterlist!$C$2:$AA$200,21,FALSE),\"\")","v":""},{"$f":"IFERROR(VLOOKUP($A23,masterlist!$C$2:$AA$200,22,FALSE),\"\")","v":""},{"$f":"IFERROR(IF($B$7=2,(VLOOKUP($A23,masterlist!$C$2:$AA$200,23,FALSE)-11),IF($B$7=4,(VLOOKUP($A23,masterlist!$C$2:$AA$200,23,FALSE)-9),IF($B$7=7,(VLOOKUP($A23,masterlist!$C$2:$AA$200,23,FALSE)-6),IF($B$7=10,(VLOOKUP($A23,masterlist!$C$2:$AA$200,23,FALSE)-3),(VLOOKUP($A23,masterlist!$C$2:$AA$200,23,FALSE)))))),\"\")","v":""},{"$f":"IFERROR(VLOOKUP($A23,masterlist!$C$2:$AA$200,24,FALSE),\"\")","v":""}]
[{"$f":"IF(ROWS($A$13:A24)<=(SUMPRODUCT((masterlist!B:B=\"DCA\")*(masterlist!J:J=0))),INDEX(masterlist!$C$2:$C$200,SMALL(IF(masterlist!$B$2:$B$200=\"DCA\",IF(masterlist!$F$2:$F$200>0,IF(masterlist!$J$2:$J$200=0,ROW(masterlist!$B$2:$B$200)-ROW(masterlist!$B$2)+1))),ROWS($A$13:A24))),\"\")","v":""},{"$f":"IFERROR(VLOOKUP($A24,masterlist!$C$2:$AA$200,3,FALSE),\"\")","v":""},{"$f":"IFERROR(VLOOKUP($A24,masterlist!$C$2:$AA$200,2,FALSE),\"\")","v":""},{"$f":"IFERROR(VLOOKUP($A24,masterlist!$C$2:$AA$200,5,FALSE),\"\")","v":""},{"$f":"IFERROR(IF((VLOOKUP($A24,masterlist!$C$2:$AA$200,9,FALSE))=0,\"\",VLOOKUP($A24,masterlist!$C$2:$AA$200,9,FALSE)),\"\")","v":""},{"$f":"IFERROR(VLOOKUP($A24,masterlist!$C$2:$AA$200,20,FALSE),\"\")","v":""},{"$f":"IFERROR(VLOOKUP($A24,masterlist!$C$2:$AA$200,21,FALSE),\"\")","v":""},{"$f":"IFERROR(VLOOKUP($A24,masterlist!$C$2:$AA$200,22,FALSE),\"\")","v":""},{"$f":"IFERROR(IF($B$7=2,(VLOOKUP($A24,masterlist!$C$2:$AA$200,23,FALSE)-11),IF($B$7=4,(VLOOKUP($A24,masterlist!$C$2:$AA$200,23,FALSE)-9),IF($B$7=7,(VLOOKUP($A24,masterlist!$C$2:$AA$200,23,FALSE)-6),IF($B$7=10,(VLOOKUP($A24,masterlist!$C$2:$AA$200,23,FALSE)-3),(VLOOKUP($A24,masterlist!$C$2:$AA$200,23,FALSE)))))),\"\")","v":""},{"$f":"IFERROR(VLOOKUP($A24,masterlist!$C$2:$AA$200,24,FALSE),\"\")","v":""}]
[{"$f":"IF(ROWS($A$13:A25)<=(SUMPRODUCT((masterlist!B:B=\"DCA\")*(masterlist!J:J=0))),INDEX(masterlist!$C$2:$C$200,SMALL(IF(masterlist!$B$2:$B$200=\"DCA\",IF(masterlist!$F$2:$F$200>0,IF(masterlist!$J$2:$J$200=0,ROW(masterlist!$B$2:$B$200)-ROW(masterlist!$B$2)+1))),ROWS($A$13:A25))),\"\")","v":""},{"$f":"IFERROR(VLOOKUP($A25,masterlist!$C$2:$AA$200,3,FALSE),\"\")","v":""},{"$f":"IFERROR(VLOOKUP($A25,masterlist!$C$2:$AA$200,2,FALSE),\"\")","v":""},{"$f":"IFERROR(VLOOKUP($A25,masterlist!$C$2:$AA$200,5,FALSE),\"\")","v":""},{"$f":"IFERROR(IF((VLOOKUP($A25,masterlist!$C$2:$AA$200,9,FALSE))=0,\"\",VLOOKUP($A25,masterlist!$C$2:$AA$200,9,FALSE)),\"\")","v":""},{"$f":"IFERROR(VLOOKUP($A25,masterlist!$C$2:$AA$200,20,FALSE),\"\")","v":""},{"$f":"IFERROR(VLOOKUP($A25,masterlist!$C$2:$AA$200,21,FALSE),\"\")","v":""},{"$f":"IFERROR(VLOOKUP($A25,masterlist!$C$2:$AA$200,22,FALSE),\"\")","v":""},{"$f":"IFERROR(IF($B$7=2,(VLOOKUP($A25,masterlist!$C$2:$AA$200,23,FALSE)-11),IF($B$7=4,(VLOOKUP($A25,masterlist!$C$2:$AA$200,23,FALSE)-9),IF($B$7=7,(VLOOKUP($A25,masterlist!$C$2:$AA$200,23,FALSE)-6),IF($B$7=10,(VLOOKUP($A25,masterlist!$C$2:$AA$200,23,FALSE)-3),(VLOOKUP($A25,masterlist!$C$2:$AA$200,23,FALSE)))))),\"\")","v":""},{"$f":"IFERROR(VLOOKUP($A25,masterlist!$C$2:$AA$200,24,FALSE),\"\")","v":""}]
[{"$f":"IF(ROWS($A$13:A26)<=(SUMPRODUCT((masterlist!B:B=\"DCA\")*(masterlist!J:J=0))),INDEX(masterlist!$C$2:$C$200,SMALL(IF(masterlist!$B$2:$B$200=\"DCA\",IF(masterlist!$F$2:$F$200>0,IF(masterlist!$J$2:$J$200=0,ROW(masterlist!$B$2:$B$200)-ROW(masterlist!$B$2)+1))),ROWS($A$13:A26))),\"\")","v":""},{"$f":"IFERROR(VLOOKUP($A26,masterlist!$C$2:$AA$200,3,FALSE),\"\")","v":""},{"$f":"IFERROR(VLOOKUP($A26,masterlist!$C$2:$AA$200,2,FALSE),\"\")","v":""},{"$f":"IFERROR(VLOOKUP($A26,masterlist!$C$2:$AA$200,5,FALSE),\"\")","v":""},{"$f":"IFERROR(IF((VLOOKUP($A26,masterlist!$C$2:$AA$200,9,FALSE))=0,\"\",VLOOKUP($A26,masterlist!$C$2:$AA$200,9,FALSE)),\"\")","v":""},{"$f":"IFERROR(VLOOKUP($A26,masterlist!$C$2:$AA$200,20,FALSE),\"\")","v":""},{"$f":"IFERROR(VLOOKUP($A26,masterlist!$C$2:$AA$200,21,FALSE),\"\")","v":""},{"$f":"IFERROR(VLOOKUP($A26,masterlist!$C$2:$AA$200,22,FALSE),\"\")","v":""},{"$f":"IFERROR(IF($B$7=2,(VLOOKUP($A26,masterlist!$C$2:$AA$200,23,FALSE)-11),IF($B$7=4,(VLOOKUP($A26,masterlist!$C$2:$AA$200,23,FALSE)-9),IF($B$7=7,(VLOOKUP($A26,masterlist!$C$2:$AA$200,23,FALSE)-6),IF($B$7=10,(VLOOKUP($A26,masterlist!$C$2:$AA$200,23,FALSE)-3),(VLOOKUP($A26,masterlist!$C$2:$AA$200,23,FALSE)))))),\"\")","v":""},{"$f":"IFERROR(VLOOKUP($A26,masterlist!$C$2:$AA$200,24,FALSE),\"\")","v":""}]
[{"$f":"IF(ROWS($A$13:A27)<=(SUMPRODUCT((masterlist!B:B=\"DCA\")*(masterlist!J:J=0))),INDEX(masterlist!$C$2:$C$200,SMALL(IF(masterlist!$B$2:$B$200=\"DCA\",IF(masterlist!$F$2:$F$200>0,IF(masterlist!$J$2:$J$200=0,ROW(masterlist!$B$2:$B$200)-ROW(masterlist!$B$2)+1))),ROWS($A$13:A27))),\"\")","v":""},{"$f":"IFERROR(VLOOKUP($A27,masterlist!$C$2:$AA$200,3,FALSE),\"\")","v":""},{"$f":"IFERROR(VLOOKUP($A27,masterlist!$C$2:$AA$200,2,FALSE),\"\")","v":""},{"$f":"IFERROR(VLOOKUP($A27,masterlist!$C$2:$AA$200,5,FALSE),\"\")","v":""},{"$f":"IFERROR(IF((VLOOKUP($A27,masterlist!$C$2:$AA$200,9,FALSE))=0,\"\",VLOOKUP($A27,masterlist!$C$2:$AA$200,9,FALSE)),\"\")","v":""},{"$f":"IFERROR(VLOOKUP($A27,masterlist!$C$2:$AA$200,20,FALSE),\"\")","v":""},{"$f":"IFERROR(VLOOKUP($A27,masterlist!$C$2:$AA$200,21,FALSE),\"\")","v":""},{"$f":"IFERROR(VLOOKUP($A27,masterlist!$C$2:$AA$200,22,FALSE),\"\")","v":""},{"$f":"IFERROR(IF($B$7=2,(VLOOKUP($A27,masterlist!$C$2:$AA$200,23,FALSE)-11),IF($B$7=4,(VLOOKUP($A27,masterlist!$C$2:$AA$200,23,FALSE)-9),IF($B$7=7,(VLOOKUP($A27,masterlist!$C$2:$AA$200,23,FALSE)-6),IF($B$7=10,(VLOOKUP($A27,masterlist!$C$2:$AA$200,23,FALSE)-3),(VLOOKUP($A27,masterlist!$C$2:$AA$200,23,FALSE)))))),\"\")","v":""},{"$f":"IFERROR(VLOOKUP($A27,masterlist!$C$2:$AA$200,24,FALSE),\"\")","v":""}]
[{"$f":"IF(ROWS($A$13:A28)<=(SUMPRODUCT((masterlist!B:B=\"DCA\")*(masterlist!J:J=0))),INDEX(masterlist!$C$2:$C$200,SMALL(IF(masterlist!$B$2:$B$200=\"DCA\",IF(masterlist!$F$2:$F$200>0,IF(masterlist!$J$2:$J$200=0,ROW(masterlist!$B$2:$B$200)-ROW(masterlist!$B$2)+1))),ROWS($A$13:A28))),\"\")","v":""},{"$f":"IFERROR(VLOOKUP($A28,masterlist!$C$2:$AA$200,3,FALSE),\"\")","v":""},{"$f":"IFERROR(VLOOKUP($A28,masterlist!$C$2:$AA$200,2,FALSE),\"\")","v":""},{"$f":"IFERROR(VLOOKUP($A28,masterlist!$C$2:$AA$200,5,FALSE),\"\")","v":""},{"$f":"IFERROR(IF((VLOOKUP($A28,masterlist!$C$2:$AA$200,9,FALSE))=0,\"\",VLOOKUP($A28,masterlist!$C$2:$AA$200,9,FALSE)),\"\")","v":""},{"$f":"IFERROR(VLOOKUP($A28,masterlist!$C$2:$AA$200,20,FALSE),\"\")","v":""},{"$f":"IFERROR(VLOOKUP($A28,masterlist!$C$2:$AA$200,21,FALSE),\"\")","v":""},{"$f":"IFERROR(VLOOKUP($A28,masterlist!$C$2:$AA$200,22,FALSE),\"\")","v":""},{"$f":"IFERROR(IF($B$7=2,(VLOOKUP($A28,masterlist!$C$2:$AA$200,23,FALSE)-11),IF($B$7=4,(VLOOKUP($A28,masterlist!$C$2:$AA$200,23,FALSE)-9),IF($B$7=7,(VLOOKUP($A28,masterlist!$C$2:$AA$200,23,FALSE)-6),IF($B$7=10,(VLOOKUP($A28,masterlist!$C$2:$AA$200,23,FALSE)-3),(VLOOKUP($A28,masterlist!$C$2:$AA$200,23,FALSE)))))),\"\")","v":""},{"$f":"IFERROR(VLOOKUP($A28,masterlist!$C$2:$AA$200,24,FALSE),\"\")","v":""}]
[{"$f":"IF(ROWS($A$13:A29)<=(SUMPRODUCT((masterlist!B:B=\"DCA\")*(masterlist!J:J=0))),INDEX(masterlist!$C$2:$C$200,SMALL(IF(masterlist!$B$2:$B$200=\"DCA\",IF(masterlist!$F$2:$F$200>0,IF(masterlist!$J$2:$J$200=0,ROW(masterlist!$B$2:$B$200)-ROW(masterlist!$B$2)+1))),ROWS($A$13:A29))),\"\")","v":""},{"$f":"IFERROR(VLOOKUP($A29,masterlist!$C$2:$AA$200,3,FALSE),\"\")","v":""},{"$f":"IFERROR(VLOOKUP($A29,masterlist!$C$2:$AA$200,2,FALSE),\"\")","v":""},{"$f":"IFERROR(VLOOKUP($A29,masterlist!$C$2:$AA$200,5,FALSE),\"\")","v":""},{"$f":"IFERROR(IF((VLOOKUP($A29,masterlist!$C$2:$AA$200,9,FALSE))=0,\"\",VLOOKUP($A29,masterlist!$C$2:$AA$200,9,FALSE)),\"\")","v":""},{"$f":"IFERROR(VLOOKUP($A29,masterlist!$C$2:$AA$200,20,FALSE),\"\")","v":""},{"$f":"IFERROR(VLOOKUP($A29,masterlist!$C$2:$AA$200,21,FALSE),\"\")","v":""},{"$f":"IFERROR(VLOOKUP($A29,masterlist!$C$2:$AA$200,22,FALSE),\"\")","v":""},{"$f":"IFERROR(IF($B$7=2,(VLOOKUP($A29,masterlist!$C$2:$AA$200,23,FALSE)-11),IF($B$7=4,(VLOOKUP($A29,masterlist!$C$2:$AA$200,23,FALSE)-9),IF($B$7=7,(VLOOKUP($A29,masterlist!$C$2:$AA$200,23,FALSE)-6),IF($B$7=10,(VLOOKUP($A29,masterlist!$C$2:$AA$200,23,FALSE)-3),(VLOOKUP($A29,masterlist!$C$2:$AA$200,23,FALSE)))))),\"\")","v":""},{"$f":"IFERROR(VLOOKUP($A29,masterlist!$C$2:$AA$200,24,FALSE),\"\")","v":""}]
[{"$f":"IF(ROWS($A$13:A30)<=(SUMPRODUCT((masterlist!B:B=\"DCA\")*(masterlist!J:J=0))),INDEX(masterlist!$C$2:$C$200,SMALL(IF(masterlist!$B$2:$B$200=\"DCA\",IF(masterlist!$F$2:$F$200>0,IF(masterlist!$J$2:$J$200=0,ROW(masterlist!$B$2:$B$200)-ROW(masterlist!$B$2)+1))),ROWS($A$13:A30))),\"\")","v":""},{"$f":"IFERROR(VLOOKUP($A30,masterlist!$C$2:$AA$200,3,FALSE),\"\")","v":""},{"$f":"IFERROR(VLOOKUP($A30,masterlist!$C$2:$AA$200,2,FALSE),\"\")","v":""},{"$f":"IFERROR(VLOOKUP($A30,masterlist!$C$2:$AA$200,5,FALSE),\"\")","v":""},{"$f":"IFERROR(IF((VLOOKUP($A30,masterlist!$C$2:$AA$200,9,FALSE))=0,\"\",VLOOKUP($A30,masterlist!$C$2:$AA$200,9,FALSE)),\"\")","v":""},{"$f":"IFERROR(VLOOKUP($A30,masterlist!$C$2:$AA$200,20,FALSE),\"\")","v":""},{"$f":"IFERROR(VLOOKUP($A30,masterlist!$C$2:$AA$200,21,FALSE),\"\")","v":""},{"$f":"IFERROR(VLOOKUP($A30,masterlist!$C$2:$AA$200,22,FALSE),\"\")","v":""},{"$f":"IFERROR(IF($B$7=2,(VLOOKUP($A30,masterlist!$C$2:$AA$200,23,FALSE)-11),IF($B$7=4,(VLOOKUP($A30,masterlist!$C$2:$AA$200,23,FALSE)-9),IF($B$7=7,(VLOOKUP($A30,masterlist!$C$2:$AA$200,23,FALSE)-6),IF($B$7=10,(VLOOKUP($A30,masterlist!$C$2:$AA$200,23,FALSE)-3),(VLOOKUP($A30,masterlist!$C$2:$AA$200,23,FALSE)))))),\"\")","v":""},{"$f":"IFERROR(VLOOKUP($A30,masterlist!$C$2:$AA$200,24,FALSE),\"\")","v":""}]
[{"$f":"IF(ROWS($A$13:A31)<=(SUMPRODUCT((masterlist!B:B=\"DCA\")*(masterlist!J:J=0))),INDEX(masterlist!$C$2:$C$200,SMALL(IF(masterlist!$B$2:$B$200=\"DCA\",IF(masterlist!$F$2:$F$200>0,IF(masterlist!$J$2:$J$200=0,ROW(masterlist!$B$2:$B$200)-ROW(masterlist!$B$2)+1))),ROWS($A$13:A31))),\"\")","v":""},{"$f":"IFERROR(VLOOKUP($A31,masterlist!$C$2:$AA$200,3,FALSE),\"\")","v":""},{"$f":"IFERROR(VLOOKUP($A31,masterlist!$C$2:$AA$200,2,FALSE),\"\")","v":""},{"$f":"IFERROR(VLOOKUP($A31,masterlist!$C$2:$AA$200,5,FALSE),\"\")","v":""},{"$f":"IFERROR(IF((VLOOKUP($A31,masterlist!$C$2:$AA$200,9,FALSE))=0,\"\",VLOOKUP($A31,masterlist!$C$2:$AA$200,9,FALSE)),\"\")","v":""},{"$f":"IFERROR(VLOOKUP($A31,masterlist!$C$2:$AA$200,20,FALSE),\"\")","v":""},{"$f":"IFERROR(VLOOKUP($A31,masterlist!$C$2:$AA$200,21,FALSE),\"\")","v":""},{"$f":"IFERROR(VLOOKUP($A31,masterlist!$C$2:$AA$200,22,FALSE),\"\")","v":""},{"$f":"IFERROR(IF($B$7=2,(VLOOKUP($A31,masterlist!$C$2:$AA$200,23,FALSE)-11),IF($B$7=4,(VLOOKUP($A31,masterlist!$C$2:$AA$200,23,FALSE)-9),IF($B$7=7,(VLOOKUP($A31,masterlist!$C$2:$AA$200,23,FALSE)-6),IF($B$7=10,(VLOOKUP($A31,masterlist!$C$2:$AA$200,23,FALSE)-3),(VLOOKUP($A31,masterlist!$C$2:$AA$200,23,FALSE)))))),\"\")","v":""},{"$f":"IFERROR(VLOOKUP($A31,masterlist!$C$2:$AA$200,24,FALSE),\"\")","v":""}]
[{"$f":"IF(ROWS($A$13:A32)<=(SUMPRODUCT((masterlist!B:B=\"DCA\")*(masterlist!J:J=0))),INDEX(masterlist!$C$2:$C$200,SMALL(IF(masterlist!$B$2:$B$200=\"DCA\",IF(masterlist!$F$2:$F$200>0,IF(masterlist!$J$2:$J$200=0,ROW(masterlist!$B$2:$B$200)-ROW(masterlist!$B$2)+1))),ROWS($A$13:A32))),\"\")","v":""},{"$f":"IFERROR(VLOOKUP($A32,masterlist!$C$2:$AA$200,3,FALSE),\"\")","v":""},{"$f":"IFERROR(VLOOKUP($A32,masterlist!$C$2:$AA$200,2,FALSE),\"\")","v":""},{"$f":"IFERROR(VLOOKUP($A32,masterlist!$C$2:$AA$200,5,FALSE),\"\")","v":""},{"$f":"IFERROR(IF((VLOOKUP($A32,masterlist!$C$2:$AA$200,9,FALSE))=0,\"\",VLOOKUP($A32,masterlist!$C$2:$AA$200,9,FALSE)),\"\")","v":""},{"$f":"IFERROR(VLOOKUP($A32,masterlist!$C$2:$AA$200,20,FALSE),\"\")","v":""},{"$f":"IFERROR(VLOOKUP($A32,masterlist!$C$2:$AA$200,21,FALSE),\"\")","v":""},{"$f":"IFERROR(VLOOKUP($A32,masterlist!$C$2:$AA$200,22,FALSE),\"\")","v":""},{"$f":"IFERROR(IF($B$7=2,(VLOOKUP($A32,masterlist!$C$2:$AA$200,23,FALSE)-11),IF($B$7=4,(VLOOKUP($A32,masterlist!$C$2:$AA$200,23,FALSE)-9),IF($B$7=7,(VLOOKUP($A32,masterlist!$C$2:$AA$200,23,FALSE)-6),IF($B$7=10,(VLOOKUP($A32,masterlist!$C$2:$AA$200,23,FALSE)-3),(VLOOKUP($A32,masterlist!$C$2:$AA$200,23,FALSE)))))),\"\")","v":""},{"$f":"IFERROR(VLOOKUP($A32,masterlist!$C$2:$AA$200,24,FALSE),\"\")","v":""}]
[{"$f":"IF(ROWS($A$13:A33)<=(SUMPRODUCT((masterlist!B:B=\"DCA\")*(masterlist!J:J=0))),INDEX(masterlist!$C$2:$C$200,SMALL(IF(masterlist!$B$2:$B$200=\"DCA\",IF(masterlist!$F$2:$F$200>0,IF(masterlist!$J$2:$J$200=0,ROW(masterlist!$B$2:$B$200)-ROW(masterlist!$B$2)+1))),ROWS($A$13:A33))),\"\")","v":""},{"$f":"IFERROR(VLOOKUP($A33,masterlist!$C$2:$AA$200,3,FALSE),\"\")","v":""},{"$f":"IFERROR(VLOOKUP($A33,masterlist!$C$2:$AA$200,2,FALSE),\"\")","v":""},{"$f":"IFERROR(VLOOKUP($A33,masterlist!$C$2:$AA$200,5,FALSE),\"\")","v":""},{"$f":"IFERROR(IF((VLOOKUP($A33,masterlist!$C$2:$AA$200,9,FALSE))=0,\"\",VLOOKUP($A33,masterlist!$C$2:$AA$200,9,FALSE)),\"\")","v":""},{"$f":"IFERROR(VLOOKUP($A33,masterlist!$C$2:$AA$200,20,FALSE),\"\")","v":""},{"$f":"IFERROR(VLOOKUP($A33,masterlist!$C$2:$AA$200,21,FALSE),\"\")","v":""},{"$f":"IFERROR(VLOOKUP($A33,masterlist!$C$2:$AA$200,22,FALSE),\"\")","v":""},{"$f":"IFERROR(IF($B$7=2,(VLOOKUP($A33,masterlist!$C$2:$AA$200,23,FALSE)-11),IF($B$7=4,(VLOOKUP($A33,masterlist!$C$2:$AA$200,23,FALSE)-9),IF($B$7=7,(VLOOKUP($A33,masterlist!$C$2:$AA$200,23,FALSE)-6),IF($B$7=10,(VLOOKUP($A33,masterlist!$C$2:$AA$200,23,FALSE)-3),(VLOOKUP($A33,masterlist!$C$2:$AA$200,23,FALSE)))))),\"\")","v":""},{"$f":"IFERROR(VLOOKUP($A33,masterlist!$C$2:$AA$200,24,FALSE),\"\")","v":""}]
[{"$f":"IF(ROWS($A$13:A34)<=(SUMPRODUCT((masterlist!B:B=\"DCA\")*(masterlist!J:J=0))),INDEX(masterlist!$C$2:$C$200,SMALL(IF(masterlist!$B$2:$B$200=\"DCA\",IF(masterlist!$F$2:$F$200>0,IF(masterlist!$J$2:$J$200=0,ROW(masterlist!$B$2:$B$200)-ROW(masterlist!$B$2)+1))),ROWS($A$13:A34))),\"\")","v":""},{"$f":"IFERROR(VLOOKUP($A34,masterlist!$C$2:$AA$200,3,FALSE),\"\")","v":""},{"$f":"IFERROR(VLOOKUP($A34,masterlist!$C$2:$AA$200,2,FALSE),\"\")","v":""},{"$f":"IFERROR(VLOOKUP($A34,masterlist!$C$2:$AA$200,5,FALSE),\"\")","v":""},{"$f":"IFERROR(IF((VLOOKUP($A34,masterlist!$C$2:$AA$200,9,FALSE))=0,\"\",VLOOKUP($A34,masterlist!$C$2:$AA$200,9,FALSE)),\"\")","v":""},{"$f":"IFERROR(VLOOKUP($A34,masterlist!$C$2:$AA$200,20,FALSE),\"\")","v":""},{"$f":"IFERROR(VLOOKUP($A34,masterlist!$C$2:$AA$200,21,FALSE),\"\")","v":""},{"$f":"IFERROR(VLOOKUP($A34,masterlist!$C$2:$AA$200,22,FALSE),\"\")","v":""},{"$f":"IFERROR(IF($B$7=2,(VLOOKUP($A34,masterlist!$C$2:$AA$200,23,FALSE)-11),IF($B$7=4,(VLOOKUP($A34,masterlist!$C$2:$AA$200,23,FALSE)-9),IF($B$7=7,(VLOOKUP($A34,masterlist!$C$2:$AA$200,23,FALSE)-6),IF($B$7=10,(VLOOKUP($A34,masterlist!$C$2:$AA$200,23,FALSE)-3),(VLOOKUP($A34,masterlist!$C$2:$AA$200,23,FALSE)))))),\"\")","v":""},{"$f":"IFERROR(VLOOKUP($A34,masterlist!$C$2:$AA$200,24,FALSE),\"\")","v":""}]
[{"$f":"IF(ROWS($A$13:A35)<=(SUMPRODUCT((masterlist!B:B=\"DCA\")*(masterlist!J:J=0))),INDEX(masterlist!$C$2:$C$200,SMALL(IF(masterlist!$B$2:$B$200=\"DCA\",IF(masterlist!$F$2:$F$200>0,IF(masterlist!$J$2:$J$200=0,ROW(masterlist!$B$2:$B$200)-ROW(masterlist!$B$2)+1))),ROWS($A$13:A35))),\"\")","v":""},{"$f":"IFERROR(VLOOKUP($A35,masterlist!$C$2:$AA$200,3,FALSE),\"\")","v":""},{"$f":"IFERROR(VLOOKUP($A35,masterlist!$C$2:$AA$200,2,FALSE),\"\")","v":""},{"$f":"IFERROR(VLOOKUP($A35,masterlist!$C$2:$AA$200,5,FALSE),\"\")","v":""},{"$f":"IFERROR(IF((VLOOKUP($A35,masterlist!$C$2:$AA$200,9,FALSE))=0,\"\",VLOOKUP($A35,masterlist!$C$2:$AA$200,9,FALSE)),\"\")","v":""},{"$f":"IFERROR(VLOOKUP($A35,masterlist!$C$2:$AA$200,20,FALSE),\"\")","v":""},{"$f":"IFERROR(VLOOKUP($A35,masterlist!$C$2:$AA$200,21,FALSE),\"\")","v":""},{"$f":"IFERROR(VLOOKUP($A35,masterlist!$C$2:$AA$200,22,FALSE),\"\")","v":""},{"$f":"IFERROR(IF($B$7=2,(VLOOKUP($A35,masterlist!$C$2:$AA$200,23,FALSE)-11),IF($B$7=4,(VLOOKUP($A35,masterlist!$C$2:$AA$200,23,FALSE)-9),IF($B$7=7,(VLOOKUP($A35,masterlist!$C$2:$AA$200,23,FALSE)-6),IF($B$7=10,(VLOOKUP($A35,masterlist!$C$2:$AA$200,23,FALSE)-3),(VLOOKUP($A35,masterlist!$C$2:$AA$200,23,FALSE)))))),\"\")","v":""},{"$f":"IFERROR(VLOOKUP($A35,masterlist!$C$2:$AA$200,24,FALSE),\"\")","v":""}]
[{"$f":"IF(ROWS($A$13:A36)<=(SUMPRODUCT((masterlist!B:B=\"DCA\")*(masterlist!J:J=0))),INDEX(masterlist!$C$2:$C$200,SMALL(IF(masterlist!$B$2:$B$200=\"DCA\",IF(masterlist!$F$2:$F$200>0,IF(masterlist!$J$2:$J$200=0,ROW(masterlist!$B$2:$B$200)-ROW(masterlist!$B$2)+1))),ROWS($A$13:A36))),\"\")","v":""},{"$f":"IFERROR(VLOOKUP($A36,masterlist!$C$2:$AA$200,3,FALSE),\"\")","v":""},{"$f":"IFERROR(VLOOKUP($A36,masterlist!$C$2:$AA$200,2,FALSE),\"\")","v":""},{"$f":"IFERROR(VLOOKUP($A36,masterlist!$C$2:$AA$200,5,FALSE),\"\")","v":""},{"$f":"IFERROR(IF((VLOOKUP($A36,masterlist!$C$2:$AA$200,9,FALSE))=0,\"\",VLOOKUP($A36,masterlist!$C$2:$AA$200,9,FALSE)),\"\")","v":""},{"$f":"IFERROR(VLOOKUP($A36,masterlist!$C$2:$AA$200,20,FALSE),\"\")","v":""},{"$f":"IFERROR(VLOOKUP($A36,masterlist!$C$2:$AA$200,21,FALSE),\"\")","v":""},{"$f":"IFERROR(VLOOKUP($A36,masterlist!$C$2:$AA$200,22,FALSE),\"\")","v":""},{"$f":"IFERROR(IF($B$7=2,(VLOOKUP($A36,masterlist!$C$2:$AA$200,23,FALSE)-11),IF($B$7=4,(VLOOKUP($A36,masterlist!$C$2:$AA$200,23,FALSE)-9),IF($B$7=7,(VLOOKUP($A36,masterlist!$C$2:$AA$200,23,FALSE)-6),IF($B$7=10,(VLOOKUP($A36,masterlist!$C$2:$AA$200,23,FALSE)-3),(VLOOKUP($A36,masterlist!$C$2:$AA$200,23,FALSE)))))),\"\")","v":""},{"$f":"IFERROR(VLOOKUP($A36,masterlist!$C$2:$AA$200,24,FALSE),\"\")","v":""}]
[{"$f":"IF(ROWS($A$13:A37)<=(SUMPRODUCT((masterlist!B:B=\"DCA\")*(masterlist!J:J=0))),INDEX(masterlist!$C$2:$C$200,SMALL(IF(masterlist!$B$2:$B$200=\"DCA\",IF(masterlist!$F$2:$F$200>0,IF(masterlist!$J$2:$J$200=0,ROW(masterlist!$B$2:$B$200)-ROW(masterlist!$B$2)+1))),ROWS($A$13:A37))),\"\")","v":""},{"$f":"IFERROR(VLOOKUP($A37,masterlist!$C$2:$AA$200,3,FALSE),\"\")","v":""},{"$f":"IFERROR(VLOOKUP($A37,masterlist!$C$2:$AA$200,2,FALSE),\"\")","v":""},{"$f":"IFERROR(VLOOKUP($A37,masterlist!$C$2:$AA$200,5,FALSE),\"\")","v":""},{"$f":"IFERROR(IF((VLOOKUP($A37,masterlist!$C$2:$AA$200,9,FALSE))=0,\"\",VLOOKUP($A37,masterlist!$C$2:$AA$200,9,FALSE)),\"\")","v":""},{"$f":"IFERROR(VLOOKUP($A37,masterlist!$C$2:$AA$200,20,FALSE),\"\")","v":""},{"$f":"IFERROR(VLOOKUP($A37,masterlist!$C$2:$AA$200,21,FALSE),\"\")","v":""},{"$f":"IFERROR(VLOOKUP($A37,masterlist!$C$2:$AA$200,22,FALSE),\"\")","v":""},{"$f":"IFERROR(IF($B$7=2,(VLOOKUP($A37,masterlist!$C$2:$AA$200,23,FALSE)-11),IF($B$7=4,(VLOOKUP($A37,masterlist!$C$2:$AA$200,23,FALSE)-9),IF($B$7=7,(VLOOKUP($A37,masterlist!$C$2:$AA$200,23,FALSE)-6),IF($B$7=10,(VLOOKUP($A37,masterlist!$C$2:$AA$200,23,FALSE)-3),(VLOOKUP($A37,masterlist!$C$2:$AA$200,23,FALSE)))))),\"\")","v":""},{"$f":"IFERROR(VLOOKUP($A37,masterlist!$C$2:$AA$200,24,FALSE),\"\")","v":""}]
[{"$f":"IF(ROWS($A$13:A38)<=(SUMPRODUCT((masterlist!B:B=\"DCA\")*(masterlist!J:J=0))),INDEX(masterlist!$C$2:$C$200,SMALL(IF(masterlist!$B$2:$B$200=\"DCA\",IF(masterlist!$F$2:$F$200>0,IF(masterlist!$J$2:$J$200=0,ROW(masterlist!$B$2:$B$200)-ROW(masterlist!$B$2)+1))),ROWS($A$13:A38))),\"\")","v":""},{"$f":"IFERROR(VLOOKUP($A38,masterlist!$C$2:$AA$200,3,FALSE),\"\")","v":""},{"$f":"IFERROR(VLOOKUP($A38,masterlist!$C$2:$AA$200,2,FALSE),\"\")","v":""},{"$f":"IFERROR(VLOOKUP($A38,masterlist!$C$2:$AA$200,5,FALSE),\"\")","v":""},{"$f":"IFERROR(IF((VLOOKUP($A38,masterlist!$C$2:$AA$200,9,FALSE))=0,\"\",VLOOKUP($A38,masterlist!$C$2:$AA$200,9,FALSE)),\"\")","v":""},{"$f":"IFERROR(VLOOKUP($A38,masterlist!$C$2:$AA$200,20,FALSE),\"\")","v":""},{"$f":"IFERROR(VLOOKUP($A38,masterlist!$C$2:$AA$200,21,FALSE),\"\")","v":""},{"$f":"IFERROR(VLOOKUP($A38,masterlist!$C$2:$AA$200,22,FALSE),\"\")","v":""},{"$f":"IFERROR(IF($B$7=2,(VLOOKUP($A38,masterlist!$C$2:$AA$200,23,FALSE)-11),IF($B$7=4,(VLOOKUP($A38,masterlist!$C$2:$AA$200,23,FALSE)-9),IF($B$7=7,(VLOOKUP($A38,masterlist!$C$2:$AA$200,23,FALSE)-6),IF($B$7=10,(VLOOKUP($A38,masterlist!$C$2:$AA$200,23,FALSE)-3),(VLOOKUP($A38,masterlist!$C$2:$AA$200,23,FALSE)))))),\"\")","v":""},{"$f":"IFERROR(VLOOKUP($A38,masterlist!$C$2:$AA$200,24,FALSE),\"\")","v":""}]
[{"$f":"IF(ROWS($A$13:A39)<=(SUMPRODUCT((masterlist!B:B=\"DCA\")*(masterlist!J:J=0))),INDEX(masterlist!$C$2:$C$200,SMALL(IF(masterlist!$B$2:$B$200=\"DCA\",IF(masterlist!$F$2:$F$200>0,IF(masterlist!$J$2:$J$200=0,ROW(masterlist!$B$2:$B$200)-ROW(masterlist!$B$2)+1))),ROWS($A$13:A39))),\"\")","v":""},{"$f":"IFERROR(VLOOKUP($A39,masterlist!$C$2:$AA$200,3,FALSE),\"\")","v":""},{"$f":"IFERROR(VLOOKUP($A39,masterlist!$C$2:$AA$200,2,FALSE),\"\")","v":""},{"$f":"IFERROR(VLOOKUP($A39,masterlist!$C$2:$AA$200,5,FALSE),\"\")","v":""},{"$f":"IFERROR(IF((VLOOKUP($A39,masterlist!$C$2:$AA$200,9,FALSE))=0,\"\",VLOOKUP($A39,masterlist!$C$2:$AA$200,9,FALSE)),\"\")","v":""},{"$f":"IFERROR(VLOOKUP($A39,masterlist!$C$2:$AA$200,20,FALSE),\"\")","v":""},{"$f":"IFERROR(VLOOKUP($A39,masterlist!$C$2:$AA$200,21,FALSE),\"\")","v":""},{"$f":"IFERROR(VLOOKUP($A39,masterlist!$C$2:$AA$200,22,FALSE),\"\")","v":""},{"$f":"IFERROR(IF($B$7=2,(VLOOKUP($A39,masterlist!$C$2:$AA$200,23,FALSE)-11),IF($B$7=4,(VLOOKUP($A39,masterlist!$C$2:$AA$200,23,FALSE)-9),IF($B$7=7,(VLOOKUP($A39,masterlist!$C$2:$AA$200,23,FALSE)-6),IF($B$7=10,(VLOOKUP($A39,masterlist!$C$2:$AA$200,23,FALSE)-3),(VLOOKUP($A39,masterlist!$C$2:$AA$200,23,FALSE)))))),\"\")","v":""},{"$f":"IFERROR(VLOOKUP($A39,masterlist!$C$2:$AA$200,24,FALSE),\"\")","v":""}]
[{"$f":"IF(ROWS($A$13:A40)<=(SUMPRODUCT((masterlist!B:B=\"DCA\")*(masterlist!J:J=0))),INDEX(masterlist!$C$2:$C$200,SMALL(IF(masterlist!$B$2:$B$200=\"DCA\",IF(masterlist!$F$2:$F$200>0,IF(masterlist!$J$2:$J$200=0,ROW(masterlist!$B$2:$B$200)-ROW(masterlist!$B$2)+1))),ROWS($A$13:A40))),\"\")","v":""},{"$f":"IFERROR(VLOOKUP($A40,masterlist!$C$2:$AA$200,3,FALSE),\"\")","v":""},{"$f":"IFERROR(VLOOKUP($A40,masterlist!$C$2:$AA$200,2,FALSE),\"\")","v":""},{"$f":"IFERROR(VLOOKUP($A40,masterlist!$C$2:$AA$200,5,FALSE),\"\")","v":""},{"$f":"IFERROR(IF((VLOOKUP($A40,masterlist!$C$2:$AA$200,9,FALSE))=0,\"\",VLOOKUP($A40,masterlist!$C$2:$AA$200,9,FALSE)),\"\")","v":""},{"$f":"IFERROR(VLOOKUP($A40,masterlist!$C$2:$AA$200,20,FALSE),\"\")","v":""},{"$f":"IFERROR(VLOOKUP($A40,masterlist!$C$2:$AA$200,21,FALSE),\"\")","v":""},{"$f":"IFERROR(VLOOKUP($A40,masterlist!$C$2:$AA$200,22,FALSE),\"\")","v":""},{"$f":"IFERROR(IF($B$7=2,(VLOOKUP($A40,masterlist!$C$2:$AA$200,23,FALSE)-11),IF($B$7=4,(VLOOKUP($A40,masterlist!$C$2:$AA$200,23,FALSE)-9),IF($B$7=7,(VLOOKUP($A40,masterlist!$C$2:$AA$200,23,FALSE)-6),IF($B$7=10,(VLOOKUP($A40,masterlist!$C$2:$AA$200,23,FALSE)-3),(VLOOKUP($A40,masterlist!$C$2:$AA$200,23,FALSE)))))),\"\")","v":""},{"$f":"IFERROR(VLOOKUP($A40,masterlist!$C$2:$AA$200,24,FALSE),\"\")","v":""}]
[{"$f":"IF(ROWS($A$13:A41)<=(SUMPRODUCT((masterlist!B:B=\"DCA\")*(masterlist!J:J=0))),INDEX(masterlist!$C$2:$C$200,SMALL(IF(masterlist!$B$2:$B$200=\"DCA\",IF(masterlist!$F$2:$F$200>0,IF(masterlist!$J$2:$J$200=0,ROW(masterlist!$B$2:$B$200)-ROW(masterlist!$B$2)+1))),ROWS($A$13:A41))),\"\")","v":""},{"$f":"IFERROR(VLOOKUP($A41,masterlist!$C$2:$AA$200,3,FALSE),\"\")","v":""},{"$f":"IFERROR(VLOOKUP($A41,masterlist!$C$2:$AA$200,2,FALSE),\"\")","v":""},{"$f":"IFERROR(VLOOKUP($A41,masterlist!$C$2:$AA$200,5,FALSE),\"\")","v":""},{"$f":"IFERROR(IF((VLOOKUP($A41,masterlist!$C$2:$AA$200,9,FALSE))=0,\"\",VLOOKUP($A41,masterlist!$C$2:$AA$200,9,FALSE)),\"\")","v":""},{"$f":"IFERROR(VLOOKUP($A41,masterlist!$C$2:$AA$200,20,FALSE),\"\")","v":""},{"$f":"IFERROR(VLOOKUP($A41,masterlist!$C$2:$AA$200,21,FALSE),\"\")","v":""},{"$f":"IFERROR(VLOOKUP($A41,masterlist!$C$2:$AA$200,22,FALSE),\"\")","v":""},{"$f":"IFERROR(IF($B$7=2,(VLOOKUP($A41,masterlist!$C$2:$AA$200,23,FALSE)-11),IF($B$7=4,(VLOOKUP($A41,masterlist!$C$2:$AA$200,23,FALSE)-9),IF($B$7=7,(VLOOKUP($A41,masterlist!$C$2:$AA$200,23,FALSE)-6),IF($B$7=10,(VLOOKUP($A41,masterlist!$C$2:$AA$200,23,FALSE)-3),(VLOOKUP($A41,masterlist!$C$2:$AA$200,23,FALSE)))))),\"\")","v":""},{"$f":"IFERROR(VLOOKUP($A41,masterlist!$C$2:$AA$200,24,FALSE),\"\")","v":""}]
[{"$f":"IF(ROWS($A$13:A42)<=(SUMPRODUCT((masterlist!B:B=\"DCA\")*(masterlist!J:J=0))),INDEX(masterlist!$C$2:$C$200,SMALL(IF(masterlist!$B$2:$B$200=\"DCA\",IF(masterlist!$F$2:$F$200>0,IF(masterlist!$J$2:$J$200=0,ROW(masterlist!$B$2:$B$200)-ROW(masterlist!$B$2)+1))),ROWS($A$13:A42))),\"\")","v":""},{"$f":"IFERROR(VLOOKUP($A42,masterlist!$C$2:$AA$200,3,FALSE),\"\")","v":""},{"$f":"IFERROR(VLOOKUP($A42,masterlist!$C$2:$AA$200,2,FALSE),\"\")","v":""},{"$f":"IFERROR(VLOOKUP($A42,masterlist!$C$2:$AA$200,5,FALSE),\"\")","v":""},{"$f":"IFERROR(IF((VLOOKUP($A42,masterlist!$C$2:$AA$200,9,FALSE))=0,\"\",VLOOKUP($A42,masterlist!$C$2:$AA$200,9,FALSE)),\"\")","v":""},{"$f":"IFERROR(VLOOKUP($A42,masterlist!$C$2:$AA$200,20,FALSE),\"\")","v":""},{"$f":"IFERROR(VLOOKUP($A42,masterlist!$C$2:$AA$200,21,FALSE),\"\")","v":""},{"$f":"IFERROR(VLOOKUP($A42,masterlist!$C$2:$AA$200,22,FALSE),\"\")","v":""},{"$f":"IFERROR(IF($B$7=2,(VLOOKUP($A42,masterlist!$C$2:$AA$200,23,FALSE)-11),IF($B$7=4,(VLOOKUP($A42,masterlist!$C$2:$AA$200,23,FALSE)-9),IF($B$7=7,(VLOOKUP($A42,masterlist!$C$2:$AA$200,23,FALSE)-6),IF($B$7=10,(VLOOKUP($A42,masterlist!$C$2:$AA$200,23,FALSE)-3),(VLOOKUP($A42,masterlist!$C$2:$AA$200,23,FALSE)))))),\"\")","v":""},{"$f":"IFERROR(VLOOKUP($A42,masterlist!$C$2:$AA$200,24,FALSE),\"\")","v":""}]
[{"$f":"IF(ROWS($A$13:A43)<=(SUMPRODUCT((masterlist!B:B=\"DCA\")*(masterlist!J:J=0))),INDEX(masterlist!$C$2:$C$200,SMALL(IF(masterlist!$B$2:$B$200=\"DCA\",IF(masterlist!$F$2:$F$200>0,IF(masterlist!$J$2:$J$200=0,ROW(masterlist!$B$2:$B$200)-ROW(masterlist!$B$2)+1))),ROWS($A$13:A43))),\"\")","v":""},{"$f":"IFERROR(VLOOKUP($A43,masterlist!$C$2:$AA$200,3,FALSE),\"\")","v":""},{"$f":"IFERROR(VLOOKUP($A43,masterlist!$C$2:$AA$200,2,FALSE),\"\")","v":""},{"$f":"IFERROR(VLOOKUP($A43,masterlist!$C$2:$AA$200,5,FALSE),\"\")","v":""},{"$f":"IFERROR(IF((VLOOKUP($A43,masterlist!$C$2:$AA$200,9,FALSE))=0,\"\",VLOOKUP($A43,masterlist!$C$2:$AA$200,9,FALSE)),\"\")","v":""},{"$f":"IFERROR(VLOOKUP($A43,masterlist!$C$2:$AA$200,20,FALSE),\"\")","v":""},{"$f":"IFERROR(VLOOKUP($A43,masterlist!$C$2:$AA$200,21,FALSE),\"\")","v":""},{"$f":"IFERROR(VLOOKUP($A43,masterlist!$C$2:$AA$200,22,FALSE),\"\")","v":""},{"$f":"IFERROR(IF($B$7=2,(VLOOKUP($A43,masterlist!$C$2:$AA$200,23,FALSE)-11),IF($B$7=4,(VLOOKUP($A43,masterlist!$C$2:$AA$200,23,FALSE)-9),IF($B$7=7,(VLOOKUP($A43,masterlist!$C$2:$AA$200,23,FALSE)-6),IF($B$7=10,(VLOOKUP($A43,masterlist!$C$2:$AA$200,23,FALSE)-3),(VLOOKUP($A43,masterlist!$C$2:$AA$200,23,FALSE)))))),\"\")","v":""},{"$f":"IFERROR(VLOOKUP($A43,masterlist!$C$2:$AA$200,24,FALSE),\"\")","v":""}]
[{"$f":"IF(ROWS($A$13:A44)<=(SUMPRODUCT((masterlist!B:B=\"DCA\")*(masterlist!J:J=0))),INDEX(masterlist!$C$2:$C$200,SMALL(IF(masterlist!$B$2:$B$200=\"DCA\",IF(masterlist!$F$2:$F$200>0,IF(masterlist!$J$2:$J$200=0,ROW(masterlist!$B$2:$B$200)-ROW(masterlist!$B$2)+1))),ROWS($A$13:A44))),\"\")","v":""},{"$f":"IFERROR(VLOOKUP($A44,masterlist!$C$2:$AA$200,3,FALSE),\"\")","v":""},{"$f":"IFERROR(VLOOKUP($A44,masterlist!$C$2:$AA$200,2,FALSE),\"\")","v":""},{"$f":"IFERROR(VLOOKUP($A44,masterlist!$C$2:$AA$200,5,FALSE),\"\")","v":""},{"$f":"IFERROR(IF((VLOOKUP($A44,masterlist!$C$2:$AA$200,9,FALSE))=0,\"\",VLOOKUP($A44,masterlist!$C$2:$AA$200,9,FALSE)),\"\")","v":""},{"$f":"IFERROR(VLOOKUP($A44,masterlist!$C$2:$AA$200,20,FALSE),\"\")","v":""},{"$f":"IFERROR(VLOOKUP($A44,masterlist!$C$2:$AA$200,21,FALSE),\"\")","v":""},{"$f":"IFERROR(VLOOKUP($A44,masterlist!$C$2:$AA$200,22,FALSE),\"\")","v":""},{"$f":"IFERROR(IF($B$7=2,(VLOOKUP($A44,masterlist!$C$2:$AA$200,23,FALSE)-11),IF($B$7=4,(VLOOKUP($A44,masterlist!$C$2:$AA$200,23,FALSE)-9),IF($B$7=7,(VLOOKUP($A44,masterlist!$C$2:$AA$200,23,FALSE)-6),IF($B$7=10,(VLOOKUP($A44,masterlist!$C$2:$AA$200,23,FALSE)-3),(VLOOKUP($A44,masterlist!$C$2:$AA$200,23,FALSE)))))),\"\")","v":""},{"$f":"IFERROR(VLOOKUP($A44,masterlist!$C$2:$AA$200,24,FALSE),\"\")","v":""}]
[{"$f":"IF(ROWS($A$13:A45)<=(SUMPRODUCT((masterlist!B:B=\"DCA\")*(masterlist!J:J=0))),INDEX(masterlist!$C$2:$C$200,SMALL(IF(masterlist!$B$2:$B$200=\"DCA\",IF(masterlist!$F$2:$F$200>0,IF(masterlist!$J$2:$J$200=0,ROW(masterlist!$B$2:$B$200)-ROW(masterlist!$B$2)+1))),ROWS($A$13:A45))),\"\")","v":""},{"$f":"IFERROR(VLOOKUP($A45,masterlist!$C$2:$AA$200,3,FALSE),\"\")","v":""},{"$f":"IFERROR(VLOOKUP($A45,masterlist!$C$2:$AA$200,2,FALSE),\"\")","v":""},{"$f":"IFERROR(VLOOKUP($A45,masterlist!$C$2:$AA$200,5,FALSE),\"\")","v":""},{"$f":"IFERROR(IF((VLOOKUP($A45,masterlist!$C$2:$AA$200,9,FALSE))=0,\"\",VLOOKUP($A45,masterlist!$C$2:$AA$200,9,FALSE)),\"\")","v":""},{"$f":"IFERROR(VLOOKUP($A45,masterlist!$C$2:$AA$200,20,FALSE),\"\")","v":""},{"$f":"IFERROR(VLOOKUP($A45,masterlist!$C$2:$AA$200,21,FALSE),\"\")","v":""},{"$f":"IFERROR(VLOOKUP($A45,masterlist!$C$2:$AA$200,22,FALSE),\"\")","v":""},{"$f":"IFERROR(IF($B$7=2,(VLOOKUP($A45,masterlist!$C$2:$AA$200,23,FALSE)-11),IF($B$7=4,(VLOOKUP($A45,masterlist!$C$2:$AA$200,23,FALSE)-9),IF($B$7=7,(VLOOKUP($A45,masterlist!$C$2:$AA$200,23,FALSE)-6),IF($B$7=10,(VLOOKUP($A45,masterlist!$C$2:$AA$200,23,FALSE)-3),(VLOOKUP($A45,masterlist!$C$2:$AA$200,23,FALSE)))))),\"\")","v":""},{"$f":"IFERROR(VLOOKUP($A45,masterlist!$C$2:$AA$200,24,FALSE),\"\")","v":""}]
[{"$f":"IF(ROWS($A$13:A46)<=(SUMPRODUCT((masterlist!B:B=\"DCA\")*(masterlist!J:J=0))),INDEX(masterlist!$C$2:$C$200,SMALL(IF(masterlist!$B$2:$B$200=\"DCA\",IF(masterlist!$F$2:$F$200>0,IF(masterlist!$J$2:$J$200=0,ROW(masterlist!$B$2:$B$200)-ROW(masterlist!$B$2)+1))),ROWS($A$13:A46))),\"\")","v":""},{"$f":"IFERROR(VLOOKUP($A46,masterlist!$C$2:$AA$200,3,FALSE),\"\")","v":""},{"$f":"IFERROR(VLOOKUP($A46,masterlist!$C$2:$AA$200,2,FALSE),\"\")","v":""},{"$f":"IFERROR(VLOOKUP($A46,masterlist!$C$2:$AA$200,5,FALSE),\"\")","v":""},{"$f":"IFERROR(IF((VLOOKUP($A46,masterlist!$C$2:$AA$200,9,FALSE))=0,\"\",VLOOKUP($A46,masterlist!$C$2:$AA$200,9,FALSE)),\"\")","v":""},{"$f":"IFERROR(VLOOKUP($A46,masterlist!$C$2:$AA$200,20,FALSE),\"\")","v":""},{"$f":"IFERROR(VLOOKUP($A46,masterlist!$C$2:$AA$200,21,FALSE),\"\")","v":""},{"$f":"IFERROR(VLOOKUP($A46,masterlist!$C$2:$AA$200,22,FALSE),\"\")","v":""},{"$f":"IFERROR(IF($B$7=2,(VLOOKUP($A46,masterlist!$C$2:$AA$200,23,FALSE)-11),IF($B$7=4,(VLOOKUP($A46,masterlist!$C$2:$AA$200,23,FALSE)-9),IF($B$7=7,(VLOOKUP($A46,masterlist!$C$2:$AA$200,23,FALSE)-6),IF($B$7=10,(VLOOKUP($A46,masterlist!$C$2:$AA$200,23,FALSE)-3),(VLOOKUP($A46,masterlist!$C$2:$AA$200,23,FALSE)))))),\"\")","v":""},{"$f":"IFERROR(VLOOKUP($A46,masterlist!$C$2:$AA$200,24,FALSE),\"\")","v":""}]
[{"$f":"IF(ROWS($A$13:A47)<=(SUMPRODUCT((masterlist!B:B=\"DCA\")*(masterlist!J:J=0))),INDEX(masterlist!$C$2:$C$200,SMALL(IF(masterlist!$B$2:$B$200=\"DCA\",IF(masterlist!$F$2:$F$200>0,IF(masterlist!$J$2:$J$200=0,ROW(masterlist!$B$2:$B$200)-ROW(masterlist!$B$2)+1))),ROWS($A$13:A47))),\"\")","v":""},{"$f":"IFERROR(VLOOKUP($A47,masterlist!$C$2:$AA$200,3,FALSE),\"\")","v":""},{"$f":"IFERROR(VLOOKUP($A47,masterlist!$C$2:$AA$200,2,FALSE),\"\")","v":""},{"$f":"IFERROR(VLOOKUP($A47,masterlist!$C$2:$AA$200,5,FALSE),\"\")","v":""},{"$f":"IFERROR(IF((VLOOKUP($A47,masterlist!$C$2:$AA$200,9,FALSE))=0,\"\",VLOOKUP($A47,masterlist!$C$2:$AA$200,9,FALSE)),\"\")","v":""},{"$f":"IFERROR(VLOOKUP($A47,masterlist!$C$2:$AA$200,20,FALSE),\"\")","v":""},{"$f":"IFERROR(VLOOKUP($A47,masterlist!$C$2:$AA$200,21,FALSE),\"\")","v":""},{"$f":"IFERROR(VLOOKUP($A47,masterlist!$C$2:$AA$200,22,FALSE),\"\")","v":""},{"$f":"IFERROR(IF($B$7=2,(VLOOKUP($A47,masterlist!$C$2:$AA$200,23,FALSE)-11),IF($B$7=4,(VLOOKUP($A47,masterlist!$C$2:$AA$200,23,FALSE)-9),IF($B$7=7,(VLOOKUP($A47,masterlist!$C$2:$AA$200,23,FALSE)-6),IF($B$7=10,(VLOOKUP($A47,masterlist!$C$2:$AA$200,23,FALSE)-3),(VLOOKUP($A47,masterlist!$C$2:$AA$200,23,FALSE)))))),\"\")","v":""},{"$f":"IFERROR(VLOOKUP($A47,masterlist!$C$2:$AA$200,24,FALSE),\"\")","v":""}]
[{"$f":"IF(ROWS($A$13:A48)<=(SUMPRODUCT((masterlist!B:B=\"DCA\")*(masterlist!J:J=0))),INDEX(masterlist!$C$2:$C$200,SMALL(IF(masterlist!$B$2:$B$200=\"DCA\",IF(masterlist!$F$2:$F$200>0,IF(masterlist!$J$2:$J$200=0,ROW(masterlist!$B$2:$B$200)-ROW(masterlist!$B$2)+1))),ROWS($A$13:A48))),\"\")","v":""},{"$f":"IFERROR(VLOOKUP($A48,masterlist!$C$2:$AA$200,3,FALSE),\"\")","v":""},{"$f":"IFERROR(VLOOKUP($A48,masterlist!$C$2:$AA$200,2,FALSE),\"\")","v":""},{"$f":"IFERROR(VLOOKUP($A48,masterlist!$C$2:$AA$200,5,FALSE),\"\")","v":""},{"$f":"IFERROR(IF((VLOOKUP($A48,masterlist!$C$2:$AA$200,9,FALSE))=0,\"\",VLOOKUP($A48,masterlist!$C$2:$AA$200,9,FALSE)),\"\")","v":""},{"$f":"IFERROR(VLOOKUP($A48,masterlist!$C$2:$AA$200,20,FALSE),\"\")","v":""},{"$f":"IFERROR(VLOOKUP($A48,masterlist!$C$2:$AA$200,21,FALSE),\"\")","v":""},{"$f":"IFERROR(VLOOKUP($A48,masterlist!$C$2:$AA$200,22,FALSE),\"\")","v":""},{"$f":"IFERROR(IF($B$7=2,(VLOOKUP($A48,masterlist!$C$2:$AA$200,23,FALSE)-11),IF($B$7=4,(VLOOKUP($A48,masterlist!$C$2:$AA$200,23,FALSE)-9),IF($B$7=7,(VLOOKUP($A48,masterlist!$C$2:$AA$200,23,FALSE)-6),IF($B$7=10,(VLOOKUP($A48,masterlist!$C$2:$AA$200,23,FALSE)-3),(VLOOKUP($A48,masterlist!$C$2:$AA$200,23,FALSE)))))),\"\")","v":""},{"$f":"IFERROR(VLOOKUP($A48,masterlist!$C$2:$AA$200,24,FALSE),\"\")","v":""}]
[{"$f":"IF(ROWS($A$13:A49)<=(SUMPRODUCT((masterlist!B:B=\"DCA\")*(masterlist!J:J=0))),INDEX(masterlist!$C$2:$C$200,SMALL(IF(masterlist!$B$2:$B$200=\"DCA\",IF(masterlist!$F$2:$F$200>0,IF(masterlist!$J$2:$J$200=0,ROW(masterlist!$B$2:$B$200)-ROW(masterlist!$B$2)+1))),ROWS($A$13:A49))),\"\")","v":""},{"$f":"IFERROR(VLOOKUP($A49,masterlist!$C$2:$AA$200,3,FALSE),\"\")","v":""},{"$f":"IFERROR(VLOOKUP($A49,masterlist!$C$2:$AA$200,2,FALSE),\"\")","v":""},{"$f":"IFERROR(VLOOKUP($A49,masterlist!$C$2:$AA$200,5,FALSE),\"\")","v":""},{"$f":"IFERROR(IF((VLOOKUP($A49,masterlist!$C$2:$AA$200,9,FALSE))=0,\"\",VLOOKUP($A49,masterlist!$C$2:$AA$200,9,FALSE)),\"\")","v":""},{"$f":"IFERROR(VLOOKUP($A49,masterlist!$C$2:$AA$200,20,FALSE),\"\")","v":""},{"$f":"IFERROR(VLOOKUP($A49,masterlist!$C$2:$AA$200,21,FALSE),\"\")","v":""},{"$f":"IFERROR(VLOOKUP($A49,masterlist!$C$2:$AA$200,22,FALSE),\"\")","v":""},{"$f":"IFERROR(IF($B$7=2,(VLOOKUP($A49,masterlist!$C$2:$AA$200,23,FALSE)-11),IF($B$7=4,(VLOOKUP($A49,masterlist!$C$2:$AA$200,23,FALSE)-9),IF($B$7=7,(VLOOKUP($A49,masterlist!$C$2:$AA$200,23,FALSE)-6),IF($B$7=10,(VLOOKUP($A49,masterlist!$C$2:$AA$200,23,FALSE)-3),(VLOOKUP($A49,masterlist!$C$2:$AA$200,23,FALSE)))))),\"\")","v":""},{"$f":"IFERROR(VLOOKUP($A49,masterlist!$C$2:$AA$200,24,FALSE),\"\")","v":""}]

{"sheet":"DCA","index":23,"n_rows":49,"n_cols":10,"rows_kept":49,"cut":false,"hidden":true,"merged":[[0,7,0,9],[0,1,0,6],[1,3,1,9],[4,1,5,3],[6,1,8,3]]}
[null,"Data Collection and Analysis",null,null,null,null,null,"Practical Workplan towards Achieving Rabies Elimination"]
[null,null,null,"Data collection and analysis focuses on the collection, analysis and sharing of the most pertinent data about rabies to the relevant personnel. This includes the analysis and sharing of data at a national level to help stakeholders make the correct decisions regarding funding, the use and allocation of personnel and the improvement of national guidelines and plans for the control of rabies. It also focuses on the flow of analysed data not only from the ground up, but also from national level back down to the ground. This flow of information is vital for effective control, response and future planning to ensure that strategic and effective control plans can be implemented."]
[]
[]
[null,"Years to rabies elimination",null,null,null,"All stage 0 and 1 activities should ideally be completed within a 3-year period",null,null,null,"--"]
[null,null,null,null,null,"All stage 2 activities should ideally be completed within a 3-year period",null,null,null,"Years 1, 2 and 3"]
[null,10,null,null,null,"All stage 3 activities should ideally be completed within a 3-year period",null,null,null,"Years 4, 5 and 6"]
[null,null,null,null,null,"All stage 4 activities should ideally be completed within a 2-year period",null,null,null,"Years 7 and 8"]
[null,null,null,null,null,"All stage 5 activities should ideally be completed within a 2-year period",null,null,null,"Years 9 and 10"]
[]
[null,"INSTRUCTIONS:   Please edit the Objectives, Responsible authority, and Year of completion as applicable to your country"]
["ID","Stage","Theme","Pending activity","Comments from SARE tool","Objectives","Outcomes","Responsible authority","Number of years to completion (see above)","Deliverables"]
["DCA-Sur-1-11",1,"Surveillance","Have dog population studies and KAP surveys been conducted to determine size, turn-over and accessibility of dogs for vaccination on a small scale?","","Determine the location for a small-scale dog ecology study;\nReview available methodologies and choose the most applicable one for the chosen location;\nBudget for the study and secure required funding to undertake study;\nIdentify personnel required for the study;\nDraft SOPs required for personnel to implement study;\nTrain personnel on SOPs for the study;\nUndertake study in chosen location;\nCollect, collate and analyse dog ecology data;\nDisseminate results to relevant authorities;","Dog ecology data for a small-scale area has been collected, collated, analysed and disseminated.","Ministry of Agriculture",-1,"Report on chosen small-scale site and methodologies required, including budget;\nSOPs developed for study;\nNumber of staff trained;\nFindings of dog ecology study (e.g. number of dogs);\n"]
["DCA-Sur-3-17",3,"Surveillance","As your country nears human rabies elimination, have field investigations for all suspected human rabies cases been conducted? ","","Determine whether effective surveillance is in place to detect suspect human cases;\nEnsure rapid reporting of suspect human cases from local to national level;\nEnsure feedback of analysed data back to local level; \nEnsure that protocols (SOPs) for case investigation and response based on surveillance are in place and known by all relevant professionals;\nEnsure that the relevant professionals are equipped with the relevant resources to investigate suspect human rabies cases;\nEnsure action and case investigation based on feedback;\nEnsure the outcomes of the investigations are reported to the national level;","Each suspect human case is investigated based on surveillance data and case investigation protocols","Ministry of Health supported by inter-sectoral surveillance personnel",5,"Report on efficacy of existing surveillance system;\nSOPs finalised and available;\nNumber of suspect human cases;\nNumber of human case investigations undertaken;"]
["DCA-Sur-3-18",3,"Surveillance","As your country nears human rabies elimination, is epidemiological data being collected to provide evidence of dog-transmitted human rabies-free zones?","","Ensure that an effective surveillance system for the detection of all suspect human rabies cases is in place and maintained;\nEnsure that effective field investigations of all suspect human rabies cases are on-going;\nCompile all of the relevant data regarding the positive and negative diagnosis of all suspect rabies cases;","Up-to-date epidemiological evidence based on an effective national surveillance system with reliable laboratory diagnosis and case investigation is collected and available to provide evidence of a dog-transmitted human rabies free zones (no human cases for 2 years). ","Ministry of Health supported by inter-sectoral surveillance personnel",5,"Case investigation consistency and quality assessment report: Number of case investigations generated over time; Frequency of case investigations over time;\nNumber of suspect rabies cases;\nNumber of positively diagnosed suspect rabies cases;\nNumber of negatively diagnosed suspect rabies cases;  "]
["DCA-Sur-4-21",4,"Surveillance","As your country nears dog-rabies elimination, has the epidemiological data from the routine surveillance of all animals (not only dogs) been used to refine the national rabies strategy?","","Compile and review epidemiological data based on surveillance in other animal species, including wildlife;\nIdentify remaining areas with dog-rabies (hotspots);\nIdentify additional possible reservoir species (e.g. wildlife carnivores);\nIdentify methods to vaccinate and control rabies in additional identified reservoir species;\nCompile a report, including budget and resources required, with the findings and recommendations;\nShare report with national task force for integration and updating of national rabies control strategy; \nNational rabies control and elimination strategy refined based on the report; ","National rabies control and elimination strategy refined to focus on final steps towards elimination of dog rabies (strategic vaccination), the situation of rabies in wildlife and the prevention of re-introduction of rabies into the human and dog population. ","All stakeholders involved in development and implementation of the national strategy; \nled by the personnel responsible for data collection and analysis",7,"Report on findings and associated budget including:\nInformation on epidemiological data based on surveillance in other animal species;\nLocations of remaining hotspots/high-risk areas;\nInformation on additional reservoir species;\nUpdated national strategy;\n"]
["DCA-Sur-5-22",5,"Surveillance","Has freedom from dog-transmitted rabies in the entire country been verified by the absence of canine variant cases for at least a 2 year period?","","Ensure ongoing sample collection and routine rabies diagnosis from the entire country;\nEnsure adequate case investigation is maintained throughout the country;\nCompile epidemiological reports with up-to-date surveillance data showing absence of the disease;\nIf any rabies-positive cases are detected, subject the samples to molecular or antigenic typing to determine the variant;\n","Epidemiological report providing evidence supporting the notion of freedom from the canine variatn fo rabeis for a 2 year period in line with the OIE standards for self-declaration of freedom;","Ministry of Agriculture",10,"The number of suspect rabies samples diagnosed;\nNumber of rabies-negative samples identified;\nNumber of rabies-positive samples diagnosed;\nNumber of rabies-positive samples subjected to characterisation;\nVaccination coverage map; "]
["","","","","","","","","",""]
["","","","","","","","","",""]
["","","","","","","","","",""]
["","","","","","","","","",""]
["","","","","","","","","",""]
["","","","","","","","","",""]
["","","","","","","","","",""]
["","","","","","","","","",""]
["","","","","","","","","",""]
["","","","","","","","","",""]
["","","","","","","","","",""]
["","","","","","","","","",""]
["","","","","","","","","",""]
["","","","","","","","","",""]
["","","","","","","","","",""]
["","","","","","","","","",""]
["","","","","","","","","",""]
["","","","","","","","","",""]
["","","","","","","","","",""]
["","","","","","","","","",""]
["","","","","","","","","",""]
["","","","","","","","","",""]
["","","","","","","","","",""]
["","","","","","","","","",""]
["","","","","","","","","",""]
["","","","","","","","","",""]
["","","","","","","","","",""]
["","","","","","","","","",""]
["","","","","","","","","",""]
["","","","","","","","","",""]
["","","","","","","","","",""]
["","","","","","","","","",""]

{"sheet":"DCAgantt","index":24,"n_rows":50,"n_cols":17,"rows_kept":50,"cut":false,"hidden":true,"merged":[[1,1,1,6],[0,1,0,16],[2,1,2,16]]}
[null,"Practical Workplan towards Achieving Rabies Elimination"]
[]
[null,"Data Collection and Analysis - GANTT CHART"]
[]
[null,null,null,null,1,2,3,4,5,6,7,8,9,10,11,12,13]
[null,"Theme","Stage","Activity",{"$f":"'NW country'!$E$35","v":2018},{"$f":"IF('NW country'!$K$4<6,E6+1,\"\")","v":2019},{"$f":"IF('NW country'!$K$4<5,E6+2,\"\")","v":2020},{"$f":"IF('NW country'!$K$4<5,E6+3,\"\")","v":2021},{"$f":"IF('NW country'!$K$4<4,E6+4,\"\")","v":2022},{"$f":"IF('NW country'!$K$4<4,E6+5,\"\")","v":2023},{"$f":"IF('NW country'!$K$4<4,E6+6,\"\")","v":2024},{"$f":"IF('NW country'!$K$4<3,E6+7,\"\")","v":2025},{"$f":"IF('NW country'!$K$4<3,E6+8,\"\")","v":2026},{"$f":"IF('NW country'!$K$4<3,E6+9,\"\")","v":2027},{"$f":"IF('NW country'!$K$4<2,E6+10,\"\")","v":""},{"$f":"IF('NW country'!$K$4<2,E6+11,\"\")","v":""},{"$f":"IF('NW country'!$K$4<2,E6+12,\"\")","v":""}]
[13,{"$f":"IF((INDIRECT(\"DCA!\"&\"$a\"&$A7))=0,\"\",INDIRECT(\"DCA!\"&\"$c\"&$A7))","v":"Surveillance"},{"$f":"IF(INDIRECT(\"DCA!\"&\"$a\"&$A7)=0,\"\",INDIRECT(\"DCA!\"&\"$b\"&$A7))","v":1},{"$f":"IF(INDIRECT(\"DCA!\"&\"$a\"&$A7)=0,\"\",INDIRECT(\"DCA!\"&\"$d\"&$A7))","v":"Have dog population studies and KAP surveys been conducted to determine size, turn-over and accessibility of dogs for vaccination on a small scale?"},{"$f":"IF($C7>6,\"\",IF(E$5<=INDIRECT(\"DCA!\"&\"$i\"&$A7),\"X\",\"\"))","v":""},{"$f":"IF($C7>6,\"\",IF(F$5<=INDIRECT(\"DCA!\"&\"$i\"&$A7),\"X\",\"\"))","v":""},"","","","","","","","","","",""]
[14,{"$f":"IF((INDIRECT(\"DCA!\"&\"$a\"&$A8))=0,\"\",INDIRECT(\"DCA!\"&\"$c\"&$A8))","v":"Surveillance"},{"$f":"IF(INDIRECT(\"DCA!\"&\"$a\"&$A8)=0,\"\",INDIRECT(\"DCA!\"&\"$b\"&$A8))","v":3},{"$f":"IF(INDIRECT(\"DCA!\"&\"$a\"&$A8)=0,\"\",INDIRECT(\"DCA!\"&\"$d\"&$A8))","v":"As your country nears human rabies elimination, have field investigations for all suspected human rabies cases been conducted? "},{"$f":"IF($C8>6,\"\",IF(E$5<=INDIRECT(\"DCA!\"&\"$i\"&$A8),\"X\",\"\"))","v":"X"},"X","X","X","X","","","","","","","",""]
[15,"Surveillance",3,"As your country nears human rabies elimination, is epidemiological data being collected to provide evidence of dog-transmitted human rabies-free zones?","X","X","X","X","X","","","","","","","",""]
[16,"Surveillance",4,"As your country nears dog-rabies elimination, has the epidemiological data from the routine surveillance of all animals (not only dogs) been used to refine the national rabies strategy?","X","X","X","X","X","X","X","","","","","",""]
[17,"Surveillance",5,"Has freedom from dog-transmitted rabies in the entire country been verified by the absence of canine variant cases for at least a 2 year period?","X","X","X","X","X","X","X","X","X","X","","",""]
[18,"","","","","","","","","","","","","","","",""]
[19,"","","","","","","","","","","","","","","",""]
[20,"","","","","","","","","","","","","","","",""]
[21,"","","","","","","","","","","","","","","",""]
[22,"","","","","","","","","","","","","","","",""]
[23,"","","","","","","","","","","","","","","",""]
[24,"","","","","","","","","","","","","","","",""]
[25,"","","","","","","","","","","","","","","",""]
[26,"","","","","","","","","","","","","","","",""]
[27,"","","","","","","","","","","","","","","",""]
[28,"","","","","","","","","","","","","","","",""]
[29,"","","","","","","","","","","","","","","",""]
[30,"","","","","","","","","","","","","","","",""]
[31,"","","","","","","","","","","","","","","",""]
[32,"","","","","","","","","","","","","","","",""]
[33,"","","","","","","","","","","","","","","",""]
[34,"","","","","","","","","","","","","","","",""]
[35,"","","","","","","","","","","","","","","",""]
[36,"","","","","","","","","","","","","","","",""]
[37,"","","","","","","","","","","","","","","",""]
[38,"","","","","","","","","","","","","","","",""]
[39,"","","","","","","","","","","","","","","",""]
[40,"","","","","","","","","","","","","","","",""]
[41,"","","","","","","","","","","","","","","",""]
[42,"","","","","","","","","","","","","","","",""]
[43,"","","","","","","","","","","","","","","",""]
[44,"","","","","","","","","","","","","","","",""]
[45,"","","","","","","","","","","","","","","",""]
[46,"","","","","","","","","","","","","","","",""]
[47,"","","","","","","","","",{"$f":"IF($C41>6,\"\",IF(K$5<=INDIRECT(\"DCA!\"&\"$i\"&$A41),\"X\",\"\"))","v":""},"","","","","",""]
[48,"","","",{"$f":"IF($C42>6,\"\",IF(E$5<=INDIRECT(\"DCA!\"&\"$i\"&$A42),\"X\",\"\"))","v":""},"","","","","","","","","","","",""]
[49,"","","","","","","","","","","","","","","",""]
[50,"","","","","","","","","","","","","","","",""]
[51,"","","","","","","","","","","","","","","",""]
[52,"","","","","","","","","","","","","","","",""]
[53,"","","","","","","","","","","","","","","",""]
[54,"","","","","","","","","","","","","","","",""]
[55,"","","","","","","","","","","","","","","",""]
[56,"","","","","","","","","","","","","","","",""]

{"sheet":"rawpco","index":25,"n_rows":49,"n_cols":10,"rows_kept":49,"cut":false,"hidden":true,"merged":[[0,1,0,3],[0,4,0,9],[1,1,1,9],[4,1,5,3],[6,1,8,3]]}
[null,"Practical Workplan towards Achieving Rabies Elimination",null,null,"Prevention and Control"]
[null,"Blurb blurb blurb blah blurb blurb"]
[]
[]
[null,"Years to rabies elimination",null,null,null,"All stage 0 and 1 activities should ideally be completed within a 3-year period",null,null,null,{"$f":"IF('NW country'!$K$4<2,\"Years 1, 2 and 3\",\"--\")","v":"--"}]
[null,null,null,null,null,"All stage 2 activities should ideally be completed within a 3-year period",null,null,null,{"$f":"IF('NW country'!$K$4<2,\"Years 4, 5 and 6\",IF('NW country'!$K$4<3,\"Years 1, 2 and 3\",\"--\"))","v":"Years 1, 2 and 3"}]
[null,{"$f":"IF('NW country'!$K$4<2,13,IF('NW country'!$K$4<3,10,IF('NW country'!$K$4<4,7,IF('NW country'!$K$4<5,4,2))))","v":10},null,null,null,"All stage 3 activities should ideally be completed within a 3-year period",null,null,null,{"$f":"IF('NW country'!$K$4<2,\"Years 7, 8 and 9\",IF('NW country'!$K$4<3,\"Years 4, 5 and 6\",IF('NW country'!$K$4<4,\"Years 1, 2 and 3\",\"--\")))","v":"Years 4, 5 and 6"}]
[null,null,null,null,null,"All stage 4 activities should ideally be completed within a 2-year period",null,null,null,{"$f":"IF('NW country'!$K$4<2,\"Years 10 and 11\",IF('NW country'!$K$4<3,\"Years 7 and 8\",IF('NW country'!$K$4<4,\"Years 4 and 5\",IF('NW country'!$K$4<5,\"Years 1 and 2\",\"--\"))))","v":"Years 7 and 8"}]
[null,null,null,null,null,"All stage 5 activities should ideally be completed within a 2-year period",null,null,null,{"$f":"IF('NW country'!$K$4<2,\"Years 12 and 13\",IF('NW country'!$K$4<3,\"Years 9 and 10\",IF('NW country'!$K$4<4,\"Years 6 and 7\",IF('NW country'!$K$4<5,\"Years 3 and 4\",\"Years 1 and 2\"))))","v":"Years 9 and 10"}]
[]
[null,"INSTRUCTIONS:   Please edit the Objectives, Responsible authority, and Year of completion as applicable to your country"]
["ID","Stage","Theme","Pending activity","Comments from SARE tool","Objectives","Outcomes","Responsible authority","Number of years to completion  (see above)","Deliverables"]
[{"$f":"IF(ROWS($A$13:A13)<=(SUMPRODUCT((masterlist!B:B=\"PCO\")*(masterlist!J:J=0))),INDEX(masterlist!$C$2:$C$200,SMALL(IF(masterlist!$B$2:$B$200=\"PCO\",IF(masterlist!$F$2:$F$200>0,IF(masterlist!$J$2:$J$200=0,ROW(masterlist!$B$2:$B$200)-ROW(masterlist!$B$2)+1))),ROWS($A$13:A13))),\"\")","v":"PCO-Hum-2-3"},{"$f":"IFERROR(VLOOKUP($A13,masterlist!$C$2:$AA$200,3,FALSE),\"\")","v":2},{"$f":"IFERROR(VLOOKUP($A13,masterlist!$C$2:$AA$200,2,FALSE),\"\")","v":"Human vaccines"},{"$f":"IFERROR(VLOOKUP($A13,masterlist!$C$2:$AA$200,5,FALSE),\"\")","v":"Has an assessment* been done to determine the availability and access to PEP (and PreP)?"},{"$f":"IFERROR(IF((VLOOKUP($A13,masterlist!$C$2:$AA$200,9,FALSE))=0,\"\",VLOOKUP($A13,masterlist!$C$2:$AA$200,9,FALSE)),\"\")","v":""},{"$f":"IFERROR(VLOOKUP($A13,masterlist!$C$2:$AA$200,20,FALSE),\"\")","v":"Compile a list of all health facilities that would be able to store and administer PEP and PrEP;\nContact health facilities to determine whether vaccine and RIG stock is available;\nUndertake a training needs-assessment to determine competency of staff;\nCompile a report on the health facilities that have access to PEP and PrEP;"},{"$f":"IFERROR(VLOOKUP($A13,masterlist!$C$2:$AA$200,21,FALSE),\"\")","v":"Report compiled on the health facilities throughout the country that have access to rabies PEP and PrEP;"},{"$f":"IFERROR(VLOOKUP($A13,masterlist!$C$2:$AA$200,22,FALSE),\"\")","v":"Ministry of Health"},{"$f":"IFERROR(IF($B$7=2,(VLOOKUP($A13,masterlist!$C$2:$AA$200,23,FALSE)-11),IF($B$7=4,(VLOOKUP($A13,masterlist!$C$2:$AA$200,23,FALSE)-9),IF($B$7=7,(VLOOKUP($A13,masterlist!$C$2:$AA$200,23,FALSE)-6),IF($B$7=10,(VLOOKUP($A13,masterlist!$C$2:$AA$200,23,FALSE)-3),(VLOOKUP($A13,masterlist!$C$2:$AA$200,23,FALSE)))))),\"\")","v":-2},{"$f":"IFERROR(VLOOKUP($A13,masterlist!$C$2:$AA$200,24,FALSE),\"\")","v":"Report on health facilities: List of health facilities capable of storing and administering PEP and PrEP;\nNumber of health facilities with vaccine and RIG available;\nTraining needs assessment and budget;\n"}]
[{"$f":"IF(ROWS($A$13:A14)<=(SUMPRODUCT((masterlist!B:B=\"PCO\")*(masterlist!J:J=0))),INDEX(masterlist!$C$2:$C$200,SMALL(IF(masterlist!$B$2:$B$200=\"PCO\",IF(masterlist!$F$2:$F$200>0,IF(masterlist!$J$2:$J$200=0,ROW(masterlist!$B$2:$B$200)-ROW(masterlist!$B$2)+1))),ROWS($A$13:A14))),\"\")","v":"PCO-Hum-5-7"},{"$f":"IFERROR(VLOOKUP($A14,masterlist!$C$2:$AA$200,3,FALSE),\"\")","v":5},{"$f":"IFERROR(VLOOKUP($A14,masterlist!$C$2:$AA$200,2,FALSE),\"\")","v":"Human vaccines"},{"$f":"IFERROR(VLOOKUP($A14,masterlist!$C$2:$AA$200,5,FALSE),\"\")","v":"Now that your country is free from human and animal rabies, have modified protocols for PEP administration for rabies-free areas been implemented?"},{"$f":"IFERROR(IF((VLOOKUP($A14,masterlist!$C$2:$AA$200,9,FALSE))=0,\"\",VLOOKUP($A14,masterlist!$C$2:$AA$200,9,FALSE)),\"\")","v":""},{"$f":"IFERROR(VLOOKUP($A14,masterlist!$C$2:$AA$200,20,FALSE),\"\")","v":"Assess applicability of existig SOPs for implementation in rabies-free areas with regards to current WHO guidelines;\nModify SOPs in accordance with the guidelines;\nShare updated SOPs with relevant professionals;\nTrain professionals on the use of the updated SOPs;\nEnsure that the updated SOPs are implemented country-wide;"},{"$f":"IFERROR(VLOOKUP($A14,masterlist!$C$2:$AA$200,21,FALSE),\"\")","v":"Updated SOPs and protocols for the administration of rabies PEP in rabies-free areas have been implemented country-wide;"},{"$f":"IFERROR(VLOOKUP($A14,masterlist!$C$2:$AA$200,22,FALSE),\"\")","v":"Ministry of Health"},{"$f":"IFERROR(IF($B$7=2,(VLOOKUP($A14,masterlist!$C$2:$AA$200,23,FALSE)-11),IF($B$7=4,(VLOOKUP($A14,masterlist!$C$2:$AA$200,23,FALSE)-9),IF($B$7=7,(VLOOKUP($A14,masterlist!$C$2:$AA$200,23,FALSE)-6),IF($B$7=10,(VLOOKUP($A14,masterlist!$C$2:$AA$200,23,FALSE)-3),(VLOOKUP($A14,masterlist!$C$2:$AA$200,23,FALSE)))))),\"\")","v":7},{"$f":"IFERROR(VLOOKUP($A14,masterlist!$C$2:$AA$200,24,FALSE),\"\")","v":"Modified SOPs;\nNumber of professionals receiving the SOPs;\nNumber of professionals trained;\nNumber of case investigations;\nNumber of high-risk case investigations undertaken;\nNumber of cases receiving a full course of PEP based on the outcomes of the risk-assesment;"}]
[{"$f":"IF(ROWS($A$13:A15)<=(SUMPRODUCT((masterlist!B:B=\"PCO\")*(masterlist!J:J=0))),INDEX(masterlist!$C$2:$C$200,SMALL(IF(masterlist!$B$2:$B$200=\"PCO\",IF(masterlist!$F$2:$F$200>0,IF(masterlist!$J$2:$J$200=0,ROW(masterlist!$B$2:$B$200)-ROW(masterlist!$B$2)+1))),ROWS($A$13:A15))),\"\")","v":"PCO-Dog-3-12"},{"$f":"IFERROR(VLOOKUP($A15,masterlist!$C$2:$AA$200,3,FALSE),\"\")","v":3},{"$f":"IFERROR(VLOOKUP($A15,masterlist!$C$2:$AA$200,2,FALSE),\"\")","v":"Dog vaccines"},{"$f":"IFERROR(VLOOKUP($A15,masterlist!$C$2:$AA$200,5,FALSE),\"\")","v":"Are post-vaccination surveys* in dogs being carried out to evaluate vaccination coverage?"},{"$f":"IFERROR(IF((VLOOKUP($A15,masterlist!$C$2:$AA$200,9,FALSE))=0,\"\",VLOOKUP($A15,masterlist!$C$2:$AA$200,9,FALSE)),\"\")","v":""},{"$f":"IFERROR(VLOOKUP($A15,masterlist!$C$2:$AA$200,20,FALSE),\"\")","v":"Review literature and determine the best method to evaluate vaccination coverage for each area;\nDevelop post-vaccination survey SOPs;\nIdentify and train professionals on the post-vaccination survey SOPs; \nDetermine the vaccination coverage after each of the MDV campaigns;"},{"$f":"IFERROR(VLOOKUP($A15,masterlist!$C$2:$AA$200,21,FALSE),\"\")","v":"Post-vaccination surveys conducted to evaluate each of the MDV campaigns; "},{"$f":"IFERROR(VLOOKUP($A15,masterlist!$C$2:$AA$200,22,FALSE),\"\")","v":"Ministry of Agriculture"},{"$f":"IFERROR(IF($B$7=2,(VLOOKUP($A15,masterlist!$C$2:$AA$200,23,FALSE)-11),IF($B$7=4,(VLOOKUP($A15,masterlist!$C$2:$AA$200,23,FALSE)-9),IF($B$7=7,(VLOOKUP($A15,masterlist!$C$2:$AA$200,23,FALSE)-6),IF($B$7=10,(VLOOKUP($A15,masterlist!$C$2:$AA$200,23,FALSE)-3),(VLOOKUP($A15,masterlist!$C$2:$AA$200,23,FALSE)))))),\"\")","v":10},{"$f":"IFERROR(VLOOKUP($A15,masterlist!$C$2:$AA$200,24,FALSE),\"\")","v":"SOPs;\nNumber of professionals trained;\nNumber of surveys completed;\nNumber of dogs vaccinated;\nEstimated dog population;\nVaccination coverage;"}]
[{"$f":"IF(ROWS($A$13:A16)<=(SUMPRODUCT((masterlist!B:B=\"PCO\")*(masterlist!J:J=0))),INDEX(masterlist!$C$2:$C$200,SMALL(IF(masterlist!$B$2:$B$200=\"PCO\",IF(masterlist!$F$2:$F$200>0,IF(masterlist!$J$2:$J$200=0,ROW(masterlist!$B$2:$B$200)-ROW(masterlist!$B$2)+1))),ROWS($A$13:A16))),\"\")","v":"PCO-Dog-5-14"},{"$f":"IFERROR(VLOOKUP($A16,masterlist!$C$2:$AA$200,3,FALSE),\"\")","v":5},{"$f":"IFERROR(VLOOKUP($A16,masterlist!$C$2:$AA$200,2,FALSE),\"\")","v":"Dog vaccines"},{"$f":"IFERROR(VLOOKUP($A16,masterlist!$C$2:$AA$200,5,FALSE),\"\")","v":"Even though you are rabies free based on successful mass vaccination campaigns, are strategic dog vaccination campaigns maintained where justifiable?"},{"$f":"IFERROR(IF((VLOOKUP($A16,masterlist!$C$2:$AA$200,9,FALSE))=0,\"\",VLOOKUP($A16,masterlist!$C$2:$AA$200,9,FALSE)),\"\")","v":""},{"$f":"IFERROR(VLOOKUP($A16,masterlist!$C$2:$AA$200,20,FALSE),\"\")","v":"Identify areas considered a high-risk for the re-introduction of canine-rabies;\nPerform a needs assessment for the identified areas;\nAllocate resources and professionals to the identified areas;\nImplement strategic vaccination in the identified areas;"},{"$f":"IFERROR(VLOOKUP($A16,masterlist!$C$2:$AA$200,21,FALSE),\"\")","v":"Strategic vaccination of dogs in areas that are at risk for the re-introduction of the canine variant of rabies implemented and maintained; "},{"$f":"IFERROR(VLOOKUP($A16,masterlist!$C$2:$AA$200,22,FALSE),\"\")","v":"Ministry of Agriculture"},{"$f":"IFERROR(IF($B$7=2,(VLOOKUP($A16,masterlist!$C$2:$AA$200,23,FALSE)-11),IF($B$7=4,(VLOOKUP($A16,masterlist!$C$2:$AA$200,23,FALSE)-9),IF($B$7=7,(VLOOKUP($A16,masterlist!$C$2:$AA$200,23,FALSE)-6),IF($B$7=10,(VLOOKUP($A16,masterlist!$C$2:$AA$200,23,FALSE)-3),(VLOOKUP($A16,masterlist!$C$2:$AA$200,23,FALSE)))))),\"\")","v":9},{"$f":"IFERROR(VLOOKUP($A16,masterlist!$C$2:$AA$200,24,FALSE),\"\")","v":"Number of high-risk areas identified;\nNeeds assessment;\nAmount fo funding available;\nNumber of MDV campaigns implemented in identified areas;"}]
[{"$f":"IF(ROWS($A$13:A17)<=(SUMPRODUCT((masterlist!B:B=\"PCO\")*(masterlist!J:J=0))),INDEX(masterlist!$C$2:$C$200,SMALL(IF(masterlist!$B$2:$B$200=\"PCO\",IF(masterlist!$F$2:$F$200>0,IF(masterlist!$J$2:$J$200=0,ROW(masterlist!$B$2:$B$200)-ROW(masterlist!$B$2)+1))),ROWS($A$13:A17))),\"\")","v":"PCO-Out-2-20"},{"$f":"IFERROR(VLOOKUP($A17,masterlist!$C$2:$AA$200,3,FALSE),\"\")","v":2},{"$f":"IFERROR(VLOOKUP($A17,masterlist!$C$2:$AA$200,2,FALSE),\"\")","v":"Outbreak response and other rabies control activities"},{"$f":"IFERROR(VLOOKUP($A17,masterlist!$C$2:$AA$200,5,FALSE),\"\")","v":"Have facilities been established for the observation of rabies-suspected dogs?"},{"$f":"IFERROR(IF((VLOOKUP($A17,masterlist!$C$2:$AA$200,9,FALSE))=0,\"\",VLOOKUP($A17,masterlist!$C$2:$AA$200,9,FALSE)),\"\")","v":""},{"$f":"IFERROR(VLOOKUP($A17,masterlist!$C$2:$AA$200,20,FALSE),\"\")","v":"Assess available infrastructure to identify facilities that could be re-purposed as animal observation/quarantine facilities;\nReview international guidelines to perform a needs assessment on the identified infrastructure;\nCreate plan and accompanying budget to re-purpose identified infrasastrcture / build new facilities according to international guideliens; \nSecure funding to re-purpose identified facilities or build new facilities;\nRe-purpose/build facilities;\nTrain operational staff for the facilities;\nImplement the relevant SOPs within each of the facilities;"},{"$f":"IFERROR(VLOOKUP($A17,masterlist!$C$2:$AA$200,21,FALSE),\"\")","v":"Facilities are established in compliance with international guidelines for the observation suspect rabid dogs; "},{"$f":"IFERROR(VLOOKUP($A17,masterlist!$C$2:$AA$200,22,FALSE),\"\")","v":"Ministry of Agriculture; NGOs; Animal welfare organisations; "},{"$f":"IFERROR(IF($B$7=2,(VLOOKUP($A17,masterlist!$C$2:$AA$200,23,FALSE)-11),IF($B$7=4,(VLOOKUP($A17,masterlist!$C$2:$AA$200,23,FALSE)-9),IF($B$7=7,(VLOOKUP($A17,masterlist!$C$2:$AA$200,23,FALSE)-6),IF($B$7=10,(VLOOKUP($A17,masterlist!$C$2:$AA$200,23,FALSE)-3),(VLOOKUP($A17,masterlist!$C$2:$AA$200,23,FALSE)))))),\"\")","v":3},{"$f":"IFERROR(VLOOKUP($A17,masterlist!$C$2:$AA$200,24,FALSE),\"\")","v":"Needs assessment report;\nPlan and budget for refurbishing/developing new facilities;\nNumber of facilities built;\nNumber of facilities re-purposed;"}]
[{"$f":"IF(ROWS($A$13:A18)<=(SUMPRODUCT((masterlist!B:B=\"PCO\")*(masterlist!J:J=0))),INDEX(masterlist!$C$2:$C$200,SMALL(IF(masterlist!$B$2:$B$200=\"PCO\",IF(masterlist!$F$2:$F$200>0,IF(masterlist!$J$2:$J$200=0,ROW(masterlist!$B$2:$B$200)-ROW(masterlist!$B$2)+1))),ROWS($A$13:A18))),\"\")","v":"PCO-Out-3-21"},{"$f":"IFERROR(VLOOKUP($A18,masterlist!$C$2:$AA$200,3,FALSE),\"\")","v":3},{"$f":"IFERROR(VLOOKUP($A18,masterlist!$C$2:$AA$200,2,FALSE),\"\")","v":"Outbreak response and other rabies control activities"},{"$f":"IFERROR(VLOOKUP($A18,masterlist!$C$2:$AA$200,5,FALSE),\"\")","v":"Is there capacity to conduct field investigations and planned outbreak responses for human rabies cases in the entire country?"},{"$f":"IFERROR(IF((VLOOKUP($A18,masterlist!$C$2:$AA$200,9,FALSE))=0,\"\",VLOOKUP($A18,masterlist!$C$2:$AA$200,9,FALSE)),\"\")","v":""},{"$f":"IFERROR(VLOOKUP($A18,masterlist!$C$2:$AA$200,20,FALSE),\"\")","v":"Review literature and guidelines on human rabies case field investigations;\nDevelop and finalise SOPs for human rabies case field investigations;\nShare SOPs with all relevant professionals;\nTrain the relevant professionals in the use of the SOPs;\nEnsure adequate resources are available to conduct the field investigations;"},{"$f":"IFERROR(VLOOKUP($A18,masterlist!$C$2:$AA$200,21,FALSE),\"\")","v":"Capacity to conduct field investigations and planned outbreak responses for human rabies cases in the entire country;"},{"$f":"IFERROR(VLOOKUP($A18,masterlist!$C$2:$AA$200,22,FALSE),\"\")","v":"Ministry of Agriculture / Ministry of Health"},{"$f":"IFERROR(IF($B$7=2,(VLOOKUP($A18,masterlist!$C$2:$AA$200,23,FALSE)-11),IF($B$7=4,(VLOOKUP($A18,masterlist!$C$2:$AA$200,23,FALSE)-9),IF($B$7=7,(VLOOKUP($A18,masterlist!$C$2:$AA$200,23,FALSE)-6),IF($B$7=10,(VLOOKUP($A18,masterlist!$C$2:$AA$200,23,FALSE)-3),(VLOOKUP($A18,masterlist!$C$2:$AA$200,23,FALSE)))))),\"\")","v":5},{"$f":"IFERROR(VLOOKUP($A18,masterlist!$C$2:$AA$200,24,FALSE),\"\")","v":"SOPs;\nNumber of professionals receiving the SOPs;\nNumber of professionals trained;\nAmount of funding available;"}]
[{"$f":"IF(ROWS($A$13:A19)<=(SUMPRODUCT((masterlist!B:B=\"PCO\")*(masterlist!J:J=0))),INDEX(masterlist!$C$2:$C$200,SMALL(IF(masterlist!$B$2:$B$200=\"PCO\",IF(masterlist!$F$2:$F$200>0,IF(masterlist!$J$2:$J$200=0,ROW(masterlist!$B$2:$B$200)-ROW(masterlist!$B$2)+1))),ROWS($A$13:A19))),\"\")","v":"PCO-Out-3-22"},{"$f":"IFERROR(VLOOKUP($A19,masterlist!$C$2:$AA$200,3,FALSE),\"\")","v":3},{"$f":"IFERROR(VLOOKUP($A19,masterlist!$C$2:$AA$200,2,FALSE),\"\")","v":"Outbreak response and other rabies control activities"},{"$f":"IFERROR(VLOOKUP($A19,masterlist!$C$2:$AA$200,5,FALSE),\"\")","v":"Have potential rabies-free zones been identified where animal rabies cases caused by the canine rabies variant have been absent for at least a 2 year period?"},{"$f":"IFERROR(IF((VLOOKUP($A19,masterlist!$C$2:$AA$200,9,FALSE))=0,\"\",VLOOKUP($A19,masterlist!$C$2:$AA$200,9,FALSE)),\"\")","v":""},{"$f":"IFERROR(VLOOKUP($A19,masterlist!$C$2:$AA$200,20,FALSE),\"\")","v":"Ensure ongoing sample collection and routine rabies diagnosis from identified area(s);\nCompile epidemiological reports with up to date surveillance data showing absence of the disease;\nIdentify areas where epidemiological data reflects the absence of rabies for 2 years; "},{"$f":"IFERROR(VLOOKUP($A19,masterlist!$C$2:$AA$200,21,FALSE),\"\")","v":"Zones free from animal rabies cases caused by the canine rabies variant have been identified based on sound epidemiological data;"},{"$f":"IFERROR(VLOOKUP($A19,masterlist!$C$2:$AA$200,22,FALSE),\"\")","v":"Ministry of Agriculture"},{"$f":"IFERROR(IF($B$7=2,(VLOOKUP($A19,masterlist!$C$2:$AA$200,23,FALSE)-11),IF($B$7=4,(VLOOKUP($A19,masterlist!$C$2:$AA$200,23,FALSE)-9),IF($B$7=7,(VLOOKUP($A19,masterlist!$C$2:$AA$200,23,FALSE)-6),IF($B$7=10,(VLOOKUP($A19,masterlist!$C$2:$AA$200,23,FALSE)-3),(VLOOKUP($A19,masterlist!$C$2:$AA$200,23,FALSE)))))),\"\")","v":5},{"$f":"IFERROR(VLOOKUP($A19,masterlist!$C$2:$AA$200,24,FALSE),\"\")","v":"The number of suspect rabies samples diagnosed;\nNumber of rabies-negative samples diagnosed;\nPercentage of samples diagnosed that are rabies-negative;\nSurveillance reports;\nAreas identified;"}]
[{"$f":"IF(ROWS($A$13:A20)<=(SUMPRODUCT((masterlist!B:B=\"PCO\")*(masterlist!J:J=0))),INDEX(masterlist!$C$2:$C$200,SMALL(IF(masterlist!$B$2:$B$200=\"PCO\",IF(masterlist!$F$2:$F$200>0,IF(masterlist!$J$2:$J$200=0,ROW(masterlist!$B$2:$B$200)-ROW(masterlist!$B$2)+1))),ROWS($A$13:A20))),\"\")","v":"PCO-Out-4-25"},{"$f":"IFERROR(VLOOKUP($A20,masterlist!$C$2:$AA$200,3,FALSE),\"\")","v":4},{"$f":"IFERROR(VLOOKUP($A20,masterlist!$C$2:$AA$200,2,FALSE),\"\")","v":"Outbreak response and other rabies control activities"},{"$f":"IFERROR(VLOOKUP($A20,masterlist!$C$2:$AA$200,5,FALSE),\"\")","v":"Now that there are very few animal rabies cases in your country, has an emergency response/contingency plan been developed to address any reintroduced case of animal rabies involving a canine variant in rabies-free zones?"},{"$f":"IFERROR(IF((VLOOKUP($A20,masterlist!$C$2:$AA$200,9,FALSE))=0,\"\",VLOOKUP($A20,masterlist!$C$2:$AA$200,9,FALSE)),\"\")","v":""},{"$f":"IFERROR(VLOOKUP($A20,masterlist!$C$2:$AA$200,20,FALSE),\"\")","v":"Emergency plan drafted and shared with relevant authorities;\nEmergeny plan updated with feedback;\nSecure funding for the possible implementation of the emergency plan;\nEnsure that the relevant personnel are trained and resourced for the possible implementation of the plan;"},{"$f":"IFERROR(VLOOKUP($A20,masterlist!$C$2:$AA$200,21,FALSE),\"\")","v":"Emergency/contingency plan developed, funding secured, personnel trained and resources available for the possible implementation of the plan;"},{"$f":"IFERROR(VLOOKUP($A20,masterlist!$C$2:$AA$200,22,FALSE),\"\")","v":"National Rabies taskforce"},{"$f":"IFERROR(IF($B$7=2,(VLOOKUP($A20,masterlist!$C$2:$AA$200,23,FALSE)-11),IF($B$7=4,(VLOOKUP($A20,masterlist!$C$2:$AA$200,23,FALSE)-9),IF($B$7=7,(VLOOKUP($A20,masterlist!$C$2:$AA$200,23,FALSE)-6),IF($B$7=10,(VLOOKUP($A20,masterlist!$C$2:$AA$200,23,FALSE)-3),(VLOOKUP($A20,masterlist!$C$2:$AA$200,23,FALSE)))))),\"\")","v":6},{"$f":"IFERROR(VLOOKUP($A20,masterlist!$C$2:$AA$200,24,FALSE),\"\")","v":"Emergency plan;\nAmount of funding available;\nNumber of Professionals trained;"}]
[{"$f":"IF(ROWS($A$13:A21)<=(SUMPRODUCT((masterlist!B:B=\"PCO\")*(masterlist!J:J=0))),INDEX(masterlist!$C$2:$C$200,SMALL(IF(masterlist!$B$2:$B$200=\"PCO\",IF(masterlist!$F$2:$F$200>0,IF(masterlist!$J$2:$J$200=0,ROW(masterlist!$B$2:$B$200)-ROW(masterlist!$B$2)+1))),ROWS($A$13:A21))),\"\")","v":"PCO-Out-5-26"},{"$f":"IFERROR(VLOOKUP($A21,masterlist!$C$2:$AA$200,3,FALSE),\"\")","v":5},{"$f":"IFERROR(VLOOKUP($A21,masterlist!$C$2:$AA$200,2,FALSE),\"\")","v":"Outbreak response and other rabies control activities"},{"$f":"IFERROR(VLOOKUP($A21,masterlist!$C$2:$AA$200,5,FALSE),\"\")","v":"Even though you are rabies free based on successful mass vaccination campaigns, has the capacity for outbreak and re-introduction response been maintained?"},{"$f":"IFERROR(IF((VLOOKUP($A21,masterlist!$C$2:$AA$200,9,FALSE))=0,\"\",VLOOKUP($A21,masterlist!$C$2:$AA$200,9,FALSE)),\"\")","v":""},{"$f":"IFERROR(VLOOKUP($A21,masterlist!$C$2:$AA$200,20,FALSE),\"\")","v":"Regularly review and update the established SOPs for outbreak response;\nShare SOPs with new professionals working in the local areas;\nProfessionals regularly trained on all relevant rabies intervention activities (e.g. outbreak response, animal handling and vaccination; case investigation, etc.);\nEnsure that adequate funding and resources remain available for possible intervention; "},{"$f":"IFERROR(VLOOKUP($A21,masterlist!$C$2:$AA$200,21,FALSE),\"\")","v":"Continued awareness and preparedness within expert network operating at the local level;"},{"$f":"IFERROR(VLOOKUP($A21,masterlist!$C$2:$AA$200,22,FALSE),\"\")","v":"Ministry of Agriculture / Ministry of Health"},{"$f":"IFERROR(IF($B$7=2,(VLOOKUP($A21,masterlist!$C$2:$AA$200,23,FALSE)-11),IF($B$7=4,(VLOOKUP($A21,masterlist!$C$2:$AA$200,23,FALSE)-9),IF($B$7=7,(VLOOKUP($A21,masterlist!$C$2:$AA$200,23,FALSE)-6),IF($B$7=10,(VLOOKUP($A21,masterlist!$C$2:$AA$200,23,FALSE)-3),(VLOOKUP($A21,masterlist!$C$2:$AA$200,23,FALSE)))))),\"\")","v":9},{"$f":"IFERROR(VLOOKUP($A21,masterlist!$C$2:$AA$200,24,FALSE),\"\")","v":"SOPs reviewed and updated where necessary;\nPercentage of new professionals receiving SOPs;\nNumber of profesisonals trained each year;\nAmount of funding available;"}]
[{"$f":"IF(ROWS($A$13:A22)<=(SUMPRODUCT((masterlist!B:B=\"PCO\")*(masterlist!J:J=0))),INDEX(masterlist!$C$2:$C$200,SMALL(IF(masterlist!$B$2:$B$200=\"PCO\",IF(masterlist!$F$2:$F$200>0,IF(masterlist!$J$2:$J$200=0,ROW(masterlist!$B$2:$B$200)-ROW(masterlist!$B$2)+1))),ROWS($A$13:A22))),\"\")","v":""},{"$f":"IFERROR(VLOOKUP($A22,masterlist!$C$2:$AA$200,3,FALSE),\"\")","v":""},{"$f":"IFERROR(VLOOKUP($A22,masterlist!$C$2:$AA$200,2,FALSE),\"\")","v":""},{"$f":"IFERROR(VLOOKUP($A22,masterlist!$C$2:$AA$200,5,FALSE),\"\")","v":""},{"$f":"IFERROR(IF((VLOOKUP($A22,masterlist!$C$2:$AA$200,9,FALSE))=0,\"\",VLOOKUP($A22,masterlist!$C$2:$AA$200,9,FALSE)),\"\")","v":""},{"$f":"IFERROR(VLOOKUP($A22,masterlist!$C$2:$AA$200,20,FALSE),\"\")","v":""},{"$f":"IFERROR(VLOOKUP($A22,masterlist!$C$2:$AA$200,21,FALSE),\"\")","v":""},{"$f":"IFERROR(VLOOKUP($A22,masterlist!$C$2:$AA$200,22,FALSE),\"\")","v":""},{"$f":"IFERROR(IF($B$7=2,(VLOOKUP($A22,masterlist!$C$2:$AA$200,23,FALSE)-11),IF($B$7=4,(VLOOKUP($A22,masterlist!$C$2:$AA$200,23,FALSE)-9),IF($B$7=7,(VLOOKUP($A22,masterlist!$C$2:$AA$200,23,FALSE)-6),IF($B$7=10,(VLOOKUP($A22,masterlist!$C$2:$AA$200,23,FALSE)-3),(VLOOKUP($A22,masterlist!$C$2:$AA$200,23,FALSE)))))),\"\")","v":""},{"$f":"IFERROR(VLOOKUP($A22,masterlist!$C$2:$AA$200,24,FALSE),\"\")","v":""}]
[{"$f":"IF(ROWS($A$13:A23)<=(SUMPRODUCT((masterlist!B:B=\"PCO\")*(masterlist!J:J=0))),INDEX(masterlist!$C$2:$C$200,SMALL(IF(masterlist!$B$2:$B$200=\"PCO\",IF(masterlist!$F$2:$F$200>0,IF(masterlist!$J$2:$J$200=0,ROW(masterlist!$B$2:$B$200)-ROW(masterlist!$B$2)+1))),ROWS($A$13:A23))),\"\")","v":""},{"$f":"IFERROR(VLOOKUP($A23,masterlist!$C$2:$AA$200,3,FALSE),\"\")","v":""},{"$f":"IFERROR(VLOOKUP($A23,masterlist!$C$2:$AA$200,2,FALSE),\"\")","v":""},{"$f":"IFERROR(VLOOKUP($A23,masterlist!$C$2:$AA$200,5,FALSE),\"\")","v":""},{"$f":"IFERROR(IF((VLOOKUP($A23,masterlist!$C$2:$AA$200,9,FALSE))=0,\"\",VLOOKUP($A23,masterlist!$C$2:$AA$200,9,FALSE)),\"\")","v":""},{"$f":"IFERROR(VLOOKUP($A23,masterlist!$C$2:$AA$200,20,FALSE),\"\")","v":""},{"$f":"IFERROR(VLOOKUP($A23,masterlist!$C$2:$AA$200,21,FALSE),\"\")","v":""},{"$f":"IFERROR(VLOOKUP($A23,masterlist!$C$2:$AA$200,22,FALSE),\"\")","v":""},{"$f":"IFERROR(IF($B$7=2,(VLOOKUP($A23,masterlist!$C$2:$AA$200,23,FALSE)-11),IF($B$7=4,(VLOOKUP($A23,masterlist!$C$2:$AA$200,23,FALSE)-9),IF($B$7=7,(VLOOKUP($A23,masterlist!$C$2:$AA$200,23,FALSE)-6),IF($B$7=10,(VLOOKUP($A23,masterlist!$C$2:$AA$200,23,FALSE)-3),(VLOOKUP($A23,masterlist!$C$2:$AA$200,23,FALSE)))))),\"\")","v":""},{"$f":"IFERROR(VLOOKUP($A23,masterlist!$C$2:$AA$200,24,FALSE),\"\")","v":""}]
[{"$f":"IF(ROWS($A$13:A24)<=(SUMPRODUCT((masterlist!B:B=\"PCO\")*(masterlist!J:J=0))),INDEX(masterlist!$C$2:$C$200,SMALL(IF(masterlist!$B$2:$B$200=\"PCO\",IF(masterlist!$F$2:$F$200>0,IF(masterlist!$J$2:$J$200=0,ROW(masterlist!$B$2:$B$200)-ROW(masterlist!$B$2)+1))),ROWS($A$13:A24))),\"\")","v":""},{"$f":"IFERROR(VLOOKUP($A24,masterlist!$C$2:$AA$200,3,FALSE),\"\")","v":""},{"$f":"IFERROR(VLOOKUP($A24,masterlist!$C$2:$AA$200,2,FALSE),\"\")","v":""},{"$f":"IFERROR(VLOOKUP($A24,masterlist!$C$2:$AA$200,5,FALSE),\"\")","v":""},{"$f":"IFERROR(IF((VLOOKUP($A24,masterlist!$C$2:$AA$200,9,FALSE))=0,\"\",VLOOKUP($A24,masterlist!$C$2:$AA$200,9,FALSE)),\"\")","v":""},{"$f":"IFERROR(VLOOKUP($A24,masterlist!$C$2:$AA$200,20,FALSE),\"\")","v":""},{"$f":"IFERROR(VLOOKUP($A24,masterlist!$C$2:$AA$200,21,FALSE),\"\")","v":""},{"$f":"IFERROR(VLOOKUP($A24,masterlist!$C$2:$AA$200,22,FALSE),\"\")","v":""},{"$f":"IFERROR(IF($B$7=2,(VLOOKUP($A24,masterlist!$C$2:$AA$200,23,FALSE)-11),IF($B$7=4,(VLOOKUP($A24,masterlist!$C$2:$AA$200,23,FALSE)-9),IF($B$7=7,(VLOOKUP($A24,masterlist!$C$2:$AA$200,23,FALSE)-6),IF($B$7=10,(VLOOKUP($A24,masterlist!$C$2:$AA$200,23,FALSE)-3),(VLOOKUP($A24,masterlist!$C$2:$AA$200,23,FALSE)))))),\"\")","v":""},{"$f":"IFERROR(VLOOKUP($A24,masterlist!$C$2:$AA$200,24,FALSE),\"\")","v":""}]
[{"$f":"IF(ROWS($A$13:A25)<=(SUMPRODUCT((masterlist!B:B=\"PCO\")*(masterlist!J:J=0))),INDEX(masterlist!$C$2:$C$200,SMALL(IF(masterlist!$B$2:$B$200=\"PCO\",IF(masterlist!$F$2:$F$200>0,IF(masterlist!$J$2:$J$200=0,ROW(masterlist!$B$2:$B$200)-ROW(masterlist!$B$2)+1))),ROWS($A$13:A25))),\"\")","v":""},{"$f":"IFERROR(VLOOKUP($A25,masterlist!$C$2:$AA$200,3,FALSE),\"\")","v":""},{"$f":"IFERROR(VLOOKUP($A25,masterlist!$C$2:$AA$200,2,FALSE),\"\")","v":""},{"$f":"IFERROR(VLOOKUP($A25,masterlist!$C$2:$AA$200,5,FALSE),\"\")","v":""},{"$f":"IFERROR(IF((VLOOKUP($A25,masterlist!$C$2:$AA$200,9,FALSE))=0,\"\",VLOOKUP($A25,masterlist!$C$2:$AA$200,9,FALSE)),\"\")","v":""},{"$f":"IFERROR(VLOOKUP($A25,masterlist!$C$2:$AA$200,20,FALSE),\"\")","v":""},{"$f":"IFERROR(VLOOKUP($A25,masterlist!$C$2:$AA$200,21,FALSE),\"\")","v":""},{"$f":"IFERROR(VLOOKUP($A25,masterlist!$C$2:$AA$200,22,FALSE),\"\")","v":""},{"$f":"IFERROR(IF($B$7=2,(VLOOKUP($A25,masterlist!$C$2:$AA$200,23,FALSE)-11),IF($B$7=4,(VLOOKUP($A25,masterlist!$C$2:$AA$200,23,FALSE)-9),IF($B$7=7,(VLOOKUP($A25,masterlist!$C$2:$AA$200,23,FALSE)-6),IF($B$7=10,(VLOOKUP($A25,masterlist!$C$2:$AA$200,23,FALSE)-3),(VLOOKUP($A25,masterlist!$C$2:$AA$200,23,FALSE)))))),\"\")","v":""},{"$f":"IFERROR(VLOOKUP($A25,masterlist!$C$2:$AA$200,24,FALSE),\"\")","v":""}]
[{"$f":"IF(ROWS($A$13:A26)<=(SUMPRODUCT((masterlist!B:B=\"PCO\")*(masterlist!J:J=0))),INDEX(masterlist!$C$2:$C$200,SMALL(IF(masterlist!$B$2:$B$200=\"PCO\",IF(masterlist!$F$2:$F$200>0,IF(masterlist!$J$2:$J$200=0,ROW(masterlist!$B$2:$B$200)-ROW(masterlist!$B$2)+1))),ROWS($A$13:A26))),\"\")","v":""},{"$f":"IFERROR(VLOOKUP($A26,masterlist!$C$2:$AA$200,3,FALSE),\"\")","v":""},{"$f":"IFERROR(VLOOKUP($A26,masterlist!$C$2:$AA$200,2,FALSE),\"\")","v":""},{"$f":"IFERROR(VLOOKUP($A26,masterlist!$C$2:$AA$200,5,FALSE),\"\")","v":""},{"$f":"IFERROR(IF((VLOOKUP($A26,masterlist!$C$2:$AA$200,9,FALSE))=0,\"\",VLOOKUP($A26,masterlist!$C$2:$AA$200,9,FALSE)),\"\")","v":""},{"$f":"IFERROR(VLOOKUP($A26,masterlist!$C$2:$AA$200,20,FALSE),\"\")","v":""},{"$f":"IFERROR(VLOOKUP($A26,masterlist!$C$2:$AA$200,21,FALSE),\"\")","v":""},{"$f":"IFERROR(VLOOKUP($A26,masterlist!$C$2:$AA$200,22,FALSE),\"\")","v":""},{"$f":"IFERROR(IF($B$7=2,(VLOOKUP($A26,masterlist!$C$2:$AA$200,23,FALSE)-11),IF($B$7=4,(VLOOKUP($A26,masterlist!$C$2:$AA$200,23,FALSE)-9),IF($B$7=7,(VLOOKUP($A26,masterlist!$C$2:$AA$200,23,FALSE)-6),IF($B$7=10,(VLOOKUP($A26,masterlist!$C$2:$AA$200,23,FALSE)-3),(VLOOKUP($A26,masterlist!$C$2:$AA$200,23,FALSE)))))),\"\")","v":""},{"$f":"IFERROR(VLOOKUP($A26,masterlist!$C$2:$AA$200,24,FALSE),\"\")","v":""}]
[{"$f":"IF(ROWS($A$13:A27)<=(SUMPRODUCT((masterlist!B:B=\"PCO\")*(masterlist!J:J=0))),INDEX(masterlist!$C$2:$C$200,SMALL(IF(masterlist!$B$2:$B$200=\"PCO\",IF(masterlist!$F$2:$F$200>0,IF(masterlist!$J$2:$J$200=0,ROW(masterlist!$B$2:$B$200)-ROW(masterlist!$B$2)+1))),ROWS($A$13:A27))),\"\")","v":""},{"$f":"IFERROR(VLOOKUP($A27,masterlist!$C$2:$AA$200,3,FALSE),\"\")","v":""},{"$f":"IFERROR(VLOOKUP($A27,masterlist!$C$2:$AA$200,2,FALSE),\"\")","v":""},{"$f":"IFERROR(VLOOKUP($A27,masterlist!$C$2:$AA$200,5,FALSE),\"\")","v":""},{"$f":"IFERROR(IF((VLOOKUP($A27,masterlist!$C$2:$AA$200,9,FALSE))=0,\"\",VLOOKUP($A27,masterlist!$C$2:$AA$200,9,FALSE)),\"\")","v":""},{"$f":"IFERROR(VLOOKUP($A27,masterlist!$C$2:$AA$200,20,FALSE),\"\")","v":""},{"$f":"IFERROR(VLOOKUP($A27,masterlist!$C$2:$AA$200,21,FALSE),\"\")","v":""},{"$f":"IFERROR(VLOOKUP($A27,masterlist!$C$2:$AA$200,22,FALSE),\"\")","v":""},{"$f":"IFERROR(IF($B$7=2,(VLOOKUP($A27,masterlist!$C$2:$AA$200,23,FALSE)-11),IF($B$7=4,(VLOOKUP($A27,masterlist!$C$2:$AA$200,23,FALSE)-9),IF($B$7=7,(VLOOKUP($A27,masterlist!$C$2:$AA$200,23,FALSE)-6),IF($B$7=10,(VLOOKUP($A27,masterlist!$C$2:$AA$200,23,FALSE)-3),(VLOOKUP($A27,masterlist!$C$2:$AA$200,23,FALSE)))))),\"\")","v":""},{"$f":"IFERROR(VLOOKUP($A27,masterlist!$C$2:$AA$200,24,FALSE),\"\")","v":""}]
[{"$f":"IF(ROWS($A$13:A28)<=(SUMPRODUCT((masterlist!B:B=\"PCO\")*(masterlist!J:J=0))),INDEX(masterlist!$C$2:$C$200,SMALL(IF(masterlist!$B$2:$B$200=\"PCO\",IF(masterlist!$F$2:$F$200>0,IF(masterlist!$J$2:$J$200=0,ROW(masterlist!$B$2:$B$200)-ROW(masterlist!$B$2)+1))),ROWS($A$13:A28))),\"\")","v":""},{"$f":"IFERROR(VLOOKUP($A28,masterlist!$C$2:$AA$200,3,FALSE),\"\")","v":""},{"$f":"IFERROR(VLOOKUP($A28,masterlist!$C$2:$AA$200,2,FALSE),\"\")","v":""},{"$f":"IFERROR(VLOOKUP($A28,masterlist!$C$2:$AA$200,5,FALSE),\"\")","v":""},{"$f":"IFERROR(IF((VLOOKUP($A28,masterlist!$C$2:$AA$200,9,FALSE))=0,\"\",VLOOKUP($A28,masterlist!$C$2:$AA$200,9,FALSE)),\"\")","v":""},{"$f":"IFERROR(VLOOKUP($A28,masterlist!$C$2:$AA$200,20,FALSE),\"\")","v":""},{"$f":"IFERROR(VLOOKUP($A28,masterlist!$C$2:$AA$200,21,FALSE),\"\")","v":""},{"$f":"IFERROR(VLOOKUP($A28,masterlist!$C$2:$AA$200,22,FALSE),\"\")","v":""},{"$f":"IFERROR(IF($B$7=2,(VLOOKUP($A28,masterlist!$C$2:$AA$200,23,FALSE)-11),IF($B$7=4,(VLOOKUP($A28,masterlist!$C$2:$AA$200,23,FALSE)-9),IF($B$7=7,(VLOOKUP($A28,masterlist!$C$2:$AA$200,23,FALSE)-6),IF($B$7=10,(VLOOKUP($A28,masterlist!$C$2:$AA$200,23,FALSE)-3),(VLOOKUP($A28,masterlist!$C$2:$AA$200,23,FALSE)))))),\"\")","v":""},{"$f":"IFERROR(VLOOKUP($A28,masterlist!$C$2:$AA$200,24,FALSE),\"\")","v":""}]
[{"$f":"IF(ROWS($A$13:A29)<=(SUMPRODUCT((masterlist!B:B=\"PCO\")*(masterlist!J:J=0))),INDEX(masterlist!$C$2:$C$200,SMALL(IF(masterlist!$B$2:$B$200=\"PCO\",IF(masterlist!$F$2:$F$200>0,IF(masterlist!$J$2:$J$200=0,ROW(masterlist!$B$2:$B$200)-ROW(masterlist!$B$2)+1))),ROWS($A$13:A29))),\"\")","v":""},{"$f":"IFERROR(VLOOKUP($A29,masterlist!$C$2:$AA$200,3,FALSE),\"\")","v":""},{"$f":"IFERROR(VLOOKUP($A29,masterlist!$C$2:$AA$200,2,FALSE),\"\")","v":""},{"$f":"IFERROR(VLOOKUP($A29,masterlist!$C$2:$AA$200,5,FALSE),\"\")","v":""},{"$f":"IFERROR(IF((VLOOKUP($A29,masterlist!$C$2:$AA$200,9,FALSE))=0,\"\",VLOOKUP($A29,masterlist!$C$2:$AA$200,9,FALSE)),\"\")","v":""},{"$f":"IFERROR(VLOOKUP($A29,masterlist!$C$2:$AA$200,20,FALSE),\"\")","v":""},{"$f":"IFERROR(VLOOKUP($A29,masterlist!$C$2:$AA$200,21,FALSE),\"\")","v":""},{"$f":"IFERROR(VLOOKUP($A29,masterlist!$C$2:$AA$200,22,FALSE),\"\")","v":""},{"$f":"IFERROR(IF($B$7=2,(VLOOKUP($A29,masterlist!$C$2:$AA$200,23,FALSE)-11),IF($B$7=4,(VLOOKUP($A29,masterlist!$C$2:$AA$200,23,FALSE)-9),IF($B$7=7,(VLOOKUP($A29,masterlist!$C$2:$AA$200,23,FALSE)-6),IF($B$7=10,(VLOOKUP($A29,masterlist!$C$2:$AA$200,23,FALSE)-3),(VLOOKUP($A29,masterlist!$C$2:$AA$200,23,FALSE)))))),\"\")","v":""},{"$f":"IFERROR(VLOOKUP($A29,masterlist!$C$2:$AA$200,24,FALSE),\"\")","v":""}]
[{"$f":"IF(ROWS($A$13:A30)<=(SUMPRODUCT((masterlist!B:B=\"PCO\")*(masterlist!J:J=0))),INDEX(masterlist!$C$2:$C$200,SMALL(IF(masterlist!$B$2:$B$200=\"PCO\",IF(masterlist!$F$2:$F$200>0,IF(masterlist!$J$2:$J$200=0,ROW(masterlist!$B$2:$B$200)-ROW(masterlist!$B$2)+1))),ROWS($A$13:A30))),\"\")","v":""},{"$f":"IFERROR(VLOOKUP($A30,masterlist!$C$2:$AA$200,3,FALSE),\"\")","v":""},{"$f":"IFERROR(VLOOKUP($A30,masterlist!$C$2:$AA$200,2,FALSE),\"\")","v":""},{"$f":"IFERROR(VLOOKUP($A30,masterlist!$C$2:$AA$200,5,FALSE),\"\")","v":""},{"$f":"IFERROR(IF((VLOOKUP($A30,masterlist!$C$2:$AA$200,9,FALSE))=0,\"\",VLOOKUP($A30,masterlist!$C$2:$AA$200,9,FALSE)),\"\")","v":""},{"$f":"IFERROR(VLOOKUP($A30,masterlist!$C$2:$AA$200,20,FALSE),\"\")","v":""},{"$f":"IFERROR(VLOOKUP($A30,masterlist!$C$2:$AA$200,21,FALSE),\"\")","v":""},{"$f":"IFERROR(VLOOKUP($A30,masterlist!$C$2:$AA$200,22,FALSE),\"\")","v":""},{"$f":"IFERROR(IF($B$7=2,(VLOOKUP($A30,masterlist!$C$2:$AA$200,23,FALSE)-11),IF($B$7=4,(VLOOKUP($A30,masterlist!$C$2:$AA$200,23,FALSE)-9),IF($B$7=7,(VLOOKUP($A30,masterlist!$C$2:$AA$200,23,FALSE)-6),IF($B$7=10,(VLOOKUP($A30,masterlist!$C$2:$AA$200,23,FALSE)-3),(VLOOKUP($A30,masterlist!$C$2:$AA$200,23,FALSE)))))),\"\")","v":""},{"$f":"IFERROR(VLOOKUP($A30,masterlist!$C$2:$AA$200,24,FALSE),\"\")","v":""}]
[{"$f":"IF(ROWS($A$13:A31)<=(SUMPRODUCT((masterlist!B:B=\"PCO\")*(masterlist!J:J=0))),INDEX(masterlist!$C$2:$C$200,SMALL(IF(masterlist!$B$2:$B$200=\"PCO\",IF(masterlist!$F$2:$F$200>0,IF(masterlist!$J$2:$J$200=0,ROW(masterlist!$B$2:$B$200)-ROW(masterlist!$B$2)+1))),ROWS($A$13:A31))),\"\")","v":""},{"$f":"IFERROR(VLOOKUP($A31,masterlist!$C$2:$AA$200,3,FALSE),\"\")","v":""},{"$f":"IFERROR(VLOOKUP($A31,masterlist!$C$2:$AA$200,2,FALSE),\"\")","v":""},{"$f":"IFERROR(VLOOKUP($A31,masterlist!$C$2:$AA$200,5,FALSE),\"\")","v":""},{"$f":"IFERROR(IF((VLOOKUP($A31,masterlist!$C$2:$AA$200,9,FALSE))=0,\"\",VLOOKUP($A31,masterlist!$C$2:$AA$200,9,FALSE)),\"\")","v":""},{"$f":"IFERROR(VLOOKUP($A31,masterlist!$C$2:$AA$200,20,FALSE),\"\")","v":""},{"$f":"IFERROR(VLOOKUP($A31,masterlist!$C$2:$AA$200,21,FALSE),\"\")","v":""},{"$f":"IFERROR(VLOOKUP($A31,masterlist!$C$2:$AA$200,22,FALSE),\"\")","v":""},{"$f":"IFERROR(IF($B$7=2,(VLOOKUP($A31,masterlist!$C$2:$AA$200,23,FALSE)-11),IF($B$7=4,(VLOOKUP($A31,masterlist!$C$2:$AA$200,23,FALSE)-9),IF($B$7=7,(VLOOKUP($A31,masterlist!$C$2:$AA$200,23,FALSE)-6),IF($B$7=10,(VLOOKUP($A31,masterlist!$C$2:$AA$200,23,FALSE)-3),(VLOOKUP($A31,masterlist!$C$2:$AA$200,23,FALSE)))))),\"\")","v":""},{"$f":"IFERROR(VLOOKUP($A31,masterlist!$C$2:$AA$200,24,FALSE),\"\")","v":""}]
[{"$f":"IF(ROWS($A$13:A32)<=(SUMPRODUCT((masterlist!B:B=\"PCO\")*(masterlist!J:J=0))),INDEX(masterlist!$C$2:$C$200,SMALL(IF(masterlist!$B$2:$B$200=\"PCO\",IF(masterlist!$F$2:$F$200>0,IF(masterlist!$J$2:$J$200=0,ROW(masterlist!$B$2:$B$200)-ROW(masterlist!$B$2)+1))),ROWS($A$13:A32))),\"\")","v":""},{"$f":"IFERROR(VLOOKUP($A32,masterlist!$C$2:$AA$200,3,FALSE),\"\")","v":""},{"$f":"IFERROR(VLOOKUP($A32,masterlist!$C$2:$AA$200,2,FALSE),\"\")","v":""},{"$f":"IFERROR(VLOOKUP($A32,masterlist!$C$2:$AA$200,5,FALSE),\"\")","v":""},{"$f":"IFERROR(IF((VLOOKUP($A32,masterlist!$C$2:$AA$200,9,FALSE))=0,\"\",VLOOKUP($A32,masterlist!$C$2:$AA$200,9,FALSE)),\"\")","v":""},{"$f":"IFERROR(VLOOKUP($A32,masterlist!$C$2:$AA$200,20,FALSE),\"\")","v":""},{"$f":"IFERROR(VLOOKUP($A32,masterlist!$C$2:$AA$200,21,FALSE),\"\")","v":""},{"$f":"IFERROR(VLOOKUP($A32,masterlist!$C$2:$AA$200,22,FALSE),\"\")","v":""},{"$f":"IFERROR(IF($B$7=2,(VLOOKUP($A32,masterlist!$C$2:$AA$200,23,FALSE)-11),IF($B$7=4,(VLOOKUP($A32,masterlist!$C$2:$AA$200,23,FALSE)-9),IF($B$7=7,(VLOOKUP($A32,masterlist!$C$2:$AA$200,23,FALSE)-6),IF($B$7=10,(VLOOKUP($A32,masterlist!$C$2:$AA$200,23,FALSE)-3),(VLOOKUP($A32,masterlist!$C$2:$AA$200,23,FALSE)))))),\"\")","v":""},{"$f":"IFERROR(VLOOKUP($A32,masterlist!$C$2:$AA$200,24,FALSE),\"\")","v":""}]
[{"$f":"IF(ROWS($A$13:A33)<=(SUMPRODUCT((masterlist!B:B=\"PCO\")*(masterlist!J:J=0))),INDEX(masterlist!$C$2:$C$200,SMALL(IF(masterlist!$B$2:$B$200=\"PCO\",IF(masterlist!$F$2:$F$200>0,IF(masterlist!$J$2:$J$200=0,ROW(masterlist!$B$2:$B$200)-ROW(masterlist!$B$2)+1))),ROWS($A$13:A33))),\"\")","v":""},{"$f":"IFERROR(VLOOKUP($A33,masterlist!$C$2:$AA$200,3,FALSE),\"\")","v":""},{"$f":"IFERROR(VLOOKUP($A33,masterlist!$C$2:$AA$200,2,FALSE),\"\")","v":""},{"$f":"IFERROR(VLOOKUP($A33,masterlist!$C$2:$AA$200,5,FALSE),\"\")","v":""},{"$f":"IFERROR(IF((VLOOKUP($A33,masterlist!$C$2:$AA$200,9,FALSE))=0,\"\",VLOOKUP($A33,masterlist!$C$2:$AA$200,9,FALSE)),\"\")","v":""},{"$f":"IFERROR(VLOOKUP($A33,masterlist!$C$2:$AA$200,20,FALSE),\"\")","v":""},{"$f":"IFERROR(VLOOKUP($A33,masterlist!$C$2:$AA$200,21,FALSE),\"\")","v":""},{"$f":"IFERROR(VLOOKUP($A33,masterlist!$C$2:$AA$200,22,FALSE),\"\")","v":""},{"$f":"IFERROR(IF($B$7=2,(VLOOKUP($A33,masterlist!$C$2:$AA$200,23,FALSE)-11),IF($B$7=4,(VLOOKUP($A33,masterlist!$C$2:$AA$200,23,FALSE)-9),IF($B$7=7,(VLOOKUP($A33,masterlist!$C$2:$AA$200,23,FALSE)-6),IF($B$7=10,(VLOOKUP($A33,masterlist!$C$2:$AA$200,23,FALSE)-3),(VLOOKUP($A33,masterlist!$C$2:$AA$200,23,FALSE)))))),\"\")","v":""},{"$f":"IFERROR(VLOOKUP($A33,masterlist!$C$2:$AA$200,24,FALSE),\"\")","v":""}]
[{"$f":"IF(ROWS($A$13:A34)<=(SUMPRODUCT((masterlist!B:B=\"PCO\")*(masterlist!J:J=0))),INDEX(masterlist!$C$2:$C$200,SMALL(IF(masterlist!$B$2:$B$200=\"PCO\",IF(masterlist!$F$2:$F$200>0,IF(masterlist!$J$2:$J$200=0,ROW(masterlist!$B$2:$B$200)-ROW(masterlist!$B$2)+1))),ROWS($A$13:A34))),\"\")","v":""},{"$f":"IFERROR(VLOOKUP($A34,masterlist!$C$2:$AA$200,3,FALSE),\"\")","v":""},{"$f":"IFERROR(VLOOKUP($A34,masterlist!$C$2:$AA$200,2,FALSE),\"\")","v":""},{"$f":"IFERROR(VLOOKUP($A34,masterlist!$C$2:$AA$200,5,FALSE),\"\")","v":""},{"$f":"IFERROR(IF((VLOOKUP($A34,masterlist!$C$2:$AA$200,9,FALSE))=0,\"\",VLOOKUP($A34,masterlist!$C$2:$AA$200,9,FALSE)),\"\")","v":""},{"$f":"IFERROR(VLOOKUP($A34,masterlist!$C$2:$AA$200,20,FALSE),\"\")","v":""},{"$f":"IFERROR(VLOOKUP($A34,masterlist!$C$2:$AA$200,21,FALSE),\"\")","v":""},{"$f":"IFERROR(VLOOKUP($A34,masterlist!$C$2:$AA$200,22,FALSE),\"\")","v":""},{"$f":"IFERROR(IF($B$7=2,(VLOOKUP($A34,masterlist!$C$2:$AA$200,23,FALSE)-11),IF($B$7=4,(VLOOKUP($A34,masterlist!$C$2:$AA$200,23,FALSE)-9),IF($B$7=7,(VLOOKUP($A34,masterlist!$C$2:$AA$200,23,FALSE)-6),IF($B$7=10,(VLOOKUP($A34,masterlist!$C$2:$AA$200,23,FALSE)-3),(VLOOKUP($A34,masterlist!$C$2:$AA$200,23,FALSE)))))),\"\")","v":""},{"$f":"IFERROR(VLOOKUP($A34,masterlist!$C$2:$AA$200,24,FALSE),\"\")","v":""}]
[{"$f":"IF(ROWS($A$13:A35)<=(SUMPRODUCT((masterlist!B:B=\"PCO\")*(masterlist!J:J=0))),INDEX(masterlist!$C$2:$C$200,SMALL(IF(masterlist!$B$2:$B$200=\"PCO\",IF(masterlist!$F$2:$F$200>0,IF(masterlist!$J$2:$J$200=0,ROW(masterlist!$B$2:$B$200)-ROW(masterlist!$B$2)+1))),ROWS($A$13:A35))),\"\")","v":""},{"$f":"IFERROR(VLOOKUP($A35,masterlist!$C$2:$AA$200,3,FALSE),\"\")","v":""},{"$f":"IFERROR(VLOOKUP($A35,masterlist!$C$2:$AA$200,2,FALSE),\"\")","v":""},{"$f":"IFERROR(VLOOKUP($A35,masterlist!$C$2:$AA$200,5,FALSE),\"\")","v":""},{"$f":"IFERROR(IF((VLOOKUP($A35,masterlist!$C$2:$AA$200,9,FALSE))=0,\"\",VLOOKUP($A35,masterlist!$C$2:$AA$200,9,FALSE)),\"\")","v":""},{"$f":"IFERROR(VLOOKUP($A35,masterlist!$C$2:$AA$200,20,FALSE),\"\")","v":""},{"$f":"IFERROR(VLOOKUP($A35,masterlist!$C$2:$AA$200,21,FALSE),\"\")","v":""},{"$f":"IFERROR(VLOOKUP($A35,masterlist!$C$2:$AA$200,22,FALSE),\"\")","v":""},{"$f":"IFERROR(IF($B$7=2,(VLOOKUP($A35,masterlist!$C$2:$AA$200,23,FALSE)-11),IF($B$7=4,(VLOOKUP($A35,masterlist!$C$2:$AA$200,23,FALSE)-9),IF($B$7=7,(VLOOKUP($A35,masterlist!$C$2:$AA$200,23,FALSE)-6),IF($B$7=10,(VLOOKUP($A35,masterlist!$C$2:$AA$200,23,FALSE)-3),(VLOOKUP($A35,masterlist!$C$2:$AA$200,23,FALSE)))))),\"\")","v":""},{"$f":"IFERROR(VLOOKUP($A35,masterlist!$C$2:$AA$200,24,FALSE),\"\")","v":""}]
[{"$f":"IF(ROWS($A$13:A36)<=(SUMPRODUCT((masterlist!B:B=\"PCO\")*(masterlist!J:J=0))),INDEX(masterlist!$C$2:$C$200,SMALL(IF(masterlist!$B$2:$B$200=\"PCO\",IF(masterlist!$F$2:$F$200>0,IF(masterlist!$J$2:$J$200=0,ROW(masterlist!$B$2:$B$200)-ROW(masterlist!$B$2)+1))),ROWS($A$13:A36))),\"\")","v":""},{"$f":"IFERROR(VLOOKUP($A36,masterlist!$C$2:$AA$200,3,FALSE),\"\")","v":""},{"$f":"IFERROR(VLOOKUP($A36,masterlist!$C$2:$AA$200,2,FALSE),\"\")","v":""},{"$f":"IFERROR(VLOOKUP($A36,masterlist!$C$2:$AA$200,5,FALSE),\"\")","v":""},{"$f":"IFERROR(IF((VLOOKUP($A36,masterlist!$C$2:$AA$200,9,FALSE))=0,\"\",VLOOKUP($A36,masterlist!$C$2:$AA$200,9,FALSE)),\"\")","v":""},{"$f":"IFERROR(VLOOKUP($A36,masterlist!$C$2:$AA$200,20,FALSE),\"\")","v":""},{"$f":"IFERROR(VLOOKUP($A36,masterlist!$C$2:$AA$200,21,FALSE),\"\")","v":""},{"$f":"IFERROR(VLOOKUP($A36,masterlist!$C$2:$AA$200,22,FALSE),\"\")","v":""},{"$f":"IFERROR(IF($B$7=2,(VLOOKUP($A36,masterlist!$C$2:$AA$200,23,FALSE)-11),IF($B$7=4,(VLOOKUP($A36,masterlist!$C$2:$AA$200,23,FALSE)-9),IF($B$7=7,(VLOOKUP($A36,masterlist!$C$2:$AA$200,23,FALSE)-6),IF($B$7=10,(VLOOKUP($A36,masterlist!$C$2:$AA$200,23,FALSE)-3),(VLOOKUP($A36,masterlist!$C$2:$AA$200,23,FALSE)))))),\"\")","v":""},{"$f":"IFERROR(VLOOKUP($A36,masterlist!$C$2:$AA$200,24,FALSE),\"\")","v":""}]
[{"$f":"IF(ROWS($A$13:A37)<=(SUMPRODUCT((masterlist!B:B=\"PCO\")*(masterlist!J:J=0))),INDEX(masterlist!$C$2:$C$200,SMALL(IF(masterlist!$B$2:$B$200=\"PCO\",IF(masterlist!$F$2:$F$200>0,IF(masterlist!$J$2:$J$200=0,ROW(masterlist!$B$2:$B$200)-ROW(masterlist!$B$2)+1))),ROWS($A$13:A37))),\"\")","v":""},{"$f":"IFERROR(VLOOKUP($A37,masterlist!$C$2:$AA$200,3,FALSE),\"\")","v":""},{"$f":"IFERROR(VLOOKUP($A37,masterlist!$C$2:$AA$200,2,FALSE),\"\")","v":""},{"$f":"IFERROR(VLOOKUP($A37,masterlist!$C$2:$AA$200,5,FALSE),\"\")","v":""},{"$f":"IFERROR(IF((VLOOKUP($A37,masterlist!$C$2:$AA$200,9,FALSE))=0,\"\",VLOOKUP($A37,masterlist!$C$2:$AA$200,9,FALSE)),\"\")","v":""},{"$f":"IFERROR(VLOOKUP($A37,masterlist!$C$2:$AA$200,20,FALSE),\"\")","v":""},{"$f":"IFERROR(VLOOKUP($A37,masterlist!$C$2:$AA$200,21,FALSE),\"\")","v":""},{"$f":"IFERROR(VLOOKUP($A37,masterlist!$C$2:$AA$200,22,FALSE),\"\")","v":""},{"$f":"IFERROR(IF($B$7=2,(VLOOKUP($A37,masterlist!$C$2:$AA$200,23,FALSE)-11),IF($B$7=4,(VLOOKUP($A37,masterlist!$C$2:$AA$200,23,FALSE)-9),IF($B$7=7,(VLOOKUP($A37,masterlist!$C$2:$AA$200,23,FALSE)-6),IF($B$7=10,(VLOOKUP($A37,masterlist!$C$2:$AA$200,23,FALSE)-3),(VLOOKUP($A37,masterlist!$C$2:$AA$200,23,FALSE)))))),\"\")","v":""},{"$f":"IFERROR(VLOOKUP($A37,masterlist!$C$2:$AA$200,24,FALSE),\"\")","v":""}]
[{"$f":"IF(ROWS($A$13:A38)<=(SUMPRODUCT((masterlist!B:B=\"PCO\")*(masterlist!J:J=0))),INDEX(masterlist!$C$2:$C$200,SMALL(IF(masterlist!$B$2:$B$200=\"PCO\",IF(masterlist!$F$2:$F$200>0,IF(masterlist!$J$2:$J$200=0,ROW(masterlist!$B$2:$B$200)-ROW(masterlist!$B$2)+1))),ROWS($A$13:A38))),\"\")","v":""},{"$f":"IFERROR(VLOOKUP($A38,masterlist!$C$2:$AA$200,3,FALSE),\"\")","v":""},{"$f":"IFERROR(VLOOKUP($A38,masterlist!$C$2:$AA$200,2,FALSE),\"\")","v":""},{"$f":"IFERROR(VLOOKUP($A38,masterlist!$C$2:$AA$200,5,FALSE),\"\")","v":""},{"$f":"IFERROR(IF((VLOOKUP($A38,masterlist!$C$2:$AA$200,9,FALSE))=0,\"\",VLOOKUP($A38,masterlist!$C$2:$AA$200,9,FALSE)),\"\")","v":""},{"$f":"IFERROR(VLOOKUP($A38,masterlist!$C$2:$AA$200,20,FALSE),\"\")","v":""},{"$f":"IFERROR(VLOOKUP($A38,masterlist!$C$2:$AA$200,21,FALSE),\"\")","v":""},{"$f":"IFERROR(VLOOKUP($A38,masterlist!$C$2:$AA$200,22,FALSE),\"\")","v":""},{"$f":"IFERROR(IF($B$7=2,(VLOOKUP($A38,masterlist!$C$2:$AA$200,23,FALSE)-11),IF($B$7=4,(VLOOKUP($A38,masterlist!$C$2:$AA$200,23,FALSE)-9),IF($B$7=7,(VLOOKUP($A38,masterlist!$C$2:$AA$200,23,FALSE)-6),IF($B$7=10,(VLOOKUP($A38,masterlist!$C$2:$AA$200,23,FALSE)-3),(VLOOKUP($A38,masterlist!$C$2:$AA$200,23,FALSE)))))),\"\")","v":""},{"$f":"IFERROR(VLOOKUP($A38,masterlist!$C$2:$AA$200,24,FALSE),\"\")","v":""}]
[{"$f":"IF(ROWS($A$13:A39)<=(SUMPRODUCT((masterlist!B:B=\"PCO\")*(masterlist!J:J=0))),INDEX(masterlist!$C$2:$C$200,SMALL(IF(masterlist!$B$2:$B$200=\"PCO\",IF(masterlist!$F$2:$F$200>0,IF(masterlist!$J$2:$J$200=0,ROW(masterlist!$B$2:$B$200)-ROW(masterlist!$B$2)+1))),ROWS($A$13:A39))),\"\")","v":""},{"$f":"IFERROR(VLOOKUP($A39,masterlist!$C$2:$AA$200,3,FALSE),\"\")","v":""},{"$f":"IFERROR(VLOOKUP($A39,masterlist!$C$2:$AA$200,2,FALSE),\"\")","v":""},{"$f":"IFERROR(VLOOKUP($A39,masterlist!$C$2:$AA$200,5,FALSE),\"\")","v":""},{"$f":"IFERROR(IF((VLOOKUP($A39,masterlist!$C$2:$AA$200,9,FALSE))=0,\"\",VLOOKUP($A39,masterlist!$C$2:$AA$200,9,FALSE)),\"\")","v":""},{"$f":"IFERROR(VLOOKUP($A39,masterlist!$C$2:$AA$200,20,FALSE),\"\")","v":""},{"$f":"IFERROR(VLOOKUP($A39,masterlist!$C$2:$AA$200,21,FALSE),\"\")","v":""},{"$f":"IFERROR(VLOOKUP($A39,masterlist!$C$2:$AA$200,22,FALSE),\"\")","v":""},{"$f":"IFERROR(IF($B$7=2,(VLOOKUP($A39,masterlist!$C$2:$AA$200,23,FALSE)-11),IF($B$7=4,(VLOOKUP($A39,masterlist!$C$2:$AA$200,23,FALSE)-9),IF($B$7=7,(VLOOKUP($A39,masterlist!$C$2:$AA$200,23,FALSE)-6),IF($B$7=10,(VLOOKUP($A39,masterlist!$C$2:$AA$200,23,FALSE)-3),(VLOOKUP($A39,masterlist!$C$2:$AA$200,23,FALSE)))))),\"\")","v":""},{"$f":"IFERROR(VLOOKUP($A39,masterlist!$C$2:$AA$200,24,FALSE),\"\")","v":""}]
[{"$f":"IF(ROWS($A$13:A40)<=(SUMPRODUCT((masterlist!B:B=\"PCO\")*(masterlist!J:J=0))),INDEX(masterlist!$C$2:$C$200,SMALL(IF(masterlist!$B$2:$B$200=\"PCO\",IF(masterlist!$F$2:$F$200>0,IF(masterlist!$J$2:$J$200=0,ROW(masterlist!$B$2:$B$200)-ROW(masterlist!$B$2)+1))),ROWS($A$13:A40))),\"\")","v":""},{"$f":"IFERROR(VLOOKUP($A40,masterlist!$C$2:$AA$200,3,FALSE),\"\")","v":""},{"$f":"IFERROR(VLOOKUP($A40,masterlist!$C$2:$AA$200,2,FALSE),\"\")","v":""},{"$f":"IFERROR(VLOOKUP($A40,masterlist!$C$2:$AA$200,5,FALSE),\"\")","v":""},{"$f":"IFERROR(IF((VLOOKUP($A40,masterlist!$C$2:$AA$200,9,FALSE))=0,\"\",VLOOKUP($A40,masterlist!$C$2:$AA$200,9,FALSE)),\"\")","v":""},{"$f":"IFERROR(VLOOKUP($A40,masterlist!$C$2:$AA$200,20,FALSE),\"\")","v":""},{"$f":"IFERROR(VLOOKUP($A40,masterlist!$C$2:$AA$200,21,FALSE),\"\")","v":""},{"$f":"IFERROR(VLOOKUP($A40,masterlist!$C$2:$AA$200,22,FALSE),\"\")","v":""},{"$f":"IFERROR(IF($B$7=2,(VLOOKUP($A40,masterlist!$C$2:$AA$200,23,FALSE)-11),IF($B$7=4,(VLOOKUP($A40,masterlist!$C$2:$AA$200,23,FALSE)-9),IF($B$7=7,(VLOOKUP($A40,masterlist!$C$2:$AA$200,23,FALSE)-6),IF($B$7=10,(VLOOKUP($A40,masterlist!$C$2:$AA$200,23,FALSE)-3),(VLOOKUP($A40,masterlist!$C$2:$AA$200,23,FALSE)))))),\"\")","v":""},{"$f":"IFERROR(VLOOKUP($A40,masterlist!$C$2:$AA$200,24,FALSE),\"\")","v":""}]
[{"$f":"IF(ROWS($A$13:A41)<=(SUMPRODUCT((masterlist!B:B=\"PCO\")*(masterlist!J:J=0))),INDEX(masterlist!$C$2:$C$200,SMALL(IF(masterlist!$B$2:$B$200=\"PCO\",IF(masterlist!$F$2:$F$200>0,IF(masterlist!$J$2:$J$200=0,ROW(masterlist!$B$2:$B$200)-ROW(masterlist!$B$2)+1))),ROWS($A$13:A41))),\"\")","v":""},{"$f":"IFERROR(VLOOKUP($A41,masterlist!$C$2:$AA$200,3,FALSE),\"\")","v":""},{"$f":"IFERROR(VLOOKUP($A41,masterlist!$C$2:$AA$200,2,FALSE),\"\")","v":""},{"$f":"IFERROR(VLOOKUP($A41,masterlist!$C$2:$AA$200,5,FALSE),\"\")","v":""},{"$f":"IFERROR(IF((VLOOKUP($A41,masterlist!$C$2:$AA$200,9,FALSE))=0,\"\",VLOOKUP($A41,masterlist!$C$2:$AA$200,9,FALSE)),\"\")","v":""},{"$f":"IFERROR(VLOOKUP($A41,masterlist!$C$2:$AA$200,20,FALSE),\"\")","v":""},{"$f":"IFERROR(VLOOKUP($A41,masterlist!$C$2:$AA$200,21,FALSE),\"\")","v":""},{"$f":"IFERROR(VLOOKUP($A41,masterlist!$C$2:$AA$200,22,FALSE),\"\")","v":""},{"$f":"IFERROR(IF($B$7=2,(VLOOKUP($A41,masterlist!$C$2:$AA$200,23,FALSE)-11),IF($B$7=4,(VLOOKUP($A41,masterlist!$C$2:$AA$200,23,FALSE)-9),IF($B$7=7,(VLOOKUP($A41,masterlist!$C$2:$AA$200,23,FALSE)-6),IF($B$7=10,(VLOOKUP($A41,masterlist!$C$2:$AA$200,23,FALSE)-3),(VLOOKUP($A41,masterlist!$C$2:$AA$200,23,FALSE)))))),\"\")","v":""},{"$f":"IFERROR(VLOOKUP($A41,masterlist!$C$2:$AA$200,24,FALSE),\"\")","v":""}]
[{"$f":"IF(ROWS($A$13:A42)<=(SUMPRODUCT((masterlist!B:B=\"PCO\")*(masterlist!J:J=0))),INDEX(masterlist!$C$2:$C$200,SMALL(IF(masterlist!$B$2:$B$200=\"PCO\",IF(masterlist!$F$2:$F$200>0,IF(masterlist!$J$2:$J$200=0,ROW(masterlist!$B$2:$B$200)-ROW(masterlist!$B$2)+1))),ROWS($A$13:A42))),\"\")","v":""},{"$f":"IFERROR(VLOOKUP($A42,masterlist!$C$2:$AA$200,3,FALSE),\"\")","v":""},{"$f":"IFERROR(VLOOKUP($A42,masterlist!$C$2:$AA$200,2,FALSE),\"\")","v":""},{"$f":"IFERROR(VLOOKUP($A42,masterlist!$C$2:$AA$200,5,FALSE),\"\")","v":""},{"$f":"IFERROR(IF((VLOOKUP($A42,masterlist!$C$2:$AA$200,9,FALSE))=0,\"\",VLOOKUP($A42,masterlist!$C$2:$AA$200,9,FALSE)),\"\")","v":""},{"$f":"IFERROR(VLOOKUP($A42,masterlist!$C$2:$AA$200,20,FALSE),\"\")","v":""},{"$f":"IFERROR(VLOOKUP($A42,masterlist!$C$2:$AA$200,21,FALSE),\"\")","v":""},{"$f":"IFERROR(VLOOKUP($A42,masterlist!$C$2:$AA$200,22,FALSE),\"\")","v":""},{"$f":"IFERROR(IF($B$7=2,(VLOOKUP($A42,masterlist!$C$2:$AA$200,23,FALSE)-11),IF($B$7=4,(VLOOKUP($A42,masterlist!$C$2:$AA$200,23,FALSE)-9),IF($B$7=7,(VLOOKUP($A42,masterlist!$C$2:$AA$200,23,FALSE)-6),IF($B$7=10,(VLOOKUP($A42,masterlist!$C$2:$AA$200,23,FALSE)-3),(VLOOKUP($A42,masterlist!$C$2:$AA$200,23,FALSE)))))),\"\")","v":""},{"$f":"IFERROR(VLOOKUP($A42,masterlist!$C$2:$AA$200,24,FALSE),\"\")","v":""}]
[{"$f":"IF(ROWS($A$13:A43)<=(SUMPRODUCT((masterlist!B:B=\"PCO\")*(masterlist!J:J=0))),INDEX(masterlist!$C$2:$C$200,SMALL(IF(masterlist!$B$2:$B$200=\"PCO\",IF(masterlist!$F$2:$F$200>0,IF(masterlist!$J$2:$J$200=0,ROW(masterlist!$B$2:$B$200)-ROW(masterlist!$B$2)+1))),ROWS($A$13:A43))),\"\")","v":""},{"$f":"IFERROR(VLOOKUP($A43,masterlist!$C$2:$AA$200,3,FALSE),\"\")","v":""},{"$f":"IFERROR(VLOOKUP($A43,masterlist!$C$2:$AA$200,2,FALSE),\"\")","v":""},{"$f":"IFERROR(VLOOKUP($A43,masterlist!$C$2:$AA$200,5,FALSE),\"\")","v":""},{"$f":"IFERROR(IF((VLOOKUP($A43,masterlist!$C$2:$AA$200,9,FALSE))=0,\"\",VLOOKUP($A43,masterlist!$C$2:$AA$200,9,FALSE)),\"\")","v":""},{"$f":"IFERROR(VLOOKUP($A43,masterlist!$C$2:$AA$200,20,FALSE),\"\")","v":""},{"$f":"IFERROR(VLOOKUP($A43,masterlist!$C$2:$AA$200,21,FALSE),\"\")","v":""},{"$f":"IFERROR(VLOOKUP($A43,masterlist!$C$2:$AA$200,22,FALSE),\"\")","v":""},{"$f":"IFERROR(IF($B$7=2,(VLOOKUP($A43,masterlist!$C$2:$AA$200,23,FALSE)-11),IF($B$7=4,(VLOOKUP($A43,masterlist!$C$2:$AA$200,23,FALSE)-9),IF($B$7=7,(VLOOKUP($A43,masterlist!$C$2:$AA$200,23,FALSE)-6),IF($B$7=10,(VLOOKUP($A43,masterlist!$C$2:$AA$200,23,FALSE)-3),(VLOOKUP($A43,masterlist!$C$2:$AA$200,23,FALSE)))))),\"\")","v":""},{"$f":"IFERROR(VLOOKUP($A43,masterlist!$C$2:$AA$200,24,FALSE),\"\")","v":""}]
[{"$f":"IF(ROWS($A$13:A44)<=(SUMPRODUCT((masterlist!B:B=\"PCO\")*(masterlist!J:J=0))),INDEX(masterlist!$C$2:$C$200,SMALL(IF(masterlist!$B$2:$B$200=\"PCO\",IF(masterlist!$F$2:$F$200>0,IF(masterlist!$J$2:$J$200=0,ROW(masterlist!$B$2:$B$200)-ROW(masterlist!$B$2)+1))),ROWS($A$13:A44))),\"\")","v":""},{"$f":"IFERROR(VLOOKUP($A44,masterlist!$C$2:$AA$200,3,FALSE),\"\")","v":""},{"$f":"IFERROR(VLOOKUP($A44,masterlist!$C$2:$AA$200,2,FALSE),\"\")","v":""},{"$f":"IFERROR(VLOOKUP($A44,masterlist!$C$2:$AA$200,5,FALSE),\"\")","v":""},{"$f":"IFERROR(IF((VLOOKUP($A44,masterlist!$C$2:$AA$200,9,FALSE))=0,\"\",VLOOKUP($A44,masterlist!$C$2:$AA$200,9,FALSE)),\"\")","v":""},{"$f":"IFERROR(VLOOKUP($A44,masterlist!$C$2:$AA$200,20,FALSE),\"\")","v":""},{"$f":"IFERROR(VLOOKUP($A44,masterlist!$C$2:$AA$200,21,FALSE),\"\")","v":""},{"$f":"IFERROR(VLOOKUP($A44,masterlist!$C$2:$AA$200,22,FALSE),\"\")","v":""},{"$f":"IFERROR(IF($B$7=2,(VLOOKUP($A44,masterlist!$C$2:$AA$200,23,FALSE)-11),IF($B$7=4,(VLOOKUP($A44,masterlist!$C$2:$AA$200,23,FALSE)-9),IF($B$7=7,(VLOOKUP($A44,masterlist!$C$2:$AA$200,23,FALSE)-6),IF($B$7=10,(VLOOKUP($A44,masterlist!$C$2:$AA$200,23,FALSE)-3),(VLOOKUP($A44,masterlist!$C$2:$AA$200,23,FALSE)))))),\"\")","v":""},{"$f":"IFERROR(VLOOKUP($A44,masterlist!$C$2:$AA$200,24,FALSE),\"\")","v":""}]
[{"$f":"IF(ROWS($A$13:A45)<=(SUMPRODUCT((masterlist!B:B=\"PCO\")*(masterlist!J:J=0))),INDEX(masterlist!$C$2:$C$200,SMALL(IF(masterlist!$B$2:$B$200=\"PCO\",IF(masterlist!$F$2:$F$200>0,IF(masterlist!$J$2:$J$200=0,ROW(masterlist!$B$2:$B$200)-ROW(masterlist!$B$2)+1))),ROWS($A$13:A45))),\"\")","v":""},{"$f":"IFERROR(VLOOKUP($A45,masterlist!$C$2:$AA$200,3,FALSE),\"\")","v":""},{"$f":"IFERROR(VLOOKUP($A45,masterlist!$C$2:$AA$200,2,FALSE),\"\")","v":""},{"$f":"IFERROR(VLOOKUP($A45,masterlist!$C$2:$AA$200,5,FALSE),\"\")","v":""},{"$f":"IFERROR(IF((VLOOKUP($A45,masterlist!$C$2:$AA$200,9,FALSE))=0,\"\",VLOOKUP($A45,masterlist!$C$2:$AA$200,9,FALSE)),\"\")","v":""},{"$f":"IFERROR(VLOOKUP($A45,masterlist!$C$2:$AA$200,20,FALSE),\"\")","v":""},{"$f":"IFERROR(VLOOKUP($A45,masterlist!$C$2:$AA$200,21,FALSE),\"\")","v":""},{"$f":"IFERROR(VLOOKUP($A45,masterlist!$C$2:$AA$200,22,FALSE),\"\")","v":""},{"$f":"IFERROR(IF($B$7=2,(VLOOKUP($A45,masterlist!$C$2:$AA$200,23,FALSE)-11),IF($B$7=4,(VLOOKUP($A45,masterlist!$C$2:$AA$200,23,FALSE)-9),IF($B$7=7,(VLOOKUP($A45,masterlist!$C$2:$AA$200,23,FALSE)-6),IF($B$7=10,(VLOOKUP($A45,masterlist!$C$2:$AA$200,23,FALSE)-3),(VLOOKUP($A45,masterlist!$C$2:$AA$200,23,FALSE)))))),\"\")","v":""},{"$f":"IFERROR(VLOOKUP($A45,masterlist!$C$2:$AA$200,24,FALSE),\"\")","v":""}]
[{"$f":"IF(ROWS($A$13:A46)<=(SUMPRODUCT((masterlist!B:B=\"PCO\")*(masterlist!J:J=0))),INDEX(masterlist!$C$2:$C$200,SMALL(IF(masterlist!$B$2:$B$200=\"PCO\",IF(masterlist!$F$2:$F$200>0,IF(masterlist!$J$2:$J$200=0,ROW(masterlist!$B$2:$B$200)-ROW(masterlist!$B$2)+1))),ROWS($A$13:A46))),\"\")","v":""},{"$f":"IFERROR(VLOOKUP($A46,masterlist!$C$2:$AA$200,3,FALSE),\"\")","v":""},{"$f":"IFERROR(VLOOKUP($A46,masterlist!$C$2:$AA$200,2,FALSE),\"\")","v":""},{"$f":"IFERROR(VLOOKUP($A46,masterlist!$C$2:$AA$200,5,FALSE),\"\")","v":""},{"$f":"IFERROR(IF((VLOOKUP($A46,masterlist!$C$2:$AA$200,9,FALSE))=0,\"\",VLOOKUP($A46,masterlist!$C$2:$AA$200,9,FALSE)),\"\")","v":""},{"$f":"IFERROR(VLOOKUP($A46,masterlist!$C$2:$AA$200,20,FALSE),\"\")","v":""},{"$f":"IFERROR(VLOOKUP($A46,masterlist!$C$2:$AA$200,21,FALSE),\"\")","v":""},{"$f":"IFERROR(VLOOKUP($A46,masterlist!$C$2:$AA$200,22,FALSE),\"\")","v":""},{"$f":"IFERROR(IF($B$7=2,(VLOOKUP($A46,masterlist!$C$2:$AA$200,23,FALSE)-11),IF($B$7=4,(VLOOKUP($A46,masterlist!$C$2:$AA$200,23,FALSE)-9),IF($B$7=7,(VLOOKUP($A46,masterlist!$C$2:$AA$200,23,FALSE)-6),IF($B$7=10,(VLOOKUP($A46,masterlist!$C$2:$AA$200,23,FALSE)-3),(VLOOKUP($A46,masterlist!$C$2:$AA$200,23,FALSE)))))),\"\")","v":""},{"$f":"IFERROR(VLOOKUP($A46,masterlist!$C$2:$AA$200,24,FALSE),\"\")","v":""}]
[{"$f":"IF(ROWS($A$13:A47)<=(SUMPRODUCT((masterlist!B:B=\"PCO\")*(masterlist!J:J=0))),INDEX(masterlist!$C$2:$C$200,SMALL(IF(masterlist!$B$2:$B$200=\"PCO\",IF(masterlist!$F$2:$F$200>0,IF(masterlist!$J$2:$J$200=0,ROW(masterlist!$B$2:$B$200)-ROW(masterlist!$B$2)+1))),ROWS($A$13:A47))),\"\")","v":""},{"$f":"IFERROR(VLOOKUP($A47,masterlist!$C$2:$AA$200,3,FALSE),\"\")","v":""},{"$f":"IFERROR(VLOOKUP($A47,masterlist!$C$2:$AA$200,2,FALSE),\"\")","v":""},{"$f":"IFERROR(VLOOKUP($A47,masterlist!$C$2:$AA$200,5,FALSE),\"\")","v":""},{"$f":"IFERROR(IF((VLOOKUP($A47,masterlist!$C$2:$AA$200,9,FALSE))=0,\"\",VLOOKUP($A47,masterlist!$C$2:$AA$200,9,FALSE)),\"\")","v":""},{"$f":"IFERROR(VLOOKUP($A47,masterlist!$C$2:$AA$200,20,FALSE),\"\")","v":""},{"$f":"IFERROR(VLOOKUP($A47,masterlist!$C$2:$AA$200,21,FALSE),\"\")","v":""},{"$f":"IFERROR(VLOOKUP($A47,masterlist!$C$2:$AA$200,22,FALSE),\"\")","v":""},{"$f":"IFERROR(IF($B$7=2,(VLOOKUP($A47,masterlist!$C$2:$AA$200,23,FALSE)-11),IF($B$7=4,(VLOOKUP($A47,masterlist!$C$2:$AA$200,23,FALSE)-9),IF($B$7=7,(VLOOKUP($A47,masterlist!$C$2:$AA$200,23,FALSE)-6),IF($B$7=10,(VLOOKUP($A47,masterlist!$C$2:$AA$200,23,FALSE)-3),(VLOOKUP($A47,masterlist!$C$2:$AA$200,23,FALSE)))))),\"\")","v":""},{"$f":"IFERROR(VLOOKUP($A47,masterlist!$C$2:$AA$200,24,FALSE),\"\")","v":""}]
[{"$f":"IF(ROWS($A$13:A48)<=(SUMPRODUCT((masterlist!B:B=\"PCO\")*(masterlist!J:J=0))),INDEX(masterlist!$C$2:$C$200,SMALL(IF(masterlist!$B$2:$B$200=\"PCO\",IF(masterlist!$F$2:$F$200>0,IF(masterlist!$J$2:$J$200=0,ROW(masterlist!$B$2:$B$200)-ROW(masterlist!$B$2)+1))),ROWS($A$13:A48))),\"\")","v":""},{"$f":"IFERROR(VLOOKUP($A48,masterlist!$C$2:$AA$200,3,FALSE),\"\")","v":""},{"$f":"IFERROR(VLOOKUP($A48,masterlist!$C$2:$AA$200,2,FALSE),\"\")","v":""},{"$f":"IFERROR(VLOOKUP($A48,masterlist!$C$2:$AA$200,5,FALSE),\"\")","v":""},{"$f":"IFERROR(IF((VLOOKUP($A48,masterlist!$C$2:$AA$200,9,FALSE))=0,\"\",VLOOKUP($A48,masterlist!$C$2:$AA$200,9,FALSE)),\"\")","v":""},{"$f":"IFERROR(VLOOKUP($A48,masterlist!$C$2:$AA$200,20,FALSE),\"\")","v":""},{"$f":"IFERROR(VLOOKUP($A48,masterlist!$C$2:$AA$200,21,FALSE),\"\")","v":""},{"$f":"IFERROR(VLOOKUP($A48,masterlist!$C$2:$AA$200,22,FALSE),\"\")","v":""},{"$f":"IFERROR(IF($B$7=2,(VLOOKUP($A48,masterlist!$C$2:$AA$200,23,FALSE)-11),IF($B$7=4,(VLOOKUP($A48,masterlist!$C$2:$AA$200,23,FALSE)-9),IF($B$7=7,(VLOOKUP($A48,masterlist!$C$2:$AA$200,23,FALSE)-6),IF($B$7=10,(VLOOKUP($A48,masterlist!$C$2:$AA$200,23,FALSE)-3),(VLOOKUP($A48,masterlist!$C$2:$AA$200,23,FALSE)))))),\"\")","v":""},{"$f":"IFERROR(VLOOKUP($A48,masterlist!$C$2:$AA$200,24,FALSE),\"\")","v":""}]
[{"$f":"IF(ROWS($A$13:A49)<=(SUMPRODUCT((masterlist!B:B=\"PCO\")*(masterlist!J:J=0))),INDEX(masterlist!$C$2:$C$200,SMALL(IF(masterlist!$B$2:$B$200=\"PCO\",IF(masterlist!$F$2:$F$200>0,IF(masterlist!$J$2:$J$200=0,ROW(masterlist!$B$2:$B$200)-ROW(masterlist!$B$2)+1))),ROWS($A$13:A49))),\"\")","v":""},{"$f":"IFERROR(VLOOKUP($A49,masterlist!$C$2:$AA$200,3,FALSE),\"\")","v":""},{"$f":"IFERROR(VLOOKUP($A49,masterlist!$C$2:$AA$200,2,FALSE),\"\")","v":""},{"$f":"IFERROR(VLOOKUP($A49,masterlist!$C$2:$AA$200,5,FALSE),\"\")","v":""},{"$f":"IFERROR(IF((VLOOKUP($A49,masterlist!$C$2:$AA$200,9,FALSE))=0,\"\",VLOOKUP($A49,masterlist!$C$2:$AA$200,9,FALSE)),\"\")","v":""},{"$f":"IFERROR(VLOOKUP($A49,masterlist!$C$2:$AA$200,20,FALSE),\"\")","v":""},{"$f":"IFERROR(VLOOKUP($A49,masterlist!$C$2:$AA$200,21,FALSE),\"\")","v":""},{"$f":"IFERROR(VLOOKUP($A49,masterlist!$C$2:$AA$200,22,FALSE),\"\")","v":""},{"$f":"IFERROR(IF($B$7=2,(VLOOKUP($A49,masterlist!$C$2:$AA$200,23,FALSE)-11),IF($B$7=4,(VLOOKUP($A49,masterlist!$C$2:$AA$200,23,FALSE)-9),IF($B$7=7,(VLOOKUP($A49,masterlist!$C$2:$AA$200,23,FALSE)-6),IF($B$7=10,(VLOOKUP($A49,masterlist!$C$2:$AA$200,23,FALSE)-3),(VLOOKUP($A49,masterlist!$C$2:$AA$200,23,FALSE)))))),\"\")","v":""},{"$f":"IFERROR(VLOOKUP($A49,masterlist!$C$2:$AA$200,24,FALSE),\"\")","v":""}]

{"sheet":"PCO","index":26,"n_rows":2,"n_cols":8,"rows_kept":2,"cut":false,"hidden":true,"merged":[[1,3,1,9],[0,1,0,6],[0,7,0,9]]}
[null,"Prevention and Control",null,null,null,null,null,"Practical Workplan towards Achieving Rabies Elimination"]
[null,null,null,"The control of rabies within dog populations through vaccination is the most important factor in the process towards achieving dog-mediated human rabies elimination. Dog vaccination has been shown to be the only economically feasible and sustainable approach towards interrupting disease transmission and eventually eliminating rabies in both humans and dogs. "]

{"sheet":"PCOgantt","index":27,"n_rows":50,"n_cols":17,"rows_kept":50,"cut":false,"hidden":true,"merged":[[0,1,0,16],[1,1,1,6],[2,1,2,16]]}
[null,"Practical Workplan towards Achieving Rabies Elimination"]
[]
[null,"Prevention and Control - GANTT CHART"]
[]
[null,null,null,null,1,2,3,4,5,6,7,8,9,10,11,12,13]
[null,"Theme","Stage","Activity",{"$f":"'NW country'!$E$35","v":2018},{"$f":"IF('NW country'!$K$4<6,E6+1,\"\")","v":2019},{"$f":"IF('NW country'!$K$4<5,E6+2,\"\")","v":2020},{"$f":"IF('NW country'!$K$4<5,E6+3,\"\")","v":2021},{"$f":"IF('NW country'!$K$4<4,E6+4,\"\")","v":2022},{"$f":"IF('NW country'!$K$4<4,E6+5,\"\")","v":2023},{"$f":"IF('NW country'!$K$4<4,E6+6,\"\")","v":2024},{"$f":"IF('NW country'!$K$4<3,E6+7,\"\")","v":2025},{"$f":"IF('NW country'!$K$4<3,E6+8,\"\")","v":2026},{"$f":"IF('NW country'!$K$4<3,E6+9,\"\")","v":2027},{"$f":"IF('NW country'!$K$4<2,E6+10,\"\")","v":""},{"$f":"IF('NW country'!$K$4<2,E6+11,\"\")","v":""},{"$f":"IF('NW country'!$K$4<2,E6+12,\"\")","v":""}]
[13,{"$f":"IF((INDIRECT(\"PCO!\"&\"$a\"&$A7))=0,\"\",INDIRECT(\"PCO!\"&\"$c\"&$A7))","v":""},{"$f":"IF(INDIRECT(\"PCO!\"&\"$a\"&$A7)=0,\"\",INDIRECT(\"PCO!\"&\"$b\"&$A7))","v":""},{"$f":"IF(INDIRECT(\"PCO!\"&\"$a\"&$A7)=0,\"\",INDIRECT(\"PCO!\"&\"$d\"&$A7))","v":""},{"$f":"IF($C7>6,\"\",IF(E$5<=INDIRECT(\"PCO!\"&\"$i\"&$A7),\"X\",\"\"))","v":""},{"$f":"IF($C7>6,\"\",IF(F$5<=INDIRECT(\"PCO!\"&\"$i\"&$A7),\"X\",\"\"))","v":""},"","","","","","","","","","",""]
[14,{"$f":"IF((INDIRECT(\"PCO!\"&\"$a\"&$A8))=0,\"\",INDIRECT(\"PCO!\"&\"$c\"&$A8))","v":""},{"$f":"IF(INDIRECT(\"PCO!\"&\"$a\"&$A8)=0,\"\",INDIRECT(\"PCO!\"&\"$b\"&$A8))","v":""},{"$f":"IF(INDIRECT(\"PCO!\"&\"$a\"&$A8)=0,\"\",INDIRECT(\"PCO!\"&\"$d\"&$A8))","v":""},{"$f":"IF($C8>6,\"\",IF(E$5<=INDIRECT(\"PCO!\"&\"$i\"&$A8),\"X\",\"\"))","v":""},"","","","","","","","","","","",""]
[15,"","","","","","","","","","","","","","","",""]
[16,"","","","","","","","","","","","","","","",""]
[17,"","","","","","","","","","","","","","","",""]
[18,"","","","","","","","","","","","","","","",""]
[19,"","","","","","","","","","","","","","","",""]
[20,"","","","","","","","","","","","","","","",""]
[21,"","","","","","","","","","","","","","","",""]
[22,"","","","","","","","","","","","","","","",""]
[23,"","","","","","","","","","","","","","","",""]
[24,"","","","","","","","","","","","","","","",""]
[25,"","","","","","","","","","","","","","","",""]
[26,"","","","","","","","","","","","","","","",""]
[27,"","","","","","","","","","","","","","","",""]
[28,"","","","","","","","","","","","","","","",""]
[29,"","","","","","","","","","","","","","","",""]
[30,"","","","","","","","","","","","","","","",""]
[31,"","","","","","","","","","","","","","","",""]
[32,"","","","","","","","","","","","","","","",""]
[33,"","","","","","","","","","","","","","","",""]
[34,"","","","","","","","","","","","","","","",""]
[35,"","","","","","","","","","","","","","","",""]
[36,"","","","","","","","","","","","","","","",""]
[37,"","","","","","","","","","","","","","","",""]
[38,"","","","","","","","","","","","","","","",""]
[39,"","","","","","","","","","","","","","","",""]
[40,"","","","","","","","","","","","","","","",""]
[41,"","","","","","","","","","","","","","","",""]
[42,"","","","","","","","","","","","","","","",""]
[43,"","","","","","","","","","","","","","","",""]
[44,"","","","","","","","","","","","","","","",""]
[45,"","","","","","","","","","","","","","","",""]
[46,"","","","","","","","","","","","","","","",""]
[47,"","","","","","","","","",{"$f":"IF($C41>6,\"\",IF(K$5<=INDIRECT(\"PCO!\"&\"$i\"&$A41),\"X\",\"\"))","v":""},"","","","","",""]
[48,"","","",{"$f":"IF($C42>6,\"\",IF(E$5<=INDIRECT(\"PCO!\"&\"$i\"&$A42),\"X\",\"\"))","v":""},"","","","","","","","","","","",""]
[49,"","","","","","","","","","","","","","","",""]
[50,"","","","","","","","","","","","","","","",""]
[51,"","","","","","","","","","","","","","","",""]
[52,"","","","","","","","","","","","","","","",""]
[53,"","","","","","","","","","","","","","","",""]
[54,"","","","","","","","","","","","","","","",""]
[55,"","","","","","","","","","","","","","","",""]
[56,{"$f":"IF((INDIRECT(\"DCA!\"&\"$a\"&$A50))=0,\"\",INDIRECT(\"DCA!\"&\"$c\"&$A50))","v":""},{"$f":"IF(INDIRECT(\"DCA!\"&\"$a\"&$A50)=0,\"\",INDIRECT(\"DCA!\"&\"$b\"&$A50))","v":""},{"$f":"IF(INDIRECT(\"DCA!\"&\"$a\"&$A50)=0,\"\",INDIRECT(\"DCA!\"&\"$d\"&$A50))","v":""},{"$f":"IF($C50>6,\"\",IF(E$5<=INDIRECT(\"DCA!\"&\"$i\"&$A50),\"X\",\"\"))","v":""},"","","","","","","","","","","",""]

{"sheet":"rawlab","index":28,"n_rows":49,"n_cols":10,"rows_kept":49,"cut":false,"hidden":true,"merged":[[0,1,0,3],[0,4,0,9],[1,1,1,9],[4,1,5,3],[6,1,8,3]]}
[null,"Practical Workplan towards Achieving Rabies Elimination",null,null,"Prevention and Control"]
[null,"Blurb blurb blurb blah blurb blurb"]
[]
[]
[null,"Years to rabies elimination",null,null,null,"All stage 0 and 1 activities should ideally be completed within a 3-year period",null,null,null,{"$f":"IF('NW country'!$K$4<2,\"Years 1, 2 and 3\",\"--\")","v":"--"}]
[null,null,null,null,null,"All stage 2 activities should ideally be completed within a 3-year period",null,null,null,{"$f":"IF('NW country'!$K$4<2,\"Years 4, 5 and 6\",IF('NW country'!$K$4<3,\"Years 1, 2 and 3\",\"--\"))","v":"Years 1, 2 and 3"}]
[null,{"$f":"IF('NW country'!$K$4<2,13,IF('NW country'!$K$4<3,10,IF('NW country'!$K$4<4,7,IF('NW country'!$K$4<5,4,2))))","v":10},null,null,null,"All stage 3 activities should ideally be completed within a 3-year period",null,null,null,{"$f":"IF('NW country'!$K$4<2,\"Years 7, 8 and 9\",IF('NW country'!$K$4<3,\"Years 4, 5 and 6\",IF('NW country'!$K$4<4,\"Years 1, 2 and 3\",\"--\")))","v":"Years 4, 5 and 6"}]
[null,null,null,null,null,"All stage 4 activities should ideally be completed within a 2-year period",null,null,null,{"$f":"IF('NW country'!$K$4<2,\"Years 10 and 11\",IF('NW country'!$K$4<3,\"Years 7 and 8\",IF('NW country'!$K$4<4,\"Years 4 and 5\",IF('NW country'!$K$4<5,\"Years 1 and 2\",\"--\"))))","v":"Years 7 and 8"}]
[null,null,null,null,null,"All stage 5 activities should ideally be completed within a 2-year period",null,null,null,{"$f":"IF('NW country'!$K$4<2,\"Years 12 and 13\",IF('NW country'!$K$4<3,\"Years 9 and 10\",IF('NW country'!$K$4<4,\"Years 6 and 7\",IF('NW country'!$K$4<5,\"Years 3 and 4\",\"Years 1 and 2\"))))","v":"Years 9 and 10"}]
[]
[null,"INSTRUCTIONS:   Please edit the Objectives, Responsible authority, and Year of completion as applicable to your country"]
["ID","Stage","Theme","Pending activity","Comments from SARE tool","Objectives","Outcomes","Responsible authority","Number of years to completion  (see above)","Deliverables"]
[{"$f":"IF(ROWS($A$13:A13)<=(SUMPRODUCT((masterlist!B:B=\"LAB\")*(masterlist!J:J=0))),INDEX(masterlist!$C$2:$C$200,SMALL(IF(masterlist!$B$2:$B$200=\"LAB\",IF(masterlist!$F$2:$F$200>0,IF(masterlist!$J$2:$J$200=0,ROW(masterlist!$B$2:$B$200)-ROW(masterlist!$B$2)+1))),ROWS($A$13:A13))),\"\")","v":"LAB-Lab-4-12"},{"$f":"IFERROR(VLOOKUP($A13,masterlist!$C$2:$AA$200,3,FALSE),\"\")","v":4},{"$f":"IFERROR(VLOOKUP($A13,masterlist!$C$2:$AA$200,2,FALSE),\"\")","v":"Laboratory capacity and testing"},{"$f":"IFERROR(VLOOKUP($A13,masterlist!$C$2:$AA$200,5,FALSE),\"\")","v":"Is there regular characterization and analysis of circulating rabies virus variants by a national or international laboratory?"},{"$f":"IFERROR(IF((VLOOKUP($A13,masterlist!$C$2:$AA$200,9,FALSE))=0,\"\",VLOOKUP($A13,masterlist!$C$2:$AA$200,9,FALSE)),\"\")","v":""},{"$f":"IFERROR(VLOOKUP($A13,masterlist!$C$2:$AA$200,20,FALSE),\"\")","v":"Identify relevant national or international laboratory to facilitate characterizaion of rabies virus variants;\nEstablish a working relationship with the identified laboratory;\nSubmit all rabies-positive samples for characterization;\nEnsure continued and regular submission of rabies-positive samples for characterization;"},{"$f":"IFERROR(VLOOKUP($A13,masterlist!$C$2:$AA$200,21,FALSE),\"\")","v":"Regular characterization and analysis of circulating rabies virus variants undertaken;"},{"$f":"IFERROR(VLOOKUP($A13,masterlist!$C$2:$AA$200,22,FALSE),\"\")","v":"Ministry of Agriculture "},{"$f":"IFERROR(IF($B$7=2,(VLOOKUP($A13,masterlist!$C$2:$AA$200,23,FALSE)-11),IF($B$7=4,(VLOOKUP($A13,masterlist!$C$2:$AA$200,23,FALSE)-9),IF($B$7=7,(VLOOKUP($A13,masterlist!$C$2:$AA$200,23,FALSE)-6),IF($B$7=10,(VLOOKUP($A13,masterlist!$C$2:$AA$200,23,FALSE)-3),(VLOOKUP($A13,masterlist!$C$2:$AA$200,23,FALSE)))))),\"\")","v":8},{"$f":"IFERROR(VLOOKUP($A13,masterlist!$C$2:$AA$200,24,FALSE),\"\")","v":"Number of rabies-positive samples characterised; "}]
[{"$f":"IF(ROWS($A$13:A14)<=(SUMPRODUCT((masterlist!B:B=\"LAB\")*(masterlist!J:J=0))),INDEX(masterlist!$C$2:$C$200,SMALL(IF(masterlist!$B$2:$B$200=\"LAB\",IF(masterlist!$F$2:$F$200>0,IF(masterlist!$J$2:$J$200=0,ROW(masterlist!$B$2:$B$200)-ROW(masterlist!$B$2)+1))),ROWS($A$13:A14))),\"\")","v":""},{"$f":"IFERROR(VLOOKUP($A14,masterlist!$C$2:$AA$200,3,FALSE),\"\")","v":""},{"$f":"IFERROR(VLOOKUP($A14,masterlist!$C$2:$AA$200,2,FALSE),\"\")","v":""},{"$f":"IFERROR(VLOOKUP($A14,masterlist!$C$2:$AA$200,5,FALSE),\"\")","v":""},{"$f":"IFERROR(IF((VLOOKUP($A14,masterlist!$C$2:$AA$200,9,FALSE))=0,\"\",VLOOKUP($A14,masterlist!$C$2:$AA$200,9,FALSE)),\"\")","v":""},{"$f":"IFERROR(VLOOKUP($A14,masterlist!$C$2:$AA$200,20,FALSE),\"\")","v":""},{"$f":"IFERROR(VLOOKUP($A14,masterlist!$C$2:$AA$200,21,FALSE),\"\")","v":""},{"$f":"IFERROR(VLOOKUP($A14,masterlist!$C$2:$AA$200,22,FALSE),\"\")","v":""},{"$f":"IFERROR(IF($B$7=2,(VLOOKUP($A14,masterlist!$C$2:$AA$200,23,FALSE)-11),IF($B$7=4,(VLOOKUP($A14,masterlist!$C$2:$AA$200,23,FALSE)-9),IF($B$7=7,(VLOOKUP($A14,masterlist!$C$2:$AA$200,23,FALSE)-6),IF($B$7=10,(VLOOKUP($A14,masterlist!$C$2:$AA$200,23,FALSE)-3),(VLOOKUP($A14,masterlist!$C$2:$AA$200,23,FALSE)))))),\"\")","v":""},{"$f":"IFERROR(VLOOKUP($A14,masterlist!$C$2:$AA$200,24,FALSE),\"\")","v":""}]
[{"$f":"IF(ROWS($A$13:A15)<=(SUMPRODUCT((masterlist!B:B=\"LAB\")*(masterlist!J:J=0))),INDEX(masterlist!$C$2:$C$200,SMALL(IF(masterlist!$B$2:$B$200=\"LAB\",IF(masterlist!$F$2:$F$200>0,IF(masterlist!$J$2:$J$200=0,ROW(masterlist!$B$2:$B$200)-ROW(masterlist!$B$2)+1))),ROWS($A$13:A15))),\"\")","v":""},{"$f":"IFERROR(VLOOKUP($A15,masterlist!$C$2:$AA$200,3,FALSE),\"\")","v":""},{"$f":"IFERROR(VLOOKUP($A15,masterlist!$C$2:$AA$200,2,FALSE),\"\")","v":""},{"$f":"IFERROR(VLOOKUP($A15,masterlist!$C$2:$AA$200,5,FALSE),\"\")","v":""},{"$f":"IFERROR(IF((VLOOKUP($A15,masterlist!$C$2:$AA$200,9,FALSE))=0,\"\",VLOOKUP($A15,masterlist!$C$2:$AA$200,9,FALSE)),\"\")","v":""},{"$f":"IFERROR(VLOOKUP($A15,masterlist!$C$2:$AA$200,20,FALSE),\"\")","v":""},{"$f":"IFERROR(VLOOKUP($A15,masterlist!$C$2:$AA$200,21,FALSE),\"\")","v":""},{"$f":"IFERROR(VLOOKUP($A15,masterlist!$C$2:$AA$200,22,FALSE),\"\")","v":""},{"$f":"IFERROR(IF($B$7=2,(VLOOKUP($A15,masterlist!$C$2:$AA$200,23,FALSE)-11),IF($B$7=4,(VLOOKUP($A15,masterlist!$C$2:$AA$200,23,FALSE)-9),IF($B$7=7,(VLOOKUP($A15,masterlist!$C$2:$AA$200,23,FALSE)-6),IF($B$7=10,(VLOOKUP($A15,masterlist!$C$2:$AA$200,23,FALSE)-3),(VLOOKUP($A15,masterlist!$C$2:$AA$200,23,FALSE)))))),\"\")","v":""},{"$f":"IFERROR(VLOOKUP($A15,masterlist!$C$2:$AA$200,24,FALSE),\"\")","v":""}]
[{"$f":"IF(ROWS($A$13:A16)<=(SUMPRODUCT((masterlist!B:B=\"LAB\")*(masterlist!J:J=0))),INDEX(masterlist!$C$2:$C$200,SMALL(IF(masterlist!$B$2:$B$200=\"LAB\",IF(masterlist!$F$2:$F$200>0,IF(masterlist!$J$2:$J$200=0,ROW(masterlist!$B$2:$B$200)-ROW(masterlist!$B$2)+1))),ROWS($A$13:A16))),\"\")","v":""},{"$f":"IFERROR(VLOOKUP($A16,masterlist!$C$2:$AA$200,3,FALSE),\"\")","v":""},{"$f":"IFERROR(VLOOKUP($A16,masterlist!$C$2:$AA$200,2,FALSE),\"\")","v":""},{"$f":"IFERROR(VLOOKUP($A16,masterlist!$C$2:$AA$200,5,FALSE),\"\")","v":""},{"$f":"IFERROR(IF((VLOOKUP($A16,masterlist!$C$2:$AA$200,9,FALSE))=0,\"\",VLOOKUP($A16,masterlist!$C$2:$AA$200,9,FALSE)),\"\")","v":""},{"$f":"IFERROR(VLOOKUP($A16,masterlist!$C$2:$AA$200,20,FALSE),\"\")","v":""},{"$f":"IFERROR(VLOOKUP($A16,masterlist!$C$2:$AA$200,21,FALSE),\"\")","v":""},{"$f":"IFERROR(VLOOKUP($A16,masterlist!$C$2:$AA$200,22,FALSE),\"\")","v":""},{"$f":"IFERROR(IF($B$7=2,(VLOOKUP($A16,masterlist!$C$2:$AA$200,23,FALSE)-11),IF($B$7=4,(VLOOKUP($A16,masterlist!$C$2:$AA$200,23,FALSE)-9),IF($B$7=7,(VLOOKUP($A16,masterlist!$C$2:$AA$200,23,FALSE)-6),IF($B$7=10,(VLOOKUP($A16,masterlist!$C$2:$AA$200,23,FALSE)-3),(VLOOKUP($A16,masterlist!$C$2:$AA$200,23,FALSE)))))),\"\")","v":""},{"$f":"IFERROR(VLOOKUP($A16,masterlist!$C$2:$AA$200,24,FALSE),\"\")","v":""}]
[{"$f":"IF(ROWS($A$13:A17)<=(SUMPRODUCT((masterlist!B:B=\"LAB\")*(masterlist!J:J=0))),INDEX(masterlist!$C$2:$C$200,SMALL(IF(masterlist!$B$2:$B$200=\"LAB\",IF(masterlist!$F$2:$F$200>0,IF(masterlist!$J$2:$J$200=0,ROW(masterlist!$B$2:$B$200)-ROW(masterlist!$B$2)+1))),ROWS($A$13:A17))),\"\")","v":""},{"$f":"IFERROR(VLOOKUP($A17,masterlist!$C$2:$AA$200,3,FALSE),\"\")","v":""},{"$f":"IFERROR(VLOOKUP($A17,masterlist!$C$2:$AA$200,2,FALSE),\"\")","v":""},{"$f":"IFERROR(VLOOKUP($A17,masterlist!$C$2:$AA$200,5,FALSE),\"\")","v":""},{"$f":"IFERROR(IF((VLOOKUP($A17,masterlist!$C$2:$AA$200,9,FALSE))=0,\"\",VLOOKUP($A17,masterlist!$C$2:$AA$200,9,FALSE)),\"\")","v":""},{"$f":"IFERROR(VLOOKUP($A17,masterlist!$C$2:$AA$200,20,FALSE),\"\")","v":""},{"$f":"IFERROR(VLOOKUP($A17,masterlist!$C$2:$AA$200,21,FALSE),\"\")","v":""},{"$f":"IFERROR(VLOOKUP($A17,masterlist!$C$2:$AA$200,22,FALSE),\"\")","v":""},{"$f":"IFERROR(IF($B$7=2,(VLOOKUP($A17,masterlist!$C$2:$AA$200,23,FALSE)-11),IF($B$7=4,(VLOOKUP($A17,masterlist!$C$2:$AA$200,23,FALSE)-9),IF($B$7=7,(VLOOKUP($A17,masterlist!$C$2:$AA$200,23,FALSE)-6),IF($B$7=10,(VLOOKUP($A17,masterlist!$C$2:$AA$200,23,FALSE)-3),(VLOOKUP($A17,masterlist!$C$2:$AA$200,23,FALSE)))))),\"\")","v":""},{"$f":"IFERROR(VLOOKUP($A17,masterlist!$C$2:$AA$200,24,FALSE),\"\")","v":""}]
[{"$f":"IF(ROWS($A$13:A18)<=(SUMPRODUCT((masterlist!B:B=\"LAB\")*(masterlist!J:J=0))),INDEX(masterlist!$C$2:$C$200,SMALL(IF(masterlist!$B$2:$B$200=\"LAB\",IF(masterlist!$F$2:$F$200>0,IF(masterlist!$J$2:$J$200=0,ROW(masterlist!$B$2:$B$200)-ROW(masterlist!$B$2)+1))),ROWS($A$13:A18))),\"\")","v":""},{"$f":"IFERROR(VLOOKUP($A18,masterlist!$C$2:$AA$200,3,FALSE),\"\")","v":""},{"$f":"IFERROR(VLOOKUP($A18,masterlist!$C$2:$AA$200,2,FALSE),\"\")","v":""},{"$f":"IFERROR(VLOOKUP($A18,masterlist!$C$2:$AA$200,5,FALSE),\"\")","v":""},{"$f":"IFERROR(IF((VLOOKUP($A18,masterlist!$C$2:$AA$200,9,FALSE))=0,\"\",VLOOKUP($A18,masterlist!$C$2:$AA$200,9,FALSE)),\"\")","v":""},{"$f":"IFERROR(VLOOKUP($A18,masterlist!$C$2:$AA$200,20,FALSE),\"\")","v":""},{"$f":"IFERROR(VLOOKUP($A18,masterlist!$C$2:$AA$200,21,FALSE),\"\")","v":""},{"$f":"IFERROR(VLOOKUP($A18,masterlist!$C$2:$AA$200,22,FALSE),\"\")","v":""},{"$f":"IFERROR(IF($B$7=2,(VLOOKUP($A18,masterlist!$C$2:$AA$200,23,FALSE)-11),IF($B$7=4,(VLOOKUP($A18,masterlist!$C$2:$AA$200,23,FALSE)-9),IF($B$7=7,(VLOOKUP($A18,masterlist!$C$2:$AA$200,23,FALSE)-6),IF($B$7=10,(VLOOKUP($A18,masterlist!$C$2:$AA$200,23,FALSE)-3),(VLOOKUP($A18,masterlist!$C$2:$AA$200,23,FALSE)))))),\"\")","v":""},{"$f":"IFERROR(VLOOKUP($A18,masterlist!$C$2:$AA$200,24,FALSE),\"\")","v":""}]
[{"$f":"IF(ROWS($A$13:A19)<=(SUMPRODUCT((masterlist!B:B=\"LAB\")*(masterlist!J:J=0))),INDEX(masterlist!$C$2:$C$200,SMALL(IF(masterlist!$B$2:$B$200=\"LAB\",IF(masterlist!$F$2:$F$200>0,IF(masterlist!$J$2:$J$200=0,ROW(masterlist!$B$2:$B$200)-ROW(masterlist!$B$2)+1))),ROWS($A$13:A19))),\"\")","v":""},{"$f":"IFERROR(VLOOKUP($A19,masterlist!$C$2:$AA$200,3,FALSE),\"\")","v":""},{"$f":"IFERROR(VLOOKUP($A19,masterlist!$C$2:$AA$200,2,FALSE),\"\")","v":""},{"$f":"IFERROR(VLOOKUP($A19,masterlist!$C$2:$AA$200,5,FALSE),\"\")","v":""},{"$f":"IFERROR(IF((VLOOKUP($A19,masterlist!$C$2:$AA$200,9,FALSE))=0,\"\",VLOOKUP($A19,masterlist!$C$2:$AA$200,9,FALSE)),\"\")","v":""},{"$f":"IFERROR(VLOOKUP($A19,masterlist!$C$2:$AA$200,20,FALSE),\"\")","v":""},{"$f":"IFERROR(VLOOKUP($A19,masterlist!$C$2:$AA$200,21,FALSE),\"\")","v":""},{"$f":"IFERROR(VLOOKUP($A19,masterlist!$C$2:$AA$200,22,FALSE),\"\")","v":""},{"$f":"IFERROR(IF($B$7=2,(VLOOKUP($A19,masterlist!$C$2:$AA$200,23,FALSE)-11),IF($B$7=4,(VLOOKUP($A19,masterlist!$C$2:$AA$200,23,FALSE)-9),IF($B$7=7,(VLOOKUP($A19,masterlist!$C$2:$AA$200,23,FALSE)-6),IF($B$7=10,(VLOOKUP($A19,masterlist!$C$2:$AA$200,23,FALSE)-3),(VLOOKUP($A19,masterlist!$C$2:$AA$200,23,FALSE)))))),\"\")","v":""},{"$f":"IFERROR(VLOOKUP($A19,masterlist!$C$2:$AA$200,24,FALSE),\"\")","v":""}]
[{"$f":"IF(ROWS($A$13:A20)<=(SUMPRODUCT((masterlist!B:B=\"LAB\")*(masterlist!J:J=0))),INDEX(masterlist!$C$2:$C$200,SMALL(IF(masterlist!$B$2:$B$200=\"LAB\",IF(masterlist!$F$2:$F$200>0,IF(masterlist!$J$2:$J$200=0,ROW(masterlist!$B$2:$B$200)-ROW(masterlist!$B$2)+1))),ROWS($A$13:A20))),\"\")","v":""},{"$f":"IFERROR(VLOOKUP($A20,masterlist!$C$2:$AA$200,3,FALSE),\"\")","v":""},{"$f":"IFERROR(VLOOKUP($A20,masterlist!$C$2:$AA$200,2,FALSE),\"\")","v":""},{"$f":"IFERROR(VLOOKUP($A20,masterlist!$C$2:$AA$200,5,FALSE),\"\")","v":""},{"$f":"IFERROR(IF((VLOOKUP($A20,masterlist!$C$2:$AA$200,9,FALSE))=0,\"\",VLOOKUP($A20,masterlist!$C$2:$AA$200,9,FALSE)),\"\")","v":""},{"$f":"IFERROR(VLOOKUP($A20,masterlist!$C$2:$AA$200,20,FALSE),\"\")","v":""},{"$f":"IFERROR(VLOOKUP($A20,masterlist!$C$2:$AA$200,21,FALSE),\"\")","v":""},{"$f":"IFERROR(VLOOKUP($A20,masterlist!$C$2:$AA$200,22,FALSE),\"\")","v":""},{"$f":"IFERROR(IF($B$7=2,(VLOOKUP($A20,masterlist!$C$2:$AA$200,23,FALSE)-11),IF($B$7=4,(VLOOKUP($A20,masterlist!$C$2:$AA$200,23,FALSE)-9),IF($B$7=7,(VLOOKUP($A20,masterlist!$C$2:$AA$200,23,FALSE)-6),IF($B$7=10,(VLOOKUP($A20,masterlist!$C$2:$AA$200,23,FALSE)-3),(VLOOKUP($A20,masterlist!$C$2:$AA$200,23,FALSE)))))),\"\")","v":""},{"$f":"IFERROR(VLOOKUP($A20,masterlist!$C$2:$AA$200,24,FALSE),\"\")","v":""}]
[{"$f":"IF(ROWS($A$13:A21)<=(SUMPRODUCT((masterlist!B:B=\"LAB\")*(masterlist!J:J=0))),INDEX(masterlist!$C$2:$C$200,SMALL(IF(masterlist!$B$2:$B$200=\"LAB\",IF(masterlist!$F$2:$F$200>0,IF(masterlist!$J$2:$J$200=0,ROW(masterlist!$B$2:$B$200)-ROW(masterlist!$B$2)+1))),ROWS($A$13:A21))),\"\")","v":""},{"$f":"IFERROR(VLOOKUP($A21,masterlist!$C$2:$AA$200,3,FALSE),\"\")","v":""},{"$f":"IFERROR(VLOOKUP($A21,masterlist!$C$2:$AA$200,2,FALSE),\"\")","v":""},{"$f":"IFERROR(VLOOKUP($A21,masterlist!$C$2:$AA$200,5,FALSE),\"\")","v":""},{"$f":"IFERROR(IF((VLOOKUP($A21,masterlist!$C$2:$AA$200,9,FALSE))=0,\"\",VLOOKUP($A21,masterlist!$C$2:$AA$200,9,FALSE)),\"\")","v":""},{"$f":"IFERROR(VLOOKUP($A21,masterlist!$C$2:$AA$200,20,FALSE),\"\")","v":""},{"$f":"IFERROR(VLOOKUP($A21,masterlist!$C$2:$AA$200,21,FALSE),\"\")","v":""},{"$f":"IFERROR(VLOOKUP($A21,masterlist!$C$2:$AA$200,22,FALSE),\"\")","v":""},{"$f":"IFERROR(IF($B$7=2,(VLOOKUP($A21,masterlist!$C$2:$AA$200,23,FALSE)-11),IF($B$7=4,(VLOOKUP($A21,masterlist!$C$2:$AA$200,23,FALSE)-9),IF($B$7=7,(VLOOKUP($A21,masterlist!$C$2:$AA$200,23,FALSE)-6),IF($B$7=10,(VLOOKUP($A21,masterlist!$C$2:$AA$200,23,FALSE)-3),(VLOOKUP($A21,masterlist!$C$2:$AA$200,23,FALSE)))))),\"\")","v":""},{"$f":"IFERROR(VLOOKUP($A21,masterlist!$C$2:$AA$200,24,FALSE),\"\")","v":""}]
[{"$f":"IF(ROWS($A$13:A22)<=(SUMPRODUCT((masterlist!B:B=\"LAB\")*(masterlist!J:J=0))),INDEX(masterlist!$C$2:$C$200,SMALL(IF(masterlist!$B$2:$B$200=\"LAB\",IF(masterlist!$F$2:$F$200>0,IF(masterlist!$J$2:$J$200=0,ROW(masterlist!$B$2:$B$200)-ROW(masterlist!$B$2)+1))),ROWS($A$13:A22))),\"\")","v":""},{"$f":"IFERROR(VLOOKUP($A22,masterlist!$C$2:$AA$200,3,FALSE),\"\")","v":""},{"$f":"IFERROR(VLOOKUP($A22,masterlist!$C$2:$AA$200,2,FALSE),\"\")","v":""},{"$f":"IFERROR(VLOOKUP($A22,masterlist!$C$2:$AA$200,5,FALSE),\"\")","v":""},{"$f":"IFERROR(IF((VLOOKUP($A22,masterlist!$C$2:$AA$200,9,FALSE))=0,\"\",VLOOKUP($A22,masterlist!$C$2:$AA$200,9,FALSE)),\"\")","v":""},{"$f":"IFERROR(VLOOKUP($A22,masterlist!$C$2:$AA$200,20,FALSE),\"\")","v":""},{"$f":"IFERROR(VLOOKUP($A22,masterlist!$C$2:$AA$200,21,FALSE),\"\")","v":""},{"$f":"IFERROR(VLOOKUP($A22,masterlist!$C$2:$AA$200,22,FALSE),\"\")","v":""},{"$f":"IFERROR(IF($B$7=2,(VLOOKUP($A22,masterlist!$C$2:$AA$200,23,FALSE)-11),IF($B$7=4,(VLOOKUP($A22,masterlist!$C$2:$AA$200,23,FALSE)-9),IF($B$7=7,(VLOOKUP($A22,masterlist!$C$2:$AA$200,23,FALSE)-6),IF($B$7=10,(VLOOKUP($A22,masterlist!$C$2:$AA$200,23,FALSE)-3),(VLOOKUP($A22,masterlist!$C$2:$AA$200,23,FALSE)))))),\"\")","v":""},{"$f":"IFERROR(VLOOKUP($A22,masterlist!$C$2:$AA$200,24,FALSE),\"\")","v":""}]
[{"$f":"IF(ROWS($A$13:A23)<=(SUMPRODUCT((masterlist!B:B=\"LAB\")*(masterlist!J:J=0))),INDEX(masterlist!$C$2:$C$200,SMALL(IF(masterlist!$B$2:$B$200=\"LAB\",IF(masterlist!$F$2:$F$200>0,IF(masterlist!$J$2:$J$200=0,ROW(masterlist!$B$2:$B$200)-ROW(masterlist!$B$2)+1))),ROWS($A$13:A23))),\"\")","v":""},{"$f":"IFERROR(VLOOKUP($A23,masterlist!$C$2:$AA$200,3,FALSE),\"\")","v":""},{"$f":"IFERROR(VLOOKUP($A23,masterlist!$C$2:$AA$200,2,FALSE),\"\")","v":""},{"$f":"IFERROR(VLOOKUP($A23,masterlist!$C$2:$AA$200,5,FALSE),\"\")","v":""},{"$f":"IFERROR(IF((VLOOKUP($A23,masterlist!$C$2:$AA$200,9,FALSE))=0,\"\",VLOOKUP($A23,masterlist!$C$2:$AA$200,9,FALSE)),\"\")","v":""},{"$f":"IFERROR(VLOOKUP($A23,masterlist!$C$2:$AA$200,20,FALSE),\"\")","v":""},{"$f":"IFERROR(VLOOKUP($A23,masterlist!$C$2:$AA$200,21,FALSE),\"\")","v":""},{"$f":"IFERROR(VLOOKUP($A23,masterlist!$C$2:$AA$200,22,FALSE),\"\")","v":""},{"$f":"IFERROR(IF($B$7=2,(VLOOKUP($A23,masterlist!$C$2:$AA$200,23,FALSE)-11),IF($B$7=4,(VLOOKUP($A23,masterlist!$C$2:$AA$200,23,FALSE)-9),IF($B$7=7,(VLOOKUP($A23,masterlist!$C$2:$AA$200,23,FALSE)-6),IF($B$7=10,(VLOOKUP($A23,masterlist!$C$2:$AA$200,23,FALSE)-3),(VLOOKUP($A23,masterlist!$C$2:$AA$200,23,FALSE)))))),\"\")","v":""},{"$f":"IFERROR(VLOOKUP($A23,masterlist!$C$2:$AA$200,24,FALSE),\"\")","v":""}]
[{"$f":"IF(ROWS($A$13:A24)<=(SUMPRODUCT((masterlist!B:B=\"LAB\")*(masterlist!J:J=0))),INDEX(masterlist!$C$2:$C$200,SMALL(IF(masterlist!$B$2:$B$200=\"LAB\",IF(masterlist!$F$2:$F$200>0,IF(masterlist!$J$2:$J$200=0,ROW(masterlist!$B$2:$B$200)-ROW(masterlist!$B$2)+1))),ROWS($A$13:A24))),\"\")","v":""},{"$f":"IFERROR(VLOOKUP($A24,masterlist!$C$2:$AA$200,3,FALSE),\"\")","v":""},{"$f":"IFERROR(VLOOKUP($A24,masterlist!$C$2:$AA$200,2,FALSE),\"\")","v":""},{"$f":"IFERROR(VLOOKUP($A24,masterlist!$C$2:$AA$200,5,FALSE),\"\")","v":""},{"$f":"IFERROR(IF((VLOOKUP($A24,masterlist!$C$2:$AA$200,9,FALSE))=0,\"\",VLOOKUP($A24,masterlist!$C$2:$AA$200,9,FALSE)),\"\")","v":""},{"$f":"IFERROR(VLOOKUP($A24,masterlist!$C$2:$AA$200,20,FALSE),\"\")","v":""},{"$f":"IFERROR(VLOOKUP($A24,masterlist!$C$2:$AA$200,21,FALSE),\"\")","v":""},{"$f":"IFERROR(VLOOKUP($A24,masterlist!$C$2:$AA$200,22,FALSE),\"\")","v":""},{"$f":"IFERROR(IF($B$7=2,(VLOOKUP($A24,masterlist!$C$2:$AA$200,23,FALSE)-11),IF($B$7=4,(VLOOKUP($A24,masterlist!$C$2:$AA$200,23,FALSE)-9),IF($B$7=7,(VLOOKUP($A24,masterlist!$C$2:$AA$200,23,FALSE)-6),IF($B$7=10,(VLOOKUP($A24,masterlist!$C$2:$AA$200,23,FALSE)-3),(VLOOKUP($A24,masterlist!$C$2:$AA$200,23,FALSE)))))),\"\")","v":""},{"$f":"IFERROR(VLOOKUP($A24,masterlist!$C$2:$AA$200,24,FALSE),\"\")","v":""}]
[{"$f":"IF(ROWS($A$13:A25)<=(SUMPRODUCT((masterlist!B:B=\"LAB\")*(masterlist!J:J=0))),INDEX(masterlist!$C$2:$C$200,SMALL(IF(masterlist!$B$2:$B$200=\"LAB\",IF(masterlist!$F$2:$F$200>0,IF(masterlist!$J$2:$J$200=0,ROW(masterlist!$B$2:$B$200)-ROW(masterlist!$B$2)+1))),ROWS($A$13:A25))),\"\")","v":""},{"$f":"IFERROR(VLOOKUP($A25,masterlist!$C$2:$AA$200,3,FALSE),\"\")","v":""},{"$f":"IFERROR(VLOOKUP($A25,masterlist!$C$2:$AA$200,2,FALSE),\"\")","v":""},{"$f":"IFERROR(VLOOKUP($A25,masterlist!$C$2:$AA$200,5,FALSE),\"\")","v":""},{"$f":"IFERROR(IF((VLOOKUP($A25,masterlist!$C$2:$AA$200,9,FALSE))=0,\"\",VLOOKUP($A25,masterlist!$C$2:$AA$200,9,FALSE)),\"\")","v":""},{"$f":"IFERROR(VLOOKUP($A25,masterlist!$C$2:$AA$200,20,FALSE),\"\")","v":""},{"$f":"IFERROR(VLOOKUP($A25,masterlist!$C$2:$AA$200,21,FALSE),\"\")","v":""},{"$f":"IFERROR(VLOOKUP($A25,masterlist!$C$2:$AA$200,22,FALSE),\"\")","v":""},{"$f":"IFERROR(IF($B$7=2,(VLOOKUP($A25,masterlist!$C$2:$AA$200,23,FALSE)-11),IF($B$7=4,(VLOOKUP($A25,masterlist!$C$2:$AA$200,23,FALSE)-9),IF($B$7=7,(VLOOKUP($A25,masterlist!$C$2:$AA$200,23,FALSE)-6),IF($B$7=10,(VLOOKUP($A25,masterlist!$C$2:$AA$200,23,FALSE)-3),(VLOOKUP($A25,masterlist!$C$2:$AA$200,23,FALSE)))))),\"\")","v":""},{"$f":"IFERROR(VLOOKUP($A25,masterlist!$C$2:$AA$200,24,FALSE),\"\")","v":""}]
[{"$f":"IF(ROWS($A$13:A26)<=(SUMPRODUCT((masterlist!B:B=\"LAB\")*(masterlist!J:J=0))),INDEX(masterlist!$C$2:$C$200,SMALL(IF(masterlist!$B$2:$B$200=\"LAB\",IF(masterlist!$F$2:$F$200>0,IF(masterlist!$J$2:$J$200=0,ROW(masterlist!$B$2:$B$200)-ROW(masterlist!$B$2)+1))),ROWS($A$13:A26))),\"\")","v":""},{"$f":"IFERROR(VLOOKUP($A26,masterlist!$C$2:$AA$200,3,FALSE),\"\")","v":""},{"$f":"IFERROR(VLOOKUP($A26,masterlist!$C$2:$AA$200,2,FALSE),\"\")","v":""},{"$f":"IFERROR(VLOOKUP($A26,masterlist!$C$2:$AA$200,5,FALSE),\"\")","v":""},{"$f":"IFERROR(IF((VLOOKUP($A26,masterlist!$C$2:$AA$200,9,FALSE))=0,\"\",VLOOKUP($A26,masterlist!$C$2:$AA$200,9,FALSE)),\"\")","v":""},{"$f":"IFERROR(VLOOKUP($A26,masterlist!$C$2:$AA$200,20,FALSE),\"\")","v":""},{"$f":"IFERROR(VLOOKUP($A26,masterlist!$C$2:$AA$200,21,FALSE),\"\")","v":""},{"$f":"IFERROR(VLOOKUP($A26,masterlist!$C$2:$AA$200,22,FALSE),\"\")","v":""},{"$f":"IFERROR(IF($B$7=2,(VLOOKUP($A26,masterlist!$C$2:$AA$200,23,FALSE)-11),IF($B$7=4,(VLOOKUP($A26,masterlist!$C$2:$AA$200,23,FALSE)-9),IF($B$7=7,(VLOOKUP($A26,masterlist!$C$2:$AA$200,23,FALSE)-6),IF($B$7=10,(VLOOKUP($A26,masterlist!$C$2:$AA$200,23,FALSE)-3),(VLOOKUP($A26,masterlist!$C$2:$AA$200,23,FALSE)))))),\"\")","v":""},{"$f":"IFERROR(VLOOKUP($A26,masterlist!$C$2:$AA$200,24,FALSE),\"\")","v":""}]
[{"$f":"IF(ROWS($A$13:A27)<=(SUMPRODUCT((masterlist!B:B=\"LAB\")*(masterlist!J:J=0))),INDEX(masterlist!$C$2:$C$200,SMALL(IF(masterlist!$B$2:$B$200=\"LAB\",IF(masterlist!$F$2:$F$200>0,IF(masterlist!$J$2:$J$200=0,ROW(masterlist!$B$2:$B$200)-ROW(masterlist!$B$2)+1))),ROWS($A$13:A27))),\"\")","v":""},{"$f":"IFERROR(VLOOKUP($A27,masterlist!$C$2:$AA$200,3,FALSE),\"\")","v":""},{"$f":"IFERROR(VLOOKUP($A27,masterlist!$C$2:$AA$200,2,FALSE),\"\")","v":""},{"$f":"IFERROR(VLOOKUP($A27,masterlist!$C$2:$AA$200,5,FALSE),\"\")","v":""},{"$f":"IFERROR(IF((VLOOKUP($A27,masterlist!$C$2:$AA$200,9,FALSE))=0,\"\",VLOOKUP($A27,masterlist!$C$2:$AA$200,9,FALSE)),\"\")","v":""},{"$f":"IFERROR(VLOOKUP($A27,masterlist!$C$2:$AA$200,20,FALSE),\"\")","v":""},{"$f":"IFERROR(VLOOKUP($A27,masterlist!$C$2:$AA$200,21,FALSE),\"\")","v":""},{"$f":"IFERROR(VLOOKUP($A27,masterlist!$C$2:$AA$200,22,FALSE),\"\")","v":""},{"$f":"IFERROR(IF($B$7=2,(VLOOKUP($A27,masterlist!$C$2:$AA$200,23,FALSE)-11),IF($B$7=4,(VLOOKUP($A27,masterlist!$C$2:$AA$200,23,FALSE)-9),IF($B$7=7,(VLOOKUP($A27,masterlist!$C$2:$AA$200,23,FALSE)-6),IF($B$7=10,(VLOOKUP($A27,masterlist!$C$2:$AA$200,23,FALSE)-3),(VLOOKUP($A27,masterlist!$C$2:$AA$200,23,FALSE)))))),\"\")","v":""},{"$f":"IFERROR(VLOOKUP($A27,masterlist!$C$2:$AA$200,24,FALSE),\"\")","v":""}]
[{"$f":"IF(ROWS($A$13:A28)<=(SUMPRODUCT((masterlist!B:B=\"LAB\")*(masterlist!J:J=0))),INDEX(masterlist!$C$2:$C$200,SMALL(IF(masterlist!$B$2:$B$200=\"LAB\",IF(masterlist!$F$2:$F$200>0,IF(masterlist!$J$2:$J$200=0,ROW(masterlist!$B$2:$B$200)-ROW(masterlist!$B$2)+1))),ROWS($A$13:A28))),\"\")","v":""},{"$f":"IFERROR(VLOOKUP($A28,masterlist!$C$2:$AA$200,3,FALSE),\"\")","v":""},{"$f":"IFERROR(VLOOKUP($A28,masterlist!$C$2:$AA$200,2,FALSE),\"\")","v":""},{"$f":"IFERROR(VLOOKUP($A28,masterlist!$C$2:$AA$200,5,FALSE),\"\")","v":""},{"$f":"IFERROR(IF((VLOOKUP($A28,masterlist!$C$2:$AA$200,9,FALSE))=0,\"\",VLOOKUP($A28,masterlist!$C$2:$AA$200,9,FALSE)),\"\")","v":""},{"$f":"IFERROR(VLOOKUP($A28,masterlist!$C$2:$AA$200,20,FALSE),\"\")","v":""},{"$f":"IFERROR(VLOOKUP($A28,masterlist!$C$2:$AA$200,21,FALSE),\"\")","v":""},{"$f":"IFERROR(VLOOKUP($A28,masterlist!$C$2:$AA$200,22,FALSE),\"\")","v":""},{"$f":"IFERROR(IF($B$7=2,(VLOOKUP($A28,masterlist!$C$2:$AA$200,23,FALSE)-11),IF($B$7=4,(VLOOKUP($A28,masterlist!$C$2:$AA$200,23,FALSE)-9),IF($B$7=7,(VLOOKUP($A28,masterlist!$C$2:$AA$200,23,FALSE)-6),IF($B$7=10,(VLOOKUP($A28,masterlist!$C$2:$AA$200,23,FALSE)-3),(VLOOKUP($A28,masterlist!$C$2:$AA$200,23,FALSE)))))),\"\")","v":""},{"$f":"IFERROR(VLOOKUP($A28,masterlist!$C$2:$AA$200,24,FALSE),\"\")","v":""}]
[{"$f":"IF(ROWS($A$13:A29)<=(SUMPRODUCT((masterlist!B:B=\"LAB\")*(masterlist!J:J=0))),INDEX(masterlist!$C$2:$C$200,SMALL(IF(masterlist!$B$2:$B$200=\"LAB\",IF(masterlist!$F$2:$F$200>0,IF(masterlist!$J$2:$J$200=0,ROW(masterlist!$B$2:$B$200)-ROW(masterlist!$B$2)+1))),ROWS($A$13:A29))),\"\")","v":""},{"$f":"IFERROR(VLOOKUP($A29,masterlist!$C$2:$AA$200,3,FALSE),\"\")","v":""},{"$f":"IFERROR(VLOOKUP($A29,masterlist!$C$2:$AA$200,2,FALSE),\"\")","v":""},{"$f":"IFERROR(VLOOKUP($A29,masterlist!$C$2:$AA$200,5,FALSE),\"\")","v":""},{"$f":"IFERROR(IF((VLOOKUP($A29,masterlist!$C$2:$AA$200,9,FALSE))=0,\"\",VLOOKUP($A29,masterlist!$C$2:$AA$200,9,FALSE)),\"\")","v":""},{"$f":"IFERROR(VLOOKUP($A29,masterlist!$C$2:$AA$200,20,FALSE),\"\")","v":""},{"$f":"IFERROR(VLOOKUP($A29,masterlist!$C$2:$AA$200,21,FALSE),\"\")","v":""},{"$f":"IFERROR(VLOOKUP($A29,masterlist!$C$2:$AA$200,22,FALSE),\"\")","v":""},{"$f":"IFERROR(IF($B$7=2,(VLOOKUP($A29,masterlist!$C$2:$AA$200,23,FALSE)-11),IF($B$7=4,(VLOOKUP($A29,masterlist!$C$2:$AA$200,23,FALSE)-9),IF($B$7=7,(VLOOKUP($A29,masterlist!$C$2:$AA$200,23,FALSE)-6),IF($B$7=10,(VLOOKUP($A29,masterlist!$C$2:$AA$200,23,FALSE)-3),(VLOOKUP($A29,masterlist!$C$2:$AA$200,23,FALSE)))))),\"\")","v":""},{"$f":"IFERROR(VLOOKUP($A29,masterlist!$C$2:$AA$200,24,FALSE),\"\")","v":""}]
[{"$f":"IF(ROWS($A$13:A30)<=(SUMPRODUCT((masterlist!B:B=\"LAB\")*(masterlist!J:J=0))),INDEX(masterlist!$C$2:$C$200,SMALL(IF(masterlist!$B$2:$B$200=\"LAB\",IF(masterlist!$F$2:$F$200>0,IF(masterlist!$J$2:$J$200=0,ROW(masterlist!$B$2:$B$200)-ROW(masterlist!$B$2)+1))),ROWS($A$13:A30))),\"\")","v":""},{"$f":"IFERROR(VLOOKUP($A30,masterlist!$C$2:$AA$200,3,FALSE),\"\")","v":""},{"$f":"IFERROR(VLOOKUP($A30,masterlist!$C$2:$AA$200,2,FALSE),\"\")","v":""},{"$f":"IFERROR(VLOOKUP($A30,masterlist!$C$2:$AA$200,5,FALSE),\"\")","v":""},{"$f":"IFERROR(IF((VLOOKUP($A30,masterlist!$C$2:$AA$200,9,FALSE))=0,\"\",VLOOKUP($A30,masterlist!$C$2:$AA$200,9,FALSE)),\"\")","v":""},{"$f":"IFERROR(VLOOKUP($A30,masterlist!$C$2:$AA$200,20,FALSE),\"\")","v":""},{"$f":"IFERROR(VLOOKUP($A30,masterlist!$C$2:$AA$200,21,FALSE),\"\")","v":""},{"$f":"IFERROR(VLOOKUP($A30,masterlist!$C$2:$AA$200,22,FALSE),\"\")","v":""},{"$f":"IFERROR(IF($B$7=2,(VLOOKUP($A30,masterlist!$C$2:$AA$200,23,FALSE)-11),IF($B$7=4,(VLOOKUP($A30,masterlist!$C$2:$AA$200,23,FALSE)-9),IF($B$7=7,(VLOOKUP($A30,masterlist!$C$2:$AA$200,23,FALSE)-6),IF($B$7=10,(VLOOKUP($A30,masterlist!$C$2:$AA$200,23,FALSE)-3),(VLOOKUP($A30,masterlist!$C$2:$AA$200,23,FALSE)))))),\"\")","v":""},{"$f":"IFERROR(VLOOKUP($A30,masterlist!$C$2:$AA$200,24,FALSE),\"\")","v":""}]
[{"$f":"IF(ROWS($A$13:A31)<=(SUMPRODUCT((masterlist!B:B=\"LAB\")*(masterlist!J:J=0))),INDEX(masterlist!$C$2:$C$200,SMALL(IF(masterlist!$B$2:$B$200=\"LAB\",IF(masterlist!$F$2:$F$200>0,IF(masterlist!$J$2:$J$200=0,ROW(masterlist!$B$2:$B$200)-ROW(masterlist!$B$2)+1))),ROWS($A$13:A31))),\"\")","v":""},{"$f":"IFERROR(VLOOKUP($A31,masterlist!$C$2:$AA$200,3,FALSE),\"\")","v":""},{"$f":"IFERROR(VLOOKUP($A31,masterlist!$C$2:$AA$200,2,FALSE),\"\")","v":""},{"$f":"IFERROR(VLOOKUP($A31,masterlist!$C$2:$AA$200,5,FALSE),\"\")","v":""},{"$f":"IFERROR(IF((VLOOKUP($A31,masterlist!$C$2:$AA$200,9,FALSE))=0,\"\",VLOOKUP($A31,masterlist!$C$2:$AA$200,9,FALSE)),\"\")","v":""},{"$f":"IFERROR(VLOOKUP($A31,masterlist!$C$2:$AA$200,20,FALSE),\"\")","v":""},{"$f":"IFERROR(VLOOKUP($A31,masterlist!$C$2:$AA$200,21,FALSE),\"\")","v":""},{"$f":"IFERROR(VLOOKUP($A31,masterlist!$C$2:$AA$200,22,FALSE),\"\")","v":""},{"$f":"IFERROR(IF($B$7=2,(VLOOKUP($A31,masterlist!$C$2:$AA$200,23,FALSE)-11),IF($B$7=4,(VLOOKUP($A31,masterlist!$C$2:$AA$200,23,FALSE)-9),IF($B$7=7,(VLOOKUP($A31,masterlist!$C$2:$AA$200,23,FALSE)-6),IF($B$7=10,(VLOOKUP($A31,masterlist!$C$2:$AA$200,23,FALSE)-3),(VLOOKUP($A31,masterlist!$C$2:$AA$200,23,FALSE)))))),\"\")","v":""},{"$f":"IFERROR(VLOOKUP($A31,masterlist!$C$2:$AA$200,24,FALSE),\"\")","v":""}]
[{"$f":"IF(ROWS($A$13:A32)<=(SUMPRODUCT((masterlist!B:B=\"LAB\")*(masterlist!J:J=0))),INDEX(masterlist!$C$2:$C$200,SMALL(IF(masterlist!$B$2:$B$200=\"LAB\",IF(masterlist!$F$2:$F$200>0,IF(masterlist!$J$2:$J$200=0,ROW(masterlist!$B$2:$B$200)-ROW(masterlist!$B$2)+1))),ROWS($A$13:A32))),\"\")","v":""},{"$f":"IFERROR(VLOOKUP($A32,masterlist!$C$2:$AA$200,3,FALSE),\"\")","v":""},{"$f":"IFERROR(VLOOKUP($A32,masterlist!$C$2:$AA$200,2,FALSE),\"\")","v":""},{"$f":"IFERROR(VLOOKUP($A32,masterlist!$C$2:$AA$200,5,FALSE),\"\")","v":""},{"$f":"IFERROR(IF((VLOOKUP($A32,masterlist!$C$2:$AA$200,9,FALSE))=0,\"\",VLOOKUP($A32,masterlist!$C$2:$AA$200,9,FALSE)),\"\")","v":""},{"$f":"IFERROR(VLOOKUP($A32,masterlist!$C$2:$AA$200,20,FALSE),\"\")","v":""},{"$f":"IFERROR(VLOOKUP($A32,masterlist!$C$2:$AA$200,21,FALSE),\"\")","v":""},{"$f":"IFERROR(VLOOKUP($A32,masterlist!$C$2:$AA$200,22,FALSE),\"\")","v":""},{"$f":"IFERROR(IF($B$7=2,(VLOOKUP($A32,masterlist!$C$2:$AA$200,23,FALSE)-11),IF($B$7=4,(VLOOKUP($A32,masterlist!$C$2:$AA$200,23,FALSE)-9),IF($B$7=7,(VLOOKUP($A32,masterlist!$C$2:$AA$200,23,FALSE)-6),IF($B$7=10,(VLOOKUP($A32,masterlist!$C$2:$AA$200,23,FALSE)-3),(VLOOKUP($A32,masterlist!$C$2:$AA$200,23,FALSE)))))),\"\")","v":""},{"$f":"IFERROR(VLOOKUP($A32,masterlist!$C$2:$AA$200,24,FALSE),\"\")","v":""}]
[{"$f":"IF(ROWS($A$13:A33)<=(SUMPRODUCT((masterlist!B:B=\"LAB\")*(masterlist!J:J=0))),INDEX(masterlist!$C$2:$C$200,SMALL(IF(masterlist!$B$2:$B$200=\"LAB\",IF(masterlist!$F$2:$F$200>0,IF(masterlist!$J$2:$J$200=0,ROW(masterlist!$B$2:$B$200)-ROW(masterlist!$B$2)+1))),ROWS($A$13:A33))),\"\")","v":""},{"$f":"IFERROR(VLOOKUP($A33,masterlist!$C$2:$AA$200,3,FALSE),\"\")","v":""},{"$f":"IFERROR(VLOOKUP($A33,masterlist!$C$2:$AA$200,2,FALSE),\"\")","v":""},{"$f":"IFERROR(VLOOKUP($A33,masterlist!$C$2:$AA$200,5,FALSE),\"\")","v":""},{"$f":"IFERROR(IF((VLOOKUP($A33,masterlist!$C$2:$AA$200,9,FALSE))=0,\"\",VLOOKUP($A33,masterlist!$C$2:$AA$200,9,FALSE)),\"\")","v":""},{"$f":"IFERROR(VLOOKUP($A33,masterlist!$C$2:$AA$200,20,FALSE),\"\")","v":""},{"$f":"IFERROR(VLOOKUP($A33,masterlist!$C$2:$AA$200,21,FALSE),\"\")","v":""},{"$f":"IFERROR(VLOOKUP($A33,masterlist!$C$2:$AA$200,22,FALSE),\"\")","v":""},{"$f":"IFERROR(IF($B$7=2,(VLOOKUP($A33,masterlist!$C$2:$AA$200,23,FALSE)-11),IF($B$7=4,(VLOOKUP($A33,masterlist!$C$2:$AA$200,23,FALSE)-9),IF($B$7=7,(VLOOKUP($A33,masterlist!$C$2:$AA$200,23,FALSE)-6),IF($B$7=10,(VLOOKUP($A33,masterlist!$C$2:$AA$200,23,FALSE)-3),(VLOOKUP($A33,masterlist!$C$2:$AA$200,23,FALSE)))))),\"\")","v":""},{"$f":"IFERROR(VLOOKUP($A33,masterlist!$C$2:$AA$200,24,FALSE),\"\")","v":""}]
[{"$f":"IF(ROWS($A$13:A34)<=(SUMPRODUCT((masterlist!B:B=\"LAB\")*(masterlist!J:J=0))),INDEX(masterlist!$C$2:$C$200,SMALL(IF(masterlist!$B$2:$B$200=\"LAB\",IF(masterlist!$F$2:$F$200>0,IF(masterlist!$J$2:$J$200=0,ROW(masterlist!$B$2:$B$200)-ROW(masterlist!$B$2)+1))),ROWS($A$13:A34))),\"\")","v":""},{"$f":"IFERROR(VLOOKUP($A34,masterlist!$C$2:$AA$200,3,FALSE),\"\")","v":""},{"$f":"IFERROR(VLOOKUP($A34,masterlist!$C$2:$AA$200,2,FALSE),\"\")","v":""},{"$f":"IFERROR(VLOOKUP($A34,masterlist!$C$2:$AA$200,5,FALSE),\"\")","v":""},{"$f":"IFERROR(IF((VLOOKUP($A34,masterlist!$C$2:$AA$200,9,FALSE))=0,\"\",VLOOKUP($A34,masterlist!$C$2:$AA$200,9,FALSE)),\"\")","v":""},{"$f":"IFERROR(VLOOKUP($A34,masterlist!$C$2:$AA$200,20,FALSE),\"\")","v":""},{"$f":"IFERROR(VLOOKUP($A34,masterlist!$C$2:$AA$200,21,FALSE),\"\")","v":""},{"$f":"IFERROR(VLOOKUP($A34,masterlist!$C$2:$AA$200,22,FALSE),\"\")","v":""},{"$f":"IFERROR(IF($B$7=2,(VLOOKUP($A34,masterlist!$C$2:$AA$200,23,FALSE)-11),IF($B$7=4,(VLOOKUP($A34,masterlist!$C$2:$AA$200,23,FALSE)-9),IF($B$7=7,(VLOOKUP($A34,masterlist!$C$2:$AA$200,23,FALSE)-6),IF($B$7=10,(VLOOKUP($A34,masterlist!$C$2:$AA$200,23,FALSE)-3),(VLOOKUP($A34,masterlist!$C$2:$AA$200,23,FALSE)))))),\"\")","v":""},{"$f":"IFERROR(VLOOKUP($A34,masterlist!$C$2:$AA$200,24,FALSE),\"\")","v":""}]
[{"$f":"IF(ROWS($A$13:A35)<=(SUMPRODUCT((masterlist!B:B=\"LAB\")*(masterlist!J:J=0))),INDEX(masterlist!$C$2:$C$200,SMALL(IF(masterlist!$B$2:$B$200=\"LAB\",IF(masterlist!$F$2:$F$200>0,IF(masterlist!$J$2:$J$200=0,ROW(masterlist!$B$2:$B$200)-ROW(masterlist!$B$2)+1))),ROWS($A$13:A35))),\"\")","v":""},{"$f":"IFERROR(VLOOKUP($A35,masterlist!$C$2:$AA$200,3,FALSE),\"\")","v":""},{"$f":"IFERROR(VLOOKUP($A35,masterlist!$C$2:$AA$200,2,FALSE),\"\")","v":""},{"$f":"IFERROR(VLOOKUP($A35,masterlist!$C$2:$AA$200,5,FALSE),\"\")","v":""},{"$f":"IFERROR(IF((VLOOKUP($A35,masterlist!$C$2:$AA$200,9,FALSE))=0,\"\",VLOOKUP($A35,masterlist!$C$2:$AA$200,9,FALSE)),\"\")","v":""},{"$f":"IFERROR(VLOOKUP($A35,masterlist!$C$2:$AA$200,20,FALSE),\"\")","v":""},{"$f":"IFERROR(VLOOKUP($A35,masterlist!$C$2:$AA$200,21,FALSE),\"\")","v":""},{"$f":"IFERROR(VLOOKUP($A35,masterlist!$C$2:$AA$200,22,FALSE),\"\")","v":""},{"$f":"IFERROR(IF($B$7=2,(VLOOKUP($A35,masterlist!$C$2:$AA$200,23,FALSE)-11),IF($B$7=4,(VLOOKUP($A35,masterlist!$C$2:$AA$200,23,FALSE)-9),IF($B$7=7,(VLOOKUP($A35,masterlist!$C$2:$AA$200,23,FALSE)-6),IF($B$7=10,(VLOOKUP($A35,masterlist!$C$2:$AA$200,23,FALSE)-3),(VLOOKUP($A35,masterlist!$C$2:$AA$200,23,FALSE)))))),\"\")","v":""},{"$f":"IFERROR(VLOOKUP($A35,masterlist!$C$2:$AA$200,24,FALSE),\"\")","v":""}]
[{"$f":"IF(ROWS($A$13:A36)<=(SUMPRODUCT((masterlist!B:B=\"LAB\")*(masterlist!J:J=0))),INDEX(masterlist!$C$2:$C$200,SMALL(IF(masterlist!$B$2:$B$200=\"LAB\",IF(masterlist!$F$2:$F$200>0,IF(masterlist!$J$2:$J$200=0,ROW(masterlist!$B$2:$B$200)-ROW(masterlist!$B$2)+1))),ROWS($A$13:A36))),\"\")","v":""},{"$f":"IFERROR(VLOOKUP($A36,masterlist!$C$2:$AA$200,3,FALSE),\"\")","v":""},{"$f":"IFERROR(VLOOKUP($A36,masterlist!$C$2:$AA$200,2,FALSE),\"\")","v":""},{"$f":"IFERROR(VLOOKUP($A36,masterlist!$C$2:$AA$200,5,FALSE),\"\")","v":""},{"$f":"IFERROR(IF((VLOOKUP($A36,masterlist!$C$2:$AA$200,9,FALSE))=0,\"\",VLOOKUP($A36,masterlist!$C$2:$AA$200,9,FALSE)),\"\")","v":""},{"$f":"IFERROR(VLOOKUP($A36,masterlist!$C$2:$AA$200,20,FALSE),\"\")","v":""},{"$f":"IFERROR(VLOOKUP($A36,masterlist!$C$2:$AA$200,21,FALSE),\"\")","v":""},{"$f":"IFERROR(VLOOKUP($A36,masterlist!$C$2:$AA$200,22,FALSE),\"\")","v":""},{"$f":"IFERROR(IF($B$7=2,(VLOOKUP($A36,masterlist!$C$2:$AA$200,23,FALSE)-11),IF($B$7=4,(VLOOKUP($A36,masterlist!$C$2:$AA$200,23,FALSE)-9),IF($B$7=7,(VLOOKUP($A36,masterlist!$C$2:$AA$200,23,FALSE)-6),IF($B$7=10,(VLOOKUP($A36,masterlist!$C$2:$AA$200,23,FALSE)-3),(VLOOKUP($A36,masterlist!$C$2:$AA$200,23,FALSE)))))),\"\")","v":""},{"$f":"IFERROR(VLOOKUP($A36,masterlist!$C$2:$AA$200,24,FALSE),\"\")","v":""}]
[{"$f":"IF(ROWS($A$13:A37)<=(SUMPRODUCT((masterlist!B:B=\"LAB\")*(masterlist!J:J=0))),INDEX(masterlist!$C$2:$C$200,SMALL(IF(masterlist!$B$2:$B$200=\"LAB\",IF(masterlist!$F$2:$F$200>0,IF(masterlist!$J$2:$J$200=0,ROW(masterlist!$B$2:$B$200)-ROW(masterlist!$B$2)+1))),ROWS($A$13:A37))),\"\")","v":""},{"$f":"IFERROR(VLOOKUP($A37,masterlist!$C$2:$AA$200,3,FALSE),\"\")","v":""},{"$f":"IFERROR(VLOOKUP($A37,masterlist!$C$2:$AA$200,2,FALSE),\"\")","v":""},{"$f":"IFERROR(VLOOKUP($A37,masterlist!$C$2:$AA$200,5,FALSE),\"\")","v":""},{"$f":"IFERROR(IF((VLOOKUP($A37,masterlist!$C$2:$AA$200,9,FALSE))=0,\"\",VLOOKUP($A37,masterlist!$C$2:$AA$200,9,FALSE)),\"\")","v":""},{"$f":"IFERROR(VLOOKUP($A37,masterlist!$C$2:$AA$200,20,FALSE),\"\")","v":""},{"$f":"IFERROR(VLOOKUP($A37,masterlist!$C$2:$AA$200,21,FALSE),\"\")","v":""},{"$f":"IFERROR(VLOOKUP($A37,masterlist!$C$2:$AA$200,22,FALSE),\"\")","v":""},{"$f":"IFERROR(IF($B$7=2,(VLOOKUP($A37,masterlist!$C$2:$AA$200,23,FALSE)-11),IF($B$7=4,(VLOOKUP($A37,masterlist!$C$2:$AA$200,23,FALSE)-9),IF($B$7=7,(VLOOKUP($A37,masterlist!$C$2:$AA$200,23,FALSE)-6),IF($B$7=10,(VLOOKUP($A37,masterlist!$C$2:$AA$200,23,FALSE)-3),(VLOOKUP($A37,masterlist!$C$2:$AA$200,23,FALSE)))))),\"\")","v":""},{"$f":"IFERROR(VLOOKUP($A37,masterlist!$C$2:$AA$200,24,FALSE),\"\")","v":""}]
[{"$f":"IF(ROWS($A$13:A38)<=(SUMPRODUCT((masterlist!B:B=\"LAB\")*(masterlist!J:J=0))),INDEX(masterlist!$C$2:$C$200,SMALL(IF(masterlist!$B$2:$B$200=\"LAB\",IF(masterlist!$F$2:$F$200>0,IF(masterlist!$J$2:$J$200=0,ROW(masterlist!$B$2:$B$200)-ROW(masterlist!$B$2)+1))),ROWS($A$13:A38))),\"\")","v":""},{"$f":"IFERROR(VLOOKUP($A38,masterlist!$C$2:$AA$200,3,FALSE),\"\")","v":""},{"$f":"IFERROR(VLOOKUP($A38,masterlist!$C$2:$AA$200,2,FALSE),\"\")","v":""},{"$f":"IFERROR(VLOOKUP($A38,masterlist!$C$2:$AA$200,5,FALSE),\"\")","v":""},{"$f":"IFERROR(IF((VLOOKUP($A38,masterlist!$C$2:$AA$200,9,FALSE))=0,\"\",VLOOKUP($A38,masterlist!$C$2:$AA$200,9,FALSE)),\"\")","v":""},{"$f":"IFERROR(VLOOKUP($A38,masterlist!$C$2:$AA$200,20,FALSE),\"\")","v":""},{"$f":"IFERROR(VLOOKUP($A38,masterlist!$C$2:$AA$200,21,FALSE),\"\")","v":""},{"$f":"IFERROR(VLOOKUP($A38,masterlist!$C$2:$AA$200,22,FALSE),\"\")","v":""},{"$f":"IFERROR(IF($B$7=2,(VLOOKUP($A38,masterlist!$C$2:$AA$200,23,FALSE)-11),IF($B$7=4,(VLOOKUP($A38,masterlist!$C$2:$AA$200,23,FALSE)-9),IF($B$7=7,(VLOOKUP($A38,masterlist!$C$2:$AA$200,23,FALSE)-6),IF($B$7=10,(VLOOKUP($A38,masterlist!$C$2:$AA$200,23,FALSE)-3),(VLOOKUP($A38,masterlist!$C$2:$AA$200,23,FALSE)))))),\"\")","v":""},{"$f":"IFERROR(VLOOKUP($A38,masterlist!$C$2:$AA$200,24,FALSE),\"\")","v":""}]
[{"$f":"IF(ROWS($A$13:A39)<=(SUMPRODUCT((masterlist!B:B=\"LAB\")*(masterlist!J:J=0))),INDEX(masterlist!$C$2:$C$200,SMALL(IF(masterlist!$B$2:$B$200=\"LAB\",IF(masterlist!$F$2:$F$200>0,IF(masterlist!$J$2:$J$200=0,ROW(masterlist!$B$2:$B$200)-ROW(masterlist!$B$2)+1))),ROWS($A$13:A39))),\"\")","v":""},{"$f":"IFERROR(VLOOKUP($A39,masterlist!$C$2:$AA$200,3,FALSE),\"\")","v":""},{"$f":"IFERROR(VLOOKUP($A39,masterlist!$C$2:$AA$200,2,FALSE),\"\")","v":""},{"$f":"IFERROR(VLOOKUP($A39,masterlist!$C$2:$AA$200,5,FALSE),\"\")","v":""},{"$f":"IFERROR(IF((VLOOKUP($A39,masterlist!$C$2:$AA$200,9,FALSE))=0,\"\",VLOOKUP($A39,masterlist!$C$2:$AA$200,9,FALSE)),\"\")","v":""},{"$f":"IFERROR(VLOOKUP($A39,masterlist!$C$2:$AA$200,20,FALSE),\"\")","v":""},{"$f":"IFERROR(VLOOKUP($A39,masterlist!$C$2:$AA$200,21,FALSE),\"\")","v":""},{"$f":"IFERROR(VLOOKUP($A39,masterlist!$C$2:$AA$200,22,FALSE),\"\")","v":""},{"$f":"IFERROR(IF($B$7=2,(VLOOKUP($A39,masterlist!$C$2:$AA$200,23,FALSE)-11),IF($B$7=4,(VLOOKUP($A39,masterlist!$C$2:$AA$200,23,FALSE)-9),IF($B$7=7,(VLOOKUP($A39,masterlist!$C$2:$AA$200,23,FALSE)-6),IF($B$7=10,(VLOOKUP($A39,masterlist!$C$2:$AA$200,23,FALSE)-3),(VLOOKUP($A39,masterlist!$C$2:$AA$200,23,FALSE)))))),\"\")","v":""},{"$f":"IFERROR(VLOOKUP($A39,masterlist!$C$2:$AA$200,24,FALSE),\"\")","v":""}]
[{"$f":"IF(ROWS($A$13:A40)<=(SUMPRODUCT((masterlist!B:B=\"LAB\")*(masterlist!J:J=0))),INDEX(masterlist!$C$2:$C$200,SMALL(IF(masterlist!$B$2:$B$200=\"LAB\",IF(masterlist!$F$2:$F$200>0,IF(masterlist!$J$2:$J$200=0,ROW(masterlist!$B$2:$B$200)-ROW(masterlist!$B$2)+1))),ROWS($A$13:A40))),\"\")","v":""},{"$f":"IFERROR(VLOOKUP($A40,masterlist!$C$2:$AA$200,3,FALSE),\"\")","v":""},{"$f":"IFERROR(VLOOKUP($A40,masterlist!$C$2:$AA$200,2,FALSE),\"\")","v":""},{"$f":"IFERROR(VLOOKUP($A40,masterlist!$C$2:$AA$200,5,FALSE),\"\")","v":""},{"$f":"IFERROR(IF((VLOOKUP($A40,masterlist!$C$2:$AA$200,9,FALSE))=0,\"\",VLOOKUP($A40,masterlist!$C$2:$AA$200,9,FALSE)),\"\")","v":""},{"$f":"IFERROR(VLOOKUP($A40,masterlist!$C$2:$AA$200,20,FALSE),\"\")","v":""},{"$f":"IFERROR(VLOOKUP($A40,masterlist!$C$2:$AA$200,21,FALSE),\"\")","v":""},{"$f":"IFERROR(VLOOKUP($A40,masterlist!$C$2:$AA$200,22,FALSE),\"\")","v":""},{"$f":"IFERROR(IF($B$7=2,(VLOOKUP($A40,masterlist!$C$2:$AA$200,23,FALSE)-11),IF($B$7=4,(VLOOKUP($A40,masterlist!$C$2:$AA$200,23,FALSE)-9),IF($B$7=7,(VLOOKUP($A40,masterlist!$C$2:$AA$200,23,FALSE)-6),IF($B$7=10,(VLOOKUP($A40,masterlist!$C$2:$AA$200,23,FALSE)-3),(VLOOKUP($A40,masterlist!$C$2:$AA$200,23,FALSE)))))),\"\")","v":""},{"$f":"IFERROR(VLOOKUP($A40,masterlist!$C$2:$AA$200,24,FALSE),\"\")","v":""}]
[{"$f":"IF(ROWS($A$13:A41)<=(SUMPRODUCT((masterlist!B:B=\"LAB\")*(masterlist!J:J=0))),INDEX(masterlist!$C$2:$C$200,SMALL(IF(masterlist!$B$2:$B$200=\"LAB\",IF(masterlist!$F$2:$F$200>0,IF(masterlist!$J$2:$J$200=0,ROW(masterlist!$B$2:$B$200)-ROW(masterlist!$B$2)+1))),ROWS($A$13:A41))),\"\")","v":""},{"$f":"IFERROR(VLOOKUP($A41,masterlist!$C$2:$AA$200,3,FALSE),\"\")","v":""},{"$f":"IFERROR(VLOOKUP($A41,masterlist!$C$2:$AA$200,2,FALSE),\"\")","v":""},{"$f":"IFERROR(VLOOKUP($A41,masterlist!$C$2:$AA$200,5,FALSE),\"\")","v":""},{"$f":"IFERROR(IF((VLOOKUP($A41,masterlist!$C$2:$AA$200,9,FALSE))=0,\"\",VLOOKUP($A41,masterlist!$C$2:$AA$200,9,FALSE)),\"\")","v":""},{"$f":"IFERROR(VLOOKUP($A41,masterlist!$C$2:$AA$200,20,FALSE),\"\")","v":""},{"$f":"IFERROR(VLOOKUP($A41,masterlist!$C$2:$AA$200,21,FALSE),\"\")","v":""},{"$f":"IFERROR(VLOOKUP($A41,masterlist!$C$2:$AA$200,22,FALSE),\"\")","v":""},{"$f":"IFERROR(IF($B$7=2,(VLOOKUP($A41,masterlist!$C$2:$AA$200,23,FALSE)-11),IF($B$7=4,(VLOOKUP($A41,masterlist!$C$2:$AA$200,23,FALSE)-9),IF($B$7=7,(VLOOKUP($A41,masterlist!$C$2:$AA$200,23,FALSE)-6),IF($B$7=10,(VLOOKUP($A41,masterlist!$C$2:$AA$200,23,FALSE)-3),(VLOOKUP($A41,masterlist!$C$2:$AA$200,23,FALSE)))))),\"\")","v":""},{"$f":"IFERROR(VLOOKUP($A41,masterlist!$C$2:$AA$200,24,FALSE),\"\")","v":""}]
[{"$f":"IF(ROWS($A$13:A42)<=(SUMPRODUCT((masterlist!B:B=\"LAB\")*(masterlist!J:J=0))),INDEX(masterlist!$C$2:$C$200,SMALL(IF(masterlist!$B$2:$B$200=\"LAB\",IF(masterlist!$F$2:$F$200>0,IF(masterlist!$J$2:$J$200=0,ROW(masterlist!$B$2:$B$200)-ROW(masterlist!$B$2)+1))),ROWS($A$13:A42))),\"\")","v":""},{"$f":"IFERROR(VLOOKUP($A42,masterlist!$C$2:$AA$200,3,FALSE),\"\")","v":""},{"$f":"IFERROR(VLOOKUP($A42,masterlist!$C$2:$AA$200,2,FALSE),\"\")","v":""},{"$f":"IFERROR(VLOOKUP($A42,masterlist!$C$2:$AA$200,5,FALSE),\"\")","v":""},{"$f":"IFERROR(IF((VLOOKUP($A42,masterlist!$C$2:$AA$200,9,FALSE))=0,\"\",VLOOKUP($A42,masterlist!$C$2:$AA$200,9,FALSE)),\"\")","v":""},{"$f":"IFERROR(VLOOKUP($A42,masterlist!$C$2:$AA$200,20,FALSE),\"\")","v":""},{"$f":"IFERROR(VLOOKUP($A42,masterlist!$C$2:$AA$200,21,FALSE),\"\")","v":""},{"$f":"IFERROR(VLOOKUP($A42,masterlist!$C$2:$AA$200,22,FALSE),\"\")","v":""},{"$f":"IFERROR(IF($B$7=2,(VLOOKUP($A42,masterlist!$C$2:$AA$200,23,FALSE)-11),IF($B$7=4,(VLOOKUP($A42,masterlist!$C$2:$AA$200,23,FALSE)-9),IF($B$7=7,(VLOOKUP($A42,masterlist!$C$2:$AA$200,23,FALSE)-6),IF($B$7=10,(VLOOKUP($A42,masterlist!$C$2:$AA$200,23,FALSE)-3),(VLOOKUP($A42,masterlist!$C$2:$AA$200,23,FALSE)))))),\"\")","v":""},{"$f":"IFERROR(VLOOKUP($A42,masterlist!$C$2:$AA$200,24,FALSE),\"\")","v":""}]
[{"$f":"IF(ROWS($A$13:A43)<=(SUMPRODUCT((masterlist!B:B=\"LAB\")*(masterlist!J:J=0))),INDEX(masterlist!$C$2:$C$200,SMALL(IF(masterlist!$B$2:$B$200=\"LAB\",IF(masterlist!$F$2:$F$200>0,IF(masterlist!$J$2:$J$200=0,ROW(masterlist!$B$2:$B$200)-ROW(masterlist!$B$2)+1))),ROWS($A$13:A43))),\"\")","v":""},{"$f":"IFERROR(VLOOKUP($A43,masterlist!$C$2:$AA$200,3,FALSE),\"\")","v":""},{"$f":"IFERROR(VLOOKUP($A43,masterlist!$C$2:$AA$200,2,FALSE),\"\")","v":""},{"$f":"IFERROR(VLOOKUP($A43,masterlist!$C$2:$AA$200,5,FALSE),\"\")","v":""},{"$f":"IFERROR(IF((VLOOKUP($A43,masterlist!$C$2:$AA$200,9,FALSE))=0,\"\",VLOOKUP($A43,masterlist!$C$2:$AA$200,9,FALSE)),\"\")","v":""},{"$f":"IFERROR(VLOOKUP($A43,masterlist!$C$2:$AA$200,20,FALSE),\"\")","v":""},{"$f":"IFERROR(VLOOKUP($A43,masterlist!$C$2:$AA$200,21,FALSE),\"\")","v":""},{"$f":"IFERROR(VLOOKUP($A43,masterlist!$C$2:$AA$200,22,FALSE),\"\")","v":""},{"$f":"IFERROR(IF($B$7=2,(VLOOKUP($A43,masterlist!$C$2:$AA$200,23,FALSE)-11),IF($B$7=4,(VLOOKUP($A43,masterlist!$C$2:$AA$200,23,FALSE)-9),IF($B$7=7,(VLOOKUP($A43,masterlist!$C$2:$AA$200,23,FALSE)-6),IF($B$7=10,(VLOOKUP($A43,masterlist!$C$2:$AA$200,23,FALSE)-3),(VLOOKUP($A43,masterlist!$C$2:$AA$200,23,FALSE)))))),\"\")","v":""},{"$f":"IFERROR(VLOOKUP($A43,masterlist!$C$2:$AA$200,24,FALSE),\"\")","v":""}]
[{"$f":"IF(ROWS($A$13:A44)<=(SUMPRODUCT((masterlist!B:B=\"LAB\")*(masterlist!J:J=0))),INDEX(masterlist!$C$2:$C$200,SMALL(IF(masterlist!$B$2:$B$200=\"LAB\",IF(masterlist!$F$2:$F$200>0,IF(masterlist!$J$2:$J$200=0,ROW(masterlist!$B$2:$B$200)-ROW(masterlist!$B$2)+1))),ROWS($A$13:A44))),\"\")","v":""},{"$f":"IFERROR(VLOOKUP($A44,masterlist!$C$2:$AA$200,3,FALSE),\"\")","v":""},{"$f":"IFERROR(VLOOKUP($A44,masterlist!$C$2:$AA$200,2,FALSE),\"\")","v":""},{"$f":"IFERROR(VLOOKUP($A44,masterlist!$C$2:$AA$200,5,FALSE),\"\")","v":""},{"$f":"IFERROR(IF((VLOOKUP($A44,masterlist!$C$2:$AA$200,9,FALSE))=0,\"\",VLOOKUP($A44,masterlist!$C$2:$AA$200,9,FALSE)),\"\")","v":""},{"$f":"IFERROR(VLOOKUP($A44,masterlist!$C$2:$AA$200,20,FALSE),\"\")","v":""},{"$f":"IFERROR(VLOOKUP($A44,masterlist!$C$2:$AA$200,21,FALSE),\"\")","v":""},{"$f":"IFERROR(VLOOKUP($A44,masterlist!$C$2:$AA$200,22,FALSE),\"\")","v":""},{"$f":"IFERROR(IF($B$7=2,(VLOOKUP($A44,masterlist!$C$2:$AA$200,23,FALSE)-11),IF($B$7=4,(VLOOKUP($A44,masterlist!$C$2:$AA$200,23,FALSE)-9),IF($B$7=7,(VLOOKUP($A44,masterlist!$C$2:$AA$200,23,FALSE)-6),IF($B$7=10,(VLOOKUP($A44,masterlist!$C$2:$AA$200,23,FALSE)-3),(VLOOKUP($A44,masterlist!$C$2:$AA$200,23,FALSE)))))),\"\")","v":""},{"$f":"IFERROR(VLOOKUP($A44,masterlist!$C$2:$AA$200,24,FALSE),\"\")","v":""}]
[{"$f":"IF(ROWS($A$13:A45)<=(SUMPRODUCT((masterlist!B:B=\"LAB\")*(masterlist!J:J=0))),INDEX(masterlist!$C$2:$C$200,SMALL(IF(masterlist!$B$2:$B$200=\"LAB\",IF(masterlist!$F$2:$F$200>0,IF(masterlist!$J$2:$J$200=0,ROW(masterlist!$B$2:$B$200)-ROW(masterlist!$B$2)+1))),ROWS($A$13:A45))),\"\")","v":""},{"$f":"IFERROR(VLOOKUP($A45,masterlist!$C$2:$AA$200,3,FALSE),\"\")","v":""},{"$f":"IFERROR(VLOOKUP($A45,masterlist!$C$2:$AA$200,2,FALSE),\"\")","v":""},{"$f":"IFERROR(VLOOKUP($A45,masterlist!$C$2:$AA$200,5,FALSE),\"\")","v":""},{"$f":"IFERROR(IF((VLOOKUP($A45,masterlist!$C$2:$AA$200,9,FALSE))=0,\"\",VLOOKUP($A45,masterlist!$C$2:$AA$200,9,FALSE)),\"\")","v":""},{"$f":"IFERROR(VLOOKUP($A45,masterlist!$C$2:$AA$200,20,FALSE),\"\")","v":""},{"$f":"IFERROR(VLOOKUP($A45,masterlist!$C$2:$AA$200,21,FALSE),\"\")","v":""},{"$f":"IFERROR(VLOOKUP($A45,masterlist!$C$2:$AA$200,22,FALSE),\"\")","v":""},{"$f":"IFERROR(IF($B$7=2,(VLOOKUP($A45,masterlist!$C$2:$AA$200,23,FALSE)-11),IF($B$7=4,(VLOOKUP($A45,masterlist!$C$2:$AA$200,23,FALSE)-9),IF($B$7=7,(VLOOKUP($A45,masterlist!$C$2:$AA$200,23,FALSE)-6),IF($B$7=10,(VLOOKUP($A45,masterlist!$C$2:$AA$200,23,FALSE)-3),(VLOOKUP($A45,masterlist!$C$2:$AA$200,23,FALSE)))))),\"\")","v":""},{"$f":"IFERROR(VLOOKUP($A45,masterlist!$C$2:$AA$200,24,FALSE),\"\")","v":""}]
[{"$f":"IF(ROWS($A$13:A46)<=(SUMPRODUCT((masterlist!B:B=\"LAB\")*(masterlist!J:J=0))),INDEX(masterlist!$C$2:$C$200,SMALL(IF(masterlist!$B$2:$B$200=\"LAB\",IF(masterlist!$F$2:$F$200>0,IF(masterlist!$J$2:$J$200=0,ROW(masterlist!$B$2:$B$200)-ROW(masterlist!$B$2)+1))),ROWS($A$13:A46))),\"\")","v":""},{"$f":"IFERROR(VLOOKUP($A46,masterlist!$C$2:$AA$200,3,FALSE),\"\")","v":""},{"$f":"IFERROR(VLOOKUP($A46,masterlist!$C$2:$AA$200,2,FALSE),\"\")","v":""},{"$f":"IFERROR(VLOOKUP($A46,masterlist!$C$2:$AA$200,5,FALSE),\"\")","v":""},{"$f":"IFERROR(IF((VLOOKUP($A46,masterlist!$C$2:$AA$200,9,FALSE))=0,\"\",VLOOKUP($A46,masterlist!$C$2:$AA$200,9,FALSE)),\"\")","v":""},{"$f":"IFERROR(VLOOKUP($A46,masterlist!$C$2:$AA$200,20,FALSE),\"\")","v":""},{"$f":"IFERROR(VLOOKUP($A46,masterlist!$C$2:$AA$200,21,FALSE),\"\")","v":""},{"$f":"IFERROR(VLOOKUP($A46,masterlist!$C$2:$AA$200,22,FALSE),\"\")","v":""},{"$f":"IFERROR(IF($B$7=2,(VLOOKUP($A46,masterlist!$C$2:$AA$200,23,FALSE)-11),IF($B$7=4,(VLOOKUP($A46,masterlist!$C$2:$AA$200,23,FALSE)-9),IF($B$7=7,(VLOOKUP($A46,masterlist!$C$2:$AA$200,23,FALSE)-6),IF($B$7=10,(VLOOKUP($A46,masterlist!$C$2:$AA$200,23,FALSE)-3),(VLOOKUP($A46,masterlist!$C$2:$AA$200,23,FALSE)))))),\"\")","v":""},{"$f":"IFERROR(VLOOKUP($A46,masterlist!$C$2:$AA$200,24,FALSE),\"\")","v":""}]
[{"$f":"IF(ROWS($A$13:A47)<=(SUMPRODUCT((masterlist!B:B=\"LAB\")*(masterlist!J:J=0))),INDEX(masterlist!$C$2:$C$200,SMALL(IF(masterlist!$B$2:$B$200=\"LAB\",IF(masterlist!$F$2:$F$200>0,IF(masterlist!$J$2:$J$200=0,ROW(masterlist!$B$2:$B$200)-ROW(masterlist!$B$2)+1))),ROWS($A$13:A47))),\"\")","v":""},{"$f":"IFERROR(VLOOKUP($A47,masterlist!$C$2:$AA$200,3,FALSE),\"\")","v":""},{"$f":"IFERROR(VLOOKUP($A47,masterlist!$C$2:$AA$200,2,FALSE),\"\")","v":""},{"$f":"IFERROR(VLOOKUP($A47,masterlist!$C$2:$AA$200,5,FALSE),\"\")","v":""},{"$f":"IFERROR(IF((VLOOKUP($A47,masterlist!$C$2:$AA$200,9,FALSE))=0,\"\",VLOOKUP($A47,masterlist!$C$2:$AA$200,9,FALSE)),\"\")","v":""},{"$f":"IFERROR(VLOOKUP($A47,masterlist!$C$2:$AA$200,20,FALSE),\"\")","v":""},{"$f":"IFERROR(VLOOKUP($A47,masterlist!$C$2:$AA$200,21,FALSE),\"\")","v":""},{"$f":"IFERROR(VLOOKUP($A47,masterlist!$C$2:$AA$200,22,FALSE),\"\")","v":""},{"$f":"IFERROR(IF($B$7=2,(VLOOKUP($A47,masterlist!$C$2:$AA$200,23,FALSE)-11),IF($B$7=4,(VLOOKUP($A47,masterlist!$C$2:$AA$200,23,FALSE)-9),IF($B$7=7,(VLOOKUP($A47,masterlist!$C$2:$AA$200,23,FALSE)-6),IF($B$7=10,(VLOOKUP($A47,masterlist!$C$2:$AA$200,23,FALSE)-3),(VLOOKUP($A47,masterlist!$C$2:$AA$200,23,FALSE)))))),\"\")","v":""},{"$f":"IFERROR(VLOOKUP($A47,masterlist!$C$2:$AA$200,24,FALSE),\"\")","v":""}]
[{"$f":"IF(ROWS($A$13:A48)<=(SUMPRODUCT((masterlist!B:B=\"LAB\")*(masterlist!J:J=0))),INDEX(masterlist!$C$2:$C$200,SMALL(IF(masterlist!$B$2:$B$200=\"LAB\",IF(masterlist!$F$2:$F$200>0,IF(masterlist!$J$2:$J$200=0,ROW(masterlist!$B$2:$B$200)-ROW(masterlist!$B$2)+1))),ROWS($A$13:A48))),\"\")","v":""},{"$f":"IFERROR(VLOOKUP($A48,masterlist!$C$2:$AA$200,3,FALSE),\"\")","v":""},{"$f":"IFERROR(VLOOKUP($A48,masterlist!$C$2:$AA$200,2,FALSE),\"\")","v":""},{"$f":"IFERROR(VLOOKUP($A48,masterlist!$C$2:$AA$200,5,FALSE),\"\")","v":""},{"$f":"IFERROR(IF((VLOOKUP($A48,masterlist!$C$2:$AA$200,9,FALSE))=0,\"\",VLOOKUP($A48,masterlist!$C$2:$AA$200,9,FALSE)),\"\")","v":""},{"$f":"IFERROR(VLOOKUP($A48,masterlist!$C$2:$AA$200,20,FALSE),\"\")","v":""},{"$f":"IFERROR(VLOOKUP($A48,masterlist!$C$2:$AA$200,21,FALSE),\"\")","v":""},{"$f":"IFERROR(VLOOKUP($A48,masterlist!$C$2:$AA$200,22,FALSE),\"\")","v":""},{"$f":"IFERROR(IF($B$7=2,(VLOOKUP($A48,masterlist!$C$2:$AA$200,23,FALSE)-11),IF($B$7=4,(VLOOKUP($A48,masterlist!$C$2:$AA$200,23,FALSE)-9),IF($B$7=7,(VLOOKUP($A48,masterlist!$C$2:$AA$200,23,FALSE)-6),IF($B$7=10,(VLOOKUP($A48,masterlist!$C$2:$AA$200,23,FALSE)-3),(VLOOKUP($A48,masterlist!$C$2:$AA$200,23,FALSE)))))),\"\")","v":""},{"$f":"IFERROR(VLOOKUP($A48,masterlist!$C$2:$AA$200,24,FALSE),\"\")","v":""}]
[{"$f":"IF(ROWS($A$13:A49)<=(SUMPRODUCT((masterlist!B:B=\"LAB\")*(masterlist!J:J=0))),INDEX(masterlist!$C$2:$C$200,SMALL(IF(masterlist!$B$2:$B$200=\"LAB\",IF(masterlist!$F$2:$F$200>0,IF(masterlist!$J$2:$J$200=0,ROW(masterlist!$B$2:$B$200)-ROW(masterlist!$B$2)+1))),ROWS($A$13:A49))),\"\")","v":""},{"$f":"IFERROR(VLOOKUP($A49,masterlist!$C$2:$AA$200,3,FALSE),\"\")","v":""},{"$f":"IFERROR(VLOOKUP($A49,masterlist!$C$2:$AA$200,2,FALSE),\"\")","v":""},{"$f":"IFERROR(VLOOKUP($A49,masterlist!$C$2:$AA$200,5,FALSE),\"\")","v":""},{"$f":"IFERROR(IF((VLOOKUP($A49,masterlist!$C$2:$AA$200,9,FALSE))=0,\"\",VLOOKUP($A49,masterlist!$C$2:$AA$200,9,FALSE)),\"\")","v":""},{"$f":"IFERROR(VLOOKUP($A49,masterlist!$C$2:$AA$200,20,FALSE),\"\")","v":""},{"$f":"IFERROR(VLOOKUP($A49,masterlist!$C$2:$AA$200,21,FALSE),\"\")","v":""},{"$f":"IFERROR(VLOOKUP($A49,masterlist!$C$2:$AA$200,22,FALSE),\"\")","v":""},{"$f":"IFERROR(IF($B$7=2,(VLOOKUP($A49,masterlist!$C$2:$AA$200,23,FALSE)-11),IF($B$7=4,(VLOOKUP($A49,masterlist!$C$2:$AA$200,23,FALSE)-9),IF($B$7=7,(VLOOKUP($A49,masterlist!$C$2:$AA$200,23,FALSE)-6),IF($B$7=10,(VLOOKUP($A49,masterlist!$C$2:$AA$200,23,FALSE)-3),(VLOOKUP($A49,masterlist!$C$2:$AA$200,23,FALSE)))))),\"\")","v":""},{"$f":"IFERROR(VLOOKUP($A49,masterlist!$C$2:$AA$200,24,FALSE),\"\")","v":""}]

{"sheet":"LAB","index":29,"n_rows":49,"n_cols":10,"rows_kept":49,"cut":false,"hidden":true,"merged":[[1,3,1,9],[0,1,0,6],[0,7,0,9],[4,1,5,3],[6,1,8,3]]}
[null,"Laboratory Diagnosis",null,null,null,null,null,"Practical Workplan towards Achieving Rabies Elimination"]
[null,null,null,"Successful rabies control and elimination projects have shown that evidence-based diagnostic and surveillance strategies are needed to determine the distribution and prevalence of rabies outbreaks. Diagnostic results not only act as a direct and measureable burden indicator, but also serve to direct limited resources to high-risk areas within defined geographical areas. Despite the critical role that rabies surveillance plays in the disease control programmes, it is often poorly resourced, resulting in a continued cycle of neglect."]
[]
[]
[null,"Years to rabies elimination",null,null,null,"All stage 0 and 1 activities should ideally be completed within a 3-year period",null,null,null,"--"]
[null,null,null,null,null,"All stage 2 activities should ideally be completed within a 3-year period",null,null,null,"Years 1, 2 and 3"]
[null,10,null,null,null,"All stage 3 activities should ideally be completed within a 3-year period",null,null,null,"Years 4, 5 and 6"]
[null,null,null,null,null,"All stage 4 activities should ideally be completed within a 2-year period",null,null,null,"Years 7 and 8"]
[null,null,null,null,null,"All stage 5 activities should ideally be completed within a 2-year period",null,null,null,"Years 9 and 10"]
[]
[null,"INSTRUCTIONS:   Please edit the Objectives, Responsible authority, and Year of completion as applicable to your country"]
["ID","Stage","Theme","Pending activity","Comments from SARE tool","Objectives","Outcomes","Responsible authority","Number of years to completion  (see above)","Deliverables"]
["LAB-Lab-4-12",4,"Laboratory capacity and testing","Is there regular characterization and analysis of circulating rabies virus variants by a national or international laboratory?","","Identify relevant national or international laboratory to facilitate characterizaion of rabies virus variants;\nEstablish a working relationship with the identified laboratory;\nSubmit all rabies-positive samples for characterization;\nEnsure continued and regular submission of rabies-positive samples for characterization;","Regular characterization and analysis of circulating rabies virus variants undertaken;","Ministry of Agriculture ",8,"Number of rabies-positive samples characterised; "]
["","","","","","","","","",""]
["","","","","","","","","",""]
["","","","","","","","","",""]
["","","","","","","","","",""]
["","","","","","","","","",""]
["","","","","","","","","",""]
["","","","","","","","","",""]
["","","","","","","","","",""]
["","","","","","","","","",""]
["","","","","","","","","",""]
["","","","","","","","","",""]
["","","","","","","","","",""]
["","","","","","","","","",""]
["","","","","","","","","",""]
["","","","","","","","","",""]
["","","","","","","","","",""]
["","","","","","","","","",""]
["","","","","","","","","",""]
["","","","","","","","","",""]
["","","","","","","","","",""]
["","","","","","","","","",""]
["","","","","","","","","",""]
["","","","","","","","","",""]
["","","","","","","","","",""]
["","","","","","","","","",""]
["","","","","","","","","",""]
["","","","","","","","","",""]
["","","","","","","","","",""]
["","","","","","","","","",""]
["","","","","","","","","",""]
["","","","","","","","","",""]
["","","","","","","","","",""]
["","","","","","","","","",""]
["","","","","","","","","",""]
["","","","","","","","","",""]
["","","","","","","","","",""]

{"sheet":"LABgantt","index":30,"n_rows":50,"n_cols":17,"rows_kept":50,"cut":false,"hidden":true,"merged":[[0,1,0,16],[1,1,1,6],[2,1,2,16]]}
[null,"Practical Workplan towards Achieving Rabies Elimination"]
[]
[null,"Laboratory Diagnosis - GANTT CHART"]
[]
[null,null,null,null,1,2,3,4,5,6,7,8,9,10,11,12,13]
[null,"Theme","Stage","Activity",{"$f":"'NW country'!$E$35","v":2018},{"$f":"IF('NW country'!$K$4<6,E6+1,\"\")","v":2019},{"$f":"IF('NW country'!$K$4<5,E6+2,\"\")","v":2020},{"$f":"IF('NW country'!$K$4<5,E6+3,\"\")","v":2021},{"$f":"IF('NW country'!$K$4<4,E6+4,\"\")","v":2022},{"$f":"IF('NW country'!$K$4<4,E6+5,\"\")","v":2023},{"$f":"IF('NW country'!$K$4<4,E6+6,\"\")","v":2024},{"$f":"IF('NW country'!$K$4<3,E6+7,\"\")","v":2025},{"$f":"IF('NW country'!$K$4<3,E6+8,\"\")","v":2026},{"$f":"IF('NW country'!$K$4<3,E6+9,\"\")","v":2027},{"$f":"IF('NW country'!$K$4<2,E6+10,\"\")","v":""},{"$f":"IF('NW country'!$K$4<2,E6+11,\"\")","v":""},{"$f":"IF('NW country'!$K$4<2,E6+12,\"\")","v":""}]
[13,{"$f":"IF((INDIRECT(\"LAB!\"&\"$a\"&$A7))=0,\"\",INDIRECT(\"LAB!\"&\"$c\"&$A7))","v":"Laboratory capacity and testing"},{"$f":"IF(INDIRECT(\"LAB!\"&\"$a\"&$A7)=0,\"\",INDIRECT(\"LAB!\"&\"$b\"&$A7))","v":4},{"$f":"IF(INDIRECT(\"LAB!\"&\"$a\"&$A7)=0,\"\",INDIRECT(\"LAB!\"&\"$d\"&$A7))","v":"Is there regular characterization and analysis of circulating rabies virus variants by a national or international laboratory?"},{"$f":"IF($C7>6,\"\",IF(E$5<=INDIRECT(\"LAB!\"&\"$i\"&$A7),\"X\",\"\"))","v":"X"},{"$f":"IF($C7>6,\"\",IF(F$5<=INDIRECT(\"LAB!\"&\"$i\"&$A7),\"X\",\"\"))","v":"X"},"X","X","X","X","X","X","","","","",""]
[14,{"$f":"IF((INDIRECT(\"LAB!\"&\"$a\"&$A8))=0,\"\",INDIRECT(\"LAB!\"&\"$c\"&$A8))","v":""},{"$f":"IF(INDIRECT(\"LAB!\"&\"$a\"&$A8)=0,\"\",INDIRECT(\"LAB!\"&\"$b\"&$A8))","v":""},{"$f":"IF(INDIRECT(\"LAB!\"&\"$a\"&$A8)=0,\"\",INDIRECT(\"LAB!\"&\"$d\"&$A8))","v":""},"","","","","","","","","","","","",""]
[15,"","","","","","","","","","","","","","","",""]
[16,"","","","","","","","","","","","","","","",""]
[17,"","","","","","","","","","","","","","","",""]
[18,"","","","","","","","","","","","","","","",""]
[19,"","","","","","","","","","","","","","","",""]
[20,"","","","","","","","","","","","","","","",""]
[21,"","","","","","","","","","","","","","","",""]
[22,"","","","","","","","","","","","","","","",""]
[23,"","","","","","","","","","","","","","","",""]
[24,"","","","","","","","","","","","","","","",""]
[25,"","","","","","","","","","","","","","","",""]
[26,"","","","","","","","","","","","","","","",""]
[27,"","","","","","","","","","","","","","","",""]
[28,"","","","","","","","","","","","","","","",""]
[29,"","","","",{"$f":"IF($C23>6,\"\",IF(F$5<=INDIRECT(\"LAB!\"&\"$i\"&$A23),\"X\",\"\"))","v":""},"","","","","","","","","","",""]
[30,"","","","","","","","","","","","","","","",""]
[31,"","","","","","","","","","","","","","","",""]
[32,"","","","","","","","","","","","","","","",""]
[33,"","","","","","","","","","","","","","","",""]
[34,"","","","","","","","","","","","","","","",""]
[35,"","","","","","","","","","","","","","","",""]
[36,"","","","","","","","","","","","","","","",""]
[37,"","","","","","","","","","","","","","","",""]
[38,"","","","","","","","","","","","","","","",""]
[39,"","","","","","","","","","","","","","","",""]
[40,"","","","","","","","","","","","","","","",""]
[41,"","","",{"$f":"IF($C35>6,\"\",IF(E$5<=INDIRECT(\"LAB!\"&\"$i\"&$A35),\"X\",\"\"))","v":""},"","","","","","","","","","","",""]
[42,"","","","","","","","","","","","","","","",""]
[43,"","","","","","","","","","","","","","","",""]
[44,"","","","","","","","","","","","","","","",""]
[45,"","","","","","","","","","","","","","","",""]
[46,"","","","","","","","","","","","","","","",""]
[47,"","","","","","","","","","","","","","","",""]
[48,"","","","","","","","","","","","","","","",""]
[49,"","","","","","","","","","","","","","","",""]
[50,"","","","","","","","","","","","","","","",""]
[51,"","","","","","","","","","","","","","","",""]
[52,"","","","","","","","","","","","","","","",""]
[53,"","","","","","","","","","","","","","","",""]
[54,"","","","","","","","","","","","","","","",""]
[55,"","","","","","","","","","","","","","","",""]
[56,{"$f":"IF((INDIRECT(\"DCA!\"&\"$a\"&$A50))=0,\"\",INDIRECT(\"DCA!\"&\"$c\"&$A50))","v":""},{"$f":"IF(INDIRECT(\"DCA!\"&\"$a\"&$A50)=0,\"\",INDIRECT(\"DCA!\"&\"$b\"&$A50))","v":""},{"$f":"IF(INDIRECT(\"DCA!\"&\"$a\"&$A50)=0,\"\",INDIRECT(\"DCA!\"&\"$d\"&$A50))","v":""},{"$f":"IF($C50>6,\"\",IF(E$5<=INDIRECT(\"DCA!\"&\"$i\"&$A50),\"X\",\"\"))","v":""},"","","","","","","","","","","",""]

{"sheet":"rawdpm","index":31,"n_rows":49,"n_cols":10,"rows_kept":49,"cut":false,"hidden":true,"merged":[[0,1,0,3],[0,4,0,9],[1,1,1,9],[4,1,5,3],[6,1,8,3]]}
[null,"Practical Workplan towards Achieving Rabies Elimination",null,null,"Prevention and Control"]
[null,"Blurb blurb blurb blah blurb blurb"]
[]
[]
[null,"Years to rabies elimination",null,null,null,"All stage 0 and 1 activities should ideally be completed within a 3-year period",null,null,null,{"$f":"IF('NW country'!$K$4<2,\"Years 1, 2 and 3\",\"--\")","v":"--"}]
[null,null,null,null,null,"All stage 2 activities should ideally be completed within a 3-year period",null,null,null,{"$f":"IF('NW country'!$K$4<2,\"Years 4, 5 and 6\",IF('NW country'!$K$4<3,\"Years 1, 2 and 3\",\"--\"))","v":"Years 1, 2 and 3"}]
[null,{"$f":"IF('NW country'!$K$4<2,13,IF('NW country'!$K$4<3,10,IF('NW country'!$K$4<4,7,IF('NW country'!$K$4<5,4,2))))","v":10},null,null,null,"All stage 3 activities should ideally be completed within a 3-year period",null,null,null,{"$f":"IF('NW country'!$K$4<2,\"Years 7, 8 and 9\",IF('NW country'!$K$4<3,\"Years 4, 5 and 6\",IF('NW country'!$K$4<4,\"Years 1, 2 and 3\",\"--\")))","v":"Years 4, 5 and 6"}]
[null,null,null,null,null,"All stage 4 activities should ideally be completed within a 2-year period",null,null,null,{"$f":"IF('NW country'!$K$4<2,\"Years 10 and 11\",IF('NW country'!$K$4<3,\"Years 7 and 8\",IF('NW country'!$K$4<4,\"Years 4 and 5\",IF('NW country'!$K$4<5,\"Years 1 and 2\",\"--\"))))","v":"Years 7 and 8"}]
[null,null,null,null,null,"All stage 5 activities should ideally be completed within a 2-year period",null,null,null,{"$f":"IF('NW country'!$K$4<2,\"Years 12 and 13\",IF('NW country'!$K$4<3,\"Years 9 and 10\",IF('NW country'!$K$4<4,\"Years 6 and 7\",IF('NW country'!$K$4<5,\"Years 3 and 4\",\"Years 1 and 2\"))))","v":"Years 9 and 10"}]
[]
[null,"INSTRUCTIONS:   Please edit the Objectives, Responsible authority, and Year of completion as applicable to your country"]
["ID","Stage","Theme","Pending activity","Comments from SARE tool","Objectives","Outcomes","Responsible authority","Number of years to completion  (see above)","Deliverables"]
[{"$f":"IF(ROWS($A$13:A13)<=(SUMPRODUCT((masterlist!B:B=\"DPM\")*(masterlist!J:J=0))),INDEX(masterlist!$C$2:$C$200,SMALL(IF(masterlist!$B$2:$B$200=\"DPM\",IF(masterlist!$F$2:$F$200>0,IF(masterlist!$J$2:$J$200=0,ROW(masterlist!$B$2:$B$200)-ROW(masterlist!$B$2)+1))),ROWS($A$13:A13))),\"\")","v":"DPM- -1-2"},{"$f":"IFERROR(VLOOKUP($A13,masterlist!$C$2:$AA$200,3,FALSE),\"\")","v":1},{"$f":"IFERROR(VLOOKUP($A13,masterlist!$C$2:$AA$200,2,FALSE),\"\")","v":" "},{"$f":"IFERROR(VLOOKUP($A13,masterlist!$C$2:$AA$200,5,FALSE),\"\")","v":"Have you involved officials in waste management in your stakeholder* meetings"},{"$f":"IFERROR(IF((VLOOKUP($A13,masterlist!$C$2:$AA$200,9,FALSE))=0,\"\",VLOOKUP($A13,masterlist!$C$2:$AA$200,9,FALSE)),\"\")","v":""},{"$f":"IFERROR(VLOOKUP($A13,masterlist!$C$2:$AA$200,20,FALSE),\"\")","v":"Determine responsible and reliable contact within waste management sector;\nInvite identified official to stakeholder meetings for a local DPM strategy;"},{"$f":"IFERROR(VLOOKUP($A13,masterlist!$C$2:$AA$200,21,FALSE),\"\")","v":"Relevant waste management officials present at all stakeholder meetings regarding DPM;"},{"$f":"IFERROR(VLOOKUP($A13,masterlist!$C$2:$AA$200,22,FALSE),\"\")","v":"Ministry of Agriculture; Animal welfare oragnisations; "},{"$f":"IFERROR(IF($B$7=2,(VLOOKUP($A13,masterlist!$C$2:$AA$200,23,FALSE)-11),IF($B$7=4,(VLOOKUP($A13,masterlist!$C$2:$AA$200,23,FALSE)-9),IF($B$7=7,(VLOOKUP($A13,masterlist!$C$2:$AA$200,23,FALSE)-6),IF($B$7=10,(VLOOKUP($A13,masterlist!$C$2:$AA$200,23,FALSE)-3),(VLOOKUP($A13,masterlist!$C$2:$AA$200,23,FALSE)))))),\"\")","v":-2},{"$f":"IFERROR(VLOOKUP($A13,masterlist!$C$2:$AA$200,24,FALSE),\"\")","v":"Role of waste management sector in DPM clearly defined;"}]
[{"$f":"IF(ROWS($A$13:A14)<=(SUMPRODUCT((masterlist!B:B=\"DPM\")*(masterlist!J:J=0))),INDEX(masterlist!$C$2:$C$200,SMALL(IF(masterlist!$B$2:$B$200=\"DPM\",IF(masterlist!$F$2:$F$200>0,IF(masterlist!$J$2:$J$200=0,ROW(masterlist!$B$2:$B$200)-ROW(masterlist!$B$2)+1))),ROWS($A$13:A14))),\"\")","v":"DPM- -2-4"},{"$f":"IFERROR(VLOOKUP($A14,masterlist!$C$2:$AA$200,3,FALSE),\"\")","v":2},{"$f":"IFERROR(VLOOKUP($A14,masterlist!$C$2:$AA$200,2,FALSE),\"\")","v":" "},{"$f":"IFERROR(VLOOKUP($A14,masterlist!$C$2:$AA$200,5,FALSE),\"\")","v":"Has a DPM* strategy and programme been drafted and shared with all relevant stakeholders at a local level?"},{"$f":"IFERROR(IF((VLOOKUP($A14,masterlist!$C$2:$AA$200,9,FALSE))=0,\"\",VLOOKUP($A14,masterlist!$C$2:$AA$200,9,FALSE)),\"\")","v":""},{"$f":"IFERROR(VLOOKUP($A14,masterlist!$C$2:$AA$200,20,FALSE),\"\")","v":"Draft a local DPM strategy based on stakeholder consultations;\nShare the drafted DPM strategy with all relevant stakeholders for review and feedback;\nDeadlines for feedback and finalisation of strategy agreed upon;"},{"$f":"IFERROR(VLOOKUP($A14,masterlist!$C$2:$AA$200,21,FALSE),\"\")","v":"A draft of the local-level DPM strategy is available with specific deadlines for feedback and review in place."},{"$f":"IFERROR(VLOOKUP($A14,masterlist!$C$2:$AA$200,22,FALSE),\"\")","v":"All stakeholders involved in DPM strategy"},{"$f":"IFERROR(IF($B$7=2,(VLOOKUP($A14,masterlist!$C$2:$AA$200,23,FALSE)-11),IF($B$7=4,(VLOOKUP($A14,masterlist!$C$2:$AA$200,23,FALSE)-9),IF($B$7=7,(VLOOKUP($A14,masterlist!$C$2:$AA$200,23,FALSE)-6),IF($B$7=10,(VLOOKUP($A14,masterlist!$C$2:$AA$200,23,FALSE)-3),(VLOOKUP($A14,masterlist!$C$2:$AA$200,23,FALSE)))))),\"\")","v":1},{"$f":"IFERROR(VLOOKUP($A14,masterlist!$C$2:$AA$200,24,FALSE),\"\")","v":"Draft DPM strategy;\nDeadlines for finalisation agreed upon;"}]
[{"$f":"IF(ROWS($A$13:A15)<=(SUMPRODUCT((masterlist!B:B=\"DPM\")*(masterlist!J:J=0))),INDEX(masterlist!$C$2:$C$200,SMALL(IF(masterlist!$B$2:$B$200=\"DPM\",IF(masterlist!$F$2:$F$200>0,IF(masterlist!$J$2:$J$200=0,ROW(masterlist!$B$2:$B$200)-ROW(masterlist!$B$2)+1))),ROWS($A$13:A15))),\"\")","v":"DPM- -2-5"},{"$f":"IFERROR(VLOOKUP($A15,masterlist!$C$2:$AA$200,3,FALSE),\"\")","v":2},{"$f":"IFERROR(VLOOKUP($A15,masterlist!$C$2:$AA$200,2,FALSE),\"\")","v":" "},{"$f":"IFERROR(VLOOKUP($A15,masterlist!$C$2:$AA$200,5,FALSE),\"\")","v":"Has the DPM strategy been finalized and implemented?"},{"$f":"IFERROR(IF((VLOOKUP($A15,masterlist!$C$2:$AA$200,9,FALSE))=0,\"\",VLOOKUP($A15,masterlist!$C$2:$AA$200,9,FALSE)),\"\")","v":""},{"$f":"IFERROR(VLOOKUP($A15,masterlist!$C$2:$AA$200,20,FALSE),\"\")","v":"Finalise DPM strategy based on stakeholder feedback; \nEnsure that the DPM strategy is recognised / endorsed by competent authority;\nIdentify resources and responsible authorities for the implmentation of the local DPM strategy;\nSecure funding for the implementation of the DPM strategy at the local level;\nCirculatate the final version of strategy to all relevant professionals;\nTrain all relevant professionals in the implementation of the DPM strategy;\nImplementation of DPM strategy at local level;"},{"$f":"IFERROR(VLOOKUP($A15,masterlist!$C$2:$AA$200,21,FALSE),\"\")","v":"The local-level DPM strategy is finalised with all associated stakeholders in agreement. Funding and resources are available for the local implementation of the strategy and it is effected upon endorsement / recognition of the strategy. "},{"$f":"IFERROR(VLOOKUP($A15,masterlist!$C$2:$AA$200,22,FALSE),\"\")","v":"All stakeholders involved in DPM strategy"},{"$f":"IFERROR(IF($B$7=2,(VLOOKUP($A15,masterlist!$C$2:$AA$200,23,FALSE)-11),IF($B$7=4,(VLOOKUP($A15,masterlist!$C$2:$AA$200,23,FALSE)-9),IF($B$7=7,(VLOOKUP($A15,masterlist!$C$2:$AA$200,23,FALSE)-6),IF($B$7=10,(VLOOKUP($A15,masterlist!$C$2:$AA$200,23,FALSE)-3),(VLOOKUP($A15,masterlist!$C$2:$AA$200,23,FALSE)))))),\"\")","v":3},{"$f":"IFERROR(VLOOKUP($A15,masterlist!$C$2:$AA$200,24,FALSE),\"\")","v":"Finalised DPM strategy;\nPercentage of funding available per DPM strategy;\nNumber of professionals trained;\nNumber of dogs reached;\n"}]
[{"$f":"IF(ROWS($A$13:A16)<=(SUMPRODUCT((masterlist!B:B=\"DPM\")*(masterlist!J:J=0))),INDEX(masterlist!$C$2:$C$200,SMALL(IF(masterlist!$B$2:$B$200=\"DPM\",IF(masterlist!$F$2:$F$200>0,IF(masterlist!$J$2:$J$200=0,ROW(masterlist!$B$2:$B$200)-ROW(masterlist!$B$2)+1))),ROWS($A$13:A16))),\"\")","v":"DPM- -3-10"},{"$f":"IFERROR(VLOOKUP($A16,masterlist!$C$2:$AA$200,3,FALSE),\"\")","v":3},{"$f":"IFERROR(VLOOKUP($A16,masterlist!$C$2:$AA$200,2,FALSE),\"\")","v":" "},{"$f":"IFERROR(VLOOKUP($A16,masterlist!$C$2:$AA$200,5,FALSE),\"\")","v":"Has veterinary and animal technician training been completed across most of country?"},{"$f":"IFERROR(IF((VLOOKUP($A16,masterlist!$C$2:$AA$200,9,FALSE))=0,\"\",VLOOKUP($A16,masterlist!$C$2:$AA$200,9,FALSE)),\"\")","v":""},{"$f":"IFERROR(VLOOKUP($A16,masterlist!$C$2:$AA$200,20,FALSE),\"\")","v":"Develop plan to expand training plan from local areas to the remainder of the country;\nIdentify and secure funding to undertake training courses;\nIdentify logistical requirements (venue, time, date etc.) to undertake training for professionals;\nInitiate training of professionals across the country;\nAssess efficacy and reach of training courses to ensure that professionals have been trained across most of the country;"},{"$f":"IFERROR(VLOOKUP($A16,masterlist!$C$2:$AA$200,21,FALSE),\"\")","v":"The majority of veterinary and animal technicians have been trained in DPM across the country;"},{"$f":"IFERROR(VLOOKUP($A16,masterlist!$C$2:$AA$200,22,FALSE),\"\")","v":"Ministry of Agriculture;"},{"$f":"IFERROR(IF($B$7=2,(VLOOKUP($A16,masterlist!$C$2:$AA$200,23,FALSE)-11),IF($B$7=4,(VLOOKUP($A16,masterlist!$C$2:$AA$200,23,FALSE)-9),IF($B$7=7,(VLOOKUP($A16,masterlist!$C$2:$AA$200,23,FALSE)-6),IF($B$7=10,(VLOOKUP($A16,masterlist!$C$2:$AA$200,23,FALSE)-3),(VLOOKUP($A16,masterlist!$C$2:$AA$200,23,FALSE)))))),\"\")","v":5},{"$f":"IFERROR(VLOOKUP($A16,masterlist!$C$2:$AA$200,24,FALSE),\"\")","v":"Training plan;\nPercentage of funding available as per plan;\nNumber of professionals trained;\nReport on efficacy of training plan implementation;"}]
[{"$f":"IF(ROWS($A$13:A17)<=(SUMPRODUCT((masterlist!B:B=\"DPM\")*(masterlist!J:J=0))),INDEX(masterlist!$C$2:$C$200,SMALL(IF(masterlist!$B$2:$B$200=\"DPM\",IF(masterlist!$F$2:$F$200>0,IF(masterlist!$J$2:$J$200=0,ROW(masterlist!$B$2:$B$200)-ROW(masterlist!$B$2)+1))),ROWS($A$13:A17))),\"\")","v":"DPM- -5-11"},{"$f":"IFERROR(VLOOKUP($A17,masterlist!$C$2:$AA$200,3,FALSE),\"\")","v":5},{"$f":"IFERROR(VLOOKUP($A17,masterlist!$C$2:$AA$200,2,FALSE),\"\")","v":" "},{"$f":"IFERROR(VLOOKUP($A17,masterlist!$C$2:$AA$200,5,FALSE),\"\")","v":"Has the dog population management strategy been implemented nationwide?"},{"$f":"IFERROR(IF((VLOOKUP($A17,masterlist!$C$2:$AA$200,9,FALSE))=0,\"\",VLOOKUP($A17,masterlist!$C$2:$AA$200,9,FALSE)),\"\")","v":""},{"$f":"IFERROR(VLOOKUP($A17,masterlist!$C$2:$AA$200,20,FALSE),\"\")","v":"Identify relevant stakeholders at a national level for DPM;\nEnsure that national stakeholders review local-level DPM strategies;\nAdapt local-level DPM strategies based on feedback and discussions;\nDevelop a national DPM strategy based on local level experiences/strategies, ensuring support and continuation of local strategies;\nSecure funding and resources for the implementation of the national DPM strategy;\nFinalise, endorse and document the national DPM strategy;\nTrain all relevant professionals in the implementation of the national DPM strategy, where required;  \nImplement national strategy at all levels, including support to local-level strategies and stakeholders;"},{"$f":"IFERROR(VLOOKUP($A17,masterlist!$C$2:$AA$200,21,FALSE),\"\")","v":"A national DPM strategy is devised, documented, funded, endorsed and implemented based on the experiences and feedback from local-level strategies. The national DPM strategy should ensure sufficient resources and support to local-level implementation;"},{"$f":"IFERROR(VLOOKUP($A17,masterlist!$C$2:$AA$200,22,FALSE),\"\")","v":"National DPM stakeholders"},{"$f":"IFERROR(IF($B$7=2,(VLOOKUP($A17,masterlist!$C$2:$AA$200,23,FALSE)-11),IF($B$7=4,(VLOOKUP($A17,masterlist!$C$2:$AA$200,23,FALSE)-9),IF($B$7=7,(VLOOKUP($A17,masterlist!$C$2:$AA$200,23,FALSE)-6),IF($B$7=10,(VLOOKUP($A17,masterlist!$C$2:$AA$200,23,FALSE)-3),(VLOOKUP($A17,masterlist!$C$2:$AA$200,23,FALSE)))))),\"\")","v":9},{"$f":"IFERROR(VLOOKUP($A17,masterlist!$C$2:$AA$200,24,FALSE),\"\")","v":"National DPM strategy;\nPercentage of funding available as per national DPM strategy;\nNumber of professionals trained;\nNumber of dogs reached;"}]
[{"$f":"IF(ROWS($A$13:A18)<=(SUMPRODUCT((masterlist!B:B=\"DPM\")*(masterlist!J:J=0))),INDEX(masterlist!$C$2:$C$200,SMALL(IF(masterlist!$B$2:$B$200=\"DPM\",IF(masterlist!$F$2:$F$200>0,IF(masterlist!$J$2:$J$200=0,ROW(masterlist!$B$2:$B$200)-ROW(masterlist!$B$2)+1))),ROWS($A$13:A18))),\"\")","v":"DPM- -5-12"},{"$f":"IFERROR(VLOOKUP($A18,masterlist!$C$2:$AA$200,3,FALSE),\"\")","v":5},{"$f":"IFERROR(VLOOKUP($A18,masterlist!$C$2:$AA$200,2,FALSE),\"\")","v":" "},{"$f":"IFERROR(VLOOKUP($A18,masterlist!$C$2:$AA$200,5,FALSE),\"\")","v":"Have dog population management and responsible dog ownership campaigns been continued after the elimination of canine-mediated human rabies?"},{"$f":"IFERROR(IF((VLOOKUP($A18,masterlist!$C$2:$AA$200,9,FALSE))=0,\"\",VLOOKUP($A18,masterlist!$C$2:$AA$200,9,FALSE)),\"\")","v":""},{"$f":"IFERROR(VLOOKUP($A18,masterlist!$C$2:$AA$200,20,FALSE),\"\")","v":"Regularly review and update the established SOPs for DPM;\nShare SOPs with new professionals working in the local areas;\nProfessionals regularly trained on all relevant DPM activities;\nEnsure that adequate funding and resources remain available for the continuation of the DPM strategy; \nContinue public awareness and public sensitisation regarding the importance of DPM; "},{"$f":"IFERROR(VLOOKUP($A18,masterlist!$C$2:$AA$200,21,FALSE),\"\")","v":"The national DPM strategy has been revised and allocated sufficient funding to continue DPM efforts after the elimination of canine-mediated human rabies. "},{"$f":"IFERROR(VLOOKUP($A18,masterlist!$C$2:$AA$200,22,FALSE),\"\")","v":"National DPM stakeholders"},{"$f":"IFERROR(IF($B$7=2,(VLOOKUP($A18,masterlist!$C$2:$AA$200,23,FALSE)-11),IF($B$7=4,(VLOOKUP($A18,masterlist!$C$2:$AA$200,23,FALSE)-9),IF($B$7=7,(VLOOKUP($A18,masterlist!$C$2:$AA$200,23,FALSE)-6),IF($B$7=10,(VLOOKUP($A18,masterlist!$C$2:$AA$200,23,FALSE)-3),(VLOOKUP($A18,masterlist!$C$2:$AA$200,23,FALSE)))))),\"\")","v":9},{"$f":"IFERROR(VLOOKUP($A18,masterlist!$C$2:$AA$200,24,FALSE),\"\")","v":"Updated SOPs (where required);\nPercentage of new professionals receiving SOPs;\nNumber of profesisonals trained each year;\nAmount of funding available;\nNumber of dogs reached;\nNumber of public awareness messages disseminated;"}]
[{"$f":"IF(ROWS($A$13:A19)<=(SUMPRODUCT((masterlist!B:B=\"DPM\")*(masterlist!J:J=0))),INDEX(masterlist!$C$2:$C$200,SMALL(IF(masterlist!$B$2:$B$200=\"DPM\",IF(masterlist!$F$2:$F$200>0,IF(masterlist!$J$2:$J$200=0,ROW(masterlist!$B$2:$B$200)-ROW(masterlist!$B$2)+1))),ROWS($A$13:A19))),\"\")","v":""},{"$f":"IFERROR(VLOOKUP($A19,masterlist!$C$2:$AA$200,3,FALSE),\"\")","v":""},{"$f":"IFERROR(VLOOKUP($A19,masterlist!$C$2:$AA$200,2,FALSE),\"\")","v":""},{"$f":"IFERROR(VLOOKUP($A19,masterlist!$C$2:$AA$200,5,FALSE),\"\")","v":""},{"$f":"IFERROR(IF((VLOOKUP($A19,masterlist!$C$2:$AA$200,9,FALSE))=0,\"\",VLOOKUP($A19,masterlist!$C$2:$AA$200,9,FALSE)),\"\")","v":""},{"$f":"IFERROR(VLOOKUP($A19,masterlist!$C$2:$AA$200,20,FALSE),\"\")","v":""},{"$f":"IFERROR(VLOOKUP($A19,masterlist!$C$2:$AA$200,21,FALSE),\"\")","v":""},{"$f":"IFERROR(VLOOKUP($A19,masterlist!$C$2:$AA$200,22,FALSE),\"\")","v":""},{"$f":"IFERROR(IF($B$7=2,(VLOOKUP($A19,masterlist!$C$2:$AA$200,23,FALSE)-11),IF($B$7=4,(VLOOKUP($A19,masterlist!$C$2:$AA$200,23,FALSE)-9),IF($B$7=7,(VLOOKUP($A19,masterlist!$C$2:$AA$200,23,FALSE)-6),IF($B$7=10,(VLOOKUP($A19,masterlist!$C$2:$AA$200,23,FALSE)-3),(VLOOKUP($A19,masterlist!$C$2:$AA$200,23,FALSE)))))),\"\")","v":""},{"$f":"IFERROR(VLOOKUP($A19,masterlist!$C$2:$AA$200,24,FALSE),\"\")","v":""}]
[{"$f":"IF(ROWS($A$13:A20)<=(SUMPRODUCT((masterlist!B:B=\"DPM\")*(masterlist!J:J=0))),INDEX(masterlist!$C$2:$C$200,SMALL(IF(masterlist!$B$2:$B$200=\"DPM\",IF(masterlist!$F$2:$F$200>0,IF(masterlist!$J$2:$J$200=0,ROW(masterlist!$B$2:$B$200)-ROW(masterlist!$B$2)+1))),ROWS($A$13:A20))),\"\")","v":""},{"$f":"IFERROR(VLOOKUP($A20,masterlist!$C$2:$AA$200,3,FALSE),\"\")","v":""},{"$f":"IFERROR(VLOOKUP($A20,masterlist!$C$2:$AA$200,2,FALSE),\"\")","v":""},{"$f":"IFERROR(VLOOKUP($A20,masterlist!$C$2:$AA$200,5,FALSE),\"\")","v":""},{"$f":"IFERROR(IF((VLOOKUP($A20,masterlist!$C$2:$AA$200,9,FALSE))=0,\"\",VLOOKUP($A20,masterlist!$C$2:$AA$200,9,FALSE)),\"\")","v":""},{"$f":"IFERROR(VLOOKUP($A20,masterlist!$C$2:$AA$200,20,FALSE),\"\")","v":""},{"$f":"IFERROR(VLOOKUP($A20,masterlist!$C$2:$AA$200,21,FALSE),\"\")","v":""},{"$f":"IFERROR(VLOOKUP($A20,masterlist!$C$2:$AA$200,22,FALSE),\"\")","v":""},{"$f":"IFERROR(IF($B$7=2,(VLOOKUP($A20,masterlist!$C$2:$AA$200,23,FALSE)-11),IF($B$7=4,(VLOOKUP($A20,masterlist!$C$2:$AA$200,23,FALSE)-9),IF($B$7=7,(VLOOKUP($A20,masterlist!$C$2:$AA$200,23,FALSE)-6),IF($B$7=10,(VLOOKUP($A20,masterlist!$C$2:$AA$200,23,FALSE)-3),(VLOOKUP($A20,masterlist!$C$2:$AA$200,23,FALSE)))))),\"\")","v":""},{"$f":"IFERROR(VLOOKUP($A20,masterlist!$C$2:$AA$200,24,FALSE),\"\")","v":""}]
[{"$f":"IF(ROWS($A$13:A21)<=(SUMPRODUCT((masterlist!B:B=\"DPM\")*(masterlist!J:J=0))),INDEX(masterlist!$C$2:$C$200,SMALL(IF(masterlist!$B$2:$B$200=\"DPM\",IF(masterlist!$F$2:$F$200>0,IF(masterlist!$J$2:$J$200=0,ROW(masterlist!$B$2:$B$200)-ROW(masterlist!$B$2)+1))),ROWS($A$13:A21))),\"\")","v":""},{"$f":"IFERROR(VLOOKUP($A21,masterlist!$C$2:$AA$200,3,FALSE),\"\")","v":""},{"$f":"IFERROR(VLOOKUP($A21,masterlist!$C$2:$AA$200,2,FALSE),\"\")","v":""},{"$f":"IFERROR(VLOOKUP($A21,masterlist!$C$2:$AA$200,5,FALSE),\"\")","v":""},{"$f":"IFERROR(IF((VLOOKUP($A21,masterlist!$C$2:$AA$200,9,FALSE))=0,\"\",VLOOKUP($A21,masterlist!$C$2:$AA$200,9,FALSE)),\"\")","v":""},{"$f":"IFERROR(VLOOKUP($A21,masterlist!$C$2:$AA$200,20,FALSE),\"\")","v":""},{"$f":"IFERROR(VLOOKUP($A21,masterlist!$C$2:$AA$200,21,FALSE),\"\")","v":""},{"$f":"IFERROR(VLOOKUP($A21,masterlist!$C$2:$AA$200,22,FALSE),\"\")","v":""},{"$f":"IFERROR(IF($B$7=2,(VLOOKUP($A21,masterlist!$C$2:$AA$200,23,FALSE)-11),IF($B$7=4,(VLOOKUP($A21,masterlist!$C$2:$AA$200,23,FALSE)-9),IF($B$7=7,(VLOOKUP($A21,masterlist!$C$2:$AA$200,23,FALSE)-6),IF($B$7=10,(VLOOKUP($A21,masterlist!$C$2:$AA$200,23,FALSE)-3),(VLOOKUP($A21,masterlist!$C$2:$AA$200,23,FALSE)))))),\"\")","v":""},{"$f":"IFERROR(VLOOKUP($A21,masterlist!$C$2:$AA$200,24,FALSE),\"\")","v":""}]
[{"$f":"IF(ROWS($A$13:A22)<=(SUMPRODUCT((masterlist!B:B=\"DPM\")*(masterlist!J:J=0))),INDEX(masterlist!$C$2:$C$200,SMALL(IF(masterlist!$B$2:$B$200=\"DPM\",IF(masterlist!$F$2:$F$200>0,IF(masterlist!$J$2:$J$200=0,ROW(masterlist!$B$2:$B$200)-ROW(masterlist!$B$2)+1))),ROWS($A$13:A22))),\"\")","v":""},{"$f":"IFERROR(VLOOKUP($A22,masterlist!$C$2:$AA$200,3,FALSE),\"\")","v":""},{"$f":"IFERROR(VLOOKUP($A22,masterlist!$C$2:$AA$200,2,FALSE),\"\")","v":""},{"$f":"IFERROR(VLOOKUP($A22,masterlist!$C$2:$AA$200,5,FALSE),\"\")","v":""},{"$f":"IFERROR(IF((VLOOKUP($A22,masterlist!$C$2:$AA$200,9,FALSE))=0,\"\",VLOOKUP($A22,masterlist!$C$2:$AA$200,9,FALSE)),\"\")","v":""},{"$f":"IFERROR(VLOOKUP($A22,masterlist!$C$2:$AA$200,20,FALSE),\"\")","v":""},{"$f":"IFERROR(VLOOKUP($A22,masterlist!$C$2:$AA$200,21,FALSE),\"\")","v":""},{"$f":"IFERROR(VLOOKUP($A22,masterlist!$C$2:$AA$200,22,FALSE),\"\")","v":""},{"$f":"IFERROR(IF($B$7=2,(VLOOKUP($A22,masterlist!$C$2:$AA$200,23,FALSE)-11),IF($B$7=4,(VLOOKUP($A22,masterlist!$C$2:$AA$200,23,FALSE)-9),IF($B$7=7,(VLOOKUP($A22,masterlist!$C$2:$AA$200,23,FALSE)-6),IF($B$7=10,(VLOOKUP($A22,masterlist!$C$2:$AA$200,23,FALSE)-3),(VLOOKUP($A22,masterlist!$C$2:$AA$200,23,FALSE)))))),\"\")","v":""},{"$f":"IFERROR(VLOOKUP($A22,masterlist!$C$2:$AA$200,24,FALSE),\"\")","v":""}]
[{"$f":"IF(ROWS($A$13:A23)<=(SUMPRODUCT((masterlist!B:B=\"DPM\")*(masterlist!J:J=0))),INDEX(masterlist!$C$2:$C$200,SMALL(IF(masterlist!$B$2:$B$200=\"DPM\",IF(masterlist!$F$2:$F$200>0,IF(masterlist!$J$2:$J$200=0,ROW(masterlist!$B$2:$B$200)-ROW(masterlist!$B$2)+1))),ROWS($A$13:A23))),\"\")","v":""},{"$f":"IFERROR(VLOOKUP($A23,masterlist!$C$2:$AA$200,3,FALSE),\"\")","v":""},{"$f":"IFERROR(VLOOKUP($A23,masterlist!$C$2:$AA$200,2,FALSE),\"\")","v":""},{"$f":"IFERROR(VLOOKUP($A23,masterlist!$C$2:$AA$200,5,FALSE),\"\")","v":""},{"$f":"IFERROR(IF((VLOOKUP($A23,masterlist!$C$2:$AA$200,9,FALSE))=0,\"\",VLOOKUP($A23,masterlist!$C$2:$AA$200,9,FALSE)),\"\")","v":""},{"$f":"IFERROR(VLOOKUP($A23,masterlist!$C$2:$AA$200,20,FALSE),\"\")","v":""},{"$f":"IFERROR(VLOOKUP($A23,masterlist!$C$2:$AA$200,21,FALSE),\"\")","v":""},{"$f":"IFERROR(VLOOKUP($A23,masterlist!$C$2:$AA$200,22,FALSE),\"\")","v":""},{"$f":"IFERROR(IF($B$7=2,(VLOOKUP($A23,masterlist!$C$2:$AA$200,23,FALSE)-11),IF($B$7=4,(VLOOKUP($A23,masterlist!$C$2:$AA$200,23,FALSE)-9),IF($B$7=7,(VLOOKUP($A23,masterlist!$C$2:$AA$200,23,FALSE)-6),IF($B$7=10,(VLOOKUP($A23,masterlist!$C$2:$AA$200,23,FALSE)-3),(VLOOKUP($A23,masterlist!$C$2:$AA$200,23,FALSE)))))),\"\")","v":""},{"$f":"IFERROR(VLOOKUP($A23,masterlist!$C$2:$AA$200,24,FALSE),\"\")","v":""}]
[{"$f":"IF(ROWS($A$13:A24)<=(SUMPRODUCT((masterlist!B:B=\"DPM\")*(masterlist!J:J=0))),INDEX(masterlist!$C$2:$C$200,SMALL(IF(masterlist!$B$2:$B$200=\"DPM\",IF(masterlist!$F$2:$F$200>0,IF(masterlist!$J$2:$J$200=0,ROW(masterlist!$B$2:$B$200)-ROW(masterlist!$B$2)+1))),ROWS($A$13:A24))),\"\")","v":""},{"$f":"IFERROR(VLOOKUP($A24,masterlist!$C$2:$AA$200,3,FALSE),\"\")","v":""},{"$f":"IFERROR(VLOOKUP($A24,masterlist!$C$2:$AA$200,2,FALSE),\"\")","v":""},{"$f":"IFERROR(VLOOKUP($A24,masterlist!$C$2:$AA$200,5,FALSE),\"\")","v":""},{"$f":"IFERROR(IF((VLOOKUP($A24,masterlist!$C$2:$AA$200,9,FALSE))=0,\"\",VLOOKUP($A24,masterlist!$C$2:$AA$200,9,FALSE)),\"\")","v":""},{"$f":"IFERROR(VLOOKUP($A24,masterlist!$C$2:$AA$200,20,FALSE),\"\")","v":""},{"$f":"IFERROR(VLOOKUP($A24,masterlist!$C$2:$AA$200,21,FALSE),\"\")","v":""},{"$f":"IFERROR(VLOOKUP($A24,masterlist!$C$2:$AA$200,22,FALSE),\"\")","v":""},{"$f":"IFERROR(IF($B$7=2,(VLOOKUP($A24,masterlist!$C$2:$AA$200,23,FALSE)-11),IF($B$7=4,(VLOOKUP($A24,masterlist!$C$2:$AA$200,23,FALSE)-9),IF($B$7=7,(VLOOKUP($A24,masterlist!$C$2:$AA$200,23,FALSE)-6),IF($B$7=10,(VLOOKUP($A24,masterlist!$C$2:$AA$200,23,FALSE)-3),(VLOOKUP($A24,masterlist!$C$2:$AA$200,23,FALSE)))))),\"\")","v":""},{"$f":"IFERROR(VLOOKUP($A24,masterlist!$C$2:$AA$200,24,FALSE),\"\")","v":""}]
[{"$f":"IF(ROWS($A$13:A25)<=(SUMPRODUCT((masterlist!B:B=\"DPM\")*(masterlist!J:J=0))),INDEX(masterlist!$C$2:$C$200,SMALL(IF(masterlist!$B$2:$B$200=\"DPM\",IF(masterlist!$F$2:$F$200>0,IF(masterlist!$J$2:$J$200=0,ROW(masterlist!$B$2:$B$200)-ROW(masterlist!$B$2)+1))),ROWS($A$13:A25))),\"\")","v":""},{"$f":"IFERROR(VLOOKUP($A25,masterlist!$C$2:$AA$200,3,FALSE),\"\")","v":""},{"$f":"IFERROR(VLOOKUP($A25,masterlist!$C$2:$AA$200,2,FALSE),\"\")","v":""},{"$f":"IFERROR(VLOOKUP($A25,masterlist!$C$2:$AA$200,5,FALSE),\"\")","v":""},{"$f":"IFERROR(IF((VLOOKUP($A25,masterlist!$C$2:$AA$200,9,FALSE))=0,\"\",VLOOKUP($A25,masterlist!$C$2:$AA$200,9,FALSE)),\"\")","v":""},{"$f":"IFERROR(VLOOKUP($A25,masterlist!$C$2:$AA$200,20,FALSE),\"\")","v":""},{"$f":"IFERROR(VLOOKUP($A25,masterlist!$C$2:$AA$200,21,FALSE),\"\")","v":""},{"$f":"IFERROR(VLOOKUP($A25,masterlist!$C$2:$AA$200,22,FALSE),\"\")","v":""},{"$f":"IFERROR(IF($B$7=2,(VLOOKUP($A25,masterlist!$C$2:$AA$200,23,FALSE)-11),IF($B$7=4,(VLOOKUP($A25,masterlist!$C$2:$AA$200,23,FALSE)-9),IF($B$7=7,(VLOOKUP($A25,masterlist!$C$2:$AA$200,23,FALSE)-6),IF($B$7=10,(VLOOKUP($A25,masterlist!$C$2:$AA$200,23,FALSE)-3),(VLOOKUP($A25,masterlist!$C$2:$AA$200,23,FALSE)))))),\"\")","v":""},{"$f":"IFERROR(VLOOKUP($A25,masterlist!$C$2:$AA$200,24,FALSE),\"\")","v":""}]
[{"$f":"IF(ROWS($A$13:A26)<=(SUMPRODUCT((masterlist!B:B=\"DPM\")*(masterlist!J:J=0))),INDEX(masterlist!$C$2:$C$200,SMALL(IF(masterlist!$B$2:$B$200=\"DPM\",IF(masterlist!$F$2:$F$200>0,IF(masterlist!$J$2:$J$200=0,ROW(masterlist!$B$2:$B$200)-ROW(masterlist!$B$2)+1))),ROWS($A$13:A26))),\"\")","v":""},{"$f":"IFERROR(VLOOKUP($A26,masterlist!$C$2:$AA$200,3,FALSE),\"\")","v":""},{"$f":"IFERROR(VLOOKUP($A26,masterlist!$C$2:$AA$200,2,FALSE),\"\")","v":""},{"$f":"IFERROR(VLOOKUP($A26,masterlist!$C$2:$AA$200,5,FALSE),\"\")","v":""},{"$f":"IFERROR(IF((VLOOKUP($A26,masterlist!$C$2:$AA$200,9,FALSE))=0,\"\",VLOOKUP($A26,masterlist!$C$2:$AA$200,9,FALSE)),\"\")","v":""},{"$f":"IFERROR(VLOOKUP($A26,masterlist!$C$2:$AA$200,20,FALSE),\"\")","v":""},{"$f":"IFERROR(VLOOKUP($A26,masterlist!$C$2:$AA$200,21,FALSE),\"\")","v":""},{"$f":"IFERROR(VLOOKUP($A26,masterlist!$C$2:$AA$200,22,FALSE),\"\")","v":""},{"$f":"IFERROR(IF($B$7=2,(VLOOKUP($A26,masterlist!$C$2:$AA$200,23,FALSE)-11),IF($B$7=4,(VLOOKUP($A26,masterlist!$C$2:$AA$200,23,FALSE)-9),IF($B$7=7,(VLOOKUP($A26,masterlist!$C$2:$AA$200,23,FALSE)-6),IF($B$7=10,(VLOOKUP($A26,masterlist!$C$2:$AA$200,23,FALSE)-3),(VLOOKUP($A26,masterlist!$C$2:$AA$200,23,FALSE)))))),\"\")","v":""},{"$f":"IFERROR(VLOOKUP($A26,masterlist!$C$2:$AA$200,24,FALSE),\"\")","v":""}]
[{"$f":"IF(ROWS($A$13:A27)<=(SUMPRODUCT((masterlist!B:B=\"DPM\")*(masterlist!J:J=0))),INDEX(masterlist!$C$2:$C$200,SMALL(IF(masterlist!$B$2:$B$200=\"DPM\",IF(masterlist!$F$2:$F$200>0,IF(masterlist!$J$2:$J$200=0,ROW(masterlist!$B$2:$B$200)-ROW(masterlist!$B$2)+1))),ROWS($A$13:A27))),\"\")","v":""},{"$f":"IFERROR(VLOOKUP($A27,masterlist!$C$2:$AA$200,3,FALSE),\"\")","v":""},{"$f":"IFERROR(VLOOKUP($A27,masterlist!$C$2:$AA$200,2,FALSE),\"\")","v":""},{"$f":"IFERROR(VLOOKUP($A27,masterlist!$C$2:$AA$200,5,FALSE),\"\")","v":""},{"$f":"IFERROR(IF((VLOOKUP($A27,masterlist!$C$2:$AA$200,9,FALSE))=0,\"\",VLOOKUP($A27,masterlist!$C$2:$AA$200,9,FALSE)),\"\")","v":""},{"$f":"IFERROR(VLOOKUP($A27,masterlist!$C$2:$AA$200,20,FALSE),\"\")","v":""},{"$f":"IFERROR(VLOOKUP($A27,masterlist!$C$2:$AA$200,21,FALSE),\"\")","v":""},{"$f":"IFERROR(VLOOKUP($A27,masterlist!$C$2:$AA$200,22,FALSE),\"\")","v":""},{"$f":"IFERROR(IF($B$7=2,(VLOOKUP($A27,masterlist!$C$2:$AA$200,23,FALSE)-11),IF($B$7=4,(VLOOKUP($A27,masterlist!$C$2:$AA$200,23,FALSE)-9),IF($B$7=7,(VLOOKUP($A27,masterlist!$C$2:$AA$200,23,FALSE)-6),IF($B$7=10,(VLOOKUP($A27,masterlist!$C$2:$AA$200,23,FALSE)-3),(VLOOKUP($A27,masterlist!$C$2:$AA$200,23,FALSE)))))),\"\")","v":""},{"$f":"IFERROR(VLOOKUP($A27,masterlist!$C$2:$AA$200,24,FALSE),\"\")","v":""}]
[{"$f":"IF(ROWS($A$13:A28)<=(SUMPRODUCT((masterlist!B:B=\"DPM\")*(masterlist!J:J=0))),INDEX(masterlist!$C$2:$C$200,SMALL(IF(masterlist!$B$2:$B$200=\"DPM\",IF(masterlist!$F$2:$F$200>0,IF(masterlist!$J$2:$J$200=0,ROW(masterlist!$B$2:$B$200)-ROW(masterlist!$B$2)+1))),ROWS($A$13:A28))),\"\")","v":""},{"$f":"IFERROR(VLOOKUP($A28,masterlist!$C$2:$AA$200,3,FALSE),\"\")","v":""},{"$f":"IFERROR(VLOOKUP($A28,masterlist!$C$2:$AA$200,2,FALSE),\"\")","v":""},{"$f":"IFERROR(VLOOKUP($A28,masterlist!$C$2:$AA$200,5,FALSE),\"\")","v":""},{"$f":"IFERROR(IF((VLOOKUP($A28,masterlist!$C$2:$AA$200,9,FALSE))=0,\"\",VLOOKUP($A28,masterlist!$C$2:$AA$200,9,FALSE)),\"\")","v":""},{"$f":"IFERROR(VLOOKUP($A28,masterlist!$C$2:$AA$200,20,FALSE),\"\")","v":""},{"$f":"IFERROR(VLOOKUP($A28,masterlist!$C$2:$AA$200,21,FALSE),\"\")","v":""},{"$f":"IFERROR(VLOOKUP($A28,masterlist!$C$2:$AA$200,22,FALSE),\"\")","v":""},{"$f":"IFERROR(IF($B$7=2,(VLOOKUP($A28,masterlist!$C$2:$AA$200,23,FALSE)-11),IF($B$7=4,(VLOOKUP($A28,masterlist!$C$2:$AA$200,23,FALSE)-9),IF($B$7=7,(VLOOKUP($A28,masterlist!$C$2:$AA$200,23,FALSE)-6),IF($B$7=10,(VLOOKUP($A28,masterlist!$C$2:$AA$200,23,FALSE)-3),(VLOOKUP($A28,masterlist!$C$2:$AA$200,23,FALSE)))))),\"\")","v":""},{"$f":"IFERROR(VLOOKUP($A28,masterlist!$C$2:$AA$200,24,FALSE),\"\")","v":""}]
[{"$f":"IF(ROWS($A$13:A29)<=(SUMPRODUCT((masterlist!B:B=\"DPM\")*(masterlist!J:J=0))),INDEX(masterlist!$C$2:$C$200,SMALL(IF(masterlist!$B$2:$B$200=\"DPM\",IF(masterlist!$F$2:$F$200>0,IF(masterlist!$J$2:$J$200=0,ROW(masterlist!$B$2:$B$200)-ROW(masterlist!$B$2)+1))),ROWS($A$13:A29))),\"\")","v":""},{"$f":"IFERROR(VLOOKUP($A29,masterlist!$C$2:$AA$200,3,FALSE),\"\")","v":""},{"$f":"IFERROR(VLOOKUP($A29,masterlist!$C$2:$AA$200,2,FALSE),\"\")","v":""},{"$f":"IFERROR(VLOOKUP($A29,masterlist!$C$2:$AA$200,5,FALSE),\"\")","v":""},{"$f":"IFERROR(IF((VLOOKUP($A29,masterlist!$C$2:$AA$200,9,FALSE))=0,\"\",VLOOKUP($A29,masterlist!$C$2:$AA$200,9,FALSE)),\"\")","v":""},{"$f":"IFERROR(VLOOKUP($A29,masterlist!$C$2:$AA$200,20,FALSE),\"\")","v":""},{"$f":"IFERROR(VLOOKUP($A29,masterlist!$C$2:$AA$200,21,FALSE),\"\")","v":""},{"$f":"IFERROR(VLOOKUP($A29,masterlist!$C$2:$AA$200,22,FALSE),\"\")","v":""},{"$f":"IFERROR(IF($B$7=2,(VLOOKUP($A29,masterlist!$C$2:$AA$200,23,FALSE)-11),IF($B$7=4,(VLOOKUP($A29,masterlist!$C$2:$AA$200,23,FALSE)-9),IF($B$7=7,(VLOOKUP($A29,masterlist!$C$2:$AA$200,23,FALSE)-6),IF($B$7=10,(VLOOKUP($A29,masterlist!$C$2:$AA$200,23,FALSE)-3),(VLOOKUP($A29,masterlist!$C$2:$AA$200,23,FALSE)))))),\"\")","v":""},{"$f":"IFERROR(VLOOKUP($A29,masterlist!$C$2:$AA$200,24,FALSE),\"\")","v":""}]
[{"$f":"IF(ROWS($A$13:A30)<=(SUMPRODUCT((masterlist!B:B=\"DPM\")*(masterlist!J:J=0))),INDEX(masterlist!$C$2:$C$200,SMALL(IF(masterlist!$B$2:$B$200=\"DPM\",IF(masterlist!$F$2:$F$200>0,IF(masterlist!$J$2:$J$200=0,ROW(masterlist!$B$2:$B$200)-ROW(masterlist!$B$2)+1))),ROWS($A$13:A30))),\"\")","v":""},{"$f":"IFERROR(VLOOKUP($A30,masterlist!$C$2:$AA$200,3,FALSE),\"\")","v":""},{"$f":"IFERROR(VLOOKUP($A30,masterlist!$C$2:$AA$200,2,FALSE),\"\")","v":""},{"$f":"IFERROR(VLOOKUP($A30,masterlist!$C$2:$AA$200,5,FALSE),\"\")","v":""},{"$f":"IFERROR(IF((VLOOKUP($A30,masterlist!$C$2:$AA$200,9,FALSE))=0,\"\",VLOOKUP($A30,masterlist!$C$2:$AA$200,9,FALSE)),\"\")","v":""},{"$f":"IFERROR(VLOOKUP($A30,masterlist!$C$2:$AA$200,20,FALSE),\"\")","v":""},{"$f":"IFERROR(VLOOKUP($A30,masterlist!$C$2:$AA$200,21,FALSE),\"\")","v":""},{"$f":"IFERROR(VLOOKUP($A30,masterlist!$C$2:$AA$200,22,FALSE),\"\")","v":""},{"$f":"IFERROR(IF($B$7=2,(VLOOKUP($A30,masterlist!$C$2:$AA$200,23,FALSE)-11),IF($B$7=4,(VLOOKUP($A30,masterlist!$C$2:$AA$200,23,FALSE)-9),IF($B$7=7,(VLOOKUP($A30,masterlist!$C$2:$AA$200,23,FALSE)-6),IF($B$7=10,(VLOOKUP($A30,masterlist!$C$2:$AA$200,23,FALSE)-3),(VLOOKUP($A30,masterlist!$C$2:$AA$200,23,FALSE)))))),\"\")","v":""},{"$f":"IFERROR(VLOOKUP($A30,masterlist!$C$2:$AA$200,24,FALSE),\"\")","v":""}]
[{"$f":"IF(ROWS($A$13:A31)<=(SUMPRODUCT((masterlist!B:B=\"DPM\")*(masterlist!J:J=0))),INDEX(masterlist!$C$2:$C$200,SMALL(IF(masterlist!$B$2:$B$200=\"DPM\",IF(masterlist!$F$2:$F$200>0,IF(masterlist!$J$2:$J$200=0,ROW(masterlist!$B$2:$B$200)-ROW(masterlist!$B$2)+1))),ROWS($A$13:A31))),\"\")","v":""},{"$f":"IFERROR(VLOOKUP($A31,masterlist!$C$2:$AA$200,3,FALSE),\"\")","v":""},{"$f":"IFERROR(VLOOKUP($A31,masterlist!$C$2:$AA$200,2,FALSE),\"\")","v":""},{"$f":"IFERROR(VLOOKUP($A31,masterlist!$C$2:$AA$200,5,FALSE),\"\")","v":""},{"$f":"IFERROR(IF((VLOOKUP($A31,masterlist!$C$2:$AA$200,9,FALSE))=0,\"\",VLOOKUP($A31,masterlist!$C$2:$AA$200,9,FALSE)),\"\")","v":""},{"$f":"IFERROR(VLOOKUP($A31,masterlist!$C$2:$AA$200,20,FALSE),\"\")","v":""},{"$f":"IFERROR(VLOOKUP($A31,masterlist!$C$2:$AA$200,21,FALSE),\"\")","v":""},{"$f":"IFERROR(VLOOKUP($A31,masterlist!$C$2:$AA$200,22,FALSE),\"\")","v":""},{"$f":"IFERROR(IF($B$7=2,(VLOOKUP($A31,masterlist!$C$2:$AA$200,23,FALSE)-11),IF($B$7=4,(VLOOKUP($A31,masterlist!$C$2:$AA$200,23,FALSE)-9),IF($B$7=7,(VLOOKUP($A31,masterlist!$C$2:$AA$200,23,FALSE)-6),IF($B$7=10,(VLOOKUP($A31,masterlist!$C$2:$AA$200,23,FALSE)-3),(VLOOKUP($A31,masterlist!$C$2:$AA$200,23,FALSE)))))),\"\")","v":""},{"$f":"IFERROR(VLOOKUP($A31,masterlist!$C$2:$AA$200,24,FALSE),\"\")","v":""}]
[{"$f":"IF(ROWS($A$13:A32)<=(SUMPRODUCT((masterlist!B:B=\"DPM\")*(masterlist!J:J=0))),INDEX(masterlist!$C$2:$C$200,SMALL(IF(masterlist!$B$2:$B$200=\"DPM\",IF(masterlist!$F$2:$F$200>0,IF(masterlist!$J$2:$J$200=0,ROW(masterlist!$B$2:$B$200)-ROW(masterlist!$B$2)+1))),ROWS($A$13:A32))),\"\")","v":""},{"$f":"IFERROR(VLOOKUP($A32,masterlist!$C$2:$AA$200,3,FALSE),\"\")","v":""},{"$f":"IFERROR(VLOOKUP($A32,masterlist!$C$2:$AA$200,2,FALSE),\"\")","v":""},{"$f":"IFERROR(VLOOKUP($A32,masterlist!$C$2:$AA$200,5,FALSE),\"\")","v":""},{"$f":"IFERROR(IF((VLOOKUP($A32,masterlist!$C$2:$AA$200,9,FALSE))=0,\"\",VLOOKUP($A32,masterlist!$C$2:$AA$200,9,FALSE)),\"\")","v":""},{"$f":"IFERROR(VLOOKUP($A32,masterlist!$C$2:$AA$200,20,FALSE),\"\")","v":""},{"$f":"IFERROR(VLOOKUP($A32,masterlist!$C$2:$AA$200,21,FALSE),\"\")","v":""},{"$f":"IFERROR(VLOOKUP($A32,masterlist!$C$2:$AA$200,22,FALSE),\"\")","v":""},{"$f":"IFERROR(IF($B$7=2,(VLOOKUP($A32,masterlist!$C$2:$AA$200,23,FALSE)-11),IF($B$7=4,(VLOOKUP($A32,masterlist!$C$2:$AA$200,23,FALSE)-9),IF($B$7=7,(VLOOKUP($A32,masterlist!$C$2:$AA$200,23,FALSE)-6),IF($B$7=10,(VLOOKUP($A32,masterlist!$C$2:$AA$200,23,FALSE)-3),(VLOOKUP($A32,masterlist!$C$2:$AA$200,23,FALSE)))))),\"\")","v":""},{"$f":"IFERROR(VLOOKUP($A32,masterlist!$C$2:$AA$200,24,FALSE),\"\")","v":""}]
[{"$f":"IF(ROWS($A$13:A33)<=(SUMPRODUCT((masterlist!B:B=\"DPM\")*(masterlist!J:J=0))),INDEX(masterlist!$C$2:$C$200,SMALL(IF(masterlist!$B$2:$B$200=\"DPM\",IF(masterlist!$F$2:$F$200>0,IF(masterlist!$J$2:$J$200=0,ROW(masterlist!$B$2:$B$200)-ROW(masterlist!$B$2)+1))),ROWS($A$13:A33))),\"\")","v":""},{"$f":"IFERROR(VLOOKUP($A33,masterlist!$C$2:$AA$200,3,FALSE),\"\")","v":""},{"$f":"IFERROR(VLOOKUP($A33,masterlist!$C$2:$AA$200,2,FALSE),\"\")","v":""},{"$f":"IFERROR(VLOOKUP($A33,masterlist!$C$2:$AA$200,5,FALSE),\"\")","v":""},{"$f":"IFERROR(IF((VLOOKUP($A33,masterlist!$C$2:$AA$200,9,FALSE))=0,\"\",VLOOKUP($A33,masterlist!$C$2:$AA$200,9,FALSE)),\"\")","v":""},{"$f":"IFERROR(VLOOKUP($A33,masterlist!$C$2:$AA$200,20,FALSE),\"\")","v":""},{"$f":"IFERROR(VLOOKUP($A33,masterlist!$C$2:$AA$200,21,FALSE),\"\")","v":""},{"$f":"IFERROR(VLOOKUP($A33,masterlist!$C$2:$AA$200,22,FALSE),\"\")","v":""},{"$f":"IFERROR(IF($B$7=2,(VLOOKUP($A33,masterlist!$C$2:$AA$200,23,FALSE)-11),IF($B$7=4,(VLOOKUP($A33,masterlist!$C$2:$AA$200,23,FALSE)-9),IF($B$7=7,(VLOOKUP($A33,masterlist!$C$2:$AA$200,23,FALSE)-6),IF($B$7=10,(VLOOKUP($A33,masterlist!$C$2:$AA$200,23,FALSE)-3),(VLOOKUP($A33,masterlist!$C$2:$AA$200,23,FALSE)))))),\"\")","v":""},{"$f":"IFERROR(VLOOKUP($A33,masterlist!$C$2:$AA$200,24,FALSE),\"\")","v":""}]
[{"$f":"IF(ROWS($A$13:A34)<=(SUMPRODUCT((masterlist!B:B=\"DPM\")*(masterlist!J:J=0))),INDEX(masterlist!$C$2:$C$200,SMALL(IF(masterlist!$B$2:$B$200=\"DPM\",IF(masterlist!$F$2:$F$200>0,IF(masterlist!$J$2:$J$200=0,ROW(masterlist!$B$2:$B$200)-ROW(masterlist!$B$2)+1))),ROWS($A$13:A34))),\"\")","v":""},{"$f":"IFERROR(VLOOKUP($A34,masterlist!$C$2:$AA$200,3,FALSE),\"\")","v":""},{"$f":"IFERROR(VLOOKUP($A34,masterlist!$C$2:$AA$200,2,FALSE),\"\")","v":""},{"$f":"IFERROR(VLOOKUP($A34,masterlist!$C$2:$AA$200,5,FALSE),\"\")","v":""},{"$f":"IFERROR(IF((VLOOKUP($A34,masterlist!$C$2:$AA$200,9,FALSE))=0,\"\",VLOOKUP($A34,masterlist!$C$2:$AA$200,9,FALSE)),\"\")","v":""},{"$f":"IFERROR(VLOOKUP($A34,masterlist!$C$2:$AA$200,20,FALSE),\"\")","v":""},{"$f":"IFERROR(VLOOKUP($A34,masterlist!$C$2:$AA$200,21,FALSE),\"\")","v":""},{"$f":"IFERROR(VLOOKUP($A34,masterlist!$C$2:$AA$200,22,FALSE),\"\")","v":""},{"$f":"IFERROR(IF($B$7=2,(VLOOKUP($A34,masterlist!$C$2:$AA$200,23,FALSE)-11),IF($B$7=4,(VLOOKUP($A34,masterlist!$C$2:$AA$200,23,FALSE)-9),IF($B$7=7,(VLOOKUP($A34,masterlist!$C$2:$AA$200,23,FALSE)-6),IF($B$7=10,(VLOOKUP($A34,masterlist!$C$2:$AA$200,23,FALSE)-3),(VLOOKUP($A34,masterlist!$C$2:$AA$200,23,FALSE)))))),\"\")","v":""},{"$f":"IFERROR(VLOOKUP($A34,masterlist!$C$2:$AA$200,24,FALSE),\"\")","v":""}]
[{"$f":"IF(ROWS($A$13:A35)<=(SUMPRODUCT((masterlist!B:B=\"DPM\")*(masterlist!J:J=0))),INDEX(masterlist!$C$2:$C$200,SMALL(IF(masterlist!$B$2:$B$200=\"DPM\",IF(masterlist!$F$2:$F$200>0,IF(masterlist!$J$2:$J$200=0,ROW(masterlist!$B$2:$B$200)-ROW(masterlist!$B$2)+1))),ROWS($A$13:A35))),\"\")","v":""},{"$f":"IFERROR(VLOOKUP($A35,masterlist!$C$2:$AA$200,3,FALSE),\"\")","v":""},{"$f":"IFERROR(VLOOKUP($A35,masterlist!$C$2:$AA$200,2,FALSE),\"\")","v":""},{"$f":"IFERROR(VLOOKUP($A35,masterlist!$C$2:$AA$200,5,FALSE),\"\")","v":""},{"$f":"IFERROR(IF((VLOOKUP($A35,masterlist!$C$2:$AA$200,9,FALSE))=0,\"\",VLOOKUP($A35,masterlist!$C$2:$AA$200,9,FALSE)),\"\")","v":""},{"$f":"IFERROR(VLOOKUP($A35,masterlist!$C$2:$AA$200,20,FALSE),\"\")","v":""},{"$f":"IFERROR(VLOOKUP($A35,masterlist!$C$2:$AA$200,21,FALSE),\"\")","v":""},{"$f":"IFERROR(VLOOKUP($A35,masterlist!$C$2:$AA$200,22,FALSE),\"\")","v":""},{"$f":"IFERROR(IF($B$7=2,(VLOOKUP($A35,masterlist!$C$2:$AA$200,23,FALSE)-11),IF($B$7=4,(VLOOKUP($A35,masterlist!$C$2:$AA$200,23,FALSE)-9),IF($B$7=7,(VLOOKUP($A35,masterlist!$C$2:$AA$200,23,FALSE)-6),IF($B$7=10,(VLOOKUP($A35,masterlist!$C$2:$AA$200,23,FALSE)-3),(VLOOKUP($A35,masterlist!$C$2:$AA$200,23,FALSE)))))),\"\")","v":""},{"$f":"IFERROR(VLOOKUP($A35,masterlist!$C$2:$AA$200,24,FALSE),\"\")","v":""}]
[{"$f":"IF(ROWS($A$13:A36)<=(SUMPRODUCT((masterlist!B:B=\"DPM\")*(masterlist!J:J=0))),INDEX(masterlist!$C$2:$C$200,SMALL(IF(masterlist!$B$2:$B$200=\"DPM\",IF(masterlist!$F$2:$F$200>0,IF(masterlist!$J$2:$J$200=0,ROW(masterlist!$B$2:$B$200)-ROW(masterlist!$B$2)+1))),ROWS($A$13:A36))),\"\")","v":""},{"$f":"IFERROR(VLOOKUP($A36,masterlist!$C$2:$AA$200,3,FALSE),\"\")","v":""},{"$f":"IFERROR(VLOOKUP($A36,masterlist!$C$2:$AA$200,2,FALSE),\"\")","v":""},{"$f":"IFERROR(VLOOKUP($A36,masterlist!$C$2:$AA$200,5,FALSE),\"\")","v":""},{"$f":"IFERROR(IF((VLOOKUP($A36,masterlist!$C$2:$AA$200,9,FALSE))=0,\"\",VLOOKUP($A36,masterlist!$C$2:$AA$200,9,FALSE)),\"\")","v":""},{"$f":"IFERROR(VLOOKUP($A36,masterlist!$C$2:$AA$200,20,FALSE),\"\")","v":""},{"$f":"IFERROR(VLOOKUP($A36,masterlist!$C$2:$AA$200,21,FALSE),\"\")","v":""},{"$f":"IFERROR(VLOOKUP($A36,masterlist!$C$2:$AA$200,22,FALSE),\"\")","v":""},{"$f":"IFERROR(IF($B$7=2,(VLOOKUP($A36,masterlist!$C$2:$AA$200,23,FALSE)-11),IF($B$7=4,(VLOOKUP($A36,masterlist!$C$2:$AA$200,23,FALSE)-9),IF($B$7=7,(VLOOKUP($A36,masterlist!$C$2:$AA$200,23,FALSE)-6),IF($B$7=10,(VLOOKUP($A36,masterlist!$C$2:$AA$200,23,FALSE)-3),(VLOOKUP($A36,masterlist!$C$2:$AA$200,23,FALSE)))))),\"\")","v":""},{"$f":"IFERROR(VLOOKUP($A36,masterlist!$C$2:$AA$200,24,FALSE),\"\")","v":""}]
[{"$f":"IF(ROWS($A$13:A37)<=(SUMPRODUCT((masterlist!B:B=\"DPM\")*(masterlist!J:J=0))),INDEX(masterlist!$C$2:$C$200,SMALL(IF(masterlist!$B$2:$B$200=\"DPM\",IF(masterlist!$F$2:$F$200>0,IF(masterlist!$J$2:$J$200=0,ROW(masterlist!$B$2:$B$200)-ROW(masterlist!$B$2)+1))),ROWS($A$13:A37))),\"\")","v":""},{"$f":"IFERROR(VLOOKUP($A37,masterlist!$C$2:$AA$200,3,FALSE),\"\")","v":""},{"$f":"IFERROR(VLOOKUP($A37,masterlist!$C$2:$AA$200,2,FALSE),\"\")","v":""},{"$f":"IFERROR(VLOOKUP($A37,masterlist!$C$2:$AA$200,5,FALSE),\"\")","v":""},{"$f":"IFERROR(IF((VLOOKUP($A37,masterlist!$C$2:$AA$200,9,FALSE))=0,\"\",VLOOKUP($A37,masterlist!$C$2:$AA$200,9,FALSE)),\"\")","v":""},{"$f":"IFERROR(VLOOKUP($A37,masterlist!$C$2:$AA$200,20,FALSE),\"\")","v":""},{"$f":"IFERROR(VLOOKUP($A37,masterlist!$C$2:$AA$200,21,FALSE),\"\")","v":""},{"$f":"IFERROR(VLOOKUP($A37,masterlist!$C$2:$AA$200,22,FALSE),\"\")","v":""},{"$f":"IFERROR(IF($B$7=2,(VLOOKUP($A37,masterlist!$C$2:$AA$200,23,FALSE)-11),IF($B$7=4,(VLOOKUP($A37,masterlist!$C$2:$AA$200,23,FALSE)-9),IF($B$7=7,(VLOOKUP($A37,masterlist!$C$2:$AA$200,23,FALSE)-6),IF($B$7=10,(VLOOKUP($A37,masterlist!$C$2:$AA$200,23,FALSE)-3),(VLOOKUP($A37,masterlist!$C$2:$AA$200,23,FALSE)))))),\"\")","v":""},{"$f":"IFERROR(VLOOKUP($A37,masterlist!$C$2:$AA$200,24,FALSE),\"\")","v":""}]
[{"$f":"IF(ROWS($A$13:A38)<=(SUMPRODUCT((masterlist!B:B=\"DPM\")*(masterlist!J:J=0))),INDEX(masterlist!$C$2:$C$200,SMALL(IF(masterlist!$B$2:$B$200=\"DPM\",IF(masterlist!$F$2:$F$200>0,IF(masterlist!$J$2:$J$200=0,ROW(masterlist!$B$2:$B$200)-ROW(masterlist!$B$2)+1))),ROWS($A$13:A38))),\"\")","v":""},{"$f":"IFERROR(VLOOKUP($A38,masterlist!$C$2:$AA$200,3,FALSE),\"\")","v":""},{"$f":"IFERROR(VLOOKUP($A38,masterlist!$C$2:$AA$200,2,FALSE),\"\")","v":""},{"$f":"IFERROR(VLOOKUP($A38,masterlist!$C$2:$AA$200,5,FALSE),\"\")","v":""},{"$f":"IFERROR(IF((VLOOKUP($A38,masterlist!$C$2:$AA$200,9,FALSE))=0,\"\",VLOOKUP($A38,masterlist!$C$2:$AA$200,9,FALSE)),\"\")","v":""},{"$f":"IFERROR(VLOOKUP($A38,masterlist!$C$2:$AA$200,20,FALSE),\"\")","v":""},{"$f":"IFERROR(VLOOKUP($A38,masterlist!$C$2:$AA$200,21,FALSE),\"\")","v":""},{"$f":"IFERROR(VLOOKUP($A38,masterlist!$C$2:$AA$200,22,FALSE),\"\")","v":""},{"$f":"IFERROR(IF($B$7=2,(VLOOKUP($A38,masterlist!$C$2:$AA$200,23,FALSE)-11),IF($B$7=4,(VLOOKUP($A38,masterlist!$C$2:$AA$200,23,FALSE)-9),IF($B$7=7,(VLOOKUP($A38,masterlist!$C$2:$AA$200,23,FALSE)-6),IF($B$7=10,(VLOOKUP($A38,masterlist!$C$2:$AA$200,23,FALSE)-3),(VLOOKUP($A38,masterlist!$C$2:$AA$200,23,FALSE)))))),\"\")","v":""},{"$f":"IFERROR(VLOOKUP($A38,masterlist!$C$2:$AA$200,24,FALSE),\"\")","v":""}]
[{"$f":"IF(ROWS($A$13:A39)<=(SUMPRODUCT((masterlist!B:B=\"DPM\")*(masterlist!J:J=0))),INDEX(masterlist!$C$2:$C$200,SMALL(IF(masterlist!$B$2:$B$200=\"DPM\",IF(masterlist!$F$2:$F$200>0,IF(masterlist!$J$2:$J$200=0,ROW(masterlist!$B$2:$B$200)-ROW(masterlist!$B$2)+1))),ROWS($A$13:A39))),\"\")","v":""},{"$f":"IFERROR(VLOOKUP($A39,masterlist!$C$2:$AA$200,3,FALSE),\"\")","v":""},{"$f":"IFERROR(VLOOKUP($A39,masterlist!$C$2:$AA$200,2,FALSE),\"\")","v":""},{"$f":"IFERROR(VLOOKUP($A39,masterlist!$C$2:$AA$200,5,FALSE),\"\")","v":""},{"$f":"IFERROR(IF((VLOOKUP($A39,masterlist!$C$2:$AA$200,9,FALSE))=0,\"\",VLOOKUP($A39,masterlist!$C$2:$AA$200,9,FALSE)),\"\")","v":""},{"$f":"IFERROR(VLOOKUP($A39,masterlist!$C$2:$AA$200,20,FALSE),\"\")","v":""},{"$f":"IFERROR(VLOOKUP($A39,masterlist!$C$2:$AA$200,21,FALSE),\"\")","v":""},{"$f":"IFERROR(VLOOKUP($A39,masterlist!$C$2:$AA$200,22,FALSE),\"\")","v":""},{"$f":"IFERROR(IF($B$7=2,(VLOOKUP($A39,masterlist!$C$2:$AA$200,23,FALSE)-11),IF($B$7=4,(VLOOKUP($A39,masterlist!$C$2:$AA$200,23,FALSE)-9),IF($B$7=7,(VLOOKUP($A39,masterlist!$C$2:$AA$200,23,FALSE)-6),IF($B$7=10,(VLOOKUP($A39,masterlist!$C$2:$AA$200,23,FALSE)-3),(VLOOKUP($A39,masterlist!$C$2:$AA$200,23,FALSE)))))),\"\")","v":""},{"$f":"IFERROR(VLOOKUP($A39,masterlist!$C$2:$AA$200,24,FALSE),\"\")","v":""}]
[{"$f":"IF(ROWS($A$13:A40)<=(SUMPRODUCT((masterlist!B:B=\"DPM\")*(masterlist!J:J=0))),INDEX(masterlist!$C$2:$C$200,SMALL(IF(masterlist!$B$2:$B$200=\"DPM\",IF(masterlist!$F$2:$F$200>0,IF(masterlist!$J$2:$J$200=0,ROW(masterlist!$B$2:$B$200)-ROW(masterlist!$B$2)+1))),ROWS($A$13:A40))),\"\")","v":""},{"$f":"IFERROR(VLOOKUP($A40,masterlist!$C$2:$AA$200,3,FALSE),\"\")","v":""},{"$f":"IFERROR(VLOOKUP($A40,masterlist!$C$2:$AA$200,2,FALSE),\"\")","v":""},{"$f":"IFERROR(VLOOKUP($A40,masterlist!$C$2:$AA$200,5,FALSE),\"\")","v":""},{"$f":"IFERROR(IF((VLOOKUP($A40,masterlist!$C$2:$AA$200,9,FALSE))=0,\"\",VLOOKUP($A40,masterlist!$C$2:$AA$200,9,FALSE)),\"\")","v":""},{"$f":"IFERROR(VLOOKUP($A40,masterlist!$C$2:$AA$200,20,FALSE),\"\")","v":""},{"$f":"IFERROR(VLOOKUP($A40,masterlist!$C$2:$AA$200,21,FALSE),\"\")","v":""},{"$f":"IFERROR(VLOOKUP($A40,masterlist!$C$2:$AA$200,22,FALSE),\"\")","v":""},{"$f":"IFERROR(IF($B$7=2,(VLOOKUP($A40,masterlist!$C$2:$AA$200,23,FALSE)-11),IF($B$7=4,(VLOOKUP($A40,masterlist!$C$2:$AA$200,23,FALSE)-9),IF($B$7=7,(VLOOKUP($A40,masterlist!$C$2:$AA$200,23,FALSE)-6),IF($B$7=10,(VLOOKUP($A40,masterlist!$C$2:$AA$200,23,FALSE)-3),(VLOOKUP($A40,masterlist!$C$2:$AA$200,23,FALSE)))))),\"\")","v":""},{"$f":"IFERROR(VLOOKUP($A40,masterlist!$C$2:$AA$200,24,FALSE),\"\")","v":""}]
[{"$f":"IF(ROWS($A$13:A41)<=(SUMPRODUCT((masterlist!B:B=\"DPM\")*(masterlist!J:J=0))),INDEX(masterlist!$C$2:$C$200,SMALL(IF(masterlist!$B$2:$B$200=\"DPM\",IF(masterlist!$F$2:$F$200>0,IF(masterlist!$J$2:$J$200=0,ROW(masterlist!$B$2:$B$200)-ROW(masterlist!$B$2)+1))),ROWS($A$13:A41))),\"\")","v":""},{"$f":"IFERROR(VLOOKUP($A41,masterlist!$C$2:$AA$200,3,FALSE),\"\")","v":""},{"$f":"IFERROR(VLOOKUP($A41,masterlist!$C$2:$AA$200,2,FALSE),\"\")","v":""},{"$f":"IFERROR(VLOOKUP($A41,masterlist!$C$2:$AA$200,5,FALSE),\"\")","v":""},{"$f":"IFERROR(IF((VLOOKUP($A41,masterlist!$C$2:$AA$200,9,FALSE))=0,\"\",VLOOKUP($A41,masterlist!$C$2:$AA$200,9,FALSE)),\"\")","v":""},{"$f":"IFERROR(VLOOKUP($A41,masterlist!$C$2:$AA$200,20,FALSE),\"\")","v":""},{"$f":"IFERROR(VLOOKUP($A41,masterlist!$C$2:$AA$200,21,FALSE),\"\")","v":""},{"$f":"IFERROR(VLOOKUP($A41,masterlist!$C$2:$AA$200,22,FALSE),\"\")","v":""},{"$f":"IFERROR(IF($B$7=2,(VLOOKUP($A41,masterlist!$C$2:$AA$200,23,FALSE)-11),IF($B$7=4,(VLOOKUP($A41,masterlist!$C$2:$AA$200,23,FALSE)-9),IF($B$7=7,(VLOOKUP($A41,masterlist!$C$2:$AA$200,23,FALSE)-6),IF($B$7=10,(VLOOKUP($A41,masterlist!$C$2:$AA$200,23,FALSE)-3),(VLOOKUP($A41,masterlist!$C$2:$AA$200,23,FALSE)))))),\"\")","v":""},{"$f":"IFERROR(VLOOKUP($A41,masterlist!$C$2:$AA$200,24,FALSE),\"\")","v":""}]
[{"$f":"IF(ROWS($A$13:A42)<=(SUMPRODUCT((masterlist!B:B=\"DPM\")*(masterlist!J:J=0))),INDEX(masterlist!$C$2:$C$200,SMALL(IF(masterlist!$B$2:$B$200=\"DPM\",IF(masterlist!$F$2:$F$200>0,IF(masterlist!$J$2:$J$200=0,ROW(masterlist!$B$2:$B$200)-ROW(masterlist!$B$2)+1))),ROWS($A$13:A42))),\"\")","v":""},{"$f":"IFERROR(VLOOKUP($A42,masterlist!$C$2:$AA$200,3,FALSE),\"\")","v":""},{"$f":"IFERROR(VLOOKUP($A42,masterlist!$C$2:$AA$200,2,FALSE),\"\")","v":""},{"$f":"IFERROR(VLOOKUP($A42,masterlist!$C$2:$AA$200,5,FALSE),\"\")","v":""},{"$f":"IFERROR(IF((VLOOKUP($A42,masterlist!$C$2:$AA$200,9,FALSE))=0,\"\",VLOOKUP($A42,masterlist!$C$2:$AA$200,9,FALSE)),\"\")","v":""},{"$f":"IFERROR(VLOOKUP($A42,masterlist!$C$2:$AA$200,20,FALSE),\"\")","v":""},{"$f":"IFERROR(VLOOKUP($A42,masterlist!$C$2:$AA$200,21,FALSE),\"\")","v":""},{"$f":"IFERROR(VLOOKUP($A42,masterlist!$C$2:$AA$200,22,FALSE),\"\")","v":""},{"$f":"IFERROR(IF($B$7=2,(VLOOKUP($A42,masterlist!$C$2:$AA$200,23,FALSE)-11),IF($B$7=4,(VLOOKUP($A42,masterlist!$C$2:$AA$200,23,FALSE)-9),IF($B$7=7,(VLOOKUP($A42,masterlist!$C$2:$AA$200,23,FALSE)-6),IF($B$7=10,(VLOOKUP($A42,masterlist!$C$2:$AA$200,23,FALSE)-3),(VLOOKUP($A42,masterlist!$C$2:$AA$200,23,FALSE)))))),\"\")","v":""},{"$f":"IFERROR(VLOOKUP($A42,masterlist!$C$2:$AA$200,24,FALSE),\"\")","v":""}]
[{"$f":"IF(ROWS($A$13:A43)<=(SUMPRODUCT((masterlist!B:B=\"DPM\")*(masterlist!J:J=0))),INDEX(masterlist!$C$2:$C$200,SMALL(IF(masterlist!$B$2:$B$200=\"DPM\",IF(masterlist!$F$2:$F$200>0,IF(masterlist!$J$2:$J$200=0,ROW(masterlist!$B$2:$B$200)-ROW(masterlist!$B$2)+1))),ROWS($A$13:A43))),\"\")","v":""},{"$f":"IFERROR(VLOOKUP($A43,masterlist!$C$2:$AA$200,3,FALSE),\"\")","v":""},{"$f":"IFERROR(VLOOKUP($A43,masterlist!$C$2:$AA$200,2,FALSE),\"\")","v":""},{"$f":"IFERROR(VLOOKUP($A43,masterlist!$C$2:$AA$200,5,FALSE),\"\")","v":""},{"$f":"IFERROR(IF((VLOOKUP($A43,masterlist!$C$2:$AA$200,9,FALSE))=0,\"\",VLOOKUP($A43,masterlist!$C$2:$AA$200,9,FALSE)),\"\")","v":""},{"$f":"IFERROR(VLOOKUP($A43,masterlist!$C$2:$AA$200,20,FALSE),\"\")","v":""},{"$f":"IFERROR(VLOOKUP($A43,masterlist!$C$2:$AA$200,21,FALSE),\"\")","v":""},{"$f":"IFERROR(VLOOKUP($A43,masterlist!$C$2:$AA$200,22,FALSE),\"\")","v":""},{"$f":"IFERROR(IF($B$7=2,(VLOOKUP($A43,masterlist!$C$2:$AA$200,23,FALSE)-11),IF($B$7=4,(VLOOKUP($A43,masterlist!$C$2:$AA$200,23,FALSE)-9),IF($B$7=7,(VLOOKUP($A43,masterlist!$C$2:$AA$200,23,FALSE)-6),IF($B$7=10,(VLOOKUP($A43,masterlist!$C$2:$AA$200,23,FALSE)-3),(VLOOKUP($A43,masterlist!$C$2:$AA$200,23,FALSE)))))),\"\")","v":""},{"$f":"IFERROR(VLOOKUP($A43,masterlist!$C$2:$AA$200,24,FALSE),\"\")","v":""}]
[{"$f":"IF(ROWS($A$13:A44)<=(SUMPRODUCT((masterlist!B:B=\"DPM\")*(masterlist!J:J=0))),INDEX(masterlist!$C$2:$C$200,SMALL(IF(masterlist!$B$2:$B$200=\"DPM\",IF(masterlist!$F$2:$F$200>0,IF(masterlist!$J$2:$J$200=0,ROW(masterlist!$B$2:$B$200)-ROW(masterlist!$B$2)+1))),ROWS($A$13:A44))),\"\")","v":""},{"$f":"IFERROR(VLOOKUP($A44,masterlist!$C$2:$AA$200,3,FALSE),\"\")","v":""},{"$f":"IFERROR(VLOOKUP($A44,masterlist!$C$2:$AA$200,2,FALSE),\"\")","v":""},{"$f":"IFERROR(VLOOKUP($A44,masterlist!$C$2:$AA$200,5,FALSE),\"\")","v":""},{"$f":"IFERROR(IF((VLOOKUP($A44,masterlist!$C$2:$AA$200,9,FALSE))=0,\"\",VLOOKUP($A44,masterlist!$C$2:$AA$200,9,FALSE)),\"\")","v":""},{"$f":"IFERROR(VLOOKUP($A44,masterlist!$C$2:$AA$200,20,FALSE),\"\")","v":""},{"$f":"IFERROR(VLOOKUP($A44,masterlist!$C$2:$AA$200,21,FALSE),\"\")","v":""},{"$f":"IFERROR(VLOOKUP($A44,masterlist!$C$2:$AA$200,22,FALSE),\"\")","v":""},{"$f":"IFERROR(IF($B$7=2,(VLOOKUP($A44,masterlist!$C$2:$AA$200,23,FALSE)-11),IF($B$7=4,(VLOOKUP($A44,masterlist!$C$2:$AA$200,23,FALSE)-9),IF($B$7=7,(VLOOKUP($A44,masterlist!$C$2:$AA$200,23,FALSE)-6),IF($B$7=10,(VLOOKUP($A44,masterlist!$C$2:$AA$200,23,FALSE)-3),(VLOOKUP($A44,masterlist!$C$2:$AA$200,23,FALSE)))))),\"\")","v":""},{"$f":"IFERROR(VLOOKUP($A44,masterlist!$C$2:$AA$200,24,FALSE),\"\")","v":""}]
[{"$f":"IF(ROWS($A$13:A45)<=(SUMPRODUCT((masterlist!B:B=\"DPM\")*(masterlist!J:J=0))),INDEX(masterlist!$C$2:$C$200,SMALL(IF(masterlist!$B$2:$B$200=\"DPM\",IF(masterlist!$F$2:$F$200>0,IF(masterlist!$J$2:$J$200=0,ROW(masterlist!$B$2:$B$200)-ROW(masterlist!$B$2)+1))),ROWS($A$13:A45))),\"\")","v":""},{"$f":"IFERROR(VLOOKUP($A45,masterlist!$C$2:$AA$200,3,FALSE),\"\")","v":""},{"$f":"IFERROR(VLOOKUP($A45,masterlist!$C$2:$AA$200,2,FALSE),\"\")","v":""},{"$f":"IFERROR(VLOOKUP($A45,masterlist!$C$2:$AA$200,5,FALSE),\"\")","v":""},{"$f":"IFERROR(IF((VLOOKUP($A45,masterlist!$C$2:$AA$200,9,FALSE))=0,\"\",VLOOKUP($A45,masterlist!$C$2:$AA$200,9,FALSE)),\"\")","v":""},{"$f":"IFERROR(VLOOKUP($A45,masterlist!$C$2:$AA$200,20,FALSE),\"\")","v":""},{"$f":"IFERROR(VLOOKUP($A45,masterlist!$C$2:$AA$200,21,FALSE),\"\")","v":""},{"$f":"IFERROR(VLOOKUP($A45,masterlist!$C$2:$AA$200,22,FALSE),\"\")","v":""},{"$f":"IFERROR(IF($B$7=2,(VLOOKUP($A45,masterlist!$C$2:$AA$200,23,FALSE)-11),IF($B$7=4,(VLOOKUP($A45,masterlist!$C$2:$AA$200,23,FALSE)-9),IF($B$7=7,(VLOOKUP($A45,masterlist!$C$2:$AA$200,23,FALSE)-6),IF($B$7=10,(VLOOKUP($A45,masterlist!$C$2:$AA$200,23,FALSE)-3),(VLOOKUP($A45,masterlist!$C$2:$AA$200,23,FALSE)))))),\"\")","v":""},{"$f":"IFERROR(VLOOKUP($A45,masterlist!$C$2:$AA$200,24,FALSE),\"\")","v":""}]
[{"$f":"IF(ROWS($A$13:A46)<=(SUMPRODUCT((masterlist!B:B=\"DPM\")*(masterlist!J:J=0))),INDEX(masterlist!$C$2:$C$200,SMALL(IF(masterlist!$B$2:$B$200=\"DPM\",IF(masterlist!$F$2:$F$200>0,IF(masterlist!$J$2:$J$200=0,ROW(masterlist!$B$2:$B$200)-ROW(masterlist!$B$2)+1))),ROWS($A$13:A46))),\"\")","v":""},{"$f":"IFERROR(VLOOKUP($A46,masterlist!$C$2:$AA$200,3,FALSE),\"\")","v":""},{"$f":"IFERROR(VLOOKUP($A46,masterlist!$C$2:$AA$200,2,FALSE),\"\")","v":""},{"$f":"IFERROR(VLOOKUP($A46,masterlist!$C$2:$AA$200,5,FALSE),\"\")","v":""},{"$f":"IFERROR(IF((VLOOKUP($A46,masterlist!$C$2:$AA$200,9,FALSE))=0,\"\",VLOOKUP($A46,masterlist!$C$2:$AA$200,9,FALSE)),\"\")","v":""},{"$f":"IFERROR(VLOOKUP($A46,masterlist!$C$2:$AA$200,20,FALSE),\"\")","v":""},{"$f":"IFERROR(VLOOKUP($A46,masterlist!$C$2:$AA$200,21,FALSE),\"\")","v":""},{"$f":"IFERROR(VLOOKUP($A46,masterlist!$C$2:$AA$200,22,FALSE),\"\")","v":""},{"$f":"IFERROR(IF($B$7=2,(VLOOKUP($A46,masterlist!$C$2:$AA$200,23,FALSE)-11),IF($B$7=4,(VLOOKUP($A46,masterlist!$C$2:$AA$200,23,FALSE)-9),IF($B$7=7,(VLOOKUP($A46,masterlist!$C$2:$AA$200,23,FALSE)-6),IF($B$7=10,(VLOOKUP($A46,masterlist!$C$2:$AA$200,23,FALSE)-3),(VLOOKUP($A46,masterlist!$C$2:$AA$200,23,FALSE)))))),\"\")","v":""},{"$f":"IFERROR(VLOOKUP($A46,masterlist!$C$2:$AA$200,24,FALSE),\"\")","v":""}]
[{"$f":"IF(ROWS($A$13:A47)<=(SUMPRODUCT((masterlist!B:B=\"DPM\")*(masterlist!J:J=0))),INDEX(masterlist!$C$2:$C$200,SMALL(IF(masterlist!$B$2:$B$200=\"DPM\",IF(masterlist!$F$2:$F$200>0,IF(masterlist!$J$2:$J$200=0,ROW(masterlist!$B$2:$B$200)-ROW(masterlist!$B$2)+1))),ROWS($A$13:A47))),\"\")","v":""},{"$f":"IFERROR(VLOOKUP($A47,masterlist!$C$2:$AA$200,3,FALSE),\"\")","v":""},{"$f":"IFERROR(VLOOKUP($A47,masterlist!$C$2:$AA$200,2,FALSE),\"\")","v":""},{"$f":"IFERROR(VLOOKUP($A47,masterlist!$C$2:$AA$200,5,FALSE),\"\")","v":""},{"$f":"IFERROR(IF((VLOOKUP($A47,masterlist!$C$2:$AA$200,9,FALSE))=0,\"\",VLOOKUP($A47,masterlist!$C$2:$AA$200,9,FALSE)),\"\")","v":""},{"$f":"IFERROR(VLOOKUP($A47,masterlist!$C$2:$AA$200,20,FALSE),\"\")","v":""},{"$f":"IFERROR(VLOOKUP($A47,masterlist!$C$2:$AA$200,21,FALSE),\"\")","v":""},{"$f":"IFERROR(VLOOKUP($A47,masterlist!$C$2:$AA$200,22,FALSE),\"\")","v":""},{"$f":"IFERROR(IF($B$7=2,(VLOOKUP($A47,masterlist!$C$2:$AA$200,23,FALSE)-11),IF($B$7=4,(VLOOKUP($A47,masterlist!$C$2:$AA$200,23,FALSE)-9),IF($B$7=7,(VLOOKUP($A47,masterlist!$C$2:$AA$200,23,FALSE)-6),IF($B$7=10,(VLOOKUP($A47,masterlist!$C$2:$AA$200,23,FALSE)-3),(VLOOKUP($A47,masterlist!$C$2:$AA$200,23,FALSE)))))),\"\")","v":""},{"$f":"IFERROR(VLOOKUP($A47,masterlist!$C$2:$AA$200,24,FALSE),\"\")","v":""}]
[{"$f":"IF(ROWS($A$13:A48)<=(SUMPRODUCT((masterlist!B:B=\"DPM\")*(masterlist!J:J=0))),INDEX(masterlist!$C$2:$C$200,SMALL(IF(masterlist!$B$2:$B$200=\"DPM\",IF(masterlist!$F$2:$F$200>0,IF(masterlist!$J$2:$J$200=0,ROW(masterlist!$B$2:$B$200)-ROW(masterlist!$B$2)+1))),ROWS($A$13:A48))),\"\")","v":""},{"$f":"IFERROR(VLOOKUP($A48,masterlist!$C$2:$AA$200,3,FALSE),\"\")","v":""},{"$f":"IFERROR(VLOOKUP($A48,masterlist!$C$2:$AA$200,2,FALSE),\"\")","v":""},{"$f":"IFERROR(VLOOKUP($A48,masterlist!$C$2:$AA$200,5,FALSE),\"\")","v":""},{"$f":"IFERROR(IF((VLOOKUP($A48,masterlist!$C$2:$AA$200,9,FALSE))=0,\"\",VLOOKUP($A48,masterlist!$C$2:$AA$200,9,FALSE)),\"\")","v":""},{"$f":"IFERROR(VLOOKUP($A48,masterlist!$C$2:$AA$200,20,FALSE),\"\")","v":""},{"$f":"IFERROR(VLOOKUP($A48,masterlist!$C$2:$AA$200,21,FALSE),\"\")","v":""},{"$f":"IFERROR(VLOOKUP($A48,masterlist!$C$2:$AA$200,22,FALSE),\"\")","v":""},{"$f":"IFERROR(IF($B$7=2,(VLOOKUP($A48,masterlist!$C$2:$AA$200,23,FALSE)-11),IF($B$7=4,(VLOOKUP($A48,masterlist!$C$2:$AA$200,23,FALSE)-9),IF($B$7=7,(VLOOKUP($A48,masterlist!$C$2:$AA$200,23,FALSE)-6),IF($B$7=10,(VLOOKUP($A48,masterlist!$C$2:$AA$200,23,FALSE)-3),(VLOOKUP($A48,masterlist!$C$2:$AA$200,23,FALSE)))))),\"\")","v":""},{"$f":"IFERROR(VLOOKUP($A48,masterlist!$C$2:$AA$200,24,FALSE),\"\")","v":""}]
[{"$f":"IF(ROWS($A$13:A49)<=(SUMPRODUCT((masterlist!B:B=\"DPM\")*(masterlist!J:J=0))),INDEX(masterlist!$C$2:$C$200,SMALL(IF(masterlist!$B$2:$B$200=\"DPM\",IF(masterlist!$F$2:$F$200>0,IF(masterlist!$J$2:$J$200=0,ROW(masterlist!$B$2:$B$200)-ROW(masterlist!$B$2)+1))),ROWS($A$13:A49))),\"\")","v":""},{"$f":"IFERROR(VLOOKUP($A49,masterlist!$C$2:$AA$200,3,FALSE),\"\")","v":""},{"$f":"IFERROR(VLOOKUP($A49,masterlist!$C$2:$AA$200,2,FALSE),\"\")","v":""},{"$f":"IFERROR(VLOOKUP($A49,masterlist!$C$2:$AA$200,5,FALSE),\"\")","v":""},{"$f":"IFERROR(IF((VLOOKUP($A49,masterlist!$C$2:$AA$200,9,FALSE))=0,\"\",VLOOKUP($A49,masterlist!$C$2:$AA$200,9,FALSE)),\"\")","v":""},{"$f":"IFERROR(VLOOKUP($A49,masterlist!$C$2:$AA$200,20,FALSE),\"\")","v":""},{"$f":"IFERROR(VLOOKUP($A49,masterlist!$C$2:$AA$200,21,FALSE),\"\")","v":""},{"$f":"IFERROR(VLOOKUP($A49,masterlist!$C$2:$AA$200,22,FALSE),\"\")","v":""},{"$f":"IFERROR(IF($B$7=2,(VLOOKUP($A49,masterlist!$C$2:$AA$200,23,FALSE)-11),IF($B$7=4,(VLOOKUP($A49,masterlist!$C$2:$AA$200,23,FALSE)-9),IF($B$7=7,(VLOOKUP($A49,masterlist!$C$2:$AA$200,23,FALSE)-6),IF($B$7=10,(VLOOKUP($A49,masterlist!$C$2:$AA$200,23,FALSE)-3),(VLOOKUP($A49,masterlist!$C$2:$AA$200,23,FALSE)))))),\"\")","v":""},{"$f":"IFERROR(VLOOKUP($A49,masterlist!$C$2:$AA$200,24,FALSE),\"\")","v":""}]

{"sheet":"DPM","index":32,"n_rows":2,"n_cols":8,"rows_kept":2,"cut":false,"hidden":true,"merged":[[1,3,1,9],[0,1,0,6],[0,7,0,9]]}
[null,"Dog Population Management",null,null,null,null,null,"Practical Workplan towards Achieving Rabies Elimination"]
[null,null,null,"Dog population management (DPM) is a concept consisting of many approaches that aims to improve the health and wellbeing of free-roaming and owned dogs and reduce problems they may present. DPM ties in closely with the vaccination of dogs, their humane treatment, and population control through various strategies such as responsible ownership and sterilization. DPM advocates against dog culling. "]

{"sheet":"DPMgantt","index":33,"n_rows":50,"n_cols":17,"rows_kept":50,"cut":false,"hidden":true,"merged":[[0,1,0,16],[1,1,1,6],[2,1,2,16]]}
[null,"Practical Workplan towards Achieving Rabies Elimination"]
[]
[null,"Dog Population Management - GANTT CHART"]
[]
[null,null,null,null,1,2,3,4,5,6,7,8,9,10,11,12,13]
[null,"Theme","Stage","Activity",{"$f":"'NW country'!$E$35","v":2018},{"$f":"IF('NW country'!$K$4<6,E6+1,\"\")","v":2019},{"$f":"IF('NW country'!$K$4<5,E6+2,\"\")","v":2020},{"$f":"IF('NW country'!$K$4<5,E6+3,\"\")","v":2021},{"$f":"IF('NW country'!$K$4<4,E6+4,\"\")","v":2022},{"$f":"IF('NW country'!$K$4<4,E6+5,\"\")","v":2023},{"$f":"IF('NW country'!$K$4<4,E6+6,\"\")","v":2024},{"$f":"IF('NW country'!$K$4<3,E6+7,\"\")","v":2025},{"$f":"IF('NW country'!$K$4<3,E6+8,\"\")","v":2026},{"$f":"IF('NW country'!$K$4<3,E6+9,\"\")","v":2027},{"$f":"IF('NW country'!$K$4<2,E6+10,\"\")","v":""},{"$f":"IF('NW country'!$K$4<2,E6+11,\"\")","v":""},{"$f":"IF('NW country'!$K$4<2,E6+12,\"\")","v":""}]
[13,{"$f":"IF((INDIRECT(\"DPM!\"&\"$a\"&$A7))=0,\"\",INDIRECT(\"DPM!\"&\"$c\"&$A7))","v":""},{"$f":"IF(INDIRECT(\"DPM!\"&\"$a\"&$A7)=0,\"\",INDIRECT(\"DPM!\"&\"$b\"&$A7))","v":""},{"$f":"IF(INDIRECT(\"DPM!\"&\"$a\"&$A7)=0,\"\",INDIRECT(\"DPM!\"&\"$d\"&$A7))","v":""},{"$f":"IF($C7>6,\"\",IF(E$5<=INDIRECT(\"DPM!\"&\"$i\"&$A7),\"X\",\"\"))","v":""},{"$f":"IF($C7>6,\"\",IF(F$5<=INDIRECT(\"DPM!\"&\"$i\"&$A7),\"X\",\"\"))","v":""},"","","","","","","","","","",""]
[14,{"$f":"IF((INDIRECT(\"DPM!\"&\"$a\"&$A8))=0,\"\",INDIRECT(\"DPM!\"&\"$c\"&$A8))","v":""},{"$f":"IF(INDIRECT(\"DPM!\"&\"$a\"&$A8)=0,\"\",INDIRECT(\"DPM!\"&\"$b\"&$A8))","v":""},{"$f":"IF(INDIRECT(\"DPM!\"&\"$a\"&$A8)=0,\"\",INDIRECT(\"DPM!\"&\"$d\"&$A8))","v":""},{"$f":"IF($C8>6,\"\",IF(E$5<=INDIRECT(\"DPM!\"&\"$i\"&$A8),\"X\",\"\"))","v":""},"","","","","","","","","","","",""]
[15,"","","","","","","","","","","","","","","",""]
[16,"","","","","","","","","","","","","","","",""]
[17,"","","","","","","","","","","","","","","",""]
[18,"","","","","","","","","","","","","","","",""]
[19,"","","","","","","","","","","","","","","",""]
[20,"","","","","","","","","","","","","","","",""]
[21,"","","","","","","","","","","","","","","",""]
[22,"","","","","","","","","","","","","","","",""]
[23,"","","","","","","","","","","","","","","",""]
[24,"","","","","","","","","","","","","","","",""]
[25,"","","","","","","","","","","","","","","",""]
[26,"","","","","","","","","","","","","","","",""]
[27,"","","","","","","","","","","","","","","",""]
[28,"","","","","","","","","","","","","","","",""]
[29,"","","","","","","","","","","","","","","",""]
[30,"","","","","","","","","","","","","","","",""]
[31,"","","","","","","","","","","","","","","",""]
[32,"","","","","","","","","","","","","","","",""]
[33,"","","","","","","","","","","","","","","",""]
[34,"","","","","","","","","","","","","","","",""]
[35,"","","","","","","","","","","","","","","",""]
[36,"","","","","","","","","","","","","","","",""]
[37,"","","","","","","","","","","","","","","",""]
[38,"","","","","","","","","","","","","","","",""]
[39,"","","","","","","","","","","","","","","",""]
[40,"","","","","","","","","","","","","","","",""]
[41,"","","","","","","","","","","","","","","",""]
[42,"","","","","","","","","","","","","","","",""]
[43,"","","","","","","","","","","","","","","",""]
[44,"","","","","","","","","","","","","","","",""]
[45,"","","","","","","","","","","","","","","",""]
[46,"","","","","","","","","","","","","","","",""]
[47,"","","","","","","","","",{"$f":"IF($C41>6,\"\",IF(K$5<=INDIRECT(\"DPM!\"&\"$i\"&$A41),\"X\",\"\"))","v":""},"","","","","",""]
[48,"","","",{"$f":"IF($C42>6,\"\",IF(E$5<=INDIRECT(\"DPM!\"&\"$i\"&$A42),\"X\",\"\"))","v":""},"","","","","","","","","","","",""]
[49,"","","","","","","","","","","","","","","",""]
[50,"","","","","","","","","","","","","","","",""]
[51,"","","","","","","","","","","","","","","",""]
[52,"","","","","","","","","","","","","","","",""]
[53,"","","","","","","","","","","","","","","",""]
[54,"","","","","","","","","","","","","","","",""]
[55,"","","","","","","","","","","","","","","",""]
[56,{"$f":"IF((INDIRECT(\"DCA!\"&\"$a\"&$A50))=0,\"\",INDIRECT(\"DCA!\"&\"$c\"&$A50))","v":""},{"$f":"IF(INDIRECT(\"DCA!\"&\"$a\"&$A50)=0,\"\",INDIRECT(\"DCA!\"&\"$b\"&$A50))","v":""},{"$f":"IF(INDIRECT(\"DCA!\"&\"$a\"&$A50)=0,\"\",INDIRECT(\"DCA!\"&\"$d\"&$A50))","v":""},{"$f":"IF($C50>6,\"\",IF(E$5<=INDIRECT(\"DCA!\"&\"$i\"&$A50),\"X\",\"\"))","v":""},"","","","","","","","","","","",""]

{"sheet":"rawiec","index":34,"n_rows":50,"n_cols":10,"rows_kept":50,"cut":false,"hidden":true,"merged":[[0,1,0,3],[0,4,0,9],[1,1,1,9],[4,1,5,3],[6,1,8,3]]}
[null,"Practical Workplan towards Achieving Rabies Elimination",null,null,"Prevention and Control"]
[null,"Blurb blurb blurb blah blurb blurb"]
[]
[]
[null,"Years to rabies elimination",null,null,null,"All stage 0 and 1 activities should ideally be completed within a 3-year period",null,null,null,{"$f":"IF('NW country'!$K$4<2,\"Years 1, 2 and 3\",\"--\")","v":"--"}]
[null,null,null,null,null,"All stage 2 activities should ideally be completed within a 3-year period",null,null,null,{"$f":"IF('NW country'!$K$4<2,\"Years 4, 5 and 6\",IF('NW country'!$K$4<3,\"Years 1, 2 and 3\",\"--\"))","v":"Years 1, 2 and 3"}]
[null,{"$f":"IF('NW country'!$K$4<2,13,IF('NW country'!$K$4<3,10,IF('NW country'!$K$4<4,7,IF('NW country'!$K$4<5,4,2))))","v":10},null,null,null,"All stage 3 activities should ideally be completed within a 3-year period",null,null,null,{"$f":"IF('NW country'!$K$4<2,\"Years 7, 8 and 9\",IF('NW country'!$K$4<3,\"Years 4, 5 and 6\",IF('NW country'!$K$4<4,\"Years 1, 2 and 3\",\"--\")))","v":"Years 4, 5 and 6"}]
[null,null,null,null,null,"All stage 4 activities should ideally be completed within a 2-year period",null,null,null,{"$f":"IF('NW country'!$K$4<2,\"Years 10 and 11\",IF('NW country'!$K$4<3,\"Years 7 and 8\",IF('NW country'!$K$4<4,\"Years 4 and 5\",IF('NW country'!$K$4<5,\"Years 1 and 2\",\"--\"))))","v":"Years 7 and 8"}]
[null,null,null,null,null,"All stage 5 activities should ideally be completed within a 2-year period",null,null,null,{"$f":"IF('NW country'!$K$4<2,\"Years 12 and 13\",IF('NW country'!$K$4<3,\"Years 9 and 10\",IF('NW country'!$K$4<4,\"Years 6 and 7\",IF('NW country'!$K$4<5,\"Years 3 and 4\",\"Years 1 and 2\"))))","v":"Years 9 and 10"}]
[]
[null,"INSTRUCTIONS:   Please edit the Objectives, Responsible authority, and Year of completion as applicable to your country"]
["ID","Stage","Theme","Pending activity","Comments from SARE tool","Objectives","Outcomes","Responsible authority","Number of years to completion  (see above)","Deliverables"]
[{"$f":"IF(ROWS($A$13:A13)<=(SUMPRODUCT((masterlist!B:B=\"IEC\")*(masterlist!J:J=0))),INDEX(masterlist!$C$2:$C$200,SMALL(IF(masterlist!$B$2:$B$200=\"IEC\",IF(masterlist!$F$2:$F$200>0,IF(masterlist!$J$2:$J$200=0,ROW(masterlist!$B$2:$B$200)-ROW(masterlist!$B$2)+1))),ROWS($A$13:A13))),\"\")","v":"IEC-Pub-3-5"},{"$f":"IFERROR(VLOOKUP($A13,masterlist!$C$2:$AA$200,3,FALSE),\"\")","v":3},{"$f":"IFERROR(VLOOKUP($A13,masterlist!$C$2:$AA$200,2,FALSE),\"\")","v":"Public awareness"},{"$f":"IFERROR(VLOOKUP($A13,masterlist!$C$2:$AA$200,5,FALSE),\"\")","v":"Has the IEC plan been integrated into the national rabies strategy, implemented at national level and updated where needed?"},{"$f":"IFERROR(IF((VLOOKUP($A13,masterlist!$C$2:$AA$200,9,FALSE))=0,\"\",VLOOKUP($A13,masterlist!$C$2:$AA$200,9,FALSE)),\"\")","v":""},{"$f":"IFERROR(VLOOKUP($A13,masterlist!$C$2:$AA$200,20,FALSE),\"\")","v":"Review IEC plan from local level;\nUpdate plan accordingly to make it applicable for national level implementation;\nReview national rabies control strategy and determine how IEC plan can be integrated;\nIntegrate relevant IEC plan into National rabies control strategy;\nHave updates on national rabies control strategy endorsed;\nImplement updated national rabies control strategy, including implementation of IEC components; "},{"$f":"IFERROR(VLOOKUP($A13,masterlist!$C$2:$AA$200,21,FALSE),\"\")","v":"The national rabies control strategy has been updated to include a national IEC plan. The updates in the national rabies control strategy are endorsed by the relevant stakeholders and implemented."},{"$f":"IFERROR(VLOOKUP($A13,masterlist!$C$2:$AA$200,22,FALSE),\"\")","v":"Ministry of Communication; Ministry of Health; Ministry of Agriculture; All other stakeholders involved in development of National Rabies control strategy"},{"$f":"IFERROR(IF($B$7=2,(VLOOKUP($A13,masterlist!$C$2:$AA$200,23,FALSE)-11),IF($B$7=4,(VLOOKUP($A13,masterlist!$C$2:$AA$200,23,FALSE)-9),IF($B$7=7,(VLOOKUP($A13,masterlist!$C$2:$AA$200,23,FALSE)-6),IF($B$7=10,(VLOOKUP($A13,masterlist!$C$2:$AA$200,23,FALSE)-3),(VLOOKUP($A13,masterlist!$C$2:$AA$200,23,FALSE)))))),\"\")","v":4},{"$f":"IFERROR(VLOOKUP($A13,masterlist!$C$2:$AA$200,24,FALSE),\"\")","v":"National rabies control strategy with integrated IEC plan;"}]
[{"$f":"IF(ROWS($A$13:A14)<=(SUMPRODUCT((masterlist!B:B=\"IEC\")*(masterlist!J:J=0))),INDEX(masterlist!$C$2:$C$200,SMALL(IF(masterlist!$B$2:$B$200=\"IEC\",IF(masterlist!$F$2:$F$200>0,IF(masterlist!$J$2:$J$200=0,ROW(masterlist!$B$2:$B$200)-ROW(masterlist!$B$2)+1))),ROWS($A$13:A14))),\"\")","v":"IEC-Pub-5-6"},{"$f":"IFERROR(VLOOKUP($A14,masterlist!$C$2:$AA$200,3,FALSE),\"\")","v":5},{"$f":"IFERROR(VLOOKUP($A14,masterlist!$C$2:$AA$200,2,FALSE),\"\")","v":"Public awareness"},{"$f":"IFERROR(VLOOKUP($A14,masterlist!$C$2:$AA$200,5,FALSE),\"\")","v":"Have awareness programmes focusing on the maintenance of freedom from dog and dog-transmitted human rabies been implemented?"},{"$f":"IFERROR(IF((VLOOKUP($A14,masterlist!$C$2:$AA$200,9,FALSE))=0,\"\",VLOOKUP($A14,masterlist!$C$2:$AA$200,9,FALSE)),\"\")","v":""},{"$f":"IFERROR(VLOOKUP($A14,masterlist!$C$2:$AA$200,20,FALSE),\"\")","v":"Revise IEC plan to incorporate continued awareness campaigns after the declaration of freedom from dog-transmitted rabies;\nDetermine whether awareness messages will need to change as the country is now free from dog-mediated human rabies;\nInclude messages regarding the possible risk of rabies transmission from terrestrial wildlife carnivores;\nDetermine what awareness campaigns would be most appropriate for target audience;\nSecure funding and resources to continue awareness campaigns after decalration of freedom from dog rabies;\nImplement relevant IEC plan and broadcast relevant messages to public;"},{"$f":"IFERROR(VLOOKUP($A14,masterlist!$C$2:$AA$200,21,FALSE),\"\")","v":"Updated IEC plan with awareness programmes delivered to the public to ensure the maintenance of freedom from dog-transmitted rabies in the country."},{"$f":"IFERROR(VLOOKUP($A14,masterlist!$C$2:$AA$200,22,FALSE),\"\")","v":"Ministry of Communication; Ministry of Health; Ministry of Agriculture"},{"$f":"IFERROR(IF($B$7=2,(VLOOKUP($A14,masterlist!$C$2:$AA$200,23,FALSE)-11),IF($B$7=4,(VLOOKUP($A14,masterlist!$C$2:$AA$200,23,FALSE)-9),IF($B$7=7,(VLOOKUP($A14,masterlist!$C$2:$AA$200,23,FALSE)-6),IF($B$7=10,(VLOOKUP($A14,masterlist!$C$2:$AA$200,23,FALSE)-3),(VLOOKUP($A14,masterlist!$C$2:$AA$200,23,FALSE)))))),\"\")","v":10},{"$f":"IFERROR(VLOOKUP($A14,masterlist!$C$2:$AA$200,24,FALSE),\"\")","v":"Number of awareness messages broadcast;\nEstimated number of people reached;\nNumber of new public awareness messages developed;\n\n"}]
[{"$f":"IF(ROWS($A$13:A15)<=(SUMPRODUCT((masterlist!B:B=\"IEC\")*(masterlist!J:J=0))),INDEX(masterlist!$C$2:$C$200,SMALL(IF(masterlist!$B$2:$B$200=\"IEC\",IF(masterlist!$F$2:$F$200>0,IF(masterlist!$J$2:$J$200=0,ROW(masterlist!$B$2:$B$200)-ROW(masterlist!$B$2)+1))),ROWS($A$13:A15))),\"\")","v":"IEC-Pro-1-8"},{"$f":"IFERROR(VLOOKUP($A15,masterlist!$C$2:$AA$200,3,FALSE),\"\")","v":1},{"$f":"IFERROR(VLOOKUP($A15,masterlist!$C$2:$AA$200,2,FALSE),\"\")","v":"Professional education"},{"$f":"IFERROR(VLOOKUP($A15,masterlist!$C$2:$AA$200,5,FALSE),\"\")","v":"Has an assessment been undertaken to determine the training needs of the professionals at a local level? "},{"$f":"IFERROR(IF((VLOOKUP($A15,masterlist!$C$2:$AA$200,9,FALSE))=0,\"\",VLOOKUP($A15,masterlist!$C$2:$AA$200,9,FALSE)),\"\")","v":""},{"$f":"IFERROR(VLOOKUP($A15,masterlist!$C$2:$AA$200,20,FALSE),\"\")","v":"Design an assessment (e.g. KAP survey) to determine current knowledge of professionals about rabies at local level; \nAcquire resources and funding to undertake the assessment at the local level;\nDetermine best time(s) and date(s) for the assessment to be undertaken to ensure best coverage of all professionals in all sectors;\nUndertake the assessment in the target area;\nAssess results of assessment to identify gaps in knowledge within the professional population;\nCompile a report of the findings of the assessment with recommendations; "},{"$f":"IFERROR(VLOOKUP($A15,masterlist!$C$2:$AA$200,21,FALSE),\"\")","v":"Results of assessment assessed and analysed to determine training needs for the professionals at a local level;"},{"$f":"IFERROR(VLOOKUP($A15,masterlist!$C$2:$AA$200,22,FALSE),\"\")","v":"Ministry of Health, Ministry of Agriculture, Ministry of Environmental Affairs; Ministry of Education; Local Council; NGOs; "},{"$f":"IFERROR(IF($B$7=2,(VLOOKUP($A15,masterlist!$C$2:$AA$200,23,FALSE)-11),IF($B$7=4,(VLOOKUP($A15,masterlist!$C$2:$AA$200,23,FALSE)-9),IF($B$7=7,(VLOOKUP($A15,masterlist!$C$2:$AA$200,23,FALSE)-6),IF($B$7=10,(VLOOKUP($A15,masterlist!$C$2:$AA$200,23,FALSE)-3),(VLOOKUP($A15,masterlist!$C$2:$AA$200,23,FALSE)))))),\"\")","v":-1},{"$f":"IFERROR(VLOOKUP($A15,masterlist!$C$2:$AA$200,24,FALSE),\"\")","v":"Number of professionals surveyed;\nReport on the recommendations for training needs compiled;"}]
[{"$f":"IF(ROWS($A$13:A16)<=(SUMPRODUCT((masterlist!B:B=\"IEC\")*(masterlist!J:J=0))),INDEX(masterlist!$C$2:$C$200,SMALL(IF(masterlist!$B$2:$B$200=\"IEC\",IF(masterlist!$F$2:$F$200>0,IF(masterlist!$J$2:$J$200=0,ROW(masterlist!$B$2:$B$200)-ROW(masterlist!$B$2)+1))),ROWS($A$13:A16))),\"\")","v":"IEC-Pro-1-9"},{"$f":"IFERROR(VLOOKUP($A16,masterlist!$C$2:$AA$200,3,FALSE),\"\")","v":1},{"$f":"IFERROR(VLOOKUP($A16,masterlist!$C$2:$AA$200,2,FALSE),\"\")","v":"Professional education"},{"$f":"IFERROR(VLOOKUP($A16,masterlist!$C$2:$AA$200,5,FALSE),\"\")","v":"Has a training plan been developed at a national level?"},{"$f":"IFERROR(IF((VLOOKUP($A16,masterlist!$C$2:$AA$200,9,FALSE))=0,\"\",VLOOKUP($A16,masterlist!$C$2:$AA$200,9,FALSE)),\"\")","v":""},{"$f":"IFERROR(VLOOKUP($A16,masterlist!$C$2:$AA$200,20,FALSE),\"\")","v":"Review assessment of training needs of professionals undertaken at local levels;\nIdentify appropriate sources for the training of the professionals; \nBased on these results, draft a national training plan for professionals involved in rabies control and elimination;\nReview draft plan with all relevant stakeholders;\nFinalise the plan and ensure that it is recognised by all of the relevant stakeholders;\nEnsure that the national plan is also communicated to all relevant stakeholders at the local level;"},{"$f":"IFERROR(VLOOKUP($A16,masterlist!$C$2:$AA$200,21,FALSE),\"\")","v":"A national training plan for professionals is developed and disseminated throughout the country to all of the relevant stakeholders at a local and national level;"},{"$f":"IFERROR(VLOOKUP($A16,masterlist!$C$2:$AA$200,22,FALSE),\"\")","v":"All relevant stakeholders"},{"$f":"IFERROR(IF($B$7=2,(VLOOKUP($A16,masterlist!$C$2:$AA$200,23,FALSE)-11),IF($B$7=4,(VLOOKUP($A16,masterlist!$C$2:$AA$200,23,FALSE)-9),IF($B$7=7,(VLOOKUP($A16,masterlist!$C$2:$AA$200,23,FALSE)-6),IF($B$7=10,(VLOOKUP($A16,masterlist!$C$2:$AA$200,23,FALSE)-3),(VLOOKUP($A16,masterlist!$C$2:$AA$200,23,FALSE)))))),\"\")","v":0},{"$f":"IFERROR(VLOOKUP($A16,masterlist!$C$2:$AA$200,24,FALSE),\"\")","v":"National training plan finalised and recognised by all relevant stakeholders;"}]
[{"$f":"IF(ROWS($A$13:A17)<=(SUMPRODUCT((masterlist!B:B=\"IEC\")*(masterlist!J:J=0))),INDEX(masterlist!$C$2:$C$200,SMALL(IF(masterlist!$B$2:$B$200=\"IEC\",IF(masterlist!$F$2:$F$200>0,IF(masterlist!$J$2:$J$200=0,ROW(masterlist!$B$2:$B$200)-ROW(masterlist!$B$2)+1))),ROWS($A$13:A17))),\"\")","v":"IEC-Pro-1-10"},{"$f":"IFERROR(VLOOKUP($A17,masterlist!$C$2:$AA$200,3,FALSE),\"\")","v":1},{"$f":"IFERROR(VLOOKUP($A17,masterlist!$C$2:$AA$200,2,FALSE),\"\")","v":"Professional education"},{"$f":"IFERROR(VLOOKUP($A17,masterlist!$C$2:$AA$200,5,FALSE),\"\")","v":"Have training or refresher courses on rabies and public communication been initiated for professionals in human and animal health at a local level?"},{"$f":"IFERROR(IF((VLOOKUP($A17,masterlist!$C$2:$AA$200,9,FALSE))=0,\"\",VLOOKUP($A17,masterlist!$C$2:$AA$200,9,FALSE)),\"\")","v":""},{"$f":"IFERROR(VLOOKUP($A17,masterlist!$C$2:$AA$200,20,FALSE),\"\")","v":"Identify effective and relevant training course material for training;\nIdentify and secure funding to undertake training courses;\nIdentify logistical requirements (venue, time, date etc.) to undertake training/refresher courses for professionals (nurses, animal health technicians, etc);\nInitiate training for professionals (nurses, animal health technicians, etc) at the local level based on the national plan;"},{"$f":"IFERROR(VLOOKUP($A17,masterlist!$C$2:$AA$200,21,FALSE),\"\")","v":"Training of local professionals in rabies control and elimination has been initiated for all relevant professionals at the local level"},{"$f":"IFERROR(VLOOKUP($A17,masterlist!$C$2:$AA$200,22,FALSE),\"\")","v":"All relevant stakeholders"},{"$f":"IFERROR(IF($B$7=2,(VLOOKUP($A17,masterlist!$C$2:$AA$200,23,FALSE)-11),IF($B$7=4,(VLOOKUP($A17,masterlist!$C$2:$AA$200,23,FALSE)-9),IF($B$7=7,(VLOOKUP($A17,masterlist!$C$2:$AA$200,23,FALSE)-6),IF($B$7=10,(VLOOKUP($A17,masterlist!$C$2:$AA$200,23,FALSE)-3),(VLOOKUP($A17,masterlist!$C$2:$AA$200,23,FALSE)))))),\"\")","v":0},{"$f":"IFERROR(VLOOKUP($A17,masterlist!$C$2:$AA$200,24,FALSE),\"\")","v":"Number of trainings held;\nNumber of professionals trained;\nNumber of sectors involved in trainings courses;"}]
[{"$f":"IF(ROWS($A$13:A18)<=(SUMPRODUCT((masterlist!B:B=\"IEC\")*(masterlist!J:J=0))),INDEX(masterlist!$C$2:$C$200,SMALL(IF(masterlist!$B$2:$B$200=\"IEC\",IF(masterlist!$F$2:$F$200>0,IF(masterlist!$J$2:$J$200=0,ROW(masterlist!$B$2:$B$200)-ROW(masterlist!$B$2)+1))),ROWS($A$13:A18))),\"\")","v":"IEC-Pro-2-11"},{"$f":"IFERROR(VLOOKUP($A18,masterlist!$C$2:$AA$200,3,FALSE),\"\")","v":2},{"$f":"IFERROR(VLOOKUP($A18,masterlist!$C$2:$AA$200,2,FALSE),\"\")","v":"Professional education"},{"$f":"IFERROR(VLOOKUP($A18,masterlist!$C$2:$AA$200,5,FALSE),\"\")","v":"Has training of human and animal health personnel been conducted in most parts of the country?"},{"$f":"IFERROR(IF((VLOOKUP($A18,masterlist!$C$2:$AA$200,9,FALSE))=0,\"\",VLOOKUP($A18,masterlist!$C$2:$AA$200,9,FALSE)),\"\")","v":""},{"$f":"IFERROR(VLOOKUP($A18,masterlist!$C$2:$AA$200,20,FALSE),\"\")","v":"Re-evaluate training needs of professionals throughout country with surveys, studies, and feedback from local level training plans;\nDetermine whether target professionals have been trained in most parts of the country;\nIdentify areas where further training is required;\nSecure funding and resources required to undertake additional training workshops;\nEnsure that all relevant human and animal health personnel have been trained in most parts of the country;"},{"$f":"IFERROR(VLOOKUP($A18,masterlist!$C$2:$AA$200,21,FALSE),\"\")","v":"A clear indication of the training needs for professionals involved in rabies control and elimination has been acquired, including identifying areas where training is sufficient, as well as identifying areas where training is still lacking. The majority of professionals throughout the country have been adequately trained."},{"$f":"IFERROR(VLOOKUP($A18,masterlist!$C$2:$AA$200,22,FALSE),\"\")","v":"Ministry of Communication; Ministry of Health; Ministry of Agriculture"},{"$f":"IFERROR(IF($B$7=2,(VLOOKUP($A18,masterlist!$C$2:$AA$200,23,FALSE)-11),IF($B$7=4,(VLOOKUP($A18,masterlist!$C$2:$AA$200,23,FALSE)-9),IF($B$7=7,(VLOOKUP($A18,masterlist!$C$2:$AA$200,23,FALSE)-6),IF($B$7=10,(VLOOKUP($A18,masterlist!$C$2:$AA$200,23,FALSE)-3),(VLOOKUP($A18,masterlist!$C$2:$AA$200,23,FALSE)))))),\"\")","v":2},{"$f":"IFERROR(VLOOKUP($A18,masterlist!$C$2:$AA$200,24,FALSE),\"\")","v":"Number of professionals requiring training;\nNumber of professionals trained;\n"}]
[{"$f":"IF(ROWS($A$13:A19)<=(SUMPRODUCT((masterlist!B:B=\"IEC\")*(masterlist!J:J=0))),INDEX(masterlist!$C$2:$C$200,SMALL(IF(masterlist!$B$2:$B$200=\"IEC\",IF(masterlist!$F$2:$F$200>0,IF(masterlist!$J$2:$J$200=0,ROW(masterlist!$B$2:$B$200)-ROW(masterlist!$B$2)+1))),ROWS($A$13:A19))),\"\")","v":"IEC-Adv-1-13"},{"$f":"IFERROR(VLOOKUP($A19,masterlist!$C$2:$AA$200,3,FALSE),\"\")","v":1},{"$f":"IFERROR(VLOOKUP($A19,masterlist!$C$2:$AA$200,2,FALSE),\"\")","v":"Advocacy"},{"$f":"IFERROR(VLOOKUP($A19,masterlist!$C$2:$AA$200,5,FALSE),\"\")","v":"Has an advocacy stakeholder analysis* been done at a national level and target audiences been identified?"},{"$f":"IFERROR(IF((VLOOKUP($A19,masterlist!$C$2:$AA$200,9,FALSE))=0,\"\",VLOOKUP($A19,masterlist!$C$2:$AA$200,9,FALSE)),\"\")","v":""},{"$f":"IFERROR(VLOOKUP($A19,masterlist!$C$2:$AA$200,20,FALSE),\"\")","v":"Identify the relevant people and organisations who play a role in rabies prevention and control;\nDetermine the most effective ways to help make rabies a priority for the identified stakeholders;\n"},{"$f":"IFERROR(VLOOKUP($A19,masterlist!$C$2:$AA$200,21,FALSE),\"\")","v":"Advocacy stakeholders identified and target messages to help them prioritise rabies have been identified;"},{"$f":"IFERROR(VLOOKUP($A19,masterlist!$C$2:$AA$200,22,FALSE),\"\")","v":"All relevant stakeholders"},{"$f":"IFERROR(IF($B$7=2,(VLOOKUP($A19,masterlist!$C$2:$AA$200,23,FALSE)-11),IF($B$7=4,(VLOOKUP($A19,masterlist!$C$2:$AA$200,23,FALSE)-9),IF($B$7=7,(VLOOKUP($A19,masterlist!$C$2:$AA$200,23,FALSE)-6),IF($B$7=10,(VLOOKUP($A19,masterlist!$C$2:$AA$200,23,FALSE)-3),(VLOOKUP($A19,masterlist!$C$2:$AA$200,23,FALSE)))))),\"\")","v":-2},{"$f":"IFERROR(VLOOKUP($A19,masterlist!$C$2:$AA$200,24,FALSE),\"\")","v":"Demographics of target audiences;\nReport identifying relevant stakeholders;\n"}]
[{"$f":"IF(ROWS($A$13:A20)<=(SUMPRODUCT((masterlist!B:B=\"IEC\")*(masterlist!J:J=0))),INDEX(masterlist!$C$2:$C$200,SMALL(IF(masterlist!$B$2:$B$200=\"IEC\",IF(masterlist!$F$2:$F$200>0,IF(masterlist!$J$2:$J$200=0,ROW(masterlist!$B$2:$B$200)-ROW(masterlist!$B$2)+1))),ROWS($A$13:A20))),\"\")","v":"IEC-Adv-1-14"},{"$f":"IFERROR(VLOOKUP($A20,masterlist!$C$2:$AA$200,3,FALSE),\"\")","v":1},{"$f":"IFERROR(VLOOKUP($A20,masterlist!$C$2:$AA$200,2,FALSE),\"\")","v":"Advocacy"},{"$f":"IFERROR(VLOOKUP($A20,masterlist!$C$2:$AA$200,5,FALSE),\"\")","v":"Has an advocacy plan* been developed and implemented at a national level?"},{"$f":"IFERROR(IF((VLOOKUP($A20,masterlist!$C$2:$AA$200,9,FALSE))=0,\"\",VLOOKUP($A20,masterlist!$C$2:$AA$200,9,FALSE)),\"\")","v":""},{"$f":"IFERROR(VLOOKUP($A20,masterlist!$C$2:$AA$200,20,FALSE),\"\")","v":"Do a literature search for any existing advocacy plans for rabies (e.g. Rabies Blueprint);\nDraft an advocacy plan based on identified target audiences and stakeholder analysis;\nReview drafted advocacy plan with relevant stakeholders including specific deadlines for feedback;\nFinalise the advocacy plan and ensure that is recognized by all relevant stakeholders;\nEnsure sufficient resources and finances to implement the advocacy plan;\nImplement advocacy plan at the national level;"},{"$f":"IFERROR(VLOOKUP($A20,masterlist!$C$2:$AA$200,21,FALSE),\"\")","v":"A structured plan to make rabies prevention and control a priority among leaders, decision-makers and policy influencers is available, resourced and recognised;"},{"$f":"IFERROR(VLOOKUP($A20,masterlist!$C$2:$AA$200,22,FALSE),\"\")","v":"All relevant stakeholders"},{"$f":"IFERROR(IF($B$7=2,(VLOOKUP($A20,masterlist!$C$2:$AA$200,23,FALSE)-11),IF($B$7=4,(VLOOKUP($A20,masterlist!$C$2:$AA$200,23,FALSE)-9),IF($B$7=7,(VLOOKUP($A20,masterlist!$C$2:$AA$200,23,FALSE)-6),IF($B$7=10,(VLOOKUP($A20,masterlist!$C$2:$AA$200,23,FALSE)-3),(VLOOKUP($A20,masterlist!$C$2:$AA$200,23,FALSE)))))),\"\")","v":0},{"$f":"IFERROR(VLOOKUP($A20,masterlist!$C$2:$AA$200,24,FALSE),\"\")","v":"A national advocacy plan developed and recognised;"}]
[{"$f":"IF(ROWS($A$13:A21)<=(SUMPRODUCT((masterlist!B:B=\"IEC\")*(masterlist!J:J=0))),INDEX(masterlist!$C$2:$C$200,SMALL(IF(masterlist!$B$2:$B$200=\"IEC\",IF(masterlist!$F$2:$F$200>0,IF(masterlist!$J$2:$J$200=0,ROW(masterlist!$B$2:$B$200)-ROW(masterlist!$B$2)+1))),ROWS($A$13:A21))),\"\")","v":"IEC-Adv-2-15"},{"$f":"IFERROR(VLOOKUP($A21,masterlist!$C$2:$AA$200,3,FALSE),\"\")","v":2},{"$f":"IFERROR(VLOOKUP($A21,masterlist!$C$2:$AA$200,2,FALSE),\"\")","v":"Advocacy"},{"$f":"IFERROR(VLOOKUP($A21,masterlist!$C$2:$AA$200,5,FALSE),\"\")","v":"Have you promoted any small-scale rabies control program successes using the national advocacy plan?"},{"$f":"IFERROR(IF((VLOOKUP($A21,masterlist!$C$2:$AA$200,9,FALSE))=0,\"\",VLOOKUP($A21,masterlist!$C$2:$AA$200,9,FALSE)),\"\")","v":""},{"$f":"IFERROR(VLOOKUP($A21,masterlist!$C$2:$AA$200,20,FALSE),\"\")","v":"Communicate with all existing rabies control programmes to highlight any potential successes;\nRefer to national advocacy plan to determine best means of the promotion of these successes;\nPromote successes at a national level using national advocacy plan, including the resources and personnel associated with the national plan;"},{"$f":"IFERROR(VLOOKUP($A21,masterlist!$C$2:$AA$200,21,FALSE),\"\")","v":"All smale-scale successes have been identified and promoted using the national advocacy plan and resources"},{"$f":"IFERROR(VLOOKUP($A21,masterlist!$C$2:$AA$200,22,FALSE),\"\")","v":"Ministry of Communication; Ministry of Health; Ministry of Agriculture"},{"$f":"IFERROR(IF($B$7=2,(VLOOKUP($A21,masterlist!$C$2:$AA$200,23,FALSE)-11),IF($B$7=4,(VLOOKUP($A21,masterlist!$C$2:$AA$200,23,FALSE)-9),IF($B$7=7,(VLOOKUP($A21,masterlist!$C$2:$AA$200,23,FALSE)-6),IF($B$7=10,(VLOOKUP($A21,masterlist!$C$2:$AA$200,23,FALSE)-3),(VLOOKUP($A21,masterlist!$C$2:$AA$200,23,FALSE)))))),\"\")","v":-1},{"$f":"IFERROR(VLOOKUP($A21,masterlist!$C$2:$AA$200,24,FALSE),\"\")","v":"Number of small-scale successes promoted;\nNumber of stakeholders reached;\nNumber of stakeholders that provided feedack;"}]
[{"$f":"IF(ROWS($A$13:A22)<=(SUMPRODUCT((masterlist!B:B=\"IEC\")*(masterlist!J:J=0))),INDEX(masterlist!$C$2:$C$200,SMALL(IF(masterlist!$B$2:$B$200=\"IEC\",IF(masterlist!$F$2:$F$200>0,IF(masterlist!$J$2:$J$200=0,ROW(masterlist!$B$2:$B$200)-ROW(masterlist!$B$2)+1))),ROWS($A$13:A22))),\"\")","v":"IEC-Adv-2-16"},{"$f":"IFERROR(VLOOKUP($A22,masterlist!$C$2:$AA$200,3,FALSE),\"\")","v":2},{"$f":"IFERROR(VLOOKUP($A22,masterlist!$C$2:$AA$200,2,FALSE),\"\")","v":"Advocacy"},{"$f":"IFERROR(VLOOKUP($A22,masterlist!$C$2:$AA$200,5,FALSE),\"\")","v":"Has the national advocacy plan been used to obtain support from stakeholders to financially resource the national rabies control strategy?"},{"$f":"IFERROR(IF((VLOOKUP($A22,masterlist!$C$2:$AA$200,9,FALSE))=0,\"\",VLOOKUP($A22,masterlist!$C$2:$AA$200,9,FALSE)),\"\")","v":""},{"$f":"IFERROR(VLOOKUP($A22,masterlist!$C$2:$AA$200,20,FALSE),\"\")","v":"Identify potential funders and stakeholders who could resource the national rabies control strategy;\nDetermine as to how the national advocacy plan can be used to leverage the identified stakeholders to financially resource the national rabies control strategy;\nShare small-scale successes throughout the country with potential stakeholders;\nObtain financial and logistical support from the relevant stakeholders that have been identified;"},{"$f":"IFERROR(VLOOKUP($A22,masterlist!$C$2:$AA$200,21,FALSE),\"\")","v":"Stakeholders and funders are identified and have pledged their financial support towards the national rabies control strategy, through the use of the national advocacy plan; "},{"$f":"IFERROR(VLOOKUP($A22,masterlist!$C$2:$AA$200,22,FALSE),\"\")","v":"Ministry of Communication; Ministry of Health; Ministry of Agriculture"},{"$f":"IFERROR(IF($B$7=2,(VLOOKUP($A22,masterlist!$C$2:$AA$200,23,FALSE)-11),IF($B$7=4,(VLOOKUP($A22,masterlist!$C$2:$AA$200,23,FALSE)-9),IF($B$7=7,(VLOOKUP($A22,masterlist!$C$2:$AA$200,23,FALSE)-6),IF($B$7=10,(VLOOKUP($A22,masterlist!$C$2:$AA$200,23,FALSE)-3),(VLOOKUP($A22,masterlist!$C$2:$AA$200,23,FALSE)))))),\"\")","v":3},{"$f":"IFERROR(VLOOKUP($A22,masterlist!$C$2:$AA$200,24,FALSE),\"\")","v":"Number of stakeholders approached;\nNumber of stakeholders pledging support;\nFinancial amount pledged towards the national rabies control strategy;"}]
[{"$f":"IF(ROWS($A$13:A23)<=(SUMPRODUCT((masterlist!B:B=\"IEC\")*(masterlist!J:J=0))),INDEX(masterlist!$C$2:$C$200,SMALL(IF(masterlist!$B$2:$B$200=\"IEC\",IF(masterlist!$F$2:$F$200>0,IF(masterlist!$J$2:$J$200=0,ROW(masterlist!$B$2:$B$200)-ROW(masterlist!$B$2)+1))),ROWS($A$13:A23))),\"\")","v":"IEC-Adv-3-17"},{"$f":"IFERROR(VLOOKUP($A23,masterlist!$C$2:$AA$200,3,FALSE),\"\")","v":3},{"$f":"IFERROR(VLOOKUP($A23,masterlist!$C$2:$AA$200,2,FALSE),\"\")","v":"Advocacy"},{"$f":"IFERROR(VLOOKUP($A23,masterlist!$C$2:$AA$200,5,FALSE),\"\")","v":"Have dog-transmitted human rabies free zones been declared publicly?"},{"$f":"IFERROR(IF((VLOOKUP($A23,masterlist!$C$2:$AA$200,9,FALSE))=0,\"\",VLOOKUP($A23,masterlist!$C$2:$AA$200,9,FALSE)),\"\")","v":""},{"$f":"IFERROR(VLOOKUP($A23,masterlist!$C$2:$AA$200,20,FALSE),\"\")","v":"Identify rabies-free zones;\nInform the entire country of successes and freedom from dog-transmitted human rabies in the identified zones using the national advocacy plan;"},{"$f":"IFERROR(VLOOKUP($A23,masterlist!$C$2:$AA$200,21,FALSE),\"\")","v":"Public broadcasts declaring identified areas free from dog-transmitted human rabies;"},{"$f":"IFERROR(VLOOKUP($A23,masterlist!$C$2:$AA$200,22,FALSE),\"\")","v":"Ministry of Communication; Ministry of Health; Ministry of Agriculture; All other stakeholders involved in development of National Rabies control strategy"},{"$f":"IFERROR(IF($B$7=2,(VLOOKUP($A23,masterlist!$C$2:$AA$200,23,FALSE)-11),IF($B$7=4,(VLOOKUP($A23,masterlist!$C$2:$AA$200,23,FALSE)-9),IF($B$7=7,(VLOOKUP($A23,masterlist!$C$2:$AA$200,23,FALSE)-6),IF($B$7=10,(VLOOKUP($A23,masterlist!$C$2:$AA$200,23,FALSE)-3),(VLOOKUP($A23,masterlist!$C$2:$AA$200,23,FALSE)))))),\"\")","v":6},{"$f":"IFERROR(VLOOKUP($A23,masterlist!$C$2:$AA$200,24,FALSE),\"\")","v":"Number of broadcasts per dog-transmitted human rabies-free areas;\nEstimated number of people reached;\n"}]
[{"$f":"IF(ROWS($A$13:A24)<=(SUMPRODUCT((masterlist!B:B=\"IEC\")*(masterlist!J:J=0))),INDEX(masterlist!$C$2:$C$200,SMALL(IF(masterlist!$B$2:$B$200=\"IEC\",IF(masterlist!$F$2:$F$200>0,IF(masterlist!$J$2:$J$200=0,ROW(masterlist!$B$2:$B$200)-ROW(masterlist!$B$2)+1))),ROWS($A$13:A24))),\"\")","v":"IEC-Adv-4-18"},{"$f":"IFERROR(VLOOKUP($A24,masterlist!$C$2:$AA$200,3,FALSE),\"\")","v":4},{"$f":"IFERROR(VLOOKUP($A24,masterlist!$C$2:$AA$200,2,FALSE),\"\")","v":"Advocacy"},{"$f":"IFERROR(VLOOKUP($A24,masterlist!$C$2:$AA$200,5,FALSE),\"\")","v":"Have you declared publically that your entire country is free from dog-transmitted human rabies?"},{"$f":"IFERROR(IF((VLOOKUP($A24,masterlist!$C$2:$AA$200,9,FALSE))=0,\"\",VLOOKUP($A24,masterlist!$C$2:$AA$200,9,FALSE)),\"\")","v":""},{"$f":"IFERROR(VLOOKUP($A24,masterlist!$C$2:$AA$200,20,FALSE),\"\")","v":"Assess data to determine whether country has been free from dog-transmitted human rabies for 2 years;\nEnsure surveillance is adequate to confirm data;\nRefer to national advocacy plan to determine most effective means to proclaim freedom from human rabies;\nAllocate resources and identify most appropriate personnel to do declaration;\nDeclare country free from dog-transmitted human rabies at a national level; "},{"$f":"IFERROR(VLOOKUP($A24,masterlist!$C$2:$AA$200,21,FALSE),\"\")","v":"A public declaration informing the entire country that the country is free from dog-transmitted human rabies, backed by adequate surveillance"},{"$f":"IFERROR(VLOOKUP($A24,masterlist!$C$2:$AA$200,22,FALSE),\"\")","v":"Ministry of Communication; Ministry of Health; Ministry of Agriculture; All other stakeholders involved in development of National Rabies control strategy"},{"$f":"IFERROR(IF($B$7=2,(VLOOKUP($A24,masterlist!$C$2:$AA$200,23,FALSE)-11),IF($B$7=4,(VLOOKUP($A24,masterlist!$C$2:$AA$200,23,FALSE)-9),IF($B$7=7,(VLOOKUP($A24,masterlist!$C$2:$AA$200,23,FALSE)-6),IF($B$7=10,(VLOOKUP($A24,masterlist!$C$2:$AA$200,23,FALSE)-3),(VLOOKUP($A24,masterlist!$C$2:$AA$200,23,FALSE)))))),\"\")","v":8},{"$f":"IFERROR(VLOOKUP($A24,masterlist!$C$2:$AA$200,24,FALSE),\"\")","v":"Number of broadcasts declaring freedom from dog-transmitted human rabies;\nEstimated number of people reached;\nInternational recognition of dog-transmitted human rabies-free status;\n"}]
[{"$f":"IF(ROWS($A$13:A25)<=(SUMPRODUCT((masterlist!B:B=\"IEC\")*(masterlist!J:J=0))),INDEX(masterlist!$C$2:$C$200,SMALL(IF(masterlist!$B$2:$B$200=\"IEC\",IF(masterlist!$F$2:$F$200>0,IF(masterlist!$J$2:$J$200=0,ROW(masterlist!$B$2:$B$200)-ROW(masterlist!$B$2)+1))),ROWS($A$13:A25))),\"\")","v":"IEC-Adv-5-19"},{"$f":"IFERROR(VLOOKUP($A25,masterlist!$C$2:$AA$200,3,FALSE),\"\")","v":5},{"$f":"IFERROR(VLOOKUP($A25,masterlist!$C$2:$AA$200,2,FALSE),\"\")","v":"Advocacy"},{"$f":"IFERROR(VLOOKUP($A25,masterlist!$C$2:$AA$200,5,FALSE),\"\")","v":"Have you declared publically that your entire country is free from dog rabies? "},{"$f":"IFERROR(IF((VLOOKUP($A25,masterlist!$C$2:$AA$200,9,FALSE))=0,\"\",VLOOKUP($A25,masterlist!$C$2:$AA$200,9,FALSE)),\"\")","v":""},{"$f":"IFERROR(VLOOKUP($A25,masterlist!$C$2:$AA$200,20,FALSE),\"\")","v":"Assess data to determine whether country has been free from dog-rabies for 2 years;\nEnsure surveillance is adequate to confirm data;\nRefer to national advocacy plan to determine most effective means to proclaim freedom from dog rabies;\nAllocate resources and identify most appropriate personnel to do declaration;\nDeclare country free from dog-rabies at a national level; "},{"$f":"IFERROR(VLOOKUP($A25,masterlist!$C$2:$AA$200,21,FALSE),\"\")","v":"A public declaration informing the entire country that the country is free from dog-rabies, backed by adequate surveillance"},{"$f":"IFERROR(VLOOKUP($A25,masterlist!$C$2:$AA$200,22,FALSE),\"\")","v":"Ministry of Communication; Ministry of Health; Ministry of Agriculture; All other stakeholders involved in development of National Rabies control strategy"},{"$f":"IFERROR(IF($B$7=2,(VLOOKUP($A25,masterlist!$C$2:$AA$200,23,FALSE)-11),IF($B$7=4,(VLOOKUP($A25,masterlist!$C$2:$AA$200,23,FALSE)-9),IF($B$7=7,(VLOOKUP($A25,masterlist!$C$2:$AA$200,23,FALSE)-6),IF($B$7=10,(VLOOKUP($A25,masterlist!$C$2:$AA$200,23,FALSE)-3),(VLOOKUP($A25,masterlist!$C$2:$AA$200,23,FALSE)))))),\"\")","v":10},{"$f":"IFERROR(VLOOKUP($A25,masterlist!$C$2:$AA$200,24,FALSE),\"\")","v":"Number of broadcasts declaring freedom from dog-rabies;\nEstimated number of people reached;\nInternational recognition of dog-rabies-free status;\n"}]
[{"$f":"IF(ROWS($A$13:A26)<=(SUMPRODUCT((masterlist!B:B=\"IEC\")*(masterlist!J:J=0))),INDEX(masterlist!$C$2:$C$200,SMALL(IF(masterlist!$B$2:$B$200=\"IEC\",IF(masterlist!$F$2:$F$200>0,IF(masterlist!$J$2:$J$200=0,ROW(masterlist!$B$2:$B$200)-ROW(masterlist!$B$2)+1))),ROWS($A$13:A26))),\"\")","v":""},{"$f":"IFERROR(VLOOKUP($A26,masterlist!$C$2:$AA$200,3,FALSE),\"\")","v":""},{"$f":"IFERROR(VLOOKUP($A26,masterlist!$C$2:$AA$200,2,FALSE),\"\")","v":""},{"$f":"IFERROR(VLOOKUP($A26,masterlist!$C$2:$AA$200,5,FALSE),\"\")","v":""},{"$f":"IFERROR(IF((VLOOKUP($A26,masterlist!$C$2:$AA$200,9,FALSE))=0,\"\",VLOOKUP($A26,masterlist!$C$2:$AA$200,9,FALSE)),\"\")","v":""},{"$f":"IFERROR(VLOOKUP($A26,masterlist!$C$2:$AA$200,20,FALSE),\"\")","v":""},{"$f":"IFERROR(VLOOKUP($A26,masterlist!$C$2:$AA$200,21,FALSE),\"\")","v":""},{"$f":"IFERROR(VLOOKUP($A26,masterlist!$C$2:$AA$200,22,FALSE),\"\")","v":""},{"$f":"IFERROR(IF($B$7=2,(VLOOKUP($A26,masterlist!$C$2:$AA$200,23,FALSE)-11),IF($B$7=4,(VLOOKUP($A26,masterlist!$C$2:$AA$200,23,FALSE)-9),IF($B$7=7,(VLOOKUP($A26,masterlist!$C$2:$AA$200,23,FALSE)-6),IF($B$7=10,(VLOOKUP($A26,masterlist!$C$2:$AA$200,23,FALSE)-3),(VLOOKUP($A26,masterlist!$C$2:$AA$200,23,FALSE)))))),\"\")","v":""},{"$f":"IFERROR(VLOOKUP($A26,masterlist!$C$2:$AA$200,24,FALSE),\"\")","v":""}]
[{"$f":"IF(ROWS($A$13:A27)<=(SUMPRODUCT((masterlist!B:B=\"IEC\")*(masterlist!J:J=0))),INDEX(masterlist!$C$2:$C$200,SMALL(IF(masterlist!$B$2:$B$200=\"IEC\",IF(masterlist!$F$2:$F$200>0,IF(masterlist!$J$2:$J$200=0,ROW(masterlist!$B$2:$B$200)-ROW(masterlist!$B$2)+1))),ROWS($A$13:A27))),\"\")","v":""},{"$f":"IFERROR(VLOOKUP($A27,masterlist!$C$2:$AA$200,3,FALSE),\"\")","v":""},{"$f":"IFERROR(VLOOKUP($A27,masterlist!$C$2:$AA$200,2,FALSE),\"\")","v":""},{"$f":"IFERROR(VLOOKUP($A27,masterlist!$C$2:$AA$200,5,FALSE),\"\")","v":""},{"$f":"IFERROR(IF((VLOOKUP($A27,masterlist!$C$2:$AA$200,9,FALSE))=0,\"\",VLOOKUP($A27,masterlist!$C$2:$AA$200,9,FALSE)),\"\")","v":""},{"$f":"IFERROR(VLOOKUP($A27,masterlist!$C$2:$AA$200,20,FALSE),\"\")","v":""},{"$f":"IFERROR(VLOOKUP($A27,masterlist!$C$2:$AA$200,21,FALSE),\"\")","v":""},{"$f":"IFERROR(VLOOKUP($A27,masterlist!$C$2:$AA$200,22,FALSE),\"\")","v":""},{"$f":"IFERROR(IF($B$7=2,(VLOOKUP($A27,masterlist!$C$2:$AA$200,23,FALSE)-11),IF($B$7=4,(VLOOKUP($A27,masterlist!$C$2:$AA$200,23,FALSE)-9),IF($B$7=7,(VLOOKUP($A27,masterlist!$C$2:$AA$200,23,FALSE)-6),IF($B$7=10,(VLOOKUP($A27,masterlist!$C$2:$AA$200,23,FALSE)-3),(VLOOKUP($A27,masterlist!$C$2:$AA$200,23,FALSE)))))),\"\")","v":""},{"$f":"IFERROR(VLOOKUP($A27,masterlist!$C$2:$AA$200,24,FALSE),\"\")","v":""}]
[{"$f":"IF(ROWS($A$13:A28)<=(SUMPRODUCT((masterlist!B:B=\"IEC\")*(masterlist!J:J=0))),INDEX(masterlist!$C$2:$C$200,SMALL(IF(masterlist!$B$2:$B$200=\"IEC\",IF(masterlist!$F$2:$F$200>0,IF(masterlist!$J$2:$J$200=0,ROW(masterlist!$B$2:$B$200)-ROW(masterlist!$B$2)+1))),ROWS($A$13:A28))),\"\")","v":""},{"$f":"IFERROR(VLOOKUP($A28,masterlist!$C$2:$AA$200,3,FALSE),\"\")","v":""},{"$f":"IFERROR(VLOOKUP($A28,masterlist!$C$2:$AA$200,2,FALSE),\"\")","v":""},{"$f":"IFERROR(VLOOKUP($A28,masterlist!$C$2:$AA$200,5,FALSE),\"\")","v":""},{"$f":"IFERROR(IF((VLOOKUP($A28,masterlist!$C$2:$AA$200,9,FALSE))=0,\"\",VLOOKUP($A28,masterlist!$C$2:$AA$200,9,FALSE)),\"\")","v":""},{"$f":"IFERROR(VLOOKUP($A28,masterlist!$C$2:$AA$200,20,FALSE),\"\")","v":""},{"$f":"IFERROR(VLOOKUP($A28,masterlist!$C$2:$AA$200,21,FALSE),\"\")","v":""},{"$f":"IFERROR(VLOOKUP($A28,masterlist!$C$2:$AA$200,22,FALSE),\"\")","v":""},{"$f":"IFERROR(IF($B$7=2,(VLOOKUP($A28,masterlist!$C$2:$AA$200,23,FALSE)-11),IF($B$7=4,(VLOOKUP($A28,masterlist!$C$2:$AA$200,23,FALSE)-9),IF($B$7=7,(VLOOKUP($A28,masterlist!$C$2:$AA$200,23,FALSE)-6),IF($B$7=10,(VLOOKUP($A28,masterlist!$C$2:$AA$200,23,FALSE)-3),(VLOOKUP($A28,masterlist!$C$2:$AA$200,23,FALSE)))))),\"\")","v":""},{"$f":"IFERROR(VLOOKUP($A28,masterlist!$C$2:$AA$200,24,FALSE),\"\")","v":""}]
[{"$f":"IF(ROWS($A$13:A29)<=(SUMPRODUCT((masterlist!B:B=\"IEC\")*(masterlist!J:J=0))),INDEX(masterlist!$C$2:$C$200,SMALL(IF(masterlist!$B$2:$B$200=\"IEC\",IF(masterlist!$F$2:$F$200>0,IF(masterlist!$J$2:$J$200=0,ROW(masterlist!$B$2:$B$200)-ROW(masterlist!$B$2)+1))),ROWS($A$13:A29))),\"\")","v":""},{"$f":"IFERROR(VLOOKUP($A29,masterlist!$C$2:$AA$200,3,FALSE),\"\")","v":""},{"$f":"IFERROR(VLOOKUP($A29,masterlist!$C$2:$AA$200,2,FALSE),\"\")","v":""},{"$f":"IFERROR(VLOOKUP($A29,masterlist!$C$2:$AA$200,5,FALSE),\"\")","v":""},{"$f":"IFERROR(IF((VLOOKUP($A29,masterlist!$C$2:$AA$200,9,FALSE))=0,\"\",VLOOKUP($A29,masterlist!$C$2:$AA$200,9,FALSE)),\"\")","v":""},{"$f":"IFERROR(VLOOKUP($A29,masterlist!$C$2:$AA$200,20,FALSE),\"\")","v":""},{"$f":"IFERROR(VLOOKUP($A29,masterlist!$C$2:$AA$200,21,FALSE),\"\")","v":""},{"$f":"IFERROR(VLOOKUP($A29,masterlist!$C$2:$AA$200,22,FALSE),\"\")","v":""},{"$f":"IFERROR(IF($B$7=2,(VLOOKUP($A29,masterlist!$C$2:$AA$200,23,FALSE)-11),IF($B$7=4,(VLOOKUP($A29,masterlist!$C$2:$AA$200,23,FALSE)-9),IF($B$7=7,(VLOOKUP($A29,masterlist!$C$2:$AA$200,23,FALSE)-6),IF($B$7=10,(VLOOKUP($A29,masterlist!$C$2:$AA$200,23,FALSE)-3),(VLOOKUP($A29,masterlist!$C$2:$AA$200,23,FALSE)))))),\"\")","v":""},{"$f":"IFERROR(VLOOKUP($A29,masterlist!$C$2:$AA$200,24,FALSE),\"\")","v":""}]
[{"$f":"IF(ROWS($A$13:A30)<=(SUMPRODUCT((masterlist!B:B=\"IEC\")*(masterlist!J:J=0))),INDEX(masterlist!$C$2:$C$200,SMALL(IF(masterlist!$B$2:$B$200=\"IEC\",IF(masterlist!$F$2:$F$200>0,IF(masterlist!$J$2:$J$200=0,ROW(masterlist!$B$2:$B$200)-ROW(masterlist!$B$2)+1))),ROWS($A$13:A30))),\"\")","v":""},{"$f":"IFERROR(VLOOKUP($A30,masterlist!$C$2:$AA$200,3,FALSE),\"\")","v":""},{"$f":"IFERROR(VLOOKUP($A30,masterlist!$C$2:$AA$200,2,FALSE),\"\")","v":""},{"$f":"IFERROR(VLOOKUP($A30,masterlist!$C$2:$AA$200,5,FALSE),\"\")","v":""},{"$f":"IFERROR(IF((VLOOKUP($A30,masterlist!$C$2:$AA$200,9,FALSE))=0,\"\",VLOOKUP($A30,masterlist!$C$2:$AA$200,9,FALSE)),\"\")","v":""},{"$f":"IFERROR(VLOOKUP($A30,masterlist!$C$2:$AA$200,20,FALSE),\"\")","v":""},{"$f":"IFERROR(VLOOKUP($A30,masterlist!$C$2:$AA$200,21,FALSE),\"\")","v":""},{"$f":"IFERROR(VLOOKUP($A30,masterlist!$C$2:$AA$200,22,FALSE),\"\")","v":""},{"$f":"IFERROR(IF($B$7=2,(VLOOKUP($A30,masterlist!$C$2:$AA$200,23,FALSE)-11),IF($B$7=4,(VLOOKUP($A30,masterlist!$C$2:$AA$200,23,FALSE)-9),IF($B$7=7,(VLOOKUP($A30,masterlist!$C$2:$AA$200,23,FALSE)-6),IF($B$7=10,(VLOOKUP($A30,masterlist!$C$2:$AA$200,23,FALSE)-3),(VLOOKUP($A30,masterlist!$C$2:$AA$200,23,FALSE)))))),\"\")","v":""},{"$f":"IFERROR(VLOOKUP($A30,masterlist!$C$2:$AA$200,24,FALSE),\"\")","v":""}]
[{"$f":"IF(ROWS($A$13:A31)<=(SUMPRODUCT((masterlist!B:B=\"IEC\")*(masterlist!J:J=0))),INDEX(masterlist!$C$2:$C$200,SMALL(IF(masterlist!$B$2:$B$200=\"IEC\",IF(masterlist!$F$2:$F$200>0,IF(masterlist!$J$2:$J$200=0,ROW(masterlist!$B$2:$B$200)-ROW(masterlist!$B$2)+1))),ROWS($A$13:A31))),\"\")","v":""},{"$f":"IFERROR(VLOOKUP($A31,masterlist!$C$2:$AA$200,3,FALSE),\"\")","v":""},{"$f":"IFERROR(VLOOKUP($A31,masterlist!$C$2:$AA$200,2,FALSE),\"\")","v":""},{"$f":"IFERROR(VLOOKUP($A31,masterlist!$C$2:$AA$200,5,FALSE),\"\")","v":""},{"$f":"IFERROR(IF((VLOOKUP($A31,masterlist!$C$2:$AA$200,9,FALSE))=0,\"\",VLOOKUP($A31,masterlist!$C$2:$AA$200,9,FALSE)),\"\")","v":""},{"$f":"IFERROR(VLOOKUP($A31,masterlist!$C$2:$AA$200,20,FALSE),\"\")","v":""},{"$f":"IFERROR(VLOOKUP($A31,masterlist!$C$2:$AA$200,21,FALSE),\"\")","v":""},{"$f":"IFERROR(VLOOKUP($A31,masterlist!$C$2:$AA$200,22,FALSE),\"\")","v":""},{"$f":"IFERROR(IF($B$7=2,(VLOOKUP($A31,masterlist!$C$2:$AA$200,23,FALSE)-11),IF($B$7=4,(VLOOKUP($A31,masterlist!$C$2:$AA$200,23,FALSE)-9),IF($B$7=7,(VLOOKUP($A31,masterlist!$C$2:$AA$200,23,FALSE)-6),IF($B$7=10,(VLOOKUP($A31,masterlist!$C$2:$AA$200,23,FALSE)-3),(VLOOKUP($A31,masterlist!$C$2:$AA$200,23,FALSE)))))),\"\")","v":""},{"$f":"IFERROR(VLOOKUP($A31,masterlist!$C$2:$AA$200,24,FALSE),\"\")","v":""}]
[{"$f":"IF(ROWS($A$13:A32)<=(SUMPRODUCT((masterlist!B:B=\"IEC\")*(masterlist!J:J=0))),INDEX(masterlist!$C$2:$C$200,SMALL(IF(masterlist!$B$2:$B$200=\"IEC\",IF(masterlist!$F$2:$F$200>0,IF(masterlist!$J$2:$J$200=0,ROW(masterlist!$B$2:$B$200)-ROW(masterlist!$B$2)+1))),ROWS($A$13:A32))),\"\")","v":""},{"$f":"IFERROR(VLOOKUP($A32,masterlist!$C$2:$AA$200,3,FALSE),\"\")","v":""},{"$f":"IFERROR(VLOOKUP($A32,masterlist!$C$2:$AA$200,2,FALSE),\"\")","v":""},{"$f":"IFERROR(VLOOKUP($A32,masterlist!$C$2:$AA$200,5,FALSE),\"\")","v":""},{"$f":"IFERROR(IF((VLOOKUP($A32,masterlist!$C$2:$AA$200,9,FALSE))=0,\"\",VLOOKUP($A32,masterlist!$C$2:$AA$200,9,FALSE)),\"\")","v":""},{"$f":"IFERROR(VLOOKUP($A32,masterlist!$C$2:$AA$200,20,FALSE),\"\")","v":""},{"$f":"IFERROR(VLOOKUP($A32,masterlist!$C$2:$AA$200,21,FALSE),\"\")","v":""},{"$f":"IFERROR(VLOOKUP($A32,masterlist!$C$2:$AA$200,22,FALSE),\"\")","v":""},{"$f":"IFERROR(IF($B$7=2,(VLOOKUP($A32,masterlist!$C$2:$AA$200,23,FALSE)-11),IF($B$7=4,(VLOOKUP($A32,masterlist!$C$2:$AA$200,23,FALSE)-9),IF($B$7=7,(VLOOKUP($A32,masterlist!$C$2:$AA$200,23,FALSE)-6),IF($B$7=10,(VLOOKUP($A32,masterlist!$C$2:$AA$200,23,FALSE)-3),(VLOOKUP($A32,masterlist!$C$2:$AA$200,23,FALSE)))))),\"\")","v":""},{"$f":"IFERROR(VLOOKUP($A32,masterlist!$C$2:$AA$200,24,FALSE),\"\")","v":""}]
[{"$f":"IF(ROWS($A$13:A33)<=(SUMPRODUCT((masterlist!B:B=\"IEC\")*(masterlist!J:J=0))),INDEX(masterlist!$C$2:$C$200,SMALL(IF(masterlist!$B$2:$B$200=\"IEC\",IF(masterlist!$F$2:$F$200>0,IF(masterlist!$J$2:$J$200=0,ROW(masterlist!$B$2:$B$200)-ROW(masterlist!$B$2)+1))),ROWS($A$13:A33))),\"\")","v":""},{"$f":"IFERROR(VLOOKUP($A33,masterlist!$C$2:$AA$200,3,FALSE),\"\")","v":""},{"$f":"IFERROR(VLOOKUP($A33,masterlist!$C$2:$AA$200,2,FALSE),\"\")","v":""},{"$f":"IFERROR(VLOOKUP($A33,masterlist!$C$2:$AA$200,5,FALSE),\"\")","v":""},{"$f":"IFERROR(IF((VLOOKUP($A33,masterlist!$C$2:$AA$200,9,FALSE))=0,\"\",VLOOKUP($A33,masterlist!$C$2:$AA$200,9,FALSE)),\"\")","v":""},{"$f":"IFERROR(VLOOKUP($A33,masterlist!$C$2:$AA$200,20,FALSE),\"\")","v":""},{"$f":"IFERROR(VLOOKUP($A33,masterlist!$C$2:$AA$200,21,FALSE),\"\")","v":""},{"$f":"IFERROR(VLOOKUP($A33,masterlist!$C$2:$AA$200,22,FALSE),\"\")","v":""},{"$f":"IFERROR(IF($B$7=2,(VLOOKUP($A33,masterlist!$C$2:$AA$200,23,FALSE)-11),IF($B$7=4,(VLOOKUP($A33,masterlist!$C$2:$AA$200,23,FALSE)-9),IF($B$7=7,(VLOOKUP($A33,masterlist!$C$2:$AA$200,23,FALSE)-6),IF($B$7=10,(VLOOKUP($A33,masterlist!$C$2:$AA$200,23,FALSE)-3),(VLOOKUP($A33,masterlist!$C$2:$AA$200,23,FALSE)))))),\"\")","v":""},{"$f":"IFERROR(VLOOKUP($A33,masterlist!$C$2:$AA$200,24,FALSE),\"\")","v":""}]
[{"$f":"IF(ROWS($A$13:A34)<=(SUMPRODUCT((masterlist!B:B=\"IEC\")*(masterlist!J:J=0))),INDEX(masterlist!$C$2:$C$200,SMALL(IF(masterlist!$B$2:$B$200=\"IEC\",IF(masterlist!$F$2:$F$200>0,IF(masterlist!$J$2:$J$200=0,ROW(masterlist!$B$2:$B$200)-ROW(masterlist!$B$2)+1))),ROWS($A$13:A34))),\"\")","v":""},{"$f":"IFERROR(VLOOKUP($A34,masterlist!$C$2:$AA$200,3,FALSE),\"\")","v":""},{"$f":"IFERROR(VLOOKUP($A34,masterlist!$C$2:$AA$200,2,FALSE),\"\")","v":""},{"$f":"IFERROR(VLOOKUP($A34,masterlist!$C$2:$AA$200,5,FALSE),\"\")","v":""},{"$f":"IFERROR(IF((VLOOKUP($A34,masterlist!$C$2:$AA$200,9,FALSE))=0,\"\",VLOOKUP($A34,masterlist!$C$2:$AA$200,9,FALSE)),\"\")","v":""},{"$f":"IFERROR(VLOOKUP($A34,masterlist!$C$2:$AA$200,20,FALSE),\"\")","v":""},{"$f":"IFERROR(VLOOKUP($A34,masterlist!$C$2:$AA$200,21,FALSE),\"\")","v":""},{"$f":"IFERROR(VLOOKUP($A34,masterlist!$C$2:$AA$200,22,FALSE),\"\")","v":""},{"$f":"IFERROR(IF($B$7=2,(VLOOKUP($A34,masterlist!$C$2:$AA$200,23,FALSE)-11),IF($B$7=4,(VLOOKUP($A34,masterlist!$C$2:$AA$200,23,FALSE)-9),IF($B$7=7,(VLOOKUP($A34,masterlist!$C$2:$AA$200,23,FALSE)-6),IF($B$7=10,(VLOOKUP($A34,masterlist!$C$2:$AA$200,23,FALSE)-3),(VLOOKUP($A34,masterlist!$C$2:$AA$200,23,FALSE)))))),\"\")","v":""},{"$f":"IFERROR(VLOOKUP($A34,masterlist!$C$2:$AA$200,24,FALSE),\"\")","v":""}]
[{"$f":"IF(ROWS($A$13:A35)<=(SUMPRODUCT((masterlist!B:B=\"IEC\")*(masterlist!J:J=0))),INDEX(masterlist!$C$2:$C$200,SMALL(IF(masterlist!$B$2:$B$200=\"IEC\",IF(masterlist!$F$2:$F$200>0,IF(masterlist!$J$2:$J$200=0,ROW(masterlist!$B$2:$B$200)-ROW(masterlist!$B$2)+1))),ROWS($A$13:A35))),\"\")","v":""},{"$f":"IFERROR(VLOOKUP($A35,masterlist!$C$2:$AA$200,3,FALSE),\"\")","v":""},{"$f":"IFERROR(VLOOKUP($A35,masterlist!$C$2:$AA$200,2,FALSE),\"\")","v":""},{"$f":"IFERROR(VLOOKUP($A35,masterlist!$C$2:$AA$200,5,FALSE),\"\")","v":""},{"$f":"IFERROR(IF((VLOOKUP($A35,masterlist!$C$2:$AA$200,9,FALSE))=0,\"\",VLOOKUP($A35,masterlist!$C$2:$AA$200,9,FALSE)),\"\")","v":""},{"$f":"IFERROR(VLOOKUP($A35,masterlist!$C$2:$AA$200,20,FALSE),\"\")","v":""},{"$f":"IFERROR(VLOOKUP($A35,masterlist!$C$2:$AA$200,21,FALSE),\"\")","v":""},{"$f":"IFERROR(VLOOKUP($A35,masterlist!$C$2:$AA$200,22,FALSE),\"\")","v":""},{"$f":"IFERROR(IF($B$7=2,(VLOOKUP($A35,masterlist!$C$2:$AA$200,23,FALSE)-11),IF($B$7=4,(VLOOKUP($A35,masterlist!$C$2:$AA$200,23,FALSE)-9),IF($B$7=7,(VLOOKUP($A35,masterlist!$C$2:$AA$200,23,FALSE)-6),IF($B$7=10,(VLOOKUP($A35,masterlist!$C$2:$AA$200,23,FALSE)-3),(VLOOKUP($A35,masterlist!$C$2:$AA$200,23,FALSE)))))),\"\")","v":""},{"$f":"IFERROR(VLOOKUP($A35,masterlist!$C$2:$AA$200,24,FALSE),\"\")","v":""}]
[{"$f":"IF(ROWS($A$13:A36)<=(SUMPRODUCT((masterlist!B:B=\"IEC\")*(masterlist!J:J=0))),INDEX(masterlist!$C$2:$C$200,SMALL(IF(masterlist!$B$2:$B$200=\"IEC\",IF(masterlist!$F$2:$F$200>0,IF(masterlist!$J$2:$J$200=0,ROW(masterlist!$B$2:$B$200)-ROW(masterlist!$B$2)+1))),ROWS($A$13:A36))),\"\")","v":""},{"$f":"IFERROR(VLOOKUP($A36,masterlist!$C$2:$AA$200,3,FALSE),\"\")","v":""},{"$f":"IFERROR(VLOOKUP($A36,masterlist!$C$2:$AA$200,2,FALSE),\"\")","v":""},{"$f":"IFERROR(VLOOKUP($A36,masterlist!$C$2:$AA$200,5,FALSE),\"\")","v":""},{"$f":"IFERROR(IF((VLOOKUP($A36,masterlist!$C$2:$AA$200,9,FALSE))=0,\"\",VLOOKUP($A36,masterlist!$C$2:$AA$200,9,FALSE)),\"\")","v":""},{"$f":"IFERROR(VLOOKUP($A36,masterlist!$C$2:$AA$200,20,FALSE),\"\")","v":""},{"$f":"IFERROR(VLOOKUP($A36,masterlist!$C$2:$AA$200,21,FALSE),\"\")","v":""},{"$f":"IFERROR(VLOOKUP($A36,masterlist!$C$2:$AA$200,22,FALSE),\"\")","v":""},{"$f":"IFERROR(IF($B$7=2,(VLOOKUP($A36,masterlist!$C$2:$AA$200,23,FALSE)-11),IF($B$7=4,(VLOOKUP($A36,masterlist!$C$2:$AA$200,23,FALSE)-9),IF($B$7=7,(VLOOKUP($A36,masterlist!$C$2:$AA$200,23,FALSE)-6),IF($B$7=10,(VLOOKUP($A36,masterlist!$C$2:$AA$200,23,FALSE)-3),(VLOOKUP($A36,masterlist!$C$2:$AA$200,23,FALSE)))))),\"\")","v":""},{"$f":"IFERROR(VLOOKUP($A36,masterlist!$C$2:$AA$200,24,FALSE),\"\")","v":""}]
[{"$f":"IF(ROWS($A$13:A37)<=(SUMPRODUCT((masterlist!B:B=\"IEC\")*(masterlist!J:J=0))),INDEX(masterlist!$C$2:$C$200,SMALL(IF(masterlist!$B$2:$B$200=\"IEC\",IF(masterlist!$F$2:$F$200>0,IF(masterlist!$J$2:$J$200=0,ROW(masterlist!$B$2:$B$200)-ROW(masterlist!$B$2)+1))),ROWS($A$13:A37))),\"\")","v":""},{"$f":"IFERROR(VLOOKUP($A37,masterlist!$C$2:$AA$200,3,FALSE),\"\")","v":""},{"$f":"IFERROR(VLOOKUP($A37,masterlist!$C$2:$AA$200,2,FALSE),\"\")","v":""},{"$f":"IFERROR(VLOOKUP($A37,masterlist!$C$2:$AA$200,5,FALSE),\"\")","v":""},{"$f":"IFERROR(IF((VLOOKUP($A37,masterlist!$C$2:$AA$200,9,FALSE))=0,\"\",VLOOKUP($A37,masterlist!$C$2:$AA$200,9,FALSE)),\"\")","v":""},{"$f":"IFERROR(VLOOKUP($A37,masterlist!$C$2:$AA$200,20,FALSE),\"\")","v":""},{"$f":"IFERROR(VLOOKUP($A37,masterlist!$C$2:$AA$200,21,FALSE),\"\")","v":""},{"$f":"IFERROR(VLOOKUP($A37,masterlist!$C$2:$AA$200,22,FALSE),\"\")","v":""},{"$f":"IFERROR(IF($B$7=2,(VLOOKUP($A37,masterlist!$C$2:$AA$200,23,FALSE)-11),IF($B$7=4,(VLOOKUP($A37,masterlist!$C$2:$AA$200,23,FALSE)-9),IF($B$7=7,(VLOOKUP($A37,masterlist!$C$2:$AA$200,23,FALSE)-6),IF($B$7=10,(VLOOKUP($A37,masterlist!$C$2:$AA$200,23,FALSE)-3),(VLOOKUP($A37,masterlist!$C$2:$AA$200,23,FALSE)))))),\"\")","v":""},{"$f":"IFERROR(VLOOKUP($A37,masterlist!$C$2:$AA$200,24,FALSE),\"\")","v":""}]
[{"$f":"IF(ROWS($A$13:A38)<=(SUMPRODUCT((masterlist!B:B=\"IEC\")*(masterlist!J:J=0))),INDEX(masterlist!$C$2:$C$200,SMALL(IF(masterlist!$B$2:$B$200=\"IEC\",IF(masterlist!$F$2:$F$200>0,IF(masterlist!$J$2:$J$200=0,ROW(masterlist!$B$2:$B$200)-ROW(masterlist!$B$2)+1))),ROWS($A$13:A38))),\"\")","v":""},{"$f":"IFERROR(VLOOKUP($A38,masterlist!$C$2:$AA$200,3,FALSE),\"\")","v":""},{"$f":"IFERROR(VLOOKUP($A38,masterlist!$C$2:$AA$200,2,FALSE),\"\")","v":""},{"$f":"IFERROR(VLOOKUP($A38,masterlist!$C$2:$AA$200,5,FALSE),\"\")","v":""},{"$f":"IFERROR(IF((VLOOKUP($A38,masterlist!$C$2:$AA$200,9,FALSE))=0,\"\",VLOOKUP($A38,masterlist!$C$2:$AA$200,9,FALSE)),\"\")","v":""},{"$f":"IFERROR(VLOOKUP($A38,masterlist!$C$2:$AA$200,20,FALSE),\"\")","v":""},{"$f":"IFERROR(VLOOKUP($A38,masterlist!$C$2:$AA$200,21,FALSE),\"\")","v":""},{"$f":"IFERROR(VLOOKUP($A38,masterlist!$C$2:$AA$200,22,FALSE),\"\")","v":""},{"$f":"IFERROR(IF($B$7=2,(VLOOKUP($A38,masterlist!$C$2:$AA$200,23,FALSE)-11),IF($B$7=4,(VLOOKUP($A38,masterlist!$C$2:$AA$200,23,FALSE)-9),IF($B$7=7,(VLOOKUP($A38,masterlist!$C$2:$AA$200,23,FALSE)-6),IF($B$7=10,(VLOOKUP($A38,masterlist!$C$2:$AA$200,23,FALSE)-3),(VLOOKUP($A38,masterlist!$C$2:$AA$200,23,FALSE)))))),\"\")","v":""},{"$f":"IFERROR(VLOOKUP($A38,masterlist!$C$2:$AA$200,24,FALSE),\"\")","v":""}]
[{"$f":"IF(ROWS($A$13:A39)<=(SUMPRODUCT((masterlist!B:B=\"IEC\")*(masterlist!J:J=0))),INDEX(masterlist!$C$2:$C$200,SMALL(IF(masterlist!$B$2:$B$200=\"IEC\",IF(masterlist!$F$2:$F$200>0,IF(masterlist!$J$2:$J$200=0,ROW(masterlist!$B$2:$B$200)-ROW(masterlist!$B$2)+1))),ROWS($A$13:A39))),\"\")","v":""},{"$f":"IFERROR(VLOOKUP($A39,masterlist!$C$2:$AA$200,3,FALSE),\"\")","v":""},{"$f":"IFERROR(VLOOKUP($A39,masterlist!$C$2:$AA$200,2,FALSE),\"\")","v":""},{"$f":"IFERROR(VLOOKUP($A39,masterlist!$C$2:$AA$200,5,FALSE),\"\")","v":""},{"$f":"IFERROR(IF((VLOOKUP($A39,masterlist!$C$2:$AA$200,9,FALSE))=0,\"\",VLOOKUP($A39,masterlist!$C$2:$AA$200,9,FALSE)),\"\")","v":""},{"$f":"IFERROR(VLOOKUP($A39,masterlist!$C$2:$AA$200,20,FALSE),\"\")","v":""},{"$f":"IFERROR(VLOOKUP($A39,masterlist!$C$2:$AA$200,21,FALSE),\"\")","v":""},{"$f":"IFERROR(VLOOKUP($A39,masterlist!$C$2:$AA$200,22,FALSE),\"\")","v":""},{"$f":"IFERROR(IF($B$7=2,(VLOOKUP($A39,masterlist!$C$2:$AA$200,23,FALSE)-11),IF($B$7=4,(VLOOKUP($A39,masterlist!$C$2:$AA$200,23,FALSE)-9),IF($B$7=7,(VLOOKUP($A39,masterlist!$C$2:$AA$200,23,FALSE)-6),IF($B$7=10,(VLOOKUP($A39,masterlist!$C$2:$AA$200,23,FALSE)-3),(VLOOKUP($A39,masterlist!$C$2:$AA$200,23,FALSE)))))),\"\")","v":""},{"$f":"IFERROR(VLOOKUP($A39,masterlist!$C$2:$AA$200,24,FALSE),\"\")","v":""}]
[{"$f":"IF(ROWS($A$13:A40)<=(SUMPRODUCT((masterlist!B:B=\"IEC\")*(masterlist!J:J=0))),INDEX(masterlist!$C$2:$C$200,SMALL(IF(masterlist!$B$2:$B$200=\"IEC\",IF(masterlist!$F$2:$F$200>0,IF(masterlist!$J$2:$J$200=0,ROW(masterlist!$B$2:$B$200)-ROW(masterlist!$B$2)+1))),ROWS($A$13:A40))),\"\")","v":""},{"$f":"IFERROR(VLOOKUP($A40,masterlist!$C$2:$AA$200,3,FALSE),\"\")","v":""},{"$f":"IFERROR(VLOOKUP($A40,masterlist!$C$2:$AA$200,2,FALSE),\"\")","v":""},{"$f":"IFERROR(VLOOKUP($A40,masterlist!$C$2:$AA$200,5,FALSE),\"\")","v":""},{"$f":"IFERROR(IF((VLOOKUP($A40,masterlist!$C$2:$AA$200,9,FALSE))=0,\"\",VLOOKUP($A40,masterlist!$C$2:$AA$200,9,FALSE)),\"\")","v":""},{"$f":"IFERROR(VLOOKUP($A40,masterlist!$C$2:$AA$200,20,FALSE),\"\")","v":""},{"$f":"IFERROR(VLOOKUP($A40,masterlist!$C$2:$AA$200,21,FALSE),\"\")","v":""},{"$f":"IFERROR(VLOOKUP($A40,masterlist!$C$2:$AA$200,22,FALSE),\"\")","v":""},{"$f":"IFERROR(IF($B$7=2,(VLOOKUP($A40,masterlist!$C$2:$AA$200,23,FALSE)-11),IF($B$7=4,(VLOOKUP($A40,masterlist!$C$2:$AA$200,23,FALSE)-9),IF($B$7=7,(VLOOKUP($A40,masterlist!$C$2:$AA$200,23,FALSE)-6),IF($B$7=10,(VLOOKUP($A40,masterlist!$C$2:$AA$200,23,FALSE)-3),(VLOOKUP($A40,masterlist!$C$2:$AA$200,23,FALSE)))))),\"\")","v":""},{"$f":"IFERROR(VLOOKUP($A40,masterlist!$C$2:$AA$200,24,FALSE),\"\")","v":""}]
[{"$f":"IF(ROWS($A$13:A41)<=(SUMPRODUCT((masterlist!B:B=\"IEC\")*(masterlist!J:J=0))),INDEX(masterlist!$C$2:$C$200,SMALL(IF(masterlist!$B$2:$B$200=\"IEC\",IF(masterlist!$F$2:$F$200>0,IF(masterlist!$J$2:$J$200=0,ROW(masterlist!$B$2:$B$200)-ROW(masterlist!$B$2)+1))),ROWS($A$13:A41))),\"\")","v":""},{"$f":"IFERROR(VLOOKUP($A41,masterlist!$C$2:$AA$200,3,FALSE),\"\")","v":""},{"$f":"IFERROR(VLOOKUP($A41,masterlist!$C$2:$AA$200,2,FALSE),\"\")","v":""},{"$f":"IFERROR(VLOOKUP($A41,masterlist!$C$2:$AA$200,5,FALSE),\"\")","v":""},{"$f":"IFERROR(IF((VLOOKUP($A41,masterlist!$C$2:$AA$200,9,FALSE))=0,\"\",VLOOKUP($A41,masterlist!$C$2:$AA$200,9,FALSE)),\"\")","v":""},{"$f":"IFERROR(VLOOKUP($A41,masterlist!$C$2:$AA$200,20,FALSE),\"\")","v":""},{"$f":"IFERROR(VLOOKUP($A41,masterlist!$C$2:$AA$200,21,FALSE),\"\")","v":""},{"$f":"IFERROR(VLOOKUP($A41,masterlist!$C$2:$AA$200,22,FALSE),\"\")","v":""},{"$f":"IFERROR(IF($B$7=2,(VLOOKUP($A41,masterlist!$C$2:$AA$200,23,FALSE)-11),IF($B$7=4,(VLOOKUP($A41,masterlist!$C$2:$AA$200,23,FALSE)-9),IF($B$7=7,(VLOOKUP($A41,masterlist!$C$2:$AA$200,23,FALSE)-6),IF($B$7=10,(VLOOKUP($A41,masterlist!$C$2:$AA$200,23,FALSE)-3),(VLOOKUP($A41,masterlist!$C$2:$AA$200,23,FALSE)))))),\"\")","v":""},{"$f":"IFERROR(VLOOKUP($A41,masterlist!$C$2:$AA$200,24,FALSE),\"\")","v":""}]
[{"$f":"IF(ROWS($A$13:A42)<=(SUMPRODUCT((masterlist!B:B=\"IEC\")*(masterlist!J:J=0))),INDEX(masterlist!$C$2:$C$200,SMALL(IF(masterlist!$B$2:$B$200=\"IEC\",IF(masterlist!$F$2:$F$200>0,IF(masterlist!$J$2:$J$200=0,ROW(masterlist!$B$2:$B$200)-ROW(masterlist!$B$2)+1))),ROWS($A$13:A42))),\"\")","v":""},{"$f":"IFERROR(VLOOKUP($A42,masterlist!$C$2:$AA$200,3,FALSE),\"\")","v":""},{"$f":"IFERROR(VLOOKUP($A42,masterlist!$C$2:$AA$200,2,FALSE),\"\")","v":""},{"$f":"IFERROR(VLOOKUP($A42,masterlist!$C$2:$AA$200,5,FALSE),\"\")","v":""},{"$f":"IFERROR(IF((VLOOKUP($A42,masterlist!$C$2:$AA$200,9,FALSE))=0,\"\",VLOOKUP($A42,masterlist!$C$2:$AA$200,9,FALSE)),\"\")","v":""},{"$f":"IFERROR(VLOOKUP($A42,masterlist!$C$2:$AA$200,20,FALSE),\"\")","v":""},{"$f":"IFERROR(VLOOKUP($A42,masterlist!$C$2:$AA$200,21,FALSE),\"\")","v":""},{"$f":"IFERROR(VLOOKUP($A42,masterlist!$C$2:$AA$200,22,FALSE),\"\")","v":""},{"$f":"IFERROR(IF($B$7=2,(VLOOKUP($A42,masterlist!$C$2:$AA$200,23,FALSE)-11),IF($B$7=4,(VLOOKUP($A42,masterlist!$C$2:$AA$200,23,FALSE)-9),IF($B$7=7,(VLOOKUP($A42,masterlist!$C$2:$AA$200,23,FALSE)-6),IF($B$7=10,(VLOOKUP($A42,masterlist!$C$2:$AA$200,23,FALSE)-3),(VLOOKUP($A42,masterlist!$C$2:$AA$200,23,FALSE)))))),\"\")","v":""},{"$f":"IFERROR(VLOOKUP($A42,masterlist!$C$2:$AA$200,24,FALSE),\"\")","v":""}]
[{"$f":"IF(ROWS($A$13:A43)<=(SUMPRODUCT((masterlist!B:B=\"IEC\")*(masterlist!J:J=0))),INDEX(masterlist!$C$2:$C$200,SMALL(IF(masterlist!$B$2:$B$200=\"IEC\",IF(masterlist!$F$2:$F$200>0,IF(masterlist!$J$2:$J$200=0,ROW(masterlist!$B$2:$B$200)-ROW(masterlist!$B$2)+1))),ROWS($A$13:A43))),\"\")","v":""},{"$f":"IFERROR(VLOOKUP($A43,masterlist!$C$2:$AA$200,3,FALSE),\"\")","v":""},{"$f":"IFERROR(VLOOKUP($A43,masterlist!$C$2:$AA$200,2,FALSE),\"\")","v":""},{"$f":"IFERROR(VLOOKUP($A43,masterlist!$C$2:$AA$200,5,FALSE),\"\")","v":""},{"$f":"IFERROR(IF((VLOOKUP($A43,masterlist!$C$2:$AA$200,9,FALSE))=0,\"\",VLOOKUP($A43,masterlist!$C$2:$AA$200,9,FALSE)),\"\")","v":""},{"$f":"IFERROR(VLOOKUP($A43,masterlist!$C$2:$AA$200,20,FALSE),\"\")","v":""},{"$f":"IFERROR(VLOOKUP($A43,masterlist!$C$2:$AA$200,21,FALSE),\"\")","v":""},{"$f":"IFERROR(VLOOKUP($A43,masterlist!$C$2:$AA$200,22,FALSE),\"\")","v":""},{"$f":"IFERROR(IF($B$7=2,(VLOOKUP($A43,masterlist!$C$2:$AA$200,23,FALSE)-11),IF($B$7=4,(VLOOKUP($A43,masterlist!$C$2:$AA$200,23,FALSE)-9),IF($B$7=7,(VLOOKUP($A43,masterlist!$C$2:$AA$200,23,FALSE)-6),IF($B$7=10,(VLOOKUP($A43,masterlist!$C$2:$AA$200,23,FALSE)-3),(VLOOKUP($A43,masterlist!$C$2:$AA$200,23,FALSE)))))),\"\")","v":""},{"$f":"IFERROR(VLOOKUP($A43,masterlist!$C$2:$AA$200,24,FALSE),\"\")","v":""}]
[{"$f":"IF(ROWS($A$13:A44)<=(SUMPRODUCT((masterlist!B:B=\"IEC\")*(masterlist!J:J=0))),INDEX(masterlist!$C$2:$C$200,SMALL(IF(masterlist!$B$2:$B$200=\"IEC\",IF(masterlist!$F$2:$F$200>0,IF(masterlist!$J$2:$J$200=0,ROW(masterlist!$B$2:$B$200)-ROW(masterlist!$B$2)+1))),ROWS($A$13:A44))),\"\")","v":""},{"$f":"IFERROR(VLOOKUP($A44,masterlist!$C$2:$AA$200,3,FALSE),\"\")","v":""},{"$f":"IFERROR(VLOOKUP($A44,masterlist!$C$2:$AA$200,2,FALSE),\"\")","v":""},{"$f":"IFERROR(VLOOKUP($A44,masterlist!$C$2:$AA$200,5,FALSE),\"\")","v":""},{"$f":"IFERROR(IF((VLOOKUP($A44,masterlist!$C$2:$AA$200,9,FALSE))=0,\"\",VLOOKUP($A44,masterlist!$C$2:$AA$200,9,FALSE)),\"\")","v":""},{"$f":"IFERROR(VLOOKUP($A44,masterlist!$C$2:$AA$200,20,FALSE),\"\")","v":""},{"$f":"IFERROR(VLOOKUP($A44,masterlist!$C$2:$AA$200,21,FALSE),\"\")","v":""},{"$f":"IFERROR(VLOOKUP($A44,masterlist!$C$2:$AA$200,22,FALSE),\"\")","v":""},{"$f":"IFERROR(IF($B$7=2,(VLOOKUP($A44,masterlist!$C$2:$AA$200,23,FALSE)-11),IF($B$7=4,(VLOOKUP($A44,masterlist!$C$2:$AA$200,23,FALSE)-9),IF($B$7=7,(VLOOKUP($A44,masterlist!$C$2:$AA$200,23,FALSE)-6),IF($B$7=10,(VLOOKUP($A44,masterlist!$C$2:$AA$200,23,FALSE)-3),(VLOOKUP($A44,masterlist!$C$2:$AA$200,23,FALSE)))))),\"\")","v":""},{"$f":"IFERROR(VLOOKUP($A44,masterlist!$C$2:$AA$200,24,FALSE),\"\")","v":""}]
[{"$f":"IF(ROWS($A$13:A45)<=(SUMPRODUCT((masterlist!B:B=\"IEC\")*(masterlist!J:J=0))),INDEX(masterlist!$C$2:$C$200,SMALL(IF(masterlist!$B$2:$B$200=\"IEC\",IF(masterlist!$F$2:$F$200>0,IF(masterlist!$J$2:$J$200=0,ROW(masterlist!$B$2:$B$200)-ROW(masterlist!$B$2)+1))),ROWS($A$13:A45))),\"\")","v":""},{"$f":"IFERROR(VLOOKUP($A45,masterlist!$C$2:$AA$200,3,FALSE),\"\")","v":""},{"$f":"IFERROR(VLOOKUP($A45,masterlist!$C$2:$AA$200,2,FALSE),\"\")","v":""},{"$f":"IFERROR(VLOOKUP($A45,masterlist!$C$2:$AA$200,5,FALSE),\"\")","v":""},{"$f":"IFERROR(IF((VLOOKUP($A45,masterlist!$C$2:$AA$200,9,FALSE))=0,\"\",VLOOKUP($A45,masterlist!$C$2:$AA$200,9,FALSE)),\"\")","v":""},{"$f":"IFERROR(VLOOKUP($A45,masterlist!$C$2:$AA$200,20,FALSE),\"\")","v":""},{"$f":"IFERROR(VLOOKUP($A45,masterlist!$C$2:$AA$200,21,FALSE),\"\")","v":""},{"$f":"IFERROR(VLOOKUP($A45,masterlist!$C$2:$AA$200,22,FALSE),\"\")","v":""},{"$f":"IFERROR(IF($B$7=2,(VLOOKUP($A45,masterlist!$C$2:$AA$200,23,FALSE)-11),IF($B$7=4,(VLOOKUP($A45,masterlist!$C$2:$AA$200,23,FALSE)-9),IF($B$7=7,(VLOOKUP($A45,masterlist!$C$2:$AA$200,23,FALSE)-6),IF($B$7=10,(VLOOKUP($A45,masterlist!$C$2:$AA$200,23,FALSE)-3),(VLOOKUP($A45,masterlist!$C$2:$AA$200,23,FALSE)))))),\"\")","v":""},{"$f":"IFERROR(VLOOKUP($A45,masterlist!$C$2:$AA$200,24,FALSE),\"\")","v":""}]
[{"$f":"IF(ROWS($A$13:A46)<=(SUMPRODUCT((masterlist!B:B=\"IEC\")*(masterlist!J:J=0))),INDEX(masterlist!$C$2:$C$200,SMALL(IF(masterlist!$B$2:$B$200=\"IEC\",IF(masterlist!$F$2:$F$200>0,IF(masterlist!$J$2:$J$200=0,ROW(masterlist!$B$2:$B$200)-ROW(masterlist!$B$2)+1))),ROWS($A$13:A46))),\"\")","v":""},{"$f":"IFERROR(VLOOKUP($A46,masterlist!$C$2:$AA$200,3,FALSE),\"\")","v":""},{"$f":"IFERROR(VLOOKUP($A46,masterlist!$C$2:$AA$200,2,FALSE),\"\")","v":""},{"$f":"IFERROR(VLOOKUP($A46,masterlist!$C$2:$AA$200,5,FALSE),\"\")","v":""},{"$f":"IFERROR(IF((VLOOKUP($A46,masterlist!$C$2:$AA$200,9,FALSE))=0,\"\",VLOOKUP($A46,masterlist!$C$2:$AA$200,9,FALSE)),\"\")","v":""},{"$f":"IFERROR(VLOOKUP($A46,masterlist!$C$2:$AA$200,20,FALSE),\"\")","v":""},{"$f":"IFERROR(VLOOKUP($A46,masterlist!$C$2:$AA$200,21,FALSE),\"\")","v":""},{"$f":"IFERROR(VLOOKUP($A46,masterlist!$C$2:$AA$200,22,FALSE),\"\")","v":""},{"$f":"IFERROR(IF($B$7=2,(VLOOKUP($A46,masterlist!$C$2:$AA$200,23,FALSE)-11),IF($B$7=4,(VLOOKUP($A46,masterlist!$C$2:$AA$200,23,FALSE)-9),IF($B$7=7,(VLOOKUP($A46,masterlist!$C$2:$AA$200,23,FALSE)-6),IF($B$7=10,(VLOOKUP($A46,masterlist!$C$2:$AA$200,23,FALSE)-3),(VLOOKUP($A46,masterlist!$C$2:$AA$200,23,FALSE)))))),\"\")","v":""},{"$f":"IFERROR(VLOOKUP($A46,masterlist!$C$2:$AA$200,24,FALSE),\"\")","v":""}]
[{"$f":"IF(ROWS($A$13:A47)<=(SUMPRODUCT((masterlist!B:B=\"IEC\")*(masterlist!J:J=0))),INDEX(masterlist!$C$2:$C$200,SMALL(IF(masterlist!$B$2:$B$200=\"IEC\",IF(masterlist!$F$2:$F$200>0,IF(masterlist!$J$2:$J$200=0,ROW(masterlist!$B$2:$B$200)-ROW(masterlist!$B$2)+1))),ROWS($A$13:A47))),\"\")","v":""},{"$f":"IFERROR(VLOOKUP($A47,masterlist!$C$2:$AA$200,3,FALSE),\"\")","v":""},{"$f":"IFERROR(VLOOKUP($A47,masterlist!$C$2:$AA$200,2,FALSE),\"\")","v":""},{"$f":"IFERROR(VLOOKUP($A47,masterlist!$C$2:$AA$200,5,FALSE),\"\")","v":""},{"$f":"IFERROR(IF((VLOOKUP($A47,masterlist!$C$2:$AA$200,9,FALSE))=0,\"\",VLOOKUP($A47,masterlist!$C$2:$AA$200,9,FALSE)),\"\")","v":""},{"$f":"IFERROR(VLOOKUP($A47,masterlist!$C$2:$AA$200,20,FALSE),\"\")","v":""},{"$f":"IFERROR(VLOOKUP($A47,masterlist!$C$2:$AA$200,21,FALSE),\"\")","v":""},{"$f":"IFERROR(VLOOKUP($A47,masterlist!$C$2:$AA$200,22,FALSE),\"\")","v":""},{"$f":"IFERROR(IF($B$7=2,(VLOOKUP($A47,masterlist!$C$2:$AA$200,23,FALSE)-11),IF($B$7=4,(VLOOKUP($A47,masterlist!$C$2:$AA$200,23,FALSE)-9),IF($B$7=7,(VLOOKUP($A47,masterlist!$C$2:$AA$200,23,FALSE)-6),IF($B$7=10,(VLOOKUP($A47,masterlist!$C$2:$AA$200,23,FALSE)-3),(VLOOKUP($A47,masterlist!$C$2:$AA$200,23,FALSE)))))),\"\")","v":""},{"$f":"IFERROR(VLOOKUP($A47,masterlist!$C$2:$AA$200,24,FALSE),\"\")","v":""}]
[{"$f":"IF(ROWS($A$13:A48)<=(SUMPRODUCT((masterlist!B:B=\"IEC\")*(masterlist!J:J=0))),INDEX(masterlist!$C$2:$C$200,SMALL(IF(masterlist!$B$2:$B$200=\"IEC\",IF(masterlist!$F$2:$F$200>0,IF(masterlist!$J$2:$J$200=0,ROW(masterlist!$B$2:$B$200)-ROW(masterlist!$B$2)+1))),ROWS($A$13:A48))),\"\")","v":""},{"$f":"IFERROR(VLOOKUP($A48,masterlist!$C$2:$AA$200,3,FALSE),\"\")","v":""},{"$f":"IFERROR(VLOOKUP($A48,masterlist!$C$2:$AA$200,2,FALSE),\"\")","v":""},{"$f":"IFERROR(VLOOKUP($A48,masterlist!$C$2:$AA$200,5,FALSE),\"\")","v":""},{"$f":"IFERROR(IF((VLOOKUP($A48,masterlist!$C$2:$AA$200,9,FALSE))=0,\"\",VLOOKUP($A48,masterlist!$C$2:$AA$200,9,FALSE)),\"\")","v":""},{"$f":"IFERROR(VLOOKUP($A48,masterlist!$C$2:$AA$200,20,FALSE),\"\")","v":""},{"$f":"IFERROR(VLOOKUP($A48,masterlist!$C$2:$AA$200,21,FALSE),\"\")","v":""},{"$f":"IFERROR(VLOOKUP($A48,masterlist!$C$2:$AA$200,22,FALSE),\"\")","v":""},{"$f":"IFERROR(IF($B$7=2,(VLOOKUP($A48,masterlist!$C$2:$AA$200,23,FALSE)-11),IF($B$7=4,(VLOOKUP($A48,masterlist!$C$2:$AA$200,23,FALSE)-9),IF($B$7=7,(VLOOKUP($A48,masterlist!$C$2:$AA$200,23,FALSE)-6),IF($B$7=10,(VLOOKUP($A48,masterlist!$C$2:$AA$200,23,FALSE)-3),(VLOOKUP($A48,masterlist!$C$2:$AA$200,23,FALSE)))))),\"\")","v":""},{"$f":"IFERROR(VLOOKUP($A48,masterlist!$C$2:$AA$200,24,FALSE),\"\")","v":""}]
[{"$f":"IF(ROWS($A$13:A49)<=(SUMPRODUCT((masterlist!B:B=\"IEC\")*(masterlist!J:J=0))),INDEX(masterlist!$C$2:$C$200,SMALL(IF(masterlist!$B$2:$B$200=\"IEC\",IF(masterlist!$F$2:$F$200>0,IF(masterlist!$J$2:$J$200=0,ROW(masterlist!$B$2:$B$200)-ROW(masterlist!$B$2)+1))),ROWS($A$13:A49))),\"\")","v":""},{"$f":"IFERROR(VLOOKUP($A49,masterlist!$C$2:$AA$200,3,FALSE),\"\")","v":""},{"$f":"IFERROR(VLOOKUP($A49,masterlist!$C$2:$AA$200,2,FALSE),\"\")","v":""},{"$f":"IFERROR(VLOOKUP($A49,masterlist!$C$2:$AA$200,5,FALSE),\"\")","v":""},{"$f":"IFERROR(IF((VLOOKUP($A49,masterlist!$C$2:$AA$200,9,FALSE))=0,\"\",VLOOKUP($A49,masterlist!$C$2:$AA$200,9,FALSE)),\"\")","v":""},{"$f":"IFERROR(VLOOKUP($A49,masterlist!$C$2:$AA$200,20,FALSE),\"\")","v":""},{"$f":"IFERROR(VLOOKUP($A49,masterlist!$C$2:$AA$200,21,FALSE),\"\")","v":""},{"$f":"IFERROR(VLOOKUP($A49,masterlist!$C$2:$AA$200,22,FALSE),\"\")","v":""},{"$f":"IFERROR(IF($B$7=2,(VLOOKUP($A49,masterlist!$C$2:$AA$200,23,FALSE)-11),IF($B$7=4,(VLOOKUP($A49,masterlist!$C$2:$AA$200,23,FALSE)-9),IF($B$7=7,(VLOOKUP($A49,masterlist!$C$2:$AA$200,23,FALSE)-6),IF($B$7=10,(VLOOKUP($A49,masterlist!$C$2:$AA$200,23,FALSE)-3),(VLOOKUP($A49,masterlist!$C$2:$AA$200,23,FALSE)))))),\"\")","v":""},{"$f":"IFERROR(VLOOKUP($A49,masterlist!$C$2:$AA$200,24,FALSE),\"\")","v":""}]
[{"$f":"IF(ROWS($A$13:A50)<=(SUMPRODUCT((masterlist!B:B=\"IEC\")*(masterlist!J:J=0))),INDEX(masterlist!$C$2:$C$200,SMALL(IF(masterlist!$B$2:$B$200=\"IEC\",IF(masterlist!$F$2:$F$200>0,IF(masterlist!$J$2:$J$200=0,ROW(masterlist!$B$2:$B$200)-ROW(masterlist!$B$2)+1))),ROWS($A$13:A50))),\"\")","v":""}]

{"sheet":"IECnw","index":35,"n_rows":2,"n_cols":8,"rows_kept":2,"cut":false,"hidden":true,"merged":[[0,1,0,6],[0,7,0,9],[1,3,1,9]]}
[null,"Information, Education, and Communication",null,null,null,null,null,"Practical Workplan towards Achieving Rabies Elimination"]
[null,null,null,"Public education and awareness regarding rabies and its prevention is one of the key components of successful disease intervention campaigns. The public needs an understanding of rabies, the dangers of the disease and the challenges faced with controlling the disease. Without public knowledge and participation, mass vaccination campaigns will be unsuccessful, and the rabies control program will likely fail. Thus, successful community awareness campaigns should ideally rely on a structured Information, Education and Communication (IEC) plan that has agreed objectives, audiences, messages, channels and timelines to increase awareness of, and participation in, rabies prevention and control. "]

{"sheet":"IECgantt","index":36,"n_rows":50,"n_cols":17,"rows_kept":50,"cut":false,"hidden":true,"merged":[[0,1,0,16],[1,1,1,6],[2,1,2,16]]}
[null,"Practical Workplan towards Achieving Rabies Elimination"]
[]
[null,"Information, Education, and Communication - GANTT CHART"]
[]
[null,null,null,null,1,2,3,4,5,6,7,8,9,10,11,12,13]
[null,"Theme","Stage","Activity",{"$f":"'NW country'!$E$35","v":2018},{"$f":"IF('NW country'!$K$4<6,E6+1,\"\")","v":2019},{"$f":"IF('NW country'!$K$4<5,E6+2,\"\")","v":2020},{"$f":"IF('NW country'!$K$4<5,E6+3,\"\")","v":2021},{"$f":"IF('NW country'!$K$4<4,E6+4,\"\")","v":2022},{"$f":"IF('NW country'!$K$4<4,E6+5,\"\")","v":2023},{"$f":"IF('NW country'!$K$4<4,E6+6,\"\")","v":2024},{"$f":"IF('NW country'!$K$4<3,E6+7,\"\")","v":2025},{"$f":"IF('NW country'!$K$4<3,E6+8,\"\")","v":2026},{"$f":"IF('NW country'!$K$4<3,E6+9,\"\")","v":2027},{"$f":"IF('NW country'!$K$4<2,E6+10,\"\")","v":""},{"$f":"IF('NW country'!$K$4<2,E6+11,\"\")","v":""},{"$f":"IF('NW country'!$K$4<2,E6+12,\"\")","v":""}]
[13,{"$f":"IF((INDIRECT(\"IECnw!\"&\"$a\"&$A7))=0,\"\",INDIRECT(\"IECnw!\"&\"$c\"&$A7))","v":""},{"$f":"IF(INDIRECT(\"IECnw!\"&\"$a\"&$A7)=0,\"\",INDIRECT(\"IECnw!\"&\"$b\"&$A7))","v":""},{"$f":"IF(INDIRECT(\"IECnw!\"&\"$a\"&$A7)=0,\"\",INDIRECT(\"IECnw!\"&\"$d\"&$A7))","v":""},{"$f":"IF($C7>6,\"\",IF(E$5<=INDIRECT(\"IECnw!\"&\"$i\"&$A7),\"X\",\"\"))","v":""},{"$f":"IF($C7>6,\"\",IF(F$5<=INDIRECT(\"IECnw!\"&\"$i\"&$A7),\"X\",\"\"))","v":""},"","","","","","","","","","",""]
[14,{"$f":"IF((INDIRECT(\"IECnw!\"&\"$a\"&$A8))=0,\"\",INDIRECT(\"IECnw!\"&\"$c\"&$A8))","v":""},{"$f":"IF(INDIRECT(\"IECnw!\"&\"$a\"&$A8)=0,\"\",INDIRECT(\"IECnw!\"&\"$b\"&$A8))","v":""},{"$f":"IF(INDIRECT(\"IECnw!\"&\"$a\"&$A8)=0,\"\",INDIRECT(\"IECnw!\"&\"$d\"&$A8))","v":""},{"$f":"IF($C8>6,\"\",IF(E$5<=INDIRECT(\"IECnw!\"&\"$i\"&$A8),\"X\",\"\"))","v":""},"","","","","","","","","","","",""]
[15,"","","","","","","","","","","","","","","",""]
[16,"","","","","","","","","","","","","","","",""]
[17,"","","","","","","","","","","","","","","",""]
[18,"","","","","","","","","","","","","","","",""]
[19,"","","","","","","","","","","","","","","",""]
[20,"","","","","","","","","","","","","","","",""]
[21,"","","","","","","","","","","","","","","",""]
[22,"","","","","","","","","","","","","","","",""]
[23,"","","","","","","","","","","","","","","",""]
[24,"","","","","","","","","","","","","","","",""]
[25,"","","","","","","","","","","","","","","",""]
[26,"","","","","","","","","","","","","","","",""]
[27,"","","","","","","","","","","","","","","",""]
[28,"","","","","","","","","","","","","","","",""]
[29,"","","","","","","","","","","","","","","",""]
[30,"","","","","","","","","","","","","","","",""]
[31,"","","","","","","","","","","","","","","",""]
[32,"","","","","","","","","","","","","","","",""]
[33,"","","","","","","","","","","","","","","",""]
[34,"","","","","","","","","","","","","","","",""]
[35,"","","","","","","","","","","","","","","",""]
[36,"","","","","","","","","","","","","","","",""]
[37,"","","","","","","","","","","","","","","",""]
[38,"","","","","","","","","","","","","","","",""]
[39,"","","","","","","","","","","","","","","",""]
[40,"","","","","","","","","","","","","","","",""]
[41,"","","","","","","","","","","","","","","",""]
[42,"","","","","","","","","","","","","","","",""]
[43,"","","","","","","","","","","","","","","",""]
[44,"","","","","","","","","","","","","","","",""]
[45,"","","","","","","","","","","","","","","",""]
[46,"","","","","","","","","","","","","","","",""]
[47,"","","","","","","","","",{"$f":"IF($C41>6,\"\",IF(K$5<=INDIRECT(\"IECnw!\"&\"$i\"&$A41),\"X\",\"\"))","v":""},"","","","","",""]
[48,"","","",{"$f":"IF($C42>6,\"\",IF(E$5<=INDIRECT(\"IECnw!\"&\"$i\"&$A42),\"X\",\"\"))","v":""},"","","","","","","","","","","",""]
[49,"","","","","","","","","","","","","","","",""]
[50,"","","","","","","","","","","","","","","",""]
[51,"","","","","","","","","","","","","","","",""]
[52,"","","","","","","","","","","","","","","",""]
[53,"","","","","","","","","","","","","","","",""]
[54,"","","","","","","","","","","","","","","",""]
[55,"","","","","","","","","","","","","","","",""]
[56,{"$f":"IF((INDIRECT(\"DCA!\"&\"$a\"&$A50))=0,\"\",INDIRECT(\"DCA!\"&\"$c\"&$A50))","v":""},{"$f":"IF(INDIRECT(\"DCA!\"&\"$a\"&$A50)=0,\"\",INDIRECT(\"DCA!\"&\"$b\"&$A50))","v":""},{"$f":"IF(INDIRECT(\"DCA!\"&\"$a\"&$A50)=0,\"\",INDIRECT(\"DCA!\"&\"$d\"&$A50))","v":""},{"$f":"IF($C50>6,\"\",IF(E$5<=INDIRECT(\"DCA!\"&\"$i\"&$A50),\"X\",\"\"))","v":""},"","","","","","","","","","","",""]

{"sheet":"rawcci","index":37,"n_rows":50,"n_cols":10,"rows_kept":50,"cut":false,"hidden":true,"merged":[[0,1,0,3],[0,4,0,9],[1,1,1,9],[4,1,5,3],[6,1,8,3]]}
[null,"Practical Workplan towards Achieving Rabies Elimination",null,null,"Prevention and Control"]
[null,"Blurb blurb blurb blah blurb blurb"]
[]
[]
[null,"Years to rabies elimination",null,null,null,"All stage 0 and 1 activities should ideally be completed within a 3-year period",null,null,null,{"$f":"IF('NW country'!$K$4<2,\"Years 1, 2 and 3\",\"--\")","v":"--"}]
[null,null,null,null,null,"All stage 2 activities should ideally be completed within a 3-year period",null,null,null,{"$f":"IF('NW country'!$K$4<2,\"Years 4, 5 and 6\",IF('NW country'!$K$4<3,\"Years 1, 2 and 3\",\"--\"))","v":"Years 1, 2 and 3"}]
[null,{"$f":"IF('NW country'!$K$4<2,13,IF('NW country'!$K$4<3,10,IF('NW country'!$K$4<4,7,IF('NW country'!$K$4<5,4,2))))","v":10},null,null,null,"All stage 3 activities should ideally be completed within a 3-year period",null,null,null,{"$f":"IF('NW country'!$K$4<2,\"Years 7, 8 and 9\",IF('NW country'!$K$4<3,\"Years 4, 5 and 6\",IF('NW country'!$K$4<4,\"Years 1, 2 and 3\",\"--\")))","v":"Years 4, 5 and 6"}]
[null,null,null,null,null,"All stage 4 activities should ideally be completed within a 2-year period",null,null,null,{"$f":"IF('NW country'!$K$4<2,\"Years 10 and 11\",IF('NW country'!$K$4<3,\"Years 7 and 8\",IF('NW country'!$K$4<4,\"Years 4 and 5\",IF('NW country'!$K$4<5,\"Years 1 and 2\",\"--\"))))","v":"Years 7 and 8"}]
[null,null,null,null,null,"All stage 5 activities should ideally be completed within a 2-year period",null,null,null,{"$f":"IF('NW country'!$K$4<2,\"Years 12 and 13\",IF('NW country'!$K$4<3,\"Years 9 and 10\",IF('NW country'!$K$4<4,\"Years 6 and 7\",IF('NW country'!$K$4<5,\"Years 3 and 4\",\"Years 1 and 2\"))))","v":"Years 9 and 10"}]
[]
[null,"INSTRUCTIONS:   Please edit the Objectives, Responsible authority, and Year of completion as applicable to your country"]
["ID","Stage","Theme","Pending activity","Comments from SARE tool","Objectives","Outcomes","Responsible authority","Number of years to completion  (see above)","Deliverables"]
[{"$f":"IF(ROWS($A$13:A13)<=(SUMPRODUCT((masterlist!B:B=\"CCI\")*(masterlist!J:J=0))),INDEX(masterlist!$C$2:$C$200,SMALL(IF(masterlist!$B$2:$B$200=\"CCI\",IF(masterlist!$F$2:$F$200>0,IF(masterlist!$J$2:$J$200=0,ROW(masterlist!$B$2:$B$200)-ROW(masterlist!$B$2)+1))),ROWS($A$13:A13))),\"\")","v":"CCI-Int-1-4"},{"$f":"IFERROR(VLOOKUP($A13,masterlist!$C$2:$AA$200,3,FALSE),\"\")","v":1},{"$f":"IFERROR(VLOOKUP($A13,masterlist!$C$2:$AA$200,2,FALSE),\"\")","v":"Intersectoral collaboration"},{"$f":"IFERROR(VLOOKUP($A13,masterlist!$C$2:$AA$200,5,FALSE),\"\")","v":"Has an intersectoral rabies task force, committee or working group, including all relevant stakeholders*, been established at a local or national level and do they meet/communicate regularly?"},{"$f":"IFERROR(IF((VLOOKUP($A13,masterlist!$C$2:$AA$200,9,FALSE))=0,\"\",VLOOKUP($A13,masterlist!$C$2:$AA$200,9,FALSE)),\"\")","v":""},{"$f":"IFERROR(VLOOKUP($A13,masterlist!$C$2:$AA$200,20,FALSE),\"\")","v":"Contact relevant professionals within relevant sectors;\nCreate an intersectoral task force in collaboration including the relevant stakeholders;\nDraft terms of reference (TORs) for the task force;\nFinalise the TORs and ensure that they are recognised by all taskforce members;\nInvestigate mechanisms whereby continued communication can be ensured;"},{"$f":"IFERROR(VLOOKUP($A13,masterlist!$C$2:$AA$200,21,FALSE),\"\")","v":"A multi-sectoral rabies task force has been developed"},{"$f":"IFERROR(VLOOKUP($A13,masterlist!$C$2:$AA$200,22,FALSE),\"\")","v":"Ministry of Health; \nMinistry of Finance; \nMinstry of Agriculture; \nMinistry of Education; \nResearch/Training institutions (e.g. Universities); \nLocal authorities (civil administration, police, environmental affairs); \nLocal council; \nNGOs; \nRepresentation from international bodies (e.g. OIE, FAO, WHO, GARC)"},{"$f":"IFERROR(IF($B$7=2,(VLOOKUP($A13,masterlist!$C$2:$AA$200,23,FALSE)-11),IF($B$7=4,(VLOOKUP($A13,masterlist!$C$2:$AA$200,23,FALSE)-9),IF($B$7=7,(VLOOKUP($A13,masterlist!$C$2:$AA$200,23,FALSE)-6),IF($B$7=10,(VLOOKUP($A13,masterlist!$C$2:$AA$200,23,FALSE)-3),(VLOOKUP($A13,masterlist!$C$2:$AA$200,23,FALSE)))))),\"\")","v":-1},{"$f":"IFERROR(VLOOKUP($A13,masterlist!$C$2:$AA$200,24,FALSE),\"\")","v":"Number of stakeholders involved in taskforce;\nTORs developed;"}]
[{"$f":"IF(ROWS($A$13:A14)<=(SUMPRODUCT((masterlist!B:B=\"CCI\")*(masterlist!J:J=0))),INDEX(masterlist!$C$2:$C$200,SMALL(IF(masterlist!$B$2:$B$200=\"CCI\",IF(masterlist!$F$2:$F$200>0,IF(masterlist!$J$2:$J$200=0,ROW(masterlist!$B$2:$B$200)-ROW(masterlist!$B$2)+1))),ROWS($A$13:A14))),\"\")","v":"CCI-Int-2-5"},{"$f":"IFERROR(VLOOKUP($A14,masterlist!$C$2:$AA$200,3,FALSE),\"\")","v":2},{"$f":"IFERROR(VLOOKUP($A14,masterlist!$C$2:$AA$200,2,FALSE),\"\")","v":"Intersectoral collaboration"},{"$f":"IFERROR(VLOOKUP($A14,masterlist!$C$2:$AA$200,5,FALSE),\"\")","v":"Is the private sector included in the inter-sectoral task force's discussions and/or activities?"},{"$f":"IFERROR(IF((VLOOKUP($A14,masterlist!$C$2:$AA$200,9,FALSE))=0,\"\",VLOOKUP($A14,masterlist!$C$2:$AA$200,9,FALSE)),\"\")","v":""},{"$f":"IFERROR(VLOOKUP($A14,masterlist!$C$2:$AA$200,20,FALSE),\"\")","v":"Identify relevant members of private sector;\nContact relevant professionals within private sector;\nSecure buy-in and support from professionals in the private sector;\nEnsure the participation of the relevant stakeholders from the private sector in the inter-sectoral task force's discussions and activities;"},{"$f":"IFERROR(VLOOKUP($A14,masterlist!$C$2:$AA$200,21,FALSE),\"\")","v":"Private sector's role in the national rabies task force has been identified and participation has been ensured"},{"$f":"IFERROR(VLOOKUP($A14,masterlist!$C$2:$AA$200,22,FALSE),\"\")","v":"Multi-sectoral task force"},{"$f":"IFERROR(IF($B$7=2,(VLOOKUP($A14,masterlist!$C$2:$AA$200,23,FALSE)-11),IF($B$7=4,(VLOOKUP($A14,masterlist!$C$2:$AA$200,23,FALSE)-9),IF($B$7=7,(VLOOKUP($A14,masterlist!$C$2:$AA$200,23,FALSE)-6),IF($B$7=10,(VLOOKUP($A14,masterlist!$C$2:$AA$200,23,FALSE)-3),(VLOOKUP($A14,masterlist!$C$2:$AA$200,23,FALSE)))))),\"\")","v":1},{"$f":"IFERROR(VLOOKUP($A14,masterlist!$C$2:$AA$200,24,FALSE),\"\")","v":"Number of private sector stakeholders identified;\nNumber of private sector stakeholders included into the national inter-sectoral task force;"}]
[{"$f":"IF(ROWS($A$13:A15)<=(SUMPRODUCT((masterlist!B:B=\"CCI\")*(masterlist!J:J=0))),INDEX(masterlist!$C$2:$C$200,SMALL(IF(masterlist!$B$2:$B$200=\"CCI\",IF(masterlist!$F$2:$F$200>0,IF(masterlist!$J$2:$J$200=0,ROW(masterlist!$B$2:$B$200)-ROW(masterlist!$B$2)+1))),ROWS($A$13:A15))),\"\")","v":"CCI-Nat-1-6"},{"$f":"IFERROR(VLOOKUP($A15,masterlist!$C$2:$AA$200,3,FALSE),\"\")","v":1},{"$f":"IFERROR(VLOOKUP($A15,masterlist!$C$2:$AA$200,2,FALSE),\"\")","v":"National programme and strategy"},{"$f":"IFERROR(VLOOKUP($A15,masterlist!$C$2:$AA$200,5,FALSE),\"\")","v":"Based on a small-scale experience, has a short term rabies action plan been developed and endorsed by relevant authorities at local / national level?"},{"$f":"IFERROR(IF((VLOOKUP($A15,masterlist!$C$2:$AA$200,9,FALSE))=0,\"\",VLOOKUP($A15,masterlist!$C$2:$AA$200,9,FALSE)),\"\")","v":""},{"$f":"IFERROR(VLOOKUP($A15,masterlist!$C$2:$AA$200,20,FALSE),\"\")","v":"Compile evidence from small-scale expreriences in a report; \nDraft a proposal for a short-term action plan;\nDevelop budget and secure funding for the short-term action plan;\nShare the proposal with all stakeholders for feedback;\nIncorporate feedback and finalize proposal;\nOnce finalised, ensure that all stakeholders endorse the short-term action plan;\nSecure funding for proposal;\n"},{"$f":"IFERROR(VLOOKUP($A15,masterlist!$C$2:$AA$200,21,FALSE),\"\")","v":"A short term rabies action plan has been developed and endorsed;"},{"$f":"IFERROR(VLOOKUP($A15,masterlist!$C$2:$AA$200,22,FALSE),\"\")","v":"Multi-sectoral task force"},{"$f":"IFERROR(IF($B$7=2,(VLOOKUP($A15,masterlist!$C$2:$AA$200,23,FALSE)-11),IF($B$7=4,(VLOOKUP($A15,masterlist!$C$2:$AA$200,23,FALSE)-9),IF($B$7=7,(VLOOKUP($A15,masterlist!$C$2:$AA$200,23,FALSE)-6),IF($B$7=10,(VLOOKUP($A15,masterlist!$C$2:$AA$200,23,FALSE)-3),(VLOOKUP($A15,masterlist!$C$2:$AA$200,23,FALSE)))))),\"\")","v":0},{"$f":"IFERROR(VLOOKUP($A15,masterlist!$C$2:$AA$200,24,FALSE),\"\")","v":"A short-term action plan is avaialble;\nThe action plan has been endorsed by all stakeholders; \nAmount of funding seccured for short-term action plan;"}]
[{"$f":"IF(ROWS($A$13:A16)<=(SUMPRODUCT((masterlist!B:B=\"CCI\")*(masterlist!J:J=0))),INDEX(masterlist!$C$2:$C$200,SMALL(IF(masterlist!$B$2:$B$200=\"CCI\",IF(masterlist!$F$2:$F$200>0,IF(masterlist!$J$2:$J$200=0,ROW(masterlist!$B$2:$B$200)-ROW(masterlist!$B$2)+1))),ROWS($A$13:A16))),\"\")","v":"CCI-Nat-1-7"},{"$f":"IFERROR(VLOOKUP($A16,masterlist!$C$2:$AA$200,3,FALSE),\"\")","v":1},{"$f":"IFERROR(VLOOKUP($A16,masterlist!$C$2:$AA$200,2,FALSE),\"\")","v":"National programme and strategy"},{"$f":"IFERROR(VLOOKUP($A16,masterlist!$C$2:$AA$200,5,FALSE),\"\")","v":"Have mechanisms for mobilizing emergency funds for rabies control been identified?"},{"$f":"IFERROR(IF((VLOOKUP($A16,masterlist!$C$2:$AA$200,9,FALSE))=0,\"\",VLOOKUP($A16,masterlist!$C$2:$AA$200,9,FALSE)),\"\")","v":""},{"$f":"IFERROR(VLOOKUP($A16,masterlist!$C$2:$AA$200,20,FALSE),\"\")","v":"Identify possible sources of funding in case of emergency;\nContact professionals responsible for managing emergency funds and their allocation;\nIdentify requirements for accessing funds;\nObtain written approval ensuring access to emergency funds when required;"},{"$f":"IFERROR(VLOOKUP($A16,masterlist!$C$2:$AA$200,21,FALSE),\"\")","v":"Emergency funds have been identified and can be accessed if needed"},{"$f":"IFERROR(VLOOKUP($A16,masterlist!$C$2:$AA$200,22,FALSE),\"\")","v":"Multi-sectoral task force"},{"$f":"IFERROR(IF($B$7=2,(VLOOKUP($A16,masterlist!$C$2:$AA$200,23,FALSE)-11),IF($B$7=4,(VLOOKUP($A16,masterlist!$C$2:$AA$200,23,FALSE)-9),IF($B$7=7,(VLOOKUP($A16,masterlist!$C$2:$AA$200,23,FALSE)-6),IF($B$7=10,(VLOOKUP($A16,masterlist!$C$2:$AA$200,23,FALSE)-3),(VLOOKUP($A16,masterlist!$C$2:$AA$200,23,FALSE)))))),\"\")","v":0},{"$f":"IFERROR(VLOOKUP($A16,masterlist!$C$2:$AA$200,24,FALSE),\"\")","v":"Amount of funding ring-fenced for emergency rabies interventions;"}]
[{"$f":"IF(ROWS($A$13:A17)<=(SUMPRODUCT((masterlist!B:B=\"CCI\")*(masterlist!J:J=0))),INDEX(masterlist!$C$2:$C$200,SMALL(IF(masterlist!$B$2:$B$200=\"CCI\",IF(masterlist!$F$2:$F$200>0,IF(masterlist!$J$2:$J$200=0,ROW(masterlist!$B$2:$B$200)-ROW(masterlist!$B$2)+1))),ROWS($A$13:A17))),\"\")","v":"CCI-Nat-2-8"},{"$f":"IFERROR(VLOOKUP($A17,masterlist!$C$2:$AA$200,3,FALSE),\"\")","v":2},{"$f":"IFERROR(VLOOKUP($A17,masterlist!$C$2:$AA$200,2,FALSE),\"\")","v":"National programme and strategy"},{"$f":"IFERROR(VLOOKUP($A17,masterlist!$C$2:$AA$200,5,FALSE),\"\")","v":"Has a national strategy for rabies prevention, control and eventual elimination been drafted and finalised in collaboration with all relevant stakeholders?"},{"$f":"IFERROR(IF((VLOOKUP($A17,masterlist!$C$2:$AA$200,9,FALSE))=0,\"\",VLOOKUP($A17,masterlist!$C$2:$AA$200,9,FALSE)),\"\")","v":""},{"$f":"IFERROR(VLOOKUP($A17,masterlist!$C$2:$AA$200,20,FALSE),\"\")","v":"Analyse and compile results from implementation of the short term rabies action plan;\nDraft proposal for the national strategy using the Stepwise Approach towards Rabies Elimination assessment as a guideline;\nSend proposal to all stakeholders for feedback;\nIncorporate feedback and finalize proposal;\nEnsure that the national strategy has been endorsed by all relevant stakeholders;"},{"$f":"IFERROR(VLOOKUP($A17,masterlist!$C$2:$AA$200,21,FALSE),\"\")","v":"National rabies strategy developed in line with the Stepwise Appraoch towards Rabies Elimination (SARE) assessment;"},{"$f":"IFERROR(VLOOKUP($A17,masterlist!$C$2:$AA$200,22,FALSE),\"\")","v":"Multi-sectoral task force"},{"$f":"IFERROR(IF($B$7=2,(VLOOKUP($A17,masterlist!$C$2:$AA$200,23,FALSE)-11),IF($B$7=4,(VLOOKUP($A17,masterlist!$C$2:$AA$200,23,FALSE)-9),IF($B$7=7,(VLOOKUP($A17,masterlist!$C$2:$AA$200,23,FALSE)-6),IF($B$7=10,(VLOOKUP($A17,masterlist!$C$2:$AA$200,23,FALSE)-3),(VLOOKUP($A17,masterlist!$C$2:$AA$200,23,FALSE)))))),\"\")","v":2},{"$f":"IFERROR(VLOOKUP($A17,masterlist!$C$2:$AA$200,24,FALSE),\"\")","v":"National rabies control and elimination strategy available;\nEndorsement from all stakeholders;\n\n"}]
[{"$f":"IF(ROWS($A$13:A18)<=(SUMPRODUCT((masterlist!B:B=\"CCI\")*(masterlist!J:J=0))),INDEX(masterlist!$C$2:$C$200,SMALL(IF(masterlist!$B$2:$B$200=\"CCI\",IF(masterlist!$F$2:$F$200>0,IF(masterlist!$J$2:$J$200=0,ROW(masterlist!$B$2:$B$200)-ROW(masterlist!$B$2)+1))),ROWS($A$13:A18))),\"\")","v":"CCI-Nat-3-10"},{"$f":"IFERROR(VLOOKUP($A18,masterlist!$C$2:$AA$200,3,FALSE),\"\")","v":3},{"$f":"IFERROR(VLOOKUP($A18,masterlist!$C$2:$AA$200,2,FALSE),\"\")","v":"National programme and strategy"},{"$f":"IFERROR(VLOOKUP($A18,masterlist!$C$2:$AA$200,5,FALSE),\"\")","v":"Now that there are very few animal rabies cases in your country, has the national strategy been refined based on current data? "},{"$f":"IFERROR(IF((VLOOKUP($A18,masterlist!$C$2:$AA$200,9,FALSE))=0,\"\",VLOOKUP($A18,masterlist!$C$2:$AA$200,9,FALSE)),\"\")","v":""},{"$f":"IFERROR(VLOOKUP($A18,masterlist!$C$2:$AA$200,20,FALSE),\"\")","v":"Evaluate current surveillance data regarding the situation of rabies in the country;\nDiscuss the next steps based on current epidemiological data with the entire rabies control taskforce and all relevant stakeholders;\nRefine national rabies control strategy based on discussions and current data, including new budgetary needs;\nEnsure that all of the updates to the national rabies control strategy have been endorsed;\nPublish revisions and ensure that all professionals are aware of the updates made;\nImplement updated national rabies control strategy;"},{"$f":"IFERROR(VLOOKUP($A18,masterlist!$C$2:$AA$200,21,FALSE),\"\")","v":"The national rabies control strategy has been revised based on the most recent surveillance data, updated, costed, endorsed, disseminated to all relevant professionals, and the updates have been implemented;"},{"$f":"IFERROR(VLOOKUP($A18,masterlist!$C$2:$AA$200,22,FALSE),\"\")","v":"All relevant stakeholders in rabies control and elimination; National Rabies control strategy task force;"},{"$f":"IFERROR(IF($B$7=2,(VLOOKUP($A18,masterlist!$C$2:$AA$200,23,FALSE)-11),IF($B$7=4,(VLOOKUP($A18,masterlist!$C$2:$AA$200,23,FALSE)-9),IF($B$7=7,(VLOOKUP($A18,masterlist!$C$2:$AA$200,23,FALSE)-6),IF($B$7=10,(VLOOKUP($A18,masterlist!$C$2:$AA$200,23,FALSE)-3),(VLOOKUP($A18,masterlist!$C$2:$AA$200,23,FALSE)))))),\"\")","v":6},{"$f":"IFERROR(VLOOKUP($A18,masterlist!$C$2:$AA$200,24,FALSE),\"\")","v":"Updated national rabies control strategy;\nEndorsement of national rabies control strategy by all stakeholders;\nBudget developed;\nAmount of money secured for updated strategy;"}]
[{"$f":"IF(ROWS($A$13:A19)<=(SUMPRODUCT((masterlist!B:B=\"CCI\")*(masterlist!J:J=0))),INDEX(masterlist!$C$2:$C$200,SMALL(IF(masterlist!$B$2:$B$200=\"CCI\",IF(masterlist!$F$2:$F$200>0,IF(masterlist!$J$2:$J$200=0,ROW(masterlist!$B$2:$B$200)-ROW(masterlist!$B$2)+1))),ROWS($A$13:A19))),\"\")","v":""},{"$f":"IFERROR(VLOOKUP($A19,masterlist!$C$2:$AA$200,3,FALSE),\"\")","v":""},{"$f":"IFERROR(VLOOKUP($A19,masterlist!$C$2:$AA$200,2,FALSE),\"\")","v":""},{"$f":"IFERROR(VLOOKUP($A19,masterlist!$C$2:$AA$200,5,FALSE),\"\")","v":""},{"$f":"IFERROR(IF((VLOOKUP($A19,masterlist!$C$2:$AA$200,9,FALSE))=0,\"\",VLOOKUP($A19,masterlist!$C$2:$AA$200,9,FALSE)),\"\")","v":""},{"$f":"IFERROR(VLOOKUP($A19,masterlist!$C$2:$AA$200,20,FALSE),\"\")","v":""},{"$f":"IFERROR(VLOOKUP($A19,masterlist!$C$2:$AA$200,21,FALSE),\"\")","v":""},{"$f":"IFERROR(VLOOKUP($A19,masterlist!$C$2:$AA$200,22,FALSE),\"\")","v":""},{"$f":"IFERROR(IF($B$7=2,(VLOOKUP($A19,masterlist!$C$2:$AA$200,23,FALSE)-11),IF($B$7=4,(VLOOKUP($A19,masterlist!$C$2:$AA$200,23,FALSE)-9),IF($B$7=7,(VLOOKUP($A19,masterlist!$C$2:$AA$200,23,FALSE)-6),IF($B$7=10,(VLOOKUP($A19,masterlist!$C$2:$AA$200,23,FALSE)-3),(VLOOKUP($A19,masterlist!$C$2:$AA$200,23,FALSE)))))),\"\")","v":""},{"$f":"IFERROR(VLOOKUP($A19,masterlist!$C$2:$AA$200,24,FALSE),\"\")","v":""}]
[{"$f":"IF(ROWS($A$13:A20)<=(SUMPRODUCT((masterlist!B:B=\"CCI\")*(masterlist!J:J=0))),INDEX(masterlist!$C$2:$C$200,SMALL(IF(masterlist!$B$2:$B$200=\"CCI\",IF(masterlist!$F$2:$F$200>0,IF(masterlist!$J$2:$J$200=0,ROW(masterlist!$B$2:$B$200)-ROW(masterlist!$B$2)+1))),ROWS($A$13:A20))),\"\")","v":""},{"$f":"IFERROR(VLOOKUP($A20,masterlist!$C$2:$AA$200,3,FALSE),\"\")","v":""},{"$f":"IFERROR(VLOOKUP($A20,masterlist!$C$2:$AA$200,2,FALSE),\"\")","v":""},{"$f":"IFERROR(VLOOKUP($A20,masterlist!$C$2:$AA$200,5,FALSE),\"\")","v":""},{"$f":"IFERROR(IF((VLOOKUP($A20,masterlist!$C$2:$AA$200,9,FALSE))=0,\"\",VLOOKUP($A20,masterlist!$C$2:$AA$200,9,FALSE)),\"\")","v":""},{"$f":"IFERROR(VLOOKUP($A20,masterlist!$C$2:$AA$200,20,FALSE),\"\")","v":""},{"$f":"IFERROR(VLOOKUP($A20,masterlist!$C$2:$AA$200,21,FALSE),\"\")","v":""},{"$f":"IFERROR(VLOOKUP($A20,masterlist!$C$2:$AA$200,22,FALSE),\"\")","v":""},{"$f":"IFERROR(IF($B$7=2,(VLOOKUP($A20,masterlist!$C$2:$AA$200,23,FALSE)-11),IF($B$7=4,(VLOOKUP($A20,masterlist!$C$2:$AA$200,23,FALSE)-9),IF($B$7=7,(VLOOKUP($A20,masterlist!$C$2:$AA$200,23,FALSE)-6),IF($B$7=10,(VLOOKUP($A20,masterlist!$C$2:$AA$200,23,FALSE)-3),(VLOOKUP($A20,masterlist!$C$2:$AA$200,23,FALSE)))))),\"\")","v":""},{"$f":"IFERROR(VLOOKUP($A20,masterlist!$C$2:$AA$200,24,FALSE),\"\")","v":""}]
[{"$f":"IF(ROWS($A$13:A21)<=(SUMPRODUCT((masterlist!B:B=\"CCI\")*(masterlist!J:J=0))),INDEX(masterlist!$C$2:$C$200,SMALL(IF(masterlist!$B$2:$B$200=\"CCI\",IF(masterlist!$F$2:$F$200>0,IF(masterlist!$J$2:$J$200=0,ROW(masterlist!$B$2:$B$200)-ROW(masterlist!$B$2)+1))),ROWS($A$13:A21))),\"\")","v":""},{"$f":"IFERROR(VLOOKUP($A21,masterlist!$C$2:$AA$200,3,FALSE),\"\")","v":""},{"$f":"IFERROR(VLOOKUP($A21,masterlist!$C$2:$AA$200,2,FALSE),\"\")","v":""},{"$f":"IFERROR(VLOOKUP($A21,masterlist!$C$2:$AA$200,5,FALSE),\"\")","v":""},{"$f":"IFERROR(IF((VLOOKUP($A21,masterlist!$C$2:$AA$200,9,FALSE))=0,\"\",VLOOKUP($A21,masterlist!$C$2:$AA$200,9,FALSE)),\"\")","v":""},{"$f":"IFERROR(VLOOKUP($A21,masterlist!$C$2:$AA$200,20,FALSE),\"\")","v":""},{"$f":"IFERROR(VLOOKUP($A21,masterlist!$C$2:$AA$200,21,FALSE),\"\")","v":""},{"$f":"IFERROR(VLOOKUP($A21,masterlist!$C$2:$AA$200,22,FALSE),\"\")","v":""},{"$f":"IFERROR(IF($B$7=2,(VLOOKUP($A21,masterlist!$C$2:$AA$200,23,FALSE)-11),IF($B$7=4,(VLOOKUP($A21,masterlist!$C$2:$AA$200,23,FALSE)-9),IF($B$7=7,(VLOOKUP($A21,masterlist!$C$2:$AA$200,23,FALSE)-6),IF($B$7=10,(VLOOKUP($A21,masterlist!$C$2:$AA$200,23,FALSE)-3),(VLOOKUP($A21,masterlist!$C$2:$AA$200,23,FALSE)))))),\"\")","v":""},{"$f":"IFERROR(VLOOKUP($A21,masterlist!$C$2:$AA$200,24,FALSE),\"\")","v":""}]
[{"$f":"IF(ROWS($A$13:A22)<=(SUMPRODUCT((masterlist!B:B=\"CCI\")*(masterlist!J:J=0))),INDEX(masterlist!$C$2:$C$200,SMALL(IF(masterlist!$B$2:$B$200=\"CCI\",IF(masterlist!$F$2:$F$200>0,IF(masterlist!$J$2:$J$200=0,ROW(masterlist!$B$2:$B$200)-ROW(masterlist!$B$2)+1))),ROWS($A$13:A22))),\"\")","v":""},{"$f":"IFERROR(VLOOKUP($A22,masterlist!$C$2:$AA$200,3,FALSE),\"\")","v":""},{"$f":"IFERROR(VLOOKUP($A22,masterlist!$C$2:$AA$200,2,FALSE),\"\")","v":""},{"$f":"IFERROR(VLOOKUP($A22,masterlist!$C$2:$AA$200,5,FALSE),\"\")","v":""},{"$f":"IFERROR(IF((VLOOKUP($A22,masterlist!$C$2:$AA$200,9,FALSE))=0,\"\",VLOOKUP($A22,masterlist!$C$2:$AA$200,9,FALSE)),\"\")","v":""},{"$f":"IFERROR(VLOOKUP($A22,masterlist!$C$2:$AA$200,20,FALSE),\"\")","v":""},{"$f":"IFERROR(VLOOKUP($A22,masterlist!$C$2:$AA$200,21,FALSE),\"\")","v":""},{"$f":"IFERROR(VLOOKUP($A22,masterlist!$C$2:$AA$200,22,FALSE),\"\")","v":""},{"$f":"IFERROR(IF($B$7=2,(VLOOKUP($A22,masterlist!$C$2:$AA$200,23,FALSE)-11),IF($B$7=4,(VLOOKUP($A22,masterlist!$C$2:$AA$200,23,FALSE)-9),IF($B$7=7,(VLOOKUP($A22,masterlist!$C$2:$AA$200,23,FALSE)-6),IF($B$7=10,(VLOOKUP($A22,masterlist!$C$2:$AA$200,23,FALSE)-3),(VLOOKUP($A22,masterlist!$C$2:$AA$200,23,FALSE)))))),\"\")","v":""},{"$f":"IFERROR(VLOOKUP($A22,masterlist!$C$2:$AA$200,24,FALSE),\"\")","v":""}]
[{"$f":"IF(ROWS($A$13:A23)<=(SUMPRODUCT((masterlist!B:B=\"CCI\")*(masterlist!J:J=0))),INDEX(masterlist!$C$2:$C$200,SMALL(IF(masterlist!$B$2:$B$200=\"CCI\",IF(masterlist!$F$2:$F$200>0,IF(masterlist!$J$2:$J$200=0,ROW(masterlist!$B$2:$B$200)-ROW(masterlist!$B$2)+1))),ROWS($A$13:A23))),\"\")","v":""},{"$f":"IFERROR(VLOOKUP($A23,masterlist!$C$2:$AA$200,3,FALSE),\"\")","v":""},{"$f":"IFERROR(VLOOKUP($A23,masterlist!$C$2:$AA$200,2,FALSE),\"\")","v":""},{"$f":"IFERROR(VLOOKUP($A23,masterlist!$C$2:$AA$200,5,FALSE),\"\")","v":""},{"$f":"IFERROR(IF((VLOOKUP($A23,masterlist!$C$2:$AA$200,9,FALSE))=0,\"\",VLOOKUP($A23,masterlist!$C$2:$AA$200,9,FALSE)),\"\")","v":""},{"$f":"IFERROR(VLOOKUP($A23,masterlist!$C$2:$AA$200,20,FALSE),\"\")","v":""},{"$f":"IFERROR(VLOOKUP($A23,masterlist!$C$2:$AA$200,21,FALSE),\"\")","v":""},{"$f":"IFERROR(VLOOKUP($A23,masterlist!$C$2:$AA$200,22,FALSE),\"\")","v":""},{"$f":"IFERROR(IF($B$7=2,(VLOOKUP($A23,masterlist!$C$2:$AA$200,23,FALSE)-11),IF($B$7=4,(VLOOKUP($A23,masterlist!$C$2:$AA$200,23,FALSE)-9),IF($B$7=7,(VLOOKUP($A23,masterlist!$C$2:$AA$200,23,FALSE)-6),IF($B$7=10,(VLOOKUP($A23,masterlist!$C$2:$AA$200,23,FALSE)-3),(VLOOKUP($A23,masterlist!$C$2:$AA$200,23,FALSE)))))),\"\")","v":""},{"$f":"IFERROR(VLOOKUP($A23,masterlist!$C$2:$AA$200,24,FALSE),\"\")","v":""}]
[{"$f":"IF(ROWS($A$13:A24)<=(SUMPRODUCT((masterlist!B:B=\"CCI\")*(masterlist!J:J=0))),INDEX(masterlist!$C$2:$C$200,SMALL(IF(masterlist!$B$2:$B$200=\"CCI\",IF(masterlist!$F$2:$F$200>0,IF(masterlist!$J$2:$J$200=0,ROW(masterlist!$B$2:$B$200)-ROW(masterlist!$B$2)+1))),ROWS($A$13:A24))),\"\")","v":""},{"$f":"IFERROR(VLOOKUP($A24,masterlist!$C$2:$AA$200,3,FALSE),\"\")","v":""},{"$f":"IFERROR(VLOOKUP($A24,masterlist!$C$2:$AA$200,2,FALSE),\"\")","v":""},{"$f":"IFERROR(VLOOKUP($A24,masterlist!$C$2:$AA$200,5,FALSE),\"\")","v":""},{"$f":"IFERROR(IF((VLOOKUP($A24,masterlist!$C$2:$AA$200,9,FALSE))=0,\"\",VLOOKUP($A24,masterlist!$C$2:$AA$200,9,FALSE)),\"\")","v":""},{"$f":"IFERROR(VLOOKUP($A24,masterlist!$C$2:$AA$200,20,FALSE),\"\")","v":""},{"$f":"IFERROR(VLOOKUP($A24,masterlist!$C$2:$AA$200,21,FALSE),\"\")","v":""},{"$f":"IFERROR(VLOOKUP($A24,masterlist!$C$2:$AA$200,22,FALSE),\"\")","v":""},{"$f":"IFERROR(IF($B$7=2,(VLOOKUP($A24,masterlist!$C$2:$AA$200,23,FALSE)-11),IF($B$7=4,(VLOOKUP($A24,masterlist!$C$2:$AA$200,23,FALSE)-9),IF($B$7=7,(VLOOKUP($A24,masterlist!$C$2:$AA$200,23,FALSE)-6),IF($B$7=10,(VLOOKUP($A24,masterlist!$C$2:$AA$200,23,FALSE)-3),(VLOOKUP($A24,masterlist!$C$2:$AA$200,23,FALSE)))))),\"\")","v":""},{"$f":"IFERROR(VLOOKUP($A24,masterlist!$C$2:$AA$200,24,FALSE),\"\")","v":""}]
[{"$f":"IF(ROWS($A$13:A25)<=(SUMPRODUCT((masterlist!B:B=\"CCI\")*(masterlist!J:J=0))),INDEX(masterlist!$C$2:$C$200,SMALL(IF(masterlist!$B$2:$B$200=\"CCI\",IF(masterlist!$F$2:$F$200>0,IF(masterlist!$J$2:$J$200=0,ROW(masterlist!$B$2:$B$200)-ROW(masterlist!$B$2)+1))),ROWS($A$13:A25))),\"\")","v":""},{"$f":"IFERROR(VLOOKUP($A25,masterlist!$C$2:$AA$200,3,FALSE),\"\")","v":""},{"$f":"IFERROR(VLOOKUP($A25,masterlist!$C$2:$AA$200,2,FALSE),\"\")","v":""},{"$f":"IFERROR(VLOOKUP($A25,masterlist!$C$2:$AA$200,5,FALSE),\"\")","v":""},{"$f":"IFERROR(IF((VLOOKUP($A25,masterlist!$C$2:$AA$200,9,FALSE))=0,\"\",VLOOKUP($A25,masterlist!$C$2:$AA$200,9,FALSE)),\"\")","v":""},{"$f":"IFERROR(VLOOKUP($A25,masterlist!$C$2:$AA$200,20,FALSE),\"\")","v":""},{"$f":"IFERROR(VLOOKUP($A25,masterlist!$C$2:$AA$200,21,FALSE),\"\")","v":""},{"$f":"IFERROR(VLOOKUP($A25,masterlist!$C$2:$AA$200,22,FALSE),\"\")","v":""},{"$f":"IFERROR(IF($B$7=2,(VLOOKUP($A25,masterlist!$C$2:$AA$200,23,FALSE)-11),IF($B$7=4,(VLOOKUP($A25,masterlist!$C$2:$AA$200,23,FALSE)-9),IF($B$7=7,(VLOOKUP($A25,masterlist!$C$2:$AA$200,23,FALSE)-6),IF($B$7=10,(VLOOKUP($A25,masterlist!$C$2:$AA$200,23,FALSE)-3),(VLOOKUP($A25,masterlist!$C$2:$AA$200,23,FALSE)))))),\"\")","v":""},{"$f":"IFERROR(VLOOKUP($A25,masterlist!$C$2:$AA$200,24,FALSE),\"\")","v":""}]
[{"$f":"IF(ROWS($A$13:A26)<=(SUMPRODUCT((masterlist!B:B=\"CCI\")*(masterlist!J:J=0))),INDEX(masterlist!$C$2:$C$200,SMALL(IF(masterlist!$B$2:$B$200=\"CCI\",IF(masterlist!$F$2:$F$200>0,IF(masterlist!$J$2:$J$200=0,ROW(masterlist!$B$2:$B$200)-ROW(masterlist!$B$2)+1))),ROWS($A$13:A26))),\"\")","v":""},{"$f":"IFERROR(VLOOKUP($A26,masterlist!$C$2:$AA$200,3,FALSE),\"\")","v":""},{"$f":"IFERROR(VLOOKUP($A26,masterlist!$C$2:$AA$200,2,FALSE),\"\")","v":""},{"$f":"IFERROR(VLOOKUP($A26,masterlist!$C$2:$AA$200,5,FALSE),\"\")","v":""},{"$f":"IFERROR(IF((VLOOKUP($A26,masterlist!$C$2:$AA$200,9,FALSE))=0,\"\",VLOOKUP($A26,masterlist!$C$2:$AA$200,9,FALSE)),\"\")","v":""},{"$f":"IFERROR(VLOOKUP($A26,masterlist!$C$2:$AA$200,20,FALSE),\"\")","v":""},{"$f":"IFERROR(VLOOKUP($A26,masterlist!$C$2:$AA$200,21,FALSE),\"\")","v":""},{"$f":"IFERROR(VLOOKUP($A26,masterlist!$C$2:$AA$200,22,FALSE),\"\")","v":""},{"$f":"IFERROR(IF($B$7=2,(VLOOKUP($A26,masterlist!$C$2:$AA$200,23,FALSE)-11),IF($B$7=4,(VLOOKUP($A26,masterlist!$C$2:$AA$200,23,FALSE)-9),IF($B$7=7,(VLOOKUP($A26,masterlist!$C$2:$AA$200,23,FALSE)-6),IF($B$7=10,(VLOOKUP($A26,masterlist!$C$2:$AA$200,23,FALSE)-3),(VLOOKUP($A26,masterlist!$C$2:$AA$200,23,FALSE)))))),\"\")","v":""},{"$f":"IFERROR(VLOOKUP($A26,masterlist!$C$2:$AA$200,24,FALSE),\"\")","v":""}]
[{"$f":"IF(ROWS($A$13:A27)<=(SUMPRODUCT((masterlist!B:B=\"CCI\")*(masterlist!J:J=0))),INDEX(masterlist!$C$2:$C$200,SMALL(IF(masterlist!$B$2:$B$200=\"CCI\",IF(masterlist!$F$2:$F$200>0,IF(masterlist!$J$2:$J$200=0,ROW(masterlist!$B$2:$B$200)-ROW(masterlist!$B$2)+1))),ROWS($A$13:A27))),\"\")","v":""},{"$f":"IFERROR(VLOOKUP($A27,masterlist!$C$2:$AA$200,3,FALSE),\"\")","v":""},{"$f":"IFERROR(VLOOKUP($A27,masterlist!$C$2:$AA$200,2,FALSE),\"\")","v":""},{"$f":"IFERROR(VLOOKUP($A27,masterlist!$C$2:$AA$200,5,FALSE),\"\")","v":""},{"$f":"IFERROR(IF((VLOOKUP($A27,masterlist!$C$2:$AA$200,9,FALSE))=0,\"\",VLOOKUP($A27,masterlist!$C$2:$AA$200,9,FALSE)),\"\")","v":""},{"$f":"IFERROR(VLOOKUP($A27,masterlist!$C$2:$AA$200,20,FALSE),\"\")","v":""},{"$f":"IFERROR(VLOOKUP($A27,masterlist!$C$2:$AA$200,21,FALSE),\"\")","v":""},{"$f":"IFERROR(VLOOKUP($A27,masterlist!$C$2:$AA$200,22,FALSE),\"\")","v":""},{"$f":"IFERROR(IF($B$7=2,(VLOOKUP($A27,masterlist!$C$2:$AA$200,23,FALSE)-11),IF($B$7=4,(VLOOKUP($A27,masterlist!$C$2:$AA$200,23,FALSE)-9),IF($B$7=7,(VLOOKUP($A27,masterlist!$C$2:$AA$200,23,FALSE)-6),IF($B$7=10,(VLOOKUP($A27,masterlist!$C$2:$AA$200,23,FALSE)-3),(VLOOKUP($A27,masterlist!$C$2:$AA$200,23,FALSE)))))),\"\")","v":""},{"$f":"IFERROR(VLOOKUP($A27,masterlist!$C$2:$AA$200,24,FALSE),\"\")","v":""}]
[{"$f":"IF(ROWS($A$13:A28)<=(SUMPRODUCT((masterlist!B:B=\"CCI\")*(masterlist!J:J=0))),INDEX(masterlist!$C$2:$C$200,SMALL(IF(masterlist!$B$2:$B$200=\"CCI\",IF(masterlist!$F$2:$F$200>0,IF(masterlist!$J$2:$J$200=0,ROW(masterlist!$B$2:$B$200)-ROW(masterlist!$B$2)+1))),ROWS($A$13:A28))),\"\")","v":""},{"$f":"IFERROR(VLOOKUP($A28,masterlist!$C$2:$AA$200,3,FALSE),\"\")","v":""},{"$f":"IFERROR(VLOOKUP($A28,masterlist!$C$2:$AA$200,2,FALSE),\"\")","v":""},{"$f":"IFERROR(VLOOKUP($A28,masterlist!$C$2:$AA$200,5,FALSE),\"\")","v":""},{"$f":"IFERROR(IF((VLOOKUP($A28,masterlist!$C$2:$AA$200,9,FALSE))=0,\"\",VLOOKUP($A28,masterlist!$C$2:$AA$200,9,FALSE)),\"\")","v":""},{"$f":"IFERROR(VLOOKUP($A28,masterlist!$C$2:$AA$200,20,FALSE),\"\")","v":""},{"$f":"IFERROR(VLOOKUP($A28,masterlist!$C$2:$AA$200,21,FALSE),\"\")","v":""},{"$f":"IFERROR(VLOOKUP($A28,masterlist!$C$2:$AA$200,22,FALSE),\"\")","v":""},{"$f":"IFERROR(IF($B$7=2,(VLOOKUP($A28,masterlist!$C$2:$AA$200,23,FALSE)-11),IF($B$7=4,(VLOOKUP($A28,masterlist!$C$2:$AA$200,23,FALSE)-9),IF($B$7=7,(VLOOKUP($A28,masterlist!$C$2:$AA$200,23,FALSE)-6),IF($B$7=10,(VLOOKUP($A28,masterlist!$C$2:$AA$200,23,FALSE)-3),(VLOOKUP($A28,masterlist!$C$2:$AA$200,23,FALSE)))))),\"\")","v":""},{"$f":"IFERROR(VLOOKUP($A28,masterlist!$C$2:$AA$200,24,FALSE),\"\")","v":""}]
[{"$f":"IF(ROWS($A$13:A29)<=(SUMPRODUCT((masterlist!B:B=\"CCI\")*(masterlist!J:J=0))),INDEX(masterlist!$C$2:$C$200,SMALL(IF(masterlist!$B$2:$B$200=\"CCI\",IF(masterlist!$F$2:$F$200>0,IF(masterlist!$J$2:$J$200=0,ROW(masterlist!$B$2:$B$200)-ROW(masterlist!$B$2)+1))),ROWS($A$13:A29))),\"\")","v":""},{"$f":"IFERROR(VLOOKUP($A29,masterlist!$C$2:$AA$200,3,FALSE),\"\")","v":""},{"$f":"IFERROR(VLOOKUP($A29,masterlist!$C$2:$AA$200,2,FALSE),\"\")","v":""},{"$f":"IFERROR(VLOOKUP($A29,masterlist!$C$2:$AA$200,5,FALSE),\"\")","v":""},{"$f":"IFERROR(IF((VLOOKUP($A29,masterlist!$C$2:$AA$200,9,FALSE))=0,\"\",VLOOKUP($A29,masterlist!$C$2:$AA$200,9,FALSE)),\"\")","v":""},{"$f":"IFERROR(VLOOKUP($A29,masterlist!$C$2:$AA$200,20,FALSE),\"\")","v":""},{"$f":"IFERROR(VLOOKUP($A29,masterlist!$C$2:$AA$200,21,FALSE),\"\")","v":""},{"$f":"IFERROR(VLOOKUP($A29,masterlist!$C$2:$AA$200,22,FALSE),\"\")","v":""},{"$f":"IFERROR(IF($B$7=2,(VLOOKUP($A29,masterlist!$C$2:$AA$200,23,FALSE)-11),IF($B$7=4,(VLOOKUP($A29,masterlist!$C$2:$AA$200,23,FALSE)-9),IF($B$7=7,(VLOOKUP($A29,masterlist!$C$2:$AA$200,23,FALSE)-6),IF($B$7=10,(VLOOKUP($A29,masterlist!$C$2:$AA$200,23,FALSE)-3),(VLOOKUP($A29,masterlist!$C$2:$AA$200,23,FALSE)))))),\"\")","v":""},{"$f":"IFERROR(VLOOKUP($A29,masterlist!$C$2:$AA$200,24,FALSE),\"\")","v":""}]
[{"$f":"IF(ROWS($A$13:A30)<=(SUMPRODUCT((masterlist!B:B=\"CCI\")*(masterlist!J:J=0))),INDEX(masterlist!$C$2:$C$200,SMALL(IF(masterlist!$B$2:$B$200=\"CCI\",IF(masterlist!$F$2:$F$200>0,IF(masterlist!$J$2:$J$200=0,ROW(masterlist!$B$2:$B$200)-ROW(masterlist!$B$2)+1))),ROWS($A$13:A30))),\"\")","v":""},{"$f":"IFERROR(VLOOKUP($A30,masterlist!$C$2:$AA$200,3,FALSE),\"\")","v":""},{"$f":"IFERROR(VLOOKUP($A30,masterlist!$C$2:$AA$200,2,FALSE),\"\")","v":""},{"$f":"IFERROR(VLOOKUP($A30,masterlist!$C$2:$AA$200,5,FALSE),\"\")","v":""},{"$f":"IFERROR(IF((VLOOKUP($A30,masterlist!$C$2:$AA$200,9,FALSE))=0,\"\",VLOOKUP($A30,masterlist!$C$2:$AA$200,9,FALSE)),\"\")","v":""},{"$f":"IFERROR(VLOOKUP($A30,masterlist!$C$2:$AA$200,20,FALSE),\"\")","v":""},{"$f":"IFERROR(VLOOKUP($A30,masterlist!$C$2:$AA$200,21,FALSE),\"\")","v":""},{"$f":"IFERROR(VLOOKUP($A30,masterlist!$C$2:$AA$200,22,FALSE),\"\")","v":""},{"$f":"IFERROR(IF($B$7=2,(VLOOKUP($A30,masterlist!$C$2:$AA$200,23,FALSE)-11),IF($B$7=4,(VLOOKUP($A30,masterlist!$C$2:$AA$200,23,FALSE)-9),IF($B$7=7,(VLOOKUP($A30,masterlist!$C$2:$AA$200,23,FALSE)-6),IF($B$7=10,(VLOOKUP($A30,masterlist!$C$2:$AA$200,23,FALSE)-3),(VLOOKUP($A30,masterlist!$C$2:$AA$200,23,FALSE)))))),\"\")","v":""},{"$f":"IFERROR(VLOOKUP($A30,masterlist!$C$2:$AA$200,24,FALSE),\"\")","v":""}]
[{"$f":"IF(ROWS($A$13:A31)<=(SUMPRODUCT((masterlist!B:B=\"CCI\")*(masterlist!J:J=0))),INDEX(masterlist!$C$2:$C$200,SMALL(IF(masterlist!$B$2:$B$200=\"CCI\",IF(masterlist!$F$2:$F$200>0,IF(masterlist!$J$2:$J$200=0,ROW(masterlist!$B$2:$B$200)-ROW(masterlist!$B$2)+1))),ROWS($A$13:A31))),\"\")","v":""},{"$f":"IFERROR(VLOOKUP($A31,masterlist!$C$2:$AA$200,3,FALSE),\"\")","v":""},{"$f":"IFERROR(VLOOKUP($A31,masterlist!$C$2:$AA$200,2,FALSE),\"\")","v":""},{"$f":"IFERROR(VLOOKUP($A31,masterlist!$C$2:$AA$200,5,FALSE),\"\")","v":""},{"$f":"IFERROR(IF((VLOOKUP($A31,masterlist!$C$2:$AA$200,9,FALSE))=0,\"\",VLOOKUP($A31,masterlist!$C$2:$AA$200,9,FALSE)),\"\")","v":""},{"$f":"IFERROR(VLOOKUP($A31,masterlist!$C$2:$AA$200,20,FALSE),\"\")","v":""},{"$f":"IFERROR(VLOOKUP($A31,masterlist!$C$2:$AA$200,21,FALSE),\"\")","v":""},{"$f":"IFERROR(VLOOKUP($A31,masterlist!$C$2:$AA$200,22,FALSE),\"\")","v":""},{"$f":"IFERROR(IF($B$7=2,(VLOOKUP($A31,masterlist!$C$2:$AA$200,23,FALSE)-11),IF($B$7=4,(VLOOKUP($A31,masterlist!$C$2:$AA$200,23,FALSE)-9),IF($B$7=7,(VLOOKUP($A31,masterlist!$C$2:$AA$200,23,FALSE)-6),IF($B$7=10,(VLOOKUP($A31,masterlist!$C$2:$AA$200,23,FALSE)-3),(VLOOKUP($A31,masterlist!$C$2:$AA$200,23,FALSE)))))),\"\")","v":""},{"$f":"IFERROR(VLOOKUP($A31,masterlist!$C$2:$AA$200,24,FALSE),\"\")","v":""}]
[{"$f":"IF(ROWS($A$13:A32)<=(SUMPRODUCT((masterlist!B:B=\"CCI\")*(masterlist!J:J=0))),INDEX(masterlist!$C$2:$C$200,SMALL(IF(masterlist!$B$2:$B$200=\"CCI\",IF(masterlist!$F$2:$F$200>0,IF(masterlist!$J$2:$J$200=0,ROW(masterlist!$B$2:$B$200)-ROW(masterlist!$B$2)+1))),ROWS($A$13:A32))),\"\")","v":""},{"$f":"IFERROR(VLOOKUP($A32,masterlist!$C$2:$AA$200,3,FALSE),\"\")","v":""},{"$f":"IFERROR(VLOOKUP($A32,masterlist!$C$2:$AA$200,2,FALSE),\"\")","v":""},{"$f":"IFERROR(VLOOKUP($A32,masterlist!$C$2:$AA$200,5,FALSE),\"\")","v":""},{"$f":"IFERROR(IF((VLOOKUP($A32,masterlist!$C$2:$AA$200,9,FALSE))=0,\"\",VLOOKUP($A32,masterlist!$C$2:$AA$200,9,FALSE)),\"\")","v":""},{"$f":"IFERROR(VLOOKUP($A32,masterlist!$C$2:$AA$200,20,FALSE),\"\")","v":""},{"$f":"IFERROR(VLOOKUP($A32,masterlist!$C$2:$AA$200,21,FALSE),\"\")","v":""},{"$f":"IFERROR(VLOOKUP($A32,masterlist!$C$2:$AA$200,22,FALSE),\"\")","v":""},{"$f":"IFERROR(IF($B$7=2,(VLOOKUP($A32,masterlist!$C$2:$AA$200,23,FALSE)-11),IF($B$7=4,(VLOOKUP($A32,masterlist!$C$2:$AA$200,23,FALSE)-9),IF($B$7=7,(VLOOKUP($A32,masterlist!$C$2:$AA$200,23,FALSE)-6),IF($B$7=10,(VLOOKUP($A32,masterlist!$C$2:$AA$200,23,FALSE)-3),(VLOOKUP($A32,masterlist!$C$2:$AA$200,23,FALSE)))))),\"\")","v":""},{"$f":"IFERROR(VLOOKUP($A32,masterlist!$C$2:$AA$200,24,FALSE),\"\")","v":""}]
[{"$f":"IF(ROWS($A$13:A33)<=(SUMPRODUCT((masterlist!B:B=\"CCI\")*(masterlist!J:J=0))),INDEX(masterlist!$C$2:$C$200,SMALL(IF(masterlist!$B$2:$B$200=\"CCI\",IF(masterlist!$F$2:$F$200>0,IF(masterlist!$J$2:$J$200=0,ROW(masterlist!$B$2:$B$200)-ROW(masterlist!$B$2)+1))),ROWS($A$13:A33))),\"\")","v":""},{"$f":"IFERROR(VLOOKUP($A33,masterlist!$C$2:$AA$200,3,FALSE),\"\")","v":""},{"$f":"IFERROR(VLOOKUP($A33,masterlist!$C$2:$AA$200,2,FALSE),\"\")","v":""},{"$f":"IFERROR(VLOOKUP($A33,masterlist!$C$2:$AA$200,5,FALSE),\"\")","v":""},{"$f":"IFERROR(IF((VLOOKUP($A33,masterlist!$C$2:$AA$200,9,FALSE))=0,\"\",VLOOKUP($A33,masterlist!$C$2:$AA$200,9,FALSE)),\"\")","v":""},{"$f":"IFERROR(VLOOKUP($A33,masterlist!$C$2:$AA$200,20,FALSE),\"\")","v":""},{"$f":"IFERROR(VLOOKUP($A33,masterlist!$C$2:$AA$200,21,FALSE),\"\")","v":""},{"$f":"IFERROR(VLOOKUP($A33,masterlist!$C$2:$AA$200,22,FALSE),\"\")","v":""},{"$f":"IFERROR(IF($B$7=2,(VLOOKUP($A33,masterlist!$C$2:$AA$200,23,FALSE)-11),IF($B$7=4,(VLOOKUP($A33,masterlist!$C$2:$AA$200,23,FALSE)-9),IF($B$7=7,(VLOOKUP($A33,masterlist!$C$2:$AA$200,23,FALSE)-6),IF($B$7=10,(VLOOKUP($A33,masterlist!$C$2:$AA$200,23,FALSE)-3),(VLOOKUP($A33,masterlist!$C$2:$AA$200,23,FALSE)))))),\"\")","v":""},{"$f":"IFERROR(VLOOKUP($A33,masterlist!$C$2:$AA$200,24,FALSE),\"\")","v":""}]
[{"$f":"IF(ROWS($A$13:A34)<=(SUMPRODUCT((masterlist!B:B=\"CCI\")*(masterlist!J:J=0))),INDEX(masterlist!$C$2:$C$200,SMALL(IF(masterlist!$B$2:$B$200=\"CCI\",IF(masterlist!$F$2:$F$200>0,IF(masterlist!$J$2:$J$200=0,ROW(masterlist!$B$2:$B$200)-ROW(masterlist!$B$2)+1))),ROWS($A$13:A34))),\"\")","v":""},{"$f":"IFERROR(VLOOKUP($A34,masterlist!$C$2:$AA$200,3,FALSE),\"\")","v":""},{"$f":"IFERROR(VLOOKUP($A34,masterlist!$C$2:$AA$200,2,FALSE),\"\")","v":""},{"$f":"IFERROR(VLOOKUP($A34,masterlist!$C$2:$AA$200,5,FALSE),\"\")","v":""},{"$f":"IFERROR(IF((VLOOKUP($A34,masterlist!$C$2:$AA$200,9,FALSE))=0,\"\",VLOOKUP($A34,masterlist!$C$2:$AA$200,9,FALSE)),\"\")","v":""},{"$f":"IFERROR(VLOOKUP($A34,masterlist!$C$2:$AA$200,20,FALSE),\"\")","v":""},{"$f":"IFERROR(VLOOKUP($A34,masterlist!$C$2:$AA$200,21,FALSE),\"\")","v":""},{"$f":"IFERROR(VLOOKUP($A34,masterlist!$C$2:$AA$200,22,FALSE),\"\")","v":""},{"$f":"IFERROR(IF($B$7=2,(VLOOKUP($A34,masterlist!$C$2:$AA$200,23,FALSE)-11),IF($B$7=4,(VLOOKUP($A34,masterlist!$C$2:$AA$200,23,FALSE)-9),IF($B$7=7,(VLOOKUP($A34,masterlist!$C$2:$AA$200,23,FALSE)-6),IF($B$7=10,(VLOOKUP($A34,masterlist!$C$2:$AA$200,23,FALSE)-3),(VLOOKUP($A34,masterlist!$C$2:$AA$200,23,FALSE)))))),\"\")","v":""},{"$f":"IFERROR(VLOOKUP($A34,masterlist!$C$2:$AA$200,24,FALSE),\"\")","v":""}]
[{"$f":"IF(ROWS($A$13:A35)<=(SUMPRODUCT((masterlist!B:B=\"CCI\")*(masterlist!J:J=0))),INDEX(masterlist!$C$2:$C$200,SMALL(IF(masterlist!$B$2:$B$200=\"CCI\",IF(masterlist!$F$2:$F$200>0,IF(masterlist!$J$2:$J$200=0,ROW(masterlist!$B$2:$B$200)-ROW(masterlist!$B$2)+1))),ROWS($A$13:A35))),\"\")","v":""},{"$f":"IFERROR(VLOOKUP($A35,masterlist!$C$2:$AA$200,3,FALSE),\"\")","v":""},{"$f":"IFERROR(VLOOKUP($A35,masterlist!$C$2:$AA$200,2,FALSE),\"\")","v":""},{"$f":"IFERROR(VLOOKUP($A35,masterlist!$C$2:$AA$200,5,FALSE),\"\")","v":""},{"$f":"IFERROR(IF((VLOOKUP($A35,masterlist!$C$2:$AA$200,9,FALSE))=0,\"\",VLOOKUP($A35,masterlist!$C$2:$AA$200,9,FALSE)),\"\")","v":""},{"$f":"IFERROR(VLOOKUP($A35,masterlist!$C$2:$AA$200,20,FALSE),\"\")","v":""},{"$f":"IFERROR(VLOOKUP($A35,masterlist!$C$2:$AA$200,21,FALSE),\"\")","v":""},{"$f":"IFERROR(VLOOKUP($A35,masterlist!$C$2:$AA$200,22,FALSE),\"\")","v":""},{"$f":"IFERROR(IF($B$7=2,(VLOOKUP($A35,masterlist!$C$2:$AA$200,23,FALSE)-11),IF($B$7=4,(VLOOKUP($A35,masterlist!$C$2:$AA$200,23,FALSE)-9),IF($B$7=7,(VLOOKUP($A35,masterlist!$C$2:$AA$200,23,FALSE)-6),IF($B$7=10,(VLOOKUP($A35,masterlist!$C$2:$AA$200,23,FALSE)-3),(VLOOKUP($A35,masterlist!$C$2:$AA$200,23,FALSE)))))),\"\")","v":""},{"$f":"IFERROR(VLOOKUP($A35,masterlist!$C$2:$AA$200,24,FALSE),\"\")","v":""}]
[{"$f":"IF(ROWS($A$13:A36)<=(SUMPRODUCT((masterlist!B:B=\"CCI\")*(masterlist!J:J=0))),INDEX(masterlist!$C$2:$C$200,SMALL(IF(masterlist!$B$2:$B$200=\"CCI\",IF(masterlist!$F$2:$F$200>0,IF(masterlist!$J$2:$J$200=0,ROW(masterlist!$B$2:$B$200)-ROW(masterlist!$B$2)+1))),ROWS($A$13:A36))),\"\")","v":""},{"$f":"IFERROR(VLOOKUP($A36,masterlist!$C$2:$AA$200,3,FALSE),\"\")","v":""},{"$f":"IFERROR(VLOOKUP($A36,masterlist!$C$2:$AA$200,2,FALSE),\"\")","v":""},{"$f":"IFERROR(VLOOKUP($A36,masterlist!$C$2:$AA$200,5,FALSE),\"\")","v":""},{"$f":"IFERROR(IF((VLOOKUP($A36,masterlist!$C$2:$AA$200,9,FALSE))=0,\"\",VLOOKUP($A36,masterlist!$C$2:$AA$200,9,FALSE)),\"\")","v":""},{"$f":"IFERROR(VLOOKUP($A36,masterlist!$C$2:$AA$200,20,FALSE),\"\")","v":""},{"$f":"IFERROR(VLOOKUP($A36,masterlist!$C$2:$AA$200,21,FALSE),\"\")","v":""},{"$f":"IFERROR(VLOOKUP($A36,masterlist!$C$2:$AA$200,22,FALSE),\"\")","v":""},{"$f":"IFERROR(IF($B$7=2,(VLOOKUP($A36,masterlist!$C$2:$AA$200,23,FALSE)-11),IF($B$7=4,(VLOOKUP($A36,masterlist!$C$2:$AA$200,23,FALSE)-9),IF($B$7=7,(VLOOKUP($A36,masterlist!$C$2:$AA$200,23,FALSE)-6),IF($B$7=10,(VLOOKUP($A36,masterlist!$C$2:$AA$200,23,FALSE)-3),(VLOOKUP($A36,masterlist!$C$2:$AA$200,23,FALSE)))))),\"\")","v":""},{"$f":"IFERROR(VLOOKUP($A36,masterlist!$C$2:$AA$200,24,FALSE),\"\")","v":""}]
[{"$f":"IF(ROWS($A$13:A37)<=(SUMPRODUCT((masterlist!B:B=\"CCI\")*(masterlist!J:J=0))),INDEX(masterlist!$C$2:$C$200,SMALL(IF(masterlist!$B$2:$B$200=\"CCI\",IF(masterlist!$F$2:$F$200>0,IF(masterlist!$J$2:$J$200=0,ROW(masterlist!$B$2:$B$200)-ROW(masterlist!$B$2)+1))),ROWS($A$13:A37))),\"\")","v":""},{"$f":"IFERROR(VLOOKUP($A37,masterlist!$C$2:$AA$200,3,FALSE),\"\")","v":""},{"$f":"IFERROR(VLOOKUP($A37,masterlist!$C$2:$AA$200,2,FALSE),\"\")","v":""},{"$f":"IFERROR(VLOOKUP($A37,masterlist!$C$2:$AA$200,5,FALSE),\"\")","v":""},{"$f":"IFERROR(IF((VLOOKUP($A37,masterlist!$C$2:$AA$200,9,FALSE))=0,\"\",VLOOKUP($A37,masterlist!$C$2:$AA$200,9,FALSE)),\"\")","v":""},{"$f":"IFERROR(VLOOKUP($A37,masterlist!$C$2:$AA$200,20,FALSE),\"\")","v":""},{"$f":"IFERROR(VLOOKUP($A37,masterlist!$C$2:$AA$200,21,FALSE),\"\")","v":""},{"$f":"IFERROR(VLOOKUP($A37,masterlist!$C$2:$AA$200,22,FALSE),\"\")","v":""},{"$f":"IFERROR(IF($B$7=2,(VLOOKUP($A37,masterlist!$C$2:$AA$200,23,FALSE)-11),IF($B$7=4,(VLOOKUP($A37,masterlist!$C$2:$AA$200,23,FALSE)-9),IF($B$7=7,(VLOOKUP($A37,masterlist!$C$2:$AA$200,23,FALSE)-6),IF($B$7=10,(VLOOKUP($A37,masterlist!$C$2:$AA$200,23,FALSE)-3),(VLOOKUP($A37,masterlist!$C$2:$AA$200,23,FALSE)))))),\"\")","v":""},{"$f":"IFERROR(VLOOKUP($A37,masterlist!$C$2:$AA$200,24,FALSE),\"\")","v":""}]
[{"$f":"IF(ROWS($A$13:A38)<=(SUMPRODUCT((masterlist!B:B=\"CCI\")*(masterlist!J:J=0))),INDEX(masterlist!$C$2:$C$200,SMALL(IF(masterlist!$B$2:$B$200=\"CCI\",IF(masterlist!$F$2:$F$200>0,IF(masterlist!$J$2:$J$200=0,ROW(masterlist!$B$2:$B$200)-ROW(masterlist!$B$2)+1))),ROWS($A$13:A38))),\"\")","v":""},{"$f":"IFERROR(VLOOKUP($A38,masterlist!$C$2:$AA$200,3,FALSE),\"\")","v":""},{"$f":"IFERROR(VLOOKUP($A38,masterlist!$C$2:$AA$200,2,FALSE),\"\")","v":""},{"$f":"IFERROR(VLOOKUP($A38,masterlist!$C$2:$AA$200,5,FALSE),\"\")","v":""},{"$f":"IFERROR(IF((VLOOKUP($A38,masterlist!$C$2:$AA$200,9,FALSE))=0,\"\",VLOOKUP($A38,masterlist!$C$2:$AA$200,9,FALSE)),\"\")","v":""},{"$f":"IFERROR(VLOOKUP($A38,masterlist!$C$2:$AA$200,20,FALSE),\"\")","v":""},{"$f":"IFERROR(VLOOKUP($A38,masterlist!$C$2:$AA$200,21,FALSE),\"\")","v":""},{"$f":"IFERROR(VLOOKUP($A38,masterlist!$C$2:$AA$200,22,FALSE),\"\")","v":""},{"$f":"IFERROR(IF($B$7=2,(VLOOKUP($A38,masterlist!$C$2:$AA$200,23,FALSE)-11),IF($B$7=4,(VLOOKUP($A38,masterlist!$C$2:$AA$200,23,FALSE)-9),IF($B$7=7,(VLOOKUP($A38,masterlist!$C$2:$AA$200,23,FALSE)-6),IF($B$7=10,(VLOOKUP($A38,masterlist!$C$2:$AA$200,23,FALSE)-3),(VLOOKUP($A38,masterlist!$C$2:$AA$200,23,FALSE)))))),\"\")","v":""},{"$f":"IFERROR(VLOOKUP($A38,masterlist!$C$2:$AA$200,24,FALSE),\"\")","v":""}]
[{"$f":"IF(ROWS($A$13:A39)<=(SUMPRODUCT((masterlist!B:B=\"CCI\")*(masterlist!J:J=0))),INDEX(masterlist!$C$2:$C$200,SMALL(IF(masterlist!$B$2:$B$200=\"CCI\",IF(masterlist!$F$2:$F$200>0,IF(masterlist!$J$2:$J$200=0,ROW(masterlist!$B$2:$B$200)-ROW(masterlist!$B$2)+1))),ROWS($A$13:A39))),\"\")","v":""},{"$f":"IFERROR(VLOOKUP($A39,masterlist!$C$2:$AA$200,3,FALSE),\"\")","v":""},{"$f":"IFERROR(VLOOKUP($A39,masterlist!$C$2:$AA$200,2,FALSE),\"\")","v":""},{"$f":"IFERROR(VLOOKUP($A39,masterlist!$C$2:$AA$200,5,FALSE),\"\")","v":""},{"$f":"IFERROR(IF((VLOOKUP($A39,masterlist!$C$2:$AA$200,9,FALSE))=0,\"\",VLOOKUP($A39,masterlist!$C$2:$AA$200,9,FALSE)),\"\")","v":""},{"$f":"IFERROR(VLOOKUP($A39,masterlist!$C$2:$AA$200,20,FALSE),\"\")","v":""},{"$f":"IFERROR(VLOOKUP($A39,masterlist!$C$2:$AA$200,21,FALSE),\"\")","v":""},{"$f":"IFERROR(VLOOKUP($A39,masterlist!$C$2:$AA$200,22,FALSE),\"\")","v":""},{"$f":"IFERROR(IF($B$7=2,(VLOOKUP($A39,masterlist!$C$2:$AA$200,23,FALSE)-11),IF($B$7=4,(VLOOKUP($A39,masterlist!$C$2:$AA$200,23,FALSE)-9),IF($B$7=7,(VLOOKUP($A39,masterlist!$C$2:$AA$200,23,FALSE)-6),IF($B$7=10,(VLOOKUP($A39,masterlist!$C$2:$AA$200,23,FALSE)-3),(VLOOKUP($A39,masterlist!$C$2:$AA$200,23,FALSE)))))),\"\")","v":""},{"$f":"IFERROR(VLOOKUP($A39,masterlist!$C$2:$AA$200,24,FALSE),\"\")","v":""}]
[{"$f":"IF(ROWS($A$13:A40)<=(SUMPRODUCT((masterlist!B:B=\"CCI\")*(masterlist!J:J=0))),INDEX(masterlist!$C$2:$C$200,SMALL(IF(masterlist!$B$2:$B$200=\"CCI\",IF(masterlist!$F$2:$F$200>0,IF(masterlist!$J$2:$J$200=0,ROW(masterlist!$B$2:$B$200)-ROW(masterlist!$B$2)+1))),ROWS($A$13:A40))),\"\")","v":""},{"$f":"IFERROR(VLOOKUP($A40,masterlist!$C$2:$AA$200,3,FALSE),\"\")","v":""},{"$f":"IFERROR(VLOOKUP($A40,masterlist!$C$2:$AA$200,2,FALSE),\"\")","v":""},{"$f":"IFERROR(VLOOKUP($A40,masterlist!$C$2:$AA$200,5,FALSE),\"\")","v":""},{"$f":"IFERROR(IF((VLOOKUP($A40,masterlist!$C$2:$AA$200,9,FALSE))=0,\"\",VLOOKUP($A40,masterlist!$C$2:$AA$200,9,FALSE)),\"\")","v":""},{"$f":"IFERROR(VLOOKUP($A40,masterlist!$C$2:$AA$200,20,FALSE),\"\")","v":""},{"$f":"IFERROR(VLOOKUP($A40,masterlist!$C$2:$AA$200,21,FALSE),\"\")","v":""},{"$f":"IFERROR(VLOOKUP($A40,masterlist!$C$2:$AA$200,22,FALSE),\"\")","v":""},{"$f":"IFERROR(IF($B$7=2,(VLOOKUP($A40,masterlist!$C$2:$AA$200,23,FALSE)-11),IF($B$7=4,(VLOOKUP($A40,masterlist!$C$2:$AA$200,23,FALSE)-9),IF($B$7=7,(VLOOKUP($A40,masterlist!$C$2:$AA$200,23,FALSE)-6),IF($B$7=10,(VLOOKUP($A40,masterlist!$C$2:$AA$200,23,FALSE)-3),(VLOOKUP($A40,masterlist!$C$2:$AA$200,23,FALSE)))))),\"\")","v":""},{"$f":"IFERROR(VLOOKUP($A40,masterlist!$C$2:$AA$200,24,FALSE),\"\")","v":""}]
[{"$f":"IF(ROWS($A$13:A41)<=(SUMPRODUCT((masterlist!B:B=\"CCI\")*(masterlist!J:J=0))),INDEX(masterlist!$C$2:$C$200,SMALL(IF(masterlist!$B$2:$B$200=\"CCI\",IF(masterlist!$F$2:$F$200>0,IF(masterlist!$J$2:$J$200=0,ROW(masterlist!$B$2:$B$200)-ROW(masterlist!$B$2)+1))),ROWS($A$13:A41))),\"\")","v":""},{"$f":"IFERROR(VLOOKUP($A41,masterlist!$C$2:$AA$200,3,FALSE),\"\")","v":""},{"$f":"IFERROR(VLOOKUP($A41,masterlist!$C$2:$AA$200,2,FALSE),\"\")","v":""},{"$f":"IFERROR(VLOOKUP($A41,masterlist!$C$2:$AA$200,5,FALSE),\"\")","v":""},{"$f":"IFERROR(IF((VLOOKUP($A41,masterlist!$C$2:$AA$200,9,FALSE))=0,\"\",VLOOKUP($A41,masterlist!$C$2:$AA$200,9,FALSE)),\"\")","v":""},{"$f":"IFERROR(VLOOKUP($A41,masterlist!$C$2:$AA$200,20,FALSE),\"\")","v":""},{"$f":"IFERROR(VLOOKUP($A41,masterlist!$C$2:$AA$200,21,FALSE),\"\")","v":""},{"$f":"IFERROR(VLOOKUP($A41,masterlist!$C$2:$AA$200,22,FALSE),\"\")","v":""},{"$f":"IFERROR(IF($B$7=2,(VLOOKUP($A41,masterlist!$C$2:$AA$200,23,FALSE)-11),IF($B$7=4,(VLOOKUP($A41,masterlist!$C$2:$AA$200,23,FALSE)-9),IF($B$7=7,(VLOOKUP($A41,masterlist!$C$2:$AA$200,23,FALSE)-6),IF($B$7=10,(VLOOKUP($A41,masterlist!$C$2:$AA$200,23,FALSE)-3),(VLOOKUP($A41,masterlist!$C$2:$AA$200,23,FALSE)))))),\"\")","v":""},{"$f":"IFERROR(VLOOKUP($A41,masterlist!$C$2:$AA$200,24,FALSE),\"\")","v":""}]
[{"$f":"IF(ROWS($A$13:A42)<=(SUMPRODUCT((masterlist!B:B=\"CCI\")*(masterlist!J:J=0))),INDEX(masterlist!$C$2:$C$200,SMALL(IF(masterlist!$B$2:$B$200=\"CCI\",IF(masterlist!$F$2:$F$200>0,IF(masterlist!$J$2:$J$200=0,ROW(masterlist!$B$2:$B$200)-ROW(masterlist!$B$2)+1))),ROWS($A$13:A42))),\"\")","v":""},{"$f":"IFERROR(VLOOKUP($A42,masterlist!$C$2:$AA$200,3,FALSE),\"\")","v":""},{"$f":"IFERROR(VLOOKUP($A42,masterlist!$C$2:$AA$200,2,FALSE),\"\")","v":""},{"$f":"IFERROR(VLOOKUP($A42,masterlist!$C$2:$AA$200,5,FALSE),\"\")","v":""},{"$f":"IFERROR(IF((VLOOKUP($A42,masterlist!$C$2:$AA$200,9,FALSE))=0,\"\",VLOOKUP($A42,masterlist!$C$2:$AA$200,9,FALSE)),\"\")","v":""},{"$f":"IFERROR(VLOOKUP($A42,masterlist!$C$2:$AA$200,20,FALSE),\"\")","v":""},{"$f":"IFERROR(VLOOKUP($A42,masterlist!$C$2:$AA$200,21,FALSE),\"\")","v":""},{"$f":"IFERROR(VLOOKUP($A42,masterlist!$C$2:$AA$200,22,FALSE),\"\")","v":""},{"$f":"IFERROR(IF($B$7=2,(VLOOKUP($A42,masterlist!$C$2:$AA$200,23,FALSE)-11),IF($B$7=4,(VLOOKUP($A42,masterlist!$C$2:$AA$200,23,FALSE)-9),IF($B$7=7,(VLOOKUP($A42,masterlist!$C$2:$AA$200,23,FALSE)-6),IF($B$7=10,(VLOOKUP($A42,masterlist!$C$2:$AA$200,23,FALSE)-3),(VLOOKUP($A42,masterlist!$C$2:$AA$200,23,FALSE)))))),\"\")","v":""},{"$f":"IFERROR(VLOOKUP($A42,masterlist!$C$2:$AA$200,24,FALSE),\"\")","v":""}]
[{"$f":"IF(ROWS($A$13:A43)<=(SUMPRODUCT((masterlist!B:B=\"CCI\")*(masterlist!J:J=0))),INDEX(masterlist!$C$2:$C$200,SMALL(IF(masterlist!$B$2:$B$200=\"CCI\",IF(masterlist!$F$2:$F$200>0,IF(masterlist!$J$2:$J$200=0,ROW(masterlist!$B$2:$B$200)-ROW(masterlist!$B$2)+1))),ROWS($A$13:A43))),\"\")","v":""},{"$f":"IFERROR(VLOOKUP($A43,masterlist!$C$2:$AA$200,3,FALSE),\"\")","v":""},{"$f":"IFERROR(VLOOKUP($A43,masterlist!$C$2:$AA$200,2,FALSE),\"\")","v":""},{"$f":"IFERROR(VLOOKUP($A43,masterlist!$C$2:$AA$200,5,FALSE),\"\")","v":""},{"$f":"IFERROR(IF((VLOOKUP($A43,masterlist!$C$2:$AA$200,9,FALSE))=0,\"\",VLOOKUP($A43,masterlist!$C$2:$AA$200,9,FALSE)),\"\")","v":""},{"$f":"IFERROR(VLOOKUP($A43,masterlist!$C$2:$AA$200,20,FALSE),\"\")","v":""},{"$f":"IFERROR(VLOOKUP($A43,masterlist!$C$2:$AA$200,21,FALSE),\"\")","v":""},{"$f":"IFERROR(VLOOKUP($A43,masterlist!$C$2:$AA$200,22,FALSE),\"\")","v":""},{"$f":"IFERROR(IF($B$7=2,(VLOOKUP($A43,masterlist!$C$2:$AA$200,23,FALSE)-11),IF($B$7=4,(VLOOKUP($A43,masterlist!$C$2:$AA$200,23,FALSE)-9),IF($B$7=7,(VLOOKUP($A43,masterlist!$C$2:$AA$200,23,FALSE)-6),IF($B$7=10,(VLOOKUP($A43,masterlist!$C$2:$AA$200,23,FALSE)-3),(VLOOKUP($A43,masterlist!$C$2:$AA$200,23,FALSE)))))),\"\")","v":""},{"$f":"IFERROR(VLOOKUP($A43,masterlist!$C$2:$AA$200,24,FALSE),\"\")","v":""}]
[{"$f":"IF(ROWS($A$13:A44)<=(SUMPRODUCT((masterlist!B:B=\"CCI\")*(masterlist!J:J=0))),INDEX(masterlist!$C$2:$C$200,SMALL(IF(masterlist!$B$2:$B$200=\"CCI\",IF(masterlist!$F$2:$F$200>0,IF(masterlist!$J$2:$J$200=0,ROW(masterlist!$B$2:$B$200)-ROW(masterlist!$B$2)+1))),ROWS($A$13:A44))),\"\")","v":""},{"$f":"IFERROR(VLOOKUP($A44,masterlist!$C$2:$AA$200,3,FALSE),\"\")","v":""},{"$f":"IFERROR(VLOOKUP($A44,masterlist!$C$2:$AA$200,2,FALSE),\"\")","v":""},{"$f":"IFERROR(VLOOKUP($A44,masterlist!$C$2:$AA$200,5,FALSE),\"\")","v":""},{"$f":"IFERROR(IF((VLOOKUP($A44,masterlist!$C$2:$AA$200,9,FALSE))=0,\"\",VLOOKUP($A44,masterlist!$C$2:$AA$200,9,FALSE)),\"\")","v":""},{"$f":"IFERROR(VLOOKUP($A44,masterlist!$C$2:$AA$200,20,FALSE),\"\")","v":""},{"$f":"IFERROR(VLOOKUP($A44,masterlist!$C$2:$AA$200,21,FALSE),\"\")","v":""},{"$f":"IFERROR(VLOOKUP($A44,masterlist!$C$2:$AA$200,22,FALSE),\"\")","v":""},{"$f":"IFERROR(IF($B$7=2,(VLOOKUP($A44,masterlist!$C$2:$AA$200,23,FALSE)-11),IF($B$7=4,(VLOOKUP($A44,masterlist!$C$2:$AA$200,23,FALSE)-9),IF($B$7=7,(VLOOKUP($A44,masterlist!$C$2:$AA$200,23,FALSE)-6),IF($B$7=10,(VLOOKUP($A44,masterlist!$C$2:$AA$200,23,FALSE)-3),(VLOOKUP($A44,masterlist!$C$2:$AA$200,23,FALSE)))))),\"\")","v":""},{"$f":"IFERROR(VLOOKUP($A44,masterlist!$C$2:$AA$200,24,FALSE),\"\")","v":""}]
[{"$f":"IF(ROWS($A$13:A45)<=(SUMPRODUCT((masterlist!B:B=\"CCI\")*(masterlist!J:J=0))),INDEX(masterlist!$C$2:$C$200,SMALL(IF(masterlist!$B$2:$B$200=\"CCI\",IF(masterlist!$F$2:$F$200>0,IF(masterlist!$J$2:$J$200=0,ROW(masterlist!$B$2:$B$200)-ROW(masterlist!$B$2)+1))),ROWS($A$13:A45))),\"\")","v":""},{"$f":"IFERROR(VLOOKUP($A45,masterlist!$C$2:$AA$200,3,FALSE),\"\")","v":""},{"$f":"IFERROR(VLOOKUP($A45,masterlist!$C$2:$AA$200,2,FALSE),\"\")","v":""},{"$f":"IFERROR(VLOOKUP($A45,masterlist!$C$2:$AA$200,5,FALSE),\"\")","v":""},{"$f":"IFERROR(IF((VLOOKUP($A45,masterlist!$C$2:$AA$200,9,FALSE))=0,\"\",VLOOKUP($A45,masterlist!$C$2:$AA$200,9,FALSE)),\"\")","v":""},{"$f":"IFERROR(VLOOKUP($A45,masterlist!$C$2:$AA$200,20,FALSE),\"\")","v":""},{"$f":"IFERROR(VLOOKUP($A45,masterlist!$C$2:$AA$200,21,FALSE),\"\")","v":""},{"$f":"IFERROR(VLOOKUP($A45,masterlist!$C$2:$AA$200,22,FALSE),\"\")","v":""},{"$f":"IFERROR(IF($B$7=2,(VLOOKUP($A45,masterlist!$C$2:$AA$200,23,FALSE)-11),IF($B$7=4,(VLOOKUP($A45,masterlist!$C$2:$AA$200,23,FALSE)-9),IF($B$7=7,(VLOOKUP($A45,masterlist!$C$2:$AA$200,23,FALSE)-6),IF($B$7=10,(VLOOKUP($A45,masterlist!$C$2:$AA$200,23,FALSE)-3),(VLOOKUP($A45,masterlist!$C$2:$AA$200,23,FALSE)))))),\"\")","v":""},{"$f":"IFERROR(VLOOKUP($A45,masterlist!$C$2:$AA$200,24,FALSE),\"\")","v":""}]
[{"$f":"IF(ROWS($A$13:A46)<=(SUMPRODUCT((masterlist!B:B=\"CCI\")*(masterlist!J:J=0))),INDEX(masterlist!$C$2:$C$200,SMALL(IF(masterlist!$B$2:$B$200=\"CCI\",IF(masterlist!$F$2:$F$200>0,IF(masterlist!$J$2:$J$200=0,ROW(masterlist!$B$2:$B$200)-ROW(masterlist!$B$2)+1))),ROWS($A$13:A46))),\"\")","v":""},{"$f":"IFERROR(VLOOKUP($A46,masterlist!$C$2:$AA$200,3,FALSE),\"\")","v":""},{"$f":"IFERROR(VLOOKUP($A46,masterlist!$C$2:$AA$200,2,FALSE),\"\")","v":""},{"$f":"IFERROR(VLOOKUP($A46,masterlist!$C$2:$AA$200,5,FALSE),\"\")","v":""},{"$f":"IFERROR(IF((VLOOKUP($A46,masterlist!$C$2:$AA$200,9,FALSE))=0,\"\",VLOOKUP($A46,masterlist!$C$2:$AA$200,9,FALSE)),\"\")","v":""},{"$f":"IFERROR(VLOOKUP($A46,masterlist!$C$2:$AA$200,20,FALSE),\"\")","v":""},{"$f":"IFERROR(VLOOKUP($A46,masterlist!$C$2:$AA$200,21,FALSE),\"\")","v":""},{"$f":"IFERROR(VLOOKUP($A46,masterlist!$C$2:$AA$200,22,FALSE),\"\")","v":""},{"$f":"IFERROR(IF($B$7=2,(VLOOKUP($A46,masterlist!$C$2:$AA$200,23,FALSE)-11),IF($B$7=4,(VLOOKUP($A46,masterlist!$C$2:$AA$200,23,FALSE)-9),IF($B$7=7,(VLOOKUP($A46,masterlist!$C$2:$AA$200,23,FALSE)-6),IF($B$7=10,(VLOOKUP($A46,masterlist!$C$2:$AA$200,23,FALSE)-3),(VLOOKUP($A46,masterlist!$C$2:$AA$200,23,FALSE)))))),\"\")","v":""},{"$f":"IFERROR(VLOOKUP($A46,masterlist!$C$2:$AA$200,24,FALSE),\"\")","v":""}]
[{"$f":"IF(ROWS($A$13:A47)<=(SUMPRODUCT((masterlist!B:B=\"CCI\")*(masterlist!J:J=0))),INDEX(masterlist!$C$2:$C$200,SMALL(IF(masterlist!$B$2:$B$200=\"CCI\",IF(masterlist!$F$2:$F$200>0,IF(masterlist!$J$2:$J$200=0,ROW(masterlist!$B$2:$B$200)-ROW(masterlist!$B$2)+1))),ROWS($A$13:A47))),\"\")","v":""},{"$f":"IFERROR(VLOOKUP($A47,masterlist!$C$2:$AA$200,3,FALSE),\"\")","v":""},{"$f":"IFERROR(VLOOKUP($A47,masterlist!$C$2:$AA$200,2,FALSE),\"\")","v":""},{"$f":"IFERROR(VLOOKUP($A47,masterlist!$C$2:$AA$200,5,FALSE),\"\")","v":""},{"$f":"IFERROR(IF((VLOOKUP($A47,masterlist!$C$2:$AA$200,9,FALSE))=0,\"\",VLOOKUP($A47,masterlist!$C$2:$AA$200,9,FALSE)),\"\")","v":""},{"$f":"IFERROR(VLOOKUP($A47,masterlist!$C$2:$AA$200,20,FALSE),\"\")","v":""},{"$f":"IFERROR(VLOOKUP($A47,masterlist!$C$2:$AA$200,21,FALSE),\"\")","v":""},{"$f":"IFERROR(VLOOKUP($A47,masterlist!$C$2:$AA$200,22,FALSE),\"\")","v":""},{"$f":"IFERROR(IF($B$7=2,(VLOOKUP($A47,masterlist!$C$2:$AA$200,23,FALSE)-11),IF($B$7=4,(VLOOKUP($A47,masterlist!$C$2:$AA$200,23,FALSE)-9),IF($B$7=7,(VLOOKUP($A47,masterlist!$C$2:$AA$200,23,FALSE)-6),IF($B$7=10,(VLOOKUP($A47,masterlist!$C$2:$AA$200,23,FALSE)-3),(VLOOKUP($A47,masterlist!$C$2:$AA$200,23,FALSE)))))),\"\")","v":""},{"$f":"IFERROR(VLOOKUP($A47,masterlist!$C$2:$AA$200,24,FALSE),\"\")","v":""}]
[{"$f":"IF(ROWS($A$13:A48)<=(SUMPRODUCT((masterlist!B:B=\"CCI\")*(masterlist!J:J=0))),INDEX(masterlist!$C$2:$C$200,SMALL(IF(masterlist!$B$2:$B$200=\"CCI\",IF(masterlist!$F$2:$F$200>0,IF(masterlist!$J$2:$J$200=0,ROW(masterlist!$B$2:$B$200)-ROW(masterlist!$B$2)+1))),ROWS($A$13:A48))),\"\")","v":""},{"$f":"IFERROR(VLOOKUP($A48,masterlist!$C$2:$AA$200,3,FALSE),\"\")","v":""},{"$f":"IFERROR(VLOOKUP($A48,masterlist!$C$2:$AA$200,2,FALSE),\"\")","v":""},{"$f":"IFERROR(VLOOKUP($A48,masterlist!$C$2:$AA$200,5,FALSE),\"\")","v":""},{"$f":"IFERROR(IF((VLOOKUP($A48,masterlist!$C$2:$AA$200,9,FALSE))=0,\"\",VLOOKUP($A48,masterlist!$C$2:$AA$200,9,FALSE)),\"\")","v":""},{"$f":"IFERROR(VLOOKUP($A48,masterlist!$C$2:$AA$200,20,FALSE),\"\")","v":""},{"$f":"IFERROR(VLOOKUP($A48,masterlist!$C$2:$AA$200,21,FALSE),\"\")","v":""},{"$f":"IFERROR(VLOOKUP($A48,masterlist!$C$2:$AA$200,22,FALSE),\"\")","v":""},{"$f":"IFERROR(IF($B$7=2,(VLOOKUP($A48,masterlist!$C$2:$AA$200,23,FALSE)-11),IF($B$7=4,(VLOOKUP($A48,masterlist!$C$2:$AA$200,23,FALSE)-9),IF($B$7=7,(VLOOKUP($A48,masterlist!$C$2:$AA$200,23,FALSE)-6),IF($B$7=10,(VLOOKUP($A48,masterlist!$C$2:$AA$200,23,FALSE)-3),(VLOOKUP($A48,masterlist!$C$2:$AA$200,23,FALSE)))))),\"\")","v":""},{"$f":"IFERROR(VLOOKUP($A48,masterlist!$C$2:$AA$200,24,FALSE),\"\")","v":""}]
[{"$f":"IF(ROWS($A$13:A49)<=(SUMPRODUCT((masterlist!B:B=\"CCI\")*(masterlist!J:J=0))),INDEX(masterlist!$C$2:$C$200,SMALL(IF(masterlist!$B$2:$B$200=\"CCI\",IF(masterlist!$F$2:$F$200>0,IF(masterlist!$J$2:$J$200=0,ROW(masterlist!$B$2:$B$200)-ROW(masterlist!$B$2)+1))),ROWS($A$13:A49))),\"\")","v":""},{"$f":"IFERROR(VLOOKUP($A49,masterlist!$C$2:$AA$200,3,FALSE),\"\")","v":""},{"$f":"IFERROR(VLOOKUP($A49,masterlist!$C$2:$AA$200,2,FALSE),\"\")","v":""},{"$f":"IFERROR(VLOOKUP($A49,masterlist!$C$2:$AA$200,5,FALSE),\"\")","v":""},{"$f":"IFERROR(IF((VLOOKUP($A49,masterlist!$C$2:$AA$200,9,FALSE))=0,\"\",VLOOKUP($A49,masterlist!$C$2:$AA$200,9,FALSE)),\"\")","v":""},{"$f":"IFERROR(VLOOKUP($A49,masterlist!$C$2:$AA$200,20,FALSE),\"\")","v":""},{"$f":"IFERROR(VLOOKUP($A49,masterlist!$C$2:$AA$200,21,FALSE),\"\")","v":""},{"$f":"IFERROR(VLOOKUP($A49,masterlist!$C$2:$AA$200,22,FALSE),\"\")","v":""},{"$f":"IFERROR(IF($B$7=2,(VLOOKUP($A49,masterlist!$C$2:$AA$200,23,FALSE)-11),IF($B$7=4,(VLOOKUP($A49,masterlist!$C$2:$AA$200,23,FALSE)-9),IF($B$7=7,(VLOOKUP($A49,masterlist!$C$2:$AA$200,23,FALSE)-6),IF($B$7=10,(VLOOKUP($A49,masterlist!$C$2:$AA$200,23,FALSE)-3),(VLOOKUP($A49,masterlist!$C$2:$AA$200,23,FALSE)))))),\"\")","v":""},{"$f":"IFERROR(VLOOKUP($A49,masterlist!$C$2:$AA$200,24,FALSE),\"\")","v":""}]
[{"$f":"IF(ROWS($A$13:A50)<=(SUMPRODUCT((masterlist!B:B=\"IEC\")*(masterlist!J:J=0))),INDEX(masterlist!$C$2:$C$200,SMALL(IF(masterlist!$B$2:$B$200=\"IEC\",IF(masterlist!$F$2:$F$200>0,IF(masterlist!$J$2:$J$200=0,ROW(masterlist!$B$2:$B$200)-ROW(masterlist!$B$2)+1))),ROWS($A$13:A50))),\"\")","v":""}]

{"sheet":"CCI","index":38,"n_rows":2,"n_cols":8,"rows_kept":2,"cut":false,"hidden":true,"merged":[[1,3,1,9],[0,1,0,6],[0,7,0,9]]}
[null,"Cross-cutting Issues",null,null,null,null,null,"Practical Workplan towards Achieving Rabies Elimination"]
[null,null,null,"The successful control and elimination of rabies has been shown to rely on a unified approach at both the national and regional levels, with additional support arising from global human and animal health organisations. The One Health approach exemplifies inter-sectoral communication and collaboration, where different disciplines combine their skills and resources towards a common, achievable goal. Due to the zoonotic nature of rabies, both the medical and veterinary sector must be included and must be active in the rabies control strategy so that all of the multiple aspects of rabies can be successfully addressed. "]

{"sheet":"CCIgantt","index":39,"n_rows":50,"n_cols":17,"rows_kept":50,"cut":false,"hidden":true,"merged":[[0,1,0,16],[1,1,1,6],[2,1,2,16]]}
[null,"Practical Workplan towards Achieving Rabies Elimination"]
[]
[null,"Cross-Cutting Issues - GANTT CHART"]
[]
[null,null,null,null,1,2,3,4,5,6,7,8,9,10,11,12,13]
[null,"Theme","Stage","Activity",{"$f":"'NW country'!$E$35","v":2018},{"$f":"IF('NW country'!$K$4<6,E6+1,\"\")","v":2019},{"$f":"IF('NW country'!$K$4<5,E6+2,\"\")","v":2020},{"$f":"IF('NW country'!$K$4<5,E6+3,\"\")","v":2021},{"$f":"IF('NW country'!$K$4<4,E6+4,\"\")","v":2022},{"$f":"IF('NW country'!$K$4<4,E6+5,\"\")","v":2023},{"$f":"IF('NW country'!$K$4<4,E6+6,\"\")","v":2024},{"$f":"IF('NW country'!$K$4<3,E6+7,\"\")","v":2025},{"$f":"IF('NW country'!$K$4<3,E6+8,\"\")","v":2026},{"$f":"IF('NW country'!$K$4<3,E6+9,\"\")","v":2027},{"$f":"IF('NW country'!$K$4<2,E6+10,\"\")","v":""},{"$f":"IF('NW country'!$K$4<2,E6+11,\"\")","v":""},{"$f":"IF('NW country'!$K$4<2,E6+12,\"\")","v":""}]
[13,{"$f":"IF((INDIRECT(\"CCI!\"&\"$a\"&$A7))=0,\"\",INDIRECT(\"CCI!\"&\"$c\"&$A7))","v":""},{"$f":"IF(INDIRECT(\"CCI!\"&\"$a\"&$A7)=0,\"\",INDIRECT(\"CCI!\"&\"$b\"&$A7))","v":""},{"$f":"IF(INDIRECT(\"CCI!\"&\"$a\"&$A7)=0,\"\",INDIRECT(\"CCI!\"&\"$d\"&$A7))","v":""},{"$f":"IF($C7>6,\"\",IF(E$5<=INDIRECT(\"CCI!\"&\"$i\"&$A7),\"X\",\"\"))","v":""},{"$f":"IF($C7>6,\"\",IF(F$5<=INDIRECT(\"CCI!\"&\"$i\"&$A7),\"X\",\"\"))","v":""},"","","","","","","","","","",""]
[14,{"$f":"IF((INDIRECT(\"CCI!\"&\"$a\"&$A8))=0,\"\",INDIRECT(\"CCI!\"&\"$c\"&$A8))","v":""},{"$f":"IF(INDIRECT(\"CCI!\"&\"$a\"&$A8)=0,\"\",INDIRECT(\"CCI!\"&\"$b\"&$A8))","v":""},{"$f":"IF(INDIRECT(\"CCI!\"&\"$a\"&$A8)=0,\"\",INDIRECT(\"CCI!\"&\"$d\"&$A8))","v":""},{"$f":"IF($C8>6,\"\",IF(E$5<=INDIRECT(\"CCI!\"&\"$i\"&$A8),\"X\",\"\"))","v":""},"","","","","","","","","","","",""]
[15,"","","","","","","","","","","","","","","",""]
[16,"","","","","","","","","","","","","","","",""]
[17,"","","","","","","","","","","","","","","",""]
[18,"","","","","","","","","","","","","","","",""]
[19,"","","","","","","","","","","","","","","",""]
[20,"","","","","","","","","","","","","","","",""]
[21,"","","","","","","","","","","","","","","",""]
[22,"","","","","","","","","","","","","","","",""]
[23,"","","","","","","","","","","","","","","",""]
[24,"","","","","","","","","","","","","","","",""]
[25,"","","","","","","","","","","","","","","",""]
[26,"","","","","","","","","","","","","","","",""]
[27,"","","","","","","","","","","","","","","",""]
[28,"","","","","","","","","","","","","","","",""]
[29,"","","","","","","","","","","","","","","",""]
[30,"","","","","","","","","","","","","","","",""]
[31,"","","","","","","","","","","","","","","",""]
[32,"","","","","","","","","","","","","","","",""]
[33,"","","","","","","","","","","","","","","",""]
[34,"","","","","","","","","","","","","","","",""]
[35,"","","","","","","","","","","","","","","",""]
[36,"","","","","","","","","","","","","","","",""]
[37,"","","","","","","","","","","","","","","",""]
[38,"","","","","","","","","","","","","","","",""]
[39,"","","","","","","","","","","","","","","",""]
[40,"","","","","","","","","","","","","","","",""]
[41,"","","","","","","","","","","","","","","",""]
[42,"","","","","","","","","","","","","","","",""]
[43,"","","","","","","","","","","","","","","",""]
[44,"","","","","","","","","","","","","","","",""]
[45,"","","","","","","","","","","","","","","",""]
[46,"","","","","","","","","","","","","","","",""]
[47,"","","","","","","","","",{"$f":"IF($C41>6,\"\",IF(K$5<=INDIRECT(\"CCI!\"&\"$i\"&$A41),\"X\",\"\"))","v":""},"","","","","",""]
[48,"","","",{"$f":"IF($C42>6,\"\",IF(E$5<=INDIRECT(\"CCI!\"&\"$i\"&$A42),\"X\",\"\"))","v":""},"","","","","","","","","","","",""]
[49,"","","","","","","","","","","","","","","",""]
[50,"","","","","","","","","","","","","","","",""]
[51,"","","","","","","","","","","","","","","",""]
[52,"","","","","","","","","","","","","","","",""]
[53,"","","","","","","","","","","","","","","",""]
[54,"","","","","","","","","","","","","","","",""]
[55,"","","","","","","","","","","","","","","",""]
[56,{"$f":"IF((INDIRECT(\"DCA!\"&\"$a\"&$A50))=0,\"\",INDIRECT(\"DCA!\"&\"$c\"&$A50))","v":""},{"$f":"IF(INDIRECT(\"DCA!\"&\"$a\"&$A50)=0,\"\",INDIRECT(\"DCA!\"&\"$b\"&$A50))","v":""},{"$f":"IF(INDIRECT(\"DCA!\"&\"$a\"&$A50)=0,\"\",INDIRECT(\"DCA!\"&\"$d\"&$A50))","v":""},{"$f":"IF($C50>6,\"\",IF(E$5<=INDIRECT(\"DCA!\"&\"$i\"&$A50),\"X\",\"\"))","v":""},"","","","","","","","","","","",""]

{"sheet":"rawleg","index":40,"n_rows":50,"n_cols":10,"rows_kept":50,"cut":false,"hidden":true,"merged":[[0,1,0,3],[0,4,0,9],[1,1,1,9],[4,1,5,3],[6,1,8,3]]}
[null,"Practical Workplan towards Achieving Rabies Elimination",null,null,"Prevention and Control"]
[null,"Blurb blurb blurb blah blurb blurb"]
[]
[]
[null,"Years to rabies elimination",null,null,null,"All stage 0 and 1 activities should ideally be completed within a 3-year period",null,null,null,{"$f":"IF('NW country'!$K$4<2,\"Years 1, 2 and 3\",\"--\")","v":"--"}]
[null,null,null,null,null,"All stage 2 activities should ideally be completed within a 3-year period",null,null,null,{"$f":"IF('NW country'!$K$4<2,\"Years 4, 5 and 6\",IF('NW country'!$K$4<3,\"Years 1, 2 and 3\",\"--\"))","v":"Years 1, 2 and 3"}]
[null,{"$f":"IF('NW country'!$K$4<2,13,IF('NW country'!$K$4<3,10,IF('NW country'!$K$4<4,7,IF('NW country'!$K$4<5,4,2))))","v":10},null,null,null,"All stage 3 activities should ideally be completed within a 3-year period",null,null,null,{"$f":"IF('NW country'!$K$4<2,\"Years 7, 8 and 9\",IF('NW country'!$K$4<3,\"Years 4, 5 and 6\",IF('NW country'!$K$4<4,\"Years 1, 2 and 3\",\"--\")))","v":"Years 4, 5 and 6"}]
[null,null,null,null,null,"All stage 4 activities should ideally be completed within a 2-year period",null,null,null,{"$f":"IF('NW country'!$K$4<2,\"Years 10 and 11\",IF('NW country'!$K$4<3,\"Years 7 and 8\",IF('NW country'!$K$4<4,\"Years 4 and 5\",IF('NW country'!$K$4<5,\"Years 1 and 2\",\"--\"))))","v":"Years 7 and 8"}]
[null,null,null,null,null,"All stage 5 activities should ideally be completed within a 2-year period",null,null,null,{"$f":"IF('NW country'!$K$4<2,\"Years 12 and 13\",IF('NW country'!$K$4<3,\"Years 9 and 10\",IF('NW country'!$K$4<4,\"Years 6 and 7\",IF('NW country'!$K$4<5,\"Years 3 and 4\",\"Years 1 and 2\"))))","v":"Years 9 and 10"}]
[]
[null,"INSTRUCTIONS:   Please edit the Objectives, Responsible authority, and Year of completion as applicable to your country"]
["ID","Stage","Theme","Pending activity","Comments from SARE tool","Objectives","Outcomes","Responsible authority","Number of years to  completion  (see above)","Deliverables"]
[{"$f":"IF(ROWS($A$13:A13)<=(SUMPRODUCT((masterlist!B:B=\"LEG\")*(masterlist!J:J=0))),INDEX(masterlist!$C$2:$C$200,SMALL(IF(masterlist!$B$2:$B$200=\"LEG\",IF(masterlist!$F$2:$F$200>0,IF(masterlist!$J$2:$J$200=0,ROW(masterlist!$B$2:$B$200)-ROW(masterlist!$B$2)+1))),ROWS($A$13:A13))),\"\")","v":"LEG-Ani-1-2"},{"$f":"IFERROR(VLOOKUP($A13,masterlist!$C$2:$AA$200,3,FALSE),\"\")","v":1},{"$f":"IFERROR(VLOOKUP($A13,masterlist!$C$2:$AA$200,2,FALSE),\"\")","v":"Animal rabies national case definition"},{"$f":"IFERROR(VLOOKUP($A13,masterlist!$C$2:$AA$200,5,FALSE),\"\")","v":"Has the case definition for animal rabies been shared with all of the relevant professionals?"},{"$f":"IFERROR(IF((VLOOKUP($A13,masterlist!$C$2:$AA$200,9,FALSE))=0,\"\",VLOOKUP($A13,masterlist!$C$2:$AA$200,9,FALSE)),\"\")","v":""},{"$f":"IFERROR(VLOOKUP($A13,masterlist!$C$2:$AA$200,20,FALSE),\"\")","v":"Identify whether case definition for rabies in animals is available;\nReview case definition in accordance with international guidelines;\nIdentify all relevant professionals that would rely on the case definition;\nAssess whether rabies professionals are aware of case definition;\nShare relevant case definition with all professionals involved in rabies control;"},{"$f":"IFERROR(VLOOKUP($A13,masterlist!$C$2:$AA$200,21,FALSE),\"\")","v":"All professionals are aware of the relevant case definition for rabies"},{"$f":"IFERROR(VLOOKUP($A13,masterlist!$C$2:$AA$200,22,FALSE),\"\")","v":"Ministry of Agriculture"},{"$f":"IFERROR(IF($B$7=2,(VLOOKUP($A13,masterlist!$C$2:$AA$200,23,FALSE)-11),IF($B$7=4,(VLOOKUP($A13,masterlist!$C$2:$AA$200,23,FALSE)-9),IF($B$7=7,(VLOOKUP($A13,masterlist!$C$2:$AA$200,23,FALSE)-6),IF($B$7=10,(VLOOKUP($A13,masterlist!$C$2:$AA$200,23,FALSE)-3),(VLOOKUP($A13,masterlist!$C$2:$AA$200,23,FALSE)))))),\"\")","v":-1},{"$f":"IFERROR(VLOOKUP($A13,masterlist!$C$2:$AA$200,24,FALSE),\"\")","v":"Number of professionals informed of new case definition;"}]
[{"$f":"IF(ROWS($A$13:A14)<=(SUMPRODUCT((masterlist!B:B=\"LEG\")*(masterlist!J:J=0))),INDEX(masterlist!$C$2:$C$200,SMALL(IF(masterlist!$B$2:$B$200=\"LEG\",IF(masterlist!$F$2:$F$200>0,IF(masterlist!$J$2:$J$200=0,ROW(masterlist!$B$2:$B$200)-ROW(masterlist!$B$2)+1))),ROWS($A$13:A14))),\"\")","v":"LEG-Hum-1-4"},{"$f":"IFERROR(VLOOKUP($A14,masterlist!$C$2:$AA$200,3,FALSE),\"\")","v":1},{"$f":"IFERROR(VLOOKUP($A14,masterlist!$C$2:$AA$200,2,FALSE),\"\")","v":"Human rabies national case definition"},{"$f":"IFERROR(VLOOKUP($A14,masterlist!$C$2:$AA$200,5,FALSE),\"\")","v":"Has the case definition for human rabies been shared with all of the relevant professionals?"},{"$f":"IFERROR(IF((VLOOKUP($A14,masterlist!$C$2:$AA$200,9,FALSE))=0,\"\",VLOOKUP($A14,masterlist!$C$2:$AA$200,9,FALSE)),\"\")","v":""},{"$f":"IFERROR(VLOOKUP($A14,masterlist!$C$2:$AA$200,20,FALSE),\"\")","v":"Identify whether case definition for rabies in humans is available;\nReview case definition in accordance with international guidelines;\nIdentify all relevant professionals that would rely on the case definition;\nAssess whether rabies professionals are aware of case definition;\nShare relevant case definition with all professionals involved in rabies control;"},{"$f":"IFERROR(VLOOKUP($A14,masterlist!$C$2:$AA$200,21,FALSE),\"\")","v":"All professionals are aware of the relevant case definition for rabies"},{"$f":"IFERROR(VLOOKUP($A14,masterlist!$C$2:$AA$200,22,FALSE),\"\")","v":"Ministry of Health"},{"$f":"IFERROR(IF($B$7=2,(VLOOKUP($A14,masterlist!$C$2:$AA$200,23,FALSE)-11),IF($B$7=4,(VLOOKUP($A14,masterlist!$C$2:$AA$200,23,FALSE)-9),IF($B$7=7,(VLOOKUP($A14,masterlist!$C$2:$AA$200,23,FALSE)-6),IF($B$7=10,(VLOOKUP($A14,masterlist!$C$2:$AA$200,23,FALSE)-3),(VLOOKUP($A14,masterlist!$C$2:$AA$200,23,FALSE)))))),\"\")","v":-1},{"$f":"IFERROR(VLOOKUP($A14,masterlist!$C$2:$AA$200,24,FALSE),\"\")","v":"Number of professionals informed of new case definition;"}]
[{"$f":"IF(ROWS($A$13:A15)<=(SUMPRODUCT((masterlist!B:B=\"LEG\")*(masterlist!J:J=0))),INDEX(masterlist!$C$2:$C$200,SMALL(IF(masterlist!$B$2:$B$200=\"LEG\",IF(masterlist!$F$2:$F$200>0,IF(masterlist!$J$2:$J$200=0,ROW(masterlist!$B$2:$B$200)-ROW(masterlist!$B$2)+1))),ROWS($A$13:A15))),\"\")","v":"LEG-Leg-1-6"},{"$f":"IFERROR(VLOOKUP($A15,masterlist!$C$2:$AA$200,3,FALSE),\"\")","v":1},{"$f":"IFERROR(VLOOKUP($A15,masterlist!$C$2:$AA$200,2,FALSE),\"\")","v":"Legal Framework"},{"$f":"IFERROR(VLOOKUP($A15,masterlist!$C$2:$AA$200,5,FALSE),\"\")","v":"If there is legislation, has it been reviewed and endorsed?"},{"$f":"IFERROR(IF((VLOOKUP($A15,masterlist!$C$2:$AA$200,9,FALSE))=0,\"\",VLOOKUP($A15,masterlist!$C$2:$AA$200,9,FALSE)),\"\")","v":""},{"$f":"IFERROR(VLOOKUP($A15,masterlist!$C$2:$AA$200,20,FALSE),\"\")","v":"Assess identified legislation to determine if applicable to rabies control;\nReview identified legislation to determine relevance and date of revision;\nFollow due process to have the relevant legislation updated if required and endorsed;\nCirculate the updated legislation with all relevant professionals;"},{"$f":"IFERROR(VLOOKUP($A15,masterlist!$C$2:$AA$200,21,FALSE),\"\")","v":"All legislation has been reviewed, possibly updated and endorsed for potential to be enforced"},{"$f":"IFERROR(VLOOKUP($A15,masterlist!$C$2:$AA$200,22,FALSE),\"\")","v":"Ministry of Agriculture;\nMinistry of Health; "},{"$f":"IFERROR(IF($B$7=2,(VLOOKUP($A15,masterlist!$C$2:$AA$200,23,FALSE)-11),IF($B$7=4,(VLOOKUP($A15,masterlist!$C$2:$AA$200,23,FALSE)-9),IF($B$7=7,(VLOOKUP($A15,masterlist!$C$2:$AA$200,23,FALSE)-6),IF($B$7=10,(VLOOKUP($A15,masterlist!$C$2:$AA$200,23,FALSE)-3),(VLOOKUP($A15,masterlist!$C$2:$AA$200,23,FALSE)))))),\"\")","v":0},{"$f":"IFERROR(VLOOKUP($A15,masterlist!$C$2:$AA$200,24,FALSE),\"\")","v":"Number of legislations directly relating to rabies updated, reviewed and endorsed;"}]
[{"$f":"IF(ROWS($A$13:A16)<=(SUMPRODUCT((masterlist!B:B=\"LEG\")*(masterlist!J:J=0))),INDEX(masterlist!$C$2:$C$200,SMALL(IF(masterlist!$B$2:$B$200=\"LEG\",IF(masterlist!$F$2:$F$200>0,IF(masterlist!$J$2:$J$200=0,ROW(masterlist!$B$2:$B$200)-ROW(masterlist!$B$2)+1))),ROWS($A$13:A16))),\"\")","v":"LEG-Leg-2-10"},{"$f":"IFERROR(VLOOKUP($A16,masterlist!$C$2:$AA$200,3,FALSE),\"\")","v":2},{"$f":"IFERROR(VLOOKUP($A16,masterlist!$C$2:$AA$200,2,FALSE),\"\")","v":"Legal Framework"},{"$f":"IFERROR(VLOOKUP($A16,masterlist!$C$2:$AA$200,5,FALSE),\"\")","v":"Does the legislation regarding nationally licenced vaccines reflect that of international guidelines?"},{"$f":"IFERROR(IF((VLOOKUP($A16,masterlist!$C$2:$AA$200,9,FALSE))=0,\"\",VLOOKUP($A16,masterlist!$C$2:$AA$200,9,FALSE)),\"\")","v":""},{"$f":"IFERROR(VLOOKUP($A16,masterlist!$C$2:$AA$200,20,FALSE),\"\")","v":"Identify and assess international guidelines regarding vaccines for rabies control;\nIdentify what vaccine brands are currently used in the country;\nIdentify and review national guidelines and vaccine usage in accordance with international guidelines;\nFinalise and endorse revised national legislation;\nShare updated legislation with relevant professionals\n"},{"$f":"IFERROR(VLOOKUP($A16,masterlist!$C$2:$AA$200,21,FALSE),\"\")","v":"National legislation regarding licenced vaccines reflects that of international guidelines and any alterations to national legislation are communicated with relevant professionals;"},{"$f":"IFERROR(VLOOKUP($A16,masterlist!$C$2:$AA$200,22,FALSE),\"\")","v":"Ministry of Agriculture;\nMinistry of Health; "},{"$f":"IFERROR(IF($B$7=2,(VLOOKUP($A16,masterlist!$C$2:$AA$200,23,FALSE)-11),IF($B$7=4,(VLOOKUP($A16,masterlist!$C$2:$AA$200,23,FALSE)-9),IF($B$7=7,(VLOOKUP($A16,masterlist!$C$2:$AA$200,23,FALSE)-6),IF($B$7=10,(VLOOKUP($A16,masterlist!$C$2:$AA$200,23,FALSE)-3),(VLOOKUP($A16,masterlist!$C$2:$AA$200,23,FALSE)))))),\"\")","v":2},{"$f":"IFERROR(VLOOKUP($A16,masterlist!$C$2:$AA$200,24,FALSE),\"\")","v":"Legislation reflects international guidelines;"}]
[{"$f":"IF(ROWS($A$13:A17)<=(SUMPRODUCT((masterlist!B:B=\"LEG\")*(masterlist!J:J=0))),INDEX(masterlist!$C$2:$C$200,SMALL(IF(masterlist!$B$2:$B$200=\"LEG\",IF(masterlist!$F$2:$F$200>0,IF(masterlist!$J$2:$J$200=0,ROW(masterlist!$B$2:$B$200)-ROW(masterlist!$B$2)+1))),ROWS($A$13:A17))),\"\")","v":""},{"$f":"IFERROR(VLOOKUP($A17,masterlist!$C$2:$AA$200,3,FALSE),\"\")","v":""},{"$f":"IFERROR(VLOOKUP($A17,masterlist!$C$2:$AA$200,2,FALSE),\"\")","v":""},{"$f":"IFERROR(VLOOKUP($A17,masterlist!$C$2:$AA$200,5,FALSE),\"\")","v":""},{"$f":"IFERROR(IF((VLOOKUP($A17,masterlist!$C$2:$AA$200,9,FALSE))=0,\"\",VLOOKUP($A17,masterlist!$C$2:$AA$200,9,FALSE)),\"\")","v":""},{"$f":"IFERROR(VLOOKUP($A17,masterlist!$C$2:$AA$200,20,FALSE),\"\")","v":""},{"$f":"IFERROR(VLOOKUP($A17,masterlist!$C$2:$AA$200,21,FALSE),\"\")","v":""},{"$f":"IFERROR(VLOOKUP($A17,masterlist!$C$2:$AA$200,22,FALSE),\"\")","v":""},{"$f":"IFERROR(IF($B$7=2,(VLOOKUP($A17,masterlist!$C$2:$AA$200,23,FALSE)-11),IF($B$7=4,(VLOOKUP($A17,masterlist!$C$2:$AA$200,23,FALSE)-9),IF($B$7=7,(VLOOKUP($A17,masterlist!$C$2:$AA$200,23,FALSE)-6),IF($B$7=10,(VLOOKUP($A17,masterlist!$C$2:$AA$200,23,FALSE)-3),(VLOOKUP($A17,masterlist!$C$2:$AA$200,23,FALSE)))))),\"\")","v":""},{"$f":"IFERROR(VLOOKUP($A17,masterlist!$C$2:$AA$200,24,FALSE),\"\")","v":""}]
[{"$f":"IF(ROWS($A$13:A18)<=(SUMPRODUCT((masterlist!B:B=\"LEG\")*(masterlist!J:J=0))),INDEX(masterlist!$C$2:$C$200,SMALL(IF(masterlist!$B$2:$B$200=\"LEG\",IF(masterlist!$F$2:$F$200>0,IF(masterlist!$J$2:$J$200=0,ROW(masterlist!$B$2:$B$200)-ROW(masterlist!$B$2)+1))),ROWS($A$13:A18))),\"\")","v":""},{"$f":"IFERROR(VLOOKUP($A18,masterlist!$C$2:$AA$200,3,FALSE),\"\")","v":""},{"$f":"IFERROR(VLOOKUP($A18,masterlist!$C$2:$AA$200,2,FALSE),\"\")","v":""},{"$f":"IFERROR(VLOOKUP($A18,masterlist!$C$2:$AA$200,5,FALSE),\"\")","v":""},{"$f":"IFERROR(IF((VLOOKUP($A18,masterlist!$C$2:$AA$200,9,FALSE))=0,\"\",VLOOKUP($A18,masterlist!$C$2:$AA$200,9,FALSE)),\"\")","v":""},{"$f":"IFERROR(VLOOKUP($A18,masterlist!$C$2:$AA$200,20,FALSE),\"\")","v":""},{"$f":"IFERROR(VLOOKUP($A18,masterlist!$C$2:$AA$200,21,FALSE),\"\")","v":""},{"$f":"IFERROR(VLOOKUP($A18,masterlist!$C$2:$AA$200,22,FALSE),\"\")","v":""},{"$f":"IFERROR(IF($B$7=2,(VLOOKUP($A18,masterlist!$C$2:$AA$200,23,FALSE)-11),IF($B$7=4,(VLOOKUP($A18,masterlist!$C$2:$AA$200,23,FALSE)-9),IF($B$7=7,(VLOOKUP($A18,masterlist!$C$2:$AA$200,23,FALSE)-6),IF($B$7=10,(VLOOKUP($A18,masterlist!$C$2:$AA$200,23,FALSE)-3),(VLOOKUP($A18,masterlist!$C$2:$AA$200,23,FALSE)))))),\"\")","v":""},{"$f":"IFERROR(VLOOKUP($A18,masterlist!$C$2:$AA$200,24,FALSE),\"\")","v":""}]
[{"$f":"IF(ROWS($A$13:A19)<=(SUMPRODUCT((masterlist!B:B=\"LEG\")*(masterlist!J:J=0))),INDEX(masterlist!$C$2:$C$200,SMALL(IF(masterlist!$B$2:$B$200=\"LEG\",IF(masterlist!$F$2:$F$200>0,IF(masterlist!$J$2:$J$200=0,ROW(masterlist!$B$2:$B$200)-ROW(masterlist!$B$2)+1))),ROWS($A$13:A19))),\"\")","v":""},{"$f":"IFERROR(VLOOKUP($A19,masterlist!$C$2:$AA$200,3,FALSE),\"\")","v":""},{"$f":"IFERROR(VLOOKUP($A19,masterlist!$C$2:$AA$200,2,FALSE),\"\")","v":""},{"$f":"IFERROR(VLOOKUP($A19,masterlist!$C$2:$AA$200,5,FALSE),\"\")","v":""},{"$f":"IFERROR(IF((VLOOKUP($A19,masterlist!$C$2:$AA$200,9,FALSE))=0,\"\",VLOOKUP($A19,masterlist!$C$2:$AA$200,9,FALSE)),\"\")","v":""},{"$f":"IFERROR(VLOOKUP($A19,masterlist!$C$2:$AA$200,20,FALSE),\"\")","v":""},{"$f":"IFERROR(VLOOKUP($A19,masterlist!$C$2:$AA$200,21,FALSE),\"\")","v":""},{"$f":"IFERROR(VLOOKUP($A19,masterlist!$C$2:$AA$200,22,FALSE),\"\")","v":""},{"$f":"IFERROR(IF($B$7=2,(VLOOKUP($A19,masterlist!$C$2:$AA$200,23,FALSE)-11),IF($B$7=4,(VLOOKUP($A19,masterlist!$C$2:$AA$200,23,FALSE)-9),IF($B$7=7,(VLOOKUP($A19,masterlist!$C$2:$AA$200,23,FALSE)-6),IF($B$7=10,(VLOOKUP($A19,masterlist!$C$2:$AA$200,23,FALSE)-3),(VLOOKUP($A19,masterlist!$C$2:$AA$200,23,FALSE)))))),\"\")","v":""},{"$f":"IFERROR(VLOOKUP($A19,masterlist!$C$2:$AA$200,24,FALSE),\"\")","v":""}]
[{"$f":"IF(ROWS($A$13:A20)<=(SUMPRODUCT((masterlist!B:B=\"LEG\")*(masterlist!J:J=0))),INDEX(masterlist!$C$2:$C$200,SMALL(IF(masterlist!$B$2:$B$200=\"LEG\",IF(masterlist!$F$2:$F$200>0,IF(masterlist!$J$2:$J$200=0,ROW(masterlist!$B$2:$B$200)-ROW(masterlist!$B$2)+1))),ROWS($A$13:A20))),\"\")","v":""},{"$f":"IFERROR(VLOOKUP($A20,masterlist!$C$2:$AA$200,3,FALSE),\"\")","v":""},{"$f":"IFERROR(VLOOKUP($A20,masterlist!$C$2:$AA$200,2,FALSE),\"\")","v":""},{"$f":"IFERROR(VLOOKUP($A20,masterlist!$C$2:$AA$200,5,FALSE),\"\")","v":""},{"$f":"IFERROR(IF((VLOOKUP($A20,masterlist!$C$2:$AA$200,9,FALSE))=0,\"\",VLOOKUP($A20,masterlist!$C$2:$AA$200,9,FALSE)),\"\")","v":""},{"$f":"IFERROR(VLOOKUP($A20,masterlist!$C$2:$AA$200,20,FALSE),\"\")","v":""},{"$f":"IFERROR(VLOOKUP($A20,masterlist!$C$2:$AA$200,21,FALSE),\"\")","v":""},{"$f":"IFERROR(VLOOKUP($A20,masterlist!$C$2:$AA$200,22,FALSE),\"\")","v":""},{"$f":"IFERROR(IF($B$7=2,(VLOOKUP($A20,masterlist!$C$2:$AA$200,23,FALSE)-11),IF($B$7=4,(VLOOKUP($A20,masterlist!$C$2:$AA$200,23,FALSE)-9),IF($B$7=7,(VLOOKUP($A20,masterlist!$C$2:$AA$200,23,FALSE)-6),IF($B$7=10,(VLOOKUP($A20,masterlist!$C$2:$AA$200,23,FALSE)-3),(VLOOKUP($A20,masterlist!$C$2:$AA$200,23,FALSE)))))),\"\")","v":""},{"$f":"IFERROR(VLOOKUP($A20,masterlist!$C$2:$AA$200,24,FALSE),\"\")","v":""}]
[{"$f":"IF(ROWS($A$13:A21)<=(SUMPRODUCT((masterlist!B:B=\"LEG\")*(masterlist!J:J=0))),INDEX(masterlist!$C$2:$C$200,SMALL(IF(masterlist!$B$2:$B$200=\"LEG\",IF(masterlist!$F$2:$F$200>0,IF(masterlist!$J$2:$J$200=0,ROW(masterlist!$B$2:$B$200)-ROW(masterlist!$B$2)+1))),ROWS($A$13:A21))),\"\")","v":""},{"$f":"IFERROR(VLOOKUP($A21,masterlist!$C$2:$AA$200,3,FALSE),\"\")","v":""},{"$f":"IFERROR(VLOOKUP($A21,masterlist!$C$2:$AA$200,2,FALSE),\"\")","v":""},{"$f":"IFERROR(VLOOKUP($A21,masterlist!$C$2:$AA$200,5,FALSE),\"\")","v":""},{"$f":"IFERROR(IF((VLOOKUP($A21,masterlist!$C$2:$AA$200,9,FALSE))=0,\"\",VLOOKUP($A21,masterlist!$C$2:$AA$200,9,FALSE)),\"\")","v":""},{"$f":"IFERROR(VLOOKUP($A21,masterlist!$C$2:$AA$200,20,FALSE),\"\")","v":""},{"$f":"IFERROR(VLOOKUP($A21,masterlist!$C$2:$AA$200,21,FALSE),\"\")","v":""},{"$f":"IFERROR(VLOOKUP($A21,masterlist!$C$2:$AA$200,22,FALSE),\"\")","v":""},{"$f":"IFERROR(IF($B$7=2,(VLOOKUP($A21,masterlist!$C$2:$AA$200,23,FALSE)-11),IF($B$7=4,(VLOOKUP($A21,masterlist!$C$2:$AA$200,23,FALSE)-9),IF($B$7=7,(VLOOKUP($A21,masterlist!$C$2:$AA$200,23,FALSE)-6),IF($B$7=10,(VLOOKUP($A21,masterlist!$C$2:$AA$200,23,FALSE)-3),(VLOOKUP($A21,masterlist!$C$2:$AA$200,23,FALSE)))))),\"\")","v":""},{"$f":"IFERROR(VLOOKUP($A21,masterlist!$C$2:$AA$200,24,FALSE),\"\")","v":""}]
[{"$f":"IF(ROWS($A$13:A22)<=(SUMPRODUCT((masterlist!B:B=\"LEG\")*(masterlist!J:J=0))),INDEX(masterlist!$C$2:$C$200,SMALL(IF(masterlist!$B$2:$B$200=\"LEG\",IF(masterlist!$F$2:$F$200>0,IF(masterlist!$J$2:$J$200=0,ROW(masterlist!$B$2:$B$200)-ROW(masterlist!$B$2)+1))),ROWS($A$13:A22))),\"\")","v":""},{"$f":"IFERROR(VLOOKUP($A22,masterlist!$C$2:$AA$200,3,FALSE),\"\")","v":""},{"$f":"IFERROR(VLOOKUP($A22,masterlist!$C$2:$AA$200,2,FALSE),\"\")","v":""},{"$f":"IFERROR(VLOOKUP($A22,masterlist!$C$2:$AA$200,5,FALSE),\"\")","v":""},{"$f":"IFERROR(IF((VLOOKUP($A22,masterlist!$C$2:$AA$200,9,FALSE))=0,\"\",VLOOKUP($A22,masterlist!$C$2:$AA$200,9,FALSE)),\"\")","v":""},{"$f":"IFERROR(VLOOKUP($A22,masterlist!$C$2:$AA$200,20,FALSE),\"\")","v":""},{"$f":"IFERROR(VLOOKUP($A22,masterlist!$C$2:$AA$200,21,FALSE),\"\")","v":""},{"$f":"IFERROR(VLOOKUP($A22,masterlist!$C$2:$AA$200,22,FALSE),\"\")","v":""},{"$f":"IFERROR(IF($B$7=2,(VLOOKUP($A22,masterlist!$C$2:$AA$200,23,FALSE)-11),IF($B$7=4,(VLOOKUP($A22,masterlist!$C$2:$AA$200,23,FALSE)-9),IF($B$7=7,(VLOOKUP($A22,masterlist!$C$2:$AA$200,23,FALSE)-6),IF($B$7=10,(VLOOKUP($A22,masterlist!$C$2:$AA$200,23,FALSE)-3),(VLOOKUP($A22,masterlist!$C$2:$AA$200,23,FALSE)))))),\"\")","v":""},{"$f":"IFERROR(VLOOKUP($A22,masterlist!$C$2:$AA$200,24,FALSE),\"\")","v":""}]
[{"$f":"IF(ROWS($A$13:A23)<=(SUMPRODUCT((masterlist!B:B=\"LEG\")*(masterlist!J:J=0))),INDEX(masterlist!$C$2:$C$200,SMALL(IF(masterlist!$B$2:$B$200=\"LEG\",IF(masterlist!$F$2:$F$200>0,IF(masterlist!$J$2:$J$200=0,ROW(masterlist!$B$2:$B$200)-ROW(masterlist!$B$2)+1))),ROWS($A$13:A23))),\"\")","v":""},{"$f":"IFERROR(VLOOKUP($A23,masterlist!$C$2:$AA$200,3,FALSE),\"\")","v":""},{"$f":"IFERROR(VLOOKUP($A23,masterlist!$C$2:$AA$200,2,FALSE),\"\")","v":""},{"$f":"IFERROR(VLOOKUP($A23,masterlist!$C$2:$AA$200,5,FALSE),\"\")","v":""},{"$f":"IFERROR(IF((VLOOKUP($A23,masterlist!$C$2:$AA$200,9,FALSE))=0,\"\",VLOOKUP($A23,masterlist!$C$2:$AA$200,9,FALSE)),\"\")","v":""},{"$f":"IFERROR(VLOOKUP($A23,masterlist!$C$2:$AA$200,20,FALSE),\"\")","v":""},{"$f":"IFERROR(VLOOKUP($A23,masterlist!$C$2:$AA$200,21,FALSE),\"\")","v":""},{"$f":"IFERROR(VLOOKUP($A23,masterlist!$C$2:$AA$200,22,FALSE),\"\")","v":""},{"$f":"IFERROR(IF($B$7=2,(VLOOKUP($A23,masterlist!$C$2:$AA$200,23,FALSE)-11),IF($B$7=4,(VLOOKUP($A23,masterlist!$C$2:$AA$200,23,FALSE)-9),IF($B$7=7,(VLOOKUP($A23,masterlist!$C$2:$AA$200,23,FALSE)-6),IF($B$7=10,(VLOOKUP($A23,masterlist!$C$2:$AA$200,23,FALSE)-3),(VLOOKUP($A23,masterlist!$C$2:$AA$200,23,FALSE)))))),\"\")","v":""},{"$f":"IFERROR(VLOOKUP($A23,masterlist!$C$2:$AA$200,24,FALSE),\"\")","v":""}]
[{"$f":"IF(ROWS($A$13:A24)<=(SUMPRODUCT((masterlist!B:B=\"LEG\")*(masterlist!J:J=0))),INDEX(masterlist!$C$2:$C$200,SMALL(IF(masterlist!$B$2:$B$200=\"LEG\",IF(masterlist!$F$2:$F$200>0,IF(masterlist!$J$2:$J$200=0,ROW(masterlist!$B$2:$B$200)-ROW(masterlist!$B$2)+1))),ROWS($A$13:A24))),\"\")","v":""},{"$f":"IFERROR(VLOOKUP($A24,masterlist!$C$2:$AA$200,3,FALSE),\"\")","v":""},{"$f":"IFERROR(VLOOKUP($A24,masterlist!$C$2:$AA$200,2,FALSE),\"\")","v":""},{"$f":"IFERROR(VLOOKUP($A24,masterlist!$C$2:$AA$200,5,FALSE),\"\")","v":""},{"$f":"IFERROR(IF((VLOOKUP($A24,masterlist!$C$2:$AA$200,9,FALSE))=0,\"\",VLOOKUP($A24,masterlist!$C$2:$AA$200,9,FALSE)),\"\")","v":""},{"$f":"IFERROR(VLOOKUP($A24,masterlist!$C$2:$AA$200,20,FALSE),\"\")","v":""},{"$f":"IFERROR(VLOOKUP($A24,masterlist!$C$2:$AA$200,21,FALSE),\"\")","v":""},{"$f":"IFERROR(VLOOKUP($A24,masterlist!$C$2:$AA$200,22,FALSE),\"\")","v":""},{"$f":"IFERROR(IF($B$7=2,(VLOOKUP($A24,masterlist!$C$2:$AA$200,23,FALSE)-11),IF($B$7=4,(VLOOKUP($A24,masterlist!$C$2:$AA$200,23,FALSE)-9),IF($B$7=7,(VLOOKUP($A24,masterlist!$C$2:$AA$200,23,FALSE)-6),IF($B$7=10,(VLOOKUP($A24,masterlist!$C$2:$AA$200,23,FALSE)-3),(VLOOKUP($A24,masterlist!$C$2:$AA$200,23,FALSE)))))),\"\")","v":""},{"$f":"IFERROR(VLOOKUP($A24,masterlist!$C$2:$AA$200,24,FALSE),\"\")","v":""}]
[{"$f":"IF(ROWS($A$13:A25)<=(SUMPRODUCT((masterlist!B:B=\"LEG\")*(masterlist!J:J=0))),INDEX(masterlist!$C$2:$C$200,SMALL(IF(masterlist!$B$2:$B$200=\"LEG\",IF(masterlist!$F$2:$F$200>0,IF(masterlist!$J$2:$J$200=0,ROW(masterlist!$B$2:$B$200)-ROW(masterlist!$B$2)+1))),ROWS($A$13:A25))),\"\")","v":""},{"$f":"IFERROR(VLOOKUP($A25,masterlist!$C$2:$AA$200,3,FALSE),\"\")","v":""},{"$f":"IFERROR(VLOOKUP($A25,masterlist!$C$2:$AA$200,2,FALSE),\"\")","v":""},{"$f":"IFERROR(VLOOKUP($A25,masterlist!$C$2:$AA$200,5,FALSE),\"\")","v":""},{"$f":"IFERROR(IF((VLOOKUP($A25,masterlist!$C$2:$AA$200,9,FALSE))=0,\"\",VLOOKUP($A25,masterlist!$C$2:$AA$200,9,FALSE)),\"\")","v":""},{"$f":"IFERROR(VLOOKUP($A25,masterlist!$C$2:$AA$200,20,FALSE),\"\")","v":""},{"$f":"IFERROR(VLOOKUP($A25,masterlist!$C$2:$AA$200,21,FALSE),\"\")","v":""},{"$f":"IFERROR(VLOOKUP($A25,masterlist!$C$2:$AA$200,22,FALSE),\"\")","v":""},{"$f":"IFERROR(IF($B$7=2,(VLOOKUP($A25,masterlist!$C$2:$AA$200,23,FALSE)-11),IF($B$7=4,(VLOOKUP($A25,masterlist!$C$2:$AA$200,23,FALSE)-9),IF($B$7=7,(VLOOKUP($A25,masterlist!$C$2:$AA$200,23,FALSE)-6),IF($B$7=10,(VLOOKUP($A25,masterlist!$C$2:$AA$200,23,FALSE)-3),(VLOOKUP($A25,masterlist!$C$2:$AA$200,23,FALSE)))))),\"\")","v":""},{"$f":"IFERROR(VLOOKUP($A25,masterlist!$C$2:$AA$200,24,FALSE),\"\")","v":""}]
[{"$f":"IF(ROWS($A$13:A26)<=(SUMPRODUCT((masterlist!B:B=\"LEG\")*(masterlist!J:J=0))),INDEX(masterlist!$C$2:$C$200,SMALL(IF(masterlist!$B$2:$B$200=\"LEG\",IF(masterlist!$F$2:$F$200>0,IF(masterlist!$J$2:$J$200=0,ROW(masterlist!$B$2:$B$200)-ROW(masterlist!$B$2)+1))),ROWS($A$13:A26))),\"\")","v":""},{"$f":"IFERROR(VLOOKUP($A26,masterlist!$C$2:$AA$200,3,FALSE),\"\")","v":""},{"$f":"IFERROR(VLOOKUP($A26,masterlist!$C$2:$AA$200,2,FALSE),\"\")","v":""},{"$f":"IFERROR(VLOOKUP($A26,masterlist!$C$2:$AA$200,5,FALSE),\"\")","v":""},{"$f":"IFERROR(IF((VLOOKUP($A26,masterlist!$C$2:$AA$200,9,FALSE))=0,\"\",VLOOKUP($A26,masterlist!$C$2:$AA$200,9,FALSE)),\"\")","v":""},{"$f":"IFERROR(VLOOKUP($A26,masterlist!$C$2:$AA$200,20,FALSE),\"\")","v":""},{"$f":"IFERROR(VLOOKUP($A26,masterlist!$C$2:$AA$200,21,FALSE),\"\")","v":""},{"$f":"IFERROR(VLOOKUP($A26,masterlist!$C$2:$AA$200,22,FALSE),\"\")","v":""},{"$f":"IFERROR(IF($B$7=2,(VLOOKUP($A26,masterlist!$C$2:$AA$200,23,FALSE)-11),IF($B$7=4,(VLOOKUP($A26,masterlist!$C$2:$AA$200,23,FALSE)-9),IF($B$7=7,(VLOOKUP($A26,masterlist!$C$2:$AA$200,23,FALSE)-6),IF($B$7=10,(VLOOKUP($A26,masterlist!$C$2:$AA$200,23,FALSE)-3),(VLOOKUP($A26,masterlist!$C$2:$AA$200,23,FALSE)))))),\"\")","v":""},{"$f":"IFERROR(VLOOKUP($A26,masterlist!$C$2:$AA$200,24,FALSE),\"\")","v":""}]
[{"$f":"IF(ROWS($A$13:A27)<=(SUMPRODUCT((masterlist!B:B=\"LEG\")*(masterlist!J:J=0))),INDEX(masterlist!$C$2:$C$200,SMALL(IF(masterlist!$B$2:$B$200=\"LEG\",IF(masterlist!$F$2:$F$200>0,IF(masterlist!$J$2:$J$200=0,ROW(masterlist!$B$2:$B$200)-ROW(masterlist!$B$2)+1))),ROWS($A$13:A27))),\"\")","v":""},{"$f":"IFERROR(VLOOKUP($A27,masterlist!$C$2:$AA$200,3,FALSE),\"\")","v":""},{"$f":"IFERROR(VLOOKUP($A27,masterlist!$C$2:$AA$200,2,FALSE),\"\")","v":""},{"$f":"IFERROR(VLOOKUP($A27,masterlist!$C$2:$AA$200,5,FALSE),\"\")","v":""},{"$f":"IFERROR(IF((VLOOKUP($A27,masterlist!$C$2:$AA$200,9,FALSE))=0,\"\",VLOOKUP($A27,masterlist!$C$2:$AA$200,9,FALSE)),\"\")","v":""},{"$f":"IFERROR(VLOOKUP($A27,masterlist!$C$2:$AA$200,20,FALSE),\"\")","v":""},{"$f":"IFERROR(VLOOKUP($A27,masterlist!$C$2:$AA$200,21,FALSE),\"\")","v":""},{"$f":"IFERROR(VLOOKUP($A27,masterlist!$C$2:$AA$200,22,FALSE),\"\")","v":""},{"$f":"IFERROR(IF($B$7=2,(VLOOKUP($A27,masterlist!$C$2:$AA$200,23,FALSE)-11),IF($B$7=4,(VLOOKUP($A27,masterlist!$C$2:$AA$200,23,FALSE)-9),IF($B$7=7,(VLOOKUP($A27,masterlist!$C$2:$AA$200,23,FALSE)-6),IF($B$7=10,(VLOOKUP($A27,masterlist!$C$2:$AA$200,23,FALSE)-3),(VLOOKUP($A27,masterlist!$C$2:$AA$200,23,FALSE)))))),\"\")","v":""},{"$f":"IFERROR(VLOOKUP($A27,masterlist!$C$2:$AA$200,24,FALSE),\"\")","v":""}]
[{"$f":"IF(ROWS($A$13:A28)<=(SUMPRODUCT((masterlist!B:B=\"LEG\")*(masterlist!J:J=0))),INDEX(masterlist!$C$2:$C$200,SMALL(IF(masterlist!$B$2:$B$200=\"LEG\",IF(masterlist!$F$2:$F$200>0,IF(masterlist!$J$2:$J$200=0,ROW(masterlist!$B$2:$B$200)-ROW(masterlist!$B$2)+1))),ROWS($A$13:A28))),\"\")","v":""},{"$f":"IFERROR(VLOOKUP($A28,masterlist!$C$2:$AA$200,3,FALSE),\"\")","v":""},{"$f":"IFERROR(VLOOKUP($A28,masterlist!$C$2:$AA$200,2,FALSE),\"\")","v":""},{"$f":"IFERROR(VLOOKUP($A28,masterlist!$C$2:$AA$200,5,FALSE),\"\")","v":""},{"$f":"IFERROR(IF((VLOOKUP($A28,masterlist!$C$2:$AA$200,9,FALSE))=0,\"\",VLOOKUP($A28,masterlist!$C$2:$AA$200,9,FALSE)),\"\")","v":""},{"$f":"IFERROR(VLOOKUP($A28,masterlist!$C$2:$AA$200,20,FALSE),\"\")","v":""},{"$f":"IFERROR(VLOOKUP($A28,masterlist!$C$2:$AA$200,21,FALSE),\"\")","v":""},{"$f":"IFERROR(VLOOKUP($A28,masterlist!$C$2:$AA$200,22,FALSE),\"\")","v":""},{"$f":"IFERROR(IF($B$7=2,(VLOOKUP($A28,masterlist!$C$2:$AA$200,23,FALSE)-11),IF($B$7=4,(VLOOKUP($A28,masterlist!$C$2:$AA$200,23,FALSE)-9),IF($B$7=7,(VLOOKUP($A28,masterlist!$C$2:$AA$200,23,FALSE)-6),IF($B$7=10,(VLOOKUP($A28,masterlist!$C$2:$AA$200,23,FALSE)-3),(VLOOKUP($A28,masterlist!$C$2:$AA$200,23,FALSE)))))),\"\")","v":""},{"$f":"IFERROR(VLOOKUP($A28,masterlist!$C$2:$AA$200,24,FALSE),\"\")","v":""}]
[{"$f":"IF(ROWS($A$13:A29)<=(SUMPRODUCT((masterlist!B:B=\"LEG\")*(masterlist!J:J=0))),INDEX(masterlist!$C$2:$C$200,SMALL(IF(masterlist!$B$2:$B$200=\"LEG\",IF(masterlist!$F$2:$F$200>0,IF(masterlist!$J$2:$J$200=0,ROW(masterlist!$B$2:$B$200)-ROW(masterlist!$B$2)+1))),ROWS($A$13:A29))),\"\")","v":""},{"$f":"IFERROR(VLOOKUP($A29,masterlist!$C$2:$AA$200,3,FALSE),\"\")","v":""},{"$f":"IFERROR(VLOOKUP($A29,masterlist!$C$2:$AA$200,2,FALSE),\"\")","v":""},{"$f":"IFERROR(VLOOKUP($A29,masterlist!$C$2:$AA$200,5,FALSE),\"\")","v":""},{"$f":"IFERROR(IF((VLOOKUP($A29,masterlist!$C$2:$AA$200,9,FALSE))=0,\"\",VLOOKUP($A29,masterlist!$C$2:$AA$200,9,FALSE)),\"\")","v":""},{"$f":"IFERROR(VLOOKUP($A29,masterlist!$C$2:$AA$200,20,FALSE),\"\")","v":""},{"$f":"IFERROR(VLOOKUP($A29,masterlist!$C$2:$AA$200,21,FALSE),\"\")","v":""},{"$f":"IFERROR(VLOOKUP($A29,masterlist!$C$2:$AA$200,22,FALSE),\"\")","v":""},{"$f":"IFERROR(IF($B$7=2,(VLOOKUP($A29,masterlist!$C$2:$AA$200,23,FALSE)-11),IF($B$7=4,(VLOOKUP($A29,masterlist!$C$2:$AA$200,23,FALSE)-9),IF($B$7=7,(VLOOKUP($A29,masterlist!$C$2:$AA$200,23,FALSE)-6),IF($B$7=10,(VLOOKUP($A29,masterlist!$C$2:$AA$200,23,FALSE)-3),(VLOOKUP($A29,masterlist!$C$2:$AA$200,23,FALSE)))))),\"\")","v":""},{"$f":"IFERROR(VLOOKUP($A29,masterlist!$C$2:$AA$200,24,FALSE),\"\")","v":""}]
[{"$f":"IF(ROWS($A$13:A30)<=(SUMPRODUCT((masterlist!B:B=\"LEG\")*(masterlist!J:J=0))),INDEX(masterlist!$C$2:$C$200,SMALL(IF(masterlist!$B$2:$B$200=\"LEG\",IF(masterlist!$F$2:$F$200>0,IF(masterlist!$J$2:$J$200=0,ROW(masterlist!$B$2:$B$200)-ROW(masterlist!$B$2)+1))),ROWS($A$13:A30))),\"\")","v":""},{"$f":"IFERROR(VLOOKUP($A30,masterlist!$C$2:$AA$200,3,FALSE),\"\")","v":""},{"$f":"IFERROR(VLOOKUP($A30,masterlist!$C$2:$AA$200,2,FALSE),\"\")","v":""},{"$f":"IFERROR(VLOOKUP($A30,masterlist!$C$2:$AA$200,5,FALSE),\"\")","v":""},{"$f":"IFERROR(IF((VLOOKUP($A30,masterlist!$C$2:$AA$200,9,FALSE))=0,\"\",VLOOKUP($A30,masterlist!$C$2:$AA$200,9,FALSE)),\"\")","v":""},{"$f":"IFERROR(VLOOKUP($A30,masterlist!$C$2:$AA$200,20,FALSE),\"\")","v":""},{"$f":"IFERROR(VLOOKUP($A30,masterlist!$C$2:$AA$200,21,FALSE),\"\")","v":""},{"$f":"IFERROR(VLOOKUP($A30,masterlist!$C$2:$AA$200,22,FALSE),\"\")","v":""},{"$f":"IFERROR(IF($B$7=2,(VLOOKUP($A30,masterlist!$C$2:$AA$200,23,FALSE)-11),IF($B$7=4,(VLOOKUP($A30,masterlist!$C$2:$AA$200,23,FALSE)-9),IF($B$7=7,(VLOOKUP($A30,masterlist!$C$2:$AA$200,23,FALSE)-6),IF($B$7=10,(VLOOKUP($A30,masterlist!$C$2:$AA$200,23,FALSE)-3),(VLOOKUP($A30,masterlist!$C$2:$AA$200,23,FALSE)))))),\"\")","v":""},{"$f":"IFERROR(VLOOKUP($A30,masterlist!$C$2:$AA$200,24,FALSE),\"\")","v":""}]
[{"$f":"IF(ROWS($A$13:A31)<=(SUMPRODUCT((masterlist!B:B=\"LEG\")*(masterlist!J:J=0))),INDEX(masterlist!$C$2:$C$200,SMALL(IF(masterlist!$B$2:$B$200=\"LEG\",IF(masterlist!$F$2:$F$200>0,IF(masterlist!$J$2:$J$200=0,ROW(masterlist!$B$2:$B$200)-ROW(masterlist!$B$2)+1))),ROWS($A$13:A31))),\"\")","v":""},{"$f":"IFERROR(VLOOKUP($A31,masterlist!$C$2:$AA$200,3,FALSE),\"\")","v":""},{"$f":"IFERROR(VLOOKUP($A31,masterlist!$C$2:$AA$200,2,FALSE),\"\")","v":""},{"$f":"IFERROR(VLOOKUP($A31,masterlist!$C$2:$AA$200,5,FALSE),\"\")","v":""},{"$f":"IFERROR(IF((VLOOKUP($A31,masterlist!$C$2:$AA$200,9,FALSE))=0,\"\",VLOOKUP($A31,masterlist!$C$2:$AA$200,9,FALSE)),\"\")","v":""},{"$f":"IFERROR(VLOOKUP($A31,masterlist!$C$2:$AA$200,20,FALSE),\"\")","v":""},{"$f":"IFERROR(VLOOKUP($A31,masterlist!$C$2:$AA$200,21,FALSE),\"\")","v":""},{"$f":"IFERROR(VLOOKUP($A31,masterlist!$C$2:$AA$200,22,FALSE),\"\")","v":""},{"$f":"IFERROR(IF($B$7=2,(VLOOKUP($A31,masterlist!$C$2:$AA$200,23,FALSE)-11),IF($B$7=4,(VLOOKUP($A31,masterlist!$C$2:$AA$200,23,FALSE)-9),IF($B$7=7,(VLOOKUP($A31,masterlist!$C$2:$AA$200,23,FALSE)-6),IF($B$7=10,(VLOOKUP($A31,masterlist!$C$2:$AA$200,23,FALSE)-3),(VLOOKUP($A31,masterlist!$C$2:$AA$200,23,FALSE)))))),\"\")","v":""},{"$f":"IFERROR(VLOOKUP($A31,masterlist!$C$2:$AA$200,24,FALSE),\"\")","v":""}]
[{"$f":"IF(ROWS($A$13:A32)<=(SUMPRODUCT((masterlist!B:B=\"LEG\")*(masterlist!J:J=0))),INDEX(masterlist!$C$2:$C$200,SMALL(IF(masterlist!$B$2:$B$200=\"LEG\",IF(masterlist!$F$2:$F$200>0,IF(masterlist!$J$2:$J$200=0,ROW(masterlist!$B$2:$B$200)-ROW(masterlist!$B$2)+1))),ROWS($A$13:A32))),\"\")","v":""},{"$f":"IFERROR(VLOOKUP($A32,masterlist!$C$2:$AA$200,3,FALSE),\"\")","v":""},{"$f":"IFERROR(VLOOKUP($A32,masterlist!$C$2:$AA$200,2,FALSE),\"\")","v":""},{"$f":"IFERROR(VLOOKUP($A32,masterlist!$C$2:$AA$200,5,FALSE),\"\")","v":""},{"$f":"IFERROR(IF((VLOOKUP($A32,masterlist!$C$2:$AA$200,9,FALSE))=0,\"\",VLOOKUP($A32,masterlist!$C$2:$AA$200,9,FALSE)),\"\")","v":""},{"$f":"IFERROR(VLOOKUP($A32,masterlist!$C$2:$AA$200,20,FALSE),\"\")","v":""},{"$f":"IFERROR(VLOOKUP($A32,masterlist!$C$2:$AA$200,21,FALSE),\"\")","v":""},{"$f":"IFERROR(VLOOKUP($A32,masterlist!$C$2:$AA$200,22,FALSE),\"\")","v":""},{"$f":"IFERROR(IF($B$7=2,(VLOOKUP($A32,masterlist!$C$2:$AA$200,23,FALSE)-11),IF($B$7=4,(VLOOKUP($A32,masterlist!$C$2:$AA$200,23,FALSE)-9),IF($B$7=7,(VLOOKUP($A32,masterlist!$C$2:$AA$200,23,FALSE)-6),IF($B$7=10,(VLOOKUP($A32,masterlist!$C$2:$AA$200,23,FALSE)-3),(VLOOKUP($A32,masterlist!$C$2:$AA$200,23,FALSE)))))),\"\")","v":""},{"$f":"IFERROR(VLOOKUP($A32,masterlist!$C$2:$AA$200,24,FALSE),\"\")","v":""}]
[{"$f":"IF(ROWS($A$13:A33)<=(SUMPRODUCT((masterlist!B:B=\"LEG\")*(masterlist!J:J=0))),INDEX(masterlist!$C$2:$C$200,SMALL(IF(masterlist!$B$2:$B$200=\"LEG\",IF(masterlist!$F$2:$F$200>0,IF(masterlist!$J$2:$J$200=0,ROW(masterlist!$B$2:$B$200)-ROW(masterlist!$B$2)+1))),ROWS($A$13:A33))),\"\")","v":""},{"$f":"IFERROR(VLOOKUP($A33,masterlist!$C$2:$AA$200,3,FALSE),\"\")","v":""},{"$f":"IFERROR(VLOOKUP($A33,masterlist!$C$2:$AA$200,2,FALSE),\"\")","v":""},{"$f":"IFERROR(VLOOKUP($A33,masterlist!$C$2:$AA$200,5,FALSE),\"\")","v":""},{"$f":"IFERROR(IF((VLOOKUP($A33,masterlist!$C$2:$AA$200,9,FALSE))=0,\"\",VLOOKUP($A33,masterlist!$C$2:$AA$200,9,FALSE)),\"\")","v":""},{"$f":"IFERROR(VLOOKUP($A33,masterlist!$C$2:$AA$200,20,FALSE),\"\")","v":""},{"$f":"IFERROR(VLOOKUP($A33,masterlist!$C$2:$AA$200,21,FALSE),\"\")","v":""},{"$f":"IFERROR(VLOOKUP($A33,masterlist!$C$2:$AA$200,22,FALSE),\"\")","v":""},{"$f":"IFERROR(IF($B$7=2,(VLOOKUP($A33,masterlist!$C$2:$AA$200,23,FALSE)-11),IF($B$7=4,(VLOOKUP($A33,masterlist!$C$2:$AA$200,23,FALSE)-9),IF($B$7=7,(VLOOKUP($A33,masterlist!$C$2:$AA$200,23,FALSE)-6),IF($B$7=10,(VLOOKUP($A33,masterlist!$C$2:$AA$200,23,FALSE)-3),(VLOOKUP($A33,masterlist!$C$2:$AA$200,23,FALSE)))))),\"\")","v":""},{"$f":"IFERROR(VLOOKUP($A33,masterlist!$C$2:$AA$200,24,FALSE),\"\")","v":""}]
[{"$f":"IF(ROWS($A$13:A34)<=(SUMPRODUCT((masterlist!B:B=\"LEG\")*(masterlist!J:J=0))),INDEX(masterlist!$C$2:$C$200,SMALL(IF(masterlist!$B$2:$B$200=\"LEG\",IF(masterlist!$F$2:$F$200>0,IF(masterlist!$J$2:$J$200=0,ROW(masterlist!$B$2:$B$200)-ROW(masterlist!$B$2)+1))),ROWS($A$13:A34))),\"\")","v":""},{"$f":"IFERROR(VLOOKUP($A34,masterlist!$C$2:$AA$200,3,FALSE),\"\")","v":""},{"$f":"IFERROR(VLOOKUP($A34,masterlist!$C$2:$AA$200,2,FALSE),\"\")","v":""},{"$f":"IFERROR(VLOOKUP($A34,masterlist!$C$2:$AA$200,5,FALSE),\"\")","v":""},{"$f":"IFERROR(IF((VLOOKUP($A34,masterlist!$C$2:$AA$200,9,FALSE))=0,\"\",VLOOKUP($A34,masterlist!$C$2:$AA$200,9,FALSE)),\"\")","v":""},{"$f":"IFERROR(VLOOKUP($A34,masterlist!$C$2:$AA$200,20,FALSE),\"\")","v":""},{"$f":"IFERROR(VLOOKUP($A34,masterlist!$C$2:$AA$200,21,FALSE),\"\")","v":""},{"$f":"IFERROR(VLOOKUP($A34,masterlist!$C$2:$AA$200,22,FALSE),\"\")","v":""},{"$f":"IFERROR(IF($B$7=2,(VLOOKUP($A34,masterlist!$C$2:$AA$200,23,FALSE)-11),IF($B$7=4,(VLOOKUP($A34,masterlist!$C$2:$AA$200,23,FALSE)-9),IF($B$7=7,(VLOOKUP($A34,masterlist!$C$2:$AA$200,23,FALSE)-6),IF($B$7=10,(VLOOKUP($A34,masterlist!$C$2:$AA$200,23,FALSE)-3),(VLOOKUP($A34,masterlist!$C$2:$AA$200,23,FALSE)))))),\"\")","v":""},{"$f":"IFERROR(VLOOKUP($A34,masterlist!$C$2:$AA$200,24,FALSE),\"\")","v":""}]
[{"$f":"IF(ROWS($A$13:A35)<=(SUMPRODUCT((masterlist!B:B=\"LEG\")*(masterlist!J:J=0))),INDEX(masterlist!$C$2:$C$200,SMALL(IF(masterlist!$B$2:$B$200=\"LEG\",IF(masterlist!$F$2:$F$200>0,IF(masterlist!$J$2:$J$200=0,ROW(masterlist!$B$2:$B$200)-ROW(masterlist!$B$2)+1))),ROWS($A$13:A35))),\"\")","v":""},{"$f":"IFERROR(VLOOKUP($A35,masterlist!$C$2:$AA$200,3,FALSE),\"\")","v":""},{"$f":"IFERROR(VLOOKUP($A35,masterlist!$C$2:$AA$200,2,FALSE),\"\")","v":""},{"$f":"IFERROR(VLOOKUP($A35,masterlist!$C$2:$AA$200,5,FALSE),\"\")","v":""},{"$f":"IFERROR(IF((VLOOKUP($A35,masterlist!$C$2:$AA$200,9,FALSE))=0,\"\",VLOOKUP($A35,masterlist!$C$2:$AA$200,9,FALSE)),\"\")","v":""},{"$f":"IFERROR(VLOOKUP($A35,masterlist!$C$2:$AA$200,20,FALSE),\"\")","v":""},{"$f":"IFERROR(VLOOKUP($A35,masterlist!$C$2:$AA$200,21,FALSE),\"\")","v":""},{"$f":"IFERROR(VLOOKUP($A35,masterlist!$C$2:$AA$200,22,FALSE),\"\")","v":""},{"$f":"IFERROR(IF($B$7=2,(VLOOKUP($A35,masterlist!$C$2:$AA$200,23,FALSE)-11),IF($B$7=4,(VLOOKUP($A35,masterlist!$C$2:$AA$200,23,FALSE)-9),IF($B$7=7,(VLOOKUP($A35,masterlist!$C$2:$AA$200,23,FALSE)-6),IF($B$7=10,(VLOOKUP($A35,masterlist!$C$2:$AA$200,23,FALSE)-3),(VLOOKUP($A35,masterlist!$C$2:$AA$200,23,FALSE)))))),\"\")","v":""},{"$f":"IFERROR(VLOOKUP($A35,masterlist!$C$2:$AA$200,24,FALSE),\"\")","v":""}]
[{"$f":"IF(ROWS($A$13:A36)<=(SUMPRODUCT((masterlist!B:B=\"LEG\")*(masterlist!J:J=0))),INDEX(masterlist!$C$2:$C$200,SMALL(IF(masterlist!$B$2:$B$200=\"LEG\",IF(masterlist!$F$2:$F$200>0,IF(masterlist!$J$2:$J$200=0,ROW(masterlist!$B$2:$B$200)-ROW(masterlist!$B$2)+1))),ROWS($A$13:A36))),\"\")","v":""},{"$f":"IFERROR(VLOOKUP($A36,masterlist!$C$2:$AA$200,3,FALSE),\"\")","v":""},{"$f":"IFERROR(VLOOKUP($A36,masterlist!$C$2:$AA$200,2,FALSE),\"\")","v":""},{"$f":"IFERROR(VLOOKUP($A36,masterlist!$C$2:$AA$200,5,FALSE),\"\")","v":""},{"$f":"IFERROR(IF((VLOOKUP($A36,masterlist!$C$2:$AA$200,9,FALSE))=0,\"\",VLOOKUP($A36,masterlist!$C$2:$AA$200,9,FALSE)),\"\")","v":""},{"$f":"IFERROR(VLOOKUP($A36,masterlist!$C$2:$AA$200,20,FALSE),\"\")","v":""},{"$f":"IFERROR(VLOOKUP($A36,masterlist!$C$2:$AA$200,21,FALSE),\"\")","v":""},{"$f":"IFERROR(VLOOKUP($A36,masterlist!$C$2:$AA$200,22,FALSE),\"\")","v":""},{"$f":"IFERROR(IF($B$7=2,(VLOOKUP($A36,masterlist!$C$2:$AA$200,23,FALSE)-11),IF($B$7=4,(VLOOKUP($A36,masterlist!$C$2:$AA$200,23,FALSE)-9),IF($B$7=7,(VLOOKUP($A36,masterlist!$C$2:$AA$200,23,FALSE)-6),IF($B$7=10,(VLOOKUP($A36,masterlist!$C$2:$AA$200,23,FALSE)-3),(VLOOKUP($A36,masterlist!$C$2:$AA$200,23,FALSE)))))),\"\")","v":""},{"$f":"IFERROR(VLOOKUP($A36,masterlist!$C$2:$AA$200,24,FALSE),\"\")","v":""}]
[{"$f":"IF(ROWS($A$13:A37)<=(SUMPRODUCT((masterlist!B:B=\"LEG\")*(masterlist!J:J=0))),INDEX(masterlist!$C$2:$C$200,SMALL(IF(masterlist!$B$2:$B$200=\"LEG\",IF(masterlist!$F$2:$F$200>0,IF(masterlist!$J$2:$J$200=0,ROW(masterlist!$B$2:$B$200)-ROW(masterlist!$B$2)+1))),ROWS($A$13:A37))),\"\")","v":""},{"$f":"IFERROR(VLOOKUP($A37,masterlist!$C$2:$AA$200,3,FALSE),\"\")","v":""},{"$f":"IFERROR(VLOOKUP($A37,masterlist!$C$2:$AA$200,2,FALSE),\"\")","v":""},{"$f":"IFERROR(VLOOKUP($A37,masterlist!$C$2:$AA$200,5,FALSE),\"\")","v":""},{"$f":"IFERROR(IF((VLOOKUP($A37,masterlist!$C$2:$AA$200,9,FALSE))=0,\"\",VLOOKUP($A37,masterlist!$C$2:$AA$200,9,FALSE)),\"\")","v":""},{"$f":"IFERROR(VLOOKUP($A37,masterlist!$C$2:$AA$200,20,FALSE),\"\")","v":""},{"$f":"IFERROR(VLOOKUP($A37,masterlist!$C$2:$AA$200,21,FALSE),\"\")","v":""},{"$f":"IFERROR(VLOOKUP($A37,masterlist!$C$2:$AA$200,22,FALSE),\"\")","v":""},{"$f":"IFERROR(IF($B$7=2,(VLOOKUP($A37,masterlist!$C$2:$AA$200,23,FALSE)-11),IF($B$7=4,(VLOOKUP($A37,masterlist!$C$2:$AA$200,23,FALSE)-9),IF($B$7=7,(VLOOKUP($A37,masterlist!$C$2:$AA$200,23,FALSE)-6),IF($B$7=10,(VLOOKUP($A37,masterlist!$C$2:$AA$200,23,FALSE)-3),(VLOOKUP($A37,masterlist!$C$2:$AA$200,23,FALSE)))))),\"\")","v":""},{"$f":"IFERROR(VLOOKUP($A37,masterlist!$C$2:$AA$200,24,FALSE),\"\")","v":""}]
[{"$f":"IF(ROWS($A$13:A38)<=(SUMPRODUCT((masterlist!B:B=\"LEG\")*(masterlist!J:J=0))),INDEX(masterlist!$C$2:$C$200,SMALL(IF(masterlist!$B$2:$B$200=\"LEG\",IF(masterlist!$F$2:$F$200>0,IF(masterlist!$J$2:$J$200=0,ROW(masterlist!$B$2:$B$200)-ROW(masterlist!$B$2)+1))),ROWS($A$13:A38))),\"\")","v":""},{"$f":"IFERROR(VLOOKUP($A38,masterlist!$C$2:$AA$200,3,FALSE),\"\")","v":""},{"$f":"IFERROR(VLOOKUP($A38,masterlist!$C$2:$AA$200,2,FALSE),\"\")","v":""},{"$f":"IFERROR(VLOOKUP($A38,masterlist!$C$2:$AA$200,5,FALSE),\"\")","v":""},{"$f":"IFERROR(IF((VLOOKUP($A38,masterlist!$C$2:$AA$200,9,FALSE))=0,\"\",VLOOKUP($A38,masterlist!$C$2:$AA$200,9,FALSE)),\"\")","v":""},{"$f":"IFERROR(VLOOKUP($A38,masterlist!$C$2:$AA$200,20,FALSE),\"\")","v":""},{"$f":"IFERROR(VLOOKUP($A38,masterlist!$C$2:$AA$200,21,FALSE),\"\")","v":""},{"$f":"IFERROR(VLOOKUP($A38,masterlist!$C$2:$AA$200,22,FALSE),\"\")","v":""},{"$f":"IFERROR(IF($B$7=2,(VLOOKUP($A38,masterlist!$C$2:$AA$200,23,FALSE)-11),IF($B$7=4,(VLOOKUP($A38,masterlist!$C$2:$AA$200,23,FALSE)-9),IF($B$7=7,(VLOOKUP($A38,masterlist!$C$2:$AA$200,23,FALSE)-6),IF($B$7=10,(VLOOKUP($A38,masterlist!$C$2:$AA$200,23,FALSE)-3),(VLOOKUP($A38,masterlist!$C$2:$AA$200,23,FALSE)))))),\"\")","v":""},{"$f":"IFERROR(VLOOKUP($A38,masterlist!$C$2:$AA$200,24,FALSE),\"\")","v":""}]
[{"$f":"IF(ROWS($A$13:A39)<=(SUMPRODUCT((masterlist!B:B=\"LEG\")*(masterlist!J:J=0))),INDEX(masterlist!$C$2:$C$200,SMALL(IF(masterlist!$B$2:$B$200=\"LEG\",IF(masterlist!$F$2:$F$200>0,IF(masterlist!$J$2:$J$200=0,ROW(masterlist!$B$2:$B$200)-ROW(masterlist!$B$2)+1))),ROWS($A$13:A39))),\"\")","v":""},{"$f":"IFERROR(VLOOKUP($A39,masterlist!$C$2:$AA$200,3,FALSE),\"\")","v":""},{"$f":"IFERROR(VLOOKUP($A39,masterlist!$C$2:$AA$200,2,FALSE),\"\")","v":""},{"$f":"IFERROR(VLOOKUP($A39,masterlist!$C$2:$AA$200,5,FALSE),\"\")","v":""},{"$f":"IFERROR(IF((VLOOKUP($A39,masterlist!$C$2:$AA$200,9,FALSE))=0,\"\",VLOOKUP($A39,masterlist!$C$2:$AA$200,9,FALSE)),\"\")","v":""},{"$f":"IFERROR(VLOOKUP($A39,masterlist!$C$2:$AA$200,20,FALSE),\"\")","v":""},{"$f":"IFERROR(VLOOKUP($A39,masterlist!$C$2:$AA$200,21,FALSE),\"\")","v":""},{"$f":"IFERROR(VLOOKUP($A39,masterlist!$C$2:$AA$200,22,FALSE),\"\")","v":""},{"$f":"IFERROR(IF($B$7=2,(VLOOKUP($A39,masterlist!$C$2:$AA$200,23,FALSE)-11),IF($B$7=4,(VLOOKUP($A39,masterlist!$C$2:$AA$200,23,FALSE)-9),IF($B$7=7,(VLOOKUP($A39,masterlist!$C$2:$AA$200,23,FALSE)-6),IF($B$7=10,(VLOOKUP($A39,masterlist!$C$2:$AA$200,23,FALSE)-3),(VLOOKUP($A39,masterlist!$C$2:$AA$200,23,FALSE)))))),\"\")","v":""},{"$f":"IFERROR(VLOOKUP($A39,masterlist!$C$2:$AA$200,24,FALSE),\"\")","v":""}]
[{"$f":"IF(ROWS($A$13:A40)<=(SUMPRODUCT((masterlist!B:B=\"LEG\")*(masterlist!J:J=0))),INDEX(masterlist!$C$2:$C$200,SMALL(IF(masterlist!$B$2:$B$200=\"LEG\",IF(masterlist!$F$2:$F$200>0,IF(masterlist!$J$2:$J$200=0,ROW(masterlist!$B$2:$B$200)-ROW(masterlist!$B$2)+1))),ROWS($A$13:A40))),\"\")","v":""},{"$f":"IFERROR(VLOOKUP($A40,masterlist!$C$2:$AA$200,3,FALSE),\"\")","v":""},{"$f":"IFERROR(VLOOKUP($A40,masterlist!$C$2:$AA$200,2,FALSE),\"\")","v":""},{"$f":"IFERROR(VLOOKUP($A40,masterlist!$C$2:$AA$200,5,FALSE),\"\")","v":""},{"$f":"IFERROR(IF((VLOOKUP($A40,masterlist!$C$2:$AA$200,9,FALSE))=0,\"\",VLOOKUP($A40,masterlist!$C$2:$AA$200,9,FALSE)),\"\")","v":""},{"$f":"IFERROR(VLOOKUP($A40,masterlist!$C$2:$AA$200,20,FALSE),\"\")","v":""},{"$f":"IFERROR(VLOOKUP($A40,masterlist!$C$2:$AA$200,21,FALSE),\"\")","v":""},{"$f":"IFERROR(VLOOKUP($A40,masterlist!$C$2:$AA$200,22,FALSE),\"\")","v":""},{"$f":"IFERROR(IF($B$7=2,(VLOOKUP($A40,masterlist!$C$2:$AA$200,23,FALSE)-11),IF($B$7=4,(VLOOKUP($A40,masterlist!$C$2:$AA$200,23,FALSE)-9),IF($B$7=7,(VLOOKUP($A40,masterlist!$C$2:$AA$200,23,FALSE)-6),IF($B$7=10,(VLOOKUP($A40,masterlist!$C$2:$AA$200,23,FALSE)-3),(VLOOKUP($A40,masterlist!$C$2:$AA$200,23,FALSE)))))),\"\")","v":""},{"$f":"IFERROR(VLOOKUP($A40,masterlist!$C$2:$AA$200,24,FALSE),\"\")","v":""}]
[{"$f":"IF(ROWS($A$13:A41)<=(SUMPRODUCT((masterlist!B:B=\"LEG\")*(masterlist!J:J=0))),INDEX(masterlist!$C$2:$C$200,SMALL(IF(masterlist!$B$2:$B$200=\"LEG\",IF(masterlist!$F$2:$F$200>0,IF(masterlist!$J$2:$J$200=0,ROW(masterlist!$B$2:$B$200)-ROW(masterlist!$B$2)+1))),ROWS($A$13:A41))),\"\")","v":""},{"$f":"IFERROR(VLOOKUP($A41,masterlist!$C$2:$AA$200,3,FALSE),\"\")","v":""},{"$f":"IFERROR(VLOOKUP($A41,masterlist!$C$2:$AA$200,2,FALSE),\"\")","v":""},{"$f":"IFERROR(VLOOKUP($A41,masterlist!$C$2:$AA$200,5,FALSE),\"\")","v":""},{"$f":"IFERROR(IF((VLOOKUP($A41,masterlist!$C$2:$AA$200,9,FALSE))=0,\"\",VLOOKUP($A41,masterlist!$C$2:$AA$200,9,FALSE)),\"\")","v":""},{"$f":"IFERROR(VLOOKUP($A41,masterlist!$C$2:$AA$200,20,FALSE),\"\")","v":""},{"$f":"IFERROR(VLOOKUP($A41,masterlist!$C$2:$AA$200,21,FALSE),\"\")","v":""},{"$f":"IFERROR(VLOOKUP($A41,masterlist!$C$2:$AA$200,22,FALSE),\"\")","v":""},{"$f":"IFERROR(IF($B$7=2,(VLOOKUP($A41,masterlist!$C$2:$AA$200,23,FALSE)-11),IF($B$7=4,(VLOOKUP($A41,masterlist!$C$2:$AA$200,23,FALSE)-9),IF($B$7=7,(VLOOKUP($A41,masterlist!$C$2:$AA$200,23,FALSE)-6),IF($B$7=10,(VLOOKUP($A41,masterlist!$C$2:$AA$200,23,FALSE)-3),(VLOOKUP($A41,masterlist!$C$2:$AA$200,23,FALSE)))))),\"\")","v":""},{"$f":"IFERROR(VLOOKUP($A41,masterlist!$C$2:$AA$200,24,FALSE),\"\")","v":""}]
[{"$f":"IF(ROWS($A$13:A42)<=(SUMPRODUCT((masterlist!B:B=\"LEG\")*(masterlist!J:J=0))),INDEX(masterlist!$C$2:$C$200,SMALL(IF(masterlist!$B$2:$B$200=\"LEG\",IF(masterlist!$F$2:$F$200>0,IF(masterlist!$J$2:$J$200=0,ROW(masterlist!$B$2:$B$200)-ROW(masterlist!$B$2)+1))),ROWS($A$13:A42))),\"\")","v":""},{"$f":"IFERROR(VLOOKUP($A42,masterlist!$C$2:$AA$200,3,FALSE),\"\")","v":""},{"$f":"IFERROR(VLOOKUP($A42,masterlist!$C$2:$AA$200,2,FALSE),\"\")","v":""},{"$f":"IFERROR(VLOOKUP($A42,masterlist!$C$2:$AA$200,5,FALSE),\"\")","v":""},{"$f":"IFERROR(IF((VLOOKUP($A42,masterlist!$C$2:$AA$200,9,FALSE))=0,\"\",VLOOKUP($A42,masterlist!$C$2:$AA$200,9,FALSE)),\"\")","v":""},{"$f":"IFERROR(VLOOKUP($A42,masterlist!$C$2:$AA$200,20,FALSE),\"\")","v":""},{"$f":"IFERROR(VLOOKUP($A42,masterlist!$C$2:$AA$200,21,FALSE),\"\")","v":""},{"$f":"IFERROR(VLOOKUP($A42,masterlist!$C$2:$AA$200,22,FALSE),\"\")","v":""},{"$f":"IFERROR(IF($B$7=2,(VLOOKUP($A42,masterlist!$C$2:$AA$200,23,FALSE)-11),IF($B$7=4,(VLOOKUP($A42,masterlist!$C$2:$AA$200,23,FALSE)-9),IF($B$7=7,(VLOOKUP($A42,masterlist!$C$2:$AA$200,23,FALSE)-6),IF($B$7=10,(VLOOKUP($A42,masterlist!$C$2:$AA$200,23,FALSE)-3),(VLOOKUP($A42,masterlist!$C$2:$AA$200,23,FALSE)))))),\"\")","v":""},{"$f":"IFERROR(VLOOKUP($A42,masterlist!$C$2:$AA$200,24,FALSE),\"\")","v":""}]
[{"$f":"IF(ROWS($A$13:A43)<=(SUMPRODUCT((masterlist!B:B=\"LEG\")*(masterlist!J:J=0))),INDEX(masterlist!$C$2:$C$200,SMALL(IF(masterlist!$B$2:$B$200=\"LEG\",IF(masterlist!$F$2:$F$200>0,IF(masterlist!$J$2:$J$200=0,ROW(masterlist!$B$2:$B$200)-ROW(masterlist!$B$2)+1))),ROWS($A$13:A43))),\"\")","v":""},{"$f":"IFERROR(VLOOKUP($A43,masterlist!$C$2:$AA$200,3,FALSE),\"\")","v":""},{"$f":"IFERROR(VLOOKUP($A43,masterlist!$C$2:$AA$200,2,FALSE),\"\")","v":""},{"$f":"IFERROR(VLOOKUP($A43,masterlist!$C$2:$AA$200,5,FALSE),\"\")","v":""},{"$f":"IFERROR(IF((VLOOKUP($A43,masterlist!$C$2:$AA$200,9,FALSE))=0,\"\",VLOOKUP($A43,masterlist!$C$2:$AA$200,9,FALSE)),\"\")","v":""},{"$f":"IFERROR(VLOOKUP($A43,masterlist!$C$2:$AA$200,20,FALSE),\"\")","v":""},{"$f":"IFERROR(VLOOKUP($A43,masterlist!$C$2:$AA$200,21,FALSE),\"\")","v":""},{"$f":"IFERROR(VLOOKUP($A43,masterlist!$C$2:$AA$200,22,FALSE),\"\")","v":""},{"$f":"IFERROR(IF($B$7=2,(VLOOKUP($A43,masterlist!$C$2:$AA$200,23,FALSE)-11),IF($B$7=4,(VLOOKUP($A43,masterlist!$C$2:$AA$200,23,FALSE)-9),IF($B$7=7,(VLOOKUP($A43,masterlist!$C$2:$AA$200,23,FALSE)-6),IF($B$7=10,(VLOOKUP($A43,masterlist!$C$2:$AA$200,23,FALSE)-3),(VLOOKUP($A43,masterlist!$C$2:$AA$200,23,FALSE)))))),\"\")","v":""},{"$f":"IFERROR(VLOOKUP($A43,masterlist!$C$2:$AA$200,24,FALSE),\"\")","v":""}]
[{"$f":"IF(ROWS($A$13:A44)<=(SUMPRODUCT((masterlist!B:B=\"LEG\")*(masterlist!J:J=0))),INDEX(masterlist!$C$2:$C$200,SMALL(IF(masterlist!$B$2:$B$200=\"LEG\",IF(masterlist!$F$2:$F$200>0,IF(masterlist!$J$2:$J$200=0,ROW(masterlist!$B$2:$B$200)-ROW(masterlist!$B$2)+1))),ROWS($A$13:A44))),\"\")","v":""},{"$f":"IFERROR(VLOOKUP($A44,masterlist!$C$2:$AA$200,3,FALSE),\"\")","v":""},{"$f":"IFERROR(VLOOKUP($A44,masterlist!$C$2:$AA$200,2,FALSE),\"\")","v":""},{"$f":"IFERROR(VLOOKUP($A44,masterlist!$C$2:$AA$200,5,FALSE),\"\")","v":""},{"$f":"IFERROR(IF((VLOOKUP($A44,masterlist!$C$2:$AA$200,9,FALSE))=0,\"\",VLOOKUP($A44,masterlist!$C$2:$AA$200,9,FALSE)),\"\")","v":""},{"$f":"IFERROR(VLOOKUP($A44,masterlist!$C$2:$AA$200,20,FALSE),\"\")","v":""},{"$f":"IFERROR(VLOOKUP($A44,masterlist!$C$2:$AA$200,21,FALSE),\"\")","v":""},{"$f":"IFERROR(VLOOKUP($A44,masterlist!$C$2:$AA$200,22,FALSE),\"\")","v":""},{"$f":"IFERROR(IF($B$7=2,(VLOOKUP($A44,masterlist!$C$2:$AA$200,23,FALSE)-11),IF($B$7=4,(VLOOKUP($A44,masterlist!$C$2:$AA$200,23,FALSE)-9),IF($B$7=7,(VLOOKUP($A44,masterlist!$C$2:$AA$200,23,FALSE)-6),IF($B$7=10,(VLOOKUP($A44,masterlist!$C$2:$AA$200,23,FALSE)-3),(VLOOKUP($A44,masterlist!$C$2:$AA$200,23,FALSE)))))),\"\")","v":""},{"$f":"IFERROR(VLOOKUP($A44,masterlist!$C$2:$AA$200,24,FALSE),\"\")","v":""}]
[{"$f":"IF(ROWS($A$13:A45)<=(SUMPRODUCT((masterlist!B:B=\"LEG\")*(masterlist!J:J=0))),INDEX(masterlist!$C$2:$C$200,SMALL(IF(masterlist!$B$2:$B$200=\"LEG\",IF(masterlist!$F$2:$F$200>0,IF(masterlist!$J$2:$J$200=0,ROW(masterlist!$B$2:$B$200)-ROW(masterlist!$B$2)+1))),ROWS($A$13:A45))),\"\")","v":""},{"$f":"IFERROR(VLOOKUP($A45,masterlist!$C$2:$AA$200,3,FALSE),\"\")","v":""},{"$f":"IFERROR(VLOOKUP($A45,masterlist!$C$2:$AA$200,2,FALSE),\"\")","v":""},{"$f":"IFERROR(VLOOKUP($A45,masterlist!$C$2:$AA$200,5,FALSE),\"\")","v":""},{"$f":"IFERROR(IF((VLOOKUP($A45,masterlist!$C$2:$AA$200,9,FALSE))=0,\"\",VLOOKUP($A45,masterlist!$C$2:$AA$200,9,FALSE)),\"\")","v":""},{"$f":"IFERROR(VLOOKUP($A45,masterlist!$C$2:$AA$200,20,FALSE),\"\")","v":""},{"$f":"IFERROR(VLOOKUP($A45,masterlist!$C$2:$AA$200,21,FALSE),\"\")","v":""},{"$f":"IFERROR(VLOOKUP($A45,masterlist!$C$2:$AA$200,22,FALSE),\"\")","v":""},{"$f":"IFERROR(IF($B$7=2,(VLOOKUP($A45,masterlist!$C$2:$AA$200,23,FALSE)-11),IF($B$7=4,(VLOOKUP($A45,masterlist!$C$2:$AA$200,23,FALSE)-9),IF($B$7=7,(VLOOKUP($A45,masterlist!$C$2:$AA$200,23,FALSE)-6),IF($B$7=10,(VLOOKUP($A45,masterlist!$C$2:$AA$200,23,FALSE)-3),(VLOOKUP($A45,masterlist!$C$2:$AA$200,23,FALSE)))))),\"\")","v":""},{"$f":"IFERROR(VLOOKUP($A45,masterlist!$C$2:$AA$200,24,FALSE),\"\")","v":""}]
[{"$f":"IF(ROWS($A$13:A46)<=(SUMPRODUCT((masterlist!B:B=\"LEG\")*(masterlist!J:J=0))),INDEX(masterlist!$C$2:$C$200,SMALL(IF(masterlist!$B$2:$B$200=\"LEG\",IF(masterlist!$F$2:$F$200>0,IF(masterlist!$J$2:$J$200=0,ROW(masterlist!$B$2:$B$200)-ROW(masterlist!$B$2)+1))),ROWS($A$13:A46))),\"\")","v":""},{"$f":"IFERROR(VLOOKUP($A46,masterlist!$C$2:$AA$200,3,FALSE),\"\")","v":""},{"$f":"IFERROR(VLOOKUP($A46,masterlist!$C$2:$AA$200,2,FALSE),\"\")","v":""},{"$f":"IFERROR(VLOOKUP($A46,masterlist!$C$2:$AA$200,5,FALSE),\"\")","v":""},{"$f":"IFERROR(IF((VLOOKUP($A46,masterlist!$C$2:$AA$200,9,FALSE))=0,\"\",VLOOKUP($A46,masterlist!$C$2:$AA$200,9,FALSE)),\"\")","v":""},{"$f":"IFERROR(VLOOKUP($A46,masterlist!$C$2:$AA$200,20,FALSE),\"\")","v":""},{"$f":"IFERROR(VLOOKUP($A46,masterlist!$C$2:$AA$200,21,FALSE),\"\")","v":""},{"$f":"IFERROR(VLOOKUP($A46,masterlist!$C$2:$AA$200,22,FALSE),\"\")","v":""},{"$f":"IFERROR(IF($B$7=2,(VLOOKUP($A46,masterlist!$C$2:$AA$200,23,FALSE)-11),IF($B$7=4,(VLOOKUP($A46,masterlist!$C$2:$AA$200,23,FALSE)-9),IF($B$7=7,(VLOOKUP($A46,masterlist!$C$2:$AA$200,23,FALSE)-6),IF($B$7=10,(VLOOKUP($A46,masterlist!$C$2:$AA$200,23,FALSE)-3),(VLOOKUP($A46,masterlist!$C$2:$AA$200,23,FALSE)))))),\"\")","v":""},{"$f":"IFERROR(VLOOKUP($A46,masterlist!$C$2:$AA$200,24,FALSE),\"\")","v":""}]
[{"$f":"IF(ROWS($A$13:A47)<=(SUMPRODUCT((masterlist!B:B=\"LEG\")*(masterlist!J:J=0))),INDEX(masterlist!$C$2:$C$200,SMALL(IF(masterlist!$B$2:$B$200=\"LEG\",IF(masterlist!$F$2:$F$200>0,IF(masterlist!$J$2:$J$200=0,ROW(masterlist!$B$2:$B$200)-ROW(masterlist!$B$2)+1))),ROWS($A$13:A47))),\"\")","v":""},{"$f":"IFERROR(VLOOKUP($A47,masterlist!$C$2:$AA$200,3,FALSE),\"\")","v":""},{"$f":"IFERROR(VLOOKUP($A47,masterlist!$C$2:$AA$200,2,FALSE),\"\")","v":""},{"$f":"IFERROR(VLOOKUP($A47,masterlist!$C$2:$AA$200,5,FALSE),\"\")","v":""},{"$f":"IFERROR(IF((VLOOKUP($A47,masterlist!$C$2:$AA$200,9,FALSE))=0,\"\",VLOOKUP($A47,masterlist!$C$2:$AA$200,9,FALSE)),\"\")","v":""},{"$f":"IFERROR(VLOOKUP($A47,masterlist!$C$2:$AA$200,20,FALSE),\"\")","v":""},{"$f":"IFERROR(VLOOKUP($A47,masterlist!$C$2:$AA$200,21,FALSE),\"\")","v":""},{"$f":"IFERROR(VLOOKUP($A47,masterlist!$C$2:$AA$200,22,FALSE),\"\")","v":""},{"$f":"IFERROR(IF($B$7=2,(VLOOKUP($A47,masterlist!$C$2:$AA$200,23,FALSE)-11),IF($B$7=4,(VLOOKUP($A47,masterlist!$C$2:$AA$200,23,FALSE)-9),IF($B$7=7,(VLOOKUP($A47,masterlist!$C$2:$AA$200,23,FALSE)-6),IF($B$7=10,(VLOOKUP($A47,masterlist!$C$2:$AA$200,23,FALSE)-3),(VLOOKUP($A47,masterlist!$C$2:$AA$200,23,FALSE)))))),\"\")","v":""},{"$f":"IFERROR(VLOOKUP($A47,masterlist!$C$2:$AA$200,24,FALSE),\"\")","v":""}]
[{"$f":"IF(ROWS($A$13:A48)<=(SUMPRODUCT((masterlist!B:B=\"LEG\")*(masterlist!J:J=0))),INDEX(masterlist!$C$2:$C$200,SMALL(IF(masterlist!$B$2:$B$200=\"LEG\",IF(masterlist!$F$2:$F$200>0,IF(masterlist!$J$2:$J$200=0,ROW(masterlist!$B$2:$B$200)-ROW(masterlist!$B$2)+1))),ROWS($A$13:A48))),\"\")","v":""},{"$f":"IFERROR(VLOOKUP($A48,masterlist!$C$2:$AA$200,3,FALSE),\"\")","v":""},{"$f":"IFERROR(VLOOKUP($A48,masterlist!$C$2:$AA$200,2,FALSE),\"\")","v":""},{"$f":"IFERROR(VLOOKUP($A48,masterlist!$C$2:$AA$200,5,FALSE),\"\")","v":""},{"$f":"IFERROR(IF((VLOOKUP($A48,masterlist!$C$2:$AA$200,9,FALSE))=0,\"\",VLOOKUP($A48,masterlist!$C$2:$AA$200,9,FALSE)),\"\")","v":""},{"$f":"IFERROR(VLOOKUP($A48,masterlist!$C$2:$AA$200,20,FALSE),\"\")","v":""},{"$f":"IFERROR(VLOOKUP($A48,masterlist!$C$2:$AA$200,21,FALSE),\"\")","v":""},{"$f":"IFERROR(VLOOKUP($A48,masterlist!$C$2:$AA$200,22,FALSE),\"\")","v":""},{"$f":"IFERROR(IF($B$7=2,(VLOOKUP($A48,masterlist!$C$2:$AA$200,23,FALSE)-11),IF($B$7=4,(VLOOKUP($A48,masterlist!$C$2:$AA$200,23,FALSE)-9),IF($B$7=7,(VLOOKUP($A48,masterlist!$C$2:$AA$200,23,FALSE)-6),IF($B$7=10,(VLOOKUP($A48,masterlist!$C$2:$AA$200,23,FALSE)-3),(VLOOKUP($A48,masterlist!$C$2:$AA$200,23,FALSE)))))),\"\")","v":""},{"$f":"IFERROR(VLOOKUP($A48,masterlist!$C$2:$AA$200,24,FALSE),\"\")","v":""}]
[{"$f":"IF(ROWS($A$13:A49)<=(SUMPRODUCT((masterlist!B:B=\"LEG\")*(masterlist!J:J=0))),INDEX(masterlist!$C$2:$C$200,SMALL(IF(masterlist!$B$2:$B$200=\"LEG\",IF(masterlist!$F$2:$F$200>0,IF(masterlist!$J$2:$J$200=0,ROW(masterlist!$B$2:$B$200)-ROW(masterlist!$B$2)+1))),ROWS($A$13:A49))),\"\")","v":""},{"$f":"IFERROR(VLOOKUP($A49,masterlist!$C$2:$AA$200,3,FALSE),\"\")","v":""},{"$f":"IFERROR(VLOOKUP($A49,masterlist!$C$2:$AA$200,2,FALSE),\"\")","v":""},{"$f":"IFERROR(VLOOKUP($A49,masterlist!$C$2:$AA$200,5,FALSE),\"\")","v":""},{"$f":"IFERROR(IF((VLOOKUP($A49,masterlist!$C$2:$AA$200,9,FALSE))=0,\"\",VLOOKUP($A49,masterlist!$C$2:$AA$200,9,FALSE)),\"\")","v":""},{"$f":"IFERROR(VLOOKUP($A49,masterlist!$C$2:$AA$200,20,FALSE),\"\")","v":""},{"$f":"IFERROR(VLOOKUP($A49,masterlist!$C$2:$AA$200,21,FALSE),\"\")","v":""},{"$f":"IFERROR(VLOOKUP($A49,masterlist!$C$2:$AA$200,22,FALSE),\"\")","v":""},{"$f":"IFERROR(IF($B$7=2,(VLOOKUP($A49,masterlist!$C$2:$AA$200,23,FALSE)-11),IF($B$7=4,(VLOOKUP($A49,masterlist!$C$2:$AA$200,23,FALSE)-9),IF($B$7=7,(VLOOKUP($A49,masterlist!$C$2:$AA$200,23,FALSE)-6),IF($B$7=10,(VLOOKUP($A49,masterlist!$C$2:$AA$200,23,FALSE)-3),(VLOOKUP($A49,masterlist!$C$2:$AA$200,23,FALSE)))))),\"\")","v":""},{"$f":"IFERROR(VLOOKUP($A49,masterlist!$C$2:$AA$200,24,FALSE),\"\")","v":""}]
[{"$f":"IF(ROWS($A$13:A50)<=(SUMPRODUCT((masterlist!B:B=\"IEC\")*(masterlist!J:J=0))),INDEX(masterlist!$C$2:$C$200,SMALL(IF(masterlist!$B$2:$B$200=\"IEC\",IF(masterlist!$F$2:$F$200>0,IF(masterlist!$J$2:$J$200=0,ROW(masterlist!$B$2:$B$200)-ROW(masterlist!$B$2)+1))),ROWS($A$13:A50))),\"\")","v":""}]

{"sheet":"LEG","index":41,"n_rows":2,"n_cols":8,"rows_kept":2,"cut":false,"hidden":true,"merged":[[0,1,0,6],[0,7,0,9],[1,3,1,9]]}
[null,"Legislation",null,null,null,null,null,"Practical Workplan towards Achieving Rabies Elimination"]
[null,null,null,"The success of rabies control and elimination programmes relies largely on community cooperation and assistance, which is largely driven by the country’s legislation, laws and by-laws that enforces specific responsibilities. By legally providing support to rabies control programmes the officials can undertake their respective jobs with further support from authorities and with the full backing of the government, thus improving the odds of achieving successful rabies intervention campaigns.     "]

{"sheet":"LEGgantt","index":42,"n_rows":49,"n_cols":17,"rows_kept":49,"cut":false,"hidden":true,"merged":[[0,1,0,16],[1,1,1,6],[2,1,2,16]]}
[null,"Practical Workplan towards Achieving Rabies Elimination"]
[]
[null,"Legislation - GANTT CHART"]
[]
[null,null,null,null,1,2,3,4,5,6,7,8,9,10,11,12,13]
[null,"Theme","Stage","Activity",{"$f":"'NW country'!$E$35","v":2018},{"$f":"IF('NW country'!$K$4<6,E6+1,\"\")","v":2019},{"$f":"IF('NW country'!$K$4<5,E6+2,\"\")","v":2020},{"$f":"IF('NW country'!$K$4<5,E6+3,\"\")","v":2021},{"$f":"IF('NW country'!$K$4<4,E6+4,\"\")","v":2022},{"$f":"IF('NW country'!$K$4<4,E6+5,\"\")","v":2023},{"$f":"IF('NW country'!$K$4<4,E6+6,\"\")","v":2024},{"$f":"IF('NW country'!$K$4<3,E6+7,\"\")","v":2025},{"$f":"IF('NW country'!$K$4<3,E6+8,\"\")","v":2026},{"$f":"IF('NW country'!$K$4<3,E6+9,\"\")","v":2027},{"$f":"IF('NW country'!$K$4<2,E6+10,\"\")","v":""},{"$f":"IF('NW country'!$K$4<2,E6+11,\"\")","v":""},{"$f":"IF('NW country'!$K$4<2,E6+12,\"\")","v":""}]
[13,{"$f":"IF((INDIRECT(\"leg!\"&\"$a\"&$A7))=0,\"\",INDIRECT(\"LEG!\"&\"$c\"&$A7))","v":""},{"$f":"IF(INDIRECT(\"LEG!\"&\"$a\"&$A7)=0,\"\",INDIRECT(\"LEG!\"&\"$b\"&$A7))","v":""},{"$f":"IF(INDIRECT(\"LEG!\"&\"$a\"&$A7)=0,\"\",INDIRECT(\"LEG!\"&\"$d\"&$A7))","v":""},{"$f":"IF($C7>6,\"\",IF(E$5<=INDIRECT(\"LEG!\"&\"$i\"&$A7),\"X\",\"\"))","v":""},{"$f":"IF($C7>6,\"\",IF(F$5<=INDIRECT(\"LEG!\"&\"$i\"&$A7),\"X\",\"\"))","v":""},"","","","","","","","","","",""]
[14,{"$f":"IF((INDIRECT(\"leg!\"&\"$a\"&$A8))=0,\"\",INDIRECT(\"LEG!\"&\"$c\"&$A8))","v":""},{"$f":"IF(INDIRECT(\"LEG!\"&\"$a\"&$A8)=0,\"\",INDIRECT(\"LEG!\"&\"$b\"&$A8))","v":""},{"$f":"IF(INDIRECT(\"LEG!\"&\"$a\"&$A8)=0,\"\",INDIRECT(\"LEG!\"&\"$d\"&$A8))","v":""},{"$f":"IF($C8>6,\"\",IF(E$5<=INDIRECT(\"LEG!\"&\"$i\"&$A8),\"X\",\"\"))","v":""},"","","","","","","","","","","",""]
[15,"","","","","","","","","","","","","","","",""]
[16,"","","","","","","","","","","","","","","",""]
[17,"","","","","","","","","","","","","","","",""]
[18,"","","","","","","","","","","","","","","",""]
[19,"","","","","","","","","","","","","","","",""]
[20,"","","","","","","","","","","","","","","",""]
[21,"","","","","","","","","","","","","","","",""]
[22,"","","","","","","","","","","","","","","",""]
[23,"","","","","","","","","","","","","","","",""]
[24,"","","","","","","","","","","","","","","",""]
[25,"","","","","","","","","","","","","","","",""]
[26,"","","","","","","","","","","","","","","",""]
[27,"","","","","","","","","","","","","","","",""]
[28,"","","","","","","","","","","","","","","",""]
[29,"","","","","","","","","","","","","","","",""]
[30,"","","","","","","","","","","","","","","",""]
[31,"","","","","","","","","","","","","","","",""]
[32,"","","","","","","","","","","","","","","",""]
[33,"","","","","","","","","","","","","","","",""]
[34,"","","","","","","","","","","","","","","",""]
[35,"","","","","","","","","","","","","","","",""]
[36,"","","","","","","","","","","","","","","",""]
[37,"","","","","","","","","","","","","","","",""]
[38,"","","","","","","","","","","","","","","",""]
[39,"","","","","","","","","","","","","","","",""]
[40,"","","","","","","","","","","","","","","",""]
[41,"","","","","","","","","","","","","","","",""]
[42,"","","","","","","","","","","","","","","",""]
[43,"","","","","","","","","","","","","","","",""]
[44,"","","","","","","","","","","","","","","",""]
[45,"","","","","","","","","","","","","","","",""]
[46,"","","","","","","","","","","","","","","",""]
[47,"","","","","","","","","",{"$f":"IF($C41>6,\"\",IF(K$5<=INDIRECT(\"LEG!\"&\"$i\"&$A41),\"X\",\"\"))","v":""},"","","","","",""]
[48,"","","",{"$f":"IF($C42>6,\"\",IF(E$5<=INDIRECT(\"LEG!\"&\"$i\"&$A42),\"X\",\"\"))","v":""},"","","","","","","","","","","",""]
[49,"","","","","","","","","","","","","","","",""]
[50,"","","","","","","","","","","","","","","",""]
[51,"","","","","","","","","","","","","","","",""]
[52,"","","","","","","","","","","","","","","",""]
[53,"","","","","","","","","","","","","","","",""]
[54,"","","","","","","","","","","","","","","",""]
[55,"","","","","","","","","","","","","","","",""]

{"sheet":"rawgantt","index":43,"n_rows":199,"n_cols":35,"rows_kept":199,"cut":false,"hidden":true,"merged":[[0,1,0,17],[1,1,1,7],[2,1,2,17]]}
[null,"Practical Workplan towards Achieving Rabies Elimination"]
[]
[null,"GANTT CHART"]
[]
[null,null,null,null,null,1,2,3,4,5,6,7,8,9,10,11,12,13,null,null,null,null,{"$f":"TEXT(F6,\"0\")","v":"2018"},{"$f":"TEXT(G6,\"0\")","v":"2019"},"2020","2021","2022","2023","2024","2025","2026","2027","","",""]
[null,"Component","Theme","Stage","Activity",{"$f":"'NW country'!$E$35","v":2018},{"$f":"IF('NW country'!$K$4<6,F6+1,\"\")","v":2019},{"$f":"IF('NW country'!$K$4<5,F6+2,\"\")","v":2020},{"$f":"IF('NW country'!$K$4<5,F6+3,\"\")","v":2021},{"$f":"IF('NW country'!$K$4<4,F6+4,\"\")","v":2022},{"$f":"IF('NW country'!$K$4<4,F6+5,\"\")","v":2023},{"$f":"IF('NW country'!$K$4<4,F6+6,\"\")","v":2024},{"$f":"IF('NW country'!$K$4<3,F6+7,\"\")","v":2025},{"$f":"IF('NW country'!$K$4<3,F6+8,\"\")","v":2026},{"$f":"IF('NW country'!$K$4<3,F6+9,\"\")","v":2027},{"$f":"IF('NW country'!$K$4<2,F6+10,\"\")","v":""},{"$f":"IF('NW country'!$K$4<2,F6+11,\"\")","v":""},{"$f":"IF('NW country'!$K$4<2,F6+12,\"\")","v":""},null,null,null,null,{"$f":"SUM(W7:W199)","v":0},{"$f":"SUM(X7:X199)","v":0},0,0,2,0,1,1,0,1,0,0,38]
[{"$f":"IFERROR(priorit!A6,\"\")","v":"DCA-Sur-1-11"},{"$f":"IFERROR(LEFT(A7,3),\"\")","v":"DCA"},{"$f":"IFERROR(VLOOKUP($A7,masterlist!$C$2:$AA$200,2,FALSE),\"\")","v":"Surveillance"},{"$f":"IFERROR(VLOOKUP($A7,masterlist!$C$2:$AA$200,3,FALSE),\"\")","v":1},{"$f":"IFERROR(VLOOKUP($A7,masterlist!$C$2:$AA$200,5,FALSE),\"\")","v":"Have dog population studies and KAP surveys been conducted to determine size, turn-over and accessibility of dogs for vaccination on a small scale?"},{"$f":"IF($D7>6,\"\",IF(F$5<=(VLOOKUP($A7,masterlist!$C$2:$AC$200,27,FALSE)),1,\"\"))","v":""},{"$f":"IF($D7>6,\"\",IF(G$5<=(VLOOKUP($A7,masterlist!$C$2:$AC$200,27,FALSE)),1,\"\"))","v":""},{"$f":"IF($D7>6,\"\",IF(H$5<=(VLOOKUP($A7,masterlist!$C$2:$AC$200,27,FALSE)),1,\"\"))","v":""},{"$f":"IF($D7>6,\"\",IF(I$5<=(VLOOKUP($A7,masterlist!$C$2:$AC$200,27,FALSE)),1,\"\"))","v":""},{"$f":"IF($D7>6,\"\",IF(J$5<=(VLOOKUP($A7,masterlist!$C$2:$AC$200,27,FALSE)),1,\"\"))","v":""},{"$f":"IF($D7>6,\"\",IF(K$5<=(VLOOKUP($A7,masterlist!$C$2:$AC$200,27,FALSE)),1,\"\"))","v":""},{"$f":"IF($D7>6,\"\",IF(L$5<=(VLOOKUP($A7,masterlist!$C$2:$AC$200,27,FALSE)),1,\"\"))","v":""},{"$f":"IF($D7>6,\"\",IF(M$5<=(VLOOKUP($A7,masterlist!$C$2:$AC$200,27,FALSE)),1,\"\"))","v":""},{"$f":"IF($D7>6,\"\",IF(N$5<=(VLOOKUP($A7,masterlist!$C$2:$AC$200,27,FALSE)),1,\"\"))","v":""},{"$f":"IF($D7>6,\"\",IF(O$5<=(VLOOKUP($A7,masterlist!$C$2:$AC$200,27,FALSE)),1,\"\"))","v":""},{"$f":"IF($D7>6,\"\",IF(P$5<=(VLOOKUP($A7,masterlist!$C$2:$AC$200,27,FALSE)),1,\"\"))","v":""},{"$f":"IF($D7>6,\"\",IF(Q$5<=(VLOOKUP($A7,masterlist!$C$2:$AC$200,27,FALSE)),1,\"\"))","v":""},{"$f":"IF($D7>6,\"\",IF(R$5<=(VLOOKUP($A7,masterlist!$C$2:$AC$200,27,FALSE)),1,\"\"))","v":""},null,null,null,null,{"$f":"IF(F7=1,1,0)-IF(G7=1,1,0)","v":0},{"$f":"IF(G7=1,1,0)-IF(H7=1,1,0)","v":0},0,0,0,0,0,0,0,0,0,0,0]
[{"$f":"IFERROR(priorit!A7,\"\")","v":"DCA-Sur-3-17"},"DCA",{"$f":"IFERROR(VLOOKUP($A8,masterlist!$C$2:$AA$200,2,FALSE),\"\")","v":"Surveillance"},{"$f":"IFERROR(VLOOKUP($A8,masterlist!$C$2:$AA$200,3,FALSE),\"\")","v":3},{"$f":"IFERROR(VLOOKUP($A8,masterlist!$C$2:$AA$200,5,FALSE),\"\")","v":"As your country nears human rabies elimination, have field investigations for all suspected human rabies cases been conducted? "},{"$f":"IF($D8>6,\"\",IF(F$5<=(VLOOKUP($A8,masterlist!$C$2:$AC$200,27,FALSE)),1,\"\"))","v":1},{"$f":"IF($D8>6,\"\",IF(G$5<=(VLOOKUP($A8,masterlist!$C$2:$AC$200,27,FALSE)),1,\"\"))","v":1},{"$f":"IF($D8>6,\"\",IF(H$5<=(VLOOKUP($A8,masterlist!$C$2:$AC$200,27,FALSE)),1,\"\"))","v":1},{"$f":"IF($D8>6,\"\",IF(I$5<=(VLOOKUP($A8,masterlist!$C$2:$AC$200,27,FALSE)),1,\"\"))","v":1},{"$f":"IF($D8>6,\"\",IF(J$5<=(VLOOKUP($A8,masterlist!$C$2:$AC$200,27,FALSE)),1,\"\"))","v":1},{"$f":"IF($D8>6,\"\",IF(K$5<=(VLOOKUP($A8,masterlist!$C$2:$AC$200,27,FALSE)),1,\"\"))","v":""},{"$f":"IF($D8>6,\"\",IF(L$5<=(VLOOKUP($A8,masterlist!$C$2:$AC$200,27,FALSE)),1,\"\"))","v":""},{"$f":"IF($D8>6,\"\",IF(M$5<=(VLOOKUP($A8,masterlist!$C$2:$AC$200,27,FALSE)),1,\"\"))","v":""},{"$f":"IF($D8>6,\"\",IF(N$5<=(VLOOKUP($A8,masterlist!$C$2:$AC$200,27,FALSE)),1,\"\"))","v":""},{"$f":"IF($D8>6,\"\",IF(O$5<=(VLOOKUP($A8,masterlist!$C$2:$AC$200,27,FALSE)),1,\"\"))","v":""},{"$f":"IF($D8>6,\"\",IF(P$5<=(VLOOKUP($A8,masterlist!$C$2:$AC$200,27,FALSE)),1,\"\"))","v":""},{"$f":"IF($D8>6,\"\",IF(Q$5<=(VLOOKUP($A8,masterlist!$C$2:$AC$200,27,FALSE)),1,\"\"))","v":""},{"$f":"IF($D8>6,\"\",IF(R$5<=(VLOOKUP($A8,masterlist!$C$2:$AC$200,27,FALSE)),1,\"\"))","v":""},null,null,null,null,{"$f":"IF(F8=1,1,0)-IF(G8=1,1,0)","v":0},{"$f":"IF(G8=1,1,0)-IF(H8=1,1,0)","v":0},{"$f":"IF(H8=1,1,0)-IF(I8=1,1,0)","v":0},{"$f":"IF(I8=1,1,0)-IF(J8=1,1,0)","v":0},{"$f":"IF(J8=1,1,0)-IF(K8=1,1,0)","v":1},{"$f":"IF(K8=1,1,0)-IF(L8=1,1,0)","v":0},{"$f":"IF(L8=1,1,0)-IF(M8=1,1,0)","v":0},{"$f":"IF(M8=1,1,0)-IF(N8=1,1,0)","v":0},{"$f":"IF(N8=1,1,0)-IF(O8=1,1,0)","v":0},{"$f":"IF(O8=1,1,0)-IF(P8=1,1,0)","v":0},{"$f":"IF(P8=1,1,0)-IF(Q8=1,1,0)","v":0},{"$f":"IF(Q8=1,1,0)-IF(R8=1,1,0)","v":0},{"$f":"IF(R8=1,1,0)-IF(S8=1,1,0)","v":0}]
[{"$f":"IFERROR(priorit!A8,\"\")","v":"DCA-Sur-3-18"},"DCA",{"$f":"IFERROR(VLOOKUP($A9,masterlist!$C$2:$AA$200,2,FALSE),\"\")","v":"Surveillance"},{"$f":"IFERROR(VLOOKUP($A9,masterlist!$C$2:$AA$200,3,FALSE),\"\")","v":3},{"$f":"IFERROR(VLOOKUP($A9,masterlist!$C$2:$AA$200,5,FALSE),\"\")","v":"As your country nears human rabies elimination, is epidemiological data being collected to provide evidence of dog-transmitted human rabies-free zones?"},{"$f":"IF($D9>6,\"\",IF(F$5<=(VLOOKUP($A9,masterlist!$C$2:$AC$200,27,FALSE)),1,\"\"))","v":1},{"$f":"IF($D9>6,\"\",IF(G$5<=(VLOOKUP($A9,masterlist!$C$2:$AC$200,27,FALSE)),1,\"\"))","v":1},{"$f":"IF($D9>6,\"\",IF(H$5<=(VLOOKUP($A9,masterlist!$C$2:$AC$200,27,FALSE)),1,\"\"))","v":1},{"$f":"IF($D9>6,\"\",IF(I$5<=(VLOOKUP($A9,masterlist!$C$2:$AC$200,27,FALSE)),1,\"\"))","v":1},{"$f":"IF($D9>6,\"\",IF(J$5<=(VLOOKUP($A9,masterlist!$C$2:$AC$200,27,FALSE)),1,\"\"))","v":1},{"$f":"IF($D9>6,\"\",IF(K$5<=(VLOOKUP($A9,masterlist!$C$2:$AC$200,27,FALSE)),1,\"\"))","v":""},{"$f":"IF($D9>6,\"\",IF(L$5<=(VLOOKUP($A9,masterlist!$C$2:$AC$200,27,FALSE)),1,\"\"))","v":""},{"$f":"IF($D9>6,\"\",IF(M$5<=(VLOOKUP($A9,masterlist!$C$2:$AC$200,27,FALSE)),1,\"\"))","v":""},{"$f":"IF($D9>6,\"\",IF(N$5<=(VLOOKUP($A9,masterlist!$C$2:$AC$200,27,FALSE)),1,\"\"))","v":""},{"$f":"IF($D9>6,\"\",IF(O$5<=(VLOOKUP($A9,masterlist!$C$2:$AC$200,27,FALSE)),1,\"\"))","v":""},{"$f":"IF($D9>6,\"\",IF(P$5<=(VLOOKUP($A9,masterlist!$C$2:$AC$200,27,FALSE)),1,\"\"))","v":""},{"$f":"IF($D9>6,\"\",IF(Q$5<=(VLOOKUP($A9,masterlist!$C$2:$AC$200,27,FALSE)),1,\"\"))","v":""},{"$f":"IF($D9>6,\"\",IF(R$5<=(VLOOKUP($A9,masterlist!$C$2:$AC$200,27,FALSE)),1,\"\"))","v":""},null,null,null,null,0,0,0,0,1,0,0,0,0,0,0,0,0]
[{"$f":"IFERROR(priorit!A9,\"\")","v":"DCA-Sur-4-21"},"DCA",{"$f":"IFERROR(VLOOKUP($A10,masterlist!$C$2:$AA$200,2,FALSE),\"\")","v":"Surveillance"},{"$f":"IFERROR(VLOOKUP($A10,masterlist!$C$2:$AA$200,3,FALSE),\"\")","v":4},{"$f":"IFERROR(VLOOKUP($A10,masterlist!$C$2:$AA$200,5,FALSE),\"\")","v":"As your country nears dog-rabies elimination, has the epidemiological data from the routine surveillance of all animals (not only dogs) been used to refine the national rabies strategy?"},{"$f":"IF($D10>6,\"\",IF(F$5<=(VLOOKUP($A10,masterlist!$C$2:$AC$200,27,FALSE)),1,\"\"))","v":1},{"$f":"IF($D10>6,\"\",IF(G$5<=(VLOOKUP($A10,masterlist!$C$2:$AC$200,27,FALSE)),1,\"\"))","v":1},{"$f":"IF($D10>6,\"\",IF(H$5<=(VLOOKUP($A10,masterlist!$C$2:$AC$200,27,FALSE)),1,\"\"))","v":1},{"$f":"IF($D10>6,\"\",IF(I$5<=(VLOOKUP($A10,masterlist!$C$2:$AC$200,27,FALSE)),1,\"\"))","v":1},{"$f":"IF($D10>6,\"\",IF(J$5<=(VLOOKUP($A10,masterlist!$C$2:$AC$200,27,FALSE)),1,\"\"))","v":1},{"$f":"IF($D10>6,\"\",IF(K$5<=(VLOOKUP($A10,masterlist!$C$2:$AC$200,27,FALSE)),1,\"\"))","v":1},{"$f":"IF($D10>6,\"\",IF(L$5<=(VLOOKUP($A10,masterlist!$C$2:$AC$200,27,FALSE)),1,\"\"))","v":1},{"$f":"IF($D10>6,\"\",IF(M$5<=(VLOOKUP($A10,masterlist!$C$2:$AC$200,27,FALSE)),1,\"\"))","v":""},{"$f":"IF($D10>6,\"\",IF(N$5<=(VLOOKUP($A10,masterlist!$C$2:$AC$200,27,FALSE)),1,\"\"))","v":""},{"$f":"IF($D10>6,\"\",IF(O$5<=(VLOOKUP($A10,masterlist!$C$2:$AC$200,27,FALSE)),1,\"\"))","v":""},{"$f":"IF($D10>6,\"\",IF(P$5<=(VLOOKUP($A10,masterlist!$C$2:$AC$200,27,FALSE)),1,\"\"))","v":""},{"$f":"IF($D10>6,\"\",IF(Q$5<=(VLOOKUP($A10,masterlist!$C$2:$AC$200,27,FALSE)),1,\"\"))","v":""},{"$f":"IF($D10>6,\"\",IF(R$5<=(VLOOKUP($A10,masterlist!$C$2:$AC$200,27,FALSE)),1,\"\"))","v":""},null,null,null,null,0,0,0,0,0,0,1,0,0,0,0,0,0]
[{"$f":"IFERROR(priorit!A10,\"\")","v":"DCA-Sur-5-22"},"DCA",{"$f":"IFERROR(VLOOKUP($A11,masterlist!$C$2:$AA$200,2,FALSE),\"\")","v":"Surveillance"},{"$f":"IFERROR(VLOOKUP($A11,masterlist!$C$2:$AA$200,3,FALSE),\"\")","v":5},{"$f":"IFERROR(VLOOKUP($A11,masterlist!$C$2:$AA$200,5,FALSE),\"\")","v":"Has freedom from dog-transmitted rabies in the entire country been verified by the absence of canine variant cases for at least a 2 year period?"},{"$f":"IF($D11>6,\"\",IF(F$5<=(VLOOKUP($A11,masterlist!$C$2:$AC$200,27,FALSE)),1,\"\"))","v":1},{"$f":"IF($D11>6,\"\",IF(G$5<=(VLOOKUP($A11,masterlist!$C$2:$AC$200,27,FALSE)),1,\"\"))","v":1},{"$f":"IF($D11>6,\"\",IF(H$5<=(VLOOKUP($A11,masterlist!$C$2:$AC$200,27,FALSE)),1,\"\"))","v":1},{"$f":"IF($D11>6,\"\",IF(I$5<=(VLOOKUP($A11,masterlist!$C$2:$AC$200,27,FALSE)),1,\"\"))","v":1},{"$f":"IF($D11>6,\"\",IF(J$5<=(VLOOKUP($A11,masterlist!$C$2:$AC$200,27,FALSE)),1,\"\"))","v":1},{"$f":"IF($D11>6,\"\",IF(K$5<=(VLOOKUP($A11,masterlist!$C$2:$AC$200,27,FALSE)),1,\"\"))","v":1},{"$f":"IF($D11>6,\"\",IF(L$5<=(VLOOKUP($A11,masterlist!$C$2:$AC$200,27,FALSE)),1,\"\"))","v":1},{"$f":"IF($D11>6,\"\",IF(M$5<=(VLOOKUP($A11,masterlist!$C$2:$AC$200,27,FALSE)),1,\"\"))","v":1},{"$f":"IF($D11>6,\"\",IF(N$5<=(VLOOKUP($A11,masterlist!$C$2:$AC$200,27,FALSE)),1,\"\"))","v":1},{"$f":"IF($D11>6,\"\",IF(O$5<=(VLOOKUP($A11,masterlist!$C$2:$AC$200,27,FALSE)),1,\"\"))","v":1},{"$f":"IF($D11>6,\"\",IF(P$5<=(VLOOKUP($A11,masterlist!$C$2:$AC$200,27,FALSE)),1,\"\"))","v":""},{"$f":"IF($D11>6,\"\",IF(Q$5<=(VLOOKUP($A11,masterlist!$C$2:$AC$200,27,FALSE)),1,\"\"))","v":""},{"$f":"IF($D11>6,\"\",IF(R$5<=(VLOOKUP($A11,masterlist!$C$2:$AC$200,27,FALSE)),1,\"\"))","v":""},null,null,null,null,0,0,0,0,0,0,0,0,0,1,0,0,0]
[{"$f":"IFERROR(priorit!A11,\"\")","v":"PCO-Hum-2-3"},"PCO",{"$f":"IFERROR(VLOOKUP($A12,masterlist!$C$2:$AA$200,2,FALSE),\"\")","v":"Human vaccines"},{"$f":"IFERROR(VLOOKUP($A12,masterlist!$C$2:$AA$200,3,FALSE),\"\")","v":2},{"$f":"IFERROR(VLOOKUP($A12,masterlist!$C$2:$AA$200,5,FALSE),\"\")","v":"Has an assessment* been done to determine the availability and access to PEP (and PreP)?"},{"$f":"IF($D12>6,\"\",IF(F$5<=(VLOOKUP($A12,masterlist!$C$2:$AC$200,27,FALSE)),1,\"\"))","v":1},{"$f":"IF($D12>6,\"\",IF(G$5<=(VLOOKUP($A12,masterlist!$C$2:$AC$200,27,FALSE)),1,\"\"))","v":1},{"$f":"IF($D12>6,\"\",IF(H$5<=(VLOOKUP($A12,masterlist!$C$2:$AC$200,27,FALSE)),1,\"\"))","v":1},{"$f":"IF($D12>6,\"\",IF(I$5<=(VLOOKUP($A12,masterlist!$C$2:$AC$200,27,FALSE)),1,\"\"))","v":1},{"$f":"IF($D12>6,\"\",IF(J$5<=(VLOOKUP($A12,masterlist!$C$2:$AC$200,27,FALSE)),1,\"\"))","v":1},{"$f":"IF($D12>6,\"\",IF(K$5<=(VLOOKUP($A12,masterlist!$C$2:$AC$200,27,FALSE)),1,\"\"))","v":1},{"$f":"IF($D12>6,\"\",IF(L$5<=(VLOOKUP($A12,masterlist!$C$2:$AC$200,27,FALSE)),1,\"\"))","v":1},{"$f":"IF($D12>6,\"\",IF(M$5<=(VLOOKUP($A12,masterlist!$C$2:$AC$200,27,FALSE)),1,\"\"))","v":1},{"$f":"IF($D12>6,\"\",IF(N$5<=(VLOOKUP($A12,masterlist!$C$2:$AC$200,27,FALSE)),1,\"\"))","v":1},{"$f":"IF($D12>6,\"\",IF(O$5<=(VLOOKUP($A12,masterlist!$C$2:$AC$200,27,FALSE)),1,\"\"))","v":1},{"$f":"IF($D12>6,\"\",IF(P$5<=(VLOOKUP($A12,masterlist!$C$2:$AC$200,27,FALSE)),1,\"\"))","v":1},{"$f":"IF($D12>6,\"\",IF(Q$5<=(VLOOKUP($A12,masterlist!$C$2:$AC$200,27,FALSE)),1,\"\"))","v":1},{"$f":"IF($D12>6,\"\",IF(R$5<=(VLOOKUP($A12,masterlist!$C$2:$AC$200,27,FALSE)),1,\"\"))","v":1},null,null,null,null,0,0,0,0,0,0,0,0,0,0,0,0,1]
[{"$f":"IFERROR(priorit!A12,\"\")","v":"PCO-Hum-5-7"},"PCO",{"$f":"IFERROR(VLOOKUP($A13,masterlist!$C$2:$AA$200,2,FALSE),\"\")","v":"Human vaccines"},{"$f":"IFERROR(VLOOKUP($A13,masterlist!$C$2:$AA$200,3,FALSE),\"\")","v":5},{"$f":"IFERROR(VLOOKUP($A13,masterlist!$C$2:$AA$200,5,FALSE),\"\")","v":"Now that your country is free from human and animal rabies, have modified protocols for PEP administration for rabies-free areas been implemented?"},{"$f":"IF($D13>6,\"\",IF(F$5<=(VLOOKUP($A13,masterlist!$C$2:$AC$200,27,FALSE)),1,\"\"))","v":1},{"$f":"IF($D13>6,\"\",IF(G$5<=(VLOOKUP($A13,masterlist!$C$2:$AC$200,27,FALSE)),1,\"\"))","v":1},{"$f":"IF($D13>6,\"\",IF(H$5<=(VLOOKUP($A13,masterlist!$C$2:$AC$200,27,FALSE)),1,\"\"))","v":1},{"$f":"IF($D13>6,\"\",IF(I$5<=(VLOOKUP($A13,masterlist!$C$2:$AC$200,27,FALSE)),1,\"\"))","v":1},{"$f":"IF($D13>6,\"\",IF(J$5<=(VLOOKUP($A13,masterlist!$C$2:$AC$200,27,FALSE)),1,\"\"))","v":1},{"$f":"IF($D13>6,\"\",IF(K$5<=(VLOOKUP($A13,masterlist!$C$2:$AC$200,27,FALSE)),1,\"\"))","v":1},{"$f":"IF($D13>6,\"\",IF(L$5<=(VLOOKUP($A13,masterlist!$C$2:$AC$200,27,FALSE)),1,\"\"))","v":1},{"$f":"IF($D13>6,\"\",IF(M$5<=(VLOOKUP($A13,masterlist!$C$2:$AC$200,27,FALSE)),1,\"\"))","v":1},{"$f":"IF($D13>6,\"\",IF(N$5<=(VLOOKUP($A13,masterlist!$C$2:$AC$200,27,FALSE)),1,\"\"))","v":1},{"$f":"IF($D13>6,\"\",IF(O$5<=(VLOOKUP($A13,masterlist!$C$2:$AC$200,27,FALSE)),1,\"\"))","v":1},{"$f":"IF($D13>6,\"\",IF(P$5<=(VLOOKUP($A13,masterlist!$C$2:$AC$200,27,FALSE)),1,\"\"))","v":1},{"$f":"IF($D13>6,\"\",IF(Q$5<=(VLOOKUP($A13,masterlist!$C$2:$AC$200,27,FALSE)),1,\"\"))","v":1},{"$f":"IF($D13>6,\"\",IF(R$5<=(VLOOKUP($A13,masterlist!$C$2:$AC$200,27,FALSE)),1,\"\"))","v":1},null,null,null,null,0,0,0,0,0,0,0,0,0,0,0,0,1]
[{"$f":"IFERROR(priorit!A13,\"\")","v":"PCO-Dog-3-12"},"PCO",{"$f":"IFERROR(VLOOKUP($A14,masterlist!$C$2:$AA$200,2,FALSE),\"\")","v":"Dog vaccines"},{"$f":"IFERROR(VLOOKUP($A14,masterlist!$C$2:$AA$200,3,FALSE),\"\")","v":3},{"$f":"IFERROR(VLOOKUP($A14,masterlist!$C$2:$AA$200,5,FALSE),\"\")","v":"Are post-vaccination surveys* in dogs being carried out to evaluate vaccination coverage?"},{"$f":"IF($D14>6,\"\",IF(F$5<=(VLOOKUP($A14,masterlist!$C$2:$AC$200,27,FALSE)),1,\"\"))","v":1},{"$f":"IF($D14>6,\"\",IF(G$5<=(VLOOKUP($A14,masterlist!$C$2:$AC$200,27,FALSE)),1,\"\"))","v":1},{"$f":"IF($D14>6,\"\",IF(H$5<=(VLOOKUP($A14,masterlist!$C$2:$AC$200,27,FALSE)),1,\"\"))","v":1},{"$f":"IF($D14>6,\"\",IF(I$5<=(VLOOKUP($A14,masterlist!$C$2:$AC$200,27,FALSE)),1,\"\"))","v":1},{"$f":"IF($D14>6,\"\",IF(J$5<=(VLOOKUP($A14,masterlist!$C$2:$AC$200,27,FALSE)),1,\"\"))","v":1},{"$f":"IF($D14>6,\"\",IF(K$5<=(VLOOKUP($A14,masterlist!$C$2:$AC$200,27,FALSE)),1,\"\"))","v":1},{"$f":"IF($D14>6,\"\",IF(L$5<=(VLOOKUP($A14,masterlist!$C$2:$AC$200,27,FALSE)),1,\"\"))","v":1},{"$f":"IF($D14>6,\"\",IF(M$5<=(VLOOKUP($A14,masterlist!$C$2:$AC$200,27,FALSE)),1,\"\"))","v":1},{"$f":"IF($D14>6,\"\",IF(N$5<=(VLOOKUP($A14,masterlist!$C$2:$AC$200,27,FALSE)),1,\"\"))","v":1},{"$f":"IF($D14>6,\"\",IF(O$5<=(VLOOKUP($A14,masterlist!$C$2:$AC$200,27,FALSE)),1,\"\"))","v":1},{"$f":"IF($D14>6,\"\",IF(P$5<=(VLOOKUP($A14,masterlist!$C$2:$AC$200,27,FALSE)),1,\"\"))","v":1},{"$f":"IF($D14>6,\"\",IF(Q$5<=(VLOOKUP($A14,masterlist!$C$2:$AC$200,27,FALSE)),1,\"\"))","v":1},{"$f":"IF($D14>6,\"\",IF(R$5<=(VLOOKUP($A14,masterlist!$C$2:$AC$200,27,FALSE)),1,\"\"))","v":1},null,null,null,null,0,0,0,0,0,0,0,0,0,0,0,0,1]
[{"$f":"IFERROR(priorit!A14,\"\")","v":"PCO-Dog-5-14"},"PCO",{"$f":"IFERROR(VLOOKUP($A15,masterlist!$C$2:$AA$200,2,FALSE),\"\")","v":"Dog vaccines"},{"$f":"IFERROR(VLOOKUP($A15,masterlist!$C$2:$AA$200,3,FALSE),\"\")","v":5},{"$f":"IFERROR(VLOOKUP($A15,masterlist!$C$2:$AA$200,5,FALSE),\"\")","v":"Even though you are rabies free based on successful mass vaccination campaigns, are strategic dog vaccination campaigns maintained where justifiable?"},{"$f":"IF($D15>6,\"\",IF(F$5<=(VLOOKUP($A15,masterlist!$C$2:$AC$200,27,FALSE)),1,\"\"))","v":1},{"$f":"IF($D15>6,\"\",IF(G$5<=(VLOOKUP($A15,masterlist!$C$2:$AC$200,27,FALSE)),1,\"\"))","v":1},{"$f":"IF($D15>6,\"\",IF(H$5<=(VLOOKUP($A15,masterlist!$C$2:$AC$200,27,FALSE)),1,\"\"))","v":1},{"$f":"IF($D15>6,\"\",IF(I$5<=(VLOOKUP($A15,masterlist!$C$2:$AC$200,27,FALSE)),1,\"\"))","v":1},{"$f":"IF($D15>6,\"\",IF(J$5<=(VLOOKUP($A15,masterlist!$C$2:$AC$200,27,FALSE)),1,\"\"))","v":1},{"$f":"IF($D15>6,\"\",IF(K$5<=(VLOOKUP($A15,masterlist!$C$2:$AC$200,27,FALSE)),1,\"\"))","v":1},{"$f":"IF($D15>6,\"\",IF(L$5<=(VLOOKUP($A15,masterlist!$C$2:$AC$200,27,FALSE)),1,\"\"))","v":1},{"$f":"IF($D15>6,\"\",IF(M$5<=(VLOOKUP($A15,masterlist!$C$2:$AC$200,27,FALSE)),1,\"\"))","v":1},{"$f":"IF($D15>6,\"\",IF(N$5<=(VLOOKUP($A15,masterlist!$C$2:$AC$200,27,FALSE)),1,\"\"))","v":1},{"$f":"IF($D15>6,\"\",IF(O$5<=(VLOOKUP($A15,masterlist!$C$2:$AC$200,27,FALSE)),1,\"\"))","v":1},{"$f":"IF($D15>6,\"\",IF(P$5<=(VLOOKUP($A15,masterlist!$C$2:$AC$200,27,FALSE)),1,\"\"))","v":1},{"$f":"IF($D15>6,\"\",IF(Q$5<=(VLOOKUP($A15,masterlist!$C$2:$AC$200,27,FALSE)),1,\"\"))","v":1},{"$f":"IF($D15>6,\"\",IF(R$5<=(VLOOKUP($A15,masterlist!$C$2:$AC$200,27,FALSE)),1,\"\"))","v":1},null,null,null,null,0,0,0,0,0,0,0,0,0,0,0,0,1]
[{"$f":"IFERROR(priorit!A15,\"\")","v":"PCO-Out-2-20"},"PCO",{"$f":"IFERROR(VLOOKUP($A16,masterlist!$C$2:$AA$200,2,FALSE),\"\")","v":"Outbreak response and other rabies control activities"},{"$f":"IFERROR(VLOOKUP($A16,masterlist!$C$2:$AA$200,3,FALSE),\"\")","v":2},{"$f":"IFERROR(VLOOKUP($A16,masterlist!$C$2:$AA$200,5,FALSE),\"\")","v":"Have facilities been established for the observation of rabies-suspected dogs?"},{"$f":"IF($D16>6,\"\",IF(F$5<=(VLOOKUP($A16,masterlist!$C$2:$AC$200,27,FALSE)),1,\"\"))","v":1},{"$f":"IF($D16>6,\"\",IF(G$5<=(VLOOKUP($A16,masterlist!$C$2:$AC$200,27,FALSE)),1,\"\"))","v":1},{"$f":"IF($D16>6,\"\",IF(H$5<=(VLOOKUP($A16,masterlist!$C$2:$AC$200,27,FALSE)),1,\"\"))","v":1},{"$f":"IF($D16>6,\"\",IF(I$5<=(VLOOKUP($A16,masterlist!$C$2:$AC$200,27,FALSE)),1,\"\"))","v":1},{"$f":"IF($D16>6,\"\",IF(J$5<=(VLOOKUP($A16,masterlist!$C$2:$AC$200,27,FALSE)),1,\"\"))","v":1},{"$f":"IF($D16>6,\"\",IF(K$5<=(VLOOKUP($A16,masterlist!$C$2:$AC$200,27,FALSE)),1,\"\"))","v":1},{"$f":"IF($D16>6,\"\",IF(L$5<=(VLOOKUP($A16,masterlist!$C$2:$AC$200,27,FALSE)),1,\"\"))","v":1},{"$f":"IF($D16>6,\"\",IF(M$5<=(VLOOKUP($A16,masterlist!$C$2:$AC$200,27,FALSE)),1,\"\"))","v":1},{"$f":"IF($D16>6,\"\",IF(N$5<=(VLOOKUP($A16,masterlist!$C$2:$AC$200,27,FALSE)),1,\"\"))","v":1},{"$f":"IF($D16>6,\"\",IF(O$5<=(VLOOKUP($A16,masterlist!$C$2:$AC$200,27,FALSE)),1,\"\"))","v":1},{"$f":"IF($D16>6,\"\",IF(P$5<=(VLOOKUP($A16,masterlist!$C$2:$AC$200,27,FALSE)),1,\"\"))","v":1},{"$f":"IF($D16>6,\"\",IF(Q$5<=(VLOOKUP($A16,masterlist!$C$2:$AC$200,27,FALSE)),1,\"\"))","v":1},{"$f":"IF($D16>6,\"\",IF(R$5<=(VLOOKUP($A16,masterlist!$C$2:$AC$200,27,FALSE)),1,\"\"))","v":1},null,null,null,null,0,0,0,0,0,0,0,0,0,0,0,0,1]
[{"$f":"IFERROR(priorit!A16,\"\")","v":"PCO-Out-3-21"},"PCO",{"$f":"IFERROR(VLOOKUP($A17,masterlist!$C$2:$AA$200,2,FALSE),\"\")","v":"Outbreak response and other rabies control activities"},{"$f":"IFERROR(VLOOKUP($A17,masterlist!$C$2:$AA$200,3,FALSE),\"\")","v":3},{"$f":"IFERROR(VLOOKUP($A17,masterlist!$C$2:$AA$200,5,FALSE),\"\")","v":"Is there capacity to conduct field investigations and planned outbreak responses for human rabies cases in the entire country?"},{"$f":"IF($D17>6,\"\",IF(F$5<=(VLOOKUP($A17,masterlist!$C$2:$AC$200,27,FALSE)),1,\"\"))","v":1},{"$f":"IF($D17>6,\"\",IF(G$5<=(VLOOKUP($A17,masterlist!$C$2:$AC$200,27,FALSE)),1,\"\"))","v":1},{"$f":"IF($D17>6,\"\",IF(H$5<=(VLOOKUP($A17,masterlist!$C$2:$AC$200,27,FALSE)),1,\"\"))","v":1},{"$f":"IF($D17>6,\"\",IF(I$5<=(VLOOKUP($A17,masterlist!$C$2:$AC$200,27,FALSE)),1,\"\"))","v":1},{"$f":"IF($D17>6,\"\",IF(J$5<=(VLOOKUP($A17,masterlist!$C$2:$AC$200,27,FALSE)),1,\"\"))","v":1},{"$f":"IF($D17>6,\"\",IF(K$5<=(VLOOKUP($A17,masterlist!$C$2:$AC$200,27,FALSE)),1,\"\"))","v":1},{"$f":"IF($D17>6,\"\",IF(L$5<=(VLOOKUP($A17,masterlist!$C$2:$AC$200,27,FALSE)),1,\"\"))","v":1},{"$f":"IF($D17>6,\"\",IF(M$5<=(VLOOKUP($A17,masterlist!$C$2:$AC$200,27,FALSE)),1,\"\"))","v":1},{"$f":"IF($D17>6,\"\",IF(N$5<=(VLOOKUP($A17,masterlist!$C$2:$AC$200,27,FALSE)),1,\"\"))","v":1},{"$f":"IF($D17>6,\"\",IF(O$5<=(VLOOKUP($A17,masterlist!$C$2:$AC$200,27,FALSE)),1,\"\"))","v":1},{"$f":"IF($D17>6,\"\",IF(P$5<=(VLOOKUP($A17,masterlist!$C$2:$AC$200,27,FALSE)),1,\"\"))","v":1},{"$f":"IF($D17>6,\"\",IF(Q$5<=(VLOOKUP($A17,masterlist!$C$2:$AC$200,27,FALSE)),1,\"\"))","v":1},{"$f":"IF($D17>6,\"\",IF(R$5<=(VLOOKUP($A17,masterlist!$C$2:$AC$200,27,FALSE)),1,\"\"))","v":1},null,null,null,null,0,0,0,0,0,0,0,0,0,0,0,0,1]
[{"$f":"IFERROR(priorit!A28,\"\")","v":"IEC-Pub-5-6"},"IEC",{"$f":"IFERROR(VLOOKUP($A18,masterlist!$C$2:$AA$200,2,FALSE),\"\")","v":"Public awareness"},{"$f":"IFERROR(VLOOKUP($A18,masterlist!$C$2:$AA$200,3,FALSE),\"\")","v":5},{"$f":"IFERROR(VLOOKUP($A18,masterlist!$C$2:$AA$200,5,FALSE),\"\")","v":"Have awareness programmes focusing on the maintenance of freedom from dog and dog-transmitted human rabies been implemented?"},{"$f":"IF($D18>6,\"\",IF(F$5<=(VLOOKUP($A18,masterlist!$C$2:$AC$200,27,FALSE)),1,\"\"))","v":1},{"$f":"IF($D18>6,\"\",IF(G$5<=(VLOOKUP($A18,masterlist!$C$2:$AC$200,27,FALSE)),1,\"\"))","v":1},{"$f":"IF($D18>6,\"\",IF(H$5<=(VLOOKUP($A18,masterlist!$C$2:$AC$200,27,FALSE)),1,\"\"))","v":1},{"$f":"IF($D18>6,\"\",IF(I$5<=(VLOOKUP($A18,masterlist!$C$2:$AC$200,27,FALSE)),1,\"\"))","v":1},{"$f":"IF($D18>6,\"\",IF(J$5<=(VLOOKUP($A18,masterlist!$C$2:$AC$200,27,FALSE)),1,\"\"))","v":1},{"$f":"IF($D18>6,\"\",IF(K$5<=(VLOOKUP($A18,masterlist!$C$2:$AC$200,27,FALSE)),1,\"\"))","v":1},{"$f":"IF($D18>6,\"\",IF(L$5<=(VLOOKUP($A18,masterlist!$C$2:$AC$200,27,FALSE)),1,\"\"))","v":1},{"$f":"IF($D18>6,\"\",IF(M$5<=(VLOOKUP($A18,masterlist!$C$2:$AC$200,27,FALSE)),1,\"\"))","v":1},{"$f":"IF($D18>6,\"\",IF(N$5<=(VLOOKUP($A18,masterlist!$C$2:$AC$200,27,FALSE)),1,\"\"))","v":1},{"$f":"IF($D18>6,\"\",IF(O$5<=(VLOOKUP($A18,masterlist!$C$2:$AC$200,27,FALSE)),1,\"\"))","v":1},{"$f":"IF($D18>6,\"\",IF(P$5<=(VLOOKUP($A18,masterlist!$C$2:$AC$200,27,FALSE)),1,\"\"))","v":1},{"$f":"IF($D18>6,\"\",IF(Q$5<=(VLOOKUP($A18,masterlist!$C$2:$AC$200,27,FALSE)),1,\"\"))","v":1},{"$f":"IF($D18>6,\"\",IF(R$5<=(VLOOKUP($A18,masterlist!$C$2:$AC$200,27,FALSE)),1,\"\"))","v":1},null,null,null,null,0,0,0,0,0,0,0,0,0,0,0,0,1]
[{"$f":"IFERROR(priorit!A29,\"\")","v":"IEC-Pro-1-8"},"IEC",{"$f":"IFERROR(VLOOKUP($A19,masterlist!$C$2:$AA$200,2,FALSE),\"\")","v":"Professional education"},{"$f":"IFERROR(VLOOKUP($A19,masterlist!$C$2:$AA$200,3,FALSE),\"\")","v":1},{"$f":"IFERROR(VLOOKUP($A19,masterlist!$C$2:$AA$200,5,FALSE),\"\")","v":"Has an assessment been undertaken to determine the training needs of the professionals at a local level? "},{"$f":"IF($D19>6,\"\",IF(F$5<=(VLOOKUP($A19,masterlist!$C$2:$AC$200,27,FALSE)),1,\"\"))","v":1},{"$f":"IF($D19>6,\"\",IF(G$5<=(VLOOKUP($A19,masterlist!$C$2:$AC$200,27,FALSE)),1,\"\"))","v":1},{"$f":"IF($D19>6,\"\",IF(H$5<=(VLOOKUP($A19,masterlist!$C$2:$AC$200,27,FALSE)),1,\"\"))","v":1},{"$f":"IF($D19>6,\"\",IF(I$5<=(VLOOKUP($A19,masterlist!$C$2:$AC$200,27,FALSE)),1,\"\"))","v":1},{"$f":"IF($D19>6,\"\",IF(J$5<=(VLOOKUP($A19,masterlist!$C$2:$AC$200,27,FALSE)),1,\"\"))","v":1},{"$f":"IF($D19>6,\"\",IF(K$5<=(VLOOKUP($A19,masterlist!$C$2:$AC$200,27,FALSE)),1,\"\"))","v":1},{"$f":"IF($D19>6,\"\",IF(L$5<=(VLOOKUP($A19,masterlist!$C$2:$AC$200,27,FALSE)),1,\"\"))","v":1},{"$f":"IF($D19>6,\"\",IF(M$5<=(VLOOKUP($A19,masterlist!$C$2:$AC$200,27,FALSE)),1,\"\"))","v":1},{"$f":"IF($D19>6,\"\",IF(N$5<=(VLOOKUP($A19,masterlist!$C$2:$AC$200,27,FALSE)),1,\"\"))","v":1},{"$f":"IF($D19>6,\"\",IF(O$5<=(VLOOKUP($A19,masterlist!$C$2:$AC$200,27,FALSE)),1,\"\"))","v":1},{"$f":"IF($D19>6,\"\",IF(P$5<=(VLOOKUP($A19,masterlist!$C$2:$AC$200,27,FALSE)),1,\"\"))","v":1},{"$f":"IF($D19>6,\"\",IF(Q$5<=(VLOOKUP($A19,masterlist!$C$2:$AC$200,27,FALSE)),1,\"\"))","v":1},{"$f":"IF($D19>6,\"\",IF(R$5<=(VLOOKUP($A19,masterlist!$C$2:$AC$200,27,FALSE)),1,\"\"))","v":1},null,null,null,null,0,0,0,0,0,0,0,0,0,0,0,0,1]
[{"$f":"IFERROR(priorit!A35,\"\")","v":"IEC-Adv-2-15"},"IEC",{"$f":"IFERROR(VLOOKUP($A20,masterlist!$C$2:$AA$200,2,FALSE),\"\")","v":"Advocacy"},{"$f":"IFERROR(VLOOKUP($A20,masterlist!$C$2:$AA$200,3,FALSE),\"\")","v":2},{"$f":"IFERROR(VLOOKUP($A20,masterlist!$C$2:$AA$200,5,FALSE),\"\")","v":"Have you promoted any small-scale rabies control program successes using the national advocacy plan?"},{"$f":"IF($D20>6,\"\",IF(F$5<=(VLOOKUP($A20,masterlist!$C$2:$AC$200,27,FALSE)),1,\"\"))","v":1},{"$f":"IF($D20>6,\"\",IF(G$5<=(VLOOKUP($A20,masterlist!$C$2:$AC$200,27,FALSE)),1,\"\"))","v":1},{"$f":"IF($D20>6,\"\",IF(H$5<=(VLOOKUP($A20,masterlist!$C$2:$AC$200,27,FALSE)),1,\"\"))","v":1},{"$f":"IF($D20>6,\"\",IF(I$5<=(VLOOKUP($A20,masterlist!$C$2:$AC$200,27,FALSE)),1,\"\"))","v":1},{"$f":"IF($D20>6,\"\",IF(J$5<=(VLOOKUP($A20,masterlist!$C$2:$AC$200,27,FALSE)),1,\"\"))","v":1},{"$f":"IF($D20>6,\"\",IF(K$5<=(VLOOKUP($A20,masterlist!$C$2:$AC$200,27,FALSE)),1,\"\"))","v":1},{"$f":"IF($D20>6,\"\",IF(L$5<=(VLOOKUP($A20,masterlist!$C$2:$AC$200,27,FALSE)),1,\"\"))","v":1},{"$f":"IF($D20>6,\"\",IF(M$5<=(VLOOKUP($A20,masterlist!$C$2:$AC$200,27,FALSE)),1,\"\"))","v":1},{"$f":"IF($D20>6,\"\",IF(N$5<=(VLOOKUP($A20,masterlist!$C$2:$AC$200,27,FALSE)),1,\"\"))","v":1},{"$f":"IF($D20>6,\"\",IF(O$5<=(VLOOKUP($A20,masterlist!$C$2:$AC$200,27,FALSE)),1,\"\"))","v":1},{"$f":"IF($D20>6,\"\",IF(P$5<=(VLOOKUP($A20,masterlist!$C$2:$AC$200,27,FALSE)),1,\"\"))","v":1},{"$f":"IF($D20>6,\"\",IF(Q$5<=(VLOOKUP($A20,masterlist!$C$2:$AC$200,27,FALSE)),1,\"\"))","v":1},{"$f":"IF($D20>6,\"\",IF(R$5<=(VLOOKUP($A20,masterlist!$C$2:$AC$200,27,FALSE)),1,\"\"))","v":1},null,null,null,null,0,0,0,0,0,0,0,0,0,0,0,0,1]
[{"$f":"IFERROR(priorit!A36,\"\")","v":"IEC-Adv-2-16"},"IEC",{"$f":"IFERROR(VLOOKUP($A21,masterlist!$C$2:$AA$200,2,FALSE),\"\")","v":"Advocacy"},{"$f":"IFERROR(VLOOKUP($A21,masterlist!$C$2:$AA$200,3,FALSE),\"\")","v":2},{"$f":"IFERROR(VLOOKUP($A21,masterlist!$C$2:$AA$200,5,FALSE),\"\")","v":"Has the national advocacy plan been used to obtain support from stakeholders to financially resource the national rabies control strategy?"},{"$f":"IF($D21>6,\"\",IF(F$5<=(VLOOKUP($A21,masterlist!$C$2:$AC$200,27,FALSE)),1,\"\"))","v":1},{"$f":"IF($D21>6,\"\",IF(G$5<=(VLOOKUP($A21,masterlist!$C$2:$AC$200,27,FALSE)),1,\"\"))","v":1},{"$f":"IF($D21>6,\"\",IF(H$5<=(VLOOKUP($A21,masterlist!$C$2:$AC$200,27,FALSE)),1,\"\"))","v":1},{"$f":"IF($D21>6,\"\",IF(I$5<=(VLOOKUP($A21,masterlist!$C$2:$AC$200,27,FALSE)),1,\"\"))","v":1},{"$f":"IF($D21>6,\"\",IF(J$5<=(VLOOKUP($A21,masterlist!$C$2:$AC$200,27,FALSE)),1,\"\"))","v":1},{"$f":"IF($D21>6,\"\",IF(K$5<=(VLOOKUP($A21,masterlist!$C$2:$AC$200,27,FALSE)),1,\"\"))","v":1},{"$f":"IF($D21>6,\"\",IF(L$5<=(VLOOKUP($A21,masterlist!$C$2:$AC$200,27,FALSE)),1,\"\"))","v":1},{"$f":"IF($D21>6,\"\",IF(M$5<=(VLOOKUP($A21,masterlist!$C$2:$AC$200,27,FALSE)),1,\"\"))","v":1},{"$f":"IF($D21>6,\"\",IF(N$5<=(VLOOKUP($A21,masterlist!$C$2:$AC$200,27,FALSE)),1,\"\"))","v":1},{"$f":"IF($D21>6,\"\",IF(O$5<=(VLOOKUP($A21,masterlist!$C$2:$AC$200,27,FALSE)),1,\"\"))","v":1},{"$f":"IF($D21>6,\"\",IF(P$5<=(VLOOKUP($A21,masterlist!$C$2:$AC$200,27,FALSE)),1,\"\"))","v":1},{"$f":"IF($D21>6,\"\",IF(Q$5<=(VLOOKUP($A21,masterlist!$C$2:$AC$200,27,FALSE)),1,\"\"))","v":1},{"$f":"IF($D21>6,\"\",IF(R$5<=(VLOOKUP($A21,masterlist!$C$2:$AC$200,27,FALSE)),1,\"\"))","v":1},null,null,null,null,0,0,0,0,0,0,0,0,0,0,0,0,1]
[{"$f":"IFERROR(priorit!A42,\"\")","v":"CCI-Nat-1-6"},"CCI",{"$f":"IFERROR(VLOOKUP($A22,masterlist!$C$2:$AA$200,2,FALSE),\"\")","v":"National programme and strategy"},{"$f":"IFERROR(VLOOKUP($A22,masterlist!$C$2:$AA$200,3,FALSE),\"\")","v":1},{"$f":"IFERROR(VLOOKUP($A22,masterlist!$C$2:$AA$200,5,FALSE),\"\")","v":"Based on a small-scale experience, has a short term rabies action plan been developed and endorsed by relevant authorities at local / national level?"},{"$f":"IF($D22>6,\"\",IF(F$5<=(VLOOKUP($A22,masterlist!$C$2:$AC$200,27,FALSE)),1,\"\"))","v":1},{"$f":"IF($D22>6,\"\",IF(G$5<=(VLOOKUP($A22,masterlist!$C$2:$AC$200,27,FALSE)),1,\"\"))","v":1},{"$f":"IF($D22>6,\"\",IF(H$5<=(VLOOKUP($A22,masterlist!$C$2:$AC$200,27,FALSE)),1,\"\"))","v":1},{"$f":"IF($D22>6,\"\",IF(I$5<=(VLOOKUP($A22,masterlist!$C$2:$AC$200,27,FALSE)),1,\"\"))","v":1},{"$f":"IF($D22>6,\"\",IF(J$5<=(VLOOKUP($A22,masterlist!$C$2:$AC$200,27,FALSE)),1,\"\"))","v":1},{"$f":"IF($D22>6,\"\",IF(K$5<=(VLOOKUP($A22,masterlist!$C$2:$AC$200,27,FALSE)),1,\"\"))","v":1},{"$f":"IF($D22>6,\"\",IF(L$5<=(VLOOKUP($A22,masterlist!$C$2:$AC$200,27,FALSE)),1,\"\"))","v":1},{"$f":"IF($D22>6,\"\",IF(M$5<=(VLOOKUP($A22,masterlist!$C$2:$AC$200,27,FALSE)),1,\"\"))","v":1},{"$f":"IF($D22>6,\"\",IF(N$5<=(VLOOKUP($A22,masterlist!$C$2:$AC$200,27,FALSE)),1,\"\"))","v":1},{"$f":"IF($D22>6,\"\",IF(O$5<=(VLOOKUP($A22,masterlist!$C$2:$AC$200,27,FALSE)),1,\"\"))","v":1},{"$f":"IF($D22>6,\"\",IF(P$5<=(VLOOKUP($A22,masterlist!$C$2:$AC$200,27,FALSE)),1,\"\"))","v":1},{"$f":"IF($D22>6,\"\",IF(Q$5<=(VLOOKUP($A22,masterlist!$C$2:$AC$200,27,FALSE)),1,\"\"))","v":1},{"$f":"IF($D22>6,\"\",IF(R$5<=(VLOOKUP($A22,masterlist!$C$2:$AC$200,27,FALSE)),1,\"\"))","v":1},null,null,null,null,0,0,0,0,0,0,0,0,0,0,0,0,1]
[{"$f":"IFERROR(priorit!A43,\"\")","v":"CCI-Nat-1-7"},"CCI",{"$f":"IFERROR(VLOOKUP($A23,masterlist!$C$2:$AA$200,2,FALSE),\"\")","v":"National programme and strategy"},{"$f":"IFERROR(VLOOKUP($A23,masterlist!$C$2:$AA$200,3,FALSE),\"\")","v":1},{"$f":"IFERROR(VLOOKUP($A23,masterlist!$C$2:$AA$200,5,FALSE),\"\")","v":"Have mechanisms for mobilizing emergency funds for rabies control been identified?"},{"$f":"IF($D23>6,\"\",IF(F$5<=(VLOOKUP($A23,masterlist!$C$2:$AC$200,27,FALSE)),1,\"\"))","v":1},{"$f":"IF($D23>6,\"\",IF(G$5<=(VLOOKUP($A23,masterlist!$C$2:$AC$200,27,FALSE)),1,\"\"))","v":1},{"$f":"IF($D23>6,\"\",IF(H$5<=(VLOOKUP($A23,masterlist!$C$2:$AC$200,27,FALSE)),1,\"\"))","v":1},{"$f":"IF($D23>6,\"\",IF(I$5<=(VLOOKUP($A23,masterlist!$C$2:$AC$200,27,FALSE)),1,\"\"))","v":1},{"$f":"IF($D23>6,\"\",IF(J$5<=(VLOOKUP($A23,masterlist!$C$2:$AC$200,27,FALSE)),1,\"\"))","v":1},{"$f":"IF($D23>6,\"\",IF(K$5<=(VLOOKUP($A23,masterlist!$C$2:$AC$200,27,FALSE)),1,\"\"))","v":1},{"$f":"IF($D23>6,\"\",IF(L$5<=(VLOOKUP($A23,masterlist!$C$2:$AC$200,27,FALSE)),1,\"\"))","v":1},{"$f":"IF($D23>6,\"\",IF(M$5<=(VLOOKUP($A23,masterlist!$C$2:$AC$200,27,FALSE)),1,\"\"))","v":1},{"$f":"IF($D23>6,\"\",IF(N$5<=(VLOOKUP($A23,masterlist!$C$2:$AC$200,27,FALSE)),1,\"\"))","v":1},{"$f":"IF($D23>6,\"\",IF(O$5<=(VLOOKUP($A23,masterlist!$C$2:$AC$200,27,FALSE)),1,\"\"))","v":1},{"$f":"IF($D23>6,\"\",IF(P$5<=(VLOOKUP($A23,masterlist!$C$2:$AC$200,27,FALSE)),1,\"\"))","v":1},{"$f":"IF($D23>6,\"\",IF(Q$5<=(VLOOKUP($A23,masterlist!$C$2:$AC$200,27,FALSE)),1,\"\"))","v":1},{"$f":"IF($D23>6,\"\",IF(R$5<=(VLOOKUP($A23,masterlist!$C$2:$AC$200,27,FALSE)),1,\"\"))","v":1},null,null,null,null,0,0,0,0,0,0,0,0,0,0,0,0,1]
[{"$f":"IFERROR(priorit!A17,\"\")","v":"PCO-Out-3-22"},"PCO",{"$f":"IFERROR(VLOOKUP($A24,masterlist!$C$2:$AA$200,2,FALSE),\"\")","v":"Outbreak response and other rabies control activities"},{"$f":"IFERROR(VLOOKUP($A24,masterlist!$C$2:$AA$200,3,FALSE),\"\")","v":3},{"$f":"IFERROR(VLOOKUP($A24,masterlist!$C$2:$AA$200,5,FALSE),\"\")","v":"Have potential rabies-free zones been identified where animal rabies cases caused by the canine rabies variant have been absent for at least a 2 year period?"},{"$f":"IF($D24>6,\"\",IF(F$5<=(VLOOKUP($A24,masterlist!$C$2:$AC$200,27,FALSE)),1,\"\"))","v":1},{"$f":"IF($D24>6,\"\",IF(G$5<=(VLOOKUP($A24,masterlist!$C$2:$AC$200,27,FALSE)),1,\"\"))","v":1},{"$f":"IF($D24>6,\"\",IF(H$5<=(VLOOKUP($A24,masterlist!$C$2:$AC$200,27,FALSE)),1,\"\"))","v":1},{"$f":"IF($D24>6,\"\",IF(I$5<=(VLOOKUP($A24,masterlist!$C$2:$AC$200,27,FALSE)),1,\"\"))","v":1},{"$f":"IF($D24>6,\"\",IF(J$5<=(VLOOKUP($A24,masterlist!$C$2:$AC$200,27,FALSE)),1,\"\"))","v":1},{"$f":"IF($D24>6,\"\",IF(K$5<=(VLOOKUP($A24,masterlist!$C$2:$AC$200,27,FALSE)),1,\"\"))","v":1},{"$f":"IF($D24>6,\"\",IF(L$5<=(VLOOKUP($A24,masterlist!$C$2:$AC$200,27,FALSE)),1,\"\"))","v":1},{"$f":"IF($D24>6,\"\",IF(M$5<=(VLOOKUP($A24,masterlist!$C$2:$AC$200,27,FALSE)),1,\"\"))","v":1},{"$f":"IF($D24>6,\"\",IF(N$5<=(VLOOKUP($A24,masterlist!$C$2:$AC$200,27,FALSE)),1,\"\"))","v":1},{"$f":"IF($D24>6,\"\",IF(O$5<=(VLOOKUP($A24,masterlist!$C$2:$AC$200,27,FALSE)),1,\"\"))","v":1},{"$f":"IF($D24>6,\"\",IF(P$5<=(VLOOKUP($A24,masterlist!$C$2:$AC$200,27,FALSE)),1,\"\"))","v":1},{"$f":"IF($D24>6,\"\",IF(Q$5<=(VLOOKUP($A24,masterlist!$C$2:$AC$200,27,FALSE)),1,\"\"))","v":1},{"$f":"IF($D24>6,\"\",IF(R$5<=(VLOOKUP($A24,masterlist!$C$2:$AC$200,27,FALSE)),1,\"\"))","v":1},null,null,null,null,0,0,0,0,0,0,0,0,0,0,0,0,1]
[{"$f":"IFERROR(priorit!A18,\"\")","v":"PCO-Out-4-25"},"PCO",{"$f":"IFERROR(VLOOKUP($A25,masterlist!$C$2:$AA$200,2,FALSE),\"\")","v":"Outbreak response and other rabies control activities"},{"$f":"IFERROR(VLOOKUP($A25,masterlist!$C$2:$AA$200,3,FALSE),\"\")","v":4},{"$f":"IFERROR(VLOOKUP($A25,masterlist!$C$2:$AA$200,5,FALSE),\"\")","v":"Now that there are very few animal rabies cases in your country, has an emergency response/contingency plan been developed to address any reintroduced case of animal rabies involving a canine variant in rabies-free zones?"},{"$f":"IF($D25>6,\"\",IF(F$5<=(VLOOKUP($A25,masterlist!$C$2:$AC$200,27,FALSE)),1,\"\"))","v":1},{"$f":"IF($D25>6,\"\",IF(G$5<=(VLOOKUP($A25,masterlist!$C$2:$AC$200,27,FALSE)),1,\"\"))","v":1},{"$f":"IF($D25>6,\"\",IF(H$5<=(VLOOKUP($A25,masterlist!$C$2:$AC$200,27,FALSE)),1,\"\"))","v":1},{"$f":"IF($D25>6,\"\",IF(I$5<=(VLOOKUP($A25,masterlist!$C$2:$AC$200,27,FALSE)),1,\"\"))","v":1},{"$f":"IF($D25>6,\"\",IF(J$5<=(VLOOKUP($A25,masterlist!$C$2:$AC$200,27,FALSE)),1,\"\"))","v":1},{"$f":"IF($D25>6,\"\",IF(K$5<=(VLOOKUP($A25,masterlist!$C$2:$AC$200,27,FALSE)),1,\"\"))","v":1},{"$f":"IF($D25>6,\"\",IF(L$5<=(VLOOKUP($A25,masterlist!$C$2:$AC$200,27,FALSE)),1,\"\"))","v":1},{"$f":"IF($D25>6,\"\",IF(M$5<=(VLOOKUP($A25,masterlist!$C$2:$AC$200,27,FALSE)),1,\"\"))","v":1},{"$f":"IF($D25>6,\"\",IF(N$5<=(VLOOKUP($A25,masterlist!$C$2:$AC$200,27,FALSE)),1,\"\"))","v":1},{"$f":"IF($D25>6,\"\",IF(O$5<=(VLOOKUP($A25,masterlist!$C$2:$AC$200,27,FALSE)),1,\"\"))","v":1},{"$f":"IF($D25>6,\"\",IF(P$5<=(VLOOKUP($A25,masterlist!$C$2:$AC$200,27,FALSE)),1,\"\"))","v":1},{"$f":"IF($D25>6,\"\",IF(Q$5<=(VLOOKUP($A25,masterlist!$C$2:$AC$200,27,FALSE)),1,\"\"))","v":1},{"$f":"IF($D25>6,\"\",IF(R$5<=(VLOOKUP($A25,masterlist!$C$2:$AC$200,27,FALSE)),1,\"\"))","v":1},null,null,null,null,0,0,0,0,0,0,0,0,0,0,0,0,1]
[{"$f":"IFERROR(priorit!A19,\"\")","v":"PCO-Out-5-26"},"PCO",{"$f":"IFERROR(VLOOKUP($A26,masterlist!$C$2:$AA$200,2,FALSE),\"\")","v":"Outbreak response and other rabies control activities"},{"$f":"IFERROR(VLOOKUP($A26,masterlist!$C$2:$AA$200,3,FALSE),\"\")","v":5},{"$f":"IFERROR(VLOOKUP($A26,masterlist!$C$2:$AA$200,5,FALSE),\"\")","v":"Even though you are rabies free based on successful mass vaccination campaigns, has the capacity for outbreak and re-introduction response been maintained?"},{"$f":"IF($D26>6,\"\",IF(F$5<=(VLOOKUP($A26,masterlist!$C$2:$AC$200,27,FALSE)),1,\"\"))","v":1},{"$f":"IF($D26>6,\"\",IF(G$5<=(VLOOKUP($A26,masterlist!$C$2:$AC$200,27,FALSE)),1,\"\"))","v":1},{"$f":"IF($D26>6,\"\",IF(H$5<=(VLOOKUP($A26,masterlist!$C$2:$AC$200,27,FALSE)),1,\"\"))","v":1},{"$f":"IF($D26>6,\"\",IF(I$5<=(VLOOKUP($A26,masterlist!$C$2:$AC$200,27,FALSE)),1,\"\"))","v":1},{"$f":"IF($D26>6,\"\",IF(J$5<=(VLOOKUP($A26,masterlist!$C$2:$AC$200,27,FALSE)),1,\"\"))","v":1},{"$f":"IF($D26>6,\"\",IF(K$5<=(VLOOKUP($A26,masterlist!$C$2:$AC$200,27,FALSE)),1,\"\"))","v":1},{"$f":"IF($D26>6,\"\",IF(L$5<=(VLOOKUP($A26,masterlist!$C$2:$AC$200,27,FALSE)),1,\"\"))","v":1},{"$f":"IF($D26>6,\"\",IF(M$5<=(VLOOKUP($A26,masterlist!$C$2:$AC$200,27,FALSE)),1,\"\"))","v":1},{"$f":"IF($D26>6,\"\",IF(N$5<=(VLOOKUP($A26,masterlist!$C$2:$AC$200,27,FALSE)),1,\"\"))","v":1},{"$f":"IF($D26>6,\"\",IF(O$5<=(VLOOKUP($A26,masterlist!$C$2:$AC$200,27,FALSE)),1,\"\"))","v":1},{"$f":"IF($D26>6,\"\",IF(P$5<=(VLOOKUP($A26,masterlist!$C$2:$AC$200,27,FALSE)),1,\"\"))","v":1},{"$f":"IF($D26>6,\"\",IF(Q$5<=(VLOOKUP($A26,masterlist!$C$2:$AC$200,27,FALSE)),1,\"\"))","v":1},{"$f":"IF($D26>6,\"\",IF(R$5<=(VLOOKUP($A26,masterlist!$C$2:$AC$200,27,FALSE)),1,\"\"))","v":1},null,null,null,null,0,0,0,0,0,0,0,0,0,0,0,0,1]
[{"$f":"IFERROR(priorit!A20,\"\")","v":"LAB-Lab-4-12"},"LAB",{"$f":"IFERROR(VLOOKUP($A27,masterlist!$C$2:$AA$200,2,FALSE),\"\")","v":"Laboratory capacity and testing"},{"$f":"IFERROR(VLOOKUP($A27,masterlist!$C$2:$AA$200,3,FALSE),\"\")","v":4},{"$f":"IFERROR(VLOOKUP($A27,masterlist!$C$2:$AA$200,5,FALSE),\"\")","v":"Is there regular characterization and analysis of circulating rabies virus variants by a national or international laboratory?"},{"$f":"IF($D27>6,\"\",IF(F$5<=(VLOOKUP($A27,masterlist!$C$2:$AC$200,27,FALSE)),1,\"\"))","v":1},{"$f":"IF($D27>6,\"\",IF(G$5<=(VLOOKUP($A27,masterlist!$C$2:$AC$200,27,FALSE)),1,\"\"))","v":1},{"$f":"IF($D27>6,\"\",IF(H$5<=(VLOOKUP($A27,masterlist!$C$2:$AC$200,27,FALSE)),1,\"\"))","v":1},{"$f":"IF($D27>6,\"\",IF(I$5<=(VLOOKUP($A27,masterlist!$C$2:$AC$200,27,FALSE)),1,\"\"))","v":1},{"$f":"IF($D27>6,\"\",IF(J$5<=(VLOOKUP($A27,masterlist!$C$2:$AC$200,27,FALSE)),1,\"\"))","v":1},{"$f":"IF($D27>6,\"\",IF(K$5<=(VLOOKUP($A27,masterlist!$C$2:$AC$200,27,FALSE)),1,\"\"))","v":1},{"$f":"IF($D27>6,\"\",IF(L$5<=(VLOOKUP($A27,masterlist!$C$2:$AC$200,27,FALSE)),1,\"\"))","v":1},{"$f":"IF($D27>6,\"\",IF(M$5<=(VLOOKUP($A27,masterlist!$C$2:$AC$200,27,FALSE)),1,\"\"))","v":1},{"$f":"IF($D27>6,\"\",IF(N$5<=(VLOOKUP($A27,masterlist!$C$2:$AC$200,27,FALSE)),1,\"\"))","v":""},{"$f":"IF($D27>6,\"\",IF(O$5<=(VLOOKUP($A27,masterlist!$C$2:$AC$200,27,FALSE)),1,\"\"))","v":""},{"$f":"IF($D27>6,\"\",IF(P$5<=(VLOOKUP($A27,masterlist!$C$2:$AC$200,27,FALSE)),1,\"\"))","v":""},{"$f":"IF($D27>6,\"\",IF(Q$5<=(VLOOKUP($A27,masterlist!$C$2:$AC$200,27,FALSE)),1,\"\"))","v":""},{"$f":"IF($D27>6,\"\",IF(R$5<=(VLOOKUP($A27,masterlist!$C$2:$AC$200,27,FALSE)),1,\"\"))","v":""},null,null,null,null,0,0,0,0,0,0,0,1,0,0,0,0,0]
[{"$f":"IFERROR(priorit!A21,\"\")","v":"DPM- -1-2"},"DPM",{"$f":"IFERROR(VLOOKUP($A28,masterlist!$C$2:$AA$200,2,FALSE),\"\")","v":" "},{"$f":"IFERROR(VLOOKUP($A28,masterlist!$C$2:$AA$200,3,FALSE),\"\")","v":1},{"$f":"IFERROR(VLOOKUP($A28,masterlist!$C$2:$AA$200,5,FALSE),\"\")","v":"Have you involved officials in waste management in your stakeholder* meetings"},{"$f":"IF($D28>6,\"\",IF(F$5<=(VLOOKUP($A28,masterlist!$C$2:$AC$200,27,FALSE)),1,\"\"))","v":1},{"$f":"IF($D28>6,\"\",IF(G$5<=(VLOOKUP($A28,masterlist!$C$2:$AC$200,27,FALSE)),1,\"\"))","v":1},{"$f":"IF($D28>6,\"\",IF(H$5<=(VLOOKUP($A28,masterlist!$C$2:$AC$200,27,FALSE)),1,\"\"))","v":1},{"$f":"IF($D28>6,\"\",IF(I$5<=(VLOOKUP($A28,masterlist!$C$2:$AC$200,27,FALSE)),1,\"\"))","v":1},{"$f":"IF($D28>6,\"\",IF(J$5<=(VLOOKUP($A28,masterlist!$C$2:$AC$200,27,FALSE)),1,\"\"))","v":1},{"$f":"IF($D28>6,\"\",IF(K$5<=(VLOOKUP($A28,masterlist!$C$2:$AC$200,27,FALSE)),1,\"\"))","v":1},{"$f":"IF($D28>6,\"\",IF(L$5<=(VLOOKUP($A28,masterlist!$C$2:$AC$200,27,FALSE)),1,\"\"))","v":1},{"$f":"IF($D28>6,\"\",IF(M$5<=(VLOOKUP($A28,masterlist!$C$2:$AC$200,27,FALSE)),1,\"\"))","v":1},{"$f":"IF($D28>6,\"\",IF(N$5<=(VLOOKUP($A28,masterlist!$C$2:$AC$200,27,FALSE)),1,\"\"))","v":1},{"$f":"IF($D28>6,\"\",IF(O$5<=(VLOOKUP($A28,masterlist!$C$2:$AC$200,27,FALSE)),1,\"\"))","v":1},{"$f":"IF($D28>6,\"\",IF(P$5<=(VLOOKUP($A28,masterlist!$C$2:$AC$200,27,FALSE)),1,\"\"))","v":1},{"$f":"IF($D28>6,\"\",IF(Q$5<=(VLOOKUP($A28,masterlist!$C$2:$AC$200,27,FALSE)),1,\"\"))","v":1},{"$f":"IF($D28>6,\"\",IF(R$5<=(VLOOKUP($A28,masterlist!$C$2:$AC$200,27,FALSE)),1,\"\"))","v":1},null,null,null,null,0,0,0,0,0,0,0,0,0,0,0,0,1]
[{"$f":"IFERROR(priorit!A30,\"\")","v":"IEC-Pro-1-9"},"IEC",{"$f":"IFERROR(VLOOKUP($A29,masterlist!$C$2:$AA$200,2,FALSE),\"\")","v":"Professional education"},{"$f":"IFERROR(VLOOKUP($A29,masterlist!$C$2:$AA$200,3,FALSE),\"\")","v":1},{"$f":"IFERROR(VLOOKUP($A29,masterlist!$C$2:$AA$200,5,FALSE),\"\")","v":"Has a training plan been developed at a national level?"},{"$f":"IF($D29>6,\"\",IF(F$5<=(VLOOKUP($A29,masterlist!$C$2:$AC$200,27,FALSE)),1,\"\"))","v":1},{"$f":"IF($D29>6,\"\",IF(G$5<=(VLOOKUP($A29,masterlist!$C$2:$AC$200,27,FALSE)),1,\"\"))","v":1},{"$f":"IF($D29>6,\"\",IF(H$5<=(VLOOKUP($A29,masterlist!$C$2:$AC$200,27,FALSE)),1,\"\"))","v":1},{"$f":"IF($D29>6,\"\",IF(I$5<=(VLOOKUP($A29,masterlist!$C$2:$AC$200,27,FALSE)),1,\"\"))","v":1},{"$f":"IF($D29>6,\"\",IF(J$5<=(VLOOKUP($A29,masterlist!$C$2:$AC$200,27,FALSE)),1,\"\"))","v":1},{"$f":"IF($D29>6,\"\",IF(K$5<=(VLOOKUP($A29,masterlist!$C$2:$AC$200,27,FALSE)),1,\"\"))","v":1},{"$f":"IF($D29>6,\"\",IF(L$5<=(VLOOKUP($A29,masterlist!$C$2:$AC$200,27,FALSE)),1,\"\"))","v":1},{"$f":"IF($D29>6,\"\",IF(M$5<=(VLOOKUP($A29,masterlist!$C$2:$AC$200,27,FALSE)),1,\"\"))","v":1},{"$f":"IF($D29>6,\"\",IF(N$5<=(VLOOKUP($A29,masterlist!$C$2:$AC$200,27,FALSE)),1,\"\"))","v":1},{"$f":"IF($D29>6,\"\",IF(O$5<=(VLOOKUP($A29,masterlist!$C$2:$AC$200,27,FALSE)),1,\"\"))","v":1},{"$f":"IF($D29>6,\"\",IF(P$5<=(VLOOKUP($A29,masterlist!$C$2:$AC$200,27,FALSE)),1,\"\"))","v":1},{"$f":"IF($D29>6,\"\",IF(Q$5<=(VLOOKUP($A29,masterlist!$C$2:$AC$200,27,FALSE)),1,\"\"))","v":1},{"$f":"IF($D29>6,\"\",IF(R$5<=(VLOOKUP($A29,masterlist!$C$2:$AC$200,27,FALSE)),1,\"\"))","v":1},null,null,null,null,0,0,0,0,0,0,0,0,0,0,0,0,1]
[{"$f":"IFERROR(priorit!A31,\"\")","v":"IEC-Pro-1-10"},"IEC",{"$f":"IFERROR(VLOOKUP($A30,masterlist!$C$2:$AA$200,2,FALSE),\"\")","v":"Professional education"},{"$f":"IFERROR(VLOOKUP($A30,masterlist!$C$2:$AA$200,3,FALSE),\"\")","v":1},{"$f":"IFERROR(VLOOKUP($A30,masterlist!$C$2:$AA$200,5,FALSE),\"\")","v":"Have training or refresher courses on rabies and public communication been initiated for professionals in human and animal health at a local level?"},{"$f":"IF($D30>6,\"\",IF(F$5<=(VLOOKUP($A30,masterlist!$C$2:$AC$200,27,FALSE)),1,\"\"))","v":1},{"$f":"IF($D30>6,\"\",IF(G$5<=(VLOOKUP($A30,masterlist!$C$2:$AC$200,27,FALSE)),1,\"\"))","v":1},{"$f":"IF($D30>6,\"\",IF(H$5<=(VLOOKUP($A30,masterlist!$C$2:$AC$200,27,FALSE)),1,\"\"))","v":1},{"$f":"IF($D30>6,\"\",IF(I$5<=(VLOOKUP($A30,masterlist!$C$2:$AC$200,27,FALSE)),1,\"\"))","v":1},{"$f":"IF($D30>6,\"\",IF(J$5<=(VLOOKUP($A30,masterlist!$C$2:$AC$200,27,FALSE)),1,\"\"))","v":1},{"$f":"IF($D30>6,\"\",IF(K$5<=(VLOOKUP($A30,masterlist!$C$2:$AC$200,27,FALSE)),1,\"\"))","v":1},{"$f":"IF($D30>6,\"\",IF(L$5<=(VLOOKUP($A30,masterlist!$C$2:$AC$200,27,FALSE)),1,\"\"))","v":1},{"$f":"IF($D30>6,\"\",IF(M$5<=(VLOOKUP($A30,masterlist!$C$2:$AC$200,27,FALSE)),1,\"\"))","v":1},{"$f":"IF($D30>6,\"\",IF(N$5<=(VLOOKUP($A30,masterlist!$C$2:$AC$200,27,FALSE)),1,\"\"))","v":1},{"$f":"IF($D30>6,\"\",IF(O$5<=(VLOOKUP($A30,masterlist!$C$2:$AC$200,27,FALSE)),1,\"\"))","v":1},{"$f":"IF($D30>6,\"\",IF(P$5<=(VLOOKUP($A30,masterlist!$C$2:$AC$200,27,FALSE)),1,\"\"))","v":1},{"$f":"IF($D30>6,\"\",IF(Q$5<=(VLOOKUP($A30,masterlist!$C$2:$AC$200,27,FALSE)),1,\"\"))","v":1},{"$f":"IF($D30>6,\"\",IF(R$5<=(VLOOKUP($A30,masterlist!$C$2:$AC$200,27,FALSE)),1,\"\"))","v":1},null,null,null,null,0,0,0,0,0,0,0,0,0,0,0,0,1]
[{"$f":"IFERROR(priorit!A32,\"\")","v":"IEC-Pro-2-11"},"IEC",{"$f":"IFERROR(VLOOKUP($A31,masterlist!$C$2:$AA$200,2,FALSE),\"\")","v":"Professional education"},{"$f":"IFERROR(VLOOKUP($A31,masterlist!$C$2:$AA$200,3,FALSE),\"\")","v":2},{"$f":"IFERROR(VLOOKUP($A31,masterlist!$C$2:$AA$200,5,FALSE),\"\")","v":"Has training of human and animal health personnel been conducted in most parts of the country?"},{"$f":"IF($D31>6,\"\",IF(F$5<=(VLOOKUP($A31,masterlist!$C$2:$AC$200,27,FALSE)),1,\"\"))","v":1},{"$f":"IF($D31>6,\"\",IF(G$5<=(VLOOKUP($A31,masterlist!$C$2:$AC$200,27,FALSE)),1,\"\"))","v":1},{"$f":"IF($D31>6,\"\",IF(H$5<=(VLOOKUP($A31,masterlist!$C$2:$AC$200,27,FALSE)),1,\"\"))","v":1},{"$f":"IF($D31>6,\"\",IF(I$5<=(VLOOKUP($A31,masterlist!$C$2:$AC$200,27,FALSE)),1,\"\"))","v":1},{"$f":"IF($D31>6,\"\",IF(J$5<=(VLOOKUP($A31,masterlist!$C$2:$AC$200,27,FALSE)),1,\"\"))","v":1},{"$f":"IF($D31>6,\"\",IF(K$5<=(VLOOKUP($A31,masterlist!$C$2:$AC$200,27,FALSE)),1,\"\"))","v":1},{"$f":"IF($D31>6,\"\",IF(L$5<=(VLOOKUP($A31,masterlist!$C$2:$AC$200,27,FALSE)),1,\"\"))","v":1},{"$f":"IF($D31>6,\"\",IF(M$5<=(VLOOKUP($A31,masterlist!$C$2:$AC$200,27,FALSE)),1,\"\"))","v":1},{"$f":"IF($D31>6,\"\",IF(N$5<=(VLOOKUP($A31,masterlist!$C$2:$AC$200,27,FALSE)),1,\"\"))","v":1},{"$f":"IF($D31>6,\"\",IF(O$5<=(VLOOKUP($A31,masterlist!$C$2:$AC$200,27,FALSE)),1,\"\"))","v":1},{"$f":"IF($D31>6,\"\",IF(P$5<=(VLOOKUP($A31,masterlist!$C$2:$AC$200,27,FALSE)),1,\"\"))","v":1},{"$f":"IF($D31>6,\"\",IF(Q$5<=(VLOOKUP($A31,masterlist!$C$2:$AC$200,27,FALSE)),1,\"\"))","v":1},{"$f":"IF($D31>6,\"\",IF(R$5<=(VLOOKUP($A31,masterlist!$C$2:$AC$200,27,FALSE)),1,\"\"))","v":1},null,null,null,null,0,0,0,0,0,0,0,0,0,0,0,0,1]
[{"$f":"IFERROR(priorit!A37,\"\")","v":"IEC-Adv-3-17"},"IEC",{"$f":"IFERROR(VLOOKUP($A32,masterlist!$C$2:$AA$200,2,FALSE),\"\")","v":"Advocacy"},{"$f":"IFERROR(VLOOKUP($A32,masterlist!$C$2:$AA$200,3,FALSE),\"\")","v":3},{"$f":"IFERROR(VLOOKUP($A32,masterlist!$C$2:$AA$200,5,FALSE),\"\")","v":"Have dog-transmitted human rabies free zones been declared publicly?"},{"$f":"IF($D32>6,\"\",IF(F$5<=(VLOOKUP($A32,masterlist!$C$2:$AC$200,27,FALSE)),1,\"\"))","v":1},{"$f":"IF($D32>6,\"\",IF(G$5<=(VLOOKUP($A32,masterlist!$C$2:$AC$200,27,FALSE)),1,\"\"))","v":1},{"$f":"IF($D32>6,\"\",IF(H$5<=(VLOOKUP($A32,masterlist!$C$2:$AC$200,27,FALSE)),1,\"\"))","v":1},{"$f":"IF($D32>6,\"\",IF(I$5<=(VLOOKUP($A32,masterlist!$C$2:$AC$200,27,FALSE)),1,\"\"))","v":1},{"$f":"IF($D32>6,\"\",IF(J$5<=(VLOOKUP($A32,masterlist!$C$2:$AC$200,27,FALSE)),1,\"\"))","v":1},{"$f":"IF($D32>6,\"\",IF(K$5<=(VLOOKUP($A32,masterlist!$C$2:$AC$200,27,FALSE)),1,\"\"))","v":1},{"$f":"IF($D32>6,\"\",IF(L$5<=(VLOOKUP($A32,masterlist!$C$2:$AC$200,27,FALSE)),1,\"\"))","v":1},{"$f":"IF($D32>6,\"\",IF(M$5<=(VLOOKUP($A32,masterlist!$C$2:$AC$200,27,FALSE)),1,\"\"))","v":1},{"$f":"IF($D32>6,\"\",IF(N$5<=(VLOOKUP($A32,masterlist!$C$2:$AC$200,27,FALSE)),1,\"\"))","v":1},{"$f":"IF($D32>6,\"\",IF(O$5<=(VLOOKUP($A32,masterlist!$C$2:$AC$200,27,FALSE)),1,\"\"))","v":1},{"$f":"IF($D32>6,\"\",IF(P$5<=(VLOOKUP($A32,masterlist!$C$2:$AC$200,27,FALSE)),1,\"\"))","v":1},{"$f":"IF($D32>6,\"\",IF(Q$5<=(VLOOKUP($A32,masterlist!$C$2:$AC$200,27,FALSE)),1,\"\"))","v":1},{"$f":"IF($D32>6,\"\",IF(R$5<=(VLOOKUP($A32,masterlist!$C$2:$AC$200,27,FALSE)),1,\"\"))","v":1},null,null,null,null,0,0,0,0,0,0,0,0,0,0,0,0,1]
[{"$f":"IFERROR(priorit!A44,\"\")","v":"CCI-Nat-2-8"},"CCI",{"$f":"IFERROR(VLOOKUP($A33,masterlist!$C$2:$AA$200,2,FALSE),\"\")","v":"National programme and strategy"},{"$f":"IFERROR(VLOOKUP($A33,masterlist!$C$2:$AA$200,3,FALSE),\"\")","v":2},{"$f":"IFERROR(VLOOKUP($A33,masterlist!$C$2:$AA$200,5,FALSE),\"\")","v":"Has a national strategy for rabies prevention, control and eventual elimination been drafted and finalised in collaboration with all relevant stakeholders?"},{"$f":"IF($D33>6,\"\",IF(F$5<=(VLOOKUP($A33,masterlist!$C$2:$AC$200,27,FALSE)),1,\"\"))","v":1},{"$f":"IF($D33>6,\"\",IF(G$5<=(VLOOKUP($A33,masterlist!$C$2:$AC$200,27,FALSE)),1,\"\"))","v":1},{"$f":"IF($D33>6,\"\",IF(H$5<=(VLOOKUP($A33,masterlist!$C$2:$AC$200,27,FALSE)),1,\"\"))","v":1},{"$f":"IF($D33>6,\"\",IF(I$5<=(VLOOKUP($A33,masterlist!$C$2:$AC$200,27,FALSE)),1,\"\"))","v":1},{"$f":"IF($D33>6,\"\",IF(J$5<=(VLOOKUP($A33,masterlist!$C$2:$AC$200,27,FALSE)),1,\"\"))","v":1},{"$f":"IF($D33>6,\"\",IF(K$5<=(VLOOKUP($A33,masterlist!$C$2:$AC$200,27,FALSE)),1,\"\"))","v":1},{"$f":"IF($D33>6,\"\",IF(L$5<=(VLOOKUP($A33,masterlist!$C$2:$AC$200,27,FALSE)),1,\"\"))","v":1},{"$f":"IF($D33>6,\"\",IF(M$5<=(VLOOKUP($A33,masterlist!$C$2:$AC$200,27,FALSE)),1,\"\"))","v":1},{"$f":"IF($D33>6,\"\",IF(N$5<=(VLOOKUP($A33,masterlist!$C$2:$AC$200,27,FALSE)),1,\"\"))","v":1},{"$f":"IF($D33>6,\"\",IF(O$5<=(VLOOKUP($A33,masterlist!$C$2:$AC$200,27,FALSE)),1,\"\"))","v":1},{"$f":"IF($D33>6,\"\",IF(P$5<=(VLOOKUP($A33,masterlist!$C$2:$AC$200,27,FALSE)),1,\"\"))","v":1},{"$f":"IF($D33>6,\"\",IF(Q$5<=(VLOOKUP($A33,masterlist!$C$2:$AC$200,27,FALSE)),1,\"\"))","v":1},{"$f":"IF($D33>6,\"\",IF(R$5<=(VLOOKUP($A33,masterlist!$C$2:$AC$200,27,FALSE)),1,\"\"))","v":1},null,null,null,null,0,0,0,0,0,0,0,0,0,0,0,0,1]
[{"$f":"IFERROR(priorit!A45,\"\")","v":"CCI-Nat-3-10"},"CCI",{"$f":"IFERROR(VLOOKUP($A34,masterlist!$C$2:$AA$200,2,FALSE),\"\")","v":"National programme and strategy"},{"$f":"IFERROR(VLOOKUP($A34,masterlist!$C$2:$AA$200,3,FALSE),\"\")","v":3},{"$f":"IFERROR(VLOOKUP($A34,masterlist!$C$2:$AA$200,5,FALSE),\"\")","v":"Now that there are very few animal rabies cases in your country, has the national strategy been refined based on current data? "},{"$f":"IF($D34>6,\"\",IF(F$5<=(VLOOKUP($A34,masterlist!$C$2:$AC$200,27,FALSE)),1,\"\"))","v":1},{"$f":"IF($D34>6,\"\",IF(G$5<=(VLOOKUP($A34,masterlist!$C$2:$AC$200,27,FALSE)),1,\"\"))","v":1},{"$f":"IF($D34>6,\"\",IF(H$5<=(VLOOKUP($A34,masterlist!$C$2:$AC$200,27,FALSE)),1,\"\"))","v":1},{"$f":"IF($D34>6,\"\",IF(I$5<=(VLOOKUP($A34,masterlist!$C$2:$AC$200,27,FALSE)),1,\"\"))","v":1},{"$f":"IF($D34>6,\"\",IF(J$5<=(VLOOKUP($A34,masterlist!$C$2:$AC$200,27,FALSE)),1,\"\"))","v":1},{"$f":"IF($D34>6,\"\",IF(K$5<=(VLOOKUP($A34,masterlist!$C$2:$AC$200,27,FALSE)),1,\"\"))","v":1},{"$f":"IF($D34>6,\"\",IF(L$5<=(VLOOKUP($A34,masterlist!$C$2:$AC$200,27,FALSE)),1,\"\"))","v":1},{"$f":"IF($D34>6,\"\",IF(M$5<=(VLOOKUP($A34,masterlist!$C$2:$AC$200,27,FALSE)),1,\"\"))","v":1},{"$f":"IF($D34>6,\"\",IF(N$5<=(VLOOKUP($A34,masterlist!$C$2:$AC$200,27,FALSE)),1,\"\"))","v":1},{"$f":"IF($D34>6,\"\",IF(O$5<=(VLOOKUP($A34,masterlist!$C$2:$AC$200,27,FALSE)),1,\"\"))","v":1},{"$f":"IF($D34>6,\"\",IF(P$5<=(VLOOKUP($A34,masterlist!$C$2:$AC$200,27,FALSE)),1,\"\"))","v":1},{"$f":"IF($D34>6,\"\",IF(Q$5<=(VLOOKUP($A34,masterlist!$C$2:$AC$200,27,FALSE)),1,\"\"))","v":1},{"$f":"IF($D34>6,\"\",IF(R$5<=(VLOOKUP($A34,masterlist!$C$2:$AC$200,27,FALSE)),1,\"\"))","v":1},null,null,null,null,0,0,0,0,0,0,0,0,0,0,0,0,1]
[{"$f":"IFERROR(priorit!A46,\"\")","v":"LEG-Ani-1-2"},"LEG",{"$f":"IFERROR(VLOOKUP($A35,masterlist!$C$2:$AA$200,2,FALSE),\"\")","v":"Animal rabies national case definition"},{"$f":"IFERROR(VLOOKUP($A35,masterlist!$C$2:$AA$200,3,FALSE),\"\")","v":1},{"$f":"IFERROR(VLOOKUP($A35,masterlist!$C$2:$AA$200,5,FALSE),\"\")","v":"Has the case definition for animal rabies been shared with all of the relevant professionals?"},{"$f":"IF($D35>6,\"\",IF(F$5<=(VLOOKUP($A35,masterlist!$C$2:$AC$200,27,FALSE)),1,\"\"))","v":1},{"$f":"IF($D35>6,\"\",IF(G$5<=(VLOOKUP($A35,masterlist!$C$2:$AC$200,27,FALSE)),1,\"\"))","v":1},{"$f":"IF($D35>6,\"\",IF(H$5<=(VLOOKUP($A35,masterlist!$C$2:$AC$200,27,FALSE)),1,\"\"))","v":1},{"$f":"IF($D35>6,\"\",IF(I$5<=(VLOOKUP($A35,masterlist!$C$2:$AC$200,27,FALSE)),1,\"\"))","v":1},{"$f":"IF($D35>6,\"\",IF(J$5<=(VLOOKUP($A35,masterlist!$C$2:$AC$200,27,FALSE)),1,\"\"))","v":1},{"$f":"IF($D35>6,\"\",IF(K$5<=(VLOOKUP($A35,masterlist!$C$2:$AC$200,27,FALSE)),1,\"\"))","v":1},{"$f":"IF($D35>6,\"\",IF(L$5<=(VLOOKUP($A35,masterlist!$C$2:$AC$200,27,FALSE)),1,\"\"))","v":1},{"$f":"IF($D35>6,\"\",IF(M$5<=(VLOOKUP($A35,masterlist!$C$2:$AC$200,27,FALSE)),1,\"\"))","v":1},{"$f":"IF($D35>6,\"\",IF(N$5<=(VLOOKUP($A35,masterlist!$C$2:$AC$200,27,FALSE)),1,\"\"))","v":1},{"$f":"IF($D35>6,\"\",IF(O$5<=(VLOOKUP($A35,masterlist!$C$2:$AC$200,27,FALSE)),1,\"\"))","v":1},{"$f":"IF($D35>6,\"\",IF(P$5<=(VLOOKUP($A35,masterlist!$C$2:$AC$200,27,FALSE)),1,\"\"))","v":1},{"$f":"IF($D35>6,\"\",IF(Q$5<=(VLOOKUP($A35,masterlist!$C$2:$AC$200,27,FALSE)),1,\"\"))","v":1},{"$f":"IF($D35>6,\"\",IF(R$5<=(VLOOKUP($A35,masterlist!$C$2:$AC$200,27,FALSE)),1,\"\"))","v":1},null,null,null,null,0,0,0,0,0,0,0,0,0,0,0,0,1]
[{"$f":"IFERROR(priorit!A47,\"\")","v":"LEG-Hum-1-4"},"LEG",{"$f":"IFERROR(VLOOKUP($A36,masterlist!$C$2:$AA$200,2,FALSE),\"\")","v":"Human rabies national case definition"},{"$f":"IFERROR(VLOOKUP($A36,masterlist!$C$2:$AA$200,3,FALSE),\"\")","v":1},{"$f":"IFERROR(VLOOKUP($A36,masterlist!$C$2:$AA$200,5,FALSE),\"\")","v":"Has the case definition for human rabies been shared with all of the relevant professionals?"},{"$f":"IF($D36>6,\"\",IF(F$5<=(VLOOKUP($A36,masterlist!$C$2:$AC$200,27,FALSE)),1,\"\"))","v":1},{"$f":"IF($D36>6,\"\",IF(G$5<=(VLOOKUP($A36,masterlist!$C$2:$AC$200,27,FALSE)),1,\"\"))","v":1},{"$f":"IF($D36>6,\"\",IF(H$5<=(VLOOKUP($A36,masterlist!$C$2:$AC$200,27,FALSE)),1,\"\"))","v":1},{"$f":"IF($D36>6,\"\",IF(I$5<=(VLOOKUP($A36,masterlist!$C$2:$AC$200,27,FALSE)),1,\"\"))","v":1},{"$f":"IF($D36>6,\"\",IF(J$5<=(VLOOKUP($A36,masterlist!$C$2:$AC$200,27,FALSE)),1,\"\"))","v":1},{"$f":"IF($D36>6,\"\",IF(K$5<=(VLOOKUP($A36,masterlist!$C$2:$AC$200,27,FALSE)),1,\"\"))","v":1},{"$f":"IF($D36>6,\"\",IF(L$5<=(VLOOKUP($A36,masterlist!$C$2:$AC$200,27,FALSE)),1,\"\"))","v":1},{"$f":"IF($D36>6,\"\",IF(M$5<=(VLOOKUP($A36,masterlist!$C$2:$AC$200,27,FALSE)),1,\"\"))","v":1},{"$f":"IF($D36>6,\"\",IF(N$5<=(VLOOKUP($A36,masterlist!$C$2:$AC$200,27,FALSE)),1,\"\"))","v":1},{"$f":"IF($D36>6,\"\",IF(O$5<=(VLOOKUP($A36,masterlist!$C$2:$AC$200,27,FALSE)),1,\"\"))","v":1},{"$f":"IF($D36>6,\"\",IF(P$5<=(VLOOKUP($A36,masterlist!$C$2:$AC$200,27,FALSE)),1,\"\"))","v":1},{"$f":"IF($D36>6,\"\",IF(Q$5<=(VLOOKUP($A36,masterlist!$C$2:$AC$200,27,FALSE)),1,\"\"))","v":1},{"$f":"IF($D36>6,\"\",IF(R$5<=(VLOOKUP($A36,masterlist!$C$2:$AC$200,27,FALSE)),1,\"\"))","v":1},null,null,null,null,0,0,0,0,0,0,0,0,0,0,0,0,1]
[{"$f":"IFERROR(priorit!A22,\"\")","v":"DPM- -2-4"},"DPM",{"$f":"IFERROR(VLOOKUP($A37,masterlist!$C$2:$AA$200,2,FALSE),\"\")","v":" "},{"$f":"IFERROR(VLOOKUP($A37,masterlist!$C$2:$AA$200,3,FALSE),\"\")","v":2},{"$f":"IFERROR(VLOOKUP($A37,masterlist!$C$2:$AA$200,5,FALSE),\"\")","v":"Has a DPM* strategy and programme been drafted and shared with all relevant stakeholders at a local level?"},{"$f":"IF($D37>6,\"\",IF(F$5<=(VLOOKUP($A37,masterlist!$C$2:$AC$200,27,FALSE)),1,\"\"))","v":1},{"$f":"IF($D37>6,\"\",IF(G$5<=(VLOOKUP($A37,masterlist!$C$2:$AC$200,27,FALSE)),1,\"\"))","v":1},{"$f":"IF($D37>6,\"\",IF(H$5<=(VLOOKUP($A37,masterlist!$C$2:$AC$200,27,FALSE)),1,\"\"))","v":1},{"$f":"IF($D37>6,\"\",IF(I$5<=(VLOOKUP($A37,masterlist!$C$2:$AC$200,27,FALSE)),1,\"\"))","v":1},{"$f":"IF($D37>6,\"\",IF(J$5<=(VLOOKUP($A37,masterlist!$C$2:$AC$200,27,FALSE)),1,\"\"))","v":1},{"$f":"IF($D37>6,\"\",IF(K$5<=(VLOOKUP($A37,masterlist!$C$2:$AC$200,27,FALSE)),1,\"\"))","v":1},{"$f":"IF($D37>6,\"\",IF(L$5<=(VLOOKUP($A37,masterlist!$C$2:$AC$200,27,FALSE)),1,\"\"))","v":1},{"$f":"IF($D37>6,\"\",IF(M$5<=(VLOOKUP($A37,masterlist!$C$2:$AC$200,27,FALSE)),1,\"\"))","v":1},{"$f":"IF($D37>6,\"\",IF(N$5<=(VLOOKUP($A37,masterlist!$C$2:$AC$200,27,FALSE)),1,\"\"))","v":1},{"$f":"IF($D37>6,\"\",IF(O$5<=(VLOOKUP($A37,masterlist!$C$2:$AC$200,27,FALSE)),1,\"\"))","v":1},{"$f":"IF($D37>6,\"\",IF(P$5<=(VLOOKUP($A37,masterlist!$C$2:$AC$200,27,FALSE)),1,\"\"))","v":1},{"$f":"IF($D37>6,\"\",IF(Q$5<=(VLOOKUP($A37,masterlist!$C$2:$AC$200,27,FALSE)),1,\"\"))","v":1},{"$f":"IF($D37>6,\"\",IF(R$5<=(VLOOKUP($A37,masterlist!$C$2:$AC$200,27,FALSE)),1,\"\"))","v":1},null,null,null,null,0,0,0,0,0,0,0,0,0,0,0,0,1]
[{"$f":"IFERROR(priorit!A23,\"\")","v":"DPM- -2-5"},"DPM",{"$f":"IFERROR(VLOOKUP($A38,masterlist!$C$2:$AA$200,2,FALSE),\"\")","v":" "},{"$f":"IFERROR(VLOOKUP($A38,masterlist!$C$2:$AA$200,3,FALSE),\"\")","v":2},{"$f":"IFERROR(VLOOKUP($A38,masterlist!$C$2:$AA$200,5,FALSE),\"\")","v":"Has the DPM strategy been finalized and implemented?"},{"$f":"IF($D38>6,\"\",IF(F$5<=(VLOOKUP($A38,masterlist!$C$2:$AC$200,27,FALSE)),1,\"\"))","v":1},{"$f":"IF($D38>6,\"\",IF(G$5<=(VLOOKUP($A38,masterlist!$C$2:$AC$200,27,FALSE)),1,\"\"))","v":1},{"$f":"IF($D38>6,\"\",IF(H$5<=(VLOOKUP($A38,masterlist!$C$2:$AC$200,27,FALSE)),1,\"\"))","v":1},{"$f":"IF($D38>6,\"\",IF(I$5<=(VLOOKUP($A38,masterlist!$C$2:$AC$200,27,FALSE)),1,\"\"))","v":1},{"$f":"IF($D38>6,\"\",IF(J$5<=(VLOOKUP($A38,masterlist!$C$2:$AC$200,27,FALSE)),1,\"\"))","v":1},{"$f":"IF($D38>6,\"\",IF(K$5<=(VLOOKUP($A38,masterlist!$C$2:$AC$200,27,FALSE)),1,\"\"))","v":1},{"$f":"IF($D38>6,\"\",IF(L$5<=(VLOOKUP($A38,masterlist!$C$2:$AC$200,27,FALSE)),1,\"\"))","v":1},{"$f":"IF($D38>6,\"\",IF(M$5<=(VLOOKUP($A38,masterlist!$C$2:$AC$200,27,FALSE)),1,\"\"))","v":1},{"$f":"IF($D38>6,\"\",IF(N$5<=(VLOOKUP($A38,masterlist!$C$2:$AC$200,27,FALSE)),1,\"\"))","v":1},{"$f":"IF($D38>6,\"\",IF(O$5<=(VLOOKUP($A38,masterlist!$C$2:$AC$200,27,FALSE)),1,\"\"))","v":1},{"$f":"IF($D38>6,\"\",IF(P$5<=(VLOOKUP($A38,masterlist!$C$2:$AC$200,27,FALSE)),1,\"\"))","v":1},{"$f":"IF($D38>6,\"\",IF(Q$5<=(VLOOKUP($A38,masterlist!$C$2:$AC$200,27,FALSE)),1,\"\"))","v":1},{"$f":"IF($D38>6,\"\",IF(R$5<=(VLOOKUP($A38,masterlist!$C$2:$AC$200,27,FALSE)),1,\"\"))","v":1},null,null,null,null,0,0,0,0,0,0,0,0,0,0,0,0,1]
[{"$f":"IFERROR(priorit!A24,\"\")","v":"DPM- -3-10"},"DPM",{"$f":"IFERROR(VLOOKUP($A39,masterlist!$C$2:$AA$200,2,FALSE),\"\")","v":" "},{"$f":"IFERROR(VLOOKUP($A39,masterlist!$C$2:$AA$200,3,FALSE),\"\")","v":3},{"$f":"IFERROR(VLOOKUP($A39,masterlist!$C$2:$AA$200,5,FALSE),\"\")","v":"Has veterinary and animal technician training been completed across most of country?"},{"$f":"IF($D39>6,\"\",IF(F$5<=(VLOOKUP($A39,masterlist!$C$2:$AC$200,27,FALSE)),1,\"\"))","v":1},{"$f":"IF($D39>6,\"\",IF(G$5<=(VLOOKUP($A39,masterlist!$C$2:$AC$200,27,FALSE)),1,\"\"))","v":1},{"$f":"IF($D39>6,\"\",IF(H$5<=(VLOOKUP($A39,masterlist!$C$2:$AC$200,27,FALSE)),1,\"\"))","v":1},{"$f":"IF($D39>6,\"\",IF(I$5<=(VLOOKUP($A39,masterlist!$C$2:$AC$200,27,FALSE)),1,\"\"))","v":1},{"$f":"IF($D39>6,\"\",IF(J$5<=(VLOOKUP($A39,masterlist!$C$2:$AC$200,27,FALSE)),1,\"\"))","v":1},{"$f":"IF($D39>6,\"\",IF(K$5<=(VLOOKUP($A39,masterlist!$C$2:$AC$200,27,FALSE)),1,\"\"))","v":1},{"$f":"IF($D39>6,\"\",IF(L$5<=(VLOOKUP($A39,masterlist!$C$2:$AC$200,27,FALSE)),1,\"\"))","v":1},{"$f":"IF($D39>6,\"\",IF(M$5<=(VLOOKUP($A39,masterlist!$C$2:$AC$200,27,FALSE)),1,\"\"))","v":1},{"$f":"IF($D39>6,\"\",IF(N$5<=(VLOOKUP($A39,masterlist!$C$2:$AC$200,27,FALSE)),1,\"\"))","v":1},{"$f":"IF($D39>6,\"\",IF(O$5<=(VLOOKUP($A39,masterlist!$C$2:$AC$200,27,FALSE)),1,\"\"))","v":1},{"$f":"IF($D39>6,\"\",IF(P$5<=(VLOOKUP($A39,masterlist!$C$2:$AC$200,27,FALSE)),1,\"\"))","v":1},{"$f":"IF($D39>6,\"\",IF(Q$5<=(VLOOKUP($A39,masterlist!$C$2:$AC$200,27,FALSE)),1,\"\"))","v":1},{"$f":"IF($D39>6,\"\",IF(R$5<=(VLOOKUP($A39,masterlist!$C$2:$AC$200,27,FALSE)),1,\"\"))","v":1},null,null,null,null,0,0,0,0,0,0,0,0,0,0,0,0,1]
[{"$f":"IFERROR(priorit!A33,\"\")","v":"IEC-Adv-1-13"},"IEC",{"$f":"IFERROR(VLOOKUP($A40,masterlist!$C$2:$AA$200,2,FALSE),\"\")","v":"Advocacy"},{"$f":"IFERROR(VLOOKUP($A40,masterlist!$C$2:$AA$200,3,FALSE),\"\")","v":1},{"$f":"IFERROR(VLOOKUP($A40,masterlist!$C$2:$AA$200,5,FALSE),\"\")","v":"Has an advocacy stakeholder analysis* been done at a national level and target audiences been identified?"},{"$f":"IF($D40>6,\"\",IF(F$5<=(VLOOKUP($A40,masterlist!$C$2:$AC$200,27,FALSE)),1,\"\"))","v":1},{"$f":"IF($D40>6,\"\",IF(G$5<=(VLOOKUP($A40,masterlist!$C$2:$AC$200,27,FALSE)),1,\"\"))","v":1},{"$f":"IF($D40>6,\"\",IF(H$5<=(VLOOKUP($A40,masterlist!$C$2:$AC$200,27,FALSE)),1,\"\"))","v":1},{"$f":"IF($D40>6,\"\",IF(I$5<=(VLOOKUP($A40,masterlist!$C$2:$AC$200,27,FALSE)),1,\"\"))","v":1},{"$f":"IF($D40>6,\"\",IF(J$5<=(VLOOKUP($A40,masterlist!$C$2:$AC$200,27,FALSE)),1,\"\"))","v":1},{"$f":"IF($D40>6,\"\",IF(K$5<=(VLOOKUP($A40,masterlist!$C$2:$AC$200,27,FALSE)),1,\"\"))","v":1},{"$f":"IF($D40>6,\"\",IF(L$5<=(VLOOKUP($A40,masterlist!$C$2:$AC$200,27,FALSE)),1,\"\"))","v":1},{"$f":"IF($D40>6,\"\",IF(M$5<=(VLOOKUP($A40,masterlist!$C$2:$AC$200,27,FALSE)),1,\"\"))","v":1},{"$f":"IF($D40>6,\"\",IF(N$5<=(VLOOKUP($A40,masterlist!$C$2:$AC$200,27,FALSE)),1,\"\"))","v":1},{"$f":"IF($D40>6,\"\",IF(O$5<=(VLOOKUP($A40,masterlist!$C$2:$AC$200,27,FALSE)),1,\"\"))","v":1},{"$f":"IF($D40>6,\"\",IF(P$5<=(VLOOKUP($A40,masterlist!$C$2:$AC$200,27,FALSE)),1,\"\"))","v":1},{"$f":"IF($D40>6,\"\",IF(Q$5<=(VLOOKUP($A40,masterlist!$C$2:$AC$200,27,FALSE)),1,\"\"))","v":1},{"$f":"IF($D40>6,\"\",IF(R$5<=(VLOOKUP($A40,masterlist!$C$2:$AC$200,27,FALSE)),1,\"\"))","v":1},null,null,null,null,0,0,0,0,0,0,0,0,0,0,0,0,1]
[{"$f":"IFERROR(priorit!A38,\"\")","v":"IEC-Adv-4-18"},"IEC",{"$f":"IFERROR(VLOOKUP($A41,masterlist!$C$2:$AA$200,2,FALSE),\"\")","v":"Advocacy"},{"$f":"IFERROR(VLOOKUP($A41,masterlist!$C$2:$AA$200,3,FALSE),\"\")","v":4},{"$f":"IFERROR(VLOOKUP($A41,masterlist!$C$2:$AA$200,5,FALSE),\"\")","v":"Have you declared publically that your entire country is free from dog-transmitted human rabies?"},{"$f":"IF($D41>6,\"\",IF(F$5<=(VLOOKUP($A41,masterlist!$C$2:$AC$200,27,FALSE)),1,\"\"))","v":1},{"$f":"IF($D41>6,\"\",IF(G$5<=(VLOOKUP($A41,masterlist!$C$2:$AC$200,27,FALSE)),1,\"\"))","v":1},{"$f":"IF($D41>6,\"\",IF(H$5<=(VLOOKUP($A41,masterlist!$C$2:$AC$200,27,FALSE)),1,\"\"))","v":1},{"$f":"IF($D41>6,\"\",IF(I$5<=(VLOOKUP($A41,masterlist!$C$2:$AC$200,27,FALSE)),1,\"\"))","v":1},{"$f":"IF($D41>6,\"\",IF(J$5<=(VLOOKUP($A41,masterlist!$C$2:$AC$200,27,FALSE)),1,\"\"))","v":1},{"$f":"IF($D41>6,\"\",IF(K$5<=(VLOOKUP($A41,masterlist!$C$2:$AC$200,27,FALSE)),1,\"\"))","v":1},{"$f":"IF($D41>6,\"\",IF(L$5<=(VLOOKUP($A41,masterlist!$C$2:$AC$200,27,FALSE)),1,\"\"))","v":1},{"$f":"IF($D41>6,\"\",IF(M$5<=(VLOOKUP($A41,masterlist!$C$2:$AC$200,27,FALSE)),1,\"\"))","v":1},{"$f":"IF($D41>6,\"\",IF(N$5<=(VLOOKUP($A41,masterlist!$C$2:$AC$200,27,FALSE)),1,\"\"))","v":1},{"$f":"IF($D41>6,\"\",IF(O$5<=(VLOOKUP($A41,masterlist!$C$2:$AC$200,27,FALSE)),1,\"\"))","v":1},{"$f":"IF($D41>6,\"\",IF(P$5<=(VLOOKUP($A41,masterlist!$C$2:$AC$200,27,FALSE)),1,\"\"))","v":1},{"$f":"IF($D41>6,\"\",IF(Q$5<=(VLOOKUP($A41,masterlist!$C$2:$AC$200,27,FALSE)),1,\"\"))","v":1},{"$f":"IF($D41>6,\"\",IF(R$5<=(VLOOKUP($A41,masterlist!$C$2:$AC$200,27,FALSE)),1,\"\"))","v":1},null,null,null,null,0,0,0,0,0,0,0,0,0,0,0,0,1]
[{"$f":"IFERROR(priorit!A39,\"\")","v":"IEC-Adv-5-19"},"IEC",{"$f":"IFERROR(VLOOKUP($A42,masterlist!$C$2:$AA$200,2,FALSE),\"\")","v":"Advocacy"},{"$f":"IFERROR(VLOOKUP($A42,masterlist!$C$2:$AA$200,3,FALSE),\"\")","v":5},{"$f":"IFERROR(VLOOKUP($A42,masterlist!$C$2:$AA$200,5,FALSE),\"\")","v":"Have you declared publically that your entire country is free from dog rabies? "},{"$f":"IF($D42>6,\"\",IF(F$5<=(VLOOKUP($A42,masterlist!$C$2:$AC$200,27,FALSE)),1,\"\"))","v":1},{"$f":"IF($D42>6,\"\",IF(G$5<=(VLOOKUP($A42,masterlist!$C$2:$AC$200,27,FALSE)),1,\"\"))","v":1},{"$f":"IF($D42>6,\"\",IF(H$5<=(VLOOKUP($A42,masterlist!$C$2:$AC$200,27,FALSE)),1,\"\"))","v":1},{"$f":"IF($D42>6,\"\",IF(I$5<=(VLOOKUP($A42,masterlist!$C$2:$AC$200,27,FALSE)),1,\"\"))","v":1},{"$f":"IF($D42>6,\"\",IF(J$5<=(VLOOKUP($A42,masterlist!$C$2:$AC$200,27,FALSE)),1,\"\"))","v":1},{"$f":"IF($D42>6,\"\",IF(K$5<=(VLOOKUP($A42,masterlist!$C$2:$AC$200,27,FALSE)),1,\"\"))","v":1},{"$f":"IF($D42>6,\"\",IF(L$5<=(VLOOKUP($A42,masterlist!$C$2:$AC$200,27,FALSE)),1,\"\"))","v":1},{"$f":"IF($D42>6,\"\",IF(M$5<=(VLOOKUP($A42,masterlist!$C$2:$AC$200,27,FALSE)),1,\"\"))","v":1},{"$f":"IF($D42>6,\"\",IF(N$5<=(VLOOKUP($A42,masterlist!$C$2:$AC$200,27,FALSE)),1,\"\"))","v":1},{"$f":"IF($D42>6,\"\",IF(O$5<=(VLOOKUP($A42,masterlist!$C$2:$AC$200,27,FALSE)),1,\"\"))","v":1},{"$f":"IF($D42>6,\"\",IF(P$5<=(VLOOKUP($A42,masterlist!$C$2:$AC$200,27,FALSE)),1,\"\"))","v":1},{"$f":"IF($D42>6,\"\",IF(Q$5<=(VLOOKUP($A42,masterlist!$C$2:$AC$200,27,FALSE)),1,\"\"))","v":1},{"$f":"IF($D42>6,\"\",IF(R$5<=(VLOOKUP($A42,masterlist!$C$2:$AC$200,27,FALSE)),1,\"\"))","v":1},null,null,null,null,0,0,0,0,0,0,0,0,0,0,0,0,1]
[{"$f":"IFERROR(priorit!A48,\"\")","v":"LEG-Leg-1-6"},"LEG",{"$f":"IFERROR(VLOOKUP($A43,masterlist!$C$2:$AA$200,2,FALSE),\"\")","v":"Legal Framework"},{"$f":"IFERROR(VLOOKUP($A43,masterlist!$C$2:$AA$200,3,FALSE),\"\")","v":1},{"$f":"IFERROR(VLOOKUP($A43,masterlist!$C$2:$AA$200,5,FALSE),\"\")","v":"If there is legislation, has it been reviewed and endorsed?"},{"$f":"IF($D43>6,\"\",IF(F$5<=(VLOOKUP($A43,masterlist!$C$2:$AC$200,27,FALSE)),1,\"\"))","v":1},{"$f":"IF($D43>6,\"\",IF(G$5<=(VLOOKUP($A43,masterlist!$C$2:$AC$200,27,FALSE)),1,\"\"))","v":1},{"$f":"IF($D43>6,\"\",IF(H$5<=(VLOOKUP($A43,masterlist!$C$2:$AC$200,27,FALSE)),1,\"\"))","v":1},{"$f":"IF($D43>6,\"\",IF(I$5<=(VLOOKUP($A43,masterlist!$C$2:$AC$200,27,FALSE)),1,\"\"))","v":1},{"$f":"IF($D43>6,\"\",IF(J$5<=(VLOOKUP($A43,masterlist!$C$2:$AC$200,27,FALSE)),1,\"\"))","v":1},{"$f":"IF($D43>6,\"\",IF(K$5<=(VLOOKUP($A43,masterlist!$C$2:$AC$200,27,FALSE)),1,\"\"))","v":1},{"$f":"IF($D43>6,\"\",IF(L$5<=(VLOOKUP($A43,masterlist!$C$2:$AC$200,27,FALSE)),1,\"\"))","v":1},{"$f":"IF($D43>6,\"\",IF(M$5<=(VLOOKUP($A43,masterlist!$C$2:$AC$200,27,FALSE)),1,\"\"))","v":1},{"$f":"IF($D43>6,\"\",IF(N$5<=(VLOOKUP($A43,masterlist!$C$2:$AC$200,27,FALSE)),1,\"\"))","v":1},{"$f":"IF($D43>6,\"\",IF(O$5<=(VLOOKUP($A43,masterlist!$C$2:$AC$200,27,FALSE)),1,\"\"))","v":1},{"$f":"IF($D43>6,\"\",IF(P$5<=(VLOOKUP($A43,masterlist!$C$2:$AC$200,27,FALSE)),1,\"\"))","v":1},{"$f":"IF($D43>6,\"\",IF(Q$5<=(VLOOKUP($A43,masterlist!$C$2:$AC$200,27,FALSE)),1,\"\"))","v":1},{"$f":"IF($D43>6,\"\",IF(R$5<=(VLOOKUP($A43,masterlist!$C$2:$AC$200,27,FALSE)),1,\"\"))","v":1},null,null,null,null,0,0,0,0,0,0,0,0,0,0,0,0,1]
[{"$f":"IFERROR(priorit!A25,\"\")","v":"DPM- -5-11"},"DPM",{"$f":"IFERROR(VLOOKUP($A44,masterlist!$C$2:$AA$200,2,FALSE),\"\")","v":" "},{"$f":"IFERROR(VLOOKUP($A44,masterlist!$C$2:$AA$200,3,FALSE),\"\")","v":5},{"$f":"IFERROR(VLOOKUP($A44,masterlist!$C$2:$AA$200,5,FALSE),\"\")","v":"Has the dog population management strategy been implemented nationwide?"},{"$f":"IF($D44>6,\"\",IF(F$5<=(VLOOKUP($A44,masterlist!$C$2:$AC$200,27,FALSE)),1,\"\"))","v":1},{"$f":"IF($D44>6,\"\",IF(G$5<=(VLOOKUP($A44,masterlist!$C$2:$AC$200,27,FALSE)),1,\"\"))","v":1},{"$f":"IF($D44>6,\"\",IF(H$5<=(VLOOKUP($A44,masterlist!$C$2:$AC$200,27,FALSE)),1,\"\"))","v":1},{"$f":"IF($D44>6,\"\",IF(I$5<=(VLOOKUP($A44,masterlist!$C$2:$AC$200,27,FALSE)),1,\"\"))","v":1},{"$f":"IF($D44>6,\"\",IF(J$5<=(VLOOKUP($A44,masterlist!$C$2:$AC$200,27,FALSE)),1,\"\"))","v":1},{"$f":"IF($D44>6,\"\",IF(K$5<=(VLOOKUP($A44,masterlist!$C$2:$AC$200,27,FALSE)),1,\"\"))","v":1},{"$f":"IF($D44>6,\"\",IF(L$5<=(VLOOKUP($A44,masterlist!$C$2:$AC$200,27,FALSE)),1,\"\"))","v":1},{"$f":"IF($D44>6,\"\",IF(M$5<=(VLOOKUP($A44,masterlist!$C$2:$AC$200,27,FALSE)),1,\"\"))","v":1},{"$f":"IF($D44>6,\"\",IF(N$5<=(VLOOKUP($A44,masterlist!$C$2:$AC$200,27,FALSE)),1,\"\"))","v":1},{"$f":"IF($D44>6,\"\",IF(O$5<=(VLOOKUP($A44,masterlist!$C$2:$AC$200,27,FALSE)),1,\"\"))","v":1},{"$f":"IF($D44>6,\"\",IF(P$5<=(VLOOKUP($A44,masterlist!$C$2:$AC$200,27,FALSE)),1,\"\"))","v":1},{"$f":"IF($D44>6,\"\",IF(Q$5<=(VLOOKUP($A44,masterlist!$C$2:$AC$200,27,FALSE)),1,\"\"))","v":1},{"$f":"IF($D44>6,\"\",IF(R$5<=(VLOOKUP($A44,masterlist!$C$2:$AC$200,27,FALSE)),1,\"\"))","v":1},null,null,null,null,0,0,0,0,0,0,0,0,0,0,0,0,1]
[{"$f":"IFERROR(priorit!A26,\"\")","v":"DPM- -5-12"},"DPM",{"$f":"IFERROR(VLOOKUP($A45,masterlist!$C$2:$AA$200,2,FALSE),\"\")","v":" "},{"$f":"IFERROR(VLOOKUP($A45,masterlist!$C$2:$AA$200,3,FALSE),\"\")","v":5},{"$f":"IFERROR(VLOOKUP($A45,masterlist!$C$2:$AA$200,5,FALSE),\"\")","v":"Have dog population management and responsible dog ownership campaigns been continued after the elimination of canine-mediated human rabies?"},{"$f":"IF($D45>6,\"\",IF(F$5<=(VLOOKUP($A45,masterlist!$C$2:$AC$200,27,FALSE)),1,\"\"))","v":1},{"$f":"IF($D45>6,\"\",IF(G$5<=(VLOOKUP($A45,masterlist!$C$2:$AC$200,27,FALSE)),1,\"\"))","v":1},{"$f":"IF($D45>6,\"\",IF(H$5<=(VLOOKUP($A45,masterlist!$C$2:$AC$200,27,FALSE)),1,\"\"))","v":1},{"$f":"IF($D45>6,\"\",IF(I$5<=(VLOOKUP($A45,masterlist!$C$2:$AC$200,27,FALSE)),1,\"\"))","v":1},{"$f":"IF($D45>6,\"\",IF(J$5<=(VLOOKUP($A45,masterlist!$C$2:$AC$200,27,FALSE)),1,\"\"))","v":1},{"$f":"IF($D45>6,\"\",IF(K$5<=(VLOOKUP($A45,masterlist!$C$2:$AC$200,27,FALSE)),1,\"\"))","v":1},{"$f":"IF($D45>6,\"\",IF(L$5<=(VLOOKUP($A45,masterlist!$C$2:$AC$200,27,FALSE)),1,\"\"))","v":1},{"$f":"IF($D45>6,\"\",IF(M$5<=(VLOOKUP($A45,masterlist!$C$2:$AC$200,27,FALSE)),1,\"\"))","v":1},{"$f":"IF($D45>6,\"\",IF(N$5<=(VLOOKUP($A45,masterlist!$C$2:$AC$200,27,FALSE)),1,\"\"))","v":1},{"$f":"IF($D45>6,\"\",IF(O$5<=(VLOOKUP($A45,masterlist!$C$2:$AC$200,27,FALSE)),1,\"\"))","v":1},{"$f":"IF($D45>6,\"\",IF(P$5<=(VLOOKUP($A45,masterlist!$C$2:$AC$200,27,FALSE)),1,\"\"))","v":1},{"$f":"IF($D45>6,\"\",IF(Q$5<=(VLOOKUP($A45,masterlist!$C$2:$AC$200,27,FALSE)),1,\"\"))","v":1},{"$f":"IF($D45>6,\"\",IF(R$5<=(VLOOKUP($A45,masterlist!$C$2:$AC$200,27,FALSE)),1,\"\"))","v":1},null,null,null,null,0,0,0,0,0,0,0,0,0,0,0,0,1]
[{"$f":"IFERROR(priorit!A40,\"\")","v":"CCI-Int-1-4"},"CCI",{"$f":"IFERROR(VLOOKUP($A46,masterlist!$C$2:$AA$200,2,FALSE),\"\")","v":"Intersectoral collaboration"},{"$f":"IFERROR(VLOOKUP($A46,masterlist!$C$2:$AA$200,3,FALSE),\"\")","v":1},{"$f":"IFERROR(VLOOKUP($A46,masterlist!$C$2:$AA$200,5,FALSE),\"\")","v":"Has an intersectoral rabies task force, committee or working group, including all relevant stakeholders*, been established at a local or national level and do they meet/communicate regularly?"},{"$f":"IF($D46>6,\"\",IF(F$5<=(VLOOKUP($A46,masterlist!$C$2:$AC$200,27,FALSE)),1,\"\"))","v":1},{"$f":"IF($D46>6,\"\",IF(G$5<=(VLOOKUP($A46,masterlist!$C$2:$AC$200,27,FALSE)),1,\"\"))","v":1},{"$f":"IF($D46>6,\"\",IF(H$5<=(VLOOKUP($A46,masterlist!$C$2:$AC$200,27,FALSE)),1,\"\"))","v":1},{"$f":"IF($D46>6,\"\",IF(I$5<=(VLOOKUP($A46,masterlist!$C$2:$AC$200,27,FALSE)),1,\"\"))","v":1},{"$f":"IF($D46>6,\"\",IF(J$5<=(VLOOKUP($A46,masterlist!$C$2:$AC$200,27,FALSE)),1,\"\"))","v":1},{"$f":"IF($D46>6,\"\",IF(K$5<=(VLOOKUP($A46,masterlist!$C$2:$AC$200,27,FALSE)),1,\"\"))","v":1},{"$f":"IF($D46>6,\"\",IF(L$5<=(VLOOKUP($A46,masterlist!$C$2:$AC$200,27,FALSE)),1,\"\"))","v":1},{"$f":"IF($D46>6,\"\",IF(M$5<=(VLOOKUP($A46,masterlist!$C$2:$AC$200,27,FALSE)),1,\"\"))","v":1},{"$f":"IF($D46>6,\"\",IF(N$5<=(VLOOKUP($A46,masterlist!$C$2:$AC$200,27,FALSE)),1,\"\"))","v":1},{"$f":"IF($D46>6,\"\",IF(O$5<=(VLOOKUP($A46,masterlist!$C$2:$AC$200,27,FALSE)),1,\"\"))","v":1},{"$f":"IF($D46>6,\"\",IF(P$5<=(VLOOKUP($A46,masterlist!$C$2:$AC$200,27,FALSE)),1,\"\"))","v":1},{"$f":"IF($D46>6,\"\",IF(Q$5<=(VLOOKUP($A46,masterlist!$C$2:$AC$200,27,FALSE)),1,\"\"))","v":1},{"$f":"IF($D46>6,\"\",IF(R$5<=(VLOOKUP($A46,masterlist!$C$2:$AC$200,27,FALSE)),1,\"\"))","v":1},null,null,null,null,0,0,0,0,0,0,0,0,0,0,0,0,1]
[{"$f":"IFERROR(priorit!A27,\"\")","v":"IEC-Pub-3-5"},"IEC",{"$f":"IFERROR(VLOOKUP($A47,masterlist!$C$2:$AA$200,2,FALSE),\"\")","v":"Public awareness"},{"$f":"IFERROR(VLOOKUP($A47,masterlist!$C$2:$AA$200,3,FALSE),\"\")","v":3},{"$f":"IFERROR(VLOOKUP($A47,masterlist!$C$2:$AA$200,5,FALSE),\"\")","v":"Has the IEC plan been integrated into the national rabies strategy, implemented at national level and updated where needed?"},{"$f":"IF($D47>6,\"\",IF(F$5<=(VLOOKUP($A47,masterlist!$C$2:$AC$200,27,FALSE)),1,\"\"))","v":1},{"$f":"IF($D47>6,\"\",IF(G$5<=(VLOOKUP($A47,masterlist!$C$2:$AC$200,27,FALSE)),1,\"\"))","v":1},{"$f":"IF($D47>6,\"\",IF(H$5<=(VLOOKUP($A47,masterlist!$C$2:$AC$200,27,FALSE)),1,\"\"))","v":1},{"$f":"IF($D47>6,\"\",IF(I$5<=(VLOOKUP($A47,masterlist!$C$2:$AC$200,27,FALSE)),1,\"\"))","v":1},{"$f":"IF($D47>6,\"\",IF(J$5<=(VLOOKUP($A47,masterlist!$C$2:$AC$200,27,FALSE)),1,\"\"))","v":1},{"$f":"IF($D47>6,\"\",IF(K$5<=(VLOOKUP($A47,masterlist!$C$2:$AC$200,27,FALSE)),1,\"\"))","v":1},{"$f":"IF($D47>6,\"\",IF(L$5<=(VLOOKUP($A47,masterlist!$C$2:$AC$200,27,FALSE)),1,\"\"))","v":1},{"$f":"IF($D47>6,\"\",IF(M$5<=(VLOOKUP($A47,masterlist!$C$2:$AC$200,27,FALSE)),1,\"\"))","v":1},{"$f":"IF($D47>6,\"\",IF(N$5<=(VLOOKUP($A47,masterlist!$C$2:$AC$200,27,FALSE)),1,\"\"))","v":1},{"$f":"IF($D47>6,\"\",IF(O$5<=(VLOOKUP($A47,masterlist!$C$2:$AC$200,27,FALSE)),1,\"\"))","v":1},{"$f":"IF($D47>6,\"\",IF(P$5<=(VLOOKUP($A47,masterlist!$C$2:$AC$200,27,FALSE)),1,\"\"))","v":1},{"$f":"IF($D47>6,\"\",IF(Q$5<=(VLOOKUP($A47,masterlist!$C$2:$AC$200,27,FALSE)),1,\"\"))","v":1},{"$f":"IF($D47>6,\"\",IF(R$5<=(VLOOKUP($A47,masterlist!$C$2:$AC$200,27,FALSE)),1,\"\"))","v":1},null,null,null,null,0,0,0,0,0,0,0,0,0,0,0,0,1]
[{"$f":"IFERROR(priorit!A34,\"\")","v":"IEC-Adv-1-14"},"IEC",{"$f":"IFERROR(VLOOKUP($A48,masterlist!$C$2:$AA$200,2,FALSE),\"\")","v":"Advocacy"},{"$f":"IFERROR(VLOOKUP($A48,masterlist!$C$2:$AA$200,3,FALSE),\"\")","v":1},{"$f":"IFERROR(VLOOKUP($A48,masterlist!$C$2:$AA$200,5,FALSE),\"\")","v":"Has an advocacy plan* been developed and implemented at a national level?"},{"$f":"IF($D48>6,\"\",IF(F$5<=(VLOOKUP($A48,masterlist!$C$2:$AC$200,27,FALSE)),1,\"\"))","v":1},{"$f":"IF($D48>6,\"\",IF(G$5<=(VLOOKUP($A48,masterlist!$C$2:$AC$200,27,FALSE)),1,\"\"))","v":1},{"$f":"IF($D48>6,\"\",IF(H$5<=(VLOOKUP($A48,masterlist!$C$2:$AC$200,27,FALSE)),1,\"\"))","v":1},{"$f":"IF($D48>6,\"\",IF(I$5<=(VLOOKUP($A48,masterlist!$C$2:$AC$200,27,FALSE)),1,\"\"))","v":1},{"$f":"IF($D48>6,\"\",IF(J$5<=(VLOOKUP($A48,masterlist!$C$2:$AC$200,27,FALSE)),1,\"\"))","v":1},{"$f":"IF($D48>6,\"\",IF(K$5<=(VLOOKUP($A48,masterlist!$C$2:$AC$200,27,FALSE)),1,\"\"))","v":1},{"$f":"IF($D48>6,\"\",IF(L$5<=(VLOOKUP($A48,masterlist!$C$2:$AC$200,27,FALSE)),1,\"\"))","v":1},{"$f":"IF($D48>6,\"\",IF(M$5<=(VLOOKUP($A48,masterlist!$C$2:$AC$200,27,FALSE)),1,\"\"))","v":1},{"$f":"IF($D48>6,\"\",IF(N$5<=(VLOOKUP($A48,masterlist!$C$2:$AC$200,27,FALSE)),1,\"\"))","v":1},{"$f":"IF($D48>6,\"\",IF(O$5<=(VLOOKUP($A48,masterlist!$C$2:$AC$200,27,FALSE)),1,\"\"))","v":1},{"$f":"IF($D48>6,\"\",IF(P$5<=(VLOOKUP($A48,masterlist!$C$2:$AC$200,27,FALSE)),1,\"\"))","v":1},{"$f":"IF($D48>6,\"\",IF(Q$5<=(VLOOKUP($A48,masterlist!$C$2:$AC$200,27,FALSE)),1,\"\"))","v":1},{"$f":"IF($D48>6,\"\",IF(R$5<=(VLOOKUP($A48,masterlist!$C$2:$AC$200,27,FALSE)),1,\"\"))","v":1},null,null,null,null,0,0,0,0,0,0,0,0,0,0,0,0,1]
[{"$f":"IFERROR(priorit!A41,\"\")","v":"CCI-Int-2-5"},"CCI",{"$f":"IFERROR(VLOOKUP($A49,masterlist!$C$2:$AA$200,2,FALSE),\"\")","v":"Intersectoral collaboration"},{"$f":"IFERROR(VLOOKUP($A49,masterlist!$C$2:$AA$200,3,FALSE),\"\")","v":2},{"$f":"IFERROR(VLOOKUP($A49,masterlist!$C$2:$AA$200,5,FALSE),\"\")","v":"Is the private sector included in the inter-sectoral task force's discussions and/or activities?"},{"$f":"IF($D49>6,\"\",IF(F$5<=(VLOOKUP($A49,masterlist!$C$2:$AC$200,27,FALSE)),1,\"\"))","v":1},{"$f":"IF($D49>6,\"\",IF(G$5<=(VLOOKUP($A49,masterlist!$C$2:$AC$200,27,FALSE)),1,\"\"))","v":1},{"$f":"IF($D49>6,\"\",IF(H$5<=(VLOOKUP($A49,masterlist!$C$2:$AC$200,27,FALSE)),1,\"\"))","v":1},{"$f":"IF($D49>6,\"\",IF(I$5<=(VLOOKUP($A49,masterlist!$C$2:$AC$200,27,FALSE)),1,\"\"))","v":1},{"$f":"IF($D49>6,\"\",IF(J$5<=(VLOOKUP($A49,masterlist!$C$2:$AC$200,27,FALSE)),1,\"\"))","v":1},{"$f":"IF($D49>6,\"\",IF(K$5<=(VLOOKUP($A49,masterlist!$C$2:$AC$200,27,FALSE)),1,\"\"))","v":1},{"$f":"IF($D49>6,\"\",IF(L$5<=(VLOOKUP($A49,masterlist!$C$2:$AC$200,27,FALSE)),1,\"\"))","v":1},{"$f":"IF($D49>6,\"\",IF(M$5<=(VLOOKUP($A49,masterlist!$C$2:$AC$200,27,FALSE)),1,\"\"))","v":1},{"$f":"IF($D49>6,\"\",IF(N$5<=(VLOOKUP($A49,masterlist!$C$2:$AC$200,27,FALSE)),1,\"\"))","v":1},{"$f":"IF($D49>6,\"\",IF(O$5<=(VLOOKUP($A49,masterlist!$C$2:$AC$200,27,FALSE)),1,\"\"))","v":1},{"$f":"IF($D49>6,\"\",IF(P$5<=(VLOOKUP($A49,masterlist!$C$2:$AC$200,27,FALSE)),1,\"\"))","v":1},{"$f":"IF($D49>6,\"\",IF(Q$5<=(VLOOKUP($A49,masterlist!$C$2:$AC$200,27,FALSE)),1,\"\"))","v":1},{"$f":"IF($D49>6,\"\",IF(R$5<=(VLOOKUP($A49,masterlist!$C$2:$AC$200,27,FALSE)),1,\"\"))","v":1},null,null,null,null,0,0,0,0,0,0,0,0,0,0,0,0,1]
[{"$f":"IFERROR(priorit!A49,\"\")","v":"LEG-Leg-2-10"},{"$f":"IFERROR(LEFT(A50,3),\"\")","v":"LEG"},{"$f":"IFERROR(VLOOKUP($A50,masterlist!$C$2:$AA$200,2,FALSE),\"\")","v":"Legal Framework"},{"$f":"IFERROR(VLOOKUP($A50,masterlist!$C$2:$AA$200,3,FALSE),\"\")","v":2},{"$f":"IFERROR(VLOOKUP($A50,masterlist!$C$2:$AA$200,5,FALSE),\"\")","v":"Does the legislation regarding nationally licenced vaccines reflect that of international guidelines?"},{"$f":"IF($D50>6,\"\",IF(F$5<=(VLOOKUP($A50,masterlist!$C$2:$AC$200,27,FALSE)),1,\"\"))","v":1},{"$f":"IF($D50>6,\"\",IF(G$5<=(VLOOKUP($A50,masterlist!$C$2:$AC$200,27,FALSE)),1,\"\"))","v":1},{"$f":"IF($D50>6,\"\",IF(H$5<=(VLOOKUP($A50,masterlist!$C$2:$AC$200,27,FALSE)),1,\"\"))","v":1},{"$f":"IF($D50>6,\"\",IF(I$5<=(VLOOKUP($A50,masterlist!$C$2:$AC$200,27,FALSE)),1,\"\"))","v":1},{"$f":"IF($D50>6,\"\",IF(J$5<=(VLOOKUP($A50,masterlist!$C$2:$AC$200,27,FALSE)),1,\"\"))","v":1},{"$f":"IF($D50>6,\"\",IF(K$5<=(VLOOKUP($A50,masterlist!$C$2:$AC$200,27,FALSE)),1,\"\"))","v":1},{"$f":"IF($D50>6,\"\",IF(L$5<=(VLOOKUP($A50,masterlist!$C$2:$AC$200,27,FALSE)),1,\"\"))","v":1},{"$f":"IF($D50>6,\"\",IF(M$5<=(VLOOKUP($A50,masterlist!$C$2:$AC$200,27,FALSE)),1,\"\"))","v":1},{"$f":"IF($D50>6,\"\",IF(N$5<=(VLOOKUP($A50,masterlist!$C$2:$AC$200,27,FALSE)),1,\"\"))","v":1},{"$f":"IF($D50>6,\"\",IF(O$5<=(VLOOKUP($A50,masterlist!$C$2:$AC$200,27,FALSE)),1,\"\"))","v":1},{"$f":"IF($D50>6,\"\",IF(P$5<=(VLOOKUP($A50,masterlist!$C$2:$AC$200,27,FALSE)),1,\"\"))","v":1},{"$f":"IF($D50>6,\"\",IF(Q$5<=(VLOOKUP($A50,masterlist!$C$2:$AC$200,27,FALSE)),1,\"\"))","v":1},{"$f":"IF($D50>6,\"\",IF(R$5<=(VLOOKUP($A50,masterlist!$C$2:$AC$200,27,FALSE)),1,\"\"))","v":1},null,null,null,null,0,0,0,0,0,0,0,0,0,0,0,0,1]
[{"$f":"IFERROR(priorit!A50,\"\")","v":""},"",{"$f":"IFERROR(VLOOKUP($A51,masterlist!$C$2:$AA$200,2,FALSE),\"\")","v":""},{"$f":"IFERROR(VLOOKUP($A51,masterlist!$C$2:$AA$200,3,FALSE),\"\")","v":""},{"$f":"IFERROR(VLOOKUP($A51,masterlist!$C$2:$AA$200,5,FALSE),\"\")","v":""},{"$f":"IF($D51>6,\"\",IF(F$5<=(VLOOKUP($A51,masterlist!$C$2:$AC$200,27,FALSE)),1,\"\"))","v":""},{"$f":"IF($D51>6,\"\",IF(G$5<=(VLOOKUP($A51,masterlist!$C$2:$AC$200,27,FALSE)),1,\"\"))","v":""},{"$f":"IF($D51>6,\"\",IF(H$5<=(VLOOKUP($A51,masterlist!$C$2:$AC$200,27,FALSE)),1,\"\"))","v":""},{"$f":"IF($D51>6,\"\",IF(I$5<=(VLOOKUP($A51,masterlist!$C$2:$AC$200,27,FALSE)),1,\"\"))","v":""},{"$f":"IF($D51>6,\"\",IF(J$5<=(VLOOKUP($A51,masterlist!$C$2:$AC$200,27,FALSE)),1,\"\"))","v":""},{"$f":"IF($D51>6,\"\",IF(K$5<=(VLOOKUP($A51,masterlist!$C$2:$AC$200,27,FALSE)),1,\"\"))","v":""},{"$f":"IF($D51>6,\"\",IF(L$5<=(VLOOKUP($A51,masterlist!$C$2:$AC$200,27,FALSE)),1,\"\"))","v":""},{"$f":"IF($D51>6,\"\",IF(M$5<=(VLOOKUP($A51,masterlist!$C$2:$AC$200,27,FALSE)),1,\"\"))","v":""},{"$f":"IF($D51>6,\"\",IF(N$5<=(VLOOKUP($A51,masterlist!$C$2:$AC$200,27,FALSE)),1,\"\"))","v":""},{"$f":"IF($D51>6,\"\",IF(O$5<=(VLOOKUP($A51,masterlist!$C$2:$AC$200,27,FALSE)),1,\"\"))","v":""},{"$f":"IF($D51>6,\"\",IF(P$5<=(VLOOKUP($A51,masterlist!$C$2:$AC$200,27,FALSE)),1,\"\"))","v":""},{"$f":"IF($D51>6,\"\",IF(Q$5<=(VLOOKUP($A51,masterlist!$C$2:$AC$200,27,FALSE)),1,\"\"))","v":""},{"$f":"IF($D51>6,\"\",IF(R$5<=(VLOOKUP($A51,masterlist!$C$2:$AC$200,27,FALSE)),1,\"\"))","v":""},null,null,null,null,0,0,0,0,0,0,0,0,0,0,0,0,0]
[{"$f":"IFERROR(priorit!A51,\"\")","v":""},"",{"$f":"IFERROR(VLOOKUP($A52,masterlist!$C$2:$AA$200,2,FALSE),\"\")","v":""},{"$f":"IFERROR(VLOOKUP($A52,masterlist!$C$2:$AA$200,3,FALSE),\"\")","v":""},{"$f":"IFERROR(VLOOKUP($A52,masterlist!$C$2:$AA$200,5,FALSE),\"\")","v":""},{"$f":"IF($D52>6,\"\",IF(F$5<=(VLOOKUP($A52,masterlist!$C$2:$AC$200,27,FALSE)),1,\"\"))","v":""},{"$f":"IF($D52>6,\"\",IF(G$5<=(VLOOKUP($A52,masterlist!$C$2:$AC$200,27,FALSE)),1,\"\"))","v":""},{"$f":"IF($D52>6,\"\",IF(H$5<=(VLOOKUP($A52,masterlist!$C$2:$AC$200,27,FALSE)),1,\"\"))","v":""},{"$f":"IF($D52>6,\"\",IF(I$5<=(VLOOKUP($A52,masterlist!$C$2:$AC$200,27,FALSE)),1,\"\"))","v":""},{"$f":"IF($D52>6,\"\",IF(J$5<=(VLOOKUP($A52,masterlist!$C$2:$AC$200,27,FALSE)),1,\"\"))","v":""},{"$f":"IF($D52>6,\"\",IF(K$5<=(VLOOKUP($A52,masterlist!$C$2:$AC$200,27,FALSE)),1,\"\"))","v":""},{"$f":"IF($D52>6,\"\",IF(L$5<=(VLOOKUP($A52,masterlist!$C$2:$AC$200,27,FALSE)),1,\"\"))","v":""},{"$f":"IF($D52>6,\"\",IF(M$5<=(VLOOKUP($A52,masterlist!$C$2:$AC$200,27,FALSE)),1,\"\"))","v":""},{"$f":"IF($D52>6,\"\",IF(N$5<=(VLOOKUP($A52,masterlist!$C$2:$AC$200,27,FALSE)),1,\"\"))","v":""},{"$f":"IF($D52>6,\"\",IF(O$5<=(VLOOKUP($A52,masterlist!$C$2:$AC$200,27,FALSE)),1,\"\"))","v":""},{"$f":"IF($D52>6,\"\",IF(P$5<=(VLOOKUP($A52,masterlist!$C$2:$AC$200,27,FALSE)),1,\"\"))","v":""},{"$f":"IF($D52>6,\"\",IF(Q$5<=(VLOOKUP($A52,masterlist!$C$2:$AC$200,27,FALSE)),1,\"\"))","v":""},{"$f":"IF($D52>6,\"\",IF(R$5<=(VLOOKUP($A52,masterlist!$C$2:$AC$200,27,FALSE)),1,\"\"))","v":""},null,null,null,null,0,0,0,0,0,0,0,0,0,0,0,0,0]
[{"$f":"IFERROR(priorit!A52,\"\")","v":""},"",{"$f":"IFERROR(VLOOKUP($A53,masterlist!$C$2:$AA$200,2,FALSE),\"\")","v":""},{"$f":"IFERROR(VLOOKUP($A53,masterlist!$C$2:$AA$200,3,FALSE),\"\")","v":""},{"$f":"IFERROR(VLOOKUP($A53,masterlist!$C$2:$AA$200,5,FALSE),\"\")","v":""},{"$f":"IF($D53>6,\"\",IF(F$5<=(VLOOKUP($A53,masterlist!$C$2:$AC$200,27,FALSE)),1,\"\"))","v":""},{"$f":"IF($D53>6,\"\",IF(G$5<=(VLOOKUP($A53,masterlist!$C$2:$AC$200,27,FALSE)),1,\"\"))","v":""},{"$f":"IF($D53>6,\"\",IF(H$5<=(VLOOKUP($A53,masterlist!$C$2:$AC$200,27,FALSE)),1,\"\"))","v":""},{"$f":"IF($D53>6,\"\",IF(I$5<=(VLOOKUP($A53,masterlist!$C$2:$AC$200,27,FALSE)),1,\"\"))","v":""},{"$f":"IF($D53>6,\"\",IF(J$5<=(VLOOKUP($A53,masterlist!$C$2:$AC$200,27,FALSE)),1,\"\"))","v":""},{"$f":"IF($D53>6,\"\",IF(K$5<=(VLOOKUP($A53,masterlist!$C$2:$AC$200,27,FALSE)),1,\"\"))","v":""},{"$f":"IF($D53>6,\"\",IF(L$5<=(VLOOKUP($A53,masterlist!$C$2:$AC$200,27,FALSE)),1,\"\"))","v":""},{"$f":"IF($D53>6,\"\",IF(M$5<=(VLOOKUP($A53,masterlist!$C$2:$AC$200,27,FALSE)),1,\"\"))","v":""},{"$f":"IF($D53>6,\"\",IF(N$5<=(VLOOKUP($A53,masterlist!$C$2:$AC$200,27,FALSE)),1,\"\"))","v":""},{"$f":"IF($D53>6,\"\",IF(O$5<=(VLOOKUP($A53,masterlist!$C$2:$AC$200,27,FALSE)),1,\"\"))","v":""},{"$f":"IF($D53>6,\"\",IF(P$5<=(VLOOKUP($A53,masterlist!$C$2:$AC$200,27,FALSE)),1,\"\"))","v":""},{"$f":"IF($D53>6,\"\",IF(Q$5<=(VLOOKUP($A53,masterlist!$C$2:$AC$200,27,FALSE)),1,\"\"))","v":""},{"$f":"IF($D53>6,\"\",IF(R$5<=(VLOOKUP($A53,masterlist!$C$2:$AC$200,27,FALSE)),1,\"\"))","v":""},null,null,null,null,0,0,0,0,0,0,0,0,0,0,0,0,0]
[{"$f":"IFERROR(priorit!A53,\"\")","v":""},"",{"$f":"IFERROR(VLOOKUP($A54,masterlist!$C$2:$AA$200,2,FALSE),\"\")","v":""},{"$f":"IFERROR(VLOOKUP($A54,masterlist!$C$2:$AA$200,3,FALSE),\"\")","v":""},{"$f":"IFERROR(VLOOKUP($A54,masterlist!$C$2:$AA$200,5,FALSE),\"\")","v":""},{"$f":"IF($D54>6,\"\",IF(F$5<=(VLOOKUP($A54,masterlist!$C$2:$AC$200,27,FALSE)),1,\"\"))","v":""},{"$f":"IF($D54>6,\"\",IF(G$5<=(VLOOKUP($A54,masterlist!$C$2:$AC$200,27,FALSE)),1,\"\"))","v":""},{"$f":"IF($D54>6,\"\",IF(H$5<=(VLOOKUP($A54,masterlist!$C$2:$AC$200,27,FALSE)),1,\"\"))","v":""},{"$f":"IF($D54>6,\"\",IF(I$5<=(VLOOKUP($A54,masterlist!$C$2:$AC$200,27,FALSE)),1,\"\"))","v":""},{"$f":"IF($D54>6,\"\",IF(J$5<=(VLOOKUP($A54,masterlist!$C$2:$AC$200,27,FALSE)),1,\"\"))","v":""},{"$f":"IF($D54>6,\"\",IF(K$5<=(VLOOKUP($A54,masterlist!$C$2:$AC$200,27,FALSE)),1,\"\"))","v":""},{"$f":"IF($D54>6,\"\",IF(L$5<=(VLOOKUP($A54,masterlist!$C$2:$AC$200,27,FALSE)),1,\"\"))","v":""},{"$f":"IF($D54>6,\"\",IF(M$5<=(VLOOKUP($A54,masterlist!$C$2:$AC$200,27,FALSE)),1,\"\"))","v":""},{"$f":"IF($D54>6,\"\",IF(N$5<=(VLOOKUP($A54,masterlist!$C$2:$AC$200,27,FALSE)),1,\"\"))","v":""},{"$f":"IF($D54>6,\"\",IF(O$5<=(VLOOKUP($A54,masterlist!$C$2:$AC$200,27,FALSE)),1,\"\"))","v":""},{"$f":"IF($D54>6,\"\",IF(P$5<=(VLOOKUP($A54,masterlist!$C$2:$AC$200,27,FALSE)),1,\"\"))","v":""},{"$f":"IF($D54>6,\"\",IF(Q$5<=(VLOOKUP($A54,masterlist!$C$2:$AC$200,27,FALSE)),1,\"\"))","v":""},{"$f":"IF($D54>6,\"\",IF(R$5<=(VLOOKUP($A54,masterlist!$C$2:$AC$200,27,FALSE)),1,\"\"))","v":""},null,null,null,null,0,0,0,0,0,0,0,0,0,0,0,0,0]
[{"$f":"IFERROR(priorit!A54,\"\")","v":""},"",{"$f":"IFERROR(VLOOKUP($A55,masterlist!$C$2:$AA$200,2,FALSE),\"\")","v":""},{"$f":"IFERROR(VLOOKUP($A55,masterlist!$C$2:$AA$200,3,FALSE),\"\")","v":""},{"$f":"IFERROR(VLOOKUP($A55,masterlist!$C$2:$AA$200,5,FALSE),\"\")","v":""},{"$f":"IF($D55>6,\"\",IF(F$5<=(VLOOKUP($A55,masterlist!$C$2:$AC$200,27,FALSE)),1,\"\"))","v":""},{"$f":"IF($D55>6,\"\",IF(G$5<=(VLOOKUP($A55,masterlist!$C$2:$AC$200,27,FALSE)),1,\"\"))","v":""},{"$f":"IF($D55>6,\"\",IF(H$5<=(VLOOKUP($A55,masterlist!$C$2:$AC$200,27,FALSE)),1,\"\"))","v":""},{"$f":"IF($D55>6,\"\",IF(I$5<=(VLOOKUP($A55,masterlist!$C$2:$AC$200,27,FALSE)),1,\"\"))","v":""},{"$f":"IF($D55>6,\"\",IF(J$5<=(VLOOKUP($A55,masterlist!$C$2:$AC$200,27,FALSE)),1,\"\"))","v":""},{"$f":"IF($D55>6,\"\",IF(K$5<=(VLOOKUP($A55,masterlist!$C$2:$AC$200,27,FALSE)),1,\"\"))","v":""},{"$f":"IF($D55>6,\"\",IF(L$5<=(VLOOKUP($A55,masterlist!$C$2:$AC$200,27,FALSE)),1,\"\"))","v":""},{"$f":"IF($D55>6,\"\",IF(M$5<=(VLOOKUP($A55,masterlist!$C$2:$AC$200,27,FALSE)),1,\"\"))","v":""},{"$f":"IF($D55>6,\"\",IF(N$5<=(VLOOKUP($A55,masterlist!$C$2:$AC$200,27,FALSE)),1,\"\"))","v":""},{"$f":"IF($D55>6,\"\",IF(O$5<=(VLOOKUP($A55,masterlist!$C$2:$AC$200,27,FALSE)),1,\"\"))","v":""},{"$f":"IF($D55>6,\"\",IF(P$5<=(VLOOKUP($A55,masterlist!$C$2:$AC$200,27,FALSE)),1,\"\"))","v":""},{"$f":"IF($D55>6,\"\",IF(Q$5<=(VLOOKUP($A55,masterlist!$C$2:$AC$200,27,FALSE)),1,\"\"))","v":""},{"$f":"IF($D55>6,\"\",IF(R$5<=(VLOOKUP($A55,masterlist!$C$2:$AC$200,27,FALSE)),1,\"\"))","v":""},null,null,null,null,0,0,0,0,0,0,0,0,0,0,0,0,0]
[{"$f":"IFERROR(priorit!A55,\"\")","v":""},"",{"$f":"IFERROR(VLOOKUP($A56,masterlist!$C$2:$AA$200,2,FALSE),\"\")","v":""},{"$f":"IFERROR(VLOOKUP($A56,masterlist!$C$2:$AA$200,3,FALSE),\"\")","v":""},{"$f":"IFERROR(VLOOKUP($A56,masterlist!$C$2:$AA$200,5,FALSE),\"\")","v":""},{"$f":"IF($D56>6,\"\",IF(F$5<=(VLOOKUP($A56,masterlist!$C$2:$AC$200,27,FALSE)),1,\"\"))","v":""},{"$f":"IF($D56>6,\"\",IF(G$5<=(VLOOKUP($A56,masterlist!$C$2:$AC$200,27,FALSE)),1,\"\"))","v":""},{"$f":"IF($D56>6,\"\",IF(H$5<=(VLOOKUP($A56,masterlist!$C$2:$AC$200,27,FALSE)),1,\"\"))","v":""},{"$f":"IF($D56>6,\"\",IF(I$5<=(VLOOKUP($A56,masterlist!$C$2:$AC$200,27,FALSE)),1,\"\"))","v":""},{"$f":"IF($D56>6,\"\",IF(J$5<=(VLOOKUP($A56,masterlist!$C$2:$AC$200,27,FALSE)),1,\"\"))","v":""},{"$f":"IF($D56>6,\"\",IF(K$5<=(VLOOKUP($A56,masterlist!$C$2:$AC$200,27,FALSE)),1,\"\"))","v":""},{"$f":"IF($D56>6,\"\",IF(L$5<=(VLOOKUP($A56,masterlist!$C$2:$AC$200,27,FALSE)),1,\"\"))","v":""},{"$f":"IF($D56>6,\"\",IF(M$5<=(VLOOKUP($A56,masterlist!$C$2:$AC$200,27,FALSE)),1,\"\"))","v":""},{"$f":"IF($D56>6,\"\",IF(N$5<=(VLOOKUP($A56,masterlist!$C$2:$AC$200,27,FALSE)),1,\"\"))","v":""},{"$f":"IF($D56>6,\"\",IF(O$5<=(VLOOKUP($A56,masterlist!$C$2:$AC$200,27,FALSE)),1,\"\"))","v":""},{"$f":"IF($D56>6,\"\",IF(P$5<=(VLOOKUP($A56,masterlist!$C$2:$AC$200,27,FALSE)),1,\"\"))","v":""},{"$f":"IF($D56>6,\"\",IF(Q$5<=(VLOOKUP($A56,masterlist!$C$2:$AC$200,27,FALSE)),1,\"\"))","v":""},{"$f":"IF($D56>6,\"\",IF(R$5<=(VLOOKUP($A56,masterlist!$C$2:$AC$200,27,FALSE)),1,\"\"))","v":""},null,null,null,null,0,0,0,0,0,0,0,0,0,0,0,0,0]
[{"$f":"IFERROR(priorit!A56,\"\")","v":""},"",{"$f":"IFERROR(VLOOKUP($A57,masterlist!$C$2:$AA$200,2,FALSE),\"\")","v":""},{"$f":"IFERROR(VLOOKUP($A57,masterlist!$C$2:$AA$200,3,FALSE),\"\")","v":""},{"$f":"IFERROR(VLOOKUP($A57,masterlist!$C$2:$AA$200,5,FALSE),\"\")","v":""},{"$f":"IF($D57>6,\"\",IF(F$5<=(VLOOKUP($A57,masterlist!$C$2:$AC$200,27,FALSE)),1,\"\"))","v":""},{"$f":"IF($D57>6,\"\",IF(G$5<=(VLOOKUP($A57,masterlist!$C$2:$AC$200,27,FALSE)),1,\"\"))","v":""},{"$f":"IF($D57>6,\"\",IF(H$5<=(VLOOKUP($A57,masterlist!$C$2:$AC$200,27,FALSE)),1,\"\"))","v":""},{"$f":"IF($D57>6,\"\",IF(I$5<=(VLOOKUP($A57,masterlist!$C$2:$AC$200,27,FALSE)),1,\"\"))","v":""},{"$f":"IF($D57>6,\"\",IF(J$5<=(VLOOKUP($A57,masterlist!$C$2:$AC$200,27,FALSE)),1,\"\"))","v":""},{"$f":"IF($D57>6,\"\",IF(K$5<=(VLOOKUP($A57,masterlist!$C$2:$AC$200,27,FALSE)),1,\"\"))","v":""},{"$f":"IF($D57>6,\"\",IF(L$5<=(VLOOKUP($A57,masterlist!$C$2:$AC$200,27,FALSE)),1,\"\"))","v":""},{"$f":"IF($D57>6,\"\",IF(M$5<=(VLOOKUP($A57,masterlist!$C$2:$AC$200,27,FALSE)),1,\"\"))","v":""},{"$f":"IF($D57>6,\"\",IF(N$5<=(VLOOKUP($A57,masterlist!$C$2:$AC$200,27,FALSE)),1,\"\"))","v":""},{"$f":"IF($D57>6,\"\",IF(O$5<=(VLOOKUP($A57,masterlist!$C$2:$AC$200,27,FALSE)),1,\"\"))","v":""},{"$f":"IF($D57>6,\"\",IF(P$5<=(VLOOKUP($A57,masterlist!$C$2:$AC$200,27,FALSE)),1,\"\"))","v":""},{"$f":"IF($D57>6,\"\",IF(Q$5<=(VLOOKUP($A57,masterlist!$C$2:$AC$200,27,FALSE)),1,\"\"))","v":""},{"$f":"IF($D57>6,\"\",IF(R$5<=(VLOOKUP($A57,masterlist!$C$2:$AC$200,27,FALSE)),1,\"\"))","v":""},null,null,null,null,0,0,0,0,0,0,0,0,0,0,0,0,0]
[{"$f":"IFERROR(priorit!A57,\"\")","v":""},"",{"$f":"IFERROR(VLOOKUP($A58,masterlist!$C$2:$AA$200,2,FALSE),\"\")","v":""},{"$f":"IFERROR(VLOOKUP($A58,masterlist!$C$2:$AA$200,3,FALSE),\"\")","v":""},{"$f":"IFERROR(VLOOKUP($A58,masterlist!$C$2:$AA$200,5,FALSE),\"\")","v":""},{"$f":"IF($D58>6,\"\",IF(F$5<=(VLOOKUP($A58,masterlist!$C$2:$AC$200,27,FALSE)),1,\"\"))","v":""},{"$f":"IF($D58>6,\"\",IF(G$5<=(VLOOKUP($A58,masterlist!$C$2:$AC$200,27,FALSE)),1,\"\"))","v":""},{"$f":"IF($D58>6,\"\",IF(H$5<=(VLOOKUP($A58,masterlist!$C$2:$AC$200,27,FALSE)),1,\"\"))","v":""},{"$f":"IF($D58>6,\"\",IF(I$5<=(VLOOKUP($A58,masterlist!$C$2:$AC$200,27,FALSE)),1,\"\"))","v":""},{"$f":"IF($D58>6,\"\",IF(J$5<=(VLOOKUP($A58,masterlist!$C$2:$AC$200,27,FALSE)),1,\"\"))","v":""},{"$f":"IF($D58>6,\"\",IF(K$5<=(VLOOKUP($A58,masterlist!$C$2:$AC$200,27,FALSE)),1,\"\"))","v":""},{"$f":"IF($D58>6,\"\",IF(L$5<=(VLOOKUP($A58,masterlist!$C$2:$AC$200,27,FALSE)),1,\"\"))","v":""},{"$f":"IF($D58>6,\"\",IF(M$5<=(VLOOKUP($A58,masterlist!$C$2:$AC$200,27,FALSE)),1,\"\"))","v":""},{"$f":"IF($D58>6,\"\",IF(N$5<=(VLOOKUP($A58,masterlist!$C$2:$AC$200,27,FALSE)),1,\"\"))","v":""},{"$f":"IF($D58>6,\"\",IF(O$5<=(VLOOKUP($A58,masterlist!$C$2:$AC$200,27,FALSE)),1,\"\"))","v":""},{"$f":"IF($D58>6,\"\",IF(P$5<=(VLOOKUP($A58,masterlist!$C$2:$AC$200,27,FALSE)),1,\"\"))","v":""},{"$f":"IF($D58>6,\"\",IF(Q$5<=(VLOOKUP($A58,masterlist!$C$2:$AC$200,27,FALSE)),1,\"\"))","v":""},{"$f":"IF($D58>6,\"\",IF(R$5<=(VLOOKUP($A58,masterlist!$C$2:$AC$200,27,FALSE)),1,\"\"))","v":""},null,null,null,null,0,0,0,0,0,0,0,0,0,0,0,0,0]
[{"$f":"IFERROR(priorit!A58,\"\")","v":""},"",{"$f":"IFERROR(VLOOKUP($A59,masterlist!$C$2:$AA$200,2,FALSE),\"\")","v":""},{"$f":"IFERROR(VLOOKUP($A59,masterlist!$C$2:$AA$200,3,FALSE),\"\")","v":""},{"$f":"IFERROR(VLOOKUP($A59,masterlist!$C$2:$AA$200,5,FALSE),\"\")","v":""},{"$f":"IF($D59>6,\"\",IF(F$5<=(VLOOKUP($A59,masterlist!$C$2:$AC$200,27,FALSE)),1,\"\"))","v":""},{"$f":"IF($D59>6,\"\",IF(G$5<=(VLOOKUP($A59,masterlist!$C$2:$AC$200,27,FALSE)),1,\"\"))","v":""},{"$f":"IF($D59>6,\"\",IF(H$5<=(VLOOKUP($A59,masterlist!$C$2:$AC$200,27,FALSE)),1,\"\"))","v":""},{"$f":"IF($D59>6,\"\",IF(I$5<=(VLOOKUP($A59,masterlist!$C$2:$AC$200,27,FALSE)),1,\"\"))","v":""},{"$f":"IF($D59>6,\"\",IF(J$5<=(VLOOKUP($A59,masterlist!$C$2:$AC$200,27,FALSE)),1,\"\"))","v":""},{"$f":"IF($D59>6,\"\",IF(K$5<=(VLOOKUP($A59,masterlist!$C$2:$AC$200,27,FALSE)),1,\"\"))","v":""},{"$f":"IF($D59>6,\"\",IF(L$5<=(VLOOKUP($A59,masterlist!$C$2:$AC$200,27,FALSE)),1,\"\"))","v":""},{"$f":"IF($D59>6,\"\",IF(M$5<=(VLOOKUP($A59,masterlist!$C$2:$AC$200,27,FALSE)),1,\"\"))","v":""},{"$f":"IF($D59>6,\"\",IF(N$5<=(VLOOKUP($A59,masterlist!$C$2:$AC$200,27,FALSE)),1,\"\"))","v":""},{"$f":"IF($D59>6,\"\",IF(O$5<=(VLOOKUP($A59,masterlist!$C$2:$AC$200,27,FALSE)),1,\"\"))","v":""},{"$f":"IF($D59>6,\"\",IF(P$5<=(VLOOKUP($A59,masterlist!$C$2:$AC$200,27,FALSE)),1,\"\"))","v":""},{"$f":"IF($D59>6,\"\",IF(Q$5<=(VLOOKUP($A59,masterlist!$C$2:$AC$200,27,FALSE)),1,\"\"))","v":""},{"$f":"IF($D59>6,\"\",IF(R$5<=(VLOOKUP($A59,masterlist!$C$2:$AC$200,27,FALSE)),1,\"\"))","v":""},null,null,null,null,0,0,0,0,0,0,0,0,0,0,0,0,0]
[{"$f":"IFERROR(priorit!A59,\"\")","v":""},"",{"$f":"IFERROR(VLOOKUP($A60,masterlist!$C$2:$AA$200,2,FALSE),\"\")","v":""},{"$f":"IFERROR(VLOOKUP($A60,masterlist!$C$2:$AA$200,3,FALSE),\"\")","v":""},{"$f":"IFERROR(VLOOKUP($A60,masterlist!$C$2:$AA$200,5,FALSE),\"\")","v":""},{"$f":"IF($D60>6,\"\",IF(F$5<=(VLOOKUP($A60,masterlist!$C$2:$AC$200,27,FALSE)),1,\"\"))","v":""},{"$f":"IF($D60>6,\"\",IF(G$5<=(VLOOKUP($A60,masterlist!$C$2:$AC$200,27,FALSE)),1,\"\"))","v":""},{"$f":"IF($D60>6,\"\",IF(H$5<=(VLOOKUP($A60,masterlist!$C$2:$AC$200,27,FALSE)),1,\"\"))","v":""},{"$f":"IF($D60>6,\"\",IF(I$5<=(VLOOKUP($A60,masterlist!$C$2:$AC$200,27,FALSE)),1,\"\"))","v":""},{"$f":"IF($D60>6,\"\",IF(J$5<=(VLOOKUP($A60,masterlist!$C$2:$AC$200,27,FALSE)),1,\"\"))","v":""},{"$f":"IF($D60>6,\"\",IF(K$5<=(VLOOKUP($A60,masterlist!$C$2:$AC$200,27,FALSE)),1,\"\"))","v":""},{"$f":"IF($D60>6,\"\",IF(L$5<=(VLOOKUP($A60,masterlist!$C$2:$AC$200,27,FALSE)),1,\"\"))","v":""},{"$f":"IF($D60>6,\"\",IF(M$5<=(VLOOKUP($A60,masterlist!$C$2:$AC$200,27,FALSE)),1,\"\"))","v":""},{"$f":"IF($D60>6,\"\",IF(N$5<=(VLOOKUP($A60,masterlist!$C$2:$AC$200,27,FALSE)),1,\"\"))","v":""},{"$f":"IF($D60>6,\"\",IF(O$5<=(VLOOKUP($A60,masterlist!$C$2:$AC$200,27,FALSE)),1,\"\"))","v":""},{"$f":"IF($D60>6,\"\",IF(P$5<=(VLOOKUP($A60,masterlist!$C$2:$AC$200,27,FALSE)),1,\"\"))","v":""},{"$f":"IF($D60>6,\"\",IF(Q$5<=(VLOOKUP($A60,masterlist!$C$2:$AC$200,27,FALSE)),1,\"\"))","v":""},{"$f":"IF($D60>6,\"\",IF(R$5<=(VLOOKUP($A60,masterlist!$C$2:$AC$200,27,FALSE)),1,\"\"))","v":""},null,null,null,null,0,0,0,0,0,0,0,0,0,0,0,0,0]
[{"$f":"IFERROR(priorit!A60,\"\")","v":""},"",{"$f":"IFERROR(VLOOKUP($A61,masterlist!$C$2:$AA$200,2,FALSE),\"\")","v":""},{"$f":"IFERROR(VLOOKUP($A61,masterlist!$C$2:$AA$200,3,FALSE),\"\")","v":""},{"$f":"IFERROR(VLOOKUP($A61,masterlist!$C$2:$AA$200,5,FALSE),\"\")","v":""},{"$f":"IF($D61>6,\"\",IF(F$5<=(VLOOKUP($A61,masterlist!$C$2:$AC$200,27,FALSE)),1,\"\"))","v":""},{"$f":"IF($D61>6,\"\",IF(G$5<=(VLOOKUP($A61,masterlist!$C$2:$AC$200,27,FALSE)),1,\"\"))","v":""},{"$f":"IF($D61>6,\"\",IF(H$5<=(VLOOKUP($A61,masterlist!$C$2:$AC$200,27,FALSE)),1,\"\"))","v":""},{"$f":"IF($D61>6,\"\",IF(I$5<=(VLOOKUP($A61,masterlist!$C$2:$AC$200,27,FALSE)),1,\"\"))","v":""},{"$f":"IF($D61>6,\"\",IF(J$5<=(VLOOKUP($A61,masterlist!$C$2:$AC$200,27,FALSE)),1,\"\"))","v":""},{"$f":"IF($D61>6,\"\",IF(K$5<=(VLOOKUP($A61,masterlist!$C$2:$AC$200,27,FALSE)),1,\"\"))","v":""},{"$f":"IF($D61>6,\"\",IF(L$5<=(VLOOKUP($A61,masterlist!$C$2:$AC$200,27,FALSE)),1,\"\"))","v":""},{"$f":"IF($D61>6,\"\",IF(M$5<=(VLOOKUP($A61,masterlist!$C$2:$AC$200,27,FALSE)),1,\"\"))","v":""},{"$f":"IF($D61>6,\"\",IF(N$5<=(VLOOKUP($A61,masterlist!$C$2:$AC$200,27,FALSE)),1,\"\"))","v":""},{"$f":"IF($D61>6,\"\",IF(O$5<=(VLOOKUP($A61,masterlist!$C$2:$AC$200,27,FALSE)),1,\"\"))","v":""},{"$f":"IF($D61>6,\"\",IF(P$5<=(VLOOKUP($A61,masterlist!$C$2:$AC$200,27,FALSE)),1,\"\"))","v":""},{"$f":"IF($D61>6,\"\",IF(Q$5<=(VLOOKUP($A61,masterlist!$C$2:$AC$200,27,FALSE)),1,\"\"))","v":""},{"$f":"IF($D61>6,\"\",IF(R$5<=(VLOOKUP($A61,masterlist!$C$2:$AC$200,27,FALSE)),1,\"\"))","v":""},null,null,null,null,0,0,0,0,0,0,0,0,0,0,0,0,0]
[{"$f":"IFERROR(priorit!A61,\"\")","v":""},"",{"$f":"IFERROR(VLOOKUP($A62,masterlist!$C$2:$AA$200,2,FALSE),\"\")","v":""},{"$f":"IFERROR(VLOOKUP($A62,masterlist!$C$2:$AA$200,3,FALSE),\"\")","v":""},{"$f":"IFERROR(VLOOKUP($A62,masterlist!$C$2:$AA$200,5,FALSE),\"\")","v":""},{"$f":"IF($D62>6,\"\",IF(F$5<=(VLOOKUP($A62,masterlist!$C$2:$AC$200,27,FALSE)),1,\"\"))","v":""},{"$f":"IF($D62>6,\"\",IF(G$5<=(VLOOKUP($A62,masterlist!$C$2:$AC$200,27,FALSE)),1,\"\"))","v":""},{"$f":"IF($D62>6,\"\",IF(H$5<=(VLOOKUP($A62,masterlist!$C$2:$AC$200,27,FALSE)),1,\"\"))","v":""},{"$f":"IF($D62>6,\"\",IF(I$5<=(VLOOKUP($A62,masterlist!$C$2:$AC$200,27,FALSE)),1,\"\"))","v":""},{"$f":"IF($D62>6,\"\",IF(J$5<=(VLOOKUP($A62,masterlist!$C$2:$AC$200,27,FALSE)),1,\"\"))","v":""},{"$f":"IF($D62>6,\"\",IF(K$5<=(VLOOKUP($A62,masterlist!$C$2:$AC$200,27,FALSE)),1,\"\"))","v":""},{"$f":"IF($D62>6,\"\",IF(L$5<=(VLOOKUP($A62,masterlist!$C$2:$AC$200,27,FALSE)),1,\"\"))","v":""},{"$f":"IF($D62>6,\"\",IF(M$5<=(VLOOKUP($A62,masterlist!$C$2:$AC$200,27,FALSE)),1,\"\"))","v":""},{"$f":"IF($D62>6,\"\",IF(N$5<=(VLOOKUP($A62,masterlist!$C$2:$AC$200,27,FALSE)),1,\"\"))","v":""},{"$f":"IF($D62>6,\"\",IF(O$5<=(VLOOKUP($A62,masterlist!$C$2:$AC$200,27,FALSE)),1,\"\"))","v":""},{"$f":"IF($D62>6,\"\",IF(P$5<=(VLOOKUP($A62,masterlist!$C$2:$AC$200,27,FALSE)),1,\"\"))","v":""},{"$f":"IF($D62>6,\"\",IF(Q$5<=(VLOOKUP($A62,masterlist!$C$2:$AC$200,27,FALSE)),1,\"\"))","v":""},{"$f":"IF($D62>6,\"\",IF(R$5<=(VLOOKUP($A62,masterlist!$C$2:$AC$200,27,FALSE)),1,\"\"))","v":""},null,null,null,null,0,0,0,0,0,0,0,0,0,0,0,0,0]
[{"$f":"IFERROR(priorit!A62,\"\")","v":""},"",{"$f":"IFERROR(VLOOKUP($A63,masterlist!$C$2:$AA$200,2,FALSE),\"\")","v":""},{"$f":"IFERROR(VLOOKUP($A63,masterlist!$C$2:$AA$200,3,FALSE),\"\")","v":""},{"$f":"IFERROR(VLOOKUP($A63,masterlist!$C$2:$AA$200,5,FALSE),\"\")","v":""},{"$f":"IF($D63>6,\"\",IF(F$5<=(VLOOKUP($A63,masterlist!$C$2:$AC$200,27,FALSE)),1,\"\"))","v":""},{"$f":"IF($D63>6,\"\",IF(G$5<=(VLOOKUP($A63,masterlist!$C$2:$AC$200,27,FALSE)),1,\"\"))","v":""},{"$f":"IF($D63>6,\"\",IF(H$5<=(VLOOKUP($A63,masterlist!$C$2:$AC$200,27,FALSE)),1,\"\"))","v":""},{"$f":"IF($D63>6,\"\",IF(I$5<=(VLOOKUP($A63,masterlist!$C$2:$AC$200,27,FALSE)),1,\"\"))","v":""},{"$f":"IF($D63>6,\"\",IF(J$5<=(VLOOKUP($A63,masterlist!$C$2:$AC$200,27,FALSE)),1,\"\"))","v":""},{"$f":"IF($D63>6,\"\",IF(K$5<=(VLOOKUP($A63,masterlist!$C$2:$AC$200,27,FALSE)),1,\"\"))","v":""},{"$f":"IF($D63>6,\"\",IF(L$5<=(VLOOKUP($A63,masterlist!$C$2:$AC$200,27,FALSE)),1,\"\"))","v":""},{"$f":"IF($D63>6,\"\",IF(M$5<=(VLOOKUP($A63,masterlist!$C$2:$AC$200,27,FALSE)),1,\"\"))","v":""},{"$f":"IF($D63>6,\"\",IF(N$5<=(VLOOKUP($A63,masterlist!$C$2:$AC$200,27,FALSE)),1,\"\"))","v":""},{"$f":"IF($D63>6,\"\",IF(O$5<=(VLOOKUP($A63,masterlist!$C$2:$AC$200,27,FALSE)),1,\"\"))","v":""},{"$f":"IF($D63>6,\"\",IF(P$5<=(VLOOKUP($A63,masterlist!$C$2:$AC$200,27,FALSE)),1,\"\"))","v":""},{"$f":"IF($D63>6,\"\",IF(Q$5<=(VLOOKUP($A63,masterlist!$C$2:$AC$200,27,FALSE)),1,\"\"))","v":""},{"$f":"IF($D63>6,\"\",IF(R$5<=(VLOOKUP($A63,masterlist!$C$2:$AC$200,27,FALSE)),1,\"\"))","v":""},null,null,null,null,0,0,0,0,0,0,0,0,0,0,0,0,0]
[{"$f":"IFERROR(priorit!A63,\"\")","v":""},"",{"$f":"IFERROR(VLOOKUP($A64,masterlist!$C$2:$AA$200,2,FALSE),\"\")","v":""},{"$f":"IFERROR(VLOOKUP($A64,masterlist!$C$2:$AA$200,3,FALSE),\"\")","v":""},{"$f":"IFERROR(VLOOKUP($A64,masterlist!$C$2:$AA$200,5,FALSE),\"\")","v":""},{"$f":"IF($D64>6,\"\",IF(F$5<=(VLOOKUP($A64,masterlist!$C$2:$AC$200,27,FALSE)),1,\"\"))","v":""},{"$f":"IF($D64>6,\"\",IF(G$5<=(VLOOKUP($A64,masterlist!$C$2:$AC$200,27,FALSE)),1,\"\"))","v":""},{"$f":"IF($D64>6,\"\",IF(H$5<=(VLOOKUP($A64,masterlist!$C$2:$AC$200,27,FALSE)),1,\"\"))","v":""},{"$f":"IF($D64>6,\"\",IF(I$5<=(VLOOKUP($A64,masterlist!$C$2:$AC$200,27,FALSE)),1,\"\"))","v":""},{"$f":"IF($D64>6,\"\",IF(J$5<=(VLOOKUP($A64,masterlist!$C$2:$AC$200,27,FALSE)),1,\"\"))","v":""},{"$f":"IF($D64>6,\"\",IF(K$5<=(VLOOKUP($A64,masterlist!$C$2:$AC$200,27,FALSE)),1,\"\"))","v":""},{"$f":"IF($D64>6,\"\",IF(L$5<=(VLOOKUP($A64,masterlist!$C$2:$AC$200,27,FALSE)),1,\"\"))","v":""},{"$f":"IF($D64>6,\"\",IF(M$5<=(VLOOKUP($A64,masterlist!$C$2:$AC$200,27,FALSE)),1,\"\"))","v":""},{"$f":"IF($D64>6,\"\",IF(N$5<=(VLOOKUP($A64,masterlist!$C$2:$AC$200,27,FALSE)),1,\"\"))","v":""},{"$f":"IF($D64>6,\"\",IF(O$5<=(VLOOKUP($A64,masterlist!$C$2:$AC$200,27,FALSE)),1,\"\"))","v":""},{"$f":"IF($D64>6,\"\",IF(P$5<=(VLOOKUP($A64,masterlist!$C$2:$AC$200,27,FALSE)),1,\"\"))","v":""},{"$f":"IF($D64>6,\"\",IF(Q$5<=(VLOOKUP($A64,masterlist!$C$2:$AC$200,27,FALSE)),1,\"\"))","v":""},{"$f":"IF($D64>6,\"\",IF(R$5<=(VLOOKUP($A64,masterlist!$C$2:$AC$200,27,FALSE)),1,\"\"))","v":""},null,null,null,null,0,0,0,0,0,0,0,0,0,0,0,0,0]
[{"$f":"IFERROR(priorit!A64,\"\")","v":""},"",{"$f":"IFERROR(VLOOKUP($A65,masterlist!$C$2:$AA$200,2,FALSE),\"\")","v":""},{"$f":"IFERROR(VLOOKUP($A65,masterlist!$C$2:$AA$200,3,FALSE),\"\")","v":""},{"$f":"IFERROR(VLOOKUP($A65,masterlist!$C$2:$AA$200,5,FALSE),\"\")","v":""},{"$f":"IF($D65>6,\"\",IF(F$5<=(VLOOKUP($A65,masterlist!$C$2:$AC$200,27,FALSE)),1,\"\"))","v":""},{"$f":"IF($D65>6,\"\",IF(G$5<=(VLOOKUP($A65,masterlist!$C$2:$AC$200,27,FALSE)),1,\"\"))","v":""},{"$f":"IF($D65>6,\"\",IF(H$5<=(VLOOKUP($A65,masterlist!$C$2:$AC$200,27,FALSE)),1,\"\"))","v":""},{"$f":"IF($D65>6,\"\",IF(I$5<=(VLOOKUP($A65,masterlist!$C$2:$AC$200,27,FALSE)),1,\"\"))","v":""},{"$f":"IF($D65>6,\"\",IF(J$5<=(VLOOKUP($A65,masterlist!$C$2:$AC$200,27,FALSE)),1,\"\"))","v":""},{"$f":"IF($D65>6,\"\",IF(K$5<=(VLOOKUP($A65,masterlist!$C$2:$AC$200,27,FALSE)),1,\"\"))","v":""},{"$f":"IF($D65>6,\"\",IF(L$5<=(VLOOKUP($A65,masterlist!$C$2:$AC$200,27,FALSE)),1,\"\"))","v":""},{"$f":"IF($D65>6,\"\",IF(M$5<=(VLOOKUP($A65,masterlist!$C$2:$AC$200,27,FALSE)),1,\"\"))","v":""},{"$f":"IF($D65>6,\"\",IF(N$5<=(VLOOKUP($A65,masterlist!$C$2:$AC$200,27,FALSE)),1,\"\"))","v":""},{"$f":"IF($D65>6,\"\",IF(O$5<=(VLOOKUP($A65,masterlist!$C$2:$AC$200,27,FALSE)),1,\"\"))","v":""},{"$f":"IF($D65>6,\"\",IF(P$5<=(VLOOKUP($A65,masterlist!$C$2:$AC$200,27,FALSE)),1,\"\"))","v":""},{"$f":"IF($D65>6,\"\",IF(Q$5<=(VLOOKUP($A65,masterlist!$C$2:$AC$200,27,FALSE)),1,\"\"))","v":""},{"$f":"IF($D65>6,\"\",IF(R$5<=(VLOOKUP($A65,masterlist!$C$2:$AC$200,27,FALSE)),1,\"\"))","v":""},null,null,null,null,0,0,0,0,0,0,0,0,0,0,0,0,0]
[{"$f":"IFERROR(priorit!A65,\"\")","v":""},"",{"$f":"IFERROR(VLOOKUP($A66,masterlist!$C$2:$AA$200,2,FALSE),\"\")","v":""},{"$f":"IFERROR(VLOOKUP($A66,masterlist!$C$2:$AA$200,3,FALSE),\"\")","v":""},{"$f":"IFERROR(VLOOKUP($A66,masterlist!$C$2:$AA$200,5,FALSE),\"\")","v":""},{"$f":"IF($D66>6,\"\",IF(F$5<=(VLOOKUP($A66,masterlist!$C$2:$AC$200,27,FALSE)),1,\"\"))","v":""},{"$f":"IF($D66>6,\"\",IF(G$5<=(VLOOKUP($A66,masterlist!$C$2:$AC$200,27,FALSE)),1,\"\"))","v":""},{"$f":"IF($D66>6,\"\",IF(H$5<=(VLOOKUP($A66,masterlist!$C$2:$AC$200,27,FALSE)),1,\"\"))","v":""},{"$f":"IF($D66>6,\"\",IF(I$5<=(VLOOKUP($A66,masterlist!$C$2:$AC$200,27,FALSE)),1,\"\"))","v":""},{"$f":"IF($D66>6,\"\",IF(J$5<=(VLOOKUP($A66,masterlist!$C$2:$AC$200,27,FALSE)),1,\"\"))","v":""},{"$f":"IF($D66>6,\"\",IF(K$5<=(VLOOKUP($A66,masterlist!$C$2:$AC$200,27,FALSE)),1,\"\"))","v":""},{"$f":"IF($D66>6,\"\",IF(L$5<=(VLOOKUP($A66,masterlist!$C$2:$AC$200,27,FALSE)),1,\"\"))","v":""},{"$f":"IF($D66>6,\"\",IF(M$5<=(VLOOKUP($A66,masterlist!$C$2:$AC$200,27,FALSE)),1,\"\"))","v":""},{"$f":"IF($D66>6,\"\",IF(N$5<=(VLOOKUP($A66,masterlist!$C$2:$AC$200,27,FALSE)),1,\"\"))","v":""},{"$f":"IF($D66>6,\"\",IF(O$5<=(VLOOKUP($A66,masterlist!$C$2:$AC$200,27,FALSE)),1,\"\"))","v":""},{"$f":"IF($D66>6,\"\",IF(P$5<=(VLOOKUP($A66,masterlist!$C$2:$AC$200,27,FALSE)),1,\"\"))","v":""},{"$f":"IF($D66>6,\"\",IF(Q$5<=(VLOOKUP($A66,masterlist!$C$2:$AC$200,27,FALSE)),1,\"\"))","v":""},{"$f":"IF($D66>6,\"\",IF(R$5<=(VLOOKUP($A66,masterlist!$C$2:$AC$200,27,FALSE)),1,\"\"))","v":""},null,null,null,null,0,0,0,0,0,0,0,0,0,0,0,0,0]
[{"$f":"IFERROR(priorit!A66,\"\")","v":""},"",{"$f":"IFERROR(VLOOKUP($A67,masterlist!$C$2:$AA$200,2,FALSE),\"\")","v":""},{"$f":"IFERROR(VLOOKUP($A67,masterlist!$C$2:$AA$200,3,FALSE),\"\")","v":""},{"$f":"IFERROR(VLOOKUP($A67,masterlist!$C$2:$AA$200,5,FALSE),\"\")","v":""},{"$f":"IF($D67>6,\"\",IF(F$5<=(VLOOKUP($A67,masterlist!$C$2:$AC$200,27,FALSE)),1,\"\"))","v":""},{"$f":"IF($D67>6,\"\",IF(G$5<=(VLOOKUP($A67,masterlist!$C$2:$AC$200,27,FALSE)),1,\"\"))","v":""},{"$f":"IF($D67>6,\"\",IF(H$5<=(VLOOKUP($A67,masterlist!$C$2:$AC$200,27,FALSE)),1,\"\"))","v":""},{"$f":"IF($D67>6,\"\",IF(I$5<=(VLOOKUP($A67,masterlist!$C$2:$AC$200,27,FALSE)),1,\"\"))","v":""},{"$f":"IF($D67>6,\"\",IF(J$5<=(VLOOKUP($A67,masterlist!$C$2:$AC$200,27,FALSE)),1,\"\"))","v":""},{"$f":"IF($D67>6,\"\",IF(K$5<=(VLOOKUP($A67,masterlist!$C$2:$AC$200,27,FALSE)),1,\"\"))","v":""},{"$f":"IF($D67>6,\"\",IF(L$5<=(VLOOKUP($A67,masterlist!$C$2:$AC$200,27,FALSE)),1,\"\"))","v":""},{"$f":"IF($D67>6,\"\",IF(M$5<=(VLOOKUP($A67,masterlist!$C$2:$AC$200,27,FALSE)),1,\"\"))","v":""},{"$f":"IF($D67>6,\"\",IF(N$5<=(VLOOKUP($A67,masterlist!$C$2:$AC$200,27,FALSE)),1,\"\"))","v":""},{"$f":"IF($D67>6,\"\",IF(O$5<=(VLOOKUP($A67,masterlist!$C$2:$AC$200,27,FALSE)),1,\"\"))","v":""},{"$f":"IF($D67>6,\"\",IF(P$5<=(VLOOKUP($A67,masterlist!$C$2:$AC$200,27,FALSE)),1,\"\"))","v":""},{"$f":"IF($D67>6,\"\",IF(Q$5<=(VLOOKUP($A67,masterlist!$C$2:$AC$200,27,FALSE)),1,\"\"))","v":""},{"$f":"IF($D67>6,\"\",IF(R$5<=(VLOOKUP($A67,masterlist!$C$2:$AC$200,27,FALSE)),1,\"\"))","v":""},null,null,null,null,0,0,0,0,0,0,0,0,0,0,0,0,0]
[{"$f":"IFERROR(priorit!A67,\"\")","v":""},"",{"$f":"IFERROR(VLOOKUP($A68,masterlist!$C$2:$AA$200,2,FALSE),\"\")","v":""},{"$f":"IFERROR(VLOOKUP($A68,masterlist!$C$2:$AA$200,3,FALSE),\"\")","v":""},{"$f":"IFERROR(VLOOKUP($A68,masterlist!$C$2:$AA$200,5,FALSE),\"\")","v":""},{"$f":"IF($D68>6,\"\",IF(F$5<=(VLOOKUP($A68,masterlist!$C$2:$AC$200,27,FALSE)),1,\"\"))","v":""},{"$f":"IF($D68>6,\"\",IF(G$5<=(VLOOKUP($A68,masterlist!$C$2:$AC$200,27,FALSE)),1,\"\"))","v":""},{"$f":"IF($D68>6,\"\",IF(H$5<=(VLOOKUP($A68,masterlist!$C$2:$AC$200,27,FALSE)),1,\"\"))","v":""},{"$f":"IF($D68>6,\"\",IF(I$5<=(VLOOKUP($A68,masterlist!$C$2:$AC$200,27,FALSE)),1,\"\"))","v":""},{"$f":"IF($D68>6,\"\",IF(J$5<=(VLOOKUP($A68,masterlist!$C$2:$AC$200,27,FALSE)),1,\"\"))","v":""},{"$f":"IF($D68>6,\"\",IF(K$5<=(VLOOKUP($A68,masterlist!$C$2:$AC$200,27,FALSE)),1,\"\"))","v":""},{"$f":"IF($D68>6,\"\",IF(L$5<=(VLOOKUP($A68,masterlist!$C$2:$AC$200,27,FALSE)),1,\"\"))","v":""},{"$f":"IF($D68>6,\"\",IF(M$5<=(VLOOKUP($A68,masterlist!$C$2:$AC$200,27,FALSE)),1,\"\"))","v":""},{"$f":"IF($D68>6,\"\",IF(N$5<=(VLOOKUP($A68,masterlist!$C$2:$AC$200,27,FALSE)),1,\"\"))","v":""},{"$f":"IF($D68>6,\"\",IF(O$5<=(VLOOKUP($A68,masterlist!$C$2:$AC$200,27,FALSE)),1,\"\"))","v":""},{"$f":"IF($D68>6,\"\",IF(P$5<=(VLOOKUP($A68,masterlist!$C$2:$AC$200,27,FALSE)),1,\"\"))","v":""},{"$f":"IF($D68>6,\"\",IF(Q$5<=(VLOOKUP($A68,masterlist!$C$2:$AC$200,27,FALSE)),1,\"\"))","v":""},{"$f":"IF($D68>6,\"\",IF(R$5<=(VLOOKUP($A68,masterlist!$C$2:$AC$200,27,FALSE)),1,\"\"))","v":""},null,null,null,null,0,0,0,0,0,0,0,0,0,0,0,0,0]
[{"$f":"IFERROR(priorit!A68,\"\")","v":""},"",{"$f":"IFERROR(VLOOKUP($A69,masterlist!$C$2:$AA$200,2,FALSE),\"\")","v":""},{"$f":"IFERROR(VLOOKUP($A69,masterlist!$C$2:$AA$200,3,FALSE),\"\")","v":""},{"$f":"IFERROR(VLOOKUP($A69,masterlist!$C$2:$AA$200,5,FALSE),\"\")","v":""},{"$f":"IF($D69>6,\"\",IF(F$5<=(VLOOKUP($A69,masterlist!$C$2:$AC$200,27,FALSE)),1,\"\"))","v":""},{"$f":"IF($D69>6,\"\",IF(G$5<=(VLOOKUP($A69,masterlist!$C$2:$AC$200,27,FALSE)),1,\"\"))","v":""},{"$f":"IF($D69>6,\"\",IF(H$5<=(VLOOKUP($A69,masterlist!$C$2:$AC$200,27,FALSE)),1,\"\"))","v":""},{"$f":"IF($D69>6,\"\",IF(I$5<=(VLOOKUP($A69,masterlist!$C$2:$AC$200,27,FALSE)),1,\"\"))","v":""},{"$f":"IF($D69>6,\"\",IF(J$5<=(VLOOKUP($A69,masterlist!$C$2:$AC$200,27,FALSE)),1,\"\"))","v":""},{"$f":"IF($D69>6,\"\",IF(K$5<=(VLOOKUP($A69,masterlist!$C$2:$AC$200,27,FALSE)),1,\"\"))","v":""},{"$f":"IF($D69>6,\"\",IF(L$5<=(VLOOKUP($A69,masterlist!$C$2:$AC$200,27,FALSE)),1,\"\"))","v":""},{"$f":"IF($D69>6,\"\",IF(M$5<=(VLOOKUP($A69,masterlist!$C$2:$AC$200,27,FALSE)),1,\"\"))","v":""},{"$f":"IF($D69>6,\"\",IF(N$5<=(VLOOKUP($A69,masterlist!$C$2:$AC$200,27,FALSE)),1,\"\"))","v":""},{"$f":"IF($D69>6,\"\",IF(O$5<=(VLOOKUP($A69,masterlist!$C$2:$AC$200,27,FALSE)),1,\"\"))","v":""},{"$f":"IF($D69>6,\"\",IF(P$5<=(VLOOKUP($A69,masterlist!$C$2:$AC$200,27,FALSE)),1,\"\"))","v":""},{"$f":"IF($D69>6,\"\",IF(Q$5<=(VLOOKUP($A69,masterlist!$C$2:$AC$200,27,FALSE)),1,\"\"))","v":""},{"$f":"IF($D69>6,\"\",IF(R$5<=(VLOOKUP($A69,masterlist!$C$2:$AC$200,27,FALSE)),1,\"\"))","v":""},null,null,null,null,0,0,0,0,0,0,0,0,0,0,0,0,0]
[{"$f":"IFERROR(priorit!A69,\"\")","v":""},"",{"$f":"IFERROR(VLOOKUP($A70,masterlist!$C$2:$AA$200,2,FALSE),\"\")","v":""},{"$f":"IFERROR(VLOOKUP($A70,masterlist!$C$2:$AA$200,3,FALSE),\"\")","v":""},{"$f":"IFERROR(VLOOKUP($A70,masterlist!$C$2:$AA$200,5,FALSE),\"\")","v":""},{"$f":"IF($D70>6,\"\",IF(F$5<=(VLOOKUP($A70,masterlist!$C$2:$AC$200,27,FALSE)),1,\"\"))","v":""},{"$f":"IF($D70>6,\"\",IF(G$5<=(VLOOKUP($A70,masterlist!$C$2:$AC$200,27,FALSE)),1,\"\"))","v":""},{"$f":"IF($D70>6,\"\",IF(H$5<=(VLOOKUP($A70,masterlist!$C$2:$AC$200,27,FALSE)),1,\"\"))","v":""},{"$f":"IF($D70>6,\"\",IF(I$5<=(VLOOKUP($A70,masterlist!$C$2:$AC$200,27,FALSE)),1,\"\"))","v":""},{"$f":"IF($D70>6,\"\",IF(J$5<=(VLOOKUP($A70,masterlist!$C$2:$AC$200,27,FALSE)),1,\"\"))","v":""},{"$f":"IF($D70>6,\"\",IF(K$5<=(VLOOKUP($A70,masterlist!$C$2:$AC$200,27,FALSE)),1,\"\"))","v":""},{"$f":"IF($D70>6,\"\",IF(L$5<=(VLOOKUP($A70,masterlist!$C$2:$AC$200,27,FALSE)),1,\"\"))","v":""},{"$f":"IF($D70>6,\"\",IF(M$5<=(VLOOKUP($A70,masterlist!$C$2:$AC$200,27,FALSE)),1,\"\"))","v":""},{"$f":"IF($D70>6,\"\",IF(N$5<=(VLOOKUP($A70,masterlist!$C$2:$AC$200,27,FALSE)),1,\"\"))","v":""},{"$f":"IF($D70>6,\"\",IF(O$5<=(VLOOKUP($A70,masterlist!$C$2:$AC$200,27,FALSE)),1,\"\"))","v":""},{"$f":"IF($D70>6,\"\",IF(P$5<=(VLOOKUP($A70,masterlist!$C$2:$AC$200,27,FALSE)),1,\"\"))","v":""},{"$f":"IF($D70>6,\"\",IF(Q$5<=(VLOOKUP($A70,masterlist!$C$2:$AC$200,27,FALSE)),1,\"\"))","v":""},{"$f":"IF($D70>6,\"\",IF(R$5<=(VLOOKUP($A70,masterlist!$C$2:$AC$200,27,FALSE)),1,\"\"))","v":""},null,null,null,null,0,0,0,0,0,0,0,0,0,0,0,0,0]
[{"$f":"IFERROR(priorit!A70,\"\")","v":""},"",{"$f":"IFERROR(VLOOKUP($A71,masterlist!$C$2:$AA$200,2,FALSE),\"\")","v":""},{"$f":"IFERROR(VLOOKUP($A71,masterlist!$C$2:$AA$200,3,FALSE),\"\")","v":""},{"$f":"IFERROR(VLOOKUP($A71,masterlist!$C$2:$AA$200,5,FALSE),\"\")","v":""},{"$f":"IF($D71>6,\"\",IF(F$5<=(VLOOKUP($A71,masterlist!$C$2:$AC$200,27,FALSE)),1,\"\"))","v":""},{"$f":"IF($D71>6,\"\",IF(G$5<=(VLOOKUP($A71,masterlist!$C$2:$AC$200,27,FALSE)),1,\"\"))","v":""},{"$f":"IF($D71>6,\"\",IF(H$5<=(VLOOKUP($A71,masterlist!$C$2:$AC$200,27,FALSE)),1,\"\"))","v":""},{"$f":"IF($D71>6,\"\",IF(I$5<=(VLOOKUP($A71,masterlist!$C$2:$AC$200,27,FALSE)),1,\"\"))","v":""},{"$f":"IF($D71>6,\"\",IF(J$5<=(VLOOKUP($A71,masterlist!$C$2:$AC$200,27,FALSE)),1,\"\"))","v":""},{"$f":"IF($D71>6,\"\",IF(K$5<=(VLOOKUP($A71,masterlist!$C$2:$AC$200,27,FALSE)),1,\"\"))","v":""},{"$f":"IF($D71>6,\"\",IF(L$5<=(VLOOKUP($A71,masterlist!$C$2:$AC$200,27,FALSE)),1,\"\"))","v":""},{"$f":"IF($D71>6,\"\",IF(M$5<=(VLOOKUP($A71,masterlist!$C$2:$AC$200,27,FALSE)),1,\"\"))","v":""},{"$f":"IF($D71>6,\"\",IF(N$5<=(VLOOKUP($A71,masterlist!$C$2:$AC$200,27,FALSE)),1,\"\"))","v":""},{"$f":"IF($D71>6,\"\",IF(O$5<=(VLOOKUP($A71,masterlist!$C$2:$AC$200,27,FALSE)),1,\"\"))","v":""},{"$f":"IF($D71>6,\"\",IF(P$5<=(VLOOKUP($A71,masterlist!$C$2:$AC$200,27,FALSE)),1,\"\"))","v":""},{"$f":"IF($D71>6,\"\",IF(Q$5<=(VLOOKUP($A71,masterlist!$C$2:$AC$200,27,FALSE)),1,\"\"))","v":""},{"$f":"IF($D71>6,\"\",IF(R$5<=(VLOOKUP($A71,masterlist!$C$2:$AC$200,27,FALSE)),1,\"\"))","v":""},null,null,null,null,0,0,0,0,0,0,0,0,0,0,0,0,0]
[{"$f":"IFERROR(priorit!A71,\"\")","v":""},{"$f":"IFERROR(LEFT(A72,3),\"\")","v":""},{"$f":"IFERROR(VLOOKUP($A72,masterlist!$C$2:$AA$200,2,FALSE),\"\")","v":""},{"$f":"IFERROR(VLOOKUP($A72,masterlist!$C$2:$AA$200,3,FALSE),\"\")","v":""},{"$f":"IFERROR(VLOOKUP($A72,masterlist!$C$2:$AA$200,5,FALSE),\"\")","v":""},{"$f":"IF($D72>6,\"\",IF(F$5<=(VLOOKUP($A72,masterlist!$C$2:$AC$200,27,FALSE)),1,\"\"))","v":""},{"$f":"IF($D72>6,\"\",IF(G$5<=(VLOOKUP($A72,masterlist!$C$2:$AC$200,27,FALSE)),1,\"\"))","v":""},{"$f":"IF($D72>6,\"\",IF(H$5<=(VLOOKUP($A72,masterlist!$C$2:$AC$200,27,FALSE)),1,\"\"))","v":""},{"$f":"IF($D72>6,\"\",IF(I$5<=(VLOOKUP($A72,masterlist!$C$2:$AC$200,27,FALSE)),1,\"\"))","v":""},{"$f":"IF($D72>6,\"\",IF(J$5<=(VLOOKUP($A72,masterlist!$C$2:$AC$200,27,FALSE)),1,\"\"))","v":""},{"$f":"IF($D72>6,\"\",IF(K$5<=(VLOOKUP($A72,masterlist!$C$2:$AC$200,27,FALSE)),1,\"\"))","v":""},{"$f":"IF($D72>6,\"\",IF(L$5<=(VLOOKUP($A72,masterlist!$C$2:$AC$200,27,FALSE)),1,\"\"))","v":""},{"$f":"IF($D72>6,\"\",IF(M$5<=(VLOOKUP($A72,masterlist!$C$2:$AC$200,27,FALSE)),1,\"\"))","v":""},{"$f":"IF($D72>6,\"\",IF(N$5<=(VLOOKUP($A72,masterlist!$C$2:$AC$200,27,FALSE)),1,\"\"))","v":""},{"$f":"IF($D72>6,\"\",IF(O$5<=(VLOOKUP($A72,masterlist!$C$2:$AC$200,27,FALSE)),1,\"\"))","v":""},{"$f":"IF($D72>6,\"\",IF(P$5<=(VLOOKUP($A72,masterlist!$C$2:$AC$200,27,FALSE)),1,\"\"))","v":""},{"$f":"IF($D72>6,\"\",IF(Q$5<=(VLOOKUP($A72,masterlist!$C$2:$AC$200,27,FALSE)),1,\"\"))","v":""},{"$f":"IF($D72>6,\"\",IF(R$5<=(VLOOKUP($A72,masterlist!$C$2:$AC$200,27,FALSE)),1,\"\"))","v":""},null,null,null,null,{"$f":"IF(F72=1,1,0)-IF(G72=1,1,0)","v":0},{"$f":"IF(G72=1,1,0)-IF(H72=1,1,0)","v":0},{"$f":"IF(H72=1,1,0)-IF(I72=1,1,0)","v":0},{"$f":"IF(I72=1,1,0)-IF(J72=1,1,0)","v":0},{"$f":"IF(J72=1,1,0)-IF(K72=1,1,0)","v":0},{"$f":"IF(K72=1,1,0)-IF(L72=1,1,0)","v":0},{"$f":"IF(L72=1,1,0)-IF(M72=1,1,0)","v":0},{"$f":"IF(M72=1,1,0)-IF(N72=1,1,0)","v":0},{"$f":"IF(N72=1,1,0)-IF(O72=1,1,0)","v":0},{"$f":"IF(O72=1,1,0)-IF(P72=1,1,0)","v":0},{"$f":"IF(P72=1,1,0)-IF(Q72=1,1,0)","v":0},{"$f":"IF(Q72=1,1,0)-IF(R72=1,1,0)","v":0},{"$f":"IF(R72=1,1,0)-IF(S72=1,1,0)","v":0}]
[{"$f":"IFERROR(priorit!A72,\"\")","v":""},"",{"$f":"IFERROR(VLOOKUP($A73,masterlist!$C$2:$AA$200,2,FALSE),\"\")","v":""},{"$f":"IFERROR(VLOOKUP($A73,masterlist!$C$2:$AA$200,3,FALSE),\"\")","v":""},{"$f":"IFERROR(VLOOKUP($A73,masterlist!$C$2:$AA$200,5,FALSE),\"\")","v":""},{"$f":"IF($D73>6,\"\",IF(F$5<=(VLOOKUP($A73,masterlist!$C$2:$AC$200,27,FALSE)),1,\"\"))","v":""},{"$f":"IF($D73>6,\"\",IF(G$5<=(VLOOKUP($A73,masterlist!$C$2:$AC$200,27,FALSE)),1,\"\"))","v":""},{"$f":"IF($D73>6,\"\",IF(H$5<=(VLOOKUP($A73,masterlist!$C$2:$AC$200,27,FALSE)),1,\"\"))","v":""},{"$f":"IF($D73>6,\"\",IF(I$5<=(VLOOKUP($A73,masterlist!$C$2:$AC$200,27,FALSE)),1,\"\"))","v":""},{"$f":"IF($D73>6,\"\",IF(J$5<=(VLOOKUP($A73,masterlist!$C$2:$AC$200,27,FALSE)),1,\"\"))","v":""},{"$f":"IF($D73>6,\"\",IF(K$5<=(VLOOKUP($A73,masterlist!$C$2:$AC$200,27,FALSE)),1,\"\"))","v":""},{"$f":"IF($D73>6,\"\",IF(L$5<=(VLOOKUP($A73,masterlist!$C$2:$AC$200,27,FALSE)),1,\"\"))","v":""},{"$f":"IF($D73>6,\"\",IF(M$5<=(VLOOKUP($A73,masterlist!$C$2:$AC$200,27,FALSE)),1,\"\"))","v":""},{"$f":"IF($D73>6,\"\",IF(N$5<=(VLOOKUP($A73,masterlist!$C$2:$AC$200,27,FALSE)),1,\"\"))","v":""},{"$f":"IF($D73>6,\"\",IF(O$5<=(VLOOKUP($A73,masterlist!$C$2:$AC$200,27,FALSE)),1,\"\"))","v":""},{"$f":"IF($D73>6,\"\",IF(P$5<=(VLOOKUP($A73,masterlist!$C$2:$AC$200,27,FALSE)),1,\"\"))","v":""},{"$f":"IF($D73>6,\"\",IF(Q$5<=(VLOOKUP($A73,masterlist!$C$2:$AC$200,27,FALSE)),1,\"\"))","v":""},{"$f":"IF($D73>6,\"\",IF(R$5<=(VLOOKUP($A73,masterlist!$C$2:$AC$200,27,FALSE)),1,\"\"))","v":""},null,null,null,null,0,0,0,0,0,0,0,0,0,0,0,0,0]
[{"$f":"IFERROR(priorit!A73,\"\")","v":""},"",{"$f":"IFERROR(VLOOKUP($A74,masterlist!$C$2:$AA$200,2,FALSE),\"\")","v":""},{"$f":"IFERROR(VLOOKUP($A74,masterlist!$C$2:$AA$200,3,FALSE),\"\")","v":""},{"$f":"IFERROR(VLOOKUP($A74,masterlist!$C$2:$AA$200,5,FALSE),\"\")","v":""},{"$f":"IF($D74>6,\"\",IF(F$5<=(VLOOKUP($A74,masterlist!$C$2:$AC$200,27,FALSE)),1,\"\"))","v":""},{"$f":"IF($D74>6,\"\",IF(G$5<=(VLOOKUP($A74,masterlist!$C$2:$AC$200,27,FALSE)),1,\"\"))","v":""},{"$f":"IF($D74>6,\"\",IF(H$5<=(VLOOKUP($A74,masterlist!$C$2:$AC$200,27,FALSE)),1,\"\"))","v":""},{"$f":"IF($D74>6,\"\",IF(I$5<=(VLOOKUP($A74,masterlist!$C$2:$AC$200,27,FALSE)),1,\"\"))","v":""},{"$f":"IF($D74>6,\"\",IF(J$5<=(VLOOKUP($A74,masterlist!$C$2:$AC$200,27,FALSE)),1,\"\"))","v":""},{"$f":"IF($D74>6,\"\",IF(K$5<=(VLOOKUP($A74,masterlist!$C$2:$AC$200,27,FALSE)),1,\"\"))","v":""},{"$f":"IF($D74>6,\"\",IF(L$5<=(VLOOKUP($A74,masterlist!$C$2:$AC$200,27,FALSE)),1,\"\"))","v":""},{"$f":"IF($D74>6,\"\",IF(M$5<=(VLOOKUP($A74,masterlist!$C$2:$AC$200,27,FALSE)),1,\"\"))","v":""},{"$f":"IF($D74>6,\"\",IF(N$5<=(VLOOKUP($A74,masterlist!$C$2:$AC$200,27,FALSE)),1,\"\"))","v":""},{"$f":"IF($D74>6,\"\",IF(O$5<=(VLOOKUP($A74,masterlist!$C$2:$AC$200,27,FALSE)),1,\"\"))","v":""},{"$f":"IF($D74>6,\"\",IF(P$5<=(VLOOKUP($A74,masterlist!$C$2:$AC$200,27,FALSE)),1,\"\"))","v":""},{"$f":"IF($D74>6,\"\",IF(Q$5<=(VLOOKUP($A74,masterlist!$C$2:$AC$200,27,FALSE)),1,\"\"))","v":""},{"$f":"IF($D74>6,\"\",IF(R$5<=(VLOOKUP($A74,masterlist!$C$2:$AC$200,27,FALSE)),1,\"\"))","v":""},null,null,null,null,0,0,0,0,0,0,0,0,0,0,0,0,0]
[{"$f":"IFERROR(priorit!A74,\"\")","v":""},"",{"$f":"IFERROR(VLOOKUP($A75,masterlist!$C$2:$AA$200,2,FALSE),\"\")","v":""},{"$f":"IFERROR(VLOOKUP($A75,masterlist!$C$2:$AA$200,3,FALSE),\"\")","v":""},{"$f":"IFERROR(VLOOKUP($A75,masterlist!$C$2:$AA$200,5,FALSE),\"\")","v":""},{"$f":"IF($D75>6,\"\",IF(F$5<=(VLOOKUP($A75,masterlist!$C$2:$AC$200,27,FALSE)),1,\"\"))","v":""},{"$f":"IF($D75>6,\"\",IF(G$5<=(VLOOKUP($A75,masterlist!$C$2:$AC$200,27,FALSE)),1,\"\"))","v":""},{"$f":"IF($D75>6,\"\",IF(H$5<=(VLOOKUP($A75,masterlist!$C$2:$AC$200,27,FALSE)),1,\"\"))","v":""},{"$f":"IF($D75>6,\"\",IF(I$5<=(VLOOKUP($A75,masterlist!$C$2:$AC$200,27,FALSE)),1,\"\"))","v":""},{"$f":"IF($D75>6,\"\",IF(J$5<=(VLOOKUP($A75,masterlist!$C$2:$AC$200,27,FALSE)),1,\"\"))","v":""},{"$f":"IF($D75>6,\"\",IF(K$5<=(VLOOKUP($A75,masterlist!$C$2:$AC$200,27,FALSE)),1,\"\"))","v":""},{"$f":"IF($D75>6,\"\",IF(L$5<=(VLOOKUP($A75,masterlist!$C$2:$AC$200,27,FALSE)),1,\"\"))","v":""},{"$f":"IF($D75>6,\"\",IF(M$5<=(VLOOKUP($A75,masterlist!$C$2:$AC$200,27,FALSE)),1,\"\"))","v":""},{"$f":"IF($D75>6,\"\",IF(N$5<=(VLOOKUP($A75,masterlist!$C$2:$AC$200,27,FALSE)),1,\"\"))","v":""},{"$f":"IF($D75>6,\"\",IF(O$5<=(VLOOKUP($A75,masterlist!$C$2:$AC$200,27,FALSE)),1,\"\"))","v":""},{"$f":"IF($D75>6,\"\",IF(P$5<=(VLOOKUP($A75,masterlist!$C$2:$AC$200,27,FALSE)),1,\"\"))","v":""},{"$f":"IF($D75>6,\"\",IF(Q$5<=(VLOOKUP($A75,masterlist!$C$2:$AC$200,27,FALSE)),1,\"\"))","v":""},{"$f":"IF($D75>6,\"\",IF(R$5<=(VLOOKUP($A75,masterlist!$C$2:$AC$200,27,FALSE)),1,\"\"))","v":""},null,null,null,null,0,0,0,0,0,0,0,0,0,0,0,0,0]
[{"$f":"IFERROR(priorit!A75,\"\")","v":""},"",{"$f":"IFERROR(VLOOKUP($A76,masterlist!$C$2:$AA$200,2,FALSE),\"\")","v":""},{"$f":"IFERROR(VLOOKUP($A76,masterlist!$C$2:$AA$200,3,FALSE),\"\")","v":""},{"$f":"IFERROR(VLOOKUP($A76,masterlist!$C$2:$AA$200,5,FALSE),\"\")","v":""},{"$f":"IF($D76>6,\"\",IF(F$5<=(VLOOKUP($A76,masterlist!$C$2:$AC$200,27,FALSE)),1,\"\"))","v":""},{"$f":"IF($D76>6,\"\",IF(G$5<=(VLOOKUP($A76,masterlist!$C$2:$AC$200,27,FALSE)),1,\"\"))","v":""},{"$f":"IF($D76>6,\"\",IF(H$5<=(VLOOKUP($A76,masterlist!$C$2:$AC$200,27,FALSE)),1,\"\"))","v":""},{"$f":"IF($D76>6,\"\",IF(I$5<=(VLOOKUP($A76,masterlist!$C$2:$AC$200,27,FALSE)),1,\"\"))","v":""},{"$f":"IF($D76>6,\"\",IF(J$5<=(VLOOKUP($A76,masterlist!$C$2:$AC$200,27,FALSE)),1,\"\"))","v":""},{"$f":"IF($D76>6,\"\",IF(K$5<=(VLOOKUP($A76,masterlist!$C$2:$AC$200,27,FALSE)),1,\"\"))","v":""},{"$f":"IF($D76>6,\"\",IF(L$5<=(VLOOKUP($A76,masterlist!$C$2:$AC$200,27,FALSE)),1,\"\"))","v":""},{"$f":"IF($D76>6,\"\",IF(M$5<=(VLOOKUP($A76,masterlist!$C$2:$AC$200,27,FALSE)),1,\"\"))","v":""},{"$f":"IF($D76>6,\"\",IF(N$5<=(VLOOKUP($A76,masterlist!$C$2:$AC$200,27,FALSE)),1,\"\"))","v":""},{"$f":"IF($D76>6,\"\",IF(O$5<=(VLOOKUP($A76,masterlist!$C$2:$AC$200,27,FALSE)),1,\"\"))","v":""},{"$f":"IF($D76>6,\"\",IF(P$5<=(VLOOKUP($A76,masterlist!$C$2:$AC$200,27,FALSE)),1,\"\"))","v":""},{"$f":"IF($D76>6,\"\",IF(Q$5<=(VLOOKUP($A76,masterlist!$C$2:$AC$200,27,FALSE)),1,\"\"))","v":""},{"$f":"IF($D76>6,\"\",IF(R$5<=(VLOOKUP($A76,masterlist!$C$2:$AC$200,27,FALSE)),1,\"\"))","v":""},null,null,null,null,0,0,0,0,0,0,0,0,0,0,0,0,0]
[{"$f":"IFERROR(priorit!A76,\"\")","v":""},"",{"$f":"IFERROR(VLOOKUP($A77,masterlist!$C$2:$AA$200,2,FALSE),\"\")","v":""},{"$f":"IFERROR(VLOOKUP($A77,masterlist!$C$2:$AA$200,3,FALSE),\"\")","v":""},{"$f":"IFERROR(VLOOKUP($A77,masterlist!$C$2:$AA$200,5,FALSE),\"\")","v":""},{"$f":"IF($D77>6,\"\",IF(F$5<=(VLOOKUP($A77,masterlist!$C$2:$AC$200,27,FALSE)),1,\"\"))","v":""},{"$f":"IF($D77>6,\"\",IF(G$5<=(VLOOKUP($A77,masterlist!$C$2:$AC$200,27,FALSE)),1,\"\"))","v":""},{"$f":"IF($D77>6,\"\",IF(H$5<=(VLOOKUP($A77,masterlist!$C$2:$AC$200,27,FALSE)),1,\"\"))","v":""},{"$f":"IF($D77>6,\"\",IF(I$5<=(VLOOKUP($A77,masterlist!$C$2:$AC$200,27,FALSE)),1,\"\"))","v":""},{"$f":"IF($D77>6,\"\",IF(J$5<=(VLOOKUP($A77,masterlist!$C$2:$AC$200,27,FALSE)),1,\"\"))","v":""},{"$f":"IF($D77>6,\"\",IF(K$5<=(VLOOKUP($A77,masterlist!$C$2:$AC$200,27,FALSE)),1,\"\"))","v":""},{"$f":"IF($D77>6,\"\",IF(L$5<=(VLOOKUP($A77,masterlist!$C$2:$AC$200,27,FALSE)),1,\"\"))","v":""},{"$f":"IF($D77>6,\"\",IF(M$5<=(VLOOKUP($A77,masterlist!$C$2:$AC$200,27,FALSE)),1,\"\"))","v":""},{"$f":"IF($D77>6,\"\",IF(N$5<=(VLOOKUP($A77,masterlist!$C$2:$AC$200,27,FALSE)),1,\"\"))","v":""},{"$f":"IF($D77>6,\"\",IF(O$5<=(VLOOKUP($A77,masterlist!$C$2:$AC$200,27,FALSE)),1,\"\"))","v":""},{"$f":"IF($D77>6,\"\",IF(P$5<=(VLOOKUP($A77,masterlist!$C$2:$AC$200,27,FALSE)),1,\"\"))","v":""},{"$f":"IF($D77>6,\"\",IF(Q$5<=(VLOOKUP($A77,masterlist!$C$2:$AC$200,27,FALSE)),1,\"\"))","v":""},{"$f":"IF($D77>6,\"\",IF(R$5<=(VLOOKUP($A77,masterlist!$C$2:$AC$200,27,FALSE)),1,\"\"))","v":""},null,null,null,null,0,0,0,0,0,0,0,0,0,0,0,0,0]
[{"$f":"IFERROR(priorit!A77,\"\")","v":""},"",{"$f":"IFERROR(VLOOKUP($A78,masterlist!$C$2:$AA$200,2,FALSE),\"\")","v":""},{"$f":"IFERROR(VLOOKUP($A78,masterlist!$C$2:$AA$200,3,FALSE),\"\")","v":""},{"$f":"IFERROR(VLOOKUP($A78,masterlist!$C$2:$AA$200,5,FALSE),\"\")","v":""},{"$f":"IF($D78>6,\"\",IF(F$5<=(VLOOKUP($A78,masterlist!$C$2:$AC$200,27,FALSE)),1,\"\"))","v":""},{"$f":"IF($D78>6,\"\",IF(G$5<=(VLOOKUP($A78,masterlist!$C$2:$AC$200,27,FALSE)),1,\"\"))","v":""},{"$f":"IF($D78>6,\"\",IF(H$5<=(VLOOKUP($A78,masterlist!$C$2:$AC$200,27,FALSE)),1,\"\"))","v":""},{"$f":"IF($D78>6,\"\",IF(I$5<=(VLOOKUP($A78,masterlist!$C$2:$AC$200,27,FALSE)),1,\"\"))","v":""},{"$f":"IF($D78>6,\"\",IF(J$5<=(VLOOKUP($A78,masterlist!$C$2:$AC$200,27,FALSE)),1,\"\"))","v":""},{"$f":"IF($D78>6,\"\",IF(K$5<=(VLOOKUP($A78,masterlist!$C$2:$AC$200,27,FALSE)),1,\"\"))","v":""},{"$f":"IF($D78>6,\"\",IF(L$5<=(VLOOKUP($A78,masterlist!$C$2:$AC$200,27,FALSE)),1,\"\"))","v":""},{"$f":"IF($D78>6,\"\",IF(M$5<=(VLOOKUP($A78,masterlist!$C$2:$AC$200,27,FALSE)),1,\"\"))","v":""},{"$f":"IF($D78>6,\"\",IF(N$5<=(VLOOKUP($A78,masterlist!$C$2:$AC$200,27,FALSE)),1,\"\"))","v":""},{"$f":"IF($D78>6,\"\",IF(O$5<=(VLOOKUP($A78,masterlist!$C$2:$AC$200,27,FALSE)),1,\"\"))","v":""},{"$f":"IF($D78>6,\"\",IF(P$5<=(VLOOKUP($A78,masterlist!$C$2:$AC$200,27,FALSE)),1,\"\"))","v":""},{"$f":"IF($D78>6,\"\",IF(Q$5<=(VLOOKUP($A78,masterlist!$C$2:$AC$200,27,FALSE)),1,\"\"))","v":""},{"$f":"IF($D78>6,\"\",IF(R$5<=(VLOOKUP($A78,masterlist!$C$2:$AC$200,27,FALSE)),1,\"\"))","v":""},null,null,null,null,0,0,0,0,0,0,0,0,0,0,0,0,0]
[{"$f":"IFERROR(priorit!A78,\"\")","v":""},"",{"$f":"IFERROR(VLOOKUP($A79,masterlist!$C$2:$AA$200,2,FALSE),\"\")","v":""},{"$f":"IFERROR(VLOOKUP($A79,masterlist!$C$2:$AA$200,3,FALSE),\"\")","v":""},{"$f":"IFERROR(VLOOKUP($A79,masterlist!$C$2:$AA$200,5,FALSE),\"\")","v":""},{"$f":"IF($D79>6,\"\",IF(F$5<=(VLOOKUP($A79,masterlist!$C$2:$AC$200,27,FALSE)),1,\"\"))","v":""},{"$f":"IF($D79>6,\"\",IF(G$5<=(VLOOKUP($A79,masterlist!$C$2:$AC$200,27,FALSE)),1,\"\"))","v":""},{"$f":"IF($D79>6,\"\",IF(H$5<=(VLOOKUP($A79,masterlist!$C$2:$AC$200,27,FALSE)),1,\"\"))","v":""},{"$f":"IF($D79>6,\"\",IF(I$5<=(VLOOKUP($A79,masterlist!$C$2:$AC$200,27,FALSE)),1,\"\"))","v":""},{"$f":"IF($D79>6,\"\",IF(J$5<=(VLOOKUP($A79,masterlist!$C$2:$AC$200,27,FALSE)),1,\"\"))","v":""},{"$f":"IF($D79>6,\"\",IF(K$5<=(VLOOKUP($A79,masterlist!$C$2:$AC$200,27,FALSE)),1,\"\"))","v":""},{"$f":"IF($D79>6,\"\",IF(L$5<=(VLOOKUP($A79,masterlist!$C$2:$AC$200,27,FALSE)),1,\"\"))","v":""},{"$f":"IF($D79>6,\"\",IF(M$5<=(VLOOKUP($A79,masterlist!$C$2:$AC$200,27,FALSE)),1,\"\"))","v":""},{"$f":"IF($D79>6,\"\",IF(N$5<=(VLOOKUP($A79,masterlist!$C$2:$AC$200,27,FALSE)),1,\"\"))","v":""},{"$f":"IF($D79>6,\"\",IF(O$5<=(VLOOKUP($A79,masterlist!$C$2:$AC$200,27,FALSE)),1,\"\"))","v":""},{"$f":"IF($D79>6,\"\",IF(P$5<=(VLOOKUP($A79,masterlist!$C$2:$AC$200,27,FALSE)),1,\"\"))","v":""},{"$f":"IF($D79>6,\"\",IF(Q$5<=(VLOOKUP($A79,masterlist!$C$2:$AC$200,27,FALSE)),1,\"\"))","v":""},{"$f":"IF($D79>6,\"\",IF(R$5<=(VLOOKUP($A79,masterlist!$C$2:$AC$200,27,FALSE)),1,\"\"))","v":""},null,null,null,null,0,0,0,0,0,0,0,0,0,0,0,0,0]
[{"$f":"IFERROR(priorit!A79,\"\")","v":""},"",{"$f":"IFERROR(VLOOKUP($A80,masterlist!$C$2:$AA$200,2,FALSE),\"\")","v":""},{"$f":"IFERROR(VLOOKUP($A80,masterlist!$C$2:$AA$200,3,FALSE),\"\")","v":""},{"$f":"IFERROR(VLOOKUP($A80,masterlist!$C$2:$AA$200,5,FALSE),\"\")","v":""},{"$f":"IF($D80>6,\"\",IF(F$5<=(VLOOKUP($A80,masterlist!$C$2:$AC$200,27,FALSE)),1,\"\"))","v":""},{"$f":"IF($D80>6,\"\",IF(G$5<=(VLOOKUP($A80,masterlist!$C$2:$AC$200,27,FALSE)),1,\"\"))","v":""},{"$f":"IF($D80>6,\"\",IF(H$5<=(VLOOKUP($A80,masterlist!$C$2:$AC$200,27,FALSE)),1,\"\"))","v":""},{"$f":"IF($D80>6,\"\",IF(I$5<=(VLOOKUP($A80,masterlist!$C$2:$AC$200,27,FALSE)),1,\"\"))","v":""},{"$f":"IF($D80>6,\"\",IF(J$5<=(VLOOKUP($A80,masterlist!$C$2:$AC$200,27,FALSE)),1,\"\"))","v":""},{"$f":"IF($D80>6,\"\",IF(K$5<=(VLOOKUP($A80,masterlist!$C$2:$AC$200,27,FALSE)),1,\"\"))","v":""},{"$f":"IF($D80>6,\"\",IF(L$5<=(VLOOKUP($A80,masterlist!$C$2:$AC$200,27,FALSE)),1,\"\"))","v":""},{"$f":"IF($D80>6,\"\",IF(M$5<=(VLOOKUP($A80,masterlist!$C$2:$AC$200,27,FALSE)),1,\"\"))","v":""},{"$f":"IF($D80>6,\"\",IF(N$5<=(VLOOKUP($A80,masterlist!$C$2:$AC$200,27,FALSE)),1,\"\"))","v":""},{"$f":"IF($D80>6,\"\",IF(O$5<=(VLOOKUP($A80,masterlist!$C$2:$AC$200,27,FALSE)),1,\"\"))","v":""},{"$f":"IF($D80>6,\"\",IF(P$5<=(VLOOKUP($A80,masterlist!$C$2:$AC$200,27,FALSE)),1,\"\"))","v":""},{"$f":"IF($D80>6,\"\",IF(Q$5<=(VLOOKUP($A80,masterlist!$C$2:$AC$200,27,FALSE)),1,\"\"))","v":""},{"$f":"IF($D80>6,\"\",IF(R$5<=(VLOOKUP($A80,masterlist!$C$2:$AC$200,27,FALSE)),1,\"\"))","v":""},null,null,null,null,0,0,0,0,0,0,0,0,0,0,0,0,0]
[{"$f":"IFERROR(priorit!A80,\"\")","v":""},"",{"$f":"IFERROR(VLOOKUP($A81,masterlist!$C$2:$AA$200,2,FALSE),\"\")","v":""},{"$f":"IFERROR(VLOOKUP($A81,masterlist!$C$2:$AA$200,3,FALSE),\"\")","v":""},{"$f":"IFERROR(VLOOKUP($A81,masterlist!$C$2:$AA$200,5,FALSE),\"\")","v":""},{"$f":"IF($D81>6,\"\",IF(F$5<=(VLOOKUP($A81,masterlist!$C$2:$AC$200,27,FALSE)),1,\"\"))","v":""},{"$f":"IF($D81>6,\"\",IF(G$5<=(VLOOKUP($A81,masterlist!$C$2:$AC$200,27,FALSE)),1,\"\"))","v":""},{"$f":"IF($D81>6,\"\",IF(H$5<=(VLOOKUP($A81,masterlist!$C$2:$AC$200,27,FALSE)),1,\"\"))","v":""},{"$f":"IF($D81>6,\"\",IF(I$5<=(VLOOKUP($A81,masterlist!$C$2:$AC$200,27,FALSE)),1,\"\"))","v":""},{"$f":"IF($D81>6,\"\",IF(J$5<=(VLOOKUP($A81,masterlist!$C$2:$AC$200,27,FALSE)),1,\"\"))","v":""},{"$f":"IF($D81>6,\"\",IF(K$5<=(VLOOKUP($A81,masterlist!$C$2:$AC$200,27,FALSE)),1,\"\"))","v":""},{"$f":"IF($D81>6,\"\",IF(L$5<=(VLOOKUP($A81,masterlist!$C$2:$AC$200,27,FALSE)),1,\"\"))","v":""},{"$f":"IF($D81>6,\"\",IF(M$5<=(VLOOKUP($A81,masterlist!$C$2:$AC$200,27,FALSE)),1,\"\"))","v":""},{"$f":"IF($D81>6,\"\",IF(N$5<=(VLOOKUP($A81,masterlist!$C$2:$AC$200,27,FALSE)),1,\"\"))","v":""},{"$f":"IF($D81>6,\"\",IF(O$5<=(VLOOKUP($A81,masterlist!$C$2:$AC$200,27,FALSE)),1,\"\"))","v":""},{"$f":"IF($D81>6,\"\",IF(P$5<=(VLOOKUP($A81,masterlist!$C$2:$AC$200,27,FALSE)),1,\"\"))","v":""},{"$f":"IF($D81>6,\"\",IF(Q$5<=(VLOOKUP($A81,masterlist!$C$2:$AC$200,27,FALSE)),1,\"\"))","v":""},{"$f":"IF($D81>6,\"\",IF(R$5<=(VLOOKUP($A81,masterlist!$C$2:$AC$200,27,FALSE)),1,\"\"))","v":""},null,null,null,null,0,0,0,0,0,0,0,0,0,0,0,0,0]
[{"$f":"IFERROR(priorit!A81,\"\")","v":""},"",{"$f":"IFERROR(VLOOKUP($A82,masterlist!$C$2:$AA$200,2,FALSE),\"\")","v":""},{"$f":"IFERROR(VLOOKUP($A82,masterlist!$C$2:$AA$200,3,FALSE),\"\")","v":""},{"$f":"IFERROR(VLOOKUP($A82,masterlist!$C$2:$AA$200,5,FALSE),\"\")","v":""},{"$f":"IF($D82>6,\"\",IF(F$5<=(VLOOKUP($A82,masterlist!$C$2:$AC$200,27,FALSE)),1,\"\"))","v":""},{"$f":"IF($D82>6,\"\",IF(G$5<=(VLOOKUP($A82,masterlist!$C$2:$AC$200,27,FALSE)),1,\"\"))","v":""},{"$f":"IF($D82>6,\"\",IF(H$5<=(VLOOKUP($A82,masterlist!$C$2:$AC$200,27,FALSE)),1,\"\"))","v":""},{"$f":"IF($D82>6,\"\",IF(I$5<=(VLOOKUP($A82,masterlist!$C$2:$AC$200,27,FALSE)),1,\"\"))","v":""},{"$f":"IF($D82>6,\"\",IF(J$5<=(VLOOKUP($A82,masterlist!$C$2:$AC$200,27,FALSE)),1,\"\"))","v":""},{"$f":"IF($D82>6,\"\",IF(K$5<=(VLOOKUP($A82,masterlist!$C$2:$AC$200,27,FALSE)),1,\"\"))","v":""},{"$f":"IF($D82>6,\"\",IF(L$5<=(VLOOKUP($A82,masterlist!$C$2:$AC$200,27,FALSE)),1,\"\"))","v":""},{"$f":"IF($D82>6,\"\",IF(M$5<=(VLOOKUP($A82,masterlist!$C$2:$AC$200,27,FALSE)),1,\"\"))","v":""},{"$f":"IF($D82>6,\"\",IF(N$5<=(VLOOKUP($A82,masterlist!$C$2:$AC$200,27,FALSE)),1,\"\"))","v":""},{"$f":"IF($D82>6,\"\",IF(O$5<=(VLOOKUP($A82,masterlist!$C$2:$AC$200,27,FALSE)),1,\"\"))","v":""},{"$f":"IF($D82>6,\"\",IF(P$5<=(VLOOKUP($A82,masterlist!$C$2:$AC$200,27,FALSE)),1,\"\"))","v":""},{"$f":"IF($D82>6,\"\",IF(Q$5<=(VLOOKUP($A82,masterlist!$C$2:$AC$200,27,FALSE)),1,\"\"))","v":""},{"$f":"IF($D82>6,\"\",IF(R$5<=(VLOOKUP($A82,masterlist!$C$2:$AC$200,27,FALSE)),1,\"\"))","v":""},null,null,null,null,0,0,0,0,0,0,0,0,0,0,0,0,0]
[{"$f":"IFERROR(priorit!A82,\"\")","v":""},"",{"$f":"IFERROR(VLOOKUP($A83,masterlist!$C$2:$AA$200,2,FALSE),\"\")","v":""},{"$f":"IFERROR(VLOOKUP($A83,masterlist!$C$2:$AA$200,3,FALSE),\"\")","v":""},{"$f":"IFERROR(VLOOKUP($A83,masterlist!$C$2:$AA$200,5,FALSE),\"\")","v":""},{"$f":"IF($D83>6,\"\",IF(F$5<=(VLOOKUP($A83,masterlist!$C$2:$AC$200,27,FALSE)),1,\"\"))","v":""},{"$f":"IF($D83>6,\"\",IF(G$5<=(VLOOKUP($A83,masterlist!$C$2:$AC$200,27,FALSE)),1,\"\"))","v":""},{"$f":"IF($D83>6,\"\",IF(H$5<=(VLOOKUP($A83,masterlist!$C$2:$AC$200,27,FALSE)),1,\"\"))","v":""},{"$f":"IF($D83>6,\"\",IF(I$5<=(VLOOKUP($A83,masterlist!$C$2:$AC$200,27,FALSE)),1,\"\"))","v":""},{"$f":"IF($D83>6,\"\",IF(J$5<=(VLOOKUP($A83,masterlist!$C$2:$AC$200,27,FALSE)),1,\"\"))","v":""},{"$f":"IF($D83>6,\"\",IF(K$5<=(VLOOKUP($A83,masterlist!$C$2:$AC$200,27,FALSE)),1,\"\"))","v":""},{"$f":"IF($D83>6,\"\",IF(L$5<=(VLOOKUP($A83,masterlist!$C$2:$AC$200,27,FALSE)),1,\"\"))","v":""},{"$f":"IF($D83>6,\"\",IF(M$5<=(VLOOKUP($A83,masterlist!$C$2:$AC$200,27,FALSE)),1,\"\"))","v":""},{"$f":"IF($D83>6,\"\",IF(N$5<=(VLOOKUP($A83,masterlist!$C$2:$AC$200,27,FALSE)),1,\"\"))","v":""},{"$f":"IF($D83>6,\"\",IF(O$5<=(VLOOKUP($A83,masterlist!$C$2:$AC$200,27,FALSE)),1,\"\"))","v":""},{"$f":"IF($D83>6,\"\",IF(P$5<=(VLOOKUP($A83,masterlist!$C$2:$AC$200,27,FALSE)),1,\"\"))","v":""},{"$f":"IF($D83>6,\"\",IF(Q$5<=(VLOOKUP($A83,masterlist!$C$2:$AC$200,27,FALSE)),1,\"\"))","v":""},{"$f":"IF($D83>6,\"\",IF(R$5<=(VLOOKUP($A83,masterlist!$C$2:$AC$200,27,FALSE)),1,\"\"))","v":""},null,null,null,null,0,0,0,0,0,0,0,0,0,0,0,0,0]
[{"$f":"IFERROR(priorit!A83,\"\")","v":""},"",{"$f":"IFERROR(VLOOKUP($A84,masterlist!$C$2:$AA$200,2,FALSE),\"\")","v":""},{"$f":"IFERROR(VLOOKUP($A84,masterlist!$C$2:$AA$200,3,FALSE),\"\")","v":""},{"$f":"IFERROR(VLOOKUP($A84,masterlist!$C$2:$AA$200,5,FALSE),\"\")","v":""},{"$f":"IF($D84>6,\"\",IF(F$5<=(VLOOKUP($A84,masterlist!$C$2:$AC$200,27,FALSE)),1,\"\"))","v":""},{"$f":"IF($D84>6,\"\",IF(G$5<=(VLOOKUP($A84,masterlist!$C$2:$AC$200,27,FALSE)),1,\"\"))","v":""},{"$f":"IF($D84>6,\"\",IF(H$5<=(VLOOKUP($A84,masterlist!$C$2:$AC$200,27,FALSE)),1,\"\"))","v":""},{"$f":"IF($D84>6,\"\",IF(I$5<=(VLOOKUP($A84,masterlist!$C$2:$AC$200,27,FALSE)),1,\"\"))","v":""},{"$f":"IF($D84>6,\"\",IF(J$5<=(VLOOKUP($A84,masterlist!$C$2:$AC$200,27,FALSE)),1,\"\"))","v":""},{"$f":"IF($D84>6,\"\",IF(K$5<=(VLOOKUP($A84,masterlist!$C$2:$AC$200,27,FALSE)),1,\"\"))","v":""},{"$f":"IF($D84>6,\"\",IF(L$5<=(VLOOKUP($A84,masterlist!$C$2:$AC$200,27,FALSE)),1,\"\"))","v":""},{"$f":"IF($D84>6,\"\",IF(M$5<=(VLOOKUP($A84,masterlist!$C$2:$AC$200,27,FALSE)),1,\"\"))","v":""},{"$f":"IF($D84>6,\"\",IF(N$5<=(VLOOKUP($A84,masterlist!$C$2:$AC$200,27,FALSE)),1,\"\"))","v":""},{"$f":"IF($D84>6,\"\",IF(O$5<=(VLOOKUP($A84,masterlist!$C$2:$AC$200,27,FALSE)),1,\"\"))","v":""},{"$f":"IF($D84>6,\"\",IF(P$5<=(VLOOKUP($A84,masterlist!$C$2:$AC$200,27,FALSE)),1,\"\"))","v":""},{"$f":"IF($D84>6,\"\",IF(Q$5<=(VLOOKUP($A84,masterlist!$C$2:$AC$200,27,FALSE)),1,\"\"))","v":""},{"$f":"IF($D84>6,\"\",IF(R$5<=(VLOOKUP($A84,masterlist!$C$2:$AC$200,27,FALSE)),1,\"\"))","v":""},null,null,null,null,0,0,0,0,0,0,0,0,0,0,0,0,0]
[{"$f":"IFERROR(priorit!A84,\"\")","v":""},"",{"$f":"IFERROR(VLOOKUP($A85,masterlist!$C$2:$AA$200,2,FALSE),\"\")","v":""},{"$f":"IFERROR(VLOOKUP($A85,masterlist!$C$2:$AA$200,3,FALSE),\"\")","v":""},{"$f":"IFERROR(VLOOKUP($A85,masterlist!$C$2:$AA$200,5,FALSE),\"\")","v":""},{"$f":"IF($D85>6,\"\",IF(F$5<=(VLOOKUP($A85,masterlist!$C$2:$AC$200,27,FALSE)),1,\"\"))","v":""},{"$f":"IF($D85>6,\"\",IF(G$5<=(VLOOKUP($A85,masterlist!$C$2:$AC$200,27,FALSE)),1,\"\"))","v":""},{"$f":"IF($D85>6,\"\",IF(H$5<=(VLOOKUP($A85,masterlist!$C$2:$AC$200,27,FALSE)),1,\"\"))","v":""},{"$f":"IF($D85>6,\"\",IF(I$5<=(VLOOKUP($A85,masterlist!$C$2:$AC$200,27,FALSE)),1,\"\"))","v":""},{"$f":"IF($D85>6,\"\",IF(J$5<=(VLOOKUP($A85,masterlist!$C$2:$AC$200,27,FALSE)),1,\"\"))","v":""},{"$f":"IF($D85>6,\"\",IF(K$5<=(VLOOKUP($A85,masterlist!$C$2:$AC$200,27,FALSE)),1,\"\"))","v":""},{"$f":"IF($D85>6,\"\",IF(L$5<=(VLOOKUP($A85,masterlist!$C$2:$AC$200,27,FALSE)),1,\"\"))","v":""},{"$f":"IF($D85>6,\"\",IF(M$5<=(VLOOKUP($A85,masterlist!$C$2:$AC$200,27,FALSE)),1,\"\"))","v":""},{"$f":"IF($D85>6,\"\",IF(N$5<=(VLOOKUP($A85,masterlist!$C$2:$AC$200,27,FALSE)),1,\"\"))","v":""},{"$f":"IF($D85>6,\"\",IF(O$5<=(VLOOKUP($A85,masterlist!$C$2:$AC$200,27,FALSE)),1,\"\"))","v":""},{"$f":"IF($D85>6,\"\",IF(P$5<=(VLOOKUP($A85,masterlist!$C$2:$AC$200,27,FALSE)),1,\"\"))","v":""},{"$f":"IF($D85>6,\"\",IF(Q$5<=(VLOOKUP($A85,masterlist!$C$2:$AC$200,27,FALSE)),1,\"\"))","v":""},{"$f":"IF($D85>6,\"\",IF(R$5<=(VLOOKUP($A85,masterlist!$C$2:$AC$200,27,FALSE)),1,\"\"))","v":""},null,null,null,null,0,0,0,0,0,0,0,0,0,0,0,0,0]
[{"$f":"IFERROR(priorit!A85,\"\")","v":""},"",{"$f":"IFERROR(VLOOKUP($A86,masterlist!$C$2:$AA$200,2,FALSE),\"\")","v":""},{"$f":"IFERROR(VLOOKUP($A86,masterlist!$C$2:$AA$200,3,FALSE),\"\")","v":""},{"$f":"IFERROR(VLOOKUP($A86,masterlist!$C$2:$AA$200,5,FALSE),\"\")","v":""},{"$f":"IF($D86>6,\"\",IF(F$5<=(VLOOKUP($A86,masterlist!$C$2:$AC$200,27,FALSE)),1,\"\"))","v":""},{"$f":"IF($D86>6,\"\",IF(G$5<=(VLOOKUP($A86,masterlist!$C$2:$AC$200,27,FALSE)),1,\"\"))","v":""},{"$f":"IF($D86>6,\"\",IF(H$5<=(VLOOKUP($A86,masterlist!$C$2:$AC$200,27,FALSE)),1,\"\"))","v":""},{"$f":"IF($D86>6,\"\",IF(I$5<=(VLOOKUP($A86,masterlist!$C$2:$AC$200,27,FALSE)),1,\"\"))","v":""},{"$f":"IF($D86>6,\"\",IF(J$5<=(VLOOKUP($A86,masterlist!$C$2:$AC$200,27,FALSE)),1,\"\"))","v":""},{"$f":"IF($D86>6,\"\",IF(K$5<=(VLOOKUP($A86,masterlist!$C$2:$AC$200,27,FALSE)),1,\"\"))","v":""},{"$f":"IF($D86>6,\"\",IF(L$5<=(VLOOKUP($A86,masterlist!$C$2:$AC$200,27,FALSE)),1,\"\"))","v":""},{"$f":"IF($D86>6,\"\",IF(M$5<=(VLOOKUP($A86,masterlist!$C$2:$AC$200,27,FALSE)),1,\"\"))","v":""},{"$f":"IF($D86>6,\"\",IF(N$5<=(VLOOKUP($A86,masterlist!$C$2:$AC$200,27,FALSE)),1,\"\"))","v":""},{"$f":"IF($D86>6,\"\",IF(O$5<=(VLOOKUP($A86,masterlist!$C$2:$AC$200,27,FALSE)),1,\"\"))","v":""},{"$f":"IF($D86>6,\"\",IF(P$5<=(VLOOKUP($A86,masterlist!$C$2:$AC$200,27,FALSE)),1,\"\"))","v":""},{"$f":"IF($D86>6,\"\",IF(Q$5<=(VLOOKUP($A86,masterlist!$C$2:$AC$200,27,FALSE)),1,\"\"))","v":""},{"$f":"IF($D86>6,\"\",IF(R$5<=(VLOOKUP($A86,masterlist!$C$2:$AC$200,27,FALSE)),1,\"\"))","v":""},null,null,null,null,0,0,0,0,0,0,0,0,0,0,0,0,0]
[{"$f":"IFERROR(priorit!A86,\"\")","v":""},"",{"$f":"IFERROR(VLOOKUP($A87,masterlist!$C$2:$AA$200,2,FALSE),\"\")","v":""},{"$f":"IFERROR(VLOOKUP($A87,masterlist!$C$2:$AA$200,3,FALSE),\"\")","v":""},{"$f":"IFERROR(VLOOKUP($A87,masterlist!$C$2:$AA$200,5,FALSE),\"\")","v":""},{"$f":"IF($D87>6,\"\",IF(F$5<=(VLOOKUP($A87,masterlist!$C$2:$AC$200,27,FALSE)),1,\"\"))","v":""},{"$f":"IF($D87>6,\"\",IF(G$5<=(VLOOKUP($A87,masterlist!$C$2:$AC$200,27,FALSE)),1,\"\"))","v":""},{"$f":"IF($D87>6,\"\",IF(H$5<=(VLOOKUP($A87,masterlist!$C$2:$AC$200,27,FALSE)),1,\"\"))","v":""},{"$f":"IF($D87>6,\"\",IF(I$5<=(VLOOKUP($A87,masterlist!$C$2:$AC$200,27,FALSE)),1,\"\"))","v":""},{"$f":"IF($D87>6,\"\",IF(J$5<=(VLOOKUP($A87,masterlist!$C$2:$AC$200,27,FALSE)),1,\"\"))","v":""},{"$f":"IF($D87>6,\"\",IF(K$5<=(VLOOKUP($A87,masterlist!$C$2:$AC$200,27,FALSE)),1,\"\"))","v":""},{"$f":"IF($D87>6,\"\",IF(L$5<=(VLOOKUP($A87,masterlist!$C$2:$AC$200,27,FALSE)),1,\"\"))","v":""},{"$f":"IF($D87>6,\"\",IF(M$5<=(VLOOKUP($A87,masterlist!$C$2:$AC$200,27,FALSE)),1,\"\"))","v":""},{"$f":"IF($D87>6,\"\",IF(N$5<=(VLOOKUP($A87,masterlist!$C$2:$AC$200,27,FALSE)),1,\"\"))","v":""},{"$f":"IF($D87>6,\"\",IF(O$5<=(VLOOKUP($A87,masterlist!$C$2:$AC$200,27,FALSE)),1,\"\"))","v":""},{"$f":"IF($D87>6,\"\",IF(P$5<=(VLOOKUP($A87,masterlist!$C$2:$AC$200,27,FALSE)),1,\"\"))","v":""},{"$f":"IF($D87>6,\"\",IF(Q$5<=(VLOOKUP($A87,masterlist!$C$2:$AC$200,27,FALSE)),1,\"\"))","v":""},{"$f":"IF($D87>6,\"\",IF(R$5<=(VLOOKUP($A87,masterlist!$C$2:$AC$200,27,FALSE)),1,\"\"))","v":""},null,null,null,null,0,0,0,0,0,0,0,0,0,0,0,0,0]
[{"$f":"IFERROR(priorit!A87,\"\")","v":""},"",{"$f":"IFERROR(VLOOKUP($A88,masterlist!$C$2:$AA$200,2,FALSE),\"\")","v":""},{"$f":"IFERROR(VLOOKUP($A88,masterlist!$C$2:$AA$200,3,FALSE),\"\")","v":""},{"$f":"IFERROR(VLOOKUP($A88,masterlist!$C$2:$AA$200,5,FALSE),\"\")","v":""},{"$f":"IF($D88>6,\"\",IF(F$5<=(VLOOKUP($A88,masterlist!$C$2:$AC$200,27,FALSE)),1,\"\"))","v":""},{"$f":"IF($D88>6,\"\",IF(G$5<=(VLOOKUP($A88,masterlist!$C$2:$AC$200,27,FALSE)),1,\"\"))","v":""},{"$f":"IF($D88>6,\"\",IF(H$5<=(VLOOKUP($A88,masterlist!$C$2:$AC$200,27,FALSE)),1,\"\"))","v":""},{"$f":"IF($D88>6,\"\",IF(I$5<=(VLOOKUP($A88,masterlist!$C$2:$AC$200,27,FALSE)),1,\"\"))","v":""},{"$f":"IF($D88>6,\"\",IF(J$5<=(VLOOKUP($A88,masterlist!$C$2:$AC$200,27,FALSE)),1,\"\"))","v":""},{"$f":"IF($D88>6,\"\",IF(K$5<=(VLOOKUP($A88,masterlist!$C$2:$AC$200,27,FALSE)),1,\"\"))","v":""},{"$f":"IF($D88>6,\"\",IF(L$5<=(VLOOKUP($A88,masterlist!$C$2:$AC$200,27,FALSE)),1,\"\"))","v":""},{"$f":"IF($D88>6,\"\",IF(M$5<=(VLOOKUP($A88,masterlist!$C$2:$AC$200,27,FALSE)),1,\"\"))","v":""},{"$f":"IF($D88>6,\"\",IF(N$5<=(VLOOKUP($A88,masterlist!$C$2:$AC$200,27,FALSE)),1,\"\"))","v":""},{"$f":"IF($D88>6,\"\",IF(O$5<=(VLOOKUP($A88,masterlist!$C$2:$AC$200,27,FALSE)),1,\"\"))","v":""},{"$f":"IF($D88>6,\"\",IF(P$5<=(VLOOKUP($A88,masterlist!$C$2:$AC$200,27,FALSE)),1,\"\"))","v":""},{"$f":"IF($D88>6,\"\",IF(Q$5<=(VLOOKUP($A88,masterlist!$C$2:$AC$200,27,FALSE)),1,\"\"))","v":""},{"$f":"IF($D88>6,\"\",IF(R$5<=(VLOOKUP($A88,masterlist!$C$2:$AC$200,27,FALSE)),1,\"\"))","v":""},null,null,null,null,0,0,0,0,0,0,0,0,0,0,0,0,0]
[{"$f":"IFERROR(priorit!A88,\"\")","v":""},"",{"$f":"IFERROR(VLOOKUP($A89,masterlist!$C$2:$AA$200,2,FALSE),\"\")","v":""},{"$f":"IFERROR(VLOOKUP($A89,masterlist!$C$2:$AA$200,3,FALSE),\"\")","v":""},{"$f":"IFERROR(VLOOKUP($A89,masterlist!$C$2:$AA$200,5,FALSE),\"\")","v":""},{"$f":"IF($D89>6,\"\",IF(F$5<=(VLOOKUP($A89,masterlist!$C$2:$AC$200,27,FALSE)),1,\"\"))","v":""},{"$f":"IF($D89>6,\"\",IF(G$5<=(VLOOKUP($A89,masterlist!$C$2:$AC$200,27,FALSE)),1,\"\"))","v":""},{"$f":"IF($D89>6,\"\",IF(H$5<=(VLOOKUP($A89,masterlist!$C$2:$AC$200,27,FALSE)),1,\"\"))","v":""},{"$f":"IF($D89>6,\"\",IF(I$5<=(VLOOKUP($A89,masterlist!$C$2:$AC$200,27,FALSE)),1,\"\"))","v":""},{"$f":"IF($D89>6,\"\",IF(J$5<=(VLOOKUP($A89,masterlist!$C$2:$AC$200,27,FALSE)),1,\"\"))","v":""},{"$f":"IF($D89>6,\"\",IF(K$5<=(VLOOKUP($A89,masterlist!$C$2:$AC$200,27,FALSE)),1,\"\"))","v":""},{"$f":"IF($D89>6,\"\",IF(L$5<=(VLOOKUP($A89,masterlist!$C$2:$AC$200,27,FALSE)),1,\"\"))","v":""},{"$f":"IF($D89>6,\"\",IF(M$5<=(VLOOKUP($A89,masterlist!$C$2:$AC$200,27,FALSE)),1,\"\"))","v":""},{"$f":"IF($D89>6,\"\",IF(N$5<=(VLOOKUP($A89,masterlist!$C$2:$AC$200,27,FALSE)),1,\"\"))","v":""},{"$f":"IF($D89>6,\"\",IF(O$5<=(VLOOKUP($A89,masterlist!$C$2:$AC$200,27,FALSE)),1,\"\"))","v":""},{"$f":"IF($D89>6,\"\",IF(P$5<=(VLOOKUP($A89,masterlist!$C$2:$AC$200,27,FALSE)),1,\"\"))","v":""},{"$f":"IF($D89>6,\"\",IF(Q$5<=(VLOOKUP($A89,masterlist!$C$2:$AC$200,27,FALSE)),1,\"\"))","v":""},{"$f":"IF($D89>6,\"\",IF(R$5<=(VLOOKUP($A89,masterlist!$C$2:$AC$200,27,FALSE)),1,\"\"))","v":""},null,null,null,null,0,0,0,0,0,0,0,0,0,0,0,0,0]
[{"$f":"IFERROR(priorit!A89,\"\")","v":""},"",{"$f":"IFERROR(VLOOKUP($A90,masterlist!$C$2:$AA$200,2,FALSE),\"\")","v":""},{"$f":"IFERROR(VLOOKUP($A90,masterlist!$C$2:$AA$200,3,FALSE),\"\")","v":""},{"$f":"IFERROR(VLOOKUP($A90,masterlist!$C$2:$AA$200,5,FALSE),\"\")","v":""},{"$f":"IF($D90>6,\"\",IF(F$5<=(VLOOKUP($A90,masterlist!$C$2:$AC$200,27,FALSE)),1,\"\"))","v":""},{"$f":"IF($D90>6,\"\",IF(G$5<=(VLOOKUP($A90,masterlist!$C$2:$AC$200,27,FALSE)),1,\"\"))","v":""},{"$f":"IF($D90>6,\"\",IF(H$5<=(VLOOKUP($A90,masterlist!$C$2:$AC$200,27,FALSE)),1,\"\"))","v":""},{"$f":"IF($D90>6,\"\",IF(I$5<=(VLOOKUP($A90,masterlist!$C$2:$AC$200,27,FALSE)),1,\"\"))","v":""},{"$f":"IF($D90>6,\"\",IF(J$5<=(VLOOKUP($A90,masterlist!$C$2:$AC$200,27,FALSE)),1,\"\"))","v":""},{"$f":"IF($D90>6,\"\",IF(K$5<=(VLOOKUP($A90,masterlist!$C$2:$AC$200,27,FALSE)),1,\"\"))","v":""},{"$f":"IF($D90>6,\"\",IF(L$5<=(VLOOKUP($A90,masterlist!$C$2:$AC$200,27,FALSE)),1,\"\"))","v":""},{"$f":"IF($D90>6,\"\",IF(M$5<=(VLOOKUP($A90,masterlist!$C$2:$AC$200,27,FALSE)),1,\"\"))","v":""},{"$f":"IF($D90>6,\"\",IF(N$5<=(VLOOKUP($A90,masterlist!$C$2:$AC$200,27,FALSE)),1,\"\"))","v":""},{"$f":"IF($D90>6,\"\",IF(O$5<=(VLOOKUP($A90,masterlist!$C$2:$AC$200,27,FALSE)),1,\"\"))","v":""},{"$f":"IF($D90>6,\"\",IF(P$5<=(VLOOKUP($A90,masterlist!$C$2:$AC$200,27,FALSE)),1,\"\"))","v":""},{"$f":"IF($D90>6,\"\",IF(Q$5<=(VLOOKUP($A90,masterlist!$C$2:$AC$200,27,FALSE)),1,\"\"))","v":""},{"$f":"IF($D90>6,\"\",IF(R$5<=(VLOOKUP($A90,masterlist!$C$2:$AC$200,27,FALSE)),1,\"\"))","v":""},null,null,null,null,0,0,0,0,0,0,0,0,0,0,0,0,0]
[{"$f":"IFERROR(priorit!A90,\"\")","v":""},"",{"$f":"IFERROR(VLOOKUP($A91,masterlist!$C$2:$AA$200,2,FALSE),\"\")","v":""},{"$f":"IFERROR(VLOOKUP($A91,masterlist!$C$2:$AA$200,3,FALSE),\"\")","v":""},{"$f":"IFERROR(VLOOKUP($A91,masterlist!$C$2:$AA$200,5,FALSE),\"\")","v":""},{"$f":"IF($D91>6,\"\",IF(F$5<=(VLOOKUP($A91,masterlist!$C$2:$AC$200,27,FALSE)),1,\"\"))","v":""},{"$f":"IF($D91>6,\"\",IF(G$5<=(VLOOKUP($A91,masterlist!$C$2:$AC$200,27,FALSE)),1,\"\"))","v":""},{"$f":"IF($D91>6,\"\",IF(H$5<=(VLOOKUP($A91,masterlist!$C$2:$AC$200,27,FALSE)),1,\"\"))","v":""},{"$f":"IF($D91>6,\"\",IF(I$5<=(VLOOKUP($A91,masterlist!$C$2:$AC$200,27,FALSE)),1,\"\"))","v":""},{"$f":"IF($D91>6,\"\",IF(J$5<=(VLOOKUP($A91,masterlist!$C$2:$AC$200,27,FALSE)),1,\"\"))","v":""},{"$f":"IF($D91>6,\"\",IF(K$5<=(VLOOKUP($A91,masterlist!$C$2:$AC$200,27,FALSE)),1,\"\"))","v":""},{"$f":"IF($D91>6,\"\",IF(L$5<=(VLOOKUP($A91,masterlist!$C$2:$AC$200,27,FALSE)),1,\"\"))","v":""},{"$f":"IF($D91>6,\"\",IF(M$5<=(VLOOKUP($A91,masterlist!$C$2:$AC$200,27,FALSE)),1,\"\"))","v":""},{"$f":"IF($D91>6,\"\",IF(N$5<=(VLOOKUP($A91,masterlist!$C$2:$AC$200,27,FALSE)),1,\"\"))","v":""},{"$f":"IF($D91>6,\"\",IF(O$5<=(VLOOKUP($A91,masterlist!$C$2:$AC$200,27,FALSE)),1,\"\"))","v":""},{"$f":"IF($D91>6,\"\",IF(P$5<=(VLOOKUP($A91,masterlist!$C$2:$AC$200,27,FALSE)),1,\"\"))","v":""},{"$f":"IF($D91>6,\"\",IF(Q$5<=(VLOOKUP($A91,masterlist!$C$2:$AC$200,27,FALSE)),1,\"\"))","v":""},{"$f":"IF($D91>6,\"\",IF(R$5<=(VLOOKUP($A91,masterlist!$C$2:$AC$200,27,FALSE)),1,\"\"))","v":""},null,null,null,null,0,0,0,0,0,0,0,0,0,0,0,0,0]
[{"$f":"IFERROR(priorit!A91,\"\")","v":""},"",{"$f":"IFERROR(VLOOKUP($A92,masterlist!$C$2:$AA$200,2,FALSE),\"\")","v":""},{"$f":"IFERROR(VLOOKUP($A92,masterlist!$C$2:$AA$200,3,FALSE),\"\")","v":""},{"$f":"IFERROR(VLOOKUP($A92,masterlist!$C$2:$AA$200,5,FALSE),\"\")","v":""},{"$f":"IF($D92>6,\"\",IF(F$5<=(VLOOKUP($A92,masterlist!$C$2:$AC$200,27,FALSE)),1,\"\"))","v":""},{"$f":"IF($D92>6,\"\",IF(G$5<=(VLOOKUP($A92,masterlist!$C$2:$AC$200,27,FALSE)),1,\"\"))","v":""},{"$f":"IF($D92>6,\"\",IF(H$5<=(VLOOKUP($A92,masterlist!$C$2:$AC$200,27,FALSE)),1,\"\"))","v":""},{"$f":"IF($D92>6,\"\",IF(I$5<=(VLOOKUP($A92,masterlist!$C$2:$AC$200,27,FALSE)),1,\"\"))","v":""},{"$f":"IF($D92>6,\"\",IF(J$5<=(VLOOKUP($A92,masterlist!$C$2:$AC$200,27,FALSE)),1,\"\"))","v":""},{"$f":"IF($D92>6,\"\",IF(K$5<=(VLOOKUP($A92,masterlist!$C$2:$AC$200,27,FALSE)),1,\"\"))","v":""},{"$f":"IF($D92>6,\"\",IF(L$5<=(VLOOKUP($A92,masterlist!$C$2:$AC$200,27,FALSE)),1,\"\"))","v":""},{"$f":"IF($D92>6,\"\",IF(M$5<=(VLOOKUP($A92,masterlist!$C$2:$AC$200,27,FALSE)),1,\"\"))","v":""},{"$f":"IF($D92>6,\"\",IF(N$5<=(VLOOKUP($A92,masterlist!$C$2:$AC$200,27,FALSE)),1,\"\"))","v":""},{"$f":"IF($D92>6,\"\",IF(O$5<=(VLOOKUP($A92,masterlist!$C$2:$AC$200,27,FALSE)),1,\"\"))","v":""},{"$f":"IF($D92>6,\"\",IF(P$5<=(VLOOKUP($A92,masterlist!$C$2:$AC$200,27,FALSE)),1,\"\"))","v":""},{"$f":"IF($D92>6,\"\",IF(Q$5<=(VLOOKUP($A92,masterlist!$C$2:$AC$200,27,FALSE)),1,\"\"))","v":""},{"$f":"IF($D92>6,\"\",IF(R$5<=(VLOOKUP($A92,masterlist!$C$2:$AC$200,27,FALSE)),1,\"\"))","v":""},null,null,null,null,0,0,0,0,0,0,0,0,0,0,0,0,0]
[{"$f":"IFERROR(priorit!A92,\"\")","v":""},"",{"$f":"IFERROR(VLOOKUP($A93,masterlist!$C$2:$AA$200,2,FALSE),\"\")","v":""},{"$f":"IFERROR(VLOOKUP($A93,masterlist!$C$2:$AA$200,3,FALSE),\"\")","v":""},{"$f":"IFERROR(VLOOKUP($A93,masterlist!$C$2:$AA$200,5,FALSE),\"\")","v":""},{"$f":"IF($D93>6,\"\",IF(F$5<=(VLOOKUP($A93,masterlist!$C$2:$AC$200,27,FALSE)),1,\"\"))","v":""},{"$f":"IF($D93>6,\"\",IF(G$5<=(VLOOKUP($A93,masterlist!$C$2:$AC$200,27,FALSE)),1,\"\"))","v":""},{"$f":"IF($D93>6,\"\",IF(H$5<=(VLOOKUP($A93,masterlist!$C$2:$AC$200,27,FALSE)),1,\"\"))","v":""},{"$f":"IF($D93>6,\"\",IF(I$5<=(VLOOKUP($A93,masterlist!$C$2:$AC$200,27,FALSE)),1,\"\"))","v":""},{"$f":"IF($D93>6,\"\",IF(J$5<=(VLOOKUP($A93,masterlist!$C$2:$AC$200,27,FALSE)),1,\"\"))","v":""},{"$f":"IF($D93>6,\"\",IF(K$5<=(VLOOKUP($A93,masterlist!$C$2:$AC$200,27,FALSE)),1,\"\"))","v":""},{"$f":"IF($D93>6,\"\",IF(L$5<=(VLOOKUP($A93,masterlist!$C$2:$AC$200,27,FALSE)),1,\"\"))","v":""},{"$f":"IF($D93>6,\"\",IF(M$5<=(VLOOKUP($A93,masterlist!$C$2:$AC$200,27,FALSE)),1,\"\"))","v":""},{"$f":"IF($D93>6,\"\",IF(N$5<=(VLOOKUP($A93,masterlist!$C$2:$AC$200,27,FALSE)),1,\"\"))","v":""},{"$f":"IF($D93>6,\"\",IF(O$5<=(VLOOKUP($A93,masterlist!$C$2:$AC$200,27,FALSE)),1,\"\"))","v":""},{"$f":"IF($D93>6,\"\",IF(P$5<=(VLOOKUP($A93,masterlist!$C$2:$AC$200,27,FALSE)),1,\"\"))","v":""},{"$f":"IF($D93>6,\"\",IF(Q$5<=(VLOOKUP($A93,masterlist!$C$2:$AC$200,27,FALSE)),1,\"\"))","v":""},{"$f":"IF($D93>6,\"\",IF(R$5<=(VLOOKUP($A93,masterlist!$C$2:$AC$200,27,FALSE)),1,\"\"))","v":""},null,null,null,null,0,0,0,0,0,0,0,0,0,0,0,0,0]
[{"$f":"IFERROR(priorit!A93,\"\")","v":""},"",{"$f":"IFERROR(VLOOKUP($A94,masterlist!$C$2:$AA$200,2,FALSE),\"\")","v":""},{"$f":"IFERROR(VLOOKUP($A94,masterlist!$C$2:$AA$200,3,FALSE),\"\")","v":""},{"$f":"IFERROR(VLOOKUP($A94,masterlist!$C$2:$AA$200,5,FALSE),\"\")","v":""},{"$f":"IF($D94>6,\"\",IF(F$5<=(VLOOKUP($A94,masterlist!$C$2:$AC$200,27,FALSE)),1,\"\"))","v":""},{"$f":"IF($D94>6,\"\",IF(G$5<=(VLOOKUP($A94,masterlist!$C$2:$AC$200,27,FALSE)),1,\"\"))","v":""},{"$f":"IF($D94>6,\"\",IF(H$5<=(VLOOKUP($A94,masterlist!$C$2:$AC$200,27,FALSE)),1,\"\"))","v":""},{"$f":"IF($D94>6,\"\",IF(I$5<=(VLOOKUP($A94,masterlist!$C$2:$AC$200,27,FALSE)),1,\"\"))","v":""},{"$f":"IF($D94>6,\"\",IF(J$5<=(VLOOKUP($A94,masterlist!$C$2:$AC$200,27,FALSE)),1,\"\"))","v":""},{"$f":"IF($D94>6,\"\",IF(K$5<=(VLOOKUP($A94,masterlist!$C$2:$AC$200,27,FALSE)),1,\"\"))","v":""},{"$f":"IF($D94>6,\"\",IF(L$5<=(VLOOKUP($A94,masterlist!$C$2:$AC$200,27,FALSE)),1,\"\"))","v":""},{"$f":"IF($D94>6,\"\",IF(M$5<=(VLOOKUP($A94,masterlist!$C$2:$AC$200,27,FALSE)),1,\"\"))","v":""},{"$f":"IF($D94>6,\"\",IF(N$5<=(VLOOKUP($A94,masterlist!$C$2:$AC$200,27,FALSE)),1,\"\"))","v":""},{"$f":"IF($D94>6,\"\",IF(O$5<=(VLOOKUP($A94,masterlist!$C$2:$AC$200,27,FALSE)),1,\"\"))","v":""},{"$f":"IF($D94>6,\"\",IF(P$5<=(VLOOKUP($A94,masterlist!$C$2:$AC$200,27,FALSE)),1,\"\"))","v":""},{"$f":"IF($D94>6,\"\",IF(Q$5<=(VLOOKUP($A94,masterlist!$C$2:$AC$200,27,FALSE)),1,\"\"))","v":""},{"$f":"IF($D94>6,\"\",IF(R$5<=(VLOOKUP($A94,masterlist!$C$2:$AC$200,27,FALSE)),1,\"\"))","v":""},null,null,null,null,0,0,0,0,0,0,0,0,0,0,0,0,0]
[{"$f":"IFERROR(priorit!A94,\"\")","v":""},"",{"$f":"IFERROR(VLOOKUP($A95,masterlist!$C$2:$AA$200,2,FALSE),\"\")","v":""},{"$f":"IFERROR(VLOOKUP($A95,masterlist!$C$2:$AA$200,3,FALSE),\"\")","v":""},{"$f":"IFERROR(VLOOKUP($A95,masterlist!$C$2:$AA$200,5,FALSE),\"\")","v":""},{"$f":"IF($D95>6,\"\",IF(F$5<=(VLOOKUP($A95,masterlist!$C$2:$AC$200,27,FALSE)),1,\"\"))","v":""},{"$f":"IF($D95>6,\"\",IF(G$5<=(VLOOKUP($A95,masterlist!$C$2:$AC$200,27,FALSE)),1,\"\"))","v":""},{"$f":"IF($D95>6,\"\",IF(H$5<=(VLOOKUP($A95,masterlist!$C$2:$AC$200,27,FALSE)),1,\"\"))","v":""},{"$f":"IF($D95>6,\"\",IF(I$5<=(VLOOKUP($A95,masterlist!$C$2:$AC$200,27,FALSE)),1,\"\"))","v":""},{"$f":"IF($D95>6,\"\",IF(J$5<=(VLOOKUP($A95,masterlist!$C$2:$AC$200,27,FALSE)),1,\"\"))","v":""},{"$f":"IF($D95>6,\"\",IF(K$5<=(VLOOKUP($A95,masterlist!$C$2:$AC$200,27,FALSE)),1,\"\"))","v":""},{"$f":"IF($D95>6,\"\",IF(L$5<=(VLOOKUP($A95,masterlist!$C$2:$AC$200,27,FALSE)),1,\"\"))","v":""},{"$f":"IF($D95>6,\"\",IF(M$5<=(VLOOKUP($A95,masterlist!$C$2:$AC$200,27,FALSE)),1,\"\"))","v":""},{"$f":"IF($D95>6,\"\",IF(N$5<=(VLOOKUP($A95,masterlist!$C$2:$AC$200,27,FALSE)),1,\"\"))","v":""},{"$f":"IF($D95>6,\"\",IF(O$5<=(VLOOKUP($A95,masterlist!$C$2:$AC$200,27,FALSE)),1,\"\"))","v":""},{"$f":"IF($D95>6,\"\",IF(P$5<=(VLOOKUP($A95,masterlist!$C$2:$AC$200,27,FALSE)),1,\"\"))","v":""},{"$f":"IF($D95>6,\"\",IF(Q$5<=(VLOOKUP($A95,masterlist!$C$2:$AC$200,27,FALSE)),1,\"\"))","v":""},{"$f":"IF($D95>6,\"\",IF(R$5<=(VLOOKUP($A95,masterlist!$C$2:$AC$200,27,FALSE)),1,\"\"))","v":""},null,null,null,null,0,0,0,0,0,0,0,0,0,0,0,0,0]
[{"$f":"IFERROR(priorit!A95,\"\")","v":""},"",{"$f":"IFERROR(VLOOKUP($A96,masterlist!$C$2:$AA$200,2,FALSE),\"\")","v":""},{"$f":"IFERROR(VLOOKUP($A96,masterlist!$C$2:$AA$200,3,FALSE),\"\")","v":""},{"$f":"IFERROR(VLOOKUP($A96,masterlist!$C$2:$AA$200,5,FALSE),\"\")","v":""},{"$f":"IF($D96>6,\"\",IF(F$5<=(VLOOKUP($A96,masterlist!$C$2:$AC$200,27,FALSE)),1,\"\"))","v":""},{"$f":"IF($D96>6,\"\",IF(G$5<=(VLOOKUP($A96,masterlist!$C$2:$AC$200,27,FALSE)),1,\"\"))","v":""},{"$f":"IF($D96>6,\"\",IF(H$5<=(VLOOKUP($A96,masterlist!$C$2:$AC$200,27,FALSE)),1,\"\"))","v":""},{"$f":"IF($D96>6,\"\",IF(I$5<=(VLOOKUP($A96,masterlist!$C$2:$AC$200,27,FALSE)),1,\"\"))","v":""},{"$f":"IF($D96>6,\"\",IF(J$5<=(VLOOKUP($A96,masterlist!$C$2:$AC$200,27,FALSE)),1,\"\"))","v":""},{"$f":"IF($D96>6,\"\",IF(K$5<=(VLOOKUP($A96,masterlist!$C$2:$AC$200,27,FALSE)),1,\"\"))","v":""},{"$f":"IF($D96>6,\"\",IF(L$5<=(VLOOKUP($A96,masterlist!$C$2:$AC$200,27,FALSE)),1,\"\"))","v":""},{"$f":"IF($D96>6,\"\",IF(M$5<=(VLOOKUP($A96,masterlist!$C$2:$AC$200,27,FALSE)),1,\"\"))","v":""},{"$f":"IF($D96>6,\"\",IF(N$5<=(VLOOKUP($A96,masterlist!$C$2:$AC$200,27,FALSE)),1,\"\"))","v":""},{"$f":"IF($D96>6,\"\",IF(O$5<=(VLOOKUP($A96,masterlist!$C$2:$AC$200,27,FALSE)),1,\"\"))","v":""},{"$f":"IF($D96>6,\"\",IF(P$5<=(VLOOKUP($A96,masterlist!$C$2:$AC$200,27,FALSE)),1,\"\"))","v":""},{"$f":"IF($D96>6,\"\",IF(Q$5<=(VLOOKUP($A96,masterlist!$C$2:$AC$200,27,FALSE)),1,\"\"))","v":""},{"$f":"IF($D96>6,\"\",IF(R$5<=(VLOOKUP($A96,masterlist!$C$2:$AC$200,27,FALSE)),1,\"\"))","v":""},null,null,null,null,0,0,0,0,0,0,0,0,0,0,0,0,0]
[{"$f":"IFERROR(priorit!A96,\"\")","v":""},"",{"$f":"IFERROR(VLOOKUP($A97,masterlist!$C$2:$AA$200,2,FALSE),\"\")","v":""},{"$f":"IFERROR(VLOOKUP($A97,masterlist!$C$2:$AA$200,3,FALSE),\"\")","v":""},{"$f":"IFERROR(VLOOKUP($A97,masterlist!$C$2:$AA$200,5,FALSE),\"\")","v":""},{"$f":"IF($D97>6,\"\",IF(F$5<=(VLOOKUP($A97,masterlist!$C$2:$AC$200,27,FALSE)),1,\"\"))","v":""},{"$f":"IF($D97>6,\"\",IF(G$5<=(VLOOKUP($A97,masterlist!$C$2:$AC$200,27,FALSE)),1,\"\"))","v":""},{"$f":"IF($D97>6,\"\",IF(H$5<=(VLOOKUP($A97,masterlist!$C$2:$AC$200,27,FALSE)),1,\"\"))","v":""},{"$f":"IF($D97>6,\"\",IF(I$5<=(VLOOKUP($A97,masterlist!$C$2:$AC$200,27,FALSE)),1,\"\"))","v":""},{"$f":"IF($D97>6,\"\",IF(J$5<=(VLOOKUP($A97,masterlist!$C$2:$AC$200,27,FALSE)),1,\"\"))","v":""},{"$f":"IF($D97>6,\"\",IF(K$5<=(VLOOKUP($A97,masterlist!$C$2:$AC$200,27,FALSE)),1,\"\"))","v":""},{"$f":"IF($D97>6,\"\",IF(L$5<=(VLOOKUP($A97,masterlist!$C$2:$AC$200,27,FALSE)),1,\"\"))","v":""},{"$f":"IF($D97>6,\"\",IF(M$5<=(VLOOKUP($A97,masterlist!$C$2:$AC$200,27,FALSE)),1,\"\"))","v":""},{"$f":"IF($D97>6,\"\",IF(N$5<=(VLOOKUP($A97,masterlist!$C$2:$AC$200,27,FALSE)),1,\"\"))","v":""},{"$f":"IF($D97>6,\"\",IF(O$5<=(VLOOKUP($A97,masterlist!$C$2:$AC$200,27,FALSE)),1,\"\"))","v":""},{"$f":"IF($D97>6,\"\",IF(P$5<=(VLOOKUP($A97,masterlist!$C$2:$AC$200,27,FALSE)),1,\"\"))","v":""},{"$f":"IF($D97>6,\"\",IF(Q$5<=(VLOOKUP($A97,masterlist!$C$2:$AC$200,27,FALSE)),1,\"\"))","v":""},{"$f":"IF($D97>6,\"\",IF(R$5<=(VLOOKUP($A97,masterlist!$C$2:$AC$200,27,FALSE)),1,\"\"))","v":""},null,null,null,null,0,0,0,0,0,0,0,0,0,0,0,0,0]
[{"$f":"IFERROR(priorit!A97,\"\")","v":""},"",{"$f":"IFERROR(VLOOKUP($A98,masterlist!$C$2:$AA$200,2,FALSE),\"\")","v":""},{"$f":"IFERROR(VLOOKUP($A98,masterlist!$C$2:$AA$200,3,FALSE),\"\")","v":""},{"$f":"IFERROR(VLOOKUP($A98,masterlist!$C$2:$AA$200,5,FALSE),\"\")","v":""},{"$f":"IF($D98>6,\"\",IF(F$5<=(VLOOKUP($A98,masterlist!$C$2:$AC$200,27,FALSE)),1,\"\"))","v":""},{"$f":"IF($D98>6,\"\",IF(G$5<=(VLOOKUP($A98,masterlist!$C$2:$AC$200,27,FALSE)),1,\"\"))","v":""},{"$f":"IF($D98>6,\"\",IF(H$5<=(VLOOKUP($A98,masterlist!$C$2:$AC$200,27,FALSE)),1,\"\"))","v":""},{"$f":"IF($D98>6,\"\",IF(I$5<=(VLOOKUP($A98,masterlist!$C$2:$AC$200,27,FALSE)),1,\"\"))","v":""},{"$f":"IF($D98>6,\"\",IF(J$5<=(VLOOKUP($A98,masterlist!$C$2:$AC$200,27,FALSE)),1,\"\"))","v":""},{"$f":"IF($D98>6,\"\",IF(K$5<=(VLOOKUP($A98,masterlist!$C$2:$AC$200,27,FALSE)),1,\"\"))","v":""},{"$f":"IF($D98>6,\"\",IF(L$5<=(VLOOKUP($A98,masterlist!$C$2:$AC$200,27,FALSE)),1,\"\"))","v":""},{"$f":"IF($D98>6,\"\",IF(M$5<=(VLOOKUP($A98,masterlist!$C$2:$AC$200,27,FALSE)),1,\"\"))","v":""},{"$f":"IF($D98>6,\"\",IF(N$5<=(VLOOKUP($A98,masterlist!$C$2:$AC$200,27,FALSE)),1,\"\"))","v":""},{"$f":"IF($D98>6,\"\",IF(O$5<=(VLOOKUP($A98,masterlist!$C$2:$AC$200,27,FALSE)),1,\"\"))","v":""},{"$f":"IF($D98>6,\"\",IF(P$5<=(VLOOKUP($A98,masterlist!$C$2:$AC$200,27,FALSE)),1,\"\"))","v":""},{"$f":"IF($D98>6,\"\",IF(Q$5<=(VLOOKUP($A98,masterlist!$C$2:$AC$200,27,FALSE)),1,\"\"))","v":""},{"$f":"IF($D98>6,\"\",IF(R$5<=(VLOOKUP($A98,masterlist!$C$2:$AC$200,27,FALSE)),1,\"\"))","v":""},null,null,null,null,0,0,0,0,0,0,0,0,0,0,0,0,0]
[{"$f":"IFERROR(priorit!A98,\"\")","v":""},"",{"$f":"IFERROR(VLOOKUP($A99,masterlist!$C$2:$AA$200,2,FALSE),\"\")","v":""},{"$f":"IFERROR(VLOOKUP($A99,masterlist!$C$2:$AA$200,3,FALSE),\"\")","v":""},{"$f":"IFERROR(VLOOKUP($A99,masterlist!$C$2:$AA$200,5,FALSE),\"\")","v":""},{"$f":"IF($D99>6,\"\",IF(F$5<=(VLOOKUP($A99,masterlist!$C$2:$AC$200,27,FALSE)),1,\"\"))","v":""},{"$f":"IF($D99>6,\"\",IF(G$5<=(VLOOKUP($A99,masterlist!$C$2:$AC$200,27,FALSE)),1,\"\"))","v":""},{"$f":"IF($D99>6,\"\",IF(H$5<=(VLOOKUP($A99,masterlist!$C$2:$AC$200,27,FALSE)),1,\"\"))","v":""},{"$f":"IF($D99>6,\"\",IF(I$5<=(VLOOKUP($A99,masterlist!$C$2:$AC$200,27,FALSE)),1,\"\"))","v":""},{"$f":"IF($D99>6,\"\",IF(J$5<=(VLOOKUP($A99,masterlist!$C$2:$AC$200,27,FALSE)),1,\"\"))","v":""},{"$f":"IF($D99>6,\"\",IF(K$5<=(VLOOKUP($A99,masterlist!$C$2:$AC$200,27,FALSE)),1,\"\"))","v":""},{"$f":"IF($D99>6,\"\",IF(L$5<=(VLOOKUP($A99,masterlist!$C$2:$AC$200,27,FALSE)),1,\"\"))","v":""},{"$f":"IF($D99>6,\"\",IF(M$5<=(VLOOKUP($A99,masterlist!$C$2:$AC$200,27,FALSE)),1,\"\"))","v":""},{"$f":"IF($D99>6,\"\",IF(N$5<=(VLOOKUP($A99,masterlist!$C$2:$AC$200,27,FALSE)),1,\"\"))","v":""},{"$f":"IF($D99>6,\"\",IF(O$5<=(VLOOKUP($A99,masterlist!$C$2:$AC$200,27,FALSE)),1,\"\"))","v":""},{"$f":"IF($D99>6,\"\",IF(P$5<=(VLOOKUP($A99,masterlist!$C$2:$AC$200,27,FALSE)),1,\"\"))","v":""},{"$f":"IF($D99>6,\"\",IF(Q$5<=(VLOOKUP($A99,masterlist!$C$2:$AC$200,27,FALSE)),1,\"\"))","v":""},{"$f":"IF($D99>6,\"\",IF(R$5<=(VLOOKUP($A99,masterlist!$C$2:$AC$200,27,FALSE)),1,\"\"))","v":""},null,null,null,null,0,0,0,0,0,0,0,0,0,0,0,0,0]
[{"$f":"IFERROR(priorit!A99,\"\")","v":""},"",{"$f":"IFERROR(VLOOKUP($A100,masterlist!$C$2:$AA$200,2,FALSE),\"\")","v":""},{"$f":"IFERROR(VLOOKUP($A100,masterlist!$C$2:$AA$200,3,FALSE),\"\")","v":""},{"$f":"IFERROR(VLOOKUP($A100,masterlist!$C$2:$AA$200,5,FALSE),\"\")","v":""},{"$f":"IF($D100>6,\"\",IF(F$5<=(VLOOKUP($A100,masterlist!$C$2:$AC$200,27,FALSE)),1,\"\"))","v":""},{"$f":"IF($D100>6,\"\",IF(G$5<=(VLOOKUP($A100,masterlist!$C$2:$AC$200,27,FALSE)),1,\"\"))","v":""},{"$f":"IF($D100>6,\"\",IF(H$5<=(VLOOKUP($A100,masterlist!$C$2:$AC$200,27,FALSE)),1,\"\"))","v":""},{"$f":"IF($D100>6,\"\",IF(I$5<=(VLOOKUP($A100,masterlist!$C$2:$AC$200,27,FALSE)),1,\"\"))","v":""},{"$f":"IF($D100>6,\"\",IF(J$5<=(VLOOKUP($A100,masterlist!$C$2:$AC$200,27,FALSE)),1,\"\"))","v":""},{"$f":"IF($D100>6,\"\",IF(K$5<=(VLOOKUP($A100,masterlist!$C$2:$AC$200,27,FALSE)),1,\"\"))","v":""},{"$f":"IF($D100>6,\"\",IF(L$5<=(VLOOKUP($A100,masterlist!$C$2:$AC$200,27,FALSE)),1,\"\"))","v":""},{"$f":"IF($D100>6,\"\",IF(M$5<=(VLOOKUP($A100,masterlist!$C$2:$AC$200,27,FALSE)),1,\"\"))","v":""},{"$f":"IF($D100>6,\"\",IF(N$5<=(VLOOKUP($A100,masterlist!$C$2:$AC$200,27,FALSE)),1,\"\"))","v":""},{"$f":"IF($D100>6,\"\",IF(O$5<=(VLOOKUP($A100,masterlist!$C$2:$AC$200,27,FALSE)),1,\"\"))","v":""},{"$f":"IF($D100>6,\"\",IF(P$5<=(VLOOKUP($A100,masterlist!$C$2:$AC$200,27,FALSE)),1,\"\"))","v":""},{"$f":"IF($D100>6,\"\",IF(Q$5<=(VLOOKUP($A100,masterlist!$C$2:$AC$200,27,FALSE)),1,\"\"))","v":""},{"$f":"IF($D100>6,\"\",IF(R$5<=(VLOOKUP($A100,masterlist!$C$2:$AC$200,27,FALSE)),1,\"\"))","v":""},null,null,null,null,0,0,0,0,0,0,0,0,0,0,0,0,0]
[{"$f":"IFERROR(priorit!A100,\"\")","v":""},"",{"$f":"IFERROR(VLOOKUP($A101,masterlist!$C$2:$AA$200,2,FALSE),\"\")","v":""},{"$f":"IFERROR(VLOOKUP($A101,masterlist!$C$2:$AA$200,3,FALSE),\"\")","v":""},{"$f":"IFERROR(VLOOKUP($A101,masterlist!$C$2:$AA$200,5,FALSE),\"\")","v":""},{"$f":"IF($D101>6,\"\",IF(F$5<=(VLOOKUP($A101,masterlist!$C$2:$AC$200,27,FALSE)),1,\"\"))","v":""},{"$f":"IF($D101>6,\"\",IF(G$5<=(VLOOKUP($A101,masterlist!$C$2:$AC$200,27,FALSE)),1,\"\"))","v":""},{"$f":"IF($D101>6,\"\",IF(H$5<=(VLOOKUP($A101,masterlist!$C$2:$AC$200,27,FALSE)),1,\"\"))","v":""},{"$f":"IF($D101>6,\"\",IF(I$5<=(VLOOKUP($A101,masterlist!$C$2:$AC$200,27,FALSE)),1,\"\"))","v":""},{"$f":"IF($D101>6,\"\",IF(J$5<=(VLOOKUP($A101,masterlist!$C$2:$AC$200,27,FALSE)),1,\"\"))","v":""},{"$f":"IF($D101>6,\"\",IF(K$5<=(VLOOKUP($A101,masterlist!$C$2:$AC$200,27,FALSE)),1,\"\"))","v":""},{"$f":"IF($D101>6,\"\",IF(L$5<=(VLOOKUP($A101,masterlist!$C$2:$AC$200,27,FALSE)),1,\"\"))","v":""},{"$f":"IF($D101>6,\"\",IF(M$5<=(VLOOKUP($A101,masterlist!$C$2:$AC$200,27,FALSE)),1,\"\"))","v":""},{"$f":"IF($D101>6,\"\",IF(N$5<=(VLOOKUP($A101,masterlist!$C$2:$AC$200,27,FALSE)),1,\"\"))","v":""},{"$f":"IF($D101>6,\"\",IF(O$5<=(VLOOKUP($A101,masterlist!$C$2:$AC$200,27,FALSE)),1,\"\"))","v":""},{"$f":"IF($D101>6,\"\",IF(P$5<=(VLOOKUP($A101,masterlist!$C$2:$AC$200,27,FALSE)),1,\"\"))","v":""},{"$f":"IF($D101>6,\"\",IF(Q$5<=(VLOOKUP($A101,masterlist!$C$2:$AC$200,27,FALSE)),1,\"\"))","v":""},{"$f":"IF($D101>6,\"\",IF(R$5<=(VLOOKUP($A101,masterlist!$C$2:$AC$200,27,FALSE)),1,\"\"))","v":""},null,null,null,null,0,0,0,0,0,0,0,0,0,0,0,0,0]
[{"$f":"IFERROR(priorit!A101,\"\")","v":""},"",{"$f":"IFERROR(VLOOKUP($A102,masterlist!$C$2:$AA$200,2,FALSE),\"\")","v":""},{"$f":"IFERROR(VLOOKUP($A102,masterlist!$C$2:$AA$200,3,FALSE),\"\")","v":""},{"$f":"IFERROR(VLOOKUP($A102,masterlist!$C$2:$AA$200,5,FALSE),\"\")","v":""},{"$f":"IF($D102>6,\"\",IF(F$5<=(VLOOKUP($A102,masterlist!$C$2:$AC$200,27,FALSE)),1,\"\"))","v":""},{"$f":"IF($D102>6,\"\",IF(G$5<=(VLOOKUP($A102,masterlist!$C$2:$AC$200,27,FALSE)),1,\"\"))","v":""},{"$f":"IF($D102>6,\"\",IF(H$5<=(VLOOKUP($A102,masterlist!$C$2:$AC$200,27,FALSE)),1,\"\"))","v":""},{"$f":"IF($D102>6,\"\",IF(I$5<=(VLOOKUP($A102,masterlist!$C$2:$AC$200,27,FALSE)),1,\"\"))","v":""},{"$f":"IF($D102>6,\"\",IF(J$5<=(VLOOKUP($A102,masterlist!$C$2:$AC$200,27,FALSE)),1,\"\"))","v":""},{"$f":"IF($D102>6,\"\",IF(K$5<=(VLOOKUP($A102,masterlist!$C$2:$AC$200,27,FALSE)),1,\"\"))","v":""},{"$f":"IF($D102>6,\"\",IF(L$5<=(VLOOKUP($A102,masterlist!$C$2:$AC$200,27,FALSE)),1,\"\"))","v":""},{"$f":"IF($D102>6,\"\",IF(M$5<=(VLOOKUP($A102,masterlist!$C$2:$AC$200,27,FALSE)),1,\"\"))","v":""},{"$f":"IF($D102>6,\"\",IF(N$5<=(VLOOKUP($A102,masterlist!$C$2:$AC$200,27,FALSE)),1,\"\"))","v":""},{"$f":"IF($D102>6,\"\",IF(O$5<=(VLOOKUP($A102,masterlist!$C$2:$AC$200,27,FALSE)),1,\"\"))","v":""},{"$f":"IF($D102>6,\"\",IF(P$5<=(VLOOKUP($A102,masterlist!$C$2:$AC$200,27,FALSE)),1,\"\"))","v":""},{"$f":"IF($D102>6,\"\",IF(Q$5<=(VLOOKUP($A102,masterlist!$C$2:$AC$200,27,FALSE)),1,\"\"))","v":""},{"$f":"IF($D102>6,\"\",IF(R$5<=(VLOOKUP($A102,masterlist!$C$2:$AC$200,27,FALSE)),1,\"\"))","v":""},null,null,null,null,0,0,0,0,0,0,0,0,0,0,0,0,0]
[{"$f":"IFERROR(priorit!A102,\"\")","v":""},"",{"$f":"IFERROR(VLOOKUP($A103,masterlist!$C$2:$AA$200,2,FALSE),\"\")","v":""},{"$f":"IFERROR(VLOOKUP($A103,masterlist!$C$2:$AA$200,3,FALSE),\"\")","v":""},{"$f":"IFERROR(VLOOKUP($A103,masterlist!$C$2:$AA$200,5,FALSE),\"\")","v":""},{"$f":"IF($D103>6,\"\",IF(F$5<=(VLOOKUP($A103,masterlist!$C$2:$AC$200,27,FALSE)),1,\"\"))","v":""},{"$f":"IF($D103>6,\"\",IF(G$5<=(VLOOKUP($A103,masterlist!$C$2:$AC$200,27,FALSE)),1,\"\"))","v":""},{"$f":"IF($D103>6,\"\",IF(H$5<=(VLOOKUP($A103,masterlist!$C$2:$AC$200,27,FALSE)),1,\"\"))","v":""},{"$f":"IF($D103>6,\"\",IF(I$5<=(VLOOKUP($A103,masterlist!$C$2:$AC$200,27,FALSE)),1,\"\"))","v":""},{"$f":"IF($D103>6,\"\",IF(J$5<=(VLOOKUP($A103,masterlist!$C$2:$AC$200,27,FALSE)),1,\"\"))","v":""},{"$f":"IF($D103>6,\"\",IF(K$5<=(VLOOKUP($A103,masterlist!$C$2:$AC$200,27,FALSE)),1,\"\"))","v":""},{"$f":"IF($D103>6,\"\",IF(L$5<=(VLOOKUP($A103,masterlist!$C$2:$AC$200,27,FALSE)),1,\"\"))","v":""},{"$f":"IF($D103>6,\"\",IF(M$5<=(VLOOKUP($A103,masterlist!$C$2:$AC$200,27,FALSE)),1,\"\"))","v":""},{"$f":"IF($D103>6,\"\",IF(N$5<=(VLOOKUP($A103,masterlist!$C$2:$AC$200,27,FALSE)),1,\"\"))","v":""},{"$f":"IF($D103>6,\"\",IF(O$5<=(VLOOKUP($A103,masterlist!$C$2:$AC$200,27,FALSE)),1,\"\"))","v":""},{"$f":"IF($D103>6,\"\",IF(P$5<=(VLOOKUP($A103,masterlist!$C$2:$AC$200,27,FALSE)),1,\"\"))","v":""},{"$f":"IF($D103>6,\"\",IF(Q$5<=(VLOOKUP($A103,masterlist!$C$2:$AC$200,27,FALSE)),1,\"\"))","v":""},{"$f":"IF($D103>6,\"\",IF(R$5<=(VLOOKUP($A103,masterlist!$C$2:$AC$200,27,FALSE)),1,\"\"))","v":""},null,null,null,null,0,0,0,0,0,0,0,0,0,0,0,0,0]
[{"$f":"IFERROR(priorit!A103,\"\")","v":""},"",{"$f":"IFERROR(VLOOKUP($A104,masterlist!$C$2:$AA$200,2,FALSE),\"\")","v":""},{"$f":"IFERROR(VLOOKUP($A104,masterlist!$C$2:$AA$200,3,FALSE),\"\")","v":""},{"$f":"IFERROR(VLOOKUP($A104,masterlist!$C$2:$AA$200,5,FALSE),\"\")","v":""},{"$f":"IF($D104>6,\"\",IF(F$5<=(VLOOKUP($A104,masterlist!$C$2:$AC$200,27,FALSE)),1,\"\"))","v":""},{"$f":"IF($D104>6,\"\",IF(G$5<=(VLOOKUP($A104,masterlist!$C$2:$AC$200,27,FALSE)),1,\"\"))","v":""},{"$f":"IF($D104>6,\"\",IF(H$5<=(VLOOKUP($A104,masterlist!$C$2:$AC$200,27,FALSE)),1,\"\"))","v":""},{"$f":"IF($D104>6,\"\",IF(I$5<=(VLOOKUP($A104,masterlist!$C$2:$AC$200,27,FALSE)),1,\"\"))","v":""},{"$f":"IF($D104>6,\"\",IF(J$5<=(VLOOKUP($A104,masterlist!$C$2:$AC$200,27,FALSE)),1,\"\"))","v":""},{"$f":"IF($D104>6,\"\",IF(K$5<=(VLOOKUP($A104,masterlist!$C$2:$AC$200,27,FALSE)),1,\"\"))","v":""},{"$f":"IF($D104>6,\"\",IF(L$5<=(VLOOKUP($A104,masterlist!$C$2:$AC$200,27,FALSE)),1,\"\"))","v":""},{"$f":"IF($D104>6,\"\",IF(M$5<=(VLOOKUP($A104,masterlist!$C$2:$AC$200,27,FALSE)),1,\"\"))","v":""},{"$f":"IF($D104>6,\"\",IF(N$5<=(VLOOKUP($A104,masterlist!$C$2:$AC$200,27,FALSE)),1,\"\"))","v":""},{"$f":"IF($D104>6,\"\",IF(O$5<=(VLOOKUP($A104,masterlist!$C$2:$AC$200,27,FALSE)),1,\"\"))","v":""},{"$f":"IF($D104>6,\"\",IF(P$5<=(VLOOKUP($A104,masterlist!$C$2:$AC$200,27,FALSE)),1,\"\"))","v":""},{"$f":"IF($D104>6,\"\",IF(Q$5<=(VLOOKUP($A104,masterlist!$C$2:$AC$200,27,FALSE)),1,\"\"))","v":""},{"$f":"IF($D104>6,\"\",IF(R$5<=(VLOOKUP($A104,masterlist!$C$2:$AC$200,27,FALSE)),1,\"\"))","v":""},null,null,null,null,0,0,0,0,0,0,0,0,0,0,0,0,0]
[{"$f":"IFERROR(priorit!A104,\"\")","v":""},"",{"$f":"IFERROR(VLOOKUP($A105,masterlist!$C$2:$AA$200,2,FALSE),\"\")","v":""},{"$f":"IFERROR(VLOOKUP($A105,masterlist!$C$2:$AA$200,3,FALSE),\"\")","v":""},{"$f":"IFERROR(VLOOKUP($A105,masterlist!$C$2:$AA$200,5,FALSE),\"\")","v":""},{"$f":"IF($D105>6,\"\",IF(F$5<=(VLOOKUP($A105,masterlist!$C$2:$AC$200,27,FALSE)),1,\"\"))","v":""},{"$f":"IF($D105>6,\"\",IF(G$5<=(VLOOKUP($A105,masterlist!$C$2:$AC$200,27,FALSE)),1,\"\"))","v":""},{"$f":"IF($D105>6,\"\",IF(H$5<=(VLOOKUP($A105,masterlist!$C$2:$AC$200,27,FALSE)),1,\"\"))","v":""},{"$f":"IF($D105>6,\"\",IF(I$5<=(VLOOKUP($A105,masterlist!$C$2:$AC$200,27,FALSE)),1,\"\"))","v":""},{"$f":"IF($D105>6,\"\",IF(J$5<=(VLOOKUP($A105,masterlist!$C$2:$AC$200,27,FALSE)),1,\"\"))","v":""},{"$f":"IF($D105>6,\"\",IF(K$5<=(VLOOKUP($A105,masterlist!$C$2:$AC$200,27,FALSE)),1,\"\"))","v":""},{"$f":"IF($D105>6,\"\",IF(L$5<=(VLOOKUP($A105,masterlist!$C$2:$AC$200,27,FALSE)),1,\"\"))","v":""},{"$f":"IF($D105>6,\"\",IF(M$5<=(VLOOKUP($A105,masterlist!$C$2:$AC$200,27,FALSE)),1,\"\"))","v":""},{"$f":"IF($D105>6,\"\",IF(N$5<=(VLOOKUP($A105,masterlist!$C$2:$AC$200,27,FALSE)),1,\"\"))","v":""},{"$f":"IF($D105>6,\"\",IF(O$5<=(VLOOKUP($A105,masterlist!$C$2:$AC$200,27,FALSE)),1,\"\"))","v":""},{"$f":"IF($D105>6,\"\",IF(P$5<=(VLOOKUP($A105,masterlist!$C$2:$AC$200,27,FALSE)),1,\"\"))","v":""},{"$f":"IF($D105>6,\"\",IF(Q$5<=(VLOOKUP($A105,masterlist!$C$2:$AC$200,27,FALSE)),1,\"\"))","v":""},{"$f":"IF($D105>6,\"\",IF(R$5<=(VLOOKUP($A105,masterlist!$C$2:$AC$200,27,FALSE)),1,\"\"))","v":""},null,null,null,null,0,0,0,0,0,0,0,0,0,0,0,0,0]
[{"$f":"IFERROR(priorit!A105,\"\")","v":""},"",{"$f":"IFERROR(VLOOKUP($A106,masterlist!$C$2:$AA$200,2,FALSE),\"\")","v":""},{"$f":"IFERROR(VLOOKUP($A106,masterlist!$C$2:$AA$200,3,FALSE),\"\")","v":""},{"$f":"IFERROR(VLOOKUP($A106,masterlist!$C$2:$AA$200,5,FALSE),\"\")","v":""},{"$f":"IF($D106>6,\"\",IF(F$5<=(VLOOKUP($A106,masterlist!$C$2:$AC$200,27,FALSE)),1,\"\"))","v":""},{"$f":"IF($D106>6,\"\",IF(G$5<=(VLOOKUP($A106,masterlist!$C$2:$AC$200,27,FALSE)),1,\"\"))","v":""},{"$f":"IF($D106>6,\"\",IF(H$5<=(VLOOKUP($A106,masterlist!$C$2:$AC$200,27,FALSE)),1,\"\"))","v":""},{"$f":"IF($D106>6,\"\",IF(I$5<=(VLOOKUP($A106,masterlist!$C$2:$AC$200,27,FALSE)),1,\"\"))","v":""},{"$f":"IF($D106>6,\"\",IF(J$5<=(VLOOKUP($A106,masterlist!$C$2:$AC$200,27,FALSE)),1,\"\"))","v":""},{"$f":"IF($D106>6,\"\",IF(K$5<=(VLOOKUP($A106,masterlist!$C$2:$AC$200,27,FALSE)),1,\"\"))","v":""},{"$f":"IF($D106>6,\"\",IF(L$5<=(VLOOKUP($A106,masterlist!$C$2:$AC$200,27,FALSE)),1,\"\"))","v":""},{"$f":"IF($D106>6,\"\",IF(M$5<=(VLOOKUP($A106,masterlist!$C$2:$AC$200,27,FALSE)),1,\"\"))","v":""},{"$f":"IF($D106>6,\"\",IF(N$5<=(VLOOKUP($A106,masterlist!$C$2:$AC$200,27,FALSE)),1,\"\"))","v":""},{"$f":"IF($D106>6,\"\",IF(O$5<=(VLOOKUP($A106,masterlist!$C$2:$AC$200,27,FALSE)),1,\"\"))","v":""},{"$f":"IF($D106>6,\"\",IF(P$5<=(VLOOKUP($A106,masterlist!$C$2:$AC$200,27,FALSE)),1,\"\"))","v":""},{"$f":"IF($D106>6,\"\",IF(Q$5<=(VLOOKUP($A106,masterlist!$C$2:$AC$200,27,FALSE)),1,\"\"))","v":""},{"$f":"IF($D106>6,\"\",IF(R$5<=(VLOOKUP($A106,masterlist!$C$2:$AC$200,27,FALSE)),1,\"\"))","v":""},null,null,null,null,0,0,0,0,0,0,0,0,0,0,0,0,0]
[{"$f":"IFERROR(priorit!A106,\"\")","v":""},"",{"$f":"IFERROR(VLOOKUP($A107,masterlist!$C$2:$AA$200,2,FALSE),\"\")","v":""},{"$f":"IFERROR(VLOOKUP($A107,masterlist!$C$2:$AA$200,3,FALSE),\"\")","v":""},{"$f":"IFERROR(VLOOKUP($A107,masterlist!$C$2:$AA$200,5,FALSE),\"\")","v":""},{"$f":"IF($D107>6,\"\",IF(F$5<=(VLOOKUP($A107,masterlist!$C$2:$AC$200,27,FALSE)),1,\"\"))","v":""},{"$f":"IF($D107>6,\"\",IF(G$5<=(VLOOKUP($A107,masterlist!$C$2:$AC$200,27,FALSE)),1,\"\"))","v":""},{"$f":"IF($D107>6,\"\",IF(H$5<=(VLOOKUP($A107,masterlist!$C$2:$AC$200,27,FALSE)),1,\"\"))","v":""},{"$f":"IF($D107>6,\"\",IF(I$5<=(VLOOKUP($A107,masterlist!$C$2:$AC$200,27,FALSE)),1,\"\"))","v":""},{"$f":"IF($D107>6,\"\",IF(J$5<=(VLOOKUP($A107,masterlist!$C$2:$AC$200,27,FALSE)),1,\"\"))","v":""},{"$f":"IF($D107>6,\"\",IF(K$5<=(VLOOKUP($A107,masterlist!$C$2:$AC$200,27,FALSE)),1,\"\"))","v":""},{"$f":"IF($D107>6,\"\",IF(L$5<=(VLOOKUP($A107,masterlist!$C$2:$AC$200,27,FALSE)),1,\"\"))","v":""},{"$f":"IF($D107>6,\"\",IF(M$5<=(VLOOKUP($A107,masterlist!$C$2:$AC$200,27,FALSE)),1,\"\"))","v":""},{"$f":"IF($D107>6,\"\",IF(N$5<=(VLOOKUP($A107,masterlist!$C$2:$AC$200,27,FALSE)),1,\"\"))","v":""},{"$f":"IF($D107>6,\"\",IF(O$5<=(VLOOKUP($A107,masterlist!$C$2:$AC$200,27,FALSE)),1,\"\"))","v":""},{"$f":"IF($D107>6,\"\",IF(P$5<=(VLOOKUP($A107,masterlist!$C$2:$AC$200,27,FALSE)),1,\"\"))","v":""},{"$f":"IF($D107>6,\"\",IF(Q$5<=(VLOOKUP($A107,masterlist!$C$2:$AC$200,27,FALSE)),1,\"\"))","v":""},{"$f":"IF($D107>6,\"\",IF(R$5<=(VLOOKUP($A107,masterlist!$C$2:$AC$200,27,FALSE)),1,\"\"))","v":""},null,null,null,null,0,0,0,0,0,0,0,0,0,0,0,0,0]
[{"$f":"IFERROR(priorit!A107,\"\")","v":""},"",{"$f":"IFERROR(VLOOKUP($A108,masterlist!$C$2:$AA$200,2,FALSE),\"\")","v":""},{"$f":"IFERROR(VLOOKUP($A108,masterlist!$C$2:$AA$200,3,FALSE),\"\")","v":""},{"$f":"IFERROR(VLOOKUP($A108,masterlist!$C$2:$AA$200,5,FALSE),\"\")","v":""},{"$f":"IF($D108>6,\"\",IF(F$5<=(VLOOKUP($A108,masterlist!$C$2:$AC$200,27,FALSE)),1,\"\"))","v":""},{"$f":"IF($D108>6,\"\",IF(G$5<=(VLOOKUP($A108,masterlist!$C$2:$AC$200,27,FALSE)),1,\"\"))","v":""},{"$f":"IF($D108>6,\"\",IF(H$5<=(VLOOKUP($A108,masterlist!$C$2:$AC$200,27,FALSE)),1,\"\"))","v":""},{"$f":"IF($D108>6,\"\",IF(I$5<=(VLOOKUP($A108,masterlist!$C$2:$AC$200,27,FALSE)),1,\"\"))","v":""},{"$f":"IF($D108>6,\"\",IF(J$5<=(VLOOKUP($A108,masterlist!$C$2:$AC$200,27,FALSE)),1,\"\"))","v":""},{"$f":"IF($D108>6,\"\",IF(K$5<=(VLOOKUP($A108,masterlist!$C$2:$AC$200,27,FALSE)),1,\"\"))","v":""},{"$f":"IF($D108>6,\"\",IF(L$5<=(VLOOKUP($A108,masterlist!$C$2:$AC$200,27,FALSE)),1,\"\"))","v":""},{"$f":"IF($D108>6,\"\",IF(M$5<=(VLOOKUP($A108,masterlist!$C$2:$AC$200,27,FALSE)),1,\"\"))","v":""},{"$f":"IF($D108>6,\"\",IF(N$5<=(VLOOKUP($A108,masterlist!$C$2:$AC$200,27,FALSE)),1,\"\"))","v":""},{"$f":"IF($D108>6,\"\",IF(O$5<=(VLOOKUP($A108,masterlist!$C$2:$AC$200,27,FALSE)),1,\"\"))","v":""},{"$f":"IF($D108>6,\"\",IF(P$5<=(VLOOKUP($A108,masterlist!$C$2:$AC$200,27,FALSE)),1,\"\"))","v":""},{"$f":"IF($D108>6,\"\",IF(Q$5<=(VLOOKUP($A108,masterlist!$C$2:$AC$200,27,FALSE)),1,\"\"))","v":""},{"$f":"IF($D108>6,\"\",IF(R$5<=(VLOOKUP($A108,masterlist!$C$2:$AC$200,27,FALSE)),1,\"\"))","v":""},null,null,null,null,0,0,0,0,0,0,0,0,0,0,0,0,0]
[{"$f":"IFERROR(priorit!A108,\"\")","v":""},"",{"$f":"IFERROR(VLOOKUP($A109,masterlist!$C$2:$AA$200,2,FALSE),\"\")","v":""},{"$f":"IFERROR(VLOOKUP($A109,masterlist!$C$2:$AA$200,3,FALSE),\"\")","v":""},{"$f":"IFERROR(VLOOKUP($A109,masterlist!$C$2:$AA$200,5,FALSE),\"\")","v":""},{"$f":"IF($D109>6,\"\",IF(F$5<=(VLOOKUP($A109,masterlist!$C$2:$AC$200,27,FALSE)),1,\"\"))","v":""},{"$f":"IF($D109>6,\"\",IF(G$5<=(VLOOKUP($A109,masterlist!$C$2:$AC$200,27,FALSE)),1,\"\"))","v":""},{"$f":"IF($D109>6,\"\",IF(H$5<=(VLOOKUP($A109,masterlist!$C$2:$AC$200,27,FALSE)),1,\"\"))","v":""},{"$f":"IF($D109>6,\"\",IF(I$5<=(VLOOKUP($A109,masterlist!$C$2:$AC$200,27,FALSE)),1,\"\"))","v":""},{"$f":"IF($D109>6,\"\",IF(J$5<=(VLOOKUP($A109,masterlist!$C$2:$AC$200,27,FALSE)),1,\"\"))","v":""},{"$f":"IF($D109>6,\"\",IF(K$5<=(VLOOKUP($A109,masterlist!$C$2:$AC$200,27,FALSE)),1,\"\"))","v":""},{"$f":"IF($D109>6,\"\",IF(L$5<=(VLOOKUP($A109,masterlist!$C$2:$AC$200,27,FALSE)),1,\"\"))","v":""},{"$f":"IF($D109>6,\"\",IF(M$5<=(VLOOKUP($A109,masterlist!$C$2:$AC$200,27,FALSE)),1,\"\"))","v":""},{"$f":"IF($D109>6,\"\",IF(N$5<=(VLOOKUP($A109,masterlist!$C$2:$AC$200,27,FALSE)),1,\"\"))","v":""},{"$f":"IF($D109>6,\"\",IF(O$5<=(VLOOKUP($A109,masterlist!$C$2:$AC$200,27,FALSE)),1,\"\"))","v":""},{"$f":"IF($D109>6,\"\",IF(P$5<=(VLOOKUP($A109,masterlist!$C$2:$AC$200,27,FALSE)),1,\"\"))","v":""},{"$f":"IF($D109>6,\"\",IF(Q$5<=(VLOOKUP($A109,masterlist!$C$2:$AC$200,27,FALSE)),1,\"\"))","v":""},{"$f":"IF($D109>6,\"\",IF(R$5<=(VLOOKUP($A109,masterlist!$C$2:$AC$200,27,FALSE)),1,\"\"))","v":""},null,null,null,null,0,0,0,0,0,0,0,0,0,0,0,0,0]
[{"$f":"IFERROR(priorit!A109,\"\")","v":""},"",{"$f":"IFERROR(VLOOKUP($A110,masterlist!$C$2:$AA$200,2,FALSE),\"\")","v":""},{"$f":"IFERROR(VLOOKUP($A110,masterlist!$C$2:$AA$200,3,FALSE),\"\")","v":""},{"$f":"IFERROR(VLOOKUP($A110,masterlist!$C$2:$AA$200,5,FALSE),\"\")","v":""},{"$f":"IF($D110>6,\"\",IF(F$5<=(VLOOKUP($A110,masterlist!$C$2:$AC$200,27,FALSE)),1,\"\"))","v":""},{"$f":"IF($D110>6,\"\",IF(G$5<=(VLOOKUP($A110,masterlist!$C$2:$AC$200,27,FALSE)),1,\"\"))","v":""},{"$f":"IF($D110>6,\"\",IF(H$5<=(VLOOKUP($A110,masterlist!$C$2:$AC$200,27,FALSE)),1,\"\"))","v":""},{"$f":"IF($D110>6,\"\",IF(I$5<=(VLOOKUP($A110,masterlist!$C$2:$AC$200,27,FALSE)),1,\"\"))","v":""},{"$f":"IF($D110>6,\"\",IF(J$5<=(VLOOKUP($A110,masterlist!$C$2:$AC$200,27,FALSE)),1,\"\"))","v":""},{"$f":"IF($D110>6,\"\",IF(K$5<=(VLOOKUP($A110,masterlist!$C$2:$AC$200,27,FALSE)),1,\"\"))","v":""},{"$f":"IF($D110>6,\"\",IF(L$5<=(VLOOKUP($A110,masterlist!$C$2:$AC$200,27,FALSE)),1,\"\"))","v":""},{"$f":"IF($D110>6,\"\",IF(M$5<=(VLOOKUP($A110,masterlist!$C$2:$AC$200,27,FALSE)),1,\"\"))","v":""},{"$f":"IF($D110>6,\"\",IF(N$5<=(VLOOKUP($A110,masterlist!$C$2:$AC$200,27,FALSE)),1,\"\"))","v":""},{"$f":"IF($D110>6,\"\",IF(O$5<=(VLOOKUP($A110,masterlist!$C$2:$AC$200,27,FALSE)),1,\"\"))","v":""},{"$f":"IF($D110>6,\"\",IF(P$5<=(VLOOKUP($A110,masterlist!$C$2:$AC$200,27,FALSE)),1,\"\"))","v":""},{"$f":"IF($D110>6,\"\",IF(Q$5<=(VLOOKUP($A110,masterlist!$C$2:$AC$200,27,FALSE)),1,\"\"))","v":""},{"$f":"IF($D110>6,\"\",IF(R$5<=(VLOOKUP($A110,masterlist!$C$2:$AC$200,27,FALSE)),1,\"\"))","v":""},null,null,null,null,0,0,0,0,0,0,0,0,0,0,0,0,0]
[{"$f":"IFERROR(priorit!A110,\"\")","v":""},"",{"$f":"IFERROR(VLOOKUP($A111,masterlist!$C$2:$AA$200,2,FALSE),\"\")","v":""},{"$f":"IFERROR(VLOOKUP($A111,masterlist!$C$2:$AA$200,3,FALSE),\"\")","v":""},{"$f":"IFERROR(VLOOKUP($A111,masterlist!$C$2:$AA$200,5,FALSE),\"\")","v":""},{"$f":"IF($D111>6,\"\",IF(F$5<=(VLOOKUP($A111,masterlist!$C$2:$AC$200,27,FALSE)),1,\"\"))","v":""},{"$f":"IF($D111>6,\"\",IF(G$5<=(VLOOKUP($A111,masterlist!$C$2:$AC$200,27,FALSE)),1,\"\"))","v":""},{"$f":"IF($D111>6,\"\",IF(H$5<=(VLOOKUP($A111,masterlist!$C$2:$AC$200,27,FALSE)),1,\"\"))","v":""},{"$f":"IF($D111>6,\"\",IF(I$5<=(VLOOKUP($A111,masterlist!$C$2:$AC$200,27,FALSE)),1,\"\"))","v":""},{"$f":"IF($D111>6,\"\",IF(J$5<=(VLOOKUP($A111,masterlist!$C$2:$AC$200,27,FALSE)),1,\"\"))","v":""},{"$f":"IF($D111>6,\"\",IF(K$5<=(VLOOKUP($A111,masterlist!$C$2:$AC$200,27,FALSE)),1,\"\"))","v":""},{"$f":"IF($D111>6,\"\",IF(L$5<=(VLOOKUP($A111,masterlist!$C$2:$AC$200,27,FALSE)),1,\"\"))","v":""},{"$f":"IF($D111>6,\"\",IF(M$5<=(VLOOKUP($A111,masterlist!$C$2:$AC$200,27,FALSE)),1,\"\"))","v":""},{"$f":"IF($D111>6,\"\",IF(N$5<=(VLOOKUP($A111,masterlist!$C$2:$AC$200,27,FALSE)),1,\"\"))","v":""},{"$f":"IF($D111>6,\"\",IF(O$5<=(VLOOKUP($A111,masterlist!$C$2:$AC$200,27,FALSE)),1,\"\"))","v":""},{"$f":"IF($D111>6,\"\",IF(P$5<=(VLOOKUP($A111,masterlist!$C$2:$AC$200,27,FALSE)),1,\"\"))","v":""},{"$f":"IF($D111>6,\"\",IF(Q$5<=(VLOOKUP($A111,masterlist!$C$2:$AC$200,27,FALSE)),1,\"\"))","v":""},{"$f":"IF($D111>6,\"\",IF(R$5<=(VLOOKUP($A111,masterlist!$C$2:$AC$200,27,FALSE)),1,\"\"))","v":""},null,null,null,null,0,0,0,0,0,0,0,0,0,0,0,0,0]
[{"$f":"IFERROR(priorit!A111,\"\")","v":""},"",{"$f":"IFERROR(VLOOKUP($A112,masterlist!$C$2:$AA$200,2,FALSE),\"\")","v":""},{"$f":"IFERROR(VLOOKUP($A112,masterlist!$C$2:$AA$200,3,FALSE),\"\")","v":""},{"$f":"IFERROR(VLOOKUP($A112,masterlist!$C$2:$AA$200,5,FALSE),\"\")","v":""},{"$f":"IF($D112>6,\"\",IF(F$5<=(VLOOKUP($A112,masterlist!$C$2:$AC$200,27,FALSE)),1,\"\"))","v":""},{"$f":"IF($D112>6,\"\",IF(G$5<=(VLOOKUP($A112,masterlist!$C$2:$AC$200,27,FALSE)),1,\"\"))","v":""},{"$f":"IF($D112>6,\"\",IF(H$5<=(VLOOKUP($A112,masterlist!$C$2:$AC$200,27,FALSE)),1,\"\"))","v":""},{"$f":"IF($D112>6,\"\",IF(I$5<=(VLOOKUP($A112,masterlist!$C$2:$AC$200,27,FALSE)),1,\"\"))","v":""},{"$f":"IF($D112>6,\"\",IF(J$5<=(VLOOKUP($A112,masterlist!$C$2:$AC$200,27,FALSE)),1,\"\"))","v":""},{"$f":"IF($D112>6,\"\",IF(K$5<=(VLOOKUP($A112,masterlist!$C$2:$AC$200,27,FALSE)),1,\"\"))","v":""},{"$f":"IF($D112>6,\"\",IF(L$5<=(VLOOKUP($A112,masterlist!$C$2:$AC$200,27,FALSE)),1,\"\"))","v":""},{"$f":"IF($D112>6,\"\",IF(M$5<=(VLOOKUP($A112,masterlist!$C$2:$AC$200,27,FALSE)),1,\"\"))","v":""},{"$f":"IF($D112>6,\"\",IF(N$5<=(VLOOKUP($A112,masterlist!$C$2:$AC$200,27,FALSE)),1,\"\"))","v":""},{"$f":"IF($D112>6,\"\",IF(O$5<=(VLOOKUP($A112,masterlist!$C$2:$AC$200,27,FALSE)),1,\"\"))","v":""},{"$f":"IF($D112>6,\"\",IF(P$5<=(VLOOKUP($A112,masterlist!$C$2:$AC$200,27,FALSE)),1,\"\"))","v":""},{"$f":"IF($D112>6,\"\",IF(Q$5<=(VLOOKUP($A112,masterlist!$C$2:$AC$200,27,FALSE)),1,\"\"))","v":""},{"$f":"IF($D112>6,\"\",IF(R$5<=(VLOOKUP($A112,masterlist!$C$2:$AC$200,27,FALSE)),1,\"\"))","v":""},null,null,null,null,0,0,0,0,0,0,0,0,0,0,0,0,0]
[{"$f":"IFERROR(priorit!A112,\"\")","v":""},"",{"$f":"IFERROR(VLOOKUP($A113,masterlist!$C$2:$AA$200,2,FALSE),\"\")","v":""},{"$f":"IFERROR(VLOOKUP($A113,masterlist!$C$2:$AA$200,3,FALSE),\"\")","v":""},{"$f":"IFERROR(VLOOKUP($A113,masterlist!$C$2:$AA$200,5,FALSE),\"\")","v":""},{"$f":"IF($D113>6,\"\",IF(F$5<=(VLOOKUP($A113,masterlist!$C$2:$AC$200,27,FALSE)),1,\"\"))","v":""},{"$f":"IF($D113>6,\"\",IF(G$5<=(VLOOKUP($A113,masterlist!$C$2:$AC$200,27,FALSE)),1,\"\"))","v":""},{"$f":"IF($D113>6,\"\",IF(H$5<=(VLOOKUP($A113,masterlist!$C$2:$AC$200,27,FALSE)),1,\"\"))","v":""},{"$f":"IF($D113>6,\"\",IF(I$5<=(VLOOKUP($A113,masterlist!$C$2:$AC$200,27,FALSE)),1,\"\"))","v":""},{"$f":"IF($D113>6,\"\",IF(J$5<=(VLOOKUP($A113,masterlist!$C$2:$AC$200,27,FALSE)),1,\"\"))","v":""},{"$f":"IF($D113>6,\"\",IF(K$5<=(VLOOKUP($A113,masterlist!$C$2:$AC$200,27,FALSE)),1,\"\"))","v":""},{"$f":"IF($D113>6,\"\",IF(L$5<=(VLOOKUP($A113,masterlist!$C$2:$AC$200,27,FALSE)),1,\"\"))","v":""},{"$f":"IF($D113>6,\"\",IF(M$5<=(VLOOKUP($A113,masterlist!$C$2:$AC$200,27,FALSE)),1,\"\"))","v":""},{"$f":"IF($D113>6,\"\",IF(N$5<=(VLOOKUP($A113,masterlist!$C$2:$AC$200,27,FALSE)),1,\"\"))","v":""},{"$f":"IF($D113>6,\"\",IF(O$5<=(VLOOKUP($A113,masterlist!$C$2:$AC$200,27,FALSE)),1,\"\"))","v":""},{"$f":"IF($D113>6,\"\",IF(P$5<=(VLOOKUP($A113,masterlist!$C$2:$AC$200,27,FALSE)),1,\"\"))","v":""},{"$f":"IF($D113>6,\"\",IF(Q$5<=(VLOOKUP($A113,masterlist!$C$2:$AC$200,27,FALSE)),1,\"\"))","v":""},{"$f":"IF($D113>6,\"\",IF(R$5<=(VLOOKUP($A113,masterlist!$C$2:$AC$200,27,FALSE)),1,\"\"))","v":""},null,null,null,null,0,0,0,0,0,0,0,0,0,0,0,0,0]
[{"$f":"IFERROR(priorit!A113,\"\")","v":""},"",{"$f":"IFERROR(VLOOKUP($A114,masterlist!$C$2:$AA$200,2,FALSE),\"\")","v":""},{"$f":"IFERROR(VLOOKUP($A114,masterlist!$C$2:$AA$200,3,FALSE),\"\")","v":""},{"$f":"IFERROR(VLOOKUP($A114,masterlist!$C$2:$AA$200,5,FALSE),\"\")","v":""},{"$f":"IF($D114>6,\"\",IF(F$5<=(VLOOKUP($A114,masterlist!$C$2:$AC$200,27,FALSE)),1,\"\"))","v":""},{"$f":"IF($D114>6,\"\",IF(G$5<=(VLOOKUP($A114,masterlist!$C$2:$AC$200,27,FALSE)),1,\"\"))","v":""},{"$f":"IF($D114>6,\"\",IF(H$5<=(VLOOKUP($A114,masterlist!$C$2:$AC$200,27,FALSE)),1,\"\"))","v":""},{"$f":"IF($D114>6,\"\",IF(I$5<=(VLOOKUP($A114,masterlist!$C$2:$AC$200,27,FALSE)),1,\"\"))","v":""},{"$f":"IF($D114>6,\"\",IF(J$5<=(VLOOKUP($A114,masterlist!$C$2:$AC$200,27,FALSE)),1,\"\"))","v":""},{"$f":"IF($D114>6,\"\",IF(K$5<=(VLOOKUP($A114,masterlist!$C$2:$AC$200,27,FALSE)),1,\"\"))","v":""},{"$f":"IF($D114>6,\"\",IF(L$5<=(VLOOKUP($A114,masterlist!$C$2:$AC$200,27,FALSE)),1,\"\"))","v":""},{"$f":"IF($D114>6,\"\",IF(M$5<=(VLOOKUP($A114,masterlist!$C$2:$AC$200,27,FALSE)),1,\"\"))","v":""},{"$f":"IF($D114>6,\"\",IF(N$5<=(VLOOKUP($A114,masterlist!$C$2:$AC$200,27,FALSE)),1,\"\"))","v":""},{"$f":"IF($D114>6,\"\",IF(O$5<=(VLOOKUP($A114,masterlist!$C$2:$AC$200,27,FALSE)),1,\"\"))","v":""},{"$f":"IF($D114>6,\"\",IF(P$5<=(VLOOKUP($A114,masterlist!$C$2:$AC$200,27,FALSE)),1,\"\"))","v":""},{"$f":"IF($D114>6,\"\",IF(Q$5<=(VLOOKUP($A114,masterlist!$C$2:$AC$200,27,FALSE)),1,\"\"))","v":""},{"$f":"IF($D114>6,\"\",IF(R$5<=(VLOOKUP($A114,masterlist!$C$2:$AC$200,27,FALSE)),1,\"\"))","v":""},null,null,null,null,0,0,0,0,0,0,0,0,0,0,0,0,0]
[{"$f":"IFERROR(priorit!A114,\"\")","v":""},"",{"$f":"IFERROR(VLOOKUP($A115,masterlist!$C$2:$AA$200,2,FALSE),\"\")","v":""},{"$f":"IFERROR(VLOOKUP($A115,masterlist!$C$2:$AA$200,3,FALSE),\"\")","v":""},{"$f":"IFERROR(VLOOKUP($A115,masterlist!$C$2:$AA$200,5,FALSE),\"\")","v":""},{"$f":"IF($D115>6,\"\",IF(F$5<=(VLOOKUP($A115,masterlist!$C$2:$AC$200,27,FALSE)),1,\"\"))","v":""},{"$f":"IF($D115>6,\"\",IF(G$5<=(VLOOKUP($A115,masterlist!$C$2:$AC$200,27,FALSE)),1,\"\"))","v":""},{"$f":"IF($D115>6,\"\",IF(H$5<=(VLOOKUP($A115,masterlist!$C$2:$AC$200,27,FALSE)),1,\"\"))","v":""},{"$f":"IF($D115>6,\"\",IF(I$5<=(VLOOKUP($A115,masterlist!$C$2:$AC$200,27,FALSE)),1,\"\"))","v":""},{"$f":"IF($D115>6,\"\",IF(J$5<=(VLOOKUP($A115,masterlist!$C$2:$AC$200,27,FALSE)),1,\"\"))","v":""},{"$f":"IF($D115>6,\"\",IF(K$5<=(VLOOKUP($A115,masterlist!$C$2:$AC$200,27,FALSE)),1,\"\"))","v":""},{"$f":"IF($D115>6,\"\",IF(L$5<=(VLOOKUP($A115,masterlist!$C$2:$AC$200,27,FALSE)),1,\"\"))","v":""},{"$f":"IF($D115>6,\"\",IF(M$5<=(VLOOKUP($A115,masterlist!$C$2:$AC$200,27,FALSE)),1,\"\"))","v":""},{"$f":"IF($D115>6,\"\",IF(N$5<=(VLOOKUP($A115,masterlist!$C$2:$AC$200,27,FALSE)),1,\"\"))","v":""},{"$f":"IF($D115>6,\"\",IF(O$5<=(VLOOKUP($A115,masterlist!$C$2:$AC$200,27,FALSE)),1,\"\"))","v":""},{"$f":"IF($D115>6,\"\",IF(P$5<=(VLOOKUP($A115,masterlist!$C$2:$AC$200,27,FALSE)),1,\"\"))","v":""},{"$f":"IF($D115>6,\"\",IF(Q$5<=(VLOOKUP($A115,masterlist!$C$2:$AC$200,27,FALSE)),1,\"\"))","v":""},{"$f":"IF($D115>6,\"\",IF(R$5<=(VLOOKUP($A115,masterlist!$C$2:$AC$200,27,FALSE)),1,\"\"))","v":""},null,null,null,null,0,0,0,0,0,0,0,0,0,0,0,0,0]
[{"$f":"IFERROR(priorit!A115,\"\")","v":""},"",{"$f":"IFERROR(VLOOKUP($A116,masterlist!$C$2:$AA$200,2,FALSE),\"\")","v":""},{"$f":"IFERROR(VLOOKUP($A116,masterlist!$C$2:$AA$200,3,FALSE),\"\")","v":""},{"$f":"IFERROR(VLOOKUP($A116,masterlist!$C$2:$AA$200,5,FALSE),\"\")","v":""},{"$f":"IF($D116>6,\"\",IF(F$5<=(VLOOKUP($A116,masterlist!$C$2:$AC$200,27,FALSE)),1,\"\"))","v":""},{"$f":"IF($D116>6,\"\",IF(G$5<=(VLOOKUP($A116,masterlist!$C$2:$AC$200,27,FALSE)),1,\"\"))","v":""},{"$f":"IF($D116>6,\"\",IF(H$5<=(VLOOKUP($A116,masterlist!$C$2:$AC$200,27,FALSE)),1,\"\"))","v":""},{"$f":"IF($D116>6,\"\",IF(I$5<=(VLOOKUP($A116,masterlist!$C$2:$AC$200,27,FALSE)),1,\"\"))","v":""},{"$f":"IF($D116>6,\"\",IF(J$5<=(VLOOKUP($A116,masterlist!$C$2:$AC$200,27,FALSE)),1,\"\"))","v":""},{"$f":"IF($D116>6,\"\",IF(K$5<=(VLOOKUP($A116,masterlist!$C$2:$AC$200,27,FALSE)),1,\"\"))","v":""},{"$f":"IF($D116>6,\"\",IF(L$5<=(VLOOKUP($A116,masterlist!$C$2:$AC$200,27,FALSE)),1,\"\"))","v":""},{"$f":"IF($D116>6,\"\",IF(M$5<=(VLOOKUP($A116,masterlist!$C$2:$AC$200,27,FALSE)),1,\"\"))","v":""},{"$f":"IF($D116>6,\"\",IF(N$5<=(VLOOKUP($A116,masterlist!$C$2:$AC$200,27,FALSE)),1,\"\"))","v":""},{"$f":"IF($D116>6,\"\",IF(O$5<=(VLOOKUP($A116,masterlist!$C$2:$AC$200,27,FALSE)),1,\"\"))","v":""},{"$f":"IF($D116>6,\"\",IF(P$5<=(VLOOKUP($A116,masterlist!$C$2:$AC$200,27,FALSE)),1,\"\"))","v":""},{"$f":"IF($D116>6,\"\",IF(Q$5<=(VLOOKUP($A116,masterlist!$C$2:$AC$200,27,FALSE)),1,\"\"))","v":""},{"$f":"IF($D116>6,\"\",IF(R$5<=(VLOOKUP($A116,masterlist!$C$2:$AC$200,27,FALSE)),1,\"\"))","v":""},null,null,null,null,0,0,0,0,0,0,0,0,0,0,0,0,0]
[{"$f":"IFERROR(priorit!A116,\"\")","v":""},"",{"$f":"IFERROR(VLOOKUP($A117,masterlist!$C$2:$AA$200,2,FALSE),\"\")","v":""},{"$f":"IFERROR(VLOOKUP($A117,masterlist!$C$2:$AA$200,3,FALSE),\"\")","v":""},{"$f":"IFERROR(VLOOKUP($A117,masterlist!$C$2:$AA$200,5,FALSE),\"\")","v":""},{"$f":"IF($D117>6,\"\",IF(F$5<=(VLOOKUP($A117,masterlist!$C$2:$AC$200,27,FALSE)),1,\"\"))","v":""},{"$f":"IF($D117>6,\"\",IF(G$5<=(VLOOKUP($A117,masterlist!$C$2:$AC$200,27,FALSE)),1,\"\"))","v":""},{"$f":"IF($D117>6,\"\",IF(H$5<=(VLOOKUP($A117,masterlist!$C$2:$AC$200,27,FALSE)),1,\"\"))","v":""},{"$f":"IF($D117>6,\"\",IF(I$5<=(VLOOKUP($A117,masterlist!$C$2:$AC$200,27,FALSE)),1,\"\"))","v":""},{"$f":"IF($D117>6,\"\",IF(J$5<=(VLOOKUP($A117,masterlist!$C$2:$AC$200,27,FALSE)),1,\"\"))","v":""},{"$f":"IF($D117>6,\"\",IF(K$5<=(VLOOKUP($A117,masterlist!$C$2:$AC$200,27,FALSE)),1,\"\"))","v":""},{"$f":"IF($D117>6,\"\",IF(L$5<=(VLOOKUP($A117,masterlist!$C$2:$AC$200,27,FALSE)),1,\"\"))","v":""},{"$f":"IF($D117>6,\"\",IF(M$5<=(VLOOKUP($A117,masterlist!$C$2:$AC$200,27,FALSE)),1,\"\"))","v":""},{"$f":"IF($D117>6,\"\",IF(N$5<=(VLOOKUP($A117,masterlist!$C$2:$AC$200,27,FALSE)),1,\"\"))","v":""},{"$f":"IF($D117>6,\"\",IF(O$5<=(VLOOKUP($A117,masterlist!$C$2:$AC$200,27,FALSE)),1,\"\"))","v":""},{"$f":"IF($D117>6,\"\",IF(P$5<=(VLOOKUP($A117,masterlist!$C$2:$AC$200,27,FALSE)),1,\"\"))","v":""},{"$f":"IF($D117>6,\"\",IF(Q$5<=(VLOOKUP($A117,masterlist!$C$2:$AC$200,27,FALSE)),1,\"\"))","v":""},{"$f":"IF($D117>6,\"\",IF(R$5<=(VLOOKUP($A117,masterlist!$C$2:$AC$200,27,FALSE)),1,\"\"))","v":""},null,null,null,null,0,0,0,0,0,0,0,0,0,0,0,0,0]
[{"$f":"IFERROR(priorit!A117,\"\")","v":""},"",{"$f":"IFERROR(VLOOKUP($A118,masterlist!$C$2:$AA$200,2,FALSE),\"\")","v":""},{"$f":"IFERROR(VLOOKUP($A118,masterlist!$C$2:$AA$200,3,FALSE),\"\")","v":""},{"$f":"IFERROR(VLOOKUP($A118,masterlist!$C$2:$AA$200,5,FALSE),\"\")","v":""},{"$f":"IF($D118>6,\"\",IF(F$5<=(VLOOKUP($A118,masterlist!$C$2:$AC$200,27,FALSE)),1,\"\"))","v":""},{"$f":"IF($D118>6,\"\",IF(G$5<=(VLOOKUP($A118,masterlist!$C$2:$AC$200,27,FALSE)),1,\"\"))","v":""},{"$f":"IF($D118>6,\"\",IF(H$5<=(VLOOKUP($A118,masterlist!$C$2:$AC$200,27,FALSE)),1,\"\"))","v":""},{"$f":"IF($D118>6,\"\",IF(I$5<=(VLOOKUP($A118,masterlist!$C$2:$AC$200,27,FALSE)),1,\"\"))","v":""},{"$f":"IF($D118>6,\"\",IF(J$5<=(VLOOKUP($A118,masterlist!$C$2:$AC$200,27,FALSE)),1,\"\"))","v":""},{"$f":"IF($D118>6,\"\",IF(K$5<=(VLOOKUP($A118,masterlist!$C$2:$AC$200,27,FALSE)),1,\"\"))","v":""},{"$f":"IF($D118>6,\"\",IF(L$5<=(VLOOKUP($A118,masterlist!$C$2:$AC$200,27,FALSE)),1,\"\"))","v":""},{"$f":"IF($D118>6,\"\",IF(M$5<=(VLOOKUP($A118,masterlist!$C$2:$AC$200,27,FALSE)),1,\"\"))","v":""},{"$f":"IF($D118>6,\"\",IF(N$5<=(VLOOKUP($A118,masterlist!$C$2:$AC$200,27,FALSE)),1,\"\"))","v":""},{"$f":"IF($D118>6,\"\",IF(O$5<=(VLOOKUP($A118,masterlist!$C$2:$AC$200,27,FALSE)),1,\"\"))","v":""},{"$f":"IF($D118>6,\"\",IF(P$5<=(VLOOKUP($A118,masterlist!$C$2:$AC$200,27,FALSE)),1,\"\"))","v":""},{"$f":"IF($D118>6,\"\",IF(Q$5<=(VLOOKUP($A118,masterlist!$C$2:$AC$200,27,FALSE)),1,\"\"))","v":""},{"$f":"IF($D118>6,\"\",IF(R$5<=(VLOOKUP($A118,masterlist!$C$2:$AC$200,27,FALSE)),1,\"\"))","v":""},null,null,null,null,0,0,0,0,0,0,0,0,0,0,0,0,0]
[{"$f":"IFERROR(priorit!A118,\"\")","v":""},"",{"$f":"IFERROR(VLOOKUP($A119,masterlist!$C$2:$AA$200,2,FALSE),\"\")","v":""},{"$f":"IFERROR(VLOOKUP($A119,masterlist!$C$2:$AA$200,3,FALSE),\"\")","v":""},{"$f":"IFERROR(VLOOKUP($A119,masterlist!$C$2:$AA$200,5,FALSE),\"\")","v":""},{"$f":"IF($D119>6,\"\",IF(F$5<=(VLOOKUP($A119,masterlist!$C$2:$AC$200,27,FALSE)),1,\"\"))","v":""},{"$f":"IF($D119>6,\"\",IF(G$5<=(VLOOKUP($A119,masterlist!$C$2:$AC$200,27,FALSE)),1,\"\"))","v":""},{"$f":"IF($D119>6,\"\",IF(H$5<=(VLOOKUP($A119,masterlist!$C$2:$AC$200,27,FALSE)),1,\"\"))","v":""},{"$f":"IF($D119>6,\"\",IF(I$5<=(VLOOKUP($A119,masterlist!$C$2:$AC$200,27,FALSE)),1,\"\"))","v":""},{"$f":"IF($D119>6,\"\",IF(J$5<=(VLOOKUP($A119,masterlist!$C$2:$AC$200,27,FALSE)),1,\"\"))","v":""},{"$f":"IF($D119>6,\"\",IF(K$5<=(VLOOKUP($A119,masterlist!$C$2:$AC$200,27,FALSE)),1,\"\"))","v":""},{"$f":"IF($D119>6,\"\",IF(L$5<=(VLOOKUP($A119,masterlist!$C$2:$AC$200,27,FALSE)),1,\"\"))","v":""},{"$f":"IF($D119>6,\"\",IF(M$5<=(VLOOKUP($A119,masterlist!$C$2:$AC$200,27,FALSE)),1,\"\"))","v":""},{"$f":"IF($D119>6,\"\",IF(N$5<=(VLOOKUP($A119,masterlist!$C$2:$AC$200,27,FALSE)),1,\"\"))","v":""},{"$f":"IF($D119>6,\"\",IF(O$5<=(VLOOKUP($A119,masterlist!$C$2:$AC$200,27,FALSE)),1,\"\"))","v":""},{"$f":"IF($D119>6,\"\",IF(P$5<=(VLOOKUP($A119,masterlist!$C$2:$AC$200,27,FALSE)),1,\"\"))","v":""},{"$f":"IF($D119>6,\"\",IF(Q$5<=(VLOOKUP($A119,masterlist!$C$2:$AC$200,27,FALSE)),1,\"\"))","v":""},{"$f":"IF($D119>6,\"\",IF(R$5<=(VLOOKUP($A119,masterlist!$C$2:$AC$200,27,FALSE)),1,\"\"))","v":""},null,null,null,null,0,0,0,0,0,0,0,0,0,0,0,0,0]
[{"$f":"IFERROR(priorit!A119,\"\")","v":""},"",{"$f":"IFERROR(VLOOKUP($A120,masterlist!$C$2:$AA$200,2,FALSE),\"\")","v":""},{"$f":"IFERROR(VLOOKUP($A120,masterlist!$C$2:$AA$200,3,FALSE),\"\")","v":""},{"$f":"IFERROR(VLOOKUP($A120,masterlist!$C$2:$AA$200,5,FALSE),\"\")","v":""},{"$f":"IF($D120>6,\"\",IF(F$5<=(VLOOKUP($A120,masterlist!$C$2:$AC$200,27,FALSE)),1,\"\"))","v":""},{"$f":"IF($D120>6,\"\",IF(G$5<=(VLOOKUP($A120,masterlist!$C$2:$AC$200,27,FALSE)),1,\"\"))","v":""},{"$f":"IF($D120>6,\"\",IF(H$5<=(VLOOKUP($A120,masterlist!$C$2:$AC$200,27,FALSE)),1,\"\"))","v":""},{"$f":"IF($D120>6,\"\",IF(I$5<=(VLOOKUP($A120,masterlist!$C$2:$AC$200,27,FALSE)),1,\"\"))","v":""},{"$f":"IF($D120>6,\"\",IF(J$5<=(VLOOKUP($A120,masterlist!$C$2:$AC$200,27,FALSE)),1,\"\"))","v":""},{"$f":"IF($D120>6,\"\",IF(K$5<=(VLOOKUP($A120,masterlist!$C$2:$AC$200,27,FALSE)),1,\"\"))","v":""},{"$f":"IF($D120>6,\"\",IF(L$5<=(VLOOKUP($A120,masterlist!$C$2:$AC$200,27,FALSE)),1,\"\"))","v":""},{"$f":"IF($D120>6,\"\",IF(M$5<=(VLOOKUP($A120,masterlist!$C$2:$AC$200,27,FALSE)),1,\"\"))","v":""},{"$f":"IF($D120>6,\"\",IF(N$5<=(VLOOKUP($A120,masterlist!$C$2:$AC$200,27,FALSE)),1,\"\"))","v":""},{"$f":"IF($D120>6,\"\",IF(O$5<=(VLOOKUP($A120,masterlist!$C$2:$AC$200,27,FALSE)),1,\"\"))","v":""},{"$f":"IF($D120>6,\"\",IF(P$5<=(VLOOKUP($A120,masterlist!$C$2:$AC$200,27,FALSE)),1,\"\"))","v":""},{"$f":"IF($D120>6,\"\",IF(Q$5<=(VLOOKUP($A120,masterlist!$C$2:$AC$200,27,FALSE)),1,\"\"))","v":""},{"$f":"IF($D120>6,\"\",IF(R$5<=(VLOOKUP($A120,masterlist!$C$2:$AC$200,27,FALSE)),1,\"\"))","v":""},null,null,null,null,0,0,0,0,0,0,0,0,0,0,0,0,0]
[{"$f":"IFERROR(priorit!A120,\"\")","v":""},"",{"$f":"IFERROR(VLOOKUP($A121,masterlist!$C$2:$AA$200,2,FALSE),\"\")","v":""},{"$f":"IFERROR(VLOOKUP($A121,masterlist!$C$2:$AA$200,3,FALSE),\"\")","v":""},{"$f":"IFERROR(VLOOKUP($A121,masterlist!$C$2:$AA$200,5,FALSE),\"\")","v":""},{"$f":"IF($D121>6,\"\",IF(F$5<=(VLOOKUP($A121,masterlist!$C$2:$AC$200,27,FALSE)),1,\"\"))","v":""},{"$f":"IF($D121>6,\"\",IF(G$5<=(VLOOKUP($A121,masterlist!$C$2:$AC$200,27,FALSE)),1,\"\"))","v":""},{"$f":"IF($D121>6,\"\",IF(H$5<=(VLOOKUP($A121,masterlist!$C$2:$AC$200,27,FALSE)),1,\"\"))","v":""},{"$f":"IF($D121>6,\"\",IF(I$5<=(VLOOKUP($A121,masterlist!$C$2:$AC$200,27,FALSE)),1,\"\"))","v":""},{"$f":"IF($D121>6,\"\",IF(J$5<=(VLOOKUP($A121,masterlist!$C$2:$AC$200,27,FALSE)),1,\"\"))","v":""},{"$f":"IF($D121>6,\"\",IF(K$5<=(VLOOKUP($A121,masterlist!$C$2:$AC$200,27,FALSE)),1,\"\"))","v":""},{"$f":"IF($D121>6,\"\",IF(L$5<=(VLOOKUP($A121,masterlist!$C$2:$AC$200,27,FALSE)),1,\"\"))","v":""},{"$f":"IF($D121>6,\"\",IF(M$5<=(VLOOKUP($A121,masterlist!$C$2:$AC$200,27,FALSE)),1,\"\"))","v":""},{"$f":"IF($D121>6,\"\",IF(N$5<=(VLOOKUP($A121,masterlist!$C$2:$AC$200,27,FALSE)),1,\"\"))","v":""},{"$f":"IF($D121>6,\"\",IF(O$5<=(VLOOKUP($A121,masterlist!$C$2:$AC$200,27,FALSE)),1,\"\"))","v":""},{"$f":"IF($D121>6,\"\",IF(P$5<=(VLOOKUP($A121,masterlist!$C$2:$AC$200,27,FALSE)),1,\"\"))","v":""},{"$f":"IF($D121>6,\"\",IF(Q$5<=(VLOOKUP($A121,masterlist!$C$2:$AC$200,27,FALSE)),1,\"\"))","v":""},{"$f":"IF($D121>6,\"\",IF(R$5<=(VLOOKUP($A121,masterlist!$C$2:$AC$200,27,FALSE)),1,\"\"))","v":""},null,null,null,null,0,0,0,0,0,0,0,0,0,0,0,0,0]
[{"$f":"IFERROR(priorit!A121,\"\")","v":""},"",{"$f":"IFERROR(VLOOKUP($A122,masterlist!$C$2:$AA$200,2,FALSE),\"\")","v":""},{"$f":"IFERROR(VLOOKUP($A122,masterlist!$C$2:$AA$200,3,FALSE),\"\")","v":""},{"$f":"IFERROR(VLOOKUP($A122,masterlist!$C$2:$AA$200,5,FALSE),\"\")","v":""},{"$f":"IF($D122>6,\"\",IF(F$5<=(VLOOKUP($A122,masterlist!$C$2:$AC$200,27,FALSE)),1,\"\"))","v":""},{"$f":"IF($D122>6,\"\",IF(G$5<=(VLOOKUP($A122,masterlist!$C$2:$AC$200,27,FALSE)),1,\"\"))","v":""},{"$f":"IF($D122>6,\"\",IF(H$5<=(VLOOKUP($A122,masterlist!$C$2:$AC$200,27,FALSE)),1,\"\"))","v":""},{"$f":"IF($D122>6,\"\",IF(I$5<=(VLOOKUP($A122,masterlist!$C$2:$AC$200,27,FALSE)),1,\"\"))","v":""},{"$f":"IF($D122>6,\"\",IF(J$5<=(VLOOKUP($A122,masterlist!$C$2:$AC$200,27,FALSE)),1,\"\"))","v":""},{"$f":"IF($D122>6,\"\",IF(K$5<=(VLOOKUP($A122,masterlist!$C$2:$AC$200,27,FALSE)),1,\"\"))","v":""},{"$f":"IF($D122>6,\"\",IF(L$5<=(VLOOKUP($A122,masterlist!$C$2:$AC$200,27,FALSE)),1,\"\"))","v":""},{"$f":"IF($D122>6,\"\",IF(M$5<=(VLOOKUP($A122,masterlist!$C$2:$AC$200,27,FALSE)),1,\"\"))","v":""},{"$f":"IF($D122>6,\"\",IF(N$5<=(VLOOKUP($A122,masterlist!$C$2:$AC$200,27,FALSE)),1,\"\"))","v":""},{"$f":"IF($D122>6,\"\",IF(O$5<=(VLOOKUP($A122,masterlist!$C$2:$AC$200,27,FALSE)),1,\"\"))","v":""},{"$f":"IF($D122>6,\"\",IF(P$5<=(VLOOKUP($A122,masterlist!$C$2:$AC$200,27,FALSE)),1,\"\"))","v":""},{"$f":"IF($D122>6,\"\",IF(Q$5<=(VLOOKUP($A122,masterlist!$C$2:$AC$200,27,FALSE)),1,\"\"))","v":""},{"$f":"IF($D122>6,\"\",IF(R$5<=(VLOOKUP($A122,masterlist!$C$2:$AC$200,27,FALSE)),1,\"\"))","v":""},null,null,null,null,0,0,0,0,0,0,0,0,0,0,0,0,0]
[{"$f":"IFERROR(priorit!A122,\"\")","v":""},"",{"$f":"IFERROR(VLOOKUP($A123,masterlist!$C$2:$AA$200,2,FALSE),\"\")","v":""},{"$f":"IFERROR(VLOOKUP($A123,masterlist!$C$2:$AA$200,3,FALSE),\"\")","v":""},{"$f":"IFERROR(VLOOKUP($A123,masterlist!$C$2:$AA$200,5,FALSE),\"\")","v":""},{"$f":"IF($D123>6,\"\",IF(F$5<=(VLOOKUP($A123,masterlist!$C$2:$AC$200,27,FALSE)),1,\"\"))","v":""},{"$f":"IF($D123>6,\"\",IF(G$5<=(VLOOKUP($A123,masterlist!$C$2:$AC$200,27,FALSE)),1,\"\"))","v":""},{"$f":"IF($D123>6,\"\",IF(H$5<=(VLOOKUP($A123,masterlist!$C$2:$AC$200,27,FALSE)),1,\"\"))","v":""},{"$f":"IF($D123>6,\"\",IF(I$5<=(VLOOKUP($A123,masterlist!$C$2:$AC$200,27,FALSE)),1,\"\"))","v":""},{"$f":"IF($D123>6,\"\",IF(J$5<=(VLOOKUP($A123,masterlist!$C$2:$AC$200,27,FALSE)),1,\"\"))","v":""},{"$f":"IF($D123>6,\"\",IF(K$5<=(VLOOKUP($A123,masterlist!$C$2:$AC$200,27,FALSE)),1,\"\"))","v":""},{"$f":"IF($D123>6,\"\",IF(L$5<=(VLOOKUP($A123,masterlist!$C$2:$AC$200,27,FALSE)),1,\"\"))","v":""},{"$f":"IF($D123>6,\"\",IF(M$5<=(VLOOKUP($A123,masterlist!$C$2:$AC$200,27,FALSE)),1,\"\"))","v":""},{"$f":"IF($D123>6,\"\",IF(N$5<=(VLOOKUP($A123,masterlist!$C$2:$AC$200,27,FALSE)),1,\"\"))","v":""},{"$f":"IF($D123>6,\"\",IF(O$5<=(VLOOKUP($A123,masterlist!$C$2:$AC$200,27,FALSE)),1,\"\"))","v":""},{"$f":"IF($D123>6,\"\",IF(P$5<=(VLOOKUP($A123,masterlist!$C$2:$AC$200,27,FALSE)),1,\"\"))","v":""},{"$f":"IF($D123>6,\"\",IF(Q$5<=(VLOOKUP($A123,masterlist!$C$2:$AC$200,27,FALSE)),1,\"\"))","v":""},{"$f":"IF($D123>6,\"\",IF(R$5<=(VLOOKUP($A123,masterlist!$C$2:$AC$200,27,FALSE)),1,\"\"))","v":""},null,null,null,null,0,0,0,0,0,0,0,0,0,0,0,0,0]
[{"$f":"IFERROR(priorit!A123,\"\")","v":""},"",{"$f":"IFERROR(VLOOKUP($A124,masterlist!$C$2:$AA$200,2,FALSE),\"\")","v":""},{"$f":"IFERROR(VLOOKUP($A124,masterlist!$C$2:$AA$200,3,FALSE),\"\")","v":""},{"$f":"IFERROR(VLOOKUP($A124,masterlist!$C$2:$AA$200,5,FALSE),\"\")","v":""},{"$f":"IF($D124>6,\"\",IF(F$5<=(VLOOKUP($A124,masterlist!$C$2:$AC$200,27,FALSE)),1,\"\"))","v":""},{"$f":"IF($D124>6,\"\",IF(G$5<=(VLOOKUP($A124,masterlist!$C$2:$AC$200,27,FALSE)),1,\"\"))","v":""},{"$f":"IF($D124>6,\"\",IF(H$5<=(VLOOKUP($A124,masterlist!$C$2:$AC$200,27,FALSE)),1,\"\"))","v":""},{"$f":"IF($D124>6,\"\",IF(I$5<=(VLOOKUP($A124,masterlist!$C$2:$AC$200,27,FALSE)),1,\"\"))","v":""},{"$f":"IF($D124>6,\"\",IF(J$5<=(VLOOKUP($A124,masterlist!$C$2:$AC$200,27,FALSE)),1,\"\"))","v":""},{"$f":"IF($D124>6,\"\",IF(K$5<=(VLOOKUP($A124,masterlist!$C$2:$AC$200,27,FALSE)),1,\"\"))","v":""},{"$f":"IF($D124>6,\"\",IF(L$5<=(VLOOKUP($A124,masterlist!$C$2:$AC$200,27,FALSE)),1,\"\"))","v":""},{"$f":"IF($D124>6,\"\",IF(M$5<=(VLOOKUP($A124,masterlist!$C$2:$AC$200,27,FALSE)),1,\"\"))","v":""},{"$f":"IF($D124>6,\"\",IF(N$5<=(VLOOKUP($A124,masterlist!$C$2:$AC$200,27,FALSE)),1,\"\"))","v":""},{"$f":"IF($D124>6,\"\",IF(O$5<=(VLOOKUP($A124,masterlist!$C$2:$AC$200,27,FALSE)),1,\"\"))","v":""},{"$f":"IF($D124>6,\"\",IF(P$5<=(VLOOKUP($A124,masterlist!$C$2:$AC$200,27,FALSE)),1,\"\"))","v":""},{"$f":"IF($D124>6,\"\",IF(Q$5<=(VLOOKUP($A124,masterlist!$C$2:$AC$200,27,FALSE)),1,\"\"))","v":""},{"$f":"IF($D124>6,\"\",IF(R$5<=(VLOOKUP($A124,masterlist!$C$2:$AC$200,27,FALSE)),1,\"\"))","v":""},null,null,null,null,0,0,0,0,0,0,0,0,0,0,0,0,0]
[{"$f":"IFERROR(priorit!A124,\"\")","v":""},"",{"$f":"IFERROR(VLOOKUP($A125,masterlist!$C$2:$AA$200,2,FALSE),\"\")","v":""},{"$f":"IFERROR(VLOOKUP($A125,masterlist!$C$2:$AA$200,3,FALSE),\"\")","v":""},{"$f":"IFERROR(VLOOKUP($A125,masterlist!$C$2:$AA$200,5,FALSE),\"\")","v":""},{"$f":"IF($D125>6,\"\",IF(F$5<=(VLOOKUP($A125,masterlist!$C$2:$AC$200,27,FALSE)),1,\"\"))","v":""},{"$f":"IF($D125>6,\"\",IF(G$5<=(VLOOKUP($A125,masterlist!$C$2:$AC$200,27,FALSE)),1,\"\"))","v":""},{"$f":"IF($D125>6,\"\",IF(H$5<=(VLOOKUP($A125,masterlist!$C$2:$AC$200,27,FALSE)),1,\"\"))","v":""},{"$f":"IF($D125>6,\"\",IF(I$5<=(VLOOKUP($A125,masterlist!$C$2:$AC$200,27,FALSE)),1,\"\"))","v":""},{"$f":"IF($D125>6,\"\",IF(J$5<=(VLOOKUP($A125,masterlist!$C$2:$AC$200,27,FALSE)),1,\"\"))","v":""},{"$f":"IF($D125>6,\"\",IF(K$5<=(VLOOKUP($A125,masterlist!$C$2:$AC$200,27,FALSE)),1,\"\"))","v":""},{"$f":"IF($D125>6,\"\",IF(L$5<=(VLOOKUP($A125,masterlist!$C$2:$AC$200,27,FALSE)),1,\"\"))","v":""},{"$f":"IF($D125>6,\"\",IF(M$5<=(VLOOKUP($A125,masterlist!$C$2:$AC$200,27,FALSE)),1,\"\"))","v":""},{"$f":"IF($D125>6,\"\",IF(N$5<=(VLOOKUP($A125,masterlist!$C$2:$AC$200,27,FALSE)),1,\"\"))","v":""},{"$f":"IF($D125>6,\"\",IF(O$5<=(VLOOKUP($A125,masterlist!$C$2:$AC$200,27,FALSE)),1,\"\"))","v":""},{"$f":"IF($D125>6,\"\",IF(P$5<=(VLOOKUP($A125,masterlist!$C$2:$AC$200,27,FALSE)),1,\"\"))","v":""},{"$f":"IF($D125>6,\"\",IF(Q$5<=(VLOOKUP($A125,masterlist!$C$2:$AC$200,27,FALSE)),1,\"\"))","v":""},{"$f":"IF($D125>6,\"\",IF(R$5<=(VLOOKUP($A125,masterlist!$C$2:$AC$200,27,FALSE)),1,\"\"))","v":""},null,null,null,null,0,0,0,0,0,0,0,0,0,0,0,0,0]
[{"$f":"IFERROR(priorit!A125,\"\")","v":""},"",{"$f":"IFERROR(VLOOKUP($A126,masterlist!$C$2:$AA$200,2,FALSE),\"\")","v":""},{"$f":"IFERROR(VLOOKUP($A126,masterlist!$C$2:$AA$200,3,FALSE),\"\")","v":""},{"$f":"IFERROR(VLOOKUP($A126,masterlist!$C$2:$AA$200,5,FALSE),\"\")","v":""},{"$f":"IF($D126>6,\"\",IF(F$5<=(VLOOKUP($A126,masterlist!$C$2:$AC$200,27,FALSE)),1,\"\"))","v":""},{"$f":"IF($D126>6,\"\",IF(G$5<=(VLOOKUP($A126,masterlist!$C$2:$AC$200,27,FALSE)),1,\"\"))","v":""},{"$f":"IF($D126>6,\"\",IF(H$5<=(VLOOKUP($A126,masterlist!$C$2:$AC$200,27,FALSE)),1,\"\"))","v":""},{"$f":"IF($D126>6,\"\",IF(I$5<=(VLOOKUP($A126,masterlist!$C$2:$AC$200,27,FALSE)),1,\"\"))","v":""},{"$f":"IF($D126>6,\"\",IF(J$5<=(VLOOKUP($A126,masterlist!$C$2:$AC$200,27,FALSE)),1,\"\"))","v":""},{"$f":"IF($D126>6,\"\",IF(K$5<=(VLOOKUP($A126,masterlist!$C$2:$AC$200,27,FALSE)),1,\"\"))","v":""},{"$f":"IF($D126>6,\"\",IF(L$5<=(VLOOKUP($A126,masterlist!$C$2:$AC$200,27,FALSE)),1,\"\"))","v":""},{"$f":"IF($D126>6,\"\",IF(M$5<=(VLOOKUP($A126,masterlist!$C$2:$AC$200,27,FALSE)),1,\"\"))","v":""},{"$f":"IF($D126>6,\"\",IF(N$5<=(VLOOKUP($A126,masterlist!$C$2:$AC$200,27,FALSE)),1,\"\"))","v":""},{"$f":"IF($D126>6,\"\",IF(O$5<=(VLOOKUP($A126,masterlist!$C$2:$AC$200,27,FALSE)),1,\"\"))","v":""},{"$f":"IF($D126>6,\"\",IF(P$5<=(VLOOKUP($A126,masterlist!$C$2:$AC$200,27,FALSE)),1,\"\"))","v":""},{"$f":"IF($D126>6,\"\",IF(Q$5<=(VLOOKUP($A126,masterlist!$C$2:$AC$200,27,FALSE)),1,\"\"))","v":""},{"$f":"IF($D126>6,\"\",IF(R$5<=(VLOOKUP($A126,masterlist!$C$2:$AC$200,27,FALSE)),1,\"\"))","v":""},null,null,null,null,0,0,0,0,0,0,0,0,0,0,0,0,0]
[{"$f":"IFERROR(priorit!A126,\"\")","v":""},"",{"$f":"IFERROR(VLOOKUP($A127,masterlist!$C$2:$AA$200,2,FALSE),\"\")","v":""},{"$f":"IFERROR(VLOOKUP($A127,masterlist!$C$2:$AA$200,3,FALSE),\"\")","v":""},{"$f":"IFERROR(VLOOKUP($A127,masterlist!$C$2:$AA$200,5,FALSE),\"\")","v":""},{"$f":"IF($D127>6,\"\",IF(F$5<=(VLOOKUP($A127,masterlist!$C$2:$AC$200,27,FALSE)),1,\"\"))","v":""},{"$f":"IF($D127>6,\"\",IF(G$5<=(VLOOKUP($A127,masterlist!$C$2:$AC$200,27,FALSE)),1,\"\"))","v":""},{"$f":"IF($D127>6,\"\",IF(H$5<=(VLOOKUP($A127,masterlist!$C$2:$AC$200,27,FALSE)),1,\"\"))","v":""},{"$f":"IF($D127>6,\"\",IF(I$5<=(VLOOKUP($A127,masterlist!$C$2:$AC$200,27,FALSE)),1,\"\"))","v":""},{"$f":"IF($D127>6,\"\",IF(J$5<=(VLOOKUP($A127,masterlist!$C$2:$AC$200,27,FALSE)),1,\"\"))","v":""},{"$f":"IF($D127>6,\"\",IF(K$5<=(VLOOKUP($A127,masterlist!$C$2:$AC$200,27,FALSE)),1,\"\"))","v":""},{"$f":"IF($D127>6,\"\",IF(L$5<=(VLOOKUP($A127,masterlist!$C$2:$AC$200,27,FALSE)),1,\"\"))","v":""},{"$f":"IF($D127>6,\"\",IF(M$5<=(VLOOKUP($A127,masterlist!$C$2:$AC$200,27,FALSE)),1,\"\"))","v":""},{"$f":"IF($D127>6,\"\",IF(N$5<=(VLOOKUP($A127,masterlist!$C$2:$AC$200,27,FALSE)),1,\"\"))","v":""},{"$f":"IF($D127>6,\"\",IF(O$5<=(VLOOKUP($A127,masterlist!$C$2:$AC$200,27,FALSE)),1,\"\"))","v":""},{"$f":"IF($D127>6,\"\",IF(P$5<=(VLOOKUP($A127,masterlist!$C$2:$AC$200,27,FALSE)),1,\"\"))","v":""},{"$f":"IF($D127>6,\"\",IF(Q$5<=(VLOOKUP($A127,masterlist!$C$2:$AC$200,27,FALSE)),1,\"\"))","v":""},{"$f":"IF($D127>6,\"\",IF(R$5<=(VLOOKUP($A127,masterlist!$C$2:$AC$200,27,FALSE)),1,\"\"))","v":""},null,null,null,null,0,0,0,0,0,0,0,0,0,0,0,0,0]
[{"$f":"IFERROR(priorit!A127,\"\")","v":""},"",{"$f":"IFERROR(VLOOKUP($A128,masterlist!$C$2:$AA$200,2,FALSE),\"\")","v":""},{"$f":"IFERROR(VLOOKUP($A128,masterlist!$C$2:$AA$200,3,FALSE),\"\")","v":""},{"$f":"IFERROR(VLOOKUP($A128,masterlist!$C$2:$AA$200,5,FALSE),\"\")","v":""},{"$f":"IF($D128>6,\"\",IF(F$5<=(VLOOKUP($A128,masterlist!$C$2:$AC$200,27,FALSE)),1,\"\"))","v":""},{"$f":"IF($D128>6,\"\",IF(G$5<=(VLOOKUP($A128,masterlist!$C$2:$AC$200,27,FALSE)),1,\"\"))","v":""},{"$f":"IF($D128>6,\"\",IF(H$5<=(VLOOKUP($A128,masterlist!$C$2:$AC$200,27,FALSE)),1,\"\"))","v":""},{"$f":"IF($D128>6,\"\",IF(I$5<=(VLOOKUP($A128,masterlist!$C$2:$AC$200,27,FALSE)),1,\"\"))","v":""},{"$f":"IF($D128>6,\"\",IF(J$5<=(VLOOKUP($A128,masterlist!$C$2:$AC$200,27,FALSE)),1,\"\"))","v":""},{"$f":"IF($D128>6,\"\",IF(K$5<=(VLOOKUP($A128,masterlist!$C$2:$AC$200,27,FALSE)),1,\"\"))","v":""},{"$f":"IF($D128>6,\"\",IF(L$5<=(VLOOKUP($A128,masterlist!$C$2:$AC$200,27,FALSE)),1,\"\"))","v":""},{"$f":"IF($D128>6,\"\",IF(M$5<=(VLOOKUP($A128,masterlist!$C$2:$AC$200,27,FALSE)),1,\"\"))","v":""},{"$f":"IF($D128>6,\"\",IF(N$5<=(VLOOKUP($A128,masterlist!$C$2:$AC$200,27,FALSE)),1,\"\"))","v":""},{"$f":"IF($D128>6,\"\",IF(O$5<=(VLOOKUP($A128,masterlist!$C$2:$AC$200,27,FALSE)),1,\"\"))","v":""},{"$f":"IF($D128>6,\"\",IF(P$5<=(VLOOKUP($A128,masterlist!$C$2:$AC$200,27,FALSE)),1,\"\"))","v":""},{"$f":"IF($D128>6,\"\",IF(Q$5<=(VLOOKUP($A128,masterlist!$C$2:$AC$200,27,FALSE)),1,\"\"))","v":""},{"$f":"IF($D128>6,\"\",IF(R$5<=(VLOOKUP($A128,masterlist!$C$2:$AC$200,27,FALSE)),1,\"\"))","v":""},null,null,null,null,0,0,0,0,0,0,0,0,0,0,0,0,0]
[{"$f":"IFERROR(priorit!A128,\"\")","v":""},"",{"$f":"IFERROR(VLOOKUP($A129,masterlist!$C$2:$AA$200,2,FALSE),\"\")","v":""},{"$f":"IFERROR(VLOOKUP($A129,masterlist!$C$2:$AA$200,3,FALSE),\"\")","v":""},{"$f":"IFERROR(VLOOKUP($A129,masterlist!$C$2:$AA$200,5,FALSE),\"\")","v":""},{"$f":"IF($D129>6,\"\",IF(F$5<=(VLOOKUP($A129,masterlist!$C$2:$AC$200,27,FALSE)),1,\"\"))","v":""},{"$f":"IF($D129>6,\"\",IF(G$5<=(VLOOKUP($A129,masterlist!$C$2:$AC$200,27,FALSE)),1,\"\"))","v":""},{"$f":"IF($D129>6,\"\",IF(H$5<=(VLOOKUP($A129,masterlist!$C$2:$AC$200,27,FALSE)),1,\"\"))","v":""},{"$f":"IF($D129>6,\"\",IF(I$5<=(VLOOKUP($A129,masterlist!$C$2:$AC$200,27,FALSE)),1,\"\"))","v":""},{"$f":"IF($D129>6,\"\",IF(J$5<=(VLOOKUP($A129,masterlist!$C$2:$AC$200,27,FALSE)),1,\"\"))","v":""},{"$f":"IF($D129>6,\"\",IF(K$5<=(VLOOKUP($A129,masterlist!$C$2:$AC$200,27,FALSE)),1,\"\"))","v":""},{"$f":"IF($D129>6,\"\",IF(L$5<=(VLOOKUP($A129,masterlist!$C$2:$AC$200,27,FALSE)),1,\"\"))","v":""},{"$f":"IF($D129>6,\"\",IF(M$5<=(VLOOKUP($A129,masterlist!$C$2:$AC$200,27,FALSE)),1,\"\"))","v":""},{"$f":"IF($D129>6,\"\",IF(N$5<=(VLOOKUP($A129,masterlist!$C$2:$AC$200,27,FALSE)),1,\"\"))","v":""},{"$f":"IF($D129>6,\"\",IF(O$5<=(VLOOKUP($A129,masterlist!$C$2:$AC$200,27,FALSE)),1,\"\"))","v":""},{"$f":"IF($D129>6,\"\",IF(P$5<=(VLOOKUP($A129,masterlist!$C$2:$AC$200,27,FALSE)),1,\"\"))","v":""},{"$f":"IF($D129>6,\"\",IF(Q$5<=(VLOOKUP($A129,masterlist!$C$2:$AC$200,27,FALSE)),1,\"\"))","v":""},{"$f":"IF($D129>6,\"\",IF(R$5<=(VLOOKUP($A129,masterlist!$C$2:$AC$200,27,FALSE)),1,\"\"))","v":""},null,null,null,null,0,0,0,0,0,0,0,0,0,0,0,0,0]
[{"$f":"IFERROR(priorit!A129,\"\")","v":""},"",{"$f":"IFERROR(VLOOKUP($A130,masterlist!$C$2:$AA$200,2,FALSE),\"\")","v":""},{"$f":"IFERROR(VLOOKUP($A130,masterlist!$C$2:$AA$200,3,FALSE),\"\")","v":""},{"$f":"IFERROR(VLOOKUP($A130,masterlist!$C$2:$AA$200,5,FALSE),\"\")","v":""},{"$f":"IF($D130>6,\"\",IF(F$5<=(VLOOKUP($A130,masterlist!$C$2:$AC$200,27,FALSE)),1,\"\"))","v":""},{"$f":"IF($D130>6,\"\",IF(G$5<=(VLOOKUP($A130,masterlist!$C$2:$AC$200,27,FALSE)),1,\"\"))","v":""},{"$f":"IF($D130>6,\"\",IF(H$5<=(VLOOKUP($A130,masterlist!$C$2:$AC$200,27,FALSE)),1,\"\"))","v":""},{"$f":"IF($D130>6,\"\",IF(I$5<=(VLOOKUP($A130,masterlist!$C$2:$AC$200,27,FALSE)),1,\"\"))","v":""},{"$f":"IF($D130>6,\"\",IF(J$5<=(VLOOKUP($A130,masterlist!$C$2:$AC$200,27,FALSE)),1,\"\"))","v":""},{"$f":"IF($D130>6,\"\",IF(K$5<=(VLOOKUP($A130,masterlist!$C$2:$AC$200,27,FALSE)),1,\"\"))","v":""},{"$f":"IF($D130>6,\"\",IF(L$5<=(VLOOKUP($A130,masterlist!$C$2:$AC$200,27,FALSE)),1,\"\"))","v":""},{"$f":"IF($D130>6,\"\",IF(M$5<=(VLOOKUP($A130,masterlist!$C$2:$AC$200,27,FALSE)),1,\"\"))","v":""},{"$f":"IF($D130>6,\"\",IF(N$5<=(VLOOKUP($A130,masterlist!$C$2:$AC$200,27,FALSE)),1,\"\"))","v":""},{"$f":"IF($D130>6,\"\",IF(O$5<=(VLOOKUP($A130,masterlist!$C$2:$AC$200,27,FALSE)),1,\"\"))","v":""},{"$f":"IF($D130>6,\"\",IF(P$5<=(VLOOKUP($A130,masterlist!$C$2:$AC$200,27,FALSE)),1,\"\"))","v":""},{"$f":"IF($D130>6,\"\",IF(Q$5<=(VLOOKUP($A130,masterlist!$C$2:$AC$200,27,FALSE)),1,\"\"))","v":""},{"$f":"IF($D130>6,\"\",IF(R$5<=(VLOOKUP($A130,masterlist!$C$2:$AC$200,27,FALSE)),1,\"\"))","v":""},null,null,null,null,0,0,0,0,0,0,0,0,0,0,0,0,0]
[{"$f":"IFERROR(priorit!A130,\"\")","v":""},"",{"$f":"IFERROR(VLOOKUP($A131,masterlist!$C$2:$AA$200,2,FALSE),\"\")","v":""},{"$f":"IFERROR(VLOOKUP($A131,masterlist!$C$2:$AA$200,3,FALSE),\"\")","v":""},{"$f":"IFERROR(VLOOKUP($A131,masterlist!$C$2:$AA$200,5,FALSE),\"\")","v":""},{"$f":"IF($D131>6,\"\",IF(F$5<=(VLOOKUP($A131,masterlist!$C$2:$AC$200,27,FALSE)),1,\"\"))","v":""},{"$f":"IF($D131>6,\"\",IF(G$5<=(VLOOKUP($A131,masterlist!$C$2:$AC$200,27,FALSE)),1,\"\"))","v":""},{"$f":"IF($D131>6,\"\",IF(H$5<=(VLOOKUP($A131,masterlist!$C$2:$AC$200,27,FALSE)),1,\"\"))","v":""},{"$f":"IF($D131>6,\"\",IF(I$5<=(VLOOKUP($A131,masterlist!$C$2:$AC$200,27,FALSE)),1,\"\"))","v":""},{"$f":"IF($D131>6,\"\",IF(J$5<=(VLOOKUP($A131,masterlist!$C$2:$AC$200,27,FALSE)),1,\"\"))","v":""},{"$f":"IF($D131>6,\"\",IF(K$5<=(VLOOKUP($A131,masterlist!$C$2:$AC$200,27,FALSE)),1,\"\"))","v":""},{"$f":"IF($D131>6,\"\",IF(L$5<=(VLOOKUP($A131,masterlist!$C$2:$AC$200,27,FALSE)),1,\"\"))","v":""},{"$f":"IF($D131>6,\"\",IF(M$5<=(VLOOKUP($A131,masterlist!$C$2:$AC$200,27,FALSE)),1,\"\"))","v":""},{"$f":"IF($D131>6,\"\",IF(N$5<=(VLOOKUP($A131,masterlist!$C$2:$AC$200,27,FALSE)),1,\"\"))","v":""},{"$f":"IF($D131>6,\"\",IF(O$5<=(VLOOKUP($A131,masterlist!$C$2:$AC$200,27,FALSE)),1,\"\"))","v":""},{"$f":"IF($D131>6,\"\",IF(P$5<=(VLOOKUP($A131,masterlist!$C$2:$AC$200,27,FALSE)),1,\"\"))","v":""},{"$f":"IF($D131>6,\"\",IF(Q$5<=(VLOOKUP($A131,masterlist!$C$2:$AC$200,27,FALSE)),1,\"\"))","v":""},{"$f":"IF($D131>6,\"\",IF(R$5<=(VLOOKUP($A131,masterlist!$C$2:$AC$200,27,FALSE)),1,\"\"))","v":""},null,null,null,null,0,0,0,0,0,0,0,0,0,0,0,0,0]
[{"$f":"IFERROR(priorit!A131,\"\")","v":""},"",{"$f":"IFERROR(VLOOKUP($A132,masterlist!$C$2:$AA$200,2,FALSE),\"\")","v":""},{"$f":"IFERROR(VLOOKUP($A132,masterlist!$C$2:$AA$200,3,FALSE),\"\")","v":""},{"$f":"IFERROR(VLOOKUP($A132,masterlist!$C$2:$AA$200,5,FALSE),\"\")","v":""},{"$f":"IF($D132>6,\"\",IF(F$5<=(VLOOKUP($A132,masterlist!$C$2:$AC$200,27,FALSE)),1,\"\"))","v":""},{"$f":"IF($D132>6,\"\",IF(G$5<=(VLOOKUP($A132,masterlist!$C$2:$AC$200,27,FALSE)),1,\"\"))","v":""},{"$f":"IF($D132>6,\"\",IF(H$5<=(VLOOKUP($A132,masterlist!$C$2:$AC$200,27,FALSE)),1,\"\"))","v":""},{"$f":"IF($D132>6,\"\",IF(I$5<=(VLOOKUP($A132,masterlist!$C$2:$AC$200,27,FALSE)),1,\"\"))","v":""},{"$f":"IF($D132>6,\"\",IF(J$5<=(VLOOKUP($A132,masterlist!$C$2:$AC$200,27,FALSE)),1,\"\"))","v":""},{"$f":"IF($D132>6,\"\",IF(K$5<=(VLOOKUP($A132,masterlist!$C$2:$AC$200,27,FALSE)),1,\"\"))","v":""},{"$f":"IF($D132>6,\"\",IF(L$5<=(VLOOKUP($A132,masterlist!$C$2:$AC$200,27,FALSE)),1,\"\"))","v":""},{"$f":"IF($D132>6,\"\",IF(M$5<=(VLOOKUP($A132,masterlist!$C$2:$AC$200,27,FALSE)),1,\"\"))","v":""},{"$f":"IF($D132>6,\"\",IF(N$5<=(VLOOKUP($A132,masterlist!$C$2:$AC$200,27,FALSE)),1,\"\"))","v":""},{"$f":"IF($D132>6,\"\",IF(O$5<=(VLOOKUP($A132,masterlist!$C$2:$AC$200,27,FALSE)),1,\"\"))","v":""},{"$f":"IF($D132>6,\"\",IF(P$5<=(VLOOKUP($A132,masterlist!$C$2:$AC$200,27,FALSE)),1,\"\"))","v":""},{"$f":"IF($D132>6,\"\",IF(Q$5<=(VLOOKUP($A132,masterlist!$C$2:$AC$200,27,FALSE)),1,\"\"))","v":""},{"$f":"IF($D132>6,\"\",IF(R$5<=(VLOOKUP($A132,masterlist!$C$2:$AC$200,27,FALSE)),1,\"\"))","v":""},null,null,null,null,0,0,0,0,0,0,0,0,0,0,0,0,0]
[{"$f":"IFERROR(priorit!A132,\"\")","v":""},"",{"$f":"IFERROR(VLOOKUP($A133,masterlist!$C$2:$AA$200,2,FALSE),\"\")","v":""},{"$f":"IFERROR(VLOOKUP($A133,masterlist!$C$2:$AA$200,3,FALSE),\"\")","v":""},{"$f":"IFERROR(VLOOKUP($A133,masterlist!$C$2:$AA$200,5,FALSE),\"\")","v":""},{"$f":"IF($D133>6,\"\",IF(F$5<=(VLOOKUP($A133,masterlist!$C$2:$AC$200,27,FALSE)),1,\"\"))","v":""},{"$f":"IF($D133>6,\"\",IF(G$5<=(VLOOKUP($A133,masterlist!$C$2:$AC$200,27,FALSE)),1,\"\"))","v":""},{"$f":"IF($D133>6,\"\",IF(H$5<=(VLOOKUP($A133,masterlist!$C$2:$AC$200,27,FALSE)),1,\"\"))","v":""},{"$f":"IF($D133>6,\"\",IF(I$5<=(VLOOKUP($A133,masterlist!$C$2:$AC$200,27,FALSE)),1,\"\"))","v":""},{"$f":"IF($D133>6,\"\",IF(J$5<=(VLOOKUP($A133,masterlist!$C$2:$AC$200,27,FALSE)),1,\"\"))","v":""},{"$f":"IF($D133>6,\"\",IF(K$5<=(VLOOKUP($A133,masterlist!$C$2:$AC$200,27,FALSE)),1,\"\"))","v":""},{"$f":"IF($D133>6,\"\",IF(L$5<=(VLOOKUP($A133,masterlist!$C$2:$AC$200,27,FALSE)),1,\"\"))","v":""},{"$f":"IF($D133>6,\"\",IF(M$5<=(VLOOKUP($A133,masterlist!$C$2:$AC$200,27,FALSE)),1,\"\"))","v":""},{"$f":"IF($D133>6,\"\",IF(N$5<=(VLOOKUP($A133,masterlist!$C$2:$AC$200,27,FALSE)),1,\"\"))","v":""},{"$f":"IF($D133>6,\"\",IF(O$5<=(VLOOKUP($A133,masterlist!$C$2:$AC$200,27,FALSE)),1,\"\"))","v":""},{"$f":"IF($D133>6,\"\",IF(P$5<=(VLOOKUP($A133,masterlist!$C$2:$AC$200,27,FALSE)),1,\"\"))","v":""},{"$f":"IF($D133>6,\"\",IF(Q$5<=(VLOOKUP($A133,masterlist!$C$2:$AC$200,27,FALSE)),1,\"\"))","v":""},{"$f":"IF($D133>6,\"\",IF(R$5<=(VLOOKUP($A133,masterlist!$C$2:$AC$200,27,FALSE)),1,\"\"))","v":""},null,null,null,null,0,0,0,0,0,0,0,0,0,0,0,0,0]
[{"$f":"IFERROR(priorit!A133,\"\")","v":""},"",{"$f":"IFERROR(VLOOKUP($A134,masterlist!$C$2:$AA$200,2,FALSE),\"\")","v":""},{"$f":"IFERROR(VLOOKUP($A134,masterlist!$C$2:$AA$200,3,FALSE),\"\")","v":""},{"$f":"IFERROR(VLOOKUP($A134,masterlist!$C$2:$AA$200,5,FALSE),\"\")","v":""},{"$f":"IF($D134>6,\"\",IF(F$5<=(VLOOKUP($A134,masterlist!$C$2:$AC$200,27,FALSE)),1,\"\"))","v":""},{"$f":"IF($D134>6,\"\",IF(G$5<=(VLOOKUP($A134,masterlist!$C$2:$AC$200,27,FALSE)),1,\"\"))","v":""},{"$f":"IF($D134>6,\"\",IF(H$5<=(VLOOKUP($A134,masterlist!$C$2:$AC$200,27,FALSE)),1,\"\"))","v":""},{"$f":"IF($D134>6,\"\",IF(I$5<=(VLOOKUP($A134,masterlist!$C$2:$AC$200,27,FALSE)),1,\"\"))","v":""},{"$f":"IF($D134>6,\"\",IF(J$5<=(VLOOKUP($A134,masterlist!$C$2:$AC$200,27,FALSE)),1,\"\"))","v":""},{"$f":"IF($D134>6,\"\",IF(K$5<=(VLOOKUP($A134,masterlist!$C$2:$AC$200,27,FALSE)),1,\"\"))","v":""},{"$f":"IF($D134>6,\"\",IF(L$5<=(VLOOKUP($A134,masterlist!$C$2:$AC$200,27,FALSE)),1,\"\"))","v":""},{"$f":"IF($D134>6,\"\",IF(M$5<=(VLOOKUP($A134,masterlist!$C$2:$AC$200,27,FALSE)),1,\"\"))","v":""},{"$f":"IF($D134>6,\"\",IF(N$5<=(VLOOKUP($A134,masterlist!$C$2:$AC$200,27,FALSE)),1,\"\"))","v":""},{"$f":"IF($D134>6,\"\",IF(O$5<=(VLOOKUP($A134,masterlist!$C$2:$AC$200,27,FALSE)),1,\"\"))","v":""},{"$f":"IF($D134>6,\"\",IF(P$5<=(VLOOKUP($A134,masterlist!$C$2:$AC$200,27,FALSE)),1,\"\"))","v":""},{"$f":"IF($D134>6,\"\",IF(Q$5<=(VLOOKUP($A134,masterlist!$C$2:$AC$200,27,FALSE)),1,\"\"))","v":""},{"$f":"IF($D134>6,\"\",IF(R$5<=(VLOOKUP($A134,masterlist!$C$2:$AC$200,27,FALSE)),1,\"\"))","v":""},null,null,null,null,0,0,0,0,0,0,0,0,0,0,0,0,0]
[{"$f":"IFERROR(priorit!A134,\"\")","v":""},"",{"$f":"IFERROR(VLOOKUP($A135,masterlist!$C$2:$AA$200,2,FALSE),\"\")","v":""},{"$f":"IFERROR(VLOOKUP($A135,masterlist!$C$2:$AA$200,3,FALSE),\"\")","v":""},{"$f":"IFERROR(VLOOKUP($A135,masterlist!$C$2:$AA$200,5,FALSE),\"\")","v":""},{"$f":"IF($D135>6,\"\",IF(F$5<=(VLOOKUP($A135,masterlist!$C$2:$AC$200,27,FALSE)),1,\"\"))","v":""},{"$f":"IF($D135>6,\"\",IF(G$5<=(VLOOKUP($A135,masterlist!$C$2:$AC$200,27,FALSE)),1,\"\"))","v":""},{"$f":"IF($D135>6,\"\",IF(H$5<=(VLOOKUP($A135,masterlist!$C$2:$AC$200,27,FALSE)),1,\"\"))","v":""},{"$f":"IF($D135>6,\"\",IF(I$5<=(VLOOKUP($A135,masterlist!$C$2:$AC$200,27,FALSE)),1,\"\"))","v":""},{"$f":"IF($D135>6,\"\",IF(J$5<=(VLOOKUP($A135,masterlist!$C$2:$AC$200,27,FALSE)),1,\"\"))","v":""},{"$f":"IF($D135>6,\"\",IF(K$5<=(VLOOKUP($A135,masterlist!$C$2:$AC$200,27,FALSE)),1,\"\"))","v":""},{"$f":"IF($D135>6,\"\",IF(L$5<=(VLOOKUP($A135,masterlist!$C$2:$AC$200,27,FALSE)),1,\"\"))","v":""},{"$f":"IF($D135>6,\"\",IF(M$5<=(VLOOKUP($A135,masterlist!$C$2:$AC$200,27,FALSE)),1,\"\"))","v":""},{"$f":"IF($D135>6,\"\",IF(N$5<=(VLOOKUP($A135,masterlist!$C$2:$AC$200,27,FALSE)),1,\"\"))","v":""},{"$f":"IF($D135>6,\"\",IF(O$5<=(VLOOKUP($A135,masterlist!$C$2:$AC$200,27,FALSE)),1,\"\"))","v":""},{"$f":"IF($D135>6,\"\",IF(P$5<=(VLOOKUP($A135,masterlist!$C$2:$AC$200,27,FALSE)),1,\"\"))","v":""},{"$f":"IF($D135>6,\"\",IF(Q$5<=(VLOOKUP($A135,masterlist!$C$2:$AC$200,27,FALSE)),1,\"\"))","v":""},{"$f":"IF($D135>6,\"\",IF(R$5<=(VLOOKUP($A135,masterlist!$C$2:$AC$200,27,FALSE)),1,\"\"))","v":""},null,null,null,null,0,0,0,0,0,0,0,0,0,0,0,0,0]
[{"$f":"IFERROR(priorit!A135,\"\")","v":""},{"$f":"IFERROR(LEFT(A136,3),\"\")","v":""},{"$f":"IFERROR(VLOOKUP($A136,masterlist!$C$2:$AA$200,2,FALSE),\"\")","v":""},{"$f":"IFERROR(VLOOKUP($A136,masterlist!$C$2:$AA$200,3,FALSE),\"\")","v":""},{"$f":"IFERROR(VLOOKUP($A136,masterlist!$C$2:$AA$200,5,FALSE),\"\")","v":""},{"$f":"IF($D136>6,\"\",IF(F$5<=(VLOOKUP($A136,masterlist!$C$2:$AC$200,27,FALSE)),1,\"\"))","v":""},{"$f":"IF($D136>6,\"\",IF(G$5<=(VLOOKUP($A136,masterlist!$C$2:$AC$200,27,FALSE)),1,\"\"))","v":""},{"$f":"IF($D136>6,\"\",IF(H$5<=(VLOOKUP($A136,masterlist!$C$2:$AC$200,27,FALSE)),1,\"\"))","v":""},{"$f":"IF($D136>6,\"\",IF(I$5<=(VLOOKUP($A136,masterlist!$C$2:$AC$200,27,FALSE)),1,\"\"))","v":""},{"$f":"IF($D136>6,\"\",IF(J$5<=(VLOOKUP($A136,masterlist!$C$2:$AC$200,27,FALSE)),1,\"\"))","v":""},{"$f":"IF($D136>6,\"\",IF(K$5<=(VLOOKUP($A136,masterlist!$C$2:$AC$200,27,FALSE)),1,\"\"))","v":""},{"$f":"IF($D136>6,\"\",IF(L$5<=(VLOOKUP($A136,masterlist!$C$2:$AC$200,27,FALSE)),1,\"\"))","v":""},{"$f":"IF($D136>6,\"\",IF(M$5<=(VLOOKUP($A136,masterlist!$C$2:$AC$200,27,FALSE)),1,\"\"))","v":""},{"$f":"IF($D136>6,\"\",IF(N$5<=(VLOOKUP($A136,masterlist!$C$2:$AC$200,27,FALSE)),1,\"\"))","v":""},{"$f":"IF($D136>6,\"\",IF(O$5<=(VLOOKUP($A136,masterlist!$C$2:$AC$200,27,FALSE)),1,\"\"))","v":""},{"$f":"IF($D136>6,\"\",IF(P$5<=(VLOOKUP($A136,masterlist!$C$2:$AC$200,27,FALSE)),1,\"\"))","v":""},{"$f":"IF($D136>6,\"\",IF(Q$5<=(VLOOKUP($A136,masterlist!$C$2:$AC$200,27,FALSE)),1,\"\"))","v":""},{"$f":"IF($D136>6,\"\",IF(R$5<=(VLOOKUP($A136,masterlist!$C$2:$AC$200,27,FALSE)),1,\"\"))","v":""},null,null,null,null,{"$f":"IF(F136=1,1,0)-IF(G136=1,1,0)","v":0},{"$f":"IF(G136=1,1,0)-IF(H136=1,1,0)","v":0},{"$f":"IF(H136=1,1,0)-IF(I136=1,1,0)","v":0},{"$f":"IF(I136=1,1,0)-IF(J136=1,1,0)","v":0},{"$f":"IF(J136=1,1,0)-IF(K136=1,1,0)","v":0},{"$f":"IF(K136=1,1,0)-IF(L136=1,1,0)","v":0},{"$f":"IF(L136=1,1,0)-IF(M136=1,1,0)","v":0},{"$f":"IF(M136=1,1,0)-IF(N136=1,1,0)","v":0},{"$f":"IF(N136=1,1,0)-IF(O136=1,1,0)","v":0},{"$f":"IF(O136=1,1,0)-IF(P136=1,1,0)","v":0},{"$f":"IF(P136=1,1,0)-IF(Q136=1,1,0)","v":0},{"$f":"IF(Q136=1,1,0)-IF(R136=1,1,0)","v":0},{"$f":"IF(R136=1,1,0)-IF(S136=1,1,0)","v":0}]
[{"$f":"IFERROR(priorit!A136,\"\")","v":""},"",{"$f":"IFERROR(VLOOKUP($A137,masterlist!$C$2:$AA$200,2,FALSE),\"\")","v":""},{"$f":"IFERROR(VLOOKUP($A137,masterlist!$C$2:$AA$200,3,FALSE),\"\")","v":""},{"$f":"IFERROR(VLOOKUP($A137,masterlist!$C$2:$AA$200,5,FALSE),\"\")","v":""},{"$f":"IF($D137>6,\"\",IF(F$5<=(VLOOKUP($A137,masterlist!$C$2:$AC$200,27,FALSE)),1,\"\"))","v":""},{"$f":"IF($D137>6,\"\",IF(G$5<=(VLOOKUP($A137,masterlist!$C$2:$AC$200,27,FALSE)),1,\"\"))","v":""},{"$f":"IF($D137>6,\"\",IF(H$5<=(VLOOKUP($A137,masterlist!$C$2:$AC$200,27,FALSE)),1,\"\"))","v":""},{"$f":"IF($D137>6,\"\",IF(I$5<=(VLOOKUP($A137,masterlist!$C$2:$AC$200,27,FALSE)),1,\"\"))","v":""},{"$f":"IF($D137>6,\"\",IF(J$5<=(VLOOKUP($A137,masterlist!$C$2:$AC$200,27,FALSE)),1,\"\"))","v":""},{"$f":"IF($D137>6,\"\",IF(K$5<=(VLOOKUP($A137,masterlist!$C$2:$AC$200,27,FALSE)),1,\"\"))","v":""},{"$f":"IF($D137>6,\"\",IF(L$5<=(VLOOKUP($A137,masterlist!$C$2:$AC$200,27,FALSE)),1,\"\"))","v":""},{"$f":"IF($D137>6,\"\",IF(M$5<=(VLOOKUP($A137,masterlist!$C$2:$AC$200,27,FALSE)),1,\"\"))","v":""},{"$f":"IF($D137>6,\"\",IF(N$5<=(VLOOKUP($A137,masterlist!$C$2:$AC$200,27,FALSE)),1,\"\"))","v":""},{"$f":"IF($D137>6,\"\",IF(O$5<=(VLOOKUP($A137,masterlist!$C$2:$AC$200,27,FALSE)),1,\"\"))","v":""},{"$f":"IF($D137>6,\"\",IF(P$5<=(VLOOKUP($A137,masterlist!$C$2:$AC$200,27,FALSE)),1,\"\"))","v":""},{"$f":"IF($D137>6,\"\",IF(Q$5<=(VLOOKUP($A137,masterlist!$C$2:$AC$200,27,FALSE)),1,\"\"))","v":""},{"$f":"IF($D137>6,\"\",IF(R$5<=(VLOOKUP($A137,masterlist!$C$2:$AC$200,27,FALSE)),1,\"\"))","v":""},null,null,null,null,0,0,0,0,0,0,0,0,0,0,0,0,0]
[{"$f":"IFERROR(priorit!A137,\"\")","v":""},"",{"$f":"IFERROR(VLOOKUP($A138,masterlist!$C$2:$AA$200,2,FALSE),\"\")","v":""},{"$f":"IFERROR(VLOOKUP($A138,masterlist!$C$2:$AA$200,3,FALSE),\"\")","v":""},{"$f":"IFERROR(VLOOKUP($A138,masterlist!$C$2:$AA$200,5,FALSE),\"\")","v":""},{"$f":"IF($D138>6,\"\",IF(F$5<=(VLOOKUP($A138,masterlist!$C$2:$AC$200,27,FALSE)),1,\"\"))","v":""},{"$f":"IF($D138>6,\"\",IF(G$5<=(VLOOKUP($A138,masterlist!$C$2:$AC$200,27,FALSE)),1,\"\"))","v":""},{"$f":"IF($D138>6,\"\",IF(H$5<=(VLOOKUP($A138,masterlist!$C$2:$AC$200,27,FALSE)),1,\"\"))","v":""},{"$f":"IF($D138>6,\"\",IF(I$5<=(VLOOKUP($A138,masterlist!$C$2:$AC$200,27,FALSE)),1,\"\"))","v":""},{"$f":"IF($D138>6,\"\",IF(J$5<=(VLOOKUP($A138,masterlist!$C$2:$AC$200,27,FALSE)),1,\"\"))","v":""},{"$f":"IF($D138>6,\"\",IF(K$5<=(VLOOKUP($A138,masterlist!$C$2:$AC$200,27,FALSE)),1,\"\"))","v":""},{"$f":"IF($D138>6,\"\",IF(L$5<=(VLOOKUP($A138,masterlist!$C$2:$AC$200,27,FALSE)),1,\"\"))","v":""},{"$f":"IF($D138>6,\"\",IF(M$5<=(VLOOKUP($A138,masterlist!$C$2:$AC$200,27,FALSE)),1,\"\"))","v":""},{"$f":"IF($D138>6,\"\",IF(N$5<=(VLOOKUP($A138,masterlist!$C$2:$AC$200,27,FALSE)),1,\"\"))","v":""},{"$f":"IF($D138>6,\"\",IF(O$5<=(VLOOKUP($A138,masterlist!$C$2:$AC$200,27,FALSE)),1,\"\"))","v":""},{"$f":"IF($D138>6,\"\",IF(P$5<=(VLOOKUP($A138,masterlist!$C$2:$AC$200,27,FALSE)),1,\"\"))","v":""},{"$f":"IF($D138>6,\"\",IF(Q$5<=(VLOOKUP($A138,masterlist!$C$2:$AC$200,27,FALSE)),1,\"\"))","v":""},{"$f":"IF($D138>6,\"\",IF(R$5<=(VLOOKUP($A138,masterlist!$C$2:$AC$200,27,FALSE)),1,\"\"))","v":""},null,null,null,null,0,0,0,0,0,0,0,0,0,0,0,0,0]
[{"$f":"IFERROR(priorit!A138,\"\")","v":""},"",{"$f":"IFERROR(VLOOKUP($A139,masterlist!$C$2:$AA$200,2,FALSE),\"\")","v":""},{"$f":"IFERROR(VLOOKUP($A139,masterlist!$C$2:$AA$200,3,FALSE),\"\")","v":""},{"$f":"IFERROR(VLOOKUP($A139,masterlist!$C$2:$AA$200,5,FALSE),\"\")","v":""},{"$f":"IF($D139>6,\"\",IF(F$5<=(VLOOKUP($A139,masterlist!$C$2:$AC$200,27,FALSE)),1,\"\"))","v":""},{"$f":"IF($D139>6,\"\",IF(G$5<=(VLOOKUP($A139,masterlist!$C$2:$AC$200,27,FALSE)),1,\"\"))","v":""},{"$f":"IF($D139>6,\"\",IF(H$5<=(VLOOKUP($A139,masterlist!$C$2:$AC$200,27,FALSE)),1,\"\"))","v":""},{"$f":"IF($D139>6,\"\",IF(I$5<=(VLOOKUP($A139,masterlist!$C$2:$AC$200,27,FALSE)),1,\"\"))","v":""},{"$f":"IF($D139>6,\"\",IF(J$5<=(VLOOKUP($A139,masterlist!$C$2:$AC$200,27,FALSE)),1,\"\"))","v":""},{"$f":"IF($D139>6,\"\",IF(K$5<=(VLOOKUP($A139,masterlist!$C$2:$AC$200,27,FALSE)),1,\"\"))","v":""},{"$f":"IF($D139>6,\"\",IF(L$5<=(VLOOKUP($A139,masterlist!$C$2:$AC$200,27,FALSE)),1,\"\"))","v":""},{"$f":"IF($D139>6,\"\",IF(M$5<=(VLOOKUP($A139,masterlist!$C$2:$AC$200,27,FALSE)),1,\"\"))","v":""},{"$f":"IF($D139>6,\"\",IF(N$5<=(VLOOKUP($A139,masterlist!$C$2:$AC$200,27,FALSE)),1,\"\"))","v":""},{"$f":"IF($D139>6,\"\",IF(O$5<=(VLOOKUP($A139,masterlist!$C$2:$AC$200,27,FALSE)),1,\"\"))","v":""},{"$f":"IF($D139>6,\"\",IF(P$5<=(VLOOKUP($A139,masterlist!$C$2:$AC$200,27,FALSE)),1,\"\"))","v":""},{"$f":"IF($D139>6,\"\",IF(Q$5<=(VLOOKUP($A139,masterlist!$C$2:$AC$200,27,FALSE)),1,\"\"))","v":""},{"$f":"IF($D139>6,\"\",IF(R$5<=(VLOOKUP($A139,masterlist!$C$2:$AC$200,27,FALSE)),1,\"\"))","v":""},null,null,null,null,0,0,0,0,0,0,0,0,0,0,0,0,0]
[{"$f":"IFERROR(priorit!A139,\"\")","v":""},"",{"$f":"IFERROR(VLOOKUP($A140,masterlist!$C$2:$AA$200,2,FALSE),\"\")","v":""},{"$f":"IFERROR(VLOOKUP($A140,masterlist!$C$2:$AA$200,3,FALSE),\"\")","v":""},{"$f":"IFERROR(VLOOKUP($A140,masterlist!$C$2:$AA$200,5,FALSE),\"\")","v":""},{"$f":"IF($D140>6,\"\",IF(F$5<=(VLOOKUP($A140,masterlist!$C$2:$AC$200,27,FALSE)),1,\"\"))","v":""},{"$f":"IF($D140>6,\"\",IF(G$5<=(VLOOKUP($A140,masterlist!$C$2:$AC$200,27,FALSE)),1,\"\"))","v":""},{"$f":"IF($D140>6,\"\",IF(H$5<=(VLOOKUP($A140,masterlist!$C$2:$AC$200,27,FALSE)),1,\"\"))","v":""},{"$f":"IF($D140>6,\"\",IF(I$5<=(VLOOKUP($A140,masterlist!$C$2:$AC$200,27,FALSE)),1,\"\"))","v":""},{"$f":"IF($D140>6,\"\",IF(J$5<=(VLOOKUP($A140,masterlist!$C$2:$AC$200,27,FALSE)),1,\"\"))","v":""},{"$f":"IF($D140>6,\"\",IF(K$5<=(VLOOKUP($A140,masterlist!$C$2:$AC$200,27,FALSE)),1,\"\"))","v":""},{"$f":"IF($D140>6,\"\",IF(L$5<=(VLOOKUP($A140,masterlist!$C$2:$AC$200,27,FALSE)),1,\"\"))","v":""},{"$f":"IF($D140>6,\"\",IF(M$5<=(VLOOKUP($A140,masterlist!$C$2:$AC$200,27,FALSE)),1,\"\"))","v":""},{"$f":"IF($D140>6,\"\",IF(N$5<=(VLOOKUP($A140,masterlist!$C$2:$AC$200,27,FALSE)),1,\"\"))","v":""},{"$f":"IF($D140>6,\"\",IF(O$5<=(VLOOKUP($A140,masterlist!$C$2:$AC$200,27,FALSE)),1,\"\"))","v":""},{"$f":"IF($D140>6,\"\",IF(P$5<=(VLOOKUP($A140,masterlist!$C$2:$AC$200,27,FALSE)),1,\"\"))","v":""},{"$f":"IF($D140>6,\"\",IF(Q$5<=(VLOOKUP($A140,masterlist!$C$2:$AC$200,27,FALSE)),1,\"\"))","v":""},{"$f":"IF($D140>6,\"\",IF(R$5<=(VLOOKUP($A140,masterlist!$C$2:$AC$200,27,FALSE)),1,\"\"))","v":""},null,null,null,null,0,0,0,0,0,0,0,0,0,0,0,0,0]
[{"$f":"IFERROR(priorit!A140,\"\")","v":""},"",{"$f":"IFERROR(VLOOKUP($A141,masterlist!$C$2:$AA$200,2,FALSE),\"\")","v":""},{"$f":"IFERROR(VLOOKUP($A141,masterlist!$C$2:$AA$200,3,FALSE),\"\")","v":""},{"$f":"IFERROR(VLOOKUP($A141,masterlist!$C$2:$AA$200,5,FALSE),\"\")","v":""},{"$f":"IF($D141>6,\"\",IF(F$5<=(VLOOKUP($A141,masterlist!$C$2:$AC$200,27,FALSE)),1,\"\"))","v":""},{"$f":"IF($D141>6,\"\",IF(G$5<=(VLOOKUP($A141,masterlist!$C$2:$AC$200,27,FALSE)),1,\"\"))","v":""},{"$f":"IF($D141>6,\"\",IF(H$5<=(VLOOKUP($A141,masterlist!$C$2:$AC$200,27,FALSE)),1,\"\"))","v":""},{"$f":"IF($D141>6,\"\",IF(I$5<=(VLOOKUP($A141,masterlist!$C$2:$AC$200,27,FALSE)),1,\"\"))","v":""},{"$f":"IF($D141>6,\"\",IF(J$5<=(VLOOKUP($A141,masterlist!$C$2:$AC$200,27,FALSE)),1,\"\"))","v":""},{"$f":"IF($D141>6,\"\",IF(K$5<=(VLOOKUP($A141,masterlist!$C$2:$AC$200,27,FALSE)),1,\"\"))","v":""},{"$f":"IF($D141>6,\"\",IF(L$5<=(VLOOKUP($A141,masterlist!$C$2:$AC$200,27,FALSE)),1,\"\"))","v":""},{"$f":"IF($D141>6,\"\",IF(M$5<=(VLOOKUP($A141,masterlist!$C$2:$AC$200,27,FALSE)),1,\"\"))","v":""},{"$f":"IF($D141>6,\"\",IF(N$5<=(VLOOKUP($A141,masterlist!$C$2:$AC$200,27,FALSE)),1,\"\"))","v":""},{"$f":"IF($D141>6,\"\",IF(O$5<=(VLOOKUP($A141,masterlist!$C$2:$AC$200,27,FALSE)),1,\"\"))","v":""},{"$f":"IF($D141>6,\"\",IF(P$5<=(VLOOKUP($A141,masterlist!$C$2:$AC$200,27,FALSE)),1,\"\"))","v":""},{"$f":"IF($D141>6,\"\",IF(Q$5<=(VLOOKUP($A141,masterlist!$C$2:$AC$200,27,FALSE)),1,\"\"))","v":""},{"$f":"IF($D141>6,\"\",IF(R$5<=(VLOOKUP($A141,masterlist!$C$2:$AC$200,27,FALSE)),1,\"\"))","v":""},null,null,null,null,0,0,0,0,0,0,0,0,0,0,0,0,0]
[{"$f":"IFERROR(priorit!A141,\"\")","v":""},"",{"$f":"IFERROR(VLOOKUP($A142,masterlist!$C$2:$AA$200,2,FALSE),\"\")","v":""},{"$f":"IFERROR(VLOOKUP($A142,masterlist!$C$2:$AA$200,3,FALSE),\"\")","v":""},{"$f":"IFERROR(VLOOKUP($A142,masterlist!$C$2:$AA$200,5,FALSE),\"\")","v":""},{"$f":"IF($D142>6,\"\",IF(F$5<=(VLOOKUP($A142,masterlist!$C$2:$AC$200,27,FALSE)),1,\"\"))","v":""},{"$f":"IF($D142>6,\"\",IF(G$5<=(VLOOKUP($A142,masterlist!$C$2:$AC$200,27,FALSE)),1,\"\"))","v":""},{"$f":"IF($D142>6,\"\",IF(H$5<=(VLOOKUP($A142,masterlist!$C$2:$AC$200,27,FALSE)),1,\"\"))","v":""},{"$f":"IF($D142>6,\"\",IF(I$5<=(VLOOKUP($A142,masterlist!$C$2:$AC$200,27,FALSE)),1,\"\"))","v":""},{"$f":"IF($D142>6,\"\",IF(J$5<=(VLOOKUP($A142,masterlist!$C$2:$AC$200,27,FALSE)),1,\"\"))","v":""},{"$f":"IF($D142>6,\"\",IF(K$5<=(VLOOKUP($A142,masterlist!$C$2:$AC$200,27,FALSE)),1,\"\"))","v":""},{"$f":"IF($D142>6,\"\",IF(L$5<=(VLOOKUP($A142,masterlist!$C$2:$AC$200,27,FALSE)),1,\"\"))","v":""},{"$f":"IF($D142>6,\"\",IF(M$5<=(VLOOKUP($A142,masterlist!$C$2:$AC$200,27,FALSE)),1,\"\"))","v":""},{"$f":"IF($D142>6,\"\",IF(N$5<=(VLOOKUP($A142,masterlist!$C$2:$AC$200,27,FALSE)),1,\"\"))","v":""},{"$f":"IF($D142>6,\"\",IF(O$5<=(VLOOKUP($A142,masterlist!$C$2:$AC$200,27,FALSE)),1,\"\"))","v":""},{"$f":"IF($D142>6,\"\",IF(P$5<=(VLOOKUP($A142,masterlist!$C$2:$AC$200,27,FALSE)),1,\"\"))","v":""},{"$f":"IF($D142>6,\"\",IF(Q$5<=(VLOOKUP($A142,masterlist!$C$2:$AC$200,27,FALSE)),1,\"\"))","v":""},{"$f":"IF($D142>6,\"\",IF(R$5<=(VLOOKUP($A142,masterlist!$C$2:$AC$200,27,FALSE)),1,\"\"))","v":""},null,null,null,null,0,0,0,0,0,0,0,0,0,0,0,0,0]
[{"$f":"IFERROR(priorit!A142,\"\")","v":""},"",{"$f":"IFERROR(VLOOKUP($A143,masterlist!$C$2:$AA$200,2,FALSE),\"\")","v":""},{"$f":"IFERROR(VLOOKUP($A143,masterlist!$C$2:$AA$200,3,FALSE),\"\")","v":""},{"$f":"IFERROR(VLOOKUP($A143,masterlist!$C$2:$AA$200,5,FALSE),\"\")","v":""},{"$f":"IF($D143>6,\"\",IF(F$5<=(VLOOKUP($A143,masterlist!$C$2:$AC$200,27,FALSE)),1,\"\"))","v":""},{"$f":"IF($D143>6,\"\",IF(G$5<=(VLOOKUP($A143,masterlist!$C$2:$AC$200,27,FALSE)),1,\"\"))","v":""},{"$f":"IF($D143>6,\"\",IF(H$5<=(VLOOKUP($A143,masterlist!$C$2:$AC$200,27,FALSE)),1,\"\"))","v":""},{"$f":"IF($D143>6,\"\",IF(I$5<=(VLOOKUP($A143,masterlist!$C$2:$AC$200,27,FALSE)),1,\"\"))","v":""},{"$f":"IF($D143>6,\"\",IF(J$5<=(VLOOKUP($A143,masterlist!$C$2:$AC$200,27,FALSE)),1,\"\"))","v":""},{"$f":"IF($D143>6,\"\",IF(K$5<=(VLOOKUP($A143,masterlist!$C$2:$AC$200,27,FALSE)),1,\"\"))","v":""},{"$f":"IF($D143>6,\"\",IF(L$5<=(VLOOKUP($A143,masterlist!$C$2:$AC$200,27,FALSE)),1,\"\"))","v":""},{"$f":"IF($D143>6,\"\",IF(M$5<=(VLOOKUP($A143,masterlist!$C$2:$AC$200,27,FALSE)),1,\"\"))","v":""},{"$f":"IF($D143>6,\"\",IF(N$5<=(VLOOKUP($A143,masterlist!$C$2:$AC$200,27,FALSE)),1,\"\"))","v":""},{"$f":"IF($D143>6,\"\",IF(O$5<=(VLOOKUP($A143,masterlist!$C$2:$AC$200,27,FALSE)),1,\"\"))","v":""},{"$f":"IF($D143>6,\"\",IF(P$5<=(VLOOKUP($A143,masterlist!$C$2:$AC$200,27,FALSE)),1,\"\"))","v":""},{"$f":"IF($D143>6,\"\",IF(Q$5<=(VLOOKUP($A143,masterlist!$C$2:$AC$200,27,FALSE)),1,\"\"))","v":""},{"$f":"IF($D143>6,\"\",IF(R$5<=(VLOOKUP($A143,masterlist!$C$2:$AC$200,27,FALSE)),1,\"\"))","v":""},null,null,null,null,0,0,0,0,0,0,0,0,0,0,0,0,0]
[{"$f":"IFERROR(priorit!A143,\"\")","v":""},"",{"$f":"IFERROR(VLOOKUP($A144,masterlist!$C$2:$AA$200,2,FALSE),\"\")","v":""},{"$f":"IFERROR(VLOOKUP($A144,masterlist!$C$2:$AA$200,3,FALSE),\"\")","v":""},{"$f":"IFERROR(VLOOKUP($A144,masterlist!$C$2:$AA$200,5,FALSE),\"\")","v":""},{"$f":"IF($D144>6,\"\",IF(F$5<=(VLOOKUP($A144,masterlist!$C$2:$AC$200,27,FALSE)),1,\"\"))","v":""},{"$f":"IF($D144>6,\"\",IF(G$5<=(VLOOKUP($A144,masterlist!$C$2:$AC$200,27,FALSE)),1,\"\"))","v":""},{"$f":"IF($D144>6,\"\",IF(H$5<=(VLOOKUP($A144,masterlist!$C$2:$AC$200,27,FALSE)),1,\"\"))","v":""},{"$f":"IF($D144>6,\"\",IF(I$5<=(VLOOKUP($A144,masterlist!$C$2:$AC$200,27,FALSE)),1,\"\"))","v":""},{"$f":"IF($D144>6,\"\",IF(J$5<=(VLOOKUP($A144,masterlist!$C$2:$AC$200,27,FALSE)),1,\"\"))","v":""},{"$f":"IF($D144>6,\"\",IF(K$5<=(VLOOKUP($A144,masterlist!$C$2:$AC$200,27,FALSE)),1,\"\"))","v":""},{"$f":"IF($D144>6,\"\",IF(L$5<=(VLOOKUP($A144,masterlist!$C$2:$AC$200,27,FALSE)),1,\"\"))","v":""},{"$f":"IF($D144>6,\"\",IF(M$5<=(VLOOKUP($A144,masterlist!$C$2:$AC$200,27,FALSE)),1,\"\"))","v":""},{"$f":"IF($D144>6,\"\",IF(N$5<=(VLOOKUP($A144,masterlist!$C$2:$AC$200,27,FALSE)),1,\"\"))","v":""},{"$f":"IF($D144>6,\"\",IF(O$5<=(VLOOKUP($A144,masterlist!$C$2:$AC$200,27,FALSE)),1,\"\"))","v":""},{"$f":"IF($D144>6,\"\",IF(P$5<=(VLOOKUP($A144,masterlist!$C$2:$AC$200,27,FALSE)),1,\"\"))","v":""},{"$f":"IF($D144>6,\"\",IF(Q$5<=(VLOOKUP($A144,masterlist!$C$2:$AC$200,27,FALSE)),1,\"\"))","v":""},{"$f":"IF($D144>6,\"\",IF(R$5<=(VLOOKUP($A144,masterlist!$C$2:$AC$200,27,FALSE)),1,\"\"))","v":""},null,null,null,null,0,0,0,0,0,0,0,0,0,0,0,0,0]
[{"$f":"IFERROR(priorit!A144,\"\")","v":""},"",{"$f":"IFERROR(VLOOKUP($A145,masterlist!$C$2:$AA$200,2,FALSE),\"\")","v":""},{"$f":"IFERROR(VLOOKUP($A145,masterlist!$C$2:$AA$200,3,FALSE),\"\")","v":""},{"$f":"IFERROR(VLOOKUP($A145,masterlist!$C$2:$AA$200,5,FALSE),\"\")","v":""},{"$f":"IF($D145>6,\"\",IF(F$5<=(VLOOKUP($A145,masterlist!$C$2:$AC$200,27,FALSE)),1,\"\"))","v":""},{"$f":"IF($D145>6,\"\",IF(G$5<=(VLOOKUP($A145,masterlist!$C$2:$AC$200,27,FALSE)),1,\"\"))","v":""},{"$f":"IF($D145>6,\"\",IF(H$5<=(VLOOKUP($A145,masterlist!$C$2:$AC$200,27,FALSE)),1,\"\"))","v":""},{"$f":"IF($D145>6,\"\",IF(I$5<=(VLOOKUP($A145,masterlist!$C$2:$AC$200,27,FALSE)),1,\"\"))","v":""},{"$f":"IF($D145>6,\"\",IF(J$5<=(VLOOKUP($A145,masterlist!$C$2:$AC$200,27,FALSE)),1,\"\"))","v":""},{"$f":"IF($D145>6,\"\",IF(K$5<=(VLOOKUP($A145,masterlist!$C$2:$AC$200,27,FALSE)),1,\"\"))","v":""},{"$f":"IF($D145>6,\"\",IF(L$5<=(VLOOKUP($A145,masterlist!$C$2:$AC$200,27,FALSE)),1,\"\"))","v":""},{"$f":"IF($D145>6,\"\",IF(M$5<=(VLOOKUP($A145,masterlist!$C$2:$AC$200,27,FALSE)),1,\"\"))","v":""},{"$f":"IF($D145>6,\"\",IF(N$5<=(VLOOKUP($A145,masterlist!$C$2:$AC$200,27,FALSE)),1,\"\"))","v":""},{"$f":"IF($D145>6,\"\",IF(O$5<=(VLOOKUP($A145,masterlist!$C$2:$AC$200,27,FALSE)),1,\"\"))","v":""},{"$f":"IF($D145>6,\"\",IF(P$5<=(VLOOKUP($A145,masterlist!$C$2:$AC$200,27,FALSE)),1,\"\"))","v":""},{"$f":"IF($D145>6,\"\",IF(Q$5<=(VLOOKUP($A145,masterlist!$C$2:$AC$200,27,FALSE)),1,\"\"))","v":""},{"$f":"IF($D145>6,\"\",IF(R$5<=(VLOOKUP($A145,masterlist!$C$2:$AC$200,27,FALSE)),1,\"\"))","v":""},null,null,null,null,0,0,0,0,0,0,0,0,0,0,0,0,0]
[{"$f":"IFERROR(priorit!A145,\"\")","v":""},"",{"$f":"IFERROR(VLOOKUP($A146,masterlist!$C$2:$AA$200,2,FALSE),\"\")","v":""},{"$f":"IFERROR(VLOOKUP($A146,masterlist!$C$2:$AA$200,3,FALSE),\"\")","v":""},{"$f":"IFERROR(VLOOKUP($A146,masterlist!$C$2:$AA$200,5,FALSE),\"\")","v":""},{"$f":"IF($D146>6,\"\",IF(F$5<=(VLOOKUP($A146,masterlist!$C$2:$AC$200,27,FALSE)),1,\"\"))","v":""},{"$f":"IF($D146>6,\"\",IF(G$5<=(VLOOKUP($A146,masterlist!$C$2:$AC$200,27,FALSE)),1,\"\"))","v":""},{"$f":"IF($D146>6,\"\",IF(H$5<=(VLOOKUP($A146,masterlist!$C$2:$AC$200,27,FALSE)),1,\"\"))","v":""},{"$f":"IF($D146>6,\"\",IF(I$5<=(VLOOKUP($A146,masterlist!$C$2:$AC$200,27,FALSE)),1,\"\"))","v":""},{"$f":"IF($D146>6,\"\",IF(J$5<=(VLOOKUP($A146,masterlist!$C$2:$AC$200,27,FALSE)),1,\"\"))","v":""},{"$f":"IF($D146>6,\"\",IF(K$5<=(VLOOKUP($A146,masterlist!$C$2:$AC$200,27,FALSE)),1,\"\"))","v":""},{"$f":"IF($D146>6,\"\",IF(L$5<=(VLOOKUP($A146,masterlist!$C$2:$AC$200,27,FALSE)),1,\"\"))","v":""},{"$f":"IF($D146>6,\"\",IF(M$5<=(VLOOKUP($A146,masterlist!$C$2:$AC$200,27,FALSE)),1,\"\"))","v":""},{"$f":"IF($D146>6,\"\",IF(N$5<=(VLOOKUP($A146,masterlist!$C$2:$AC$200,27,FALSE)),1,\"\"))","v":""},{"$f":"IF($D146>6,\"\",IF(O$5<=(VLOOKUP($A146,masterlist!$C$2:$AC$200,27,FALSE)),1,\"\"))","v":""},{"$f":"IF($D146>6,\"\",IF(P$5<=(VLOOKUP($A146,masterlist!$C$2:$AC$200,27,FALSE)),1,\"\"))","v":""},{"$f":"IF($D146>6,\"\",IF(Q$5<=(VLOOKUP($A146,masterlist!$C$2:$AC$200,27,FALSE)),1,\"\"))","v":""},{"$f":"IF($D146>6,\"\",IF(R$5<=(VLOOKUP($A146,masterlist!$C$2:$AC$200,27,FALSE)),1,\"\"))","v":""},null,null,null,null,0,0,0,0,0,0,0,0,0,0,0,0,0]
[{"$f":"IFERROR(priorit!A146,\"\")","v":""},"",{"$f":"IFERROR(VLOOKUP($A147,masterlist!$C$2:$AA$200,2,FALSE),\"\")","v":""},{"$f":"IFERROR(VLOOKUP($A147,masterlist!$C$2:$AA$200,3,FALSE),\"\")","v":""},{"$f":"IFERROR(VLOOKUP($A147,masterlist!$C$2:$AA$200,5,FALSE),\"\")","v":""},{"$f":"IF($D147>6,\"\",IF(F$5<=(VLOOKUP($A147,masterlist!$C$2:$AC$200,27,FALSE)),1,\"\"))","v":""},{"$f":"IF($D147>6,\"\",IF(G$5<=(VLOOKUP($A147,masterlist!$C$2:$AC$200,27,FALSE)),1,\"\"))","v":""},{"$f":"IF($D147>6,\"\",IF(H$5<=(VLOOKUP($A147,masterlist!$C$2:$AC$200,27,FALSE)),1,\"\"))","v":""},{"$f":"IF($D147>6,\"\",IF(I$5<=(VLOOKUP($A147,masterlist!$C$2:$AC$200,27,FALSE)),1,\"\"))","v":""},{"$f":"IF($D147>6,\"\",IF(J$5<=(VLOOKUP($A147,masterlist!$C$2:$AC$200,27,FALSE)),1,\"\"))","v":""},{"$f":"IF($D147>6,\"\",IF(K$5<=(VLOOKUP($A147,masterlist!$C$2:$AC$200,27,FALSE)),1,\"\"))","v":""},{"$f":"IF($D147>6,\"\",IF(L$5<=(VLOOKUP($A147,masterlist!$C$2:$AC$200,27,FALSE)),1,\"\"))","v":""},{"$f":"IF($D147>6,\"\",IF(M$5<=(VLOOKUP($A147,masterlist!$C$2:$AC$200,27,FALSE)),1,\"\"))","v":""},{"$f":"IF($D147>6,\"\",IF(N$5<=(VLOOKUP($A147,masterlist!$C$2:$AC$200,27,FALSE)),1,\"\"))","v":""},{"$f":"IF($D147>6,\"\",IF(O$5<=(VLOOKUP($A147,masterlist!$C$2:$AC$200,27,FALSE)),1,\"\"))","v":""},{"$f":"IF($D147>6,\"\",IF(P$5<=(VLOOKUP($A147,masterlist!$C$2:$AC$200,27,FALSE)),1,\"\"))","v":""},{"$f":"IF($D147>6,\"\",IF(Q$5<=(VLOOKUP($A147,masterlist!$C$2:$AC$200,27,FALSE)),1,\"\"))","v":""},{"$f":"IF($D147>6,\"\",IF(R$5<=(VLOOKUP($A147,masterlist!$C$2:$AC$200,27,FALSE)),1,\"\"))","v":""},null,null,null,null,0,0,0,0,0,0,0,0,0,0,0,0,0]
[{"$f":"IFERROR(priorit!A147,\"\")","v":""},"",{"$f":"IFERROR(VLOOKUP($A148,masterlist!$C$2:$AA$200,2,FALSE),\"\")","v":""},{"$f":"IFERROR(VLOOKUP($A148,masterlist!$C$2:$AA$200,3,FALSE),\"\")","v":""},{"$f":"IFERROR(VLOOKUP($A148,masterlist!$C$2:$AA$200,5,FALSE),\"\")","v":""},{"$f":"IF($D148>6,\"\",IF(F$5<=(VLOOKUP($A148,masterlist!$C$2:$AC$200,27,FALSE)),1,\"\"))","v":""},{"$f":"IF($D148>6,\"\",IF(G$5<=(VLOOKUP($A148,masterlist!$C$2:$AC$200,27,FALSE)),1,\"\"))","v":""},{"$f":"IF($D148>6,\"\",IF(H$5<=(VLOOKUP($A148,masterlist!$C$2:$AC$200,27,FALSE)),1,\"\"))","v":""},{"$f":"IF($D148>6,\"\",IF(I$5<=(VLOOKUP($A148,masterlist!$C$2:$AC$200,27,FALSE)),1,\"\"))","v":""},{"$f":"IF($D148>6,\"\",IF(J$5<=(VLOOKUP($A148,masterlist!$C$2:$AC$200,27,FALSE)),1,\"\"))","v":""},{"$f":"IF($D148>6,\"\",IF(K$5<=(VLOOKUP($A148,masterlist!$C$2:$AC$200,27,FALSE)),1,\"\"))","v":""},{"$f":"IF($D148>6,\"\",IF(L$5<=(VLOOKUP($A148,masterlist!$C$2:$AC$200,27,FALSE)),1,\"\"))","v":""},{"$f":"IF($D148>6,\"\",IF(M$5<=(VLOOKUP($A148,masterlist!$C$2:$AC$200,27,FALSE)),1,\"\"))","v":""},{"$f":"IF($D148>6,\"\",IF(N$5<=(VLOOKUP($A148,masterlist!$C$2:$AC$200,27,FALSE)),1,\"\"))","v":""},{"$f":"IF($D148>6,\"\",IF(O$5<=(VLOOKUP($A148,masterlist!$C$2:$AC$200,27,FALSE)),1,\"\"))","v":""},{"$f":"IF($D148>6,\"\",IF(P$5<=(VLOOKUP($A148,masterlist!$C$2:$AC$200,27,FALSE)),1,\"\"))","v":""},{"$f":"IF($D148>6,\"\",IF(Q$5<=(VLOOKUP($A148,masterlist!$C$2:$AC$200,27,FALSE)),1,\"\"))","v":""},{"$f":"IF($D148>6,\"\",IF(R$5<=(VLOOKUP($A148,masterlist!$C$2:$AC$200,27,FALSE)),1,\"\"))","v":""},null,null,null,null,0,0,0,0,0,0,0,0,0,0,0,0,0]
[{"$f":"IFERROR(priorit!A148,\"\")","v":""},"",{"$f":"IFERROR(VLOOKUP($A149,masterlist!$C$2:$AA$200,2,FALSE),\"\")","v":""},{"$f":"IFERROR(VLOOKUP($A149,masterlist!$C$2:$AA$200,3,FALSE),\"\")","v":""},{"$f":"IFERROR(VLOOKUP($A149,masterlist!$C$2:$AA$200,5,FALSE),\"\")","v":""},{"$f":"IF($D149>6,\"\",IF(F$5<=(VLOOKUP($A149,masterlist!$C$2:$AC$200,27,FALSE)),1,\"\"))","v":""},{"$f":"IF($D149>6,\"\",IF(G$5<=(VLOOKUP($A149,masterlist!$C$2:$AC$200,27,FALSE)),1,\"\"))","v":""},{"$f":"IF($D149>6,\"\",IF(H$5<=(VLOOKUP($A149,masterlist!$C$2:$AC$200,27,FALSE)),1,\"\"))","v":""},{"$f":"IF($D149>6,\"\",IF(I$5<=(VLOOKUP($A149,masterlist!$C$2:$AC$200,27,FALSE)),1,\"\"))","v":""},{"$f":"IF($D149>6,\"\",IF(J$5<=(VLOOKUP($A149,masterlist!$C$2:$AC$200,27,FALSE)),1,\"\"))","v":""},{"$f":"IF($D149>6,\"\",IF(K$5<=(VLOOKUP($A149,masterlist!$C$2:$AC$200,27,FALSE)),1,\"\"))","v":""},{"$f":"IF($D149>6,\"\",IF(L$5<=(VLOOKUP($A149,masterlist!$C$2:$AC$200,27,FALSE)),1,\"\"))","v":""},{"$f":"IF($D149>6,\"\",IF(M$5<=(VLOOKUP($A149,masterlist!$C$2:$AC$200,27,FALSE)),1,\"\"))","v":""},{"$f":"IF($D149>6,\"\",IF(N$5<=(VLOOKUP($A149,masterlist!$C$2:$AC$200,27,FALSE)),1,\"\"))","v":""},{"$f":"IF($D149>6,\"\",IF(O$5<=(VLOOKUP($A149,masterlist!$C$2:$AC$200,27,FALSE)),1,\"\"))","v":""},{"$f":"IF($D149>6,\"\",IF(P$5<=(VLOOKUP($A149,masterlist!$C$2:$AC$200,27,FALSE)),1,\"\"))","v":""},{"$f":"IF($D149>6,\"\",IF(Q$5<=(VLOOKUP($A149,masterlist!$C$2:$AC$200,27,FALSE)),1,\"\"))","v":""},{"$f":"IF($D149>6,\"\",IF(R$5<=(VLOOKUP($A149,masterlist!$C$2:$AC$200,27,FALSE)),1,\"\"))","v":""},null,null,null,null,0,0,0,0,0,0,0,0,0,0,0,0,0]
[{"$f":"IFERROR(priorit!A149,\"\")","v":""},"",{"$f":"IFERROR(VLOOKUP($A150,masterlist!$C$2:$AA$200,2,FALSE),\"\")","v":""},{"$f":"IFERROR(VLOOKUP($A150,masterlist!$C$2:$AA$200,3,FALSE),\"\")","v":""},{"$f":"IFERROR(VLOOKUP($A150,masterlist!$C$2:$AA$200,5,FALSE),\"\")","v":""},{"$f":"IF($D150>6,\"\",IF(F$5<=(VLOOKUP($A150,masterlist!$C$2:$AC$200,27,FALSE)),1,\"\"))","v":""},{"$f":"IF($D150>6,\"\",IF(G$5<=(VLOOKUP($A150,masterlist!$C$2:$AC$200,27,FALSE)),1,\"\"))","v":""},{"$f":"IF($D150>6,\"\",IF(H$5<=(VLOOKUP($A150,masterlist!$C$2:$AC$200,27,FALSE)),1,\"\"))","v":""},{"$f":"IF($D150>6,\"\",IF(I$5<=(VLOOKUP($A150,masterlist!$C$2:$AC$200,27,FALSE)),1,\"\"))","v":""},{"$f":"IF($D150>6,\"\",IF(J$5<=(VLOOKUP($A150,masterlist!$C$2:$AC$200,27,FALSE)),1,\"\"))","v":""},{"$f":"IF($D150>6,\"\",IF(K$5<=(VLOOKUP($A150,masterlist!$C$2:$AC$200,27,FALSE)),1,\"\"))","v":""},{"$f":"IF($D150>6,\"\",IF(L$5<=(VLOOKUP($A150,masterlist!$C$2:$AC$200,27,FALSE)),1,\"\"))","v":""},{"$f":"IF($D150>6,\"\",IF(M$5<=(VLOOKUP($A150,masterlist!$C$2:$AC$200,27,FALSE)),1,\"\"))","v":""},{"$f":"IF($D150>6,\"\",IF(N$5<=(VLOOKUP($A150,masterlist!$C$2:$AC$200,27,FALSE)),1,\"\"))","v":""},{"$f":"IF($D150>6,\"\",IF(O$5<=(VLOOKUP($A150,masterlist!$C$2:$AC$200,27,FALSE)),1,\"\"))","v":""},{"$f":"IF($D150>6,\"\",IF(P$5<=(VLOOKUP($A150,masterlist!$C$2:$AC$200,27,FALSE)),1,\"\"))","v":""},{"$f":"IF($D150>6,\"\",IF(Q$5<=(VLOOKUP($A150,masterlist!$C$2:$AC$200,27,FALSE)),1,\"\"))","v":""},{"$f":"IF($D150>6,\"\",IF(R$5<=(VLOOKUP($A150,masterlist!$C$2:$AC$200,27,FALSE)),1,\"\"))","v":""},null,null,null,null,0,0,0,0,0,0,0,0,0,0,0,0,0]
[{"$f":"IFERROR(priorit!A150,\"\")","v":""},"",{"$f":"IFERROR(VLOOKUP($A151,masterlist!$C$2:$AA$200,2,FALSE),\"\")","v":""},{"$f":"IFERROR(VLOOKUP($A151,masterlist!$C$2:$AA$200,3,FALSE),\"\")","v":""},{"$f":"IFERROR(VLOOKUP($A151,masterlist!$C$2:$AA$200,5,FALSE),\"\")","v":""},{"$f":"IF($D151>6,\"\",IF(F$5<=(VLOOKUP($A151,masterlist!$C$2:$AC$200,27,FALSE)),1,\"\"))","v":""},{"$f":"IF($D151>6,\"\",IF(G$5<=(VLOOKUP($A151,masterlist!$C$2:$AC$200,27,FALSE)),1,\"\"))","v":""},{"$f":"IF($D151>6,\"\",IF(H$5<=(VLOOKUP($A151,masterlist!$C$2:$AC$200,27,FALSE)),1,\"\"))","v":""},{"$f":"IF($D151>6,\"\",IF(I$5<=(VLOOKUP($A151,masterlist!$C$2:$AC$200,27,FALSE)),1,\"\"))","v":""},{"$f":"IF($D151>6,\"\",IF(J$5<=(VLOOKUP($A151,masterlist!$C$2:$AC$200,27,FALSE)),1,\"\"))","v":""},{"$f":"IF($D151>6,\"\",IF(K$5<=(VLOOKUP($A151,masterlist!$C$2:$AC$200,27,FALSE)),1,\"\"))","v":""},{"$f":"IF($D151>6,\"\",IF(L$5<=(VLOOKUP($A151,masterlist!$C$2:$AC$200,27,FALSE)),1,\"\"))","v":""},{"$f":"IF($D151>6,\"\",IF(M$5<=(VLOOKUP($A151,masterlist!$C$2:$AC$200,27,FALSE)),1,\"\"))","v":""},{"$f":"IF($D151>6,\"\",IF(N$5<=(VLOOKUP($A151,masterlist!$C$2:$AC$200,27,FALSE)),1,\"\"))","v":""},{"$f":"IF($D151>6,\"\",IF(O$5<=(VLOOKUP($A151,masterlist!$C$2:$AC$200,27,FALSE)),1,\"\"))","v":""},{"$f":"IF($D151>6,\"\",IF(P$5<=(VLOOKUP($A151,masterlist!$C$2:$AC$200,27,FALSE)),1,\"\"))","v":""},{"$f":"IF($D151>6,\"\",IF(Q$5<=(VLOOKUP($A151,masterlist!$C$2:$AC$200,27,FALSE)),1,\"\"))","v":""},{"$f":"IF($D151>6,\"\",IF(R$5<=(VLOOKUP($A151,masterlist!$C$2:$AC$200,27,FALSE)),1,\"\"))","v":""},null,null,null,null,0,0,0,0,0,0,0,0,0,0,0,0,0]
[{"$f":"IFERROR(priorit!A151,\"\")","v":""},"",{"$f":"IFERROR(VLOOKUP($A152,masterlist!$C$2:$AA$200,2,FALSE),\"\")","v":""},{"$f":"IFERROR(VLOOKUP($A152,masterlist!$C$2:$AA$200,3,FALSE),\"\")","v":""},{"$f":"IFERROR(VLOOKUP($A152,masterlist!$C$2:$AA$200,5,FALSE),\"\")","v":""},{"$f":"IF($D152>6,\"\",IF(F$5<=(VLOOKUP($A152,masterlist!$C$2:$AC$200,27,FALSE)),1,\"\"))","v":""},{"$f":"IF($D152>6,\"\",IF(G$5<=(VLOOKUP($A152,masterlist!$C$2:$AC$200,27,FALSE)),1,\"\"))","v":""},{"$f":"IF($D152>6,\"\",IF(H$5<=(VLOOKUP($A152,masterlist!$C$2:$AC$200,27,FALSE)),1,\"\"))","v":""},{"$f":"IF($D152>6,\"\",IF(I$5<=(VLOOKUP($A152,masterlist!$C$2:$AC$200,27,FALSE)),1,\"\"))","v":""},{"$f":"IF($D152>6,\"\",IF(J$5<=(VLOOKUP($A152,masterlist!$C$2:$AC$200,27,FALSE)),1,\"\"))","v":""},{"$f":"IF($D152>6,\"\",IF(K$5<=(VLOOKUP($A152,masterlist!$C$2:$AC$200,27,FALSE)),1,\"\"))","v":""},{"$f":"IF($D152>6,\"\",IF(L$5<=(VLOOKUP($A152,masterlist!$C$2:$AC$200,27,FALSE)),1,\"\"))","v":""},{"$f":"IF($D152>6,\"\",IF(M$5<=(VLOOKUP($A152,masterlist!$C$2:$AC$200,27,FALSE)),1,\"\"))","v":""},{"$f":"IF($D152>6,\"\",IF(N$5<=(VLOOKUP($A152,masterlist!$C$2:$AC$200,27,FALSE)),1,\"\"))","v":""},{"$f":"IF($D152>6,\"\",IF(O$5<=(VLOOKUP($A152,masterlist!$C$2:$AC$200,27,FALSE)),1,\"\"))","v":""},{"$f":"IF($D152>6,\"\",IF(P$5<=(VLOOKUP($A152,masterlist!$C$2:$AC$200,27,FALSE)),1,\"\"))","v":""},{"$f":"IF($D152>6,\"\",IF(Q$5<=(VLOOKUP($A152,masterlist!$C$2:$AC$200,27,FALSE)),1,\"\"))","v":""},{"$f":"IF($D152>6,\"\",IF(R$5<=(VLOOKUP($A152,masterlist!$C$2:$AC$200,27,FALSE)),1,\"\"))","v":""},null,null,null,null,0,0,0,0,0,0,0,0,0,0,0,0,0]
[{"$f":"IFERROR(priorit!A152,\"\")","v":""},"",{"$f":"IFERROR(VLOOKUP($A153,masterlist!$C$2:$AA$200,2,FALSE),\"\")","v":""},{"$f":"IFERROR(VLOOKUP($A153,masterlist!$C$2:$AA$200,3,FALSE),\"\")","v":""},{"$f":"IFERROR(VLOOKUP($A153,masterlist!$C$2:$AA$200,5,FALSE),\"\")","v":""},{"$f":"IF($D153>6,\"\",IF(F$5<=(VLOOKUP($A153,masterlist!$C$2:$AC$200,27,FALSE)),1,\"\"))","v":""},{"$f":"IF($D153>6,\"\",IF(G$5<=(VLOOKUP($A153,masterlist!$C$2:$AC$200,27,FALSE)),1,\"\"))","v":""},{"$f":"IF($D153>6,\"\",IF(H$5<=(VLOOKUP($A153,masterlist!$C$2:$AC$200,27,FALSE)),1,\"\"))","v":""},{"$f":"IF($D153>6,\"\",IF(I$5<=(VLOOKUP($A153,masterlist!$C$2:$AC$200,27,FALSE)),1,\"\"))","v":""},{"$f":"IF($D153>6,\"\",IF(J$5<=(VLOOKUP($A153,masterlist!$C$2:$AC$200,27,FALSE)),1,\"\"))","v":""},{"$f":"IF($D153>6,\"\",IF(K$5<=(VLOOKUP($A153,masterlist!$C$2:$AC$200,27,FALSE)),1,\"\"))","v":""},{"$f":"IF($D153>6,\"\",IF(L$5<=(VLOOKUP($A153,masterlist!$C$2:$AC$200,27,FALSE)),1,\"\"))","v":""},{"$f":"IF($D153>6,\"\",IF(M$5<=(VLOOKUP($A153,masterlist!$C$2:$AC$200,27,FALSE)),1,\"\"))","v":""},{"$f":"IF($D153>6,\"\",IF(N$5<=(VLOOKUP($A153,masterlist!$C$2:$AC$200,27,FALSE)),1,\"\"))","v":""},{"$f":"IF($D153>6,\"\",IF(O$5<=(VLOOKUP($A153,masterlist!$C$2:$AC$200,27,FALSE)),1,\"\"))","v":""},{"$f":"IF($D153>6,\"\",IF(P$5<=(VLOOKUP($A153,masterlist!$C$2:$AC$200,27,FALSE)),1,\"\"))","v":""},{"$f":"IF($D153>6,\"\",IF(Q$5<=(VLOOKUP($A153,masterlist!$C$2:$AC$200,27,FALSE)),1,\"\"))","v":""},{"$f":"IF($D153>6,\"\",IF(R$5<=(VLOOKUP($A153,masterlist!$C$2:$AC$200,27,FALSE)),1,\"\"))","v":""},null,null,null,null,0,0,0,0,0,0,0,0,0,0,0,0,0]
[{"$f":"IFERROR(priorit!A153,\"\")","v":""},"",{"$f":"IFERROR(VLOOKUP($A154,masterlist!$C$2:$AA$200,2,FALSE),\"\")","v":""},{"$f":"IFERROR(VLOOKUP($A154,masterlist!$C$2:$AA$200,3,FALSE),\"\")","v":""},{"$f":"IFERROR(VLOOKUP($A154,masterlist!$C$2:$AA$200,5,FALSE),\"\")","v":""},{"$f":"IF($D154>6,\"\",IF(F$5<=(VLOOKUP($A154,masterlist!$C$2:$AC$200,27,FALSE)),1,\"\"))","v":""},{"$f":"IF($D154>6,\"\",IF(G$5<=(VLOOKUP($A154,masterlist!$C$2:$AC$200,27,FALSE)),1,\"\"))","v":""},{"$f":"IF($D154>6,\"\",IF(H$5<=(VLOOKUP($A154,masterlist!$C$2:$AC$200,27,FALSE)),1,\"\"))","v":""},{"$f":"IF($D154>6,\"\",IF(I$5<=(VLOOKUP($A154,masterlist!$C$2:$AC$200,27,FALSE)),1,\"\"))","v":""},{"$f":"IF($D154>6,\"\",IF(J$5<=(VLOOKUP($A154,masterlist!$C$2:$AC$200,27,FALSE)),1,\"\"))","v":""},{"$f":"IF($D154>6,\"\",IF(K$5<=(VLOOKUP($A154,masterlist!$C$2:$AC$200,27,FALSE)),1,\"\"))","v":""},{"$f":"IF($D154>6,\"\",IF(L$5<=(VLOOKUP($A154,masterlist!$C$2:$AC$200,27,FALSE)),1,\"\"))","v":""},{"$f":"IF($D154>6,\"\",IF(M$5<=(VLOOKUP($A154,masterlist!$C$2:$AC$200,27,FALSE)),1,\"\"))","v":""},{"$f":"IF($D154>6,\"\",IF(N$5<=(VLOOKUP($A154,masterlist!$C$2:$AC$200,27,FALSE)),1,\"\"))","v":""},{"$f":"IF($D154>6,\"\",IF(O$5<=(VLOOKUP($A154,masterlist!$C$2:$AC$200,27,FALSE)),1,\"\"))","v":""},{"$f":"IF($D154>6,\"\",IF(P$5<=(VLOOKUP($A154,masterlist!$C$2:$AC$200,27,FALSE)),1,\"\"))","v":""},{"$f":"IF($D154>6,\"\",IF(Q$5<=(VLOOKUP($A154,masterlist!$C$2:$AC$200,27,FALSE)),1,\"\"))","v":""},{"$f":"IF($D154>6,\"\",IF(R$5<=(VLOOKUP($A154,masterlist!$C$2:$AC$200,27,FALSE)),1,\"\"))","v":""},null,null,null,null,0,0,0,0,0,0,0,0,0,0,0,0,0]
[{"$f":"IFERROR(priorit!A154,\"\")","v":""},"",{"$f":"IFERROR(VLOOKUP($A155,masterlist!$C$2:$AA$200,2,FALSE),\"\")","v":""},{"$f":"IFERROR(VLOOKUP($A155,masterlist!$C$2:$AA$200,3,FALSE),\"\")","v":""},{"$f":"IFERROR(VLOOKUP($A155,masterlist!$C$2:$AA$200,5,FALSE),\"\")","v":""},{"$f":"IF($D155>6,\"\",IF(F$5<=(VLOOKUP($A155,masterlist!$C$2:$AC$200,27,FALSE)),1,\"\"))","v":""},{"$f":"IF($D155>6,\"\",IF(G$5<=(VLOOKUP($A155,masterlist!$C$2:$AC$200,27,FALSE)),1,\"\"))","v":""},{"$f":"IF($D155>6,\"\",IF(H$5<=(VLOOKUP($A155,masterlist!$C$2:$AC$200,27,FALSE)),1,\"\"))","v":""},{"$f":"IF($D155>6,\"\",IF(I$5<=(VLOOKUP($A155,masterlist!$C$2:$AC$200,27,FALSE)),1,\"\"))","v":""},{"$f":"IF($D155>6,\"\",IF(J$5<=(VLOOKUP($A155,masterlist!$C$2:$AC$200,27,FALSE)),1,\"\"))","v":""},{"$f":"IF($D155>6,\"\",IF(K$5<=(VLOOKUP($A155,masterlist!$C$2:$AC$200,27,FALSE)),1,\"\"))","v":""},{"$f":"IF($D155>6,\"\",IF(L$5<=(VLOOKUP($A155,masterlist!$C$2:$AC$200,27,FALSE)),1,\"\"))","v":""},{"$f":"IF($D155>6,\"\",IF(M$5<=(VLOOKUP($A155,masterlist!$C$2:$AC$200,27,FALSE)),1,\"\"))","v":""},{"$f":"IF($D155>6,\"\",IF(N$5<=(VLOOKUP($A155,masterlist!$C$2:$AC$200,27,FALSE)),1,\"\"))","v":""},{"$f":"IF($D155>6,\"\",IF(O$5<=(VLOOKUP($A155,masterlist!$C$2:$AC$200,27,FALSE)),1,\"\"))","v":""},{"$f":"IF($D155>6,\"\",IF(P$5<=(VLOOKUP($A155,masterlist!$C$2:$AC$200,27,FALSE)),1,\"\"))","v":""},{"$f":"IF($D155>6,\"\",IF(Q$5<=(VLOOKUP($A155,masterlist!$C$2:$AC$200,27,FALSE)),1,\"\"))","v":""},{"$f":"IF($D155>6,\"\",IF(R$5<=(VLOOKUP($A155,masterlist!$C$2:$AC$200,27,FALSE)),1,\"\"))","v":""},null,null,null,null,0,0,0,0,0,0,0,0,0,0,0,0,0]
[{"$f":"IFERROR(priorit!A155,\"\")","v":""},"",{"$f":"IFERROR(VLOOKUP($A156,masterlist!$C$2:$AA$200,2,FALSE),\"\")","v":""},{"$f":"IFERROR(VLOOKUP($A156,masterlist!$C$2:$AA$200,3,FALSE),\"\")","v":""},{"$f":"IFERROR(VLOOKUP($A156,masterlist!$C$2:$AA$200,5,FALSE),\"\")","v":""},{"$f":"IF($D156>6,\"\",IF(F$5<=(VLOOKUP($A156,masterlist!$C$2:$AC$200,27,FALSE)),1,\"\"))","v":""},{"$f":"IF($D156>6,\"\",IF(G$5<=(VLOOKUP($A156,masterlist!$C$2:$AC$200,27,FALSE)),1,\"\"))","v":""},{"$f":"IF($D156>6,\"\",IF(H$5<=(VLOOKUP($A156,masterlist!$C$2:$AC$200,27,FALSE)),1,\"\"))","v":""},{"$f":"IF($D156>6,\"\",IF(I$5<=(VLOOKUP($A156,masterlist!$C$2:$AC$200,27,FALSE)),1,\"\"))","v":""},{"$f":"IF($D156>6,\"\",IF(J$5<=(VLOOKUP($A156,masterlist!$C$2:$AC$200,27,FALSE)),1,\"\"))","v":""},{"$f":"IF($D156>6,\"\",IF(K$5<=(VLOOKUP($A156,masterlist!$C$2:$AC$200,27,FALSE)),1,\"\"))","v":""},{"$f":"IF($D156>6,\"\",IF(L$5<=(VLOOKUP($A156,masterlist!$C$2:$AC$200,27,FALSE)),1,\"\"))","v":""},{"$f":"IF($D156>6,\"\",IF(M$5<=(VLOOKUP($A156,masterlist!$C$2:$AC$200,27,FALSE)),1,\"\"))","v":""},{"$f":"IF($D156>6,\"\",IF(N$5<=(VLOOKUP($A156,masterlist!$C$2:$AC$200,27,FALSE)),1,\"\"))","v":""},{"$f":"IF($D156>6,\"\",IF(O$5<=(VLOOKUP($A156,masterlist!$C$2:$AC$200,27,FALSE)),1,\"\"))","v":""},{"$f":"IF($D156>6,\"\",IF(P$5<=(VLOOKUP($A156,masterlist!$C$2:$AC$200,27,FALSE)),1,\"\"))","v":""},{"$f":"IF($D156>6,\"\",IF(Q$5<=(VLOOKUP($A156,masterlist!$C$2:$AC$200,27,FALSE)),1,\"\"))","v":""},{"$f":"IF($D156>6,\"\",IF(R$5<=(VLOOKUP($A156,masterlist!$C$2:$AC$200,27,FALSE)),1,\"\"))","v":""},null,null,null,null,0,0,0,0,0,0,0,0,0,0,0,0,0]
[{"$f":"IFERROR(priorit!A156,\"\")","v":""},"",{"$f":"IFERROR(VLOOKUP($A157,masterlist!$C$2:$AA$200,2,FALSE),\"\")","v":""},{"$f":"IFERROR(VLOOKUP($A157,masterlist!$C$2:$AA$200,3,FALSE),\"\")","v":""},{"$f":"IFERROR(VLOOKUP($A157,masterlist!$C$2:$AA$200,5,FALSE),\"\")","v":""},{"$f":"IF($D157>6,\"\",IF(F$5<=(VLOOKUP($A157,masterlist!$C$2:$AC$200,27,FALSE)),1,\"\"))","v":""},{"$f":"IF($D157>6,\"\",IF(G$5<=(VLOOKUP($A157,masterlist!$C$2:$AC$200,27,FALSE)),1,\"\"))","v":""},{"$f":"IF($D157>6,\"\",IF(H$5<=(VLOOKUP($A157,masterlist!$C$2:$AC$200,27,FALSE)),1,\"\"))","v":""},{"$f":"IF($D157>6,\"\",IF(I$5<=(VLOOKUP($A157,masterlist!$C$2:$AC$200,27,FALSE)),1,\"\"))","v":""},{"$f":"IF($D157>6,\"\",IF(J$5<=(VLOOKUP($A157,masterlist!$C$2:$AC$200,27,FALSE)),1,\"\"))","v":""},{"$f":"IF($D157>6,\"\",IF(K$5<=(VLOOKUP($A157,masterlist!$C$2:$AC$200,27,FALSE)),1,\"\"))","v":""},{"$f":"IF($D157>6,\"\",IF(L$5<=(VLOOKUP($A157,masterlist!$C$2:$AC$200,27,FALSE)),1,\"\"))","v":""},{"$f":"IF($D157>6,\"\",IF(M$5<=(VLOOKUP($A157,masterlist!$C$2:$AC$200,27,FALSE)),1,\"\"))","v":""},{"$f":"IF($D157>6,\"\",IF(N$5<=(VLOOKUP($A157,masterlist!$C$2:$AC$200,27,FALSE)),1,\"\"))","v":""},{"$f":"IF($D157>6,\"\",IF(O$5<=(VLOOKUP($A157,masterlist!$C$2:$AC$200,27,FALSE)),1,\"\"))","v":""},{"$f":"IF($D157>6,\"\",IF(P$5<=(VLOOKUP($A157,masterlist!$C$2:$AC$200,27,FALSE)),1,\"\"))","v":""},{"$f":"IF($D157>6,\"\",IF(Q$5<=(VLOOKUP($A157,masterlist!$C$2:$AC$200,27,FALSE)),1,\"\"))","v":""},{"$f":"IF($D157>6,\"\",IF(R$5<=(VLOOKUP($A157,masterlist!$C$2:$AC$200,27,FALSE)),1,\"\"))","v":""},null,null,null,null,0,0,0,0,0,0,0,0,0,0,0,0,0]
[{"$f":"IFERROR(priorit!A157,\"\")","v":""},"",{"$f":"IFERROR(VLOOKUP($A158,masterlist!$C$2:$AA$200,2,FALSE),\"\")","v":""},{"$f":"IFERROR(VLOOKUP($A158,masterlist!$C$2:$AA$200,3,FALSE),\"\")","v":""},{"$f":"IFERROR(VLOOKUP($A158,masterlist!$C$2:$AA$200,5,FALSE),\"\")","v":""},{"$f":"IF($D158>6,\"\",IF(F$5<=(VLOOKUP($A158,masterlist!$C$2:$AC$200,27,FALSE)),1,\"\"))","v":""},{"$f":"IF($D158>6,\"\",IF(G$5<=(VLOOKUP($A158,masterlist!$C$2:$AC$200,27,FALSE)),1,\"\"))","v":""},{"$f":"IF($D158>6,\"\",IF(H$5<=(VLOOKUP($A158,masterlist!$C$2:$AC$200,27,FALSE)),1,\"\"))","v":""},{"$f":"IF($D158>6,\"\",IF(I$5<=(VLOOKUP($A158,masterlist!$C$2:$AC$200,27,FALSE)),1,\"\"))","v":""},{"$f":"IF($D158>6,\"\",IF(J$5<=(VLOOKUP($A158,masterlist!$C$2:$AC$200,27,FALSE)),1,\"\"))","v":""},{"$f":"IF($D158>6,\"\",IF(K$5<=(VLOOKUP($A158,masterlist!$C$2:$AC$200,27,FALSE)),1,\"\"))","v":""},{"$f":"IF($D158>6,\"\",IF(L$5<=(VLOOKUP($A158,masterlist!$C$2:$AC$200,27,FALSE)),1,\"\"))","v":""},{"$f":"IF($D158>6,\"\",IF(M$5<=(VLOOKUP($A158,masterlist!$C$2:$AC$200,27,FALSE)),1,\"\"))","v":""},{"$f":"IF($D158>6,\"\",IF(N$5<=(VLOOKUP($A158,masterlist!$C$2:$AC$200,27,FALSE)),1,\"\"))","v":""},{"$f":"IF($D158>6,\"\",IF(O$5<=(VLOOKUP($A158,masterlist!$C$2:$AC$200,27,FALSE)),1,\"\"))","v":""},{"$f":"IF($D158>6,\"\",IF(P$5<=(VLOOKUP($A158,masterlist!$C$2:$AC$200,27,FALSE)),1,\"\"))","v":""},{"$f":"IF($D158>6,\"\",IF(Q$5<=(VLOOKUP($A158,masterlist!$C$2:$AC$200,27,FALSE)),1,\"\"))","v":""},{"$f":"IF($D158>6,\"\",IF(R$5<=(VLOOKUP($A158,masterlist!$C$2:$AC$200,27,FALSE)),1,\"\"))","v":""},null,null,null,null,0,0,0,0,0,0,0,0,0,0,0,0,0]
[{"$f":"IFERROR(priorit!A158,\"\")","v":""},"",{"$f":"IFERROR(VLOOKUP($A159,masterlist!$C$2:$AA$200,2,FALSE),\"\")","v":""},{"$f":"IFERROR(VLOOKUP($A159,masterlist!$C$2:$AA$200,3,FALSE),\"\")","v":""},{"$f":"IFERROR(VLOOKUP($A159,masterlist!$C$2:$AA$200,5,FALSE),\"\")","v":""},{"$f":"IF($D159>6,\"\",IF(F$5<=(VLOOKUP($A159,masterlist!$C$2:$AC$200,27,FALSE)),1,\"\"))","v":""},{"$f":"IF($D159>6,\"\",IF(G$5<=(VLOOKUP($A159,masterlist!$C$2:$AC$200,27,FALSE)),1,\"\"))","v":""},{"$f":"IF($D159>6,\"\",IF(H$5<=(VLOOKUP($A159,masterlist!$C$2:$AC$200,27,FALSE)),1,\"\"))","v":""},{"$f":"IF($D159>6,\"\",IF(I$5<=(VLOOKUP($A159,masterlist!$C$2:$AC$200,27,FALSE)),1,\"\"))","v":""},{"$f":"IF($D159>6,\"\",IF(J$5<=(VLOOKUP($A159,masterlist!$C$2:$AC$200,27,FALSE)),1,\"\"))","v":""},{"$f":"IF($D159>6,\"\",IF(K$5<=(VLOOKUP($A159,masterlist!$C$2:$AC$200,27,FALSE)),1,\"\"))","v":""},{"$f":"IF($D159>6,\"\",IF(L$5<=(VLOOKUP($A159,masterlist!$C$2:$AC$200,27,FALSE)),1,\"\"))","v":""},{"$f":"IF($D159>6,\"\",IF(M$5<=(VLOOKUP($A159,masterlist!$C$2:$AC$200,27,FALSE)),1,\"\"))","v":""},{"$f":"IF($D159>6,\"\",IF(N$5<=(VLOOKUP($A159,masterlist!$C$2:$AC$200,27,FALSE)),1,\"\"))","v":""},{"$f":"IF($D159>6,\"\",IF(O$5<=(VLOOKUP($A159,masterlist!$C$2:$AC$200,27,FALSE)),1,\"\"))","v":""},{"$f":"IF($D159>6,\"\",IF(P$5<=(VLOOKUP($A159,masterlist!$C$2:$AC$200,27,FALSE)),1,\"\"))","v":""},{"$f":"IF($D159>6,\"\",IF(Q$5<=(VLOOKUP($A159,masterlist!$C$2:$AC$200,27,FALSE)),1,\"\"))","v":""},{"$f":"IF($D159>6,\"\",IF(R$5<=(VLOOKUP($A159,masterlist!$C$2:$AC$200,27,FALSE)),1,\"\"))","v":""},null,null,null,null,0,0,0,0,0,0,0,0,0,0,0,0,0]
[{"$f":"IFERROR(priorit!A159,\"\")","v":""},"",{"$f":"IFERROR(VLOOKUP($A160,masterlist!$C$2:$AA$200,2,FALSE),\"\")","v":""},{"$f":"IFERROR(VLOOKUP($A160,masterlist!$C$2:$AA$200,3,FALSE),\"\")","v":""},{"$f":"IFERROR(VLOOKUP($A160,masterlist!$C$2:$AA$200,5,FALSE),\"\")","v":""},{"$f":"IF($D160>6,\"\",IF(F$5<=(VLOOKUP($A160,masterlist!$C$2:$AC$200,27,FALSE)),1,\"\"))","v":""},{"$f":"IF($D160>6,\"\",IF(G$5<=(VLOOKUP($A160,masterlist!$C$2:$AC$200,27,FALSE)),1,\"\"))","v":""},{"$f":"IF($D160>6,\"\",IF(H$5<=(VLOOKUP($A160,masterlist!$C$2:$AC$200,27,FALSE)),1,\"\"))","v":""},{"$f":"IF($D160>6,\"\",IF(I$5<=(VLOOKUP($A160,masterlist!$C$2:$AC$200,27,FALSE)),1,\"\"))","v":""},{"$f":"IF($D160>6,\"\",IF(J$5<=(VLOOKUP($A160,masterlist!$C$2:$AC$200,27,FALSE)),1,\"\"))","v":""},{"$f":"IF($D160>6,\"\",IF(K$5<=(VLOOKUP($A160,masterlist!$C$2:$AC$200,27,FALSE)),1,\"\"))","v":""},{"$f":"IF($D160>6,\"\",IF(L$5<=(VLOOKUP($A160,masterlist!$C$2:$AC$200,27,FALSE)),1,\"\"))","v":""},{"$f":"IF($D160>6,\"\",IF(M$5<=(VLOOKUP($A160,masterlist!$C$2:$AC$200,27,FALSE)),1,\"\"))","v":""},{"$f":"IF($D160>6,\"\",IF(N$5<=(VLOOKUP($A160,masterlist!$C$2:$AC$200,27,FALSE)),1,\"\"))","v":""},{"$f":"IF($D160>6,\"\",IF(O$5<=(VLOOKUP($A160,masterlist!$C$2:$AC$200,27,FALSE)),1,\"\"))","v":""},{"$f":"IF($D160>6,\"\",IF(P$5<=(VLOOKUP($A160,masterlist!$C$2:$AC$200,27,FALSE)),1,\"\"))","v":""},{"$f":"IF($D160>6,\"\",IF(Q$5<=(VLOOKUP($A160,masterlist!$C$2:$AC$200,27,FALSE)),1,\"\"))","v":""},{"$f":"IF($D160>6,\"\",IF(R$5<=(VLOOKUP($A160,masterlist!$C$2:$AC$200,27,FALSE)),1,\"\"))","v":""},null,null,null,null,0,0,0,0,0,0,0,0,0,0,0,0,0]
[{"$f":"IFERROR(priorit!A160,\"\")","v":""},"",{"$f":"IFERROR(VLOOKUP($A161,masterlist!$C$2:$AA$200,2,FALSE),\"\")","v":""},{"$f":"IFERROR(VLOOKUP($A161,masterlist!$C$2:$AA$200,3,FALSE),\"\")","v":""},{"$f":"IFERROR(VLOOKUP($A161,masterlist!$C$2:$AA$200,5,FALSE),\"\")","v":""},{"$f":"IF($D161>6,\"\",IF(F$5<=(VLOOKUP($A161,masterlist!$C$2:$AC$200,27,FALSE)),1,\"\"))","v":""},{"$f":"IF($D161>6,\"\",IF(G$5<=(VLOOKUP($A161,masterlist!$C$2:$AC$200,27,FALSE)),1,\"\"))","v":""},{"$f":"IF($D161>6,\"\",IF(H$5<=(VLOOKUP($A161,masterlist!$C$2:$AC$200,27,FALSE)),1,\"\"))","v":""},{"$f":"IF($D161>6,\"\",IF(I$5<=(VLOOKUP($A161,masterlist!$C$2:$AC$200,27,FALSE)),1,\"\"))","v":""},{"$f":"IF($D161>6,\"\",IF(J$5<=(VLOOKUP($A161,masterlist!$C$2:$AC$200,27,FALSE)),1,\"\"))","v":""},{"$f":"IF($D161>6,\"\",IF(K$5<=(VLOOKUP($A161,masterlist!$C$2:$AC$200,27,FALSE)),1,\"\"))","v":""},{"$f":"IF($D161>6,\"\",IF(L$5<=(VLOOKUP($A161,masterlist!$C$2:$AC$200,27,FALSE)),1,\"\"))","v":""},{"$f":"IF($D161>6,\"\",IF(M$5<=(VLOOKUP($A161,masterlist!$C$2:$AC$200,27,FALSE)),1,\"\"))","v":""},{"$f":"IF($D161>6,\"\",IF(N$5<=(VLOOKUP($A161,masterlist!$C$2:$AC$200,27,FALSE)),1,\"\"))","v":""},{"$f":"IF($D161>6,\"\",IF(O$5<=(VLOOKUP($A161,masterlist!$C$2:$AC$200,27,FALSE)),1,\"\"))","v":""},{"$f":"IF($D161>6,\"\",IF(P$5<=(VLOOKUP($A161,masterlist!$C$2:$AC$200,27,FALSE)),1,\"\"))","v":""},{"$f":"IF($D161>6,\"\",IF(Q$5<=(VLOOKUP($A161,masterlist!$C$2:$AC$200,27,FALSE)),1,\"\"))","v":""},{"$f":"IF($D161>6,\"\",IF(R$5<=(VLOOKUP($A161,masterlist!$C$2:$AC$200,27,FALSE)),1,\"\"))","v":""},null,null,null,null,0,0,0,0,0,0,0,0,0,0,0,0,0]
[{"$f":"IFERROR(priorit!A161,\"\")","v":""},"",{"$f":"IFERROR(VLOOKUP($A162,masterlist!$C$2:$AA$200,2,FALSE),\"\")","v":""},{"$f":"IFERROR(VLOOKUP($A162,masterlist!$C$2:$AA$200,3,FALSE),\"\")","v":""},{"$f":"IFERROR(VLOOKUP($A162,masterlist!$C$2:$AA$200,5,FALSE),\"\")","v":""},{"$f":"IF($D162>6,\"\",IF(F$5<=(VLOOKUP($A162,masterlist!$C$2:$AC$200,27,FALSE)),1,\"\"))","v":""},{"$f":"IF($D162>6,\"\",IF(G$5<=(VLOOKUP($A162,masterlist!$C$2:$AC$200,27,FALSE)),1,\"\"))","v":""},{"$f":"IF($D162>6,\"\",IF(H$5<=(VLOOKUP($A162,masterlist!$C$2:$AC$200,27,FALSE)),1,\"\"))","v":""},{"$f":"IF($D162>6,\"\",IF(I$5<=(VLOOKUP($A162,masterlist!$C$2:$AC$200,27,FALSE)),1,\"\"))","v":""},{"$f":"IF($D162>6,\"\",IF(J$5<=(VLOOKUP($A162,masterlist!$C$2:$AC$200,27,FALSE)),1,\"\"))","v":""},{"$f":"IF($D162>6,\"\",IF(K$5<=(VLOOKUP($A162,masterlist!$C$2:$AC$200,27,FALSE)),1,\"\"))","v":""},{"$f":"IF($D162>6,\"\",IF(L$5<=(VLOOKUP($A162,masterlist!$C$2:$AC$200,27,FALSE)),1,\"\"))","v":""},{"$f":"IF($D162>6,\"\",IF(M$5<=(VLOOKUP($A162,masterlist!$C$2:$AC$200,27,FALSE)),1,\"\"))","v":""},{"$f":"IF($D162>6,\"\",IF(N$5<=(VLOOKUP($A162,masterlist!$C$2:$AC$200,27,FALSE)),1,\"\"))","v":""},{"$f":"IF($D162>6,\"\",IF(O$5<=(VLOOKUP($A162,masterlist!$C$2:$AC$200,27,FALSE)),1,\"\"))","v":""},{"$f":"IF($D162>6,\"\",IF(P$5<=(VLOOKUP($A162,masterlist!$C$2:$AC$200,27,FALSE)),1,\"\"))","v":""},{"$f":"IF($D162>6,\"\",IF(Q$5<=(VLOOKUP($A162,masterlist!$C$2:$AC$200,27,FALSE)),1,\"\"))","v":""},{"$f":"IF($D162>6,\"\",IF(R$5<=(VLOOKUP($A162,masterlist!$C$2:$AC$200,27,FALSE)),1,\"\"))","v":""},null,null,null,null,0,0,0,0,0,0,0,0,0,0,0,0,0]
[{"$f":"IFERROR(priorit!A162,\"\")","v":""},"",{"$f":"IFERROR(VLOOKUP($A163,masterlist!$C$2:$AA$200,2,FALSE),\"\")","v":""},{"$f":"IFERROR(VLOOKUP($A163,masterlist!$C$2:$AA$200,3,FALSE),\"\")","v":""},{"$f":"IFERROR(VLOOKUP($A163,masterlist!$C$2:$AA$200,5,FALSE),\"\")","v":""},{"$f":"IF($D163>6,\"\",IF(F$5<=(VLOOKUP($A163,masterlist!$C$2:$AC$200,27,FALSE)),1,\"\"))","v":""},{"$f":"IF($D163>6,\"\",IF(G$5<=(VLOOKUP($A163,masterlist!$C$2:$AC$200,27,FALSE)),1,\"\"))","v":""},{"$f":"IF($D163>6,\"\",IF(H$5<=(VLOOKUP($A163,masterlist!$C$2:$AC$200,27,FALSE)),1,\"\"))","v":""},{"$f":"IF($D163>6,\"\",IF(I$5<=(VLOOKUP($A163,masterlist!$C$2:$AC$200,27,FALSE)),1,\"\"))","v":""},{"$f":"IF($D163>6,\"\",IF(J$5<=(VLOOKUP($A163,masterlist!$C$2:$AC$200,27,FALSE)),1,\"\"))","v":""},{"$f":"IF($D163>6,\"\",IF(K$5<=(VLOOKUP($A163,masterlist!$C$2:$AC$200,27,FALSE)),1,\"\"))","v":""},{"$f":"IF($D163>6,\"\",IF(L$5<=(VLOOKUP($A163,masterlist!$C$2:$AC$200,27,FALSE)),1,\"\"))","v":""},{"$f":"IF($D163>6,\"\",IF(M$5<=(VLOOKUP($A163,masterlist!$C$2:$AC$200,27,FALSE)),1,\"\"))","v":""},{"$f":"IF($D163>6,\"\",IF(N$5<=(VLOOKUP($A163,masterlist!$C$2:$AC$200,27,FALSE)),1,\"\"))","v":""},{"$f":"IF($D163>6,\"\",IF(O$5<=(VLOOKUP($A163,masterlist!$C$2:$AC$200,27,FALSE)),1,\"\"))","v":""},{"$f":"IF($D163>6,\"\",IF(P$5<=(VLOOKUP($A163,masterlist!$C$2:$AC$200,27,FALSE)),1,\"\"))","v":""},{"$f":"IF($D163>6,\"\",IF(Q$5<=(VLOOKUP($A163,masterlist!$C$2:$AC$200,27,FALSE)),1,\"\"))","v":""},{"$f":"IF($D163>6,\"\",IF(R$5<=(VLOOKUP($A163,masterlist!$C$2:$AC$200,27,FALSE)),1,\"\"))","v":""},null,null,null,null,0,0,0,0,0,0,0,0,0,0,0,0,0]
[{"$f":"IFERROR(priorit!A163,\"\")","v":""},"",{"$f":"IFERROR(VLOOKUP($A164,masterlist!$C$2:$AA$200,2,FALSE),\"\")","v":""},{"$f":"IFERROR(VLOOKUP($A164,masterlist!$C$2:$AA$200,3,FALSE),\"\")","v":""},{"$f":"IFERROR(VLOOKUP($A164,masterlist!$C$2:$AA$200,5,FALSE),\"\")","v":""},{"$f":"IF($D164>6,\"\",IF(F$5<=(VLOOKUP($A164,masterlist!$C$2:$AC$200,27,FALSE)),1,\"\"))","v":""},{"$f":"IF($D164>6,\"\",IF(G$5<=(VLOOKUP($A164,masterlist!$C$2:$AC$200,27,FALSE)),1,\"\"))","v":""},{"$f":"IF($D164>6,\"\",IF(H$5<=(VLOOKUP($A164,masterlist!$C$2:$AC$200,27,FALSE)),1,\"\"))","v":""},{"$f":"IF($D164>6,\"\",IF(I$5<=(VLOOKUP($A164,masterlist!$C$2:$AC$200,27,FALSE)),1,\"\"))","v":""},{"$f":"IF($D164>6,\"\",IF(J$5<=(VLOOKUP($A164,masterlist!$C$2:$AC$200,27,FALSE)),1,\"\"))","v":""},{"$f":"IF($D164>6,\"\",IF(K$5<=(VLOOKUP($A164,masterlist!$C$2:$AC$200,27,FALSE)),1,\"\"))","v":""},{"$f":"IF($D164>6,\"\",IF(L$5<=(VLOOKUP($A164,masterlist!$C$2:$AC$200,27,FALSE)),1,\"\"))","v":""},{"$f":"IF($D164>6,\"\",IF(M$5<=(VLOOKUP($A164,masterlist!$C$2:$AC$200,27,FALSE)),1,\"\"))","v":""},{"$f":"IF($D164>6,\"\",IF(N$5<=(VLOOKUP($A164,masterlist!$C$2:$AC$200,27,FALSE)),1,\"\"))","v":""},{"$f":"IF($D164>6,\"\",IF(O$5<=(VLOOKUP($A164,masterlist!$C$2:$AC$200,27,FALSE)),1,\"\"))","v":""},{"$f":"IF($D164>6,\"\",IF(P$5<=(VLOOKUP($A164,masterlist!$C$2:$AC$200,27,FALSE)),1,\"\"))","v":""},{"$f":"IF($D164>6,\"\",IF(Q$5<=(VLOOKUP($A164,masterlist!$C$2:$AC$200,27,FALSE)),1,\"\"))","v":""},{"$f":"IF($D164>6,\"\",IF(R$5<=(VLOOKUP($A164,masterlist!$C$2:$AC$200,27,FALSE)),1,\"\"))","v":""},null,null,null,null,0,0,0,0,0,0,0,0,0,0,0,0,0]
[{"$f":"IFERROR(priorit!A164,\"\")","v":""},"",{"$f":"IFERROR(VLOOKUP($A165,masterlist!$C$2:$AA$200,2,FALSE),\"\")","v":""},{"$f":"IFERROR(VLOOKUP($A165,masterlist!$C$2:$AA$200,3,FALSE),\"\")","v":""},{"$f":"IFERROR(VLOOKUP($A165,masterlist!$C$2:$AA$200,5,FALSE),\"\")","v":""},{"$f":"IF($D165>6,\"\",IF(F$5<=(VLOOKUP($A165,masterlist!$C$2:$AC$200,27,FALSE)),1,\"\"))","v":""},{"$f":"IF($D165>6,\"\",IF(G$5<=(VLOOKUP($A165,masterlist!$C$2:$AC$200,27,FALSE)),1,\"\"))","v":""},{"$f":"IF($D165>6,\"\",IF(H$5<=(VLOOKUP($A165,masterlist!$C$2:$AC$200,27,FALSE)),1,\"\"))","v":""},{"$f":"IF($D165>6,\"\",IF(I$5<=(VLOOKUP($A165,masterlist!$C$2:$AC$200,27,FALSE)),1,\"\"))","v":""},{"$f":"IF($D165>6,\"\",IF(J$5<=(VLOOKUP($A165,masterlist!$C$2:$AC$200,27,FALSE)),1,\"\"))","v":""},{"$f":"IF($D165>6,\"\",IF(K$5<=(VLOOKUP($A165,masterlist!$C$2:$AC$200,27,FALSE)),1,\"\"))","v":""},{"$f":"IF($D165>6,\"\",IF(L$5<=(VLOOKUP($A165,masterlist!$C$2:$AC$200,27,FALSE)),1,\"\"))","v":""},{"$f":"IF($D165>6,\"\",IF(M$5<=(VLOOKUP($A165,masterlist!$C$2:$AC$200,27,FALSE)),1,\"\"))","v":""},{"$f":"IF($D165>6,\"\",IF(N$5<=(VLOOKUP($A165,masterlist!$C$2:$AC$200,27,FALSE)),1,\"\"))","v":""},{"$f":"IF($D165>6,\"\",IF(O$5<=(VLOOKUP($A165,masterlist!$C$2:$AC$200,27,FALSE)),1,\"\"))","v":""},{"$f":"IF($D165>6,\"\",IF(P$5<=(VLOOKUP($A165,masterlist!$C$2:$AC$200,27,FALSE)),1,\"\"))","v":""},{"$f":"IF($D165>6,\"\",IF(Q$5<=(VLOOKUP($A165,masterlist!$C$2:$AC$200,27,FALSE)),1,\"\"))","v":""},{"$f":"IF($D165>6,\"\",IF(R$5<=(VLOOKUP($A165,masterlist!$C$2:$AC$200,27,FALSE)),1,\"\"))","v":""},null,null,null,null,0,0,0,0,0,0,0,0,0,0,0,0,0]
[{"$f":"IFERROR(priorit!A165,\"\")","v":""},"",{"$f":"IFERROR(VLOOKUP($A166,masterlist!$C$2:$AA$200,2,FALSE),\"\")","v":""},{"$f":"IFERROR(VLOOKUP($A166,masterlist!$C$2:$AA$200,3,FALSE),\"\")","v":""},{"$f":"IFERROR(VLOOKUP($A166,masterlist!$C$2:$AA$200,5,FALSE),\"\")","v":""},{"$f":"IF($D166>6,\"\",IF(F$5<=(VLOOKUP($A166,masterlist!$C$2:$AC$200,27,FALSE)),1,\"\"))","v":""},{"$f":"IF($D166>6,\"\",IF(G$5<=(VLOOKUP($A166,masterlist!$C$2:$AC$200,27,FALSE)),1,\"\"))","v":""},{"$f":"IF($D166>6,\"\",IF(H$5<=(VLOOKUP($A166,masterlist!$C$2:$AC$200,27,FALSE)),1,\"\"))","v":""},{"$f":"IF($D166>6,\"\",IF(I$5<=(VLOOKUP($A166,masterlist!$C$2:$AC$200,27,FALSE)),1,\"\"))","v":""},{"$f":"IF($D166>6,\"\",IF(J$5<=(VLOOKUP($A166,masterlist!$C$2:$AC$200,27,FALSE)),1,\"\"))","v":""},{"$f":"IF($D166>6,\"\",IF(K$5<=(VLOOKUP($A166,masterlist!$C$2:$AC$200,27,FALSE)),1,\"\"))","v":""},{"$f":"IF($D166>6,\"\",IF(L$5<=(VLOOKUP($A166,masterlist!$C$2:$AC$200,27,FALSE)),1,\"\"))","v":""},{"$f":"IF($D166>6,\"\",IF(M$5<=(VLOOKUP($A166,masterlist!$C$2:$AC$200,27,FALSE)),1,\"\"))","v":""},{"$f":"IF($D166>6,\"\",IF(N$5<=(VLOOKUP($A166,masterlist!$C$2:$AC$200,27,FALSE)),1,\"\"))","v":""},{"$f":"IF($D166>6,\"\",IF(O$5<=(VLOOKUP($A166,masterlist!$C$2:$AC$200,27,FALSE)),1,\"\"))","v":""},{"$f":"IF($D166>6,\"\",IF(P$5<=(VLOOKUP($A166,masterlist!$C$2:$AC$200,27,FALSE)),1,\"\"))","v":""},{"$f":"IF($D166>6,\"\",IF(Q$5<=(VLOOKUP($A166,masterlist!$C$2:$AC$200,27,FALSE)),1,\"\"))","v":""},{"$f":"IF($D166>6,\"\",IF(R$5<=(VLOOKUP($A166,masterlist!$C$2:$AC$200,27,FALSE)),1,\"\"))","v":""},null,null,null,null,0,0,0,0,0,0,0,0,0,0,0,0,0]
[{"$f":"IFERROR(priorit!A166,\"\")","v":""},"",{"$f":"IFERROR(VLOOKUP($A167,masterlist!$C$2:$AA$200,2,FALSE),\"\")","v":""},{"$f":"IFERROR(VLOOKUP($A167,masterlist!$C$2:$AA$200,3,FALSE),\"\")","v":""},{"$f":"IFERROR(VLOOKUP($A167,masterlist!$C$2:$AA$200,5,FALSE),\"\")","v":""},{"$f":"IF($D167>6,\"\",IF(F$5<=(VLOOKUP($A167,masterlist!$C$2:$AC$200,27,FALSE)),1,\"\"))","v":""},{"$f":"IF($D167>6,\"\",IF(G$5<=(VLOOKUP($A167,masterlist!$C$2:$AC$200,27,FALSE)),1,\"\"))","v":""},{"$f":"IF($D167>6,\"\",IF(H$5<=(VLOOKUP($A167,masterlist!$C$2:$AC$200,27,FALSE)),1,\"\"))","v":""},{"$f":"IF($D167>6,\"\",IF(I$5<=(VLOOKUP($A167,masterlist!$C$2:$AC$200,27,FALSE)),1,\"\"))","v":""},{"$f":"IF($D167>6,\"\",IF(J$5<=(VLOOKUP($A167,masterlist!$C$2:$AC$200,27,FALSE)),1,\"\"))","v":""},{"$f":"IF($D167>6,\"\",IF(K$5<=(VLOOKUP($A167,masterlist!$C$2:$AC$200,27,FALSE)),1,\"\"))","v":""},{"$f":"IF($D167>6,\"\",IF(L$5<=(VLOOKUP($A167,masterlist!$C$2:$AC$200,27,FALSE)),1,\"\"))","v":""},{"$f":"IF($D167>6,\"\",IF(M$5<=(VLOOKUP($A167,masterlist!$C$2:$AC$200,27,FALSE)),1,\"\"))","v":""},{"$f":"IF($D167>6,\"\",IF(N$5<=(VLOOKUP($A167,masterlist!$C$2:$AC$200,27,FALSE)),1,\"\"))","v":""},{"$f":"IF($D167>6,\"\",IF(O$5<=(VLOOKUP($A167,masterlist!$C$2:$AC$200,27,FALSE)),1,\"\"))","v":""},{"$f":"IF($D167>6,\"\",IF(P$5<=(VLOOKUP($A167,masterlist!$C$2:$AC$200,27,FALSE)),1,\"\"))","v":""},{"$f":"IF($D167>6,\"\",IF(Q$5<=(VLOOKUP($A167,masterlist!$C$2:$AC$200,27,FALSE)),1,\"\"))","v":""},{"$f":"IF($D167>6,\"\",IF(R$5<=(VLOOKUP($A167,masterlist!$C$2:$AC$200,27,FALSE)),1,\"\"))","v":""},null,null,null,null,0,0,0,0,0,0,0,0,0,0,0,0,0]
[{"$f":"IFERROR(priorit!A167,\"\")","v":""},"",{"$f":"IFERROR(VLOOKUP($A168,masterlist!$C$2:$AA$200,2,FALSE),\"\")","v":""},{"$f":"IFERROR(VLOOKUP($A168,masterlist!$C$2:$AA$200,3,FALSE),\"\")","v":""},{"$f":"IFERROR(VLOOKUP($A168,masterlist!$C$2:$AA$200,5,FALSE),\"\")","v":""},{"$f":"IF($D168>6,\"\",IF(F$5<=(VLOOKUP($A168,masterlist!$C$2:$AC$200,27,FALSE)),1,\"\"))","v":""},{"$f":"IF($D168>6,\"\",IF(G$5<=(VLOOKUP($A168,masterlist!$C$2:$AC$200,27,FALSE)),1,\"\"))","v":""},{"$f":"IF($D168>6,\"\",IF(H$5<=(VLOOKUP($A168,masterlist!$C$2:$AC$200,27,FALSE)),1,\"\"))","v":""},{"$f":"IF($D168>6,\"\",IF(I$5<=(VLOOKUP($A168,masterlist!$C$2:$AC$200,27,FALSE)),1,\"\"))","v":""},{"$f":"IF($D168>6,\"\",IF(J$5<=(VLOOKUP($A168,masterlist!$C$2:$AC$200,27,FALSE)),1,\"\"))","v":""},{"$f":"IF($D168>6,\"\",IF(K$5<=(VLOOKUP($A168,masterlist!$C$2:$AC$200,27,FALSE)),1,\"\"))","v":""},{"$f":"IF($D168>6,\"\",IF(L$5<=(VLOOKUP($A168,masterlist!$C$2:$AC$200,27,FALSE)),1,\"\"))","v":""},{"$f":"IF($D168>6,\"\",IF(M$5<=(VLOOKUP($A168,masterlist!$C$2:$AC$200,27,FALSE)),1,\"\"))","v":""},{"$f":"IF($D168>6,\"\",IF(N$5<=(VLOOKUP($A168,masterlist!$C$2:$AC$200,27,FALSE)),1,\"\"))","v":""},{"$f":"IF($D168>6,\"\",IF(O$5<=(VLOOKUP($A168,masterlist!$C$2:$AC$200,27,FALSE)),1,\"\"))","v":""},{"$f":"IF($D168>6,\"\",IF(P$5<=(VLOOKUP($A168,masterlist!$C$2:$AC$200,27,FALSE)),1,\"\"))","v":""},{"$f":"IF($D168>6,\"\",IF(Q$5<=(VLOOKUP($A168,masterlist!$C$2:$AC$200,27,FALSE)),1,\"\"))","v":""},{"$f":"IF($D168>6,\"\",IF(R$5<=(VLOOKUP($A168,masterlist!$C$2:$AC$200,27,FALSE)),1,\"\"))","v":""},null,null,null,null,0,0,0,0,0,0,0,0,0,0,0,0,0]
[{"$f":"IFERROR(priorit!A168,\"\")","v":""},"",{"$f":"IFERROR(VLOOKUP($A169,masterlist!$C$2:$AA$200,2,FALSE),\"\")","v":""},{"$f":"IFERROR(VLOOKUP($A169,masterlist!$C$2:$AA$200,3,FALSE),\"\")","v":""},{"$f":"IFERROR(VLOOKUP($A169,masterlist!$C$2:$AA$200,5,FALSE),\"\")","v":""},{"$f":"IF($D169>6,\"\",IF(F$5<=(VLOOKUP($A169,masterlist!$C$2:$AC$200,27,FALSE)),1,\"\"))","v":""},{"$f":"IF($D169>6,\"\",IF(G$5<=(VLOOKUP($A169,masterlist!$C$2:$AC$200,27,FALSE)),1,\"\"))","v":""},{"$f":"IF($D169>6,\"\",IF(H$5<=(VLOOKUP($A169,masterlist!$C$2:$AC$200,27,FALSE)),1,\"\"))","v":""},{"$f":"IF($D169>6,\"\",IF(I$5<=(VLOOKUP($A169,masterlist!$C$2:$AC$200,27,FALSE)),1,\"\"))","v":""},{"$f":"IF($D169>6,\"\",IF(J$5<=(VLOOKUP($A169,masterlist!$C$2:$AC$200,27,FALSE)),1,\"\"))","v":""},{"$f":"IF($D169>6,\"\",IF(K$5<=(VLOOKUP($A169,masterlist!$C$2:$AC$200,27,FALSE)),1,\"\"))","v":""},{"$f":"IF($D169>6,\"\",IF(L$5<=(VLOOKUP($A169,masterlist!$C$2:$AC$200,27,FALSE)),1,\"\"))","v":""},{"$f":"IF($D169>6,\"\",IF(M$5<=(VLOOKUP($A169,masterlist!$C$2:$AC$200,27,FALSE)),1,\"\"))","v":""},{"$f":"IF($D169>6,\"\",IF(N$5<=(VLOOKUP($A169,masterlist!$C$2:$AC$200,27,FALSE)),1,\"\"))","v":""},{"$f":"IF($D169>6,\"\",IF(O$5<=(VLOOKUP($A169,masterlist!$C$2:$AC$200,27,FALSE)),1,\"\"))","v":""},{"$f":"IF($D169>6,\"\",IF(P$5<=(VLOOKUP($A169,masterlist!$C$2:$AC$200,27,FALSE)),1,\"\"))","v":""},{"$f":"IF($D169>6,\"\",IF(Q$5<=(VLOOKUP($A169,masterlist!$C$2:$AC$200,27,FALSE)),1,\"\"))","v":""},{"$f":"IF($D169>6,\"\",IF(R$5<=(VLOOKUP($A169,masterlist!$C$2:$AC$200,27,FALSE)),1,\"\"))","v":""},null,null,null,null,0,0,0,0,0,0,0,0,0,0,0,0,0]
[{"$f":"IFERROR(priorit!A169,\"\")","v":""},"",{"$f":"IFERROR(VLOOKUP($A170,masterlist!$C$2:$AA$200,2,FALSE),\"\")","v":""},{"$f":"IFERROR(VLOOKUP($A170,masterlist!$C$2:$AA$200,3,FALSE),\"\")","v":""},{"$f":"IFERROR(VLOOKUP($A170,masterlist!$C$2:$AA$200,5,FALSE),\"\")","v":""},{"$f":"IF($D170>6,\"\",IF(F$5<=(VLOOKUP($A170,masterlist!$C$2:$AC$200,27,FALSE)),1,\"\"))","v":""},{"$f":"IF($D170>6,\"\",IF(G$5<=(VLOOKUP($A170,masterlist!$C$2:$AC$200,27,FALSE)),1,\"\"))","v":""},{"$f":"IF($D170>6,\"\",IF(H$5<=(VLOOKUP($A170,masterlist!$C$2:$AC$200,27,FALSE)),1,\"\"))","v":""},{"$f":"IF($D170>6,\"\",IF(I$5<=(VLOOKUP($A170,masterlist!$C$2:$AC$200,27,FALSE)),1,\"\"))","v":""},{"$f":"IF($D170>6,\"\",IF(J$5<=(VLOOKUP($A170,masterlist!$C$2:$AC$200,27,FALSE)),1,\"\"))","v":""},{"$f":"IF($D170>6,\"\",IF(K$5<=(VLOOKUP($A170,masterlist!$C$2:$AC$200,27,FALSE)),1,\"\"))","v":""},{"$f":"IF($D170>6,\"\",IF(L$5<=(VLOOKUP($A170,masterlist!$C$2:$AC$200,27,FALSE)),1,\"\"))","v":""},{"$f":"IF($D170>6,\"\",IF(M$5<=(VLOOKUP($A170,masterlist!$C$2:$AC$200,27,FALSE)),1,\"\"))","v":""},{"$f":"IF($D170>6,\"\",IF(N$5<=(VLOOKUP($A170,masterlist!$C$2:$AC$200,27,FALSE)),1,\"\"))","v":""},{"$f":"IF($D170>6,\"\",IF(O$5<=(VLOOKUP($A170,masterlist!$C$2:$AC$200,27,FALSE)),1,\"\"))","v":""},{"$f":"IF($D170>6,\"\",IF(P$5<=(VLOOKUP($A170,masterlist!$C$2:$AC$200,27,FALSE)),1,\"\"))","v":""},{"$f":"IF($D170>6,\"\",IF(Q$5<=(VLOOKUP($A170,masterlist!$C$2:$AC$200,27,FALSE)),1,\"\"))","v":""},{"$f":"IF($D170>6,\"\",IF(R$5<=(VLOOKUP($A170,masterlist!$C$2:$AC$200,27,FALSE)),1,\"\"))","v":""},null,null,null,null,0,0,0,0,0,0,0,0,0,0,0,0,0]
[{"$f":"IFERROR(priorit!A170,\"\")","v":""},"",{"$f":"IFERROR(VLOOKUP($A171,masterlist!$C$2:$AA$200,2,FALSE),\"\")","v":""},{"$f":"IFERROR(VLOOKUP($A171,masterlist!$C$2:$AA$200,3,FALSE),\"\")","v":""},{"$f":"IFERROR(VLOOKUP($A171,masterlist!$C$2:$AA$200,5,FALSE),\"\")","v":""},{"$f":"IF($D171>6,\"\",IF(F$5<=(VLOOKUP($A171,masterlist!$C$2:$AC$200,27,FALSE)),1,\"\"))","v":""},{"$f":"IF($D171>6,\"\",IF(G$5<=(VLOOKUP($A171,masterlist!$C$2:$AC$200,27,FALSE)),1,\"\"))","v":""},{"$f":"IF($D171>6,\"\",IF(H$5<=(VLOOKUP($A171,masterlist!$C$2:$AC$200,27,FALSE)),1,\"\"))","v":""},{"$f":"IF($D171>6,\"\",IF(I$5<=(VLOOKUP($A171,masterlist!$C$2:$AC$200,27,FALSE)),1,\"\"))","v":""},{"$f":"IF($D171>6,\"\",IF(J$5<=(VLOOKUP($A171,masterlist!$C$2:$AC$200,27,FALSE)),1,\"\"))","v":""},{"$f":"IF($D171>6,\"\",IF(K$5<=(VLOOKUP($A171,masterlist!$C$2:$AC$200,27,FALSE)),1,\"\"))","v":""},{"$f":"IF($D171>6,\"\",IF(L$5<=(VLOOKUP($A171,masterlist!$C$2:$AC$200,27,FALSE)),1,\"\"))","v":""},{"$f":"IF($D171>6,\"\",IF(M$5<=(VLOOKUP($A171,masterlist!$C$2:$AC$200,27,FALSE)),1,\"\"))","v":""},{"$f":"IF($D171>6,\"\",IF(N$5<=(VLOOKUP($A171,masterlist!$C$2:$AC$200,27,FALSE)),1,\"\"))","v":""},{"$f":"IF($D171>6,\"\",IF(O$5<=(VLOOKUP($A171,masterlist!$C$2:$AC$200,27,FALSE)),1,\"\"))","v":""},{"$f":"IF($D171>6,\"\",IF(P$5<=(VLOOKUP($A171,masterlist!$C$2:$AC$200,27,FALSE)),1,\"\"))","v":""},{"$f":"IF($D171>6,\"\",IF(Q$5<=(VLOOKUP($A171,masterlist!$C$2:$AC$200,27,FALSE)),1,\"\"))","v":""},{"$f":"IF($D171>6,\"\",IF(R$5<=(VLOOKUP($A171,masterlist!$C$2:$AC$200,27,FALSE)),1,\"\"))","v":""},null,null,null,null,0,0,0,0,0,0,0,0,0,0,0,0,0]
[{"$f":"IFERROR(priorit!A171,\"\")","v":""},"",{"$f":"IFERROR(VLOOKUP($A172,masterlist!$C$2:$AA$200,2,FALSE),\"\")","v":""},{"$f":"IFERROR(VLOOKUP($A172,masterlist!$C$2:$AA$200,3,FALSE),\"\")","v":""},{"$f":"IFERROR(VLOOKUP($A172,masterlist!$C$2:$AA$200,5,FALSE),\"\")","v":""},{"$f":"IF($D172>6,\"\",IF(F$5<=(VLOOKUP($A172,masterlist!$C$2:$AC$200,27,FALSE)),1,\"\"))","v":""},{"$f":"IF($D172>6,\"\",IF(G$5<=(VLOOKUP($A172,masterlist!$C$2:$AC$200,27,FALSE)),1,\"\"))","v":""},{"$f":"IF($D172>6,\"\",IF(H$5<=(VLOOKUP($A172,masterlist!$C$2:$AC$200,27,FALSE)),1,\"\"))","v":""},{"$f":"IF($D172>6,\"\",IF(I$5<=(VLOOKUP($A172,masterlist!$C$2:$AC$200,27,FALSE)),1,\"\"))","v":""},{"$f":"IF($D172>6,\"\",IF(J$5<=(VLOOKUP($A172,masterlist!$C$2:$AC$200,27,FALSE)),1,\"\"))","v":""},{"$f":"IF($D172>6,\"\",IF(K$5<=(VLOOKUP($A172,masterlist!$C$2:$AC$200,27,FALSE)),1,\"\"))","v":""},{"$f":"IF($D172>6,\"\",IF(L$5<=(VLOOKUP($A172,masterlist!$C$2:$AC$200,27,FALSE)),1,\"\"))","v":""},{"$f":"IF($D172>6,\"\",IF(M$5<=(VLOOKUP($A172,masterlist!$C$2:$AC$200,27,FALSE)),1,\"\"))","v":""},{"$f":"IF($D172>6,\"\",IF(N$5<=(VLOOKUP($A172,masterlist!$C$2:$AC$200,27,FALSE)),1,\"\"))","v":""},{"$f":"IF($D172>6,\"\",IF(O$5<=(VLOOKUP($A172,masterlist!$C$2:$AC$200,27,FALSE)),1,\"\"))","v":""},{"$f":"IF($D172>6,\"\",IF(P$5<=(VLOOKUP($A172,masterlist!$C$2:$AC$200,27,FALSE)),1,\"\"))","v":""},{"$f":"IF($D172>6,\"\",IF(Q$5<=(VLOOKUP($A172,masterlist!$C$2:$AC$200,27,FALSE)),1,\"\"))","v":""},{"$f":"IF($D172>6,\"\",IF(R$5<=(VLOOKUP($A172,masterlist!$C$2:$AC$200,27,FALSE)),1,\"\"))","v":""},null,null,null,null,0,0,0,0,0,0,0,0,0,0,0,0,0]
[{"$f":"IFERROR(priorit!A172,\"\")","v":""},"",{"$f":"IFERROR(VLOOKUP($A173,masterlist!$C$2:$AA$200,2,FALSE),\"\")","v":""},{"$f":"IFERROR(VLOOKUP($A173,masterlist!$C$2:$AA$200,3,FALSE),\"\")","v":""},{"$f":"IFERROR(VLOOKUP($A173,masterlist!$C$2:$AA$200,5,FALSE),\"\")","v":""},{"$f":"IF($D173>6,\"\",IF(F$5<=(VLOOKUP($A173,masterlist!$C$2:$AC$200,27,FALSE)),1,\"\"))","v":""},{"$f":"IF($D173>6,\"\",IF(G$5<=(VLOOKUP($A173,masterlist!$C$2:$AC$200,27,FALSE)),1,\"\"))","v":""},{"$f":"IF($D173>6,\"\",IF(H$5<=(VLOOKUP($A173,masterlist!$C$2:$AC$200,27,FALSE)),1,\"\"))","v":""},{"$f":"IF($D173>6,\"\",IF(I$5<=(VLOOKUP($A173,masterlist!$C$2:$AC$200,27,FALSE)),1,\"\"))","v":""},{"$f":"IF($D173>6,\"\",IF(J$5<=(VLOOKUP($A173,masterlist!$C$2:$AC$200,27,FALSE)),1,\"\"))","v":""},{"$f":"IF($D173>6,\"\",IF(K$5<=(VLOOKUP($A173,masterlist!$C$2:$AC$200,27,FALSE)),1,\"\"))","v":""},{"$f":"IF($D173>6,\"\",IF(L$5<=(VLOOKUP($A173,masterlist!$C$2:$AC$200,27,FALSE)),1,\"\"))","v":""},{"$f":"IF($D173>6,\"\",IF(M$5<=(VLOOKUP($A173,masterlist!$C$2:$AC$200,27,FALSE)),1,\"\"))","v":""},{"$f":"IF($D173>6,\"\",IF(N$5<=(VLOOKUP($A173,masterlist!$C$2:$AC$200,27,FALSE)),1,\"\"))","v":""},{"$f":"IF($D173>6,\"\",IF(O$5<=(VLOOKUP($A173,masterlist!$C$2:$AC$200,27,FALSE)),1,\"\"))","v":""},{"$f":"IF($D173>6,\"\",IF(P$5<=(VLOOKUP($A173,masterlist!$C$2:$AC$200,27,FALSE)),1,\"\"))","v":""},{"$f":"IF($D173>6,\"\",IF(Q$5<=(VLOOKUP($A173,masterlist!$C$2:$AC$200,27,FALSE)),1,\"\"))","v":""},{"$f":"IF($D173>6,\"\",IF(R$5<=(VLOOKUP($A173,masterlist!$C$2:$AC$200,27,FALSE)),1,\"\"))","v":""},null,null,null,null,0,0,0,0,0,0,0,0,0,0,0,0,0]
[{"$f":"IFERROR(priorit!A173,\"\")","v":""},"",{"$f":"IFERROR(VLOOKUP($A174,masterlist!$C$2:$AA$200,2,FALSE),\"\")","v":""},{"$f":"IFERROR(VLOOKUP($A174,masterlist!$C$2:$AA$200,3,FALSE),\"\")","v":""},{"$f":"IFERROR(VLOOKUP($A174,masterlist!$C$2:$AA$200,5,FALSE),\"\")","v":""},{"$f":"IF($D174>6,\"\",IF(F$5<=(VLOOKUP($A174,masterlist!$C$2:$AC$200,27,FALSE)),1,\"\"))","v":""},{"$f":"IF($D174>6,\"\",IF(G$5<=(VLOOKUP($A174,masterlist!$C$2:$AC$200,27,FALSE)),1,\"\"))","v":""},{"$f":"IF($D174>6,\"\",IF(H$5<=(VLOOKUP($A174,masterlist!$C$2:$AC$200,27,FALSE)),1,\"\"))","v":""},{"$f":"IF($D174>6,\"\",IF(I$5<=(VLOOKUP($A174,masterlist!$C$2:$AC$200,27,FALSE)),1,\"\"))","v":""},{"$f":"IF($D174>6,\"\",IF(J$5<=(VLOOKUP($A174,masterlist!$C$2:$AC$200,27,FALSE)),1,\"\"))","v":""},{"$f":"IF($D174>6,\"\",IF(K$5<=(VLOOKUP($A174,masterlist!$C$2:$AC$200,27,FALSE)),1,\"\"))","v":""},{"$f":"IF($D174>6,\"\",IF(L$5<=(VLOOKUP($A174,masterlist!$C$2:$AC$200,27,FALSE)),1,\"\"))","v":""},{"$f":"IF($D174>6,\"\",IF(M$5<=(VLOOKUP($A174,masterlist!$C$2:$AC$200,27,FALSE)),1,\"\"))","v":""},{"$f":"IF($D174>6,\"\",IF(N$5<=(VLOOKUP($A174,masterlist!$C$2:$AC$200,27,FALSE)),1,\"\"))","v":""},{"$f":"IF($D174>6,\"\",IF(O$5<=(VLOOKUP($A174,masterlist!$C$2:$AC$200,27,FALSE)),1,\"\"))","v":""},{"$f":"IF($D174>6,\"\",IF(P$5<=(VLOOKUP($A174,masterlist!$C$2:$AC$200,27,FALSE)),1,\"\"))","v":""},{"$f":"IF($D174>6,\"\",IF(Q$5<=(VLOOKUP($A174,masterlist!$C$2:$AC$200,27,FALSE)),1,\"\"))","v":""},{"$f":"IF($D174>6,\"\",IF(R$5<=(VLOOKUP($A174,masterlist!$C$2:$AC$200,27,FALSE)),1,\"\"))","v":""},null,null,null,null,0,0,0,0,0,0,0,0,0,0,0,0,0]
[{"$f":"IFERROR(priorit!A174,\"\")","v":""},"",{"$f":"IFERROR(VLOOKUP($A175,masterlist!$C$2:$AA$200,2,FALSE),\"\")","v":""},{"$f":"IFERROR(VLOOKUP($A175,masterlist!$C$2:$AA$200,3,FALSE),\"\")","v":""},{"$f":"IFERROR(VLOOKUP($A175,masterlist!$C$2:$AA$200,5,FALSE),\"\")","v":""},{"$f":"IF($D175>6,\"\",IF(F$5<=(VLOOKUP($A175,masterlist!$C$2:$AC$200,27,FALSE)),1,\"\"))","v":""},{"$f":"IF($D175>6,\"\",IF(G$5<=(VLOOKUP($A175,masterlist!$C$2:$AC$200,27,FALSE)),1,\"\"))","v":""},{"$f":"IF($D175>6,\"\",IF(H$5<=(VLOOKUP($A175,masterlist!$C$2:$AC$200,27,FALSE)),1,\"\"))","v":""},{"$f":"IF($D175>6,\"\",IF(I$5<=(VLOOKUP($A175,masterlist!$C$2:$AC$200,27,FALSE)),1,\"\"))","v":""},{"$f":"IF($D175>6,\"\",IF(J$5<=(VLOOKUP($A175,masterlist!$C$2:$AC$200,27,FALSE)),1,\"\"))","v":""},{"$f":"IF($D175>6,\"\",IF(K$5<=(VLOOKUP($A175,masterlist!$C$2:$AC$200,27,FALSE)),1,\"\"))","v":""},{"$f":"IF($D175>6,\"\",IF(L$5<=(VLOOKUP($A175,masterlist!$C$2:$AC$200,27,FALSE)),1,\"\"))","v":""},{"$f":"IF($D175>6,\"\",IF(M$5<=(VLOOKUP($A175,masterlist!$C$2:$AC$200,27,FALSE)),1,\"\"))","v":""},{"$f":"IF($D175>6,\"\",IF(N$5<=(VLOOKUP($A175,masterlist!$C$2:$AC$200,27,FALSE)),1,\"\"))","v":""},{"$f":"IF($D175>6,\"\",IF(O$5<=(VLOOKUP($A175,masterlist!$C$2:$AC$200,27,FALSE)),1,\"\"))","v":""},{"$f":"IF($D175>6,\"\",IF(P$5<=(VLOOKUP($A175,masterlist!$C$2:$AC$200,27,FALSE)),1,\"\"))","v":""},{"$f":"IF($D175>6,\"\",IF(Q$5<=(VLOOKUP($A175,masterlist!$C$2:$AC$200,27,FALSE)),1,\"\"))","v":""},{"$f":"IF($D175>6,\"\",IF(R$5<=(VLOOKUP($A175,masterlist!$C$2:$AC$200,27,FALSE)),1,\"\"))","v":""},null,null,null,null,0,0,0,0,0,0,0,0,0,0,0,0,0]
[{"$f":"IFERROR(priorit!A175,\"\")","v":""},"",{"$f":"IFERROR(VLOOKUP($A176,masterlist!$C$2:$AA$200,2,FALSE),\"\")","v":""},{"$f":"IFERROR(VLOOKUP($A176,masterlist!$C$2:$AA$200,3,FALSE),\"\")","v":""},{"$f":"IFERROR(VLOOKUP($A176,masterlist!$C$2:$AA$200,5,FALSE),\"\")","v":""},{"$f":"IF($D176>6,\"\",IF(F$5<=(VLOOKUP($A176,masterlist!$C$2:$AC$200,27,FALSE)),1,\"\"))","v":""},{"$f":"IF($D176>6,\"\",IF(G$5<=(VLOOKUP($A176,masterlist!$C$2:$AC$200,27,FALSE)),1,\"\"))","v":""},{"$f":"IF($D176>6,\"\",IF(H$5<=(VLOOKUP($A176,masterlist!$C$2:$AC$200,27,FALSE)),1,\"\"))","v":""},{"$f":"IF($D176>6,\"\",IF(I$5<=(VLOOKUP($A176,masterlist!$C$2:$AC$200,27,FALSE)),1,\"\"))","v":""},{"$f":"IF($D176>6,\"\",IF(J$5<=(VLOOKUP($A176,masterlist!$C$2:$AC$200,27,FALSE)),1,\"\"))","v":""},{"$f":"IF($D176>6,\"\",IF(K$5<=(VLOOKUP($A176,masterlist!$C$2:$AC$200,27,FALSE)),1,\"\"))","v":""},{"$f":"IF($D176>6,\"\",IF(L$5<=(VLOOKUP($A176,masterlist!$C$2:$AC$200,27,FALSE)),1,\"\"))","v":""},{"$f":"IF($D176>6,\"\",IF(M$5<=(VLOOKUP($A176,masterlist!$C$2:$AC$200,27,FALSE)),1,\"\"))","v":""},{"$f":"IF($D176>6,\"\",IF(N$5<=(VLOOKUP($A176,masterlist!$C$2:$AC$200,27,FALSE)),1,\"\"))","v":""},{"$f":"IF($D176>6,\"\",IF(O$5<=(VLOOKUP($A176,masterlist!$C$2:$AC$200,27,FALSE)),1,\"\"))","v":""},{"$f":"IF($D176>6,\"\",IF(P$5<=(VLOOKUP($A176,masterlist!$C$2:$AC$200,27,FALSE)),1,\"\"))","v":""},{"$f":"IF($D176>6,\"\",IF(Q$5<=(VLOOKUP($A176,masterlist!$C$2:$AC$200,27,FALSE)),1,\"\"))","v":""},{"$f":"IF($D176>6,\"\",IF(R$5<=(VLOOKUP($A176,masterlist!$C$2:$AC$200,27,FALSE)),1,\"\"))","v":""},null,null,null,null,0,0,0,0,0,0,0,0,0,0,0,0,0]
[{"$f":"IFERROR(priorit!A176,\"\")","v":""},"",{"$f":"IFERROR(VLOOKUP($A177,masterlist!$C$2:$AA$200,2,FALSE),\"\")","v":""},{"$f":"IFERROR(VLOOKUP($A177,masterlist!$C$2:$AA$200,3,FALSE),\"\")","v":""},{"$f":"IFERROR(VLOOKUP($A177,masterlist!$C$2:$AA$200,5,FALSE),\"\")","v":""},{"$f":"IF($D177>6,\"\",IF(F$5<=(VLOOKUP($A177,masterlist!$C$2:$AC$200,27,FALSE)),1,\"\"))","v":""},{"$f":"IF($D177>6,\"\",IF(G$5<=(VLOOKUP($A177,masterlist!$C$2:$AC$200,27,FALSE)),1,\"\"))","v":""},{"$f":"IF($D177>6,\"\",IF(H$5<=(VLOOKUP($A177,masterlist!$C$2:$AC$200,27,FALSE)),1,\"\"))","v":""},{"$f":"IF($D177>6,\"\",IF(I$5<=(VLOOKUP($A177,masterlist!$C$2:$AC$200,27,FALSE)),1,\"\"))","v":""},{"$f":"IF($D177>6,\"\",IF(J$5<=(VLOOKUP($A177,masterlist!$C$2:$AC$200,27,FALSE)),1,\"\"))","v":""},{"$f":"IF($D177>6,\"\",IF(K$5<=(VLOOKUP($A177,masterlist!$C$2:$AC$200,27,FALSE)),1,\"\"))","v":""},{"$f":"IF($D177>6,\"\",IF(L$5<=(VLOOKUP($A177,masterlist!$C$2:$AC$200,27,FALSE)),1,\"\"))","v":""},{"$f":"IF($D177>6,\"\",IF(M$5<=(VLOOKUP($A177,masterlist!$C$2:$AC$200,27,FALSE)),1,\"\"))","v":""},{"$f":"IF($D177>6,\"\",IF(N$5<=(VLOOKUP($A177,masterlist!$C$2:$AC$200,27,FALSE)),1,\"\"))","v":""},{"$f":"IF($D177>6,\"\",IF(O$5<=(VLOOKUP($A177,masterlist!$C$2:$AC$200,27,FALSE)),1,\"\"))","v":""},{"$f":"IF($D177>6,\"\",IF(P$5<=(VLOOKUP($A177,masterlist!$C$2:$AC$200,27,FALSE)),1,\"\"))","v":""},{"$f":"IF($D177>6,\"\",IF(Q$5<=(VLOOKUP($A177,masterlist!$C$2:$AC$200,27,FALSE)),1,\"\"))","v":""},{"$f":"IF($D177>6,\"\",IF(R$5<=(VLOOKUP($A177,masterlist!$C$2:$AC$200,27,FALSE)),1,\"\"))","v":""},null,null,null,null,0,0,0,0,0,0,0,0,0,0,0,0,0]
[{"$f":"IFERROR(priorit!A177,\"\")","v":""},"",{"$f":"IFERROR(VLOOKUP($A178,masterlist!$C$2:$AA$200,2,FALSE),\"\")","v":""},{"$f":"IFERROR(VLOOKUP($A178,masterlist!$C$2:$AA$200,3,FALSE),\"\")","v":""},{"$f":"IFERROR(VLOOKUP($A178,masterlist!$C$2:$AA$200,5,FALSE),\"\")","v":""},{"$f":"IF($D178>6,\"\",IF(F$5<=(VLOOKUP($A178,masterlist!$C$2:$AC$200,27,FALSE)),1,\"\"))","v":""},{"$f":"IF($D178>6,\"\",IF(G$5<=(VLOOKUP($A178,masterlist!$C$2:$AC$200,27,FALSE)),1,\"\"))","v":""},{"$f":"IF($D178>6,\"\",IF(H$5<=(VLOOKUP($A178,masterlist!$C$2:$AC$200,27,FALSE)),1,\"\"))","v":""},{"$f":"IF($D178>6,\"\",IF(I$5<=(VLOOKUP($A178,masterlist!$C$2:$AC$200,27,FALSE)),1,\"\"))","v":""},{"$f":"IF($D178>6,\"\",IF(J$5<=(VLOOKUP($A178,masterlist!$C$2:$AC$200,27,FALSE)),1,\"\"))","v":""},{"$f":"IF($D178>6,\"\",IF(K$5<=(VLOOKUP($A178,masterlist!$C$2:$AC$200,27,FALSE)),1,\"\"))","v":""},{"$f":"IF($D178>6,\"\",IF(L$5<=(VLOOKUP($A178,masterlist!$C$2:$AC$200,27,FALSE)),1,\"\"))","v":""},{"$f":"IF($D178>6,\"\",IF(M$5<=(VLOOKUP($A178,masterlist!$C$2:$AC$200,27,FALSE)),1,\"\"))","v":""},{"$f":"IF($D178>6,\"\",IF(N$5<=(VLOOKUP($A178,masterlist!$C$2:$AC$200,27,FALSE)),1,\"\"))","v":""},{"$f":"IF($D178>6,\"\",IF(O$5<=(VLOOKUP($A178,masterlist!$C$2:$AC$200,27,FALSE)),1,\"\"))","v":""},{"$f":"IF($D178>6,\"\",IF(P$5<=(VLOOKUP($A178,masterlist!$C$2:$AC$200,27,FALSE)),1,\"\"))","v":""},{"$f":"IF($D178>6,\"\",IF(Q$5<=(VLOOKUP($A178,masterlist!$C$2:$AC$200,27,FALSE)),1,\"\"))","v":""},{"$f":"IF($D178>6,\"\",IF(R$5<=(VLOOKUP($A178,masterlist!$C$2:$AC$200,27,FALSE)),1,\"\"))","v":""},null,null,null,null,0,0,0,0,0,0,0,0,0,0,0,0,0]
[{"$f":"IFERROR(priorit!A178,\"\")","v":""},"",{"$f":"IFERROR(VLOOKUP($A179,masterlist!$C$2:$AA$200,2,FALSE),\"\")","v":""},{"$f":"IFERROR(VLOOKUP($A179,masterlist!$C$2:$AA$200,3,FALSE),\"\")","v":""},{"$f":"IFERROR(VLOOKUP($A179,masterlist!$C$2:$AA$200,5,FALSE),\"\")","v":""},{"$f":"IF($D179>6,\"\",IF(F$5<=(VLOOKUP($A179,masterlist!$C$2:$AC$200,27,FALSE)),1,\"\"))","v":""},{"$f":"IF($D179>6,\"\",IF(G$5<=(VLOOKUP($A179,masterlist!$C$2:$AC$200,27,FALSE)),1,\"\"))","v":""},{"$f":"IF($D179>6,\"\",IF(H$5<=(VLOOKUP($A179,masterlist!$C$2:$AC$200,27,FALSE)),1,\"\"))","v":""},{"$f":"IF($D179>6,\"\",IF(I$5<=(VLOOKUP($A179,masterlist!$C$2:$AC$200,27,FALSE)),1,\"\"))","v":""},{"$f":"IF($D179>6,\"\",IF(J$5<=(VLOOKUP($A179,masterlist!$C$2:$AC$200,27,FALSE)),1,\"\"))","v":""},{"$f":"IF($D179>6,\"\",IF(K$5<=(VLOOKUP($A179,masterlist!$C$2:$AC$200,27,FALSE)),1,\"\"))","v":""},{"$f":"IF($D179>6,\"\",IF(L$5<=(VLOOKUP($A179,masterlist!$C$2:$AC$200,27,FALSE)),1,\"\"))","v":""},{"$f":"IF($D179>6,\"\",IF(M$5<=(VLOOKUP($A179,masterlist!$C$2:$AC$200,27,FALSE)),1,\"\"))","v":""},{"$f":"IF($D179>6,\"\",IF(N$5<=(VLOOKUP($A179,masterlist!$C$2:$AC$200,27,FALSE)),1,\"\"))","v":""},{"$f":"IF($D179>6,\"\",IF(O$5<=(VLOOKUP($A179,masterlist!$C$2:$AC$200,27,FALSE)),1,\"\"))","v":""},{"$f":"IF($D179>6,\"\",IF(P$5<=(VLOOKUP($A179,masterlist!$C$2:$AC$200,27,FALSE)),1,\"\"))","v":""},{"$f":"IF($D179>6,\"\",IF(Q$5<=(VLOOKUP($A179,masterlist!$C$2:$AC$200,27,FALSE)),1,\"\"))","v":""},{"$f":"IF($D179>6,\"\",IF(R$5<=(VLOOKUP($A179,masterlist!$C$2:$AC$200,27,FALSE)),1,\"\"))","v":""},null,null,null,null,0,0,0,0,0,0,0,0,0,0,0,0,0]
[{"$f":"IFERROR(priorit!A179,\"\")","v":""},"",{"$f":"IFERROR(VLOOKUP($A180,masterlist!$C$2:$AA$200,2,FALSE),\"\")","v":""},{"$f":"IFERROR(VLOOKUP($A180,masterlist!$C$2:$AA$200,3,FALSE),\"\")","v":""},{"$f":"IFERROR(VLOOKUP($A180,masterlist!$C$2:$AA$200,5,FALSE),\"\")","v":""},{"$f":"IF($D180>6,\"\",IF(F$5<=(VLOOKUP($A180,masterlist!$C$2:$AC$200,27,FALSE)),1,\"\"))","v":""},{"$f":"IF($D180>6,\"\",IF(G$5<=(VLOOKUP($A180,masterlist!$C$2:$AC$200,27,FALSE)),1,\"\"))","v":""},{"$f":"IF($D180>6,\"\",IF(H$5<=(VLOOKUP($A180,masterlist!$C$2:$AC$200,27,FALSE)),1,\"\"))","v":""},{"$f":"IF($D180>6,\"\",IF(I$5<=(VLOOKUP($A180,masterlist!$C$2:$AC$200,27,FALSE)),1,\"\"))","v":""},{"$f":"IF($D180>6,\"\",IF(J$5<=(VLOOKUP($A180,masterlist!$C$2:$AC$200,27,FALSE)),1,\"\"))","v":""},{"$f":"IF($D180>6,\"\",IF(K$5<=(VLOOKUP($A180,masterlist!$C$2:$AC$200,27,FALSE)),1,\"\"))","v":""},{"$f":"IF($D180>6,\"\",IF(L$5<=(VLOOKUP($A180,masterlist!$C$2:$AC$200,27,FALSE)),1,\"\"))","v":""},{"$f":"IF($D180>6,\"\",IF(M$5<=(VLOOKUP($A180,masterlist!$C$2:$AC$200,27,FALSE)),1,\"\"))","v":""},{"$f":"IF($D180>6,\"\",IF(N$5<=(VLOOKUP($A180,masterlist!$C$2:$AC$200,27,FALSE)),1,\"\"))","v":""},{"$f":"IF($D180>6,\"\",IF(O$5<=(VLOOKUP($A180,masterlist!$C$2:$AC$200,27,FALSE)),1,\"\"))","v":""},{"$f":"IF($D180>6,\"\",IF(P$5<=(VLOOKUP($A180,masterlist!$C$2:$AC$200,27,FALSE)),1,\"\"))","v":""},{"$f":"IF($D180>6,\"\",IF(Q$5<=(VLOOKUP($A180,masterlist!$C$2:$AC$200,27,FALSE)),1,\"\"))","v":""},{"$f":"IF($D180>6,\"\",IF(R$5<=(VLOOKUP($A180,masterlist!$C$2:$AC$200,27,FALSE)),1,\"\"))","v":""},null,null,null,null,0,0,0,0,0,0,0,0,0,0,0,0,0]
[{"$f":"IFERROR(priorit!A180,\"\")","v":""},"",{"$f":"IFERROR(VLOOKUP($A181,masterlist!$C$2:$AA$200,2,FALSE),\"\")","v":""},{"$f":"IFERROR(VLOOKUP($A181,masterlist!$C$2:$AA$200,3,FALSE),\"\")","v":""},{"$f":"IFERROR(VLOOKUP($A181,masterlist!$C$2:$AA$200,5,FALSE),\"\")","v":""},{"$f":"IF($D181>6,\"\",IF(F$5<=(VLOOKUP($A181,masterlist!$C$2:$AC$200,27,FALSE)),1,\"\"))","v":""},{"$f":"IF($D181>6,\"\",IF(G$5<=(VLOOKUP($A181,masterlist!$C$2:$AC$200,27,FALSE)),1,\"\"))","v":""},{"$f":"IF($D181>6,\"\",IF(H$5<=(VLOOKUP($A181,masterlist!$C$2:$AC$200,27,FALSE)),1,\"\"))","v":""},{"$f":"IF($D181>6,\"\",IF(I$5<=(VLOOKUP($A181,masterlist!$C$2:$AC$200,27,FALSE)),1,\"\"))","v":""},{"$f":"IF($D181>6,\"\",IF(J$5<=(VLOOKUP($A181,masterlist!$C$2:$AC$200,27,FALSE)),1,\"\"))","v":""},{"$f":"IF($D181>6,\"\",IF(K$5<=(VLOOKUP($A181,masterlist!$C$2:$AC$200,27,FALSE)),1,\"\"))","v":""},{"$f":"IF($D181>6,\"\",IF(L$5<=(VLOOKUP($A181,masterlist!$C$2:$AC$200,27,FALSE)),1,\"\"))","v":""},{"$f":"IF($D181>6,\"\",IF(M$5<=(VLOOKUP($A181,masterlist!$C$2:$AC$200,27,FALSE)),1,\"\"))","v":""},{"$f":"IF($D181>6,\"\",IF(N$5<=(VLOOKUP($A181,masterlist!$C$2:$AC$200,27,FALSE)),1,\"\"))","v":""},{"$f":"IF($D181>6,\"\",IF(O$5<=(VLOOKUP($A181,masterlist!$C$2:$AC$200,27,FALSE)),1,\"\"))","v":""},{"$f":"IF($D181>6,\"\",IF(P$5<=(VLOOKUP($A181,masterlist!$C$2:$AC$200,27,FALSE)),1,\"\"))","v":""},{"$f":"IF($D181>6,\"\",IF(Q$5<=(VLOOKUP($A181,masterlist!$C$2:$AC$200,27,FALSE)),1,\"\"))","v":""},{"$f":"IF($D181>6,\"\",IF(R$5<=(VLOOKUP($A181,masterlist!$C$2:$AC$200,27,FALSE)),1,\"\"))","v":""},null,null,null,null,0,0,0,0,0,0,0,0,0,0,0,0,0]
[{"$f":"IFERROR(priorit!A181,\"\")","v":""},"",{"$f":"IFERROR(VLOOKUP($A182,masterlist!$C$2:$AA$200,2,FALSE),\"\")","v":""},{"$f":"IFERROR(VLOOKUP($A182,masterlist!$C$2:$AA$200,3,FALSE),\"\")","v":""},{"$f":"IFERROR(VLOOKUP($A182,masterlist!$C$2:$AA$200,5,FALSE),\"\")","v":""},{"$f":"IF($D182>6,\"\",IF(F$5<=(VLOOKUP($A182,masterlist!$C$2:$AC$200,27,FALSE)),1,\"\"))","v":""},{"$f":"IF($D182>6,\"\",IF(G$5<=(VLOOKUP($A182,masterlist!$C$2:$AC$200,27,FALSE)),1,\"\"))","v":""},{"$f":"IF($D182>6,\"\",IF(H$5<=(VLOOKUP($A182,masterlist!$C$2:$AC$200,27,FALSE)),1,\"\"))","v":""},{"$f":"IF($D182>6,\"\",IF(I$5<=(VLOOKUP($A182,masterlist!$C$2:$AC$200,27,FALSE)),1,\"\"))","v":""},{"$f":"IF($D182>6,\"\",IF(J$5<=(VLOOKUP($A182,masterlist!$C$2:$AC$200,27,FALSE)),1,\"\"))","v":""},{"$f":"IF($D182>6,\"\",IF(K$5<=(VLOOKUP($A182,masterlist!$C$2:$AC$200,27,FALSE)),1,\"\"))","v":""},{"$f":"IF($D182>6,\"\",IF(L$5<=(VLOOKUP($A182,masterlist!$C$2:$AC$200,27,FALSE)),1,\"\"))","v":""},{"$f":"IF($D182>6,\"\",IF(M$5<=(VLOOKUP($A182,masterlist!$C$2:$AC$200,27,FALSE)),1,\"\"))","v":""},{"$f":"IF($D182>6,\"\",IF(N$5<=(VLOOKUP($A182,masterlist!$C$2:$AC$200,27,FALSE)),1,\"\"))","v":""},{"$f":"IF($D182>6,\"\",IF(O$5<=(VLOOKUP($A182,masterlist!$C$2:$AC$200,27,FALSE)),1,\"\"))","v":""},{"$f":"IF($D182>6,\"\",IF(P$5<=(VLOOKUP($A182,masterlist!$C$2:$AC$200,27,FALSE)),1,\"\"))","v":""},{"$f":"IF($D182>6,\"\",IF(Q$5<=(VLOOKUP($A182,masterlist!$C$2:$AC$200,27,FALSE)),1,\"\"))","v":""},{"$f":"IF($D182>6,\"\",IF(R$5<=(VLOOKUP($A182,masterlist!$C$2:$AC$200,27,FALSE)),1,\"\"))","v":""},null,null,null,null,0,0,0,0,0,0,0,0,0,0,0,0,0]
[{"$f":"IFERROR(priorit!A182,\"\")","v":""},"",{"$f":"IFERROR(VLOOKUP($A183,masterlist!$C$2:$AA$200,2,FALSE),\"\")","v":""},{"$f":"IFERROR(VLOOKUP($A183,masterlist!$C$2:$AA$200,3,FALSE),\"\")","v":""},{"$f":"IFERROR(VLOOKUP($A183,masterlist!$C$2:$AA$200,5,FALSE),\"\")","v":""},{"$f":"IF($D183>6,\"\",IF(F$5<=(VLOOKUP($A183,masterlist!$C$2:$AC$200,27,FALSE)),1,\"\"))","v":""},{"$f":"IF($D183>6,\"\",IF(G$5<=(VLOOKUP($A183,masterlist!$C$2:$AC$200,27,FALSE)),1,\"\"))","v":""},{"$f":"IF($D183>6,\"\",IF(H$5<=(VLOOKUP($A183,masterlist!$C$2:$AC$200,27,FALSE)),1,\"\"))","v":""},{"$f":"IF($D183>6,\"\",IF(I$5<=(VLOOKUP($A183,masterlist!$C$2:$AC$200,27,FALSE)),1,\"\"))","v":""},{"$f":"IF($D183>6,\"\",IF(J$5<=(VLOOKUP($A183,masterlist!$C$2:$AC$200,27,FALSE)),1,\"\"))","v":""},{"$f":"IF($D183>6,\"\",IF(K$5<=(VLOOKUP($A183,masterlist!$C$2:$AC$200,27,FALSE)),1,\"\"))","v":""},{"$f":"IF($D183>6,\"\",IF(L$5<=(VLOOKUP($A183,masterlist!$C$2:$AC$200,27,FALSE)),1,\"\"))","v":""},{"$f":"IF($D183>6,\"\",IF(M$5<=(VLOOKUP($A183,masterlist!$C$2:$AC$200,27,FALSE)),1,\"\"))","v":""},{"$f":"IF($D183>6,\"\",IF(N$5<=(VLOOKUP($A183,masterlist!$C$2:$AC$200,27,FALSE)),1,\"\"))","v":""},{"$f":"IF($D183>6,\"\",IF(O$5<=(VLOOKUP($A183,masterlist!$C$2:$AC$200,27,FALSE)),1,\"\"))","v":""},{"$f":"IF($D183>6,\"\",IF(P$5<=(VLOOKUP($A183,masterlist!$C$2:$AC$200,27,FALSE)),1,\"\"))","v":""},{"$f":"IF($D183>6,\"\",IF(Q$5<=(VLOOKUP($A183,masterlist!$C$2:$AC$200,27,FALSE)),1,\"\"))","v":""},{"$f":"IF($D183>6,\"\",IF(R$5<=(VLOOKUP($A183,masterlist!$C$2:$AC$200,27,FALSE)),1,\"\"))","v":""},null,null,null,null,0,0,0,0,0,0,0,0,0,0,0,0,0]
[{"$f":"IFERROR(priorit!A183,\"\")","v":""},"",{"$f":"IFERROR(VLOOKUP($A184,masterlist!$C$2:$AA$200,2,FALSE),\"\")","v":""},{"$f":"IFERROR(VLOOKUP($A184,masterlist!$C$2:$AA$200,3,FALSE),\"\")","v":""},{"$f":"IFERROR(VLOOKUP($A184,masterlist!$C$2:$AA$200,5,FALSE),\"\")","v":""},{"$f":"IF($D184>6,\"\",IF(F$5<=(VLOOKUP($A184,masterlist!$C$2:$AC$200,27,FALSE)),1,\"\"))","v":""},{"$f":"IF($D184>6,\"\",IF(G$5<=(VLOOKUP($A184,masterlist!$C$2:$AC$200,27,FALSE)),1,\"\"))","v":""},{"$f":"IF($D184>6,\"\",IF(H$5<=(VLOOKUP($A184,masterlist!$C$2:$AC$200,27,FALSE)),1,\"\"))","v":""},{"$f":"IF($D184>6,\"\",IF(I$5<=(VLOOKUP($A184,masterlist!$C$2:$AC$200,27,FALSE)),1,\"\"))","v":""},{"$f":"IF($D184>6,\"\",IF(J$5<=(VLOOKUP($A184,masterlist!$C$2:$AC$200,27,FALSE)),1,\"\"))","v":""},{"$f":"IF($D184>6,\"\",IF(K$5<=(VLOOKUP($A184,masterlist!$C$2:$AC$200,27,FALSE)),1,\"\"))","v":""},{"$f":"IF($D184>6,\"\",IF(L$5<=(VLOOKUP($A184,masterlist!$C$2:$AC$200,27,FALSE)),1,\"\"))","v":""},{"$f":"IF($D184>6,\"\",IF(M$5<=(VLOOKUP($A184,masterlist!$C$2:$AC$200,27,FALSE)),1,\"\"))","v":""},{"$f":"IF($D184>6,\"\",IF(N$5<=(VLOOKUP($A184,masterlist!$C$2:$AC$200,27,FALSE)),1,\"\"))","v":""},{"$f":"IF($D184>6,\"\",IF(O$5<=(VLOOKUP($A184,masterlist!$C$2:$AC$200,27,FALSE)),1,\"\"))","v":""},{"$f":"IF($D184>6,\"\",IF(P$5<=(VLOOKUP($A184,masterlist!$C$2:$AC$200,27,FALSE)),1,\"\"))","v":""},{"$f":"IF($D184>6,\"\",IF(Q$5<=(VLOOKUP($A184,masterlist!$C$2:$AC$200,27,FALSE)),1,\"\"))","v":""},{"$f":"IF($D184>6,\"\",IF(R$5<=(VLOOKUP($A184,masterlist!$C$2:$AC$200,27,FALSE)),1,\"\"))","v":""},null,null,null,null,0,0,0,0,0,0,0,0,0,0,0,0,0]
[{"$f":"IFERROR(priorit!A184,\"\")","v":""},"",{"$f":"IFERROR(VLOOKUP($A185,masterlist!$C$2:$AA$200,2,FALSE),\"\")","v":""},{"$f":"IFERROR(VLOOKUP($A185,masterlist!$C$2:$AA$200,3,FALSE),\"\")","v":""},{"$f":"IFERROR(VLOOKUP($A185,masterlist!$C$2:$AA$200,5,FALSE),\"\")","v":""},{"$f":"IF($D185>6,\"\",IF(F$5<=(VLOOKUP($A185,masterlist!$C$2:$AC$200,27,FALSE)),1,\"\"))","v":""},{"$f":"IF($D185>6,\"\",IF(G$5<=(VLOOKUP($A185,masterlist!$C$2:$AC$200,27,FALSE)),1,\"\"))","v":""},{"$f":"IF($D185>6,\"\",IF(H$5<=(VLOOKUP($A185,masterlist!$C$2:$AC$200,27,FALSE)),1,\"\"))","v":""},{"$f":"IF($D185>6,\"\",IF(I$5<=(VLOOKUP($A185,masterlist!$C$2:$AC$200,27,FALSE)),1,\"\"))","v":""},{"$f":"IF($D185>6,\"\",IF(J$5<=(VLOOKUP($A185,masterlist!$C$2:$AC$200,27,FALSE)),1,\"\"))","v":""},{"$f":"IF($D185>6,\"\",IF(K$5<=(VLOOKUP($A185,masterlist!$C$2:$AC$200,27,FALSE)),1,\"\"))","v":""},{"$f":"IF($D185>6,\"\",IF(L$5<=(VLOOKUP($A185,masterlist!$C$2:$AC$200,27,FALSE)),1,\"\"))","v":""},{"$f":"IF($D185>6,\"\",IF(M$5<=(VLOOKUP($A185,masterlist!$C$2:$AC$200,27,FALSE)),1,\"\"))","v":""},{"$f":"IF($D185>6,\"\",IF(N$5<=(VLOOKUP($A185,masterlist!$C$2:$AC$200,27,FALSE)),1,\"\"))","v":""},{"$f":"IF($D185>6,\"\",IF(O$5<=(VLOOKUP($A185,masterlist!$C$2:$AC$200,27,FALSE)),1,\"\"))","v":""},{"$f":"IF($D185>6,\"\",IF(P$5<=(VLOOKUP($A185,masterlist!$C$2:$AC$200,27,FALSE)),1,\"\"))","v":""},{"$f":"IF($D185>6,\"\",IF(Q$5<=(VLOOKUP($A185,masterlist!$C$2:$AC$200,27,FALSE)),1,\"\"))","v":""},{"$f":"IF($D185>6,\"\",IF(R$5<=(VLOOKUP($A185,masterlist!$C$2:$AC$200,27,FALSE)),1,\"\"))","v":""},null,null,null,null,0,0,0,0,0,0,0,0,0,0,0,0,0]
[{"$f":"IFERROR(priorit!A185,\"\")","v":""},"",{"$f":"IFERROR(VLOOKUP($A186,masterlist!$C$2:$AA$200,2,FALSE),\"\")","v":""},{"$f":"IFERROR(VLOOKUP($A186,masterlist!$C$2:$AA$200,3,FALSE),\"\")","v":""},{"$f":"IFERROR(VLOOKUP($A186,masterlist!$C$2:$AA$200,5,FALSE),\"\")","v":""},{"$f":"IF($D186>6,\"\",IF(F$5<=(VLOOKUP($A186,masterlist!$C$2:$AC$200,27,FALSE)),1,\"\"))","v":""},{"$f":"IF($D186>6,\"\",IF(G$5<=(VLOOKUP($A186,masterlist!$C$2:$AC$200,27,FALSE)),1,\"\"))","v":""},{"$f":"IF($D186>6,\"\",IF(H$5<=(VLOOKUP($A186,masterlist!$C$2:$AC$200,27,FALSE)),1,\"\"))","v":""},{"$f":"IF($D186>6,\"\",IF(I$5<=(VLOOKUP($A186,masterlist!$C$2:$AC$200,27,FALSE)),1,\"\"))","v":""},{"$f":"IF($D186>6,\"\",IF(J$5<=(VLOOKUP($A186,masterlist!$C$2:$AC$200,27,FALSE)),1,\"\"))","v":""},{"$f":"IF($D186>6,\"\",IF(K$5<=(VLOOKUP($A186,masterlist!$C$2:$AC$200,27,FALSE)),1,\"\"))","v":""},{"$f":"IF($D186>6,\"\",IF(L$5<=(VLOOKUP($A186,masterlist!$C$2:$AC$200,27,FALSE)),1,\"\"))","v":""},{"$f":"IF($D186>6,\"\",IF(M$5<=(VLOOKUP($A186,masterlist!$C$2:$AC$200,27,FALSE)),1,\"\"))","v":""},{"$f":"IF($D186>6,\"\",IF(N$5<=(VLOOKUP($A186,masterlist!$C$2:$AC$200,27,FALSE)),1,\"\"))","v":""},{"$f":"IF($D186>6,\"\",IF(O$5<=(VLOOKUP($A186,masterlist!$C$2:$AC$200,27,FALSE)),1,\"\"))","v":""},{"$f":"IF($D186>6,\"\",IF(P$5<=(VLOOKUP($A186,masterlist!$C$2:$AC$200,27,FALSE)),1,\"\"))","v":""},{"$f":"IF($D186>6,\"\",IF(Q$5<=(VLOOKUP($A186,masterlist!$C$2:$AC$200,27,FALSE)),1,\"\"))","v":""},{"$f":"IF($D186>6,\"\",IF(R$5<=(VLOOKUP($A186,masterlist!$C$2:$AC$200,27,FALSE)),1,\"\"))","v":""},null,null,null,null,0,0,0,0,0,0,0,0,0,0,0,0,0]
[{"$f":"IFERROR(priorit!A186,\"\")","v":""},"",{"$f":"IFERROR(VLOOKUP($A187,masterlist!$C$2:$AA$200,2,FALSE),\"\")","v":""},{"$f":"IFERROR(VLOOKUP($A187,masterlist!$C$2:$AA$200,3,FALSE),\"\")","v":""},{"$f":"IFERROR(VLOOKUP($A187,masterlist!$C$2:$AA$200,5,FALSE),\"\")","v":""},{"$f":"IF($D187>6,\"\",IF(F$5<=(VLOOKUP($A187,masterlist!$C$2:$AC$200,27,FALSE)),1,\"\"))","v":""},{"$f":"IF($D187>6,\"\",IF(G$5<=(VLOOKUP($A187,masterlist!$C$2:$AC$200,27,FALSE)),1,\"\"))","v":""},{"$f":"IF($D187>6,\"\",IF(H$5<=(VLOOKUP($A187,masterlist!$C$2:$AC$200,27,FALSE)),1,\"\"))","v":""},{"$f":"IF($D187>6,\"\",IF(I$5<=(VLOOKUP($A187,masterlist!$C$2:$AC$200,27,FALSE)),1,\"\"))","v":""},{"$f":"IF($D187>6,\"\",IF(J$5<=(VLOOKUP($A187,masterlist!$C$2:$AC$200,27,FALSE)),1,\"\"))","v":""},{"$f":"IF($D187>6,\"\",IF(K$5<=(VLOOKUP($A187,masterlist!$C$2:$AC$200,27,FALSE)),1,\"\"))","v":""},{"$f":"IF($D187>6,\"\",IF(L$5<=(VLOOKUP($A187,masterlist!$C$2:$AC$200,27,FALSE)),1,\"\"))","v":""},{"$f":"IF($D187>6,\"\",IF(M$5<=(VLOOKUP($A187,masterlist!$C$2:$AC$200,27,FALSE)),1,\"\"))","v":""},{"$f":"IF($D187>6,\"\",IF(N$5<=(VLOOKUP($A187,masterlist!$C$2:$AC$200,27,FALSE)),1,\"\"))","v":""},{"$f":"IF($D187>6,\"\",IF(O$5<=(VLOOKUP($A187,masterlist!$C$2:$AC$200,27,FALSE)),1,\"\"))","v":""},{"$f":"IF($D187>6,\"\",IF(P$5<=(VLOOKUP($A187,masterlist!$C$2:$AC$200,27,FALSE)),1,\"\"))","v":""},{"$f":"IF($D187>6,\"\",IF(Q$5<=(VLOOKUP($A187,masterlist!$C$2:$AC$200,27,FALSE)),1,\"\"))","v":""},{"$f":"IF($D187>6,\"\",IF(R$5<=(VLOOKUP($A187,masterlist!$C$2:$AC$200,27,FALSE)),1,\"\"))","v":""},null,null,null,null,0,0,0,0,0,0,0,0,0,0,0,0,0]
[{"$f":"IFERROR(priorit!A187,\"\")","v":""},"",{"$f":"IFERROR(VLOOKUP($A188,masterlist!$C$2:$AA$200,2,FALSE),\"\")","v":""},{"$f":"IFERROR(VLOOKUP($A188,masterlist!$C$2:$AA$200,3,FALSE),\"\")","v":""},{"$f":"IFERROR(VLOOKUP($A188,masterlist!$C$2:$AA$200,5,FALSE),\"\")","v":""},{"$f":"IF($D188>6,\"\",IF(F$5<=(VLOOKUP($A188,masterlist!$C$2:$AC$200,27,FALSE)),1,\"\"))","v":""},{"$f":"IF($D188>6,\"\",IF(G$5<=(VLOOKUP($A188,masterlist!$C$2:$AC$200,27,FALSE)),1,\"\"))","v":""},{"$f":"IF($D188>6,\"\",IF(H$5<=(VLOOKUP($A188,masterlist!$C$2:$AC$200,27,FALSE)),1,\"\"))","v":""},{"$f":"IF($D188>6,\"\",IF(I$5<=(VLOOKUP($A188,masterlist!$C$2:$AC$200,27,FALSE)),1,\"\"))","v":""},{"$f":"IF($D188>6,\"\",IF(J$5<=(VLOOKUP($A188,masterlist!$C$2:$AC$200,27,FALSE)),1,\"\"))","v":""},{"$f":"IF($D188>6,\"\",IF(K$5<=(VLOOKUP($A188,masterlist!$C$2:$AC$200,27,FALSE)),1,\"\"))","v":""},{"$f":"IF($D188>6,\"\",IF(L$5<=(VLOOKUP($A188,masterlist!$C$2:$AC$200,27,FALSE)),1,\"\"))","v":""},{"$f":"IF($D188>6,\"\",IF(M$5<=(VLOOKUP($A188,masterlist!$C$2:$AC$200,27,FALSE)),1,\"\"))","v":""},{"$f":"IF($D188>6,\"\",IF(N$5<=(VLOOKUP($A188,masterlist!$C$2:$AC$200,27,FALSE)),1,\"\"))","v":""},{"$f":"IF($D188>6,\"\",IF(O$5<=(VLOOKUP($A188,masterlist!$C$2:$AC$200,27,FALSE)),1,\"\"))","v":""},{"$f":"IF($D188>6,\"\",IF(P$5<=(VLOOKUP($A188,masterlist!$C$2:$AC$200,27,FALSE)),1,\"\"))","v":""},{"$f":"IF($D188>6,\"\",IF(Q$5<=(VLOOKUP($A188,masterlist!$C$2:$AC$200,27,FALSE)),1,\"\"))","v":""},{"$f":"IF($D188>6,\"\",IF(R$5<=(VLOOKUP($A188,masterlist!$C$2:$AC$200,27,FALSE)),1,\"\"))","v":""},null,null,null,null,0,0,0,0,0,0,0,0,0,0,0,0,0]
[{"$f":"IFERROR(priorit!A188,\"\")","v":""},"",{"$f":"IFERROR(VLOOKUP($A189,masterlist!$C$2:$AA$200,2,FALSE),\"\")","v":""},{"$f":"IFERROR(VLOOKUP($A189,masterlist!$C$2:$AA$200,3,FALSE),\"\")","v":""},{"$f":"IFERROR(VLOOKUP($A189,masterlist!$C$2:$AA$200,5,FALSE),\"\")","v":""},{"$f":"IF($D189>6,\"\",IF(F$5<=(VLOOKUP($A189,masterlist!$C$2:$AC$200,27,FALSE)),1,\"\"))","v":""},{"$f":"IF($D189>6,\"\",IF(G$5<=(VLOOKUP($A189,masterlist!$C$2:$AC$200,27,FALSE)),1,\"\"))","v":""},{"$f":"IF($D189>6,\"\",IF(H$5<=(VLOOKUP($A189,masterlist!$C$2:$AC$200,27,FALSE)),1,\"\"))","v":""},{"$f":"IF($D189>6,\"\",IF(I$5<=(VLOOKUP($A189,masterlist!$C$2:$AC$200,27,FALSE)),1,\"\"))","v":""},{"$f":"IF($D189>6,\"\",IF(J$5<=(VLOOKUP($A189,masterlist!$C$2:$AC$200,27,FALSE)),1,\"\"))","v":""},{"$f":"IF($D189>6,\"\",IF(K$5<=(VLOOKUP($A189,masterlist!$C$2:$AC$200,27,FALSE)),1,\"\"))","v":""},{"$f":"IF($D189>6,\"\",IF(L$5<=(VLOOKUP($A189,masterlist!$C$2:$AC$200,27,FALSE)),1,\"\"))","v":""},{"$f":"IF($D189>6,\"\",IF(M$5<=(VLOOKUP($A189,masterlist!$C$2:$AC$200,27,FALSE)),1,\"\"))","v":""},{"$f":"IF($D189>6,\"\",IF(N$5<=(VLOOKUP($A189,masterlist!$C$2:$AC$200,27,FALSE)),1,\"\"))","v":""},{"$f":"IF($D189>6,\"\",IF(O$5<=(VLOOKUP($A189,masterlist!$C$2:$AC$200,27,FALSE)),1,\"\"))","v":""},{"$f":"IF($D189>6,\"\",IF(P$5<=(VLOOKUP($A189,masterlist!$C$2:$AC$200,27,FALSE)),1,\"\"))","v":""},{"$f":"IF($D189>6,\"\",IF(Q$5<=(VLOOKUP($A189,masterlist!$C$2:$AC$200,27,FALSE)),1,\"\"))","v":""},{"$f":"IF($D189>6,\"\",IF(R$5<=(VLOOKUP($A189,masterlist!$C$2:$AC$200,27,FALSE)),1,\"\"))","v":""},null,null,null,null,0,0,0,0,0,0,0,0,0,0,0,0,0]
[{"$f":"IFERROR(priorit!A189,\"\")","v":""},"",{"$f":"IFERROR(VLOOKUP($A190,masterlist!$C$2:$AA$200,2,FALSE),\"\")","v":""},{"$f":"IFERROR(VLOOKUP($A190,masterlist!$C$2:$AA$200,3,FALSE),\"\")","v":""},{"$f":"IFERROR(VLOOKUP($A190,masterlist!$C$2:$AA$200,5,FALSE),\"\")","v":""},{"$f":"IF($D190>6,\"\",IF(F$5<=(VLOOKUP($A190,masterlist!$C$2:$AC$200,27,FALSE)),1,\"\"))","v":""},{"$f":"IF($D190>6,\"\",IF(G$5<=(VLOOKUP($A190,masterlist!$C$2:$AC$200,27,FALSE)),1,\"\"))","v":""},{"$f":"IF($D190>6,\"\",IF(H$5<=(VLOOKUP($A190,masterlist!$C$2:$AC$200,27,FALSE)),1,\"\"))","v":""},{"$f":"IF($D190>6,\"\",IF(I$5<=(VLOOKUP($A190,masterlist!$C$2:$AC$200,27,FALSE)),1,\"\"))","v":""},{"$f":"IF($D190>6,\"\",IF(J$5<=(VLOOKUP($A190,masterlist!$C$2:$AC$200,27,FALSE)),1,\"\"))","v":""},{"$f":"IF($D190>6,\"\",IF(K$5<=(VLOOKUP($A190,masterlist!$C$2:$AC$200,27,FALSE)),1,\"\"))","v":""},{"$f":"IF($D190>6,\"\",IF(L$5<=(VLOOKUP($A190,masterlist!$C$2:$AC$200,27,FALSE)),1,\"\"))","v":""},{"$f":"IF($D190>6,\"\",IF(M$5<=(VLOOKUP($A190,masterlist!$C$2:$AC$200,27,FALSE)),1,\"\"))","v":""},{"$f":"IF($D190>6,\"\",IF(N$5<=(VLOOKUP($A190,masterlist!$C$2:$AC$200,27,FALSE)),1,\"\"))","v":""},{"$f":"IF($D190>6,\"\",IF(O$5<=(VLOOKUP($A190,masterlist!$C$2:$AC$200,27,FALSE)),1,\"\"))","v":""},{"$f":"IF($D190>6,\"\",IF(P$5<=(VLOOKUP($A190,masterlist!$C$2:$AC$200,27,FALSE)),1,\"\"))","v":""},{"$f":"IF($D190>6,\"\",IF(Q$5<=(VLOOKUP($A190,masterlist!$C$2:$AC$200,27,FALSE)),1,\"\"))","v":""},{"$f":"IF($D190>6,\"\",IF(R$5<=(VLOOKUP($A190,masterlist!$C$2:$AC$200,27,FALSE)),1,\"\"))","v":""},null,null,null,null,0,0,0,0,0,0,0,0,0,0,0,0,0]
[{"$f":"IFERROR(priorit!A190,\"\")","v":""},"",{"$f":"IFERROR(VLOOKUP($A191,masterlist!$C$2:$AA$200,2,FALSE),\"\")","v":""},{"$f":"IFERROR(VLOOKUP($A191,masterlist!$C$2:$AA$200,3,FALSE),\"\")","v":""},{"$f":"IFERROR(VLOOKUP($A191,masterlist!$C$2:$AA$200,5,FALSE),\"\")","v":""},{"$f":"IF($D191>6,\"\",IF(F$5<=(VLOOKUP($A191,masterlist!$C$2:$AC$200,27,FALSE)),1,\"\"))","v":""},{"$f":"IF($D191>6,\"\",IF(G$5<=(VLOOKUP($A191,masterlist!$C$2:$AC$200,27,FALSE)),1,\"\"))","v":""},{"$f":"IF($D191>6,\"\",IF(H$5<=(VLOOKUP($A191,masterlist!$C$2:$AC$200,27,FALSE)),1,\"\"))","v":""},{"$f":"IF($D191>6,\"\",IF(I$5<=(VLOOKUP($A191,masterlist!$C$2:$AC$200,27,FALSE)),1,\"\"))","v":""},{"$f":"IF($D191>6,\"\",IF(J$5<=(VLOOKUP($A191,masterlist!$C$2:$AC$200,27,FALSE)),1,\"\"))","v":""},{"$f":"IF($D191>6,\"\",IF(K$5<=(VLOOKUP($A191,masterlist!$C$2:$AC$200,27,FALSE)),1,\"\"))","v":""},{"$f":"IF($D191>6,\"\",IF(L$5<=(VLOOKUP($A191,masterlist!$C$2:$AC$200,27,FALSE)),1,\"\"))","v":""},{"$f":"IF($D191>6,\"\",IF(M$5<=(VLOOKUP($A191,masterlist!$C$2:$AC$200,27,FALSE)),1,\"\"))","v":""},{"$f":"IF($D191>6,\"\",IF(N$5<=(VLOOKUP($A191,masterlist!$C$2:$AC$200,27,FALSE)),1,\"\"))","v":""},{"$f":"IF($D191>6,\"\",IF(O$5<=(VLOOKUP($A191,masterlist!$C$2:$AC$200,27,FALSE)),1,\"\"))","v":""},{"$f":"IF($D191>6,\"\",IF(P$5<=(VLOOKUP($A191,masterlist!$C$2:$AC$200,27,FALSE)),1,\"\"))","v":""},{"$f":"IF($D191>6,\"\",IF(Q$5<=(VLOOKUP($A191,masterlist!$C$2:$AC$200,27,FALSE)),1,\"\"))","v":""},{"$f":"IF($D191>6,\"\",IF(R$5<=(VLOOKUP($A191,masterlist!$C$2:$AC$200,27,FALSE)),1,\"\"))","v":""},null,null,null,null,0,0,0,0,0,0,0,0,0,0,0,0,0]
[{"$f":"IFERROR(priorit!A191,\"\")","v":""},"",{"$f":"IFERROR(VLOOKUP($A192,masterlist!$C$2:$AA$200,2,FALSE),\"\")","v":""},{"$f":"IFERROR(VLOOKUP($A192,masterlist!$C$2:$AA$200,3,FALSE),\"\")","v":""},{"$f":"IFERROR(VLOOKUP($A192,masterlist!$C$2:$AA$200,5,FALSE),\"\")","v":""},{"$f":"IF($D192>6,\"\",IF(F$5<=(VLOOKUP($A192,masterlist!$C$2:$AC$200,27,FALSE)),1,\"\"))","v":""},{"$f":"IF($D192>6,\"\",IF(G$5<=(VLOOKUP($A192,masterlist!$C$2:$AC$200,27,FALSE)),1,\"\"))","v":""},{"$f":"IF($D192>6,\"\",IF(H$5<=(VLOOKUP($A192,masterlist!$C$2:$AC$200,27,FALSE)),1,\"\"))","v":""},{"$f":"IF($D192>6,\"\",IF(I$5<=(VLOOKUP($A192,masterlist!$C$2:$AC$200,27,FALSE)),1,\"\"))","v":""},{"$f":"IF($D192>6,\"\",IF(J$5<=(VLOOKUP($A192,masterlist!$C$2:$AC$200,27,FALSE)),1,\"\"))","v":""},{"$f":"IF($D192>6,\"\",IF(K$5<=(VLOOKUP($A192,masterlist!$C$2:$AC$200,27,FALSE)),1,\"\"))","v":""},{"$f":"IF($D192>6,\"\",IF(L$5<=(VLOOKUP($A192,masterlist!$C$2:$AC$200,27,FALSE)),1,\"\"))","v":""},{"$f":"IF($D192>6,\"\",IF(M$5<=(VLOOKUP($A192,masterlist!$C$2:$AC$200,27,FALSE)),1,\"\"))","v":""},{"$f":"IF($D192>6,\"\",IF(N$5<=(VLOOKUP($A192,masterlist!$C$2:$AC$200,27,FALSE)),1,\"\"))","v":""},{"$f":"IF($D192>6,\"\",IF(O$5<=(VLOOKUP($A192,masterlist!$C$2:$AC$200,27,FALSE)),1,\"\"))","v":""},{"$f":"IF($D192>6,\"\",IF(P$5<=(VLOOKUP($A192,masterlist!$C$2:$AC$200,27,FALSE)),1,\"\"))","v":""},{"$f":"IF($D192>6,\"\",IF(Q$5<=(VLOOKUP($A192,masterlist!$C$2:$AC$200,27,FALSE)),1,\"\"))","v":""},{"$f":"IF($D192>6,\"\",IF(R$5<=(VLOOKUP($A192,masterlist!$C$2:$AC$200,27,FALSE)),1,\"\"))","v":""},null,null,null,null,0,0,0,0,0,0,0,0,0,0,0,0,0]
[{"$f":"IFERROR(priorit!A192,\"\")","v":""},"",{"$f":"IFERROR(VLOOKUP($A193,masterlist!$C$2:$AA$200,2,FALSE),\"\")","v":""},{"$f":"IFERROR(VLOOKUP($A193,masterlist!$C$2:$AA$200,3,FALSE),\"\")","v":""},{"$f":"IFERROR(VLOOKUP($A193,masterlist!$C$2:$AA$200,5,FALSE),\"\")","v":""},{"$f":"IF($D193>6,\"\",IF(F$5<=(VLOOKUP($A193,masterlist!$C$2:$AC$200,27,FALSE)),1,\"\"))","v":""},{"$f":"IF($D193>6,\"\",IF(G$5<=(VLOOKUP($A193,masterlist!$C$2:$AC$200,27,FALSE)),1,\"\"))","v":""},{"$f":"IF($D193>6,\"\",IF(H$5<=(VLOOKUP($A193,masterlist!$C$2:$AC$200,27,FALSE)),1,\"\"))","v":""},{"$f":"IF($D193>6,\"\",IF(I$5<=(VLOOKUP($A193,masterlist!$C$2:$AC$200,27,FALSE)),1,\"\"))","v":""},{"$f":"IF($D193>6,\"\",IF(J$5<=(VLOOKUP($A193,masterlist!$C$2:$AC$200,27,FALSE)),1,\"\"))","v":""},{"$f":"IF($D193>6,\"\",IF(K$5<=(VLOOKUP($A193,masterlist!$C$2:$AC$200,27,FALSE)),1,\"\"))","v":""},{"$f":"IF($D193>6,\"\",IF(L$5<=(VLOOKUP($A193,masterlist!$C$2:$AC$200,27,FALSE)),1,\"\"))","v":""},{"$f":"IF($D193>6,\"\",IF(M$5<=(VLOOKUP($A193,masterlist!$C$2:$AC$200,27,FALSE)),1,\"\"))","v":""},{"$f":"IF($D193>6,\"\",IF(N$5<=(VLOOKUP($A193,masterlist!$C$2:$AC$200,27,FALSE)),1,\"\"))","v":""},{"$f":"IF($D193>6,\"\",IF(O$5<=(VLOOKUP($A193,masterlist!$C$2:$AC$200,27,FALSE)),1,\"\"))","v":""},{"$f":"IF($D193>6,\"\",IF(P$5<=(VLOOKUP($A193,masterlist!$C$2:$AC$200,27,FALSE)),1,\"\"))","v":""},{"$f":"IF($D193>6,\"\",IF(Q$5<=(VLOOKUP($A193,masterlist!$C$2:$AC$200,27,FALSE)),1,\"\"))","v":""},{"$f":"IF($D193>6,\"\",IF(R$5<=(VLOOKUP($A193,masterlist!$C$2:$AC$200,27,FALSE)),1,\"\"))","v":""},null,null,null,null,0,0,0,0,0,0,0,0,0,0,0,0,0]
[{"$f":"IFERROR(priorit!A193,\"\")","v":""},"",{"$f":"IFERROR(VLOOKUP($A194,masterlist!$C$2:$AA$200,2,FALSE),\"\")","v":""},{"$f":"IFERROR(VLOOKUP($A194,masterlist!$C$2:$AA$200,3,FALSE),\"\")","v":""},{"$f":"IFERROR(VLOOKUP($A194,masterlist!$C$2:$AA$200,5,FALSE),\"\")","v":""},{"$f":"IF($D194>6,\"\",IF(F$5<=(VLOOKUP($A194,masterlist!$C$2:$AC$200,27,FALSE)),1,\"\"))","v":""},{"$f":"IF($D194>6,\"\",IF(G$5<=(VLOOKUP($A194,masterlist!$C$2:$AC$200,27,FALSE)),1,\"\"))","v":""},{"$f":"IF($D194>6,\"\",IF(H$5<=(VLOOKUP($A194,masterlist!$C$2:$AC$200,27,FALSE)),1,\"\"))","v":""},{"$f":"IF($D194>6,\"\",IF(I$5<=(VLOOKUP($A194,masterlist!$C$2:$AC$200,27,FALSE)),1,\"\"))","v":""},{"$f":"IF($D194>6,\"\",IF(J$5<=(VLOOKUP($A194,masterlist!$C$2:$AC$200,27,FALSE)),1,\"\"))","v":""},{"$f":"IF($D194>6,\"\",IF(K$5<=(VLOOKUP($A194,masterlist!$C$2:$AC$200,27,FALSE)),1,\"\"))","v":""},{"$f":"IF($D194>6,\"\",IF(L$5<=(VLOOKUP($A194,masterlist!$C$2:$AC$200,27,FALSE)),1,\"\"))","v":""},{"$f":"IF($D194>6,\"\",IF(M$5<=(VLOOKUP($A194,masterlist!$C$2:$AC$200,27,FALSE)),1,\"\"))","v":""},{"$f":"IF($D194>6,\"\",IF(N$5<=(VLOOKUP($A194,masterlist!$C$2:$AC$200,27,FALSE)),1,\"\"))","v":""},{"$f":"IF($D194>6,\"\",IF(O$5<=(VLOOKUP($A194,masterlist!$C$2:$AC$200,27,FALSE)),1,\"\"))","v":""},{"$f":"IF($D194>6,\"\",IF(P$5<=(VLOOKUP($A194,masterlist!$C$2:$AC$200,27,FALSE)),1,\"\"))","v":""},{"$f":"IF($D194>6,\"\",IF(Q$5<=(VLOOKUP($A194,masterlist!$C$2:$AC$200,27,FALSE)),1,\"\"))","v":""},{"$f":"IF($D194>6,\"\",IF(R$5<=(VLOOKUP($A194,masterlist!$C$2:$AC$200,27,FALSE)),1,\"\"))","v":""},null,null,null,null,0,0,0,0,0,0,0,0,0,0,0,0,0]
[{"$f":"IFERROR(priorit!A194,\"\")","v":""},"",{"$f":"IFERROR(VLOOKUP($A195,masterlist!$C$2:$AA$200,2,FALSE),\"\")","v":""},{"$f":"IFERROR(VLOOKUP($A195,masterlist!$C$2:$AA$200,3,FALSE),\"\")","v":""},{"$f":"IFERROR(VLOOKUP($A195,masterlist!$C$2:$AA$200,5,FALSE),\"\")","v":""},{"$f":"IF($D195>6,\"\",IF(F$5<=(VLOOKUP($A195,masterlist!$C$2:$AC$200,27,FALSE)),1,\"\"))","v":""},{"$f":"IF($D195>6,\"\",IF(G$5<=(VLOOKUP($A195,masterlist!$C$2:$AC$200,27,FALSE)),1,\"\"))","v":""},{"$f":"IF($D195>6,\"\",IF(H$5<=(VLOOKUP($A195,masterlist!$C$2:$AC$200,27,FALSE)),1,\"\"))","v":""},{"$f":"IF($D195>6,\"\",IF(I$5<=(VLOOKUP($A195,masterlist!$C$2:$AC$200,27,FALSE)),1,\"\"))","v":""},{"$f":"IF($D195>6,\"\",IF(J$5<=(VLOOKUP($A195,masterlist!$C$2:$AC$200,27,FALSE)),1,\"\"))","v":""},{"$f":"IF($D195>6,\"\",IF(K$5<=(VLOOKUP($A195,masterlist!$C$2:$AC$200,27,FALSE)),1,\"\"))","v":""},{"$f":"IF($D195>6,\"\",IF(L$5<=(VLOOKUP($A195,masterlist!$C$2:$AC$200,27,FALSE)),1,\"\"))","v":""},{"$f":"IF($D195>6,\"\",IF(M$5<=(VLOOKUP($A195,masterlist!$C$2:$AC$200,27,FALSE)),1,\"\"))","v":""},{"$f":"IF($D195>6,\"\",IF(N$5<=(VLOOKUP($A195,masterlist!$C$2:$AC$200,27,FALSE)),1,\"\"))","v":""},{"$f":"IF($D195>6,\"\",IF(O$5<=(VLOOKUP($A195,masterlist!$C$2:$AC$200,27,FALSE)),1,\"\"))","v":""},{"$f":"IF($D195>6,\"\",IF(P$5<=(VLOOKUP($A195,masterlist!$C$2:$AC$200,27,FALSE)),1,\"\"))","v":""},{"$f":"IF($D195>6,\"\",IF(Q$5<=(VLOOKUP($A195,masterlist!$C$2:$AC$200,27,FALSE)),1,\"\"))","v":""},{"$f":"IF($D195>6,\"\",IF(R$5<=(VLOOKUP($A195,masterlist!$C$2:$AC$200,27,FALSE)),1,\"\"))","v":""},null,null,null,null,0,0,0,0,0,0,0,0,0,0,0,0,0]
[{"$f":"IFERROR(priorit!A195,\"\")","v":""},"",{"$f":"IFERROR(VLOOKUP($A196,masterlist!$C$2:$AA$200,2,FALSE),\"\")","v":""},{"$f":"IFERROR(VLOOKUP($A196,masterlist!$C$2:$AA$200,3,FALSE),\"\")","v":""},{"$f":"IFERROR(VLOOKUP($A196,masterlist!$C$2:$AA$200,5,FALSE),\"\")","v":""},{"$f":"IF($D196>6,\"\",IF(F$5<=(VLOOKUP($A196,masterlist!$C$2:$AC$200,27,FALSE)),1,\"\"))","v":""},{"$f":"IF($D196>6,\"\",IF(G$5<=(VLOOKUP($A196,masterlist!$C$2:$AC$200,27,FALSE)),1,\"\"))","v":""},{"$f":"IF($D196>6,\"\",IF(H$5<=(VLOOKUP($A196,masterlist!$C$2:$AC$200,27,FALSE)),1,\"\"))","v":""},{"$f":"IF($D196>6,\"\",IF(I$5<=(VLOOKUP($A196,masterlist!$C$2:$AC$200,27,FALSE)),1,\"\"))","v":""},{"$f":"IF($D196>6,\"\",IF(J$5<=(VLOOKUP($A196,masterlist!$C$2:$AC$200,27,FALSE)),1,\"\"))","v":""},{"$f":"IF($D196>6,\"\",IF(K$5<=(VLOOKUP($A196,masterlist!$C$2:$AC$200,27,FALSE)),1,\"\"))","v":""},{"$f":"IF($D196>6,\"\",IF(L$5<=(VLOOKUP($A196,masterlist!$C$2:$AC$200,27,FALSE)),1,\"\"))","v":""},{"$f":"IF($D196>6,\"\",IF(M$5<=(VLOOKUP($A196,masterlist!$C$2:$AC$200,27,FALSE)),1,\"\"))","v":""},{"$f":"IF($D196>6,\"\",IF(N$5<=(VLOOKUP($A196,masterlist!$C$2:$AC$200,27,FALSE)),1,\"\"))","v":""},{"$f":"IF($D196>6,\"\",IF(O$5<=(VLOOKUP($A196,masterlist!$C$2:$AC$200,27,FALSE)),1,\"\"))","v":""},{"$f":"IF($D196>6,\"\",IF(P$5<=(VLOOKUP($A196,masterlist!$C$2:$AC$200,27,FALSE)),1,\"\"))","v":""},{"$f":"IF($D196>6,\"\",IF(Q$5<=(VLOOKUP($A196,masterlist!$C$2:$AC$200,27,FALSE)),1,\"\"))","v":""},{"$f":"IF($D196>6,\"\",IF(R$5<=(VLOOKUP($A196,masterlist!$C$2:$AC$200,27,FALSE)),1,\"\"))","v":""},null,null,null,null,0,0,0,0,0,0,0,0,0,0,0,0,0]
[{"$f":"IFERROR(priorit!A196,\"\")","v":""},"",{"$f":"IFERROR(VLOOKUP($A197,masterlist!$C$2:$AA$200,2,FALSE),\"\")","v":""},{"$f":"IFERROR(VLOOKUP($A197,masterlist!$C$2:$AA$200,3,FALSE),\"\")","v":""},{"$f":"IFERROR(VLOOKUP($A197,masterlist!$C$2:$AA$200,5,FALSE),\"\")","v":""},{"$f":"IF($D197>6,\"\",IF(F$5<=(VLOOKUP($A197,masterlist!$C$2:$AC$200,27,FALSE)),1,\"\"))","v":""},{"$f":"IF($D197>6,\"\",IF(G$5<=(VLOOKUP($A197,masterlist!$C$2:$AC$200,27,FALSE)),1,\"\"))","v":""},{"$f":"IF($D197>6,\"\",IF(H$5<=(VLOOKUP($A197,masterlist!$C$2:$AC$200,27,FALSE)),1,\"\"))","v":""},{"$f":"IF($D197>6,\"\",IF(I$5<=(VLOOKUP($A197,masterlist!$C$2:$AC$200,27,FALSE)),1,\"\"))","v":""},{"$f":"IF($D197>6,\"\",IF(J$5<=(VLOOKUP($A197,masterlist!$C$2:$AC$200,27,FALSE)),1,\"\"))","v":""},{"$f":"IF($D197>6,\"\",IF(K$5<=(VLOOKUP($A197,masterlist!$C$2:$AC$200,27,FALSE)),1,\"\"))","v":""},{"$f":"IF($D197>6,\"\",IF(L$5<=(VLOOKUP($A197,masterlist!$C$2:$AC$200,27,FALSE)),1,\"\"))","v":""},{"$f":"IF($D197>6,\"\",IF(M$5<=(VLOOKUP($A197,masterlist!$C$2:$AC$200,27,FALSE)),1,\"\"))","v":""},{"$f":"IF($D197>6,\"\",IF(N$5<=(VLOOKUP($A197,masterlist!$C$2:$AC$200,27,FALSE)),1,\"\"))","v":""},{"$f":"IF($D197>6,\"\",IF(O$5<=(VLOOKUP($A197,masterlist!$C$2:$AC$200,27,FALSE)),1,\"\"))","v":""},{"$f":"IF($D197>6,\"\",IF(P$5<=(VLOOKUP($A197,masterlist!$C$2:$AC$200,27,FALSE)),1,\"\"))","v":""},{"$f":"IF($D197>6,\"\",IF(Q$5<=(VLOOKUP($A197,masterlist!$C$2:$AC$200,27,FALSE)),1,\"\"))","v":""},{"$f":"IF($D197>6,\"\",IF(R$5<=(VLOOKUP($A197,masterlist!$C$2:$AC$200,27,FALSE)),1,\"\"))","v":""},null,null,null,null,0,0,0,0,0,0,0,0,0,0,0,0,0]
[{"$f":"IFERROR(priorit!A197,\"\")","v":""},"",{"$f":"IFERROR(VLOOKUP($A198,masterlist!$C$2:$AA$200,2,FALSE),\"\")","v":""},{"$f":"IFERROR(VLOOKUP($A198,masterlist!$C$2:$AA$200,3,FALSE),\"\")","v":""},{"$f":"IFERROR(VLOOKUP($A198,masterlist!$C$2:$AA$200,5,FALSE),\"\")","v":""},{"$f":"IF($D198>6,\"\",IF(F$5<=(VLOOKUP($A198,masterlist!$C$2:$AC$200,27,FALSE)),1,\"\"))","v":""},{"$f":"IF($D198>6,\"\",IF(G$5<=(VLOOKUP($A198,masterlist!$C$2:$AC$200,27,FALSE)),1,\"\"))","v":""},{"$f":"IF($D198>6,\"\",IF(H$5<=(VLOOKUP($A198,masterlist!$C$2:$AC$200,27,FALSE)),1,\"\"))","v":""},{"$f":"IF($D198>6,\"\",IF(I$5<=(VLOOKUP($A198,masterlist!$C$2:$AC$200,27,FALSE)),1,\"\"))","v":""},{"$f":"IF($D198>6,\"\",IF(J$5<=(VLOOKUP($A198,masterlist!$C$2:$AC$200,27,FALSE)),1,\"\"))","v":""},{"$f":"IF($D198>6,\"\",IF(K$5<=(VLOOKUP($A198,masterlist!$C$2:$AC$200,27,FALSE)),1,\"\"))","v":""},{"$f":"IF($D198>6,\"\",IF(L$5<=(VLOOKUP($A198,masterlist!$C$2:$AC$200,27,FALSE)),1,\"\"))","v":""},{"$f":"IF($D198>6,\"\",IF(M$5<=(VLOOKUP($A198,masterlist!$C$2:$AC$200,27,FALSE)),1,\"\"))","v":""},{"$f":"IF($D198>6,\"\",IF(N$5<=(VLOOKUP($A198,masterlist!$C$2:$AC$200,27,FALSE)),1,\"\"))","v":""},{"$f":"IF($D198>6,\"\",IF(O$5<=(VLOOKUP($A198,masterlist!$C$2:$AC$200,27,FALSE)),1,\"\"))","v":""},{"$f":"IF($D198>6,\"\",IF(P$5<=(VLOOKUP($A198,masterlist!$C$2:$AC$200,27,FALSE)),1,\"\"))","v":""},{"$f":"IF($D198>6,\"\",IF(Q$5<=(VLOOKUP($A198,masterlist!$C$2:$AC$200,27,FALSE)),1,\"\"))","v":""},{"$f":"IF($D198>6,\"\",IF(R$5<=(VLOOKUP($A198,masterlist!$C$2:$AC$200,27,FALSE)),1,\"\"))","v":""},null,null,null,null,0,0,0,0,0,0,0,0,0,0,0,0,0]
[{"$f":"IFERROR(priorit!A198,\"\")","v":""},"",{"$f":"IFERROR(VLOOKUP($A199,masterlist!$C$2:$AA$200,2,FALSE),\"\")","v":""},{"$f":"IFERROR(VLOOKUP($A199,masterlist!$C$2:$AA$200,3,FALSE),\"\")","v":""},{"$f":"IFERROR(VLOOKUP($A199,masterlist!$C$2:$AA$200,5,FALSE),\"\")","v":""},{"$f":"IF($D199>6,\"\",IF(F$5<=(VLOOKUP($A199,masterlist!$C$2:$AC$200,27,FALSE)),1,\"\"))","v":""},{"$f":"IF($D199>6,\"\",IF(G$5<=(VLOOKUP($A199,masterlist!$C$2:$AC$200,27,FALSE)),1,\"\"))","v":""},{"$f":"IF($D199>6,\"\",IF(H$5<=(VLOOKUP($A199,masterlist!$C$2:$AC$200,27,FALSE)),1,\"\"))","v":""},{"$f":"IF($D199>6,\"\",IF(I$5<=(VLOOKUP($A199,masterlist!$C$2:$AC$200,27,FALSE)),1,\"\"))","v":""},{"$f":"IF($D199>6,\"\",IF(J$5<=(VLOOKUP($A199,masterlist!$C$2:$AC$200,27,FALSE)),1,\"\"))","v":""},{"$f":"IF($D199>6,\"\",IF(K$5<=(VLOOKUP($A199,masterlist!$C$2:$AC$200,27,FALSE)),1,\"\"))","v":""},{"$f":"IF($D199>6,\"\",IF(L$5<=(VLOOKUP($A199,masterlist!$C$2:$AC$200,27,FALSE)),1,\"\"))","v":""},{"$f":"IF($D199>6,\"\",IF(M$5<=(VLOOKUP($A199,masterlist!$C$2:$AC$200,27,FALSE)),1,\"\"))","v":""},{"$f":"IF($D199>6,\"\",IF(N$5<=(VLOOKUP($A199,masterlist!$C$2:$AC$200,27,FALSE)),1,\"\"))","v":""},{"$f":"IF($D199>6,\"\",IF(O$5<=(VLOOKUP($A199,masterlist!$C$2:$AC$200,27,FALSE)),1,\"\"))","v":""},{"$f":"IF($D199>6,\"\",IF(P$5<=(VLOOKUP($A199,masterlist!$C$2:$AC$200,27,FALSE)),1,\"\"))","v":""},{"$f":"IF($D199>6,\"\",IF(Q$5<=(VLOOKUP($A199,masterlist!$C$2:$AC$200,27,FALSE)),1,\"\"))","v":""},{"$f":"IF($D199>6,\"\",IF(R$5<=(VLOOKUP($A199,masterlist!$C$2:$AC$200,27,FALSE)),1,\"\"))","v":""},null,null,null,null,0,0,0,0,0,0,0,0,0,0,0,0,0]

{"sheet":"Gantt (stage)","index":44,"n_rows":199,"n_cols":18,"rows_kept":199,"cut":false,"hidden":true,"merged":[[0,1,0,17],[1,1,1,7],[2,1,2,17]]}
[null,"Practical Workplan towards Achieving Rabies Elimination"]
[]
[null,"GANTT CHART by SARE stage"]
[]
[]
[null,"Component","Theme","Stage","Activity",2018,2019,2020,2021,2022,2023,2024,2025,2026,2027,"","",""]
["DCA-Sur-1-11","DCA","Surveillance",1,"Have dog population studies and KAP surveys been conducted to determine size, turn-over and accessibility of dogs for vaccination on a small scale?",1,1,1,1,1,1,1,1,1,1,1,1,1]
["IEC-Pro-1-8","IEC","Professional education",1,"Has an assessment been undertaken to determine the training needs of the professionals at a local level? ",1,1,1,1,1,1,1,1,1,1,1,1,1]
["CCI-Nat-1-6","CCI","National programme and strategy",1,"Based on a small-scale experience, has a short term rabies action plan been developed and endorsed by relevant authorities at local / national level?",1,1,1,1,1,1,1,1,1,1,1,1,1]
["CCI-Nat-1-7","CCI","National programme and strategy",1,"Have mechanisms for mobilizing emergency funds for rabies control been identified?",1,1,1,1,1,1,1,1,1,1,1,1,1]
["DPM- -1-2","DPM"," ",1,"Have you involved officials in waste management in your stakeholder* meetings",1,1,1,1,1,1,1,1,1,1,1,1,1]
["IEC-Pro-1-9","IEC","Professional education",1,"Has a training plan been developed at a national level?",1,1,1,1,1,1,1,1,1,1,1,1,1]
["IEC-Pro-1-10","IEC","Professional education",1,"Have training or refresher courses on rabies and public communication been initiated for professionals in human and animal health at a local level?",1,1,1,1,1,1,1,1,1,1,1,1,1]
["LEG-Ani-1-2","LEG","Animal rabies national case definition",1,"Has the case definition for animal rabies been shared with all of the relevant professionals?",1,1,1,1,1,1,1,1,1,1,1,1,1]
["LEG-Hum-1-4","LEG","Human rabies national case definition",1,"Has the case definition for human rabies been shared with all of the relevant professionals?",1,1,1,1,1,1,1,1,1,1,1,1,1]
["IEC-Adv-1-13","IEC","Advocacy",1,"Has an advocacy stakeholder analysis* been done at a national level and target audiences been identified?",1,1,1,1,1,1,1,1,1,1,1,1,1]
["LEG-Leg-1-6","LEG","Legal Framework",1,"If there is legislation, has it been reviewed and endorsed?",1,1,1,1,1,1,1,1,1,1,1,1,1]
["CCI-Int-1-4","CCI","Intersectoral collaboration",1,"Has an intersectoral rabies task force, committee or working group, including all relevant stakeholders*, been established at a local or national level and do they meet/communicate regularly?",1,1,1,1,1,1,1,1,1,1,1,1,1]
["IEC-Adv-1-14","IEC","Advocacy",1,"Has an advocacy plan* been developed and implemented at a national level?",1,1,1,1,1,1,1,1,1,1,1,1,1]
["PCO-Hum-2-3","PCO","Human vaccines",2,"Has an assessment* been done to determine the availability and access to PEP (and PreP)?",1,1,1,1,1,1,1,1,1,1,1,1,1]
["PCO-Out-2-20","PCO","Outbreak response and other rabies control activities",2,"Have facilities been established for the observation of rabies-suspected dogs?",1,1,1,1,1,1,1,1,1,1,1,1,1]
["IEC-Adv-2-15","IEC","Advocacy",2,"Have you promoted any small-scale rabies control program successes using the national advocacy plan?",1,1,1,1,1,1,1,1,1,1,1,1,1]
["IEC-Adv-2-16","IEC","Advocacy",2,"Has the national advocacy plan been used to obtain support from stakeholders to financially resource the national rabies control strategy?",1,1,1,1,1,1,1,1,1,1,1,1,1]
["IEC-Pro-2-11","IEC","Professional education",2,"Has training of human and animal health personnel been conducted in most parts of the country?",1,1,1,1,1,1,1,1,1,1,1,1,1]
["CCI-Nat-2-8","CCI","National programme and strategy",2,"Has a national strategy for rabies prevention, control and eventual elimination been drafted and finalised in collaboration with all relevant stakeholders?",1,1,1,1,1,1,1,1,1,1,1,1,1]
["DPM- -2-4","DPM"," ",2,"Has a DPM* strategy and programme been drafted and shared with all relevant stakeholders at a local level?",1,1,1,1,1,1,1,1,1,1,1,1,1]
["DPM- -2-5","DPM"," ",2,"Has the DPM strategy been finalized and implemented?",1,1,1,1,1,1,1,1,1,1,1,1,1]
["CCI-Int-2-5","CCI","Intersectoral collaboration",2,"Is the private sector included in the inter-sectoral task force's discussions and/or activities?",1,1,1,1,1,1,1,1,1,1,1,1,1]
["LEG-Leg-2-10","LEG","Legal Framework",2,"Does the legislation regarding nationally licenced vaccines reflect that of international guidelines?",1,1,1,1,1,1,1,1,1,1,1,1,1]
["DCA-Sur-3-17","DCA","Surveillance",3,"As your country nears human rabies elimination, have field investigations for all suspected human rabies cases been conducted? ",1,1,1,1,1,1,1,1,1,1,1,1,1]
["DCA-Sur-3-18","DCA","Surveillance",3,"As your country nears human rabies elimination, is epidemiological data being collected to provide evidence of dog-transmitted human rabies-free zones?",1,1,1,1,1,1,1,1,1,1,1,1,1]
["PCO-Dog-3-12","PCO","Dog vaccines",3,"Are post-vaccination surveys* in dogs being carried out to evaluate vaccination coverage?",1,1,1,1,1,1,1,1,1,1,1,1,1]
["PCO-Out-3-21","PCO","Outbreak response and other rabies control activities",3,"Is there capacity to conduct field investigations and planned outbreak responses for human rabies cases in the entire country?",1,1,1,1,1,1,1,1,1,1,1,1,1]
["PCO-Out-3-22","PCO","Outbreak response and other rabies control activities",3,"Have potential rabies-free zones been identified where animal rabies cases caused by the canine rabies variant have been absent for at least a 2 year period?",1,1,1,1,1,1,1,1,1,1,1,1,1]
["IEC-Adv-3-17","IEC","Advocacy",3,"Have dog-transmitted human rabies free zones been declared publicly?",1,1,1,1,1,1,1,1,1,1,1,1,1]
["CCI-Nat-3-10","CCI","National programme and strategy",3,"Now that there are very few animal rabies cases in your country, has the national strategy been refined based on current data? ",1,1,1,1,1,1,1,1,1,1,1,1,1]
["DPM- -3-10","DPM"," ",3,"Has veterinary and animal technician training been completed across most of country?",1,1,1,1,1,1,1,1,1,1,1,1,1]
["IEC-Pub-3-5","IEC","Public awareness",3,"Has the IEC plan been integrated into the national rabies strategy, implemented at national level and updated where needed?",1,1,1,1,1,1,1,1,1,1,1,1,1]
["DCA-Sur-4-21","DCA","Surveillance",4,"As your country nears dog-rabies elimination, has the epidemiological data from the routine surveillance of all animals (not only dogs) been used to refine the national rabies strategy?",1,1,1,1,1,1,1,1,1,1,1,1,1]
["PCO-Out-4-25","PCO","Outbreak response and other rabies control activities",4,"Now that there are very few animal rabies cases in your country, has an emergency response/contingency plan been developed to address any reintroduced case of animal rabies involving a canine variant in rabies-free zones?",1,1,1,1,1,1,1,1,1,1,1,1,1]
["LAB-Lab-4-12","LAB","Laboratory capacity and testing",4,"Is there regular characterization and analysis of circulating rabies virus variants by a national or international laboratory?",1,1,1,1,1,1,1,1,1,1,1,1,1]
["IEC-Adv-4-18","IEC","Advocacy",4,"Have you declared publically that your entire country is free from dog-transmitted human rabies?",1,1,1,1,1,1,1,1,1,1,1,1,1]
["DCA-Sur-5-22","DCA","Surveillance",5,"Has freedom from dog-transmitted rabies in the entire country been verified by the absence of canine variant cases for at least a 2 year period?",1,1,1,1,1,1,1,1,1,1,1,1,1]
["PCO-Hum-5-7","PCO","Human vaccines",5,"Now that your country is free from human and animal rabies, have modified protocols for PEP administration for rabies-free areas been implemented?",1,1,1,1,1,1,1,1,1,1,1,1,1]
["PCO-Dog-5-14","PCO","Dog vaccines",5,"Even though you are rabies free based on successful mass vaccination campaigns, are strategic dog vaccination campaigns maintained where justifiable?",1,1,1,1,1,1,1,1,1,1,1,1,1]
["IEC-Pub-5-6","IEC","Public awareness",5,"Have awareness programmes focusing on the maintenance of freedom from dog and dog-transmitted human rabies been implemented?",1,1,1,1,1,1,1,1,1,1,1,1,1]
["PCO-Out-5-26","PCO","Outbreak response and other rabies control activities",5,"Even though you are rabies free based on successful mass vaccination campaigns, has the capacity for outbreak and re-introduction response been maintained?",1,1,1,1,1,1,1,1,1,1,1,1,1]
["IEC-Adv-5-19","IEC","Advocacy",5,"Have you declared publically that your entire country is free from dog rabies? ",1,1,1,1,1,1,1,1,1,1,1,1,1]
["DPM- -5-11","DPM"," ",5,"Has the dog population management strategy been implemented nationwide?",1,1,1,1,1,1,1,1,1,1,1,1,1]
["DPM- -5-12","DPM"," ",5,"Have dog population management and responsible dog ownership campaigns been continued after the elimination of canine-mediated human rabies?",1,1,1,1,1,1,1,1,1,1,1,1,1]
["","","","","","","","","","","","","","","","","",""]
["","","","","","","","","","","","","","","","","",""]
["","","","","","","","","","","","","","","","","",""]
["","","","","","","","","","","","","","","","","",""]
["","","","","","","","","","","","","","","","","",""]
["","","","","","","","","","","","","","","","","",""]
["","","","","","","","","","","","","","","","","",""]
["","","","","","","","","","","","","","","","","",""]
["","","","","","","","","","","","","","","","","",""]
["","","","","","","","","","","","","","","","","",""]
["","","","","","","","","","","","","","","","","",""]
["","","","","","","","","","","","","","","","","",""]
["","","","","","","","","","","","","","","","","",""]
["","","","","","","","","","","","","","","","","",""]
["","","","","","","","","","","","","","","","","",""]
["","","","","","","","","","","","","","","","","",""]
["","","","","","","","","","","","","","","","","",""]
["","","","","","","","","","","","","","","","","",""]
["","","","","","","","","","","","","","","","","",""]
["","","","","","","","","","","","","","","","","",""]
["","","","","","","","","","","","","","","","","",""]
["","","","","","","","","","","","","","","","","",""]
["","","","","","","","","","","","","","","","","",""]
["","","","","","","","","","","","","","","","","",""]
["","","","","","","","","","","","","","","","","",""]
["","","","","","","","","","","","","","","","","",""]
["","","","","","","","","","","","","","","","","",""]
["","","","","","","","","","","","","","","","","",""]
["","","","","","","","","","","","","","","","","",""]
["","","","","","","","","","","","","","","","","",""]
["","","","","","","","","","","","","","","","","",""]
["","","","","","","","","","","","","","","","","",""]
["","","","","","","","","","","","","","","","","",""]
["","","","","","","","","","","","","","","","","",""]
["","","","","","","","","","","","","","","","","",""]
["","","","","","","","","","","","","","","","","",""]
["","","","","","","","","","","","","","","","","",""]
["","","","","","","","","","","","","","","","","",""]
["","","","","","","","","","","","","","","","","",""]
["","","","","","","","","","","","","","","","","",""]
["","","","","","","","","","","","","","","","","",""]
["","","","","","","","","","","","","","","","","",""]
["","","","","","","","","","","","","","","","","",""]
["","","","","","","","","","","","","","","","","",""]
["","","","","","","","","","","","","","","","","",""]
["","","","","","","","","","","","","","","","","",""]
["","","","","","","","","","","","","","","","","",""]
["","","","","","","","","","","","","","","","","",""]
["","","","","","","","","","","","","","","","","",""]
["","","","","","","","","","","","","","","","","",""]
["","","","","","","","","","","","","","","","","",""]
["","","","","","","","","","","","","","","","","",""]
["","","","","","","","","","","","","","","","","",""]
["","","","","","","","","","","","","","","","","",""]
["","","","","","","","","","","","","","","","","",""]
["","","","","","","","","","","","","","","","","",""]
["","","","","","","","","","","","","","","","","",""]
["","","","","","","","","","","","","","","","","",""]
["","","","","","","","","","","","","","","","","",""]
["","","","","","","","","","","","","","","","","",""]
["","","","","","","","","","","","","","","","","",""]
["","","","","","","","","","","","","","","","","",""]
["","","","","","","","","","","","","","","","","",""]
["","","","","","","","","","","","","","","","","",""]
["","","","","","","","","","","","","","","","","",""]
["","","","","","","","","","","","","","","","","",""]
["","","","","","","","","","","","","","","","","",""]
["","","","","","","","","","","","","","","","","",""]
["","","","","","","","","","","","","","","","","",""]
["","","","","","","","","","","","","","","","","",""]
["","","","","","","","","","","","","","","","","",""]
["","","","","","","","","","","","","","","","","",""]
["","","","","","","","","","","","","","","","","",""]
["","","","","","","","","","","","","","","","","",""]
["","","","","","","","","","","","","","","","","",""]
["","","","","","","","","","","","","","","","","",""]
["","","","","","","","","","","","","","","","","",""]
["","","","","","","","","","","","","","","","","",""]
["","","","","","","","","","","","","","","","","",""]
["","","","","","","","","","","","","","","","","",""]
["","","","","","","","","","","","","","","","","",""]
["","","","","","","","","","","","","","","","","",""]
["","","","","","","","","","","","","","","","","",""]
["","","","","","","","","","","","","","","","","",""]
["","","","","","","","","","","","","","","","","",""]
["","","","","","","","","","","","","","","","","",""]
["","","","","","","","","","","","","","","","","",""]
["","","","","","","","","","","","","","","","","",""]
["","","","","","","","","","","","","","","","","",""]
["","","","","","","","","","","","","","","","","",""]
["","","","","","","","","","","","","","","","","",""]
["","","","","","","","","","","","","","","","","",""]
["","","","","","","","","","","","","","","","","",""]
["","","","","","","","","","","","","","","","","",""]
["","","","","","","","","","","","","","","","","",""]
["","","","","","","","","","","","","","","","","",""]
["","","","","","","","","","","","","","","","","",""]
["","","","","","","","","","","","","","","","","",""]
["","","","","","","","","","","","","","","","","",""]
["","","","","","","","","","","","","","","","","",""]
["","","","","","","","","","","","","","","","","",""]
["","","","","","","","","","","","","","","","","",""]
["","","","","","","","","","","","","","","","","",""]
["","","","","","","","","","","","","","","","","",""]
["","","","","","","","","","","","","","","","","",""]
["","","","","","","","","","","","","","","","","",""]
["","","","","","","","","","","","","","","","","",""]
["","","","","","","","","","","","","","","","","",""]
["","","","","","","","","","","","","","","","","",""]
["","","","","","","","","","","","","","","","","",""]
["","","","","","","","","","","","","","","","","",""]
["","","","","","","","","","","","","","","","","",""]
["","","","","","","","","","","","","","","","","",""]
["","","","","","","","","","","","","","","","","",""]
["","","","","","","","","","","","","","","","","",""]
["","","","","","","","","","","","","","","","","",""]
["","","","","","","","","","","","","","","","","",""]
["","","","","","","","","","","","","","","","","",""]
["","","","","","","","","","","","","","","","","",""]
["","","","","","","","","","","","","","","","","",""]
["","","","","","","","","","","","","","","","","",""]
["","","","","","","","","","","","","","","","","",""]
["","","","","","","","","","","","","","","","","",""]
["","","","","","","","","","","","","","","","","",""]
["","","","","","","","","","","","","","","","","",""]
["","","","","","","","","","","","","","","","","",""]
["","","","","","","","","","","","","","","","","",""]
["","","","","","","","","","","","","","","","","",""]
["","","","","","","","","","","","","","","","","",""]
["","","","","","","","","","","","","","","","","",""]
["","","","","","","","","","","","","","","","","",""]
["","","","","","","","","","","","","","","","","",""]
["","","","","","","","","","","","","","","","","",""]
["","","","","","","","","","","","","","","","","",""]
["","","","","","","","","","","","","","","","","",""]
["","","","","","","","","","","","","","","","","",""]
["","","","","","","","","","","","","","","","","",""]
["","","","","","","","","","","","","","","","","",""]
["","","","","","","","","","","","","","","","","",""]
["","","","","","","","","","","","","","","","","",""]
["","","","","","","","","","","","","","","","","",""]
["","","","","","","","","","","","","","","","","",""]
["","","","","","","","","","","","","","","","","",""]
["","","","","","","","","","","","","","","","","",""]
["","","","","","","","","","","","","","","","","",""]
["","","","","","","","","","","","","","","","","",""]
["","","","","","","","","","","","","","","","","",""]
["","","","","","","","","","","","","","","","","",""]
["","","","","","","","","","","","","","","","","",""]

{"sheet":"Gantt (component)","index":45,"n_rows":199,"n_cols":18,"rows_kept":199,"cut":false,"hidden":true,"merged":[[0,1,0,17],[1,1,1,7],[2,1,2,17]]}
[null,"Practical Workplan towards Achieving Rabies Elimination"]
[]
[null,"GANTT CHART by SARE component"]
[]
[]
[null,"Component","Theme","Stage","Activity",2018,2019,2020,2021,2022,2023,2024,2025,2026,2027,"","",""]
["CCI-Nat-1-6","CCI","National programme and strategy",1,"Based on a small-scale experience, has a short term rabies action plan been developed and endorsed by relevant authorities at local / national level?",1,1,1,1,1,1,1,1,1,1,1,1,1]
["CCI-Nat-1-7","CCI","National programme and strategy",1,"Have mechanisms for mobilizing emergency funds for rabies control been identified?",1,1,1,1,1,1,1,1,1,1,1,1,1]
["CCI-Nat-2-8","CCI","National programme and strategy",2,"Has a national strategy for rabies prevention, control and eventual elimination been drafted and finalised in collaboration with all relevant stakeholders?",1,1,1,1,1,1,1,1,1,1,1,1,1]
["CCI-Nat-3-10","CCI","National programme and strategy",3,"Now that there are very few animal rabies cases in your country, has the national strategy been refined based on current data? ",1,1,1,1,1,1,1,1,1,1,1,1,1]
["CCI-Int-1-4","CCI","Intersectoral collaboration",1,"Has an intersectoral rabies task force, committee or working group, including all relevant stakeholders*, been established at a local or national level and do they meet/communicate regularly?",1,1,1,1,1,1,1,1,1,1,1,1,1]
["CCI-Int-2-5","CCI","Intersectoral collaboration",2,"Is the private sector included in the inter-sectoral task force's discussions and/or activities?",1,1,1,1,1,1,1,1,1,1,1,1,1]
["DCA-Sur-1-11","DCA","Surveillance",1,"Have dog population studies and KAP surveys been conducted to determine size, turn-over and accessibility of dogs for vaccination on a small scale?",1,1,1,1,1,1,1,1,1,1,1,1,1]
["DCA-Sur-3-17","DCA","Surveillance",3,"As your country nears human rabies elimination, have field investigations for all suspected human rabies cases been conducted? ",1,1,1,1,1,1,1,1,1,1,1,1,1]
["DCA-Sur-3-18","DCA","Surveillance",3,"As your country nears human rabies elimination, is epidemiological data being collected to provide evidence of dog-transmitted human rabies-free zones?",1,1,1,1,1,1,1,1,1,1,1,1,1]
["DCA-Sur-4-21","DCA","Surveillance",4,"As your country nears dog-rabies elimination, has the epidemiological data from the routine surveillance of all animals (not only dogs) been used to refine the national rabies strategy?",1,1,1,1,1,1,1,1,1,1,1,1,1]
["DCA-Sur-5-22","DCA","Surveillance",5,"Has freedom from dog-transmitted rabies in the entire country been verified by the absence of canine variant cases for at least a 2 year period?",1,1,1,1,1,1,1,1,1,1,1,1,1]
["DPM- -1-2","DPM"," ",1,"Have you involved officials in waste management in your stakeholder* meetings",1,1,1,1,1,1,1,1,1,1,1,1,1]
["DPM- -2-4","DPM"," ",2,"Has a DPM* strategy and programme been drafted and shared with all relevant stakeholders at a local level?",1,1,1,1,1,1,1,1,1,1,1,1,1]
["DPM- -2-5","DPM"," ",2,"Has the DPM strategy been finalized and implemented?",1,1,1,1,1,1,1,1,1,1,1,1,1]
["DPM- -3-10","DPM"," ",3,"Has veterinary and animal technician training been completed across most of country?",1,1,1,1,1,1,1,1,1,1,1,1,1]
["DPM- -5-11","DPM"," ",5,"Has the dog population management strategy been implemented nationwide?",1,1,1,1,1,1,1,1,1,1,1,1,1]
["DPM- -5-12","DPM"," ",5,"Have dog population management and responsible dog ownership campaigns been continued after the elimination of canine-mediated human rabies?",1,1,1,1,1,1,1,1,1,1,1,1,1]
["IEC-Pub-5-6","IEC","Public awareness",5,"Have awareness programmes focusing on the maintenance of freedom from dog and dog-transmitted human rabies been implemented?",1,1,1,1,1,1,1,1,1,1,1,1,1]
["IEC-Pro-1-8","IEC","Professional education",1,"Has an assessment been undertaken to determine the training needs of the professionals at a local level? ",1,1,1,1,1,1,1,1,1,1,1,1,1]
["IEC-Adv-2-15","IEC","Advocacy",2,"Have you promoted any small-scale rabies control program successes using the national advocacy plan?",1,1,1,1,1,1,1,1,1,1,1,1,1]
["IEC-Adv-2-16","IEC","Advocacy",2,"Has the national advocacy plan been used to obtain support from stakeholders to financially resource the national rabies control strategy?",1,1,1,1,1,1,1,1,1,1,1,1,1]
["IEC-Pro-1-9","IEC","Professional education",1,"Has a training plan been developed at a national level?",1,1,1,1,1,1,1,1,1,1,1,1,1]
["IEC-Pro-1-10","IEC","Professional education",1,"Have training or refresher courses on rabies and public communication been initiated for professionals in human and animal health at a local level?",1,1,1,1,1,1,1,1,1,1,1,1,1]
["IEC-Pro-2-11","IEC","Professional education",2,"Has training of human and animal health personnel been conducted in most parts of the country?",1,1,1,1,1,1,1,1,1,1,1,1,1]
["IEC-Adv-3-17","IEC","Advocacy",3,"Have dog-transmitted human rabies free zones been declared publicly?",1,1,1,1,1,1,1,1,1,1,1,1,1]
["IEC-Adv-1-13","IEC","Advocacy",1,"Has an advocacy stakeholder analysis* been done at a national level and target audiences been identified?",1,1,1,1,1,1,1,1,1,1,1,1,1]
["IEC-Adv-4-18","IEC","Advocacy",4,"Have you declared publically that your entire country is free from dog-transmitted human rabies?",1,1,1,1,1,1,1,1,1,1,1,1,1]
["IEC-Adv-5-19","IEC","Advocacy",5,"Have you declared publically that your entire country is free from dog rabies? ",1,1,1,1,1,1,1,1,1,1,1,1,1]
["IEC-Pub-3-5","IEC","Public awareness",3,"Has the IEC plan been integrated into the national rabies strategy, implemented at national level and updated where needed?",1,1,1,1,1,1,1,1,1,1,1,1,1]
["IEC-Adv-1-14","IEC","Advocacy",1,"Has an advocacy plan* been developed and implemented at a national level?",1,1,1,1,1,1,1,1,1,1,1,1,1]
["LAB-Lab-4-12","LAB","Laboratory capacity and testing",4,"Is there regular characterization and analysis of circulating rabies virus variants by a national or international laboratory?",1,1,1,1,1,1,1,1,1,1,1,1,1]
["LEG-Ani-1-2","LEG","Animal rabies national case definition",1,"Has the case definition for animal rabies been shared with all of the relevant professionals?",1,1,1,1,1,1,1,1,1,1,1,1,1]
["LEG-Hum-1-4","LEG","Human rabies national case definition",1,"Has the case definition for human rabies been shared with all of the relevant professionals?",1,1,1,1,1,1,1,1,1,1,1,1,1]
["LEG-Leg-1-6","LEG","Legal Framework",1,"If there is legislation, has it been reviewed and endorsed?",1,1,1,1,1,1,1,1,1,1,1,1,1]
["LEG-Leg-2-10","LEG","Legal Framework",2,"Does the legislation regarding nationally licenced vaccines reflect that of international guidelines?",1,1,1,1,1,1,1,1,1,1,1,1,1]
["PCO-Hum-2-3","PCO","Human vaccines",2,"Has an assessment* been done to determine the availability and access to PEP (and PreP)?",1,1,1,1,1,1,1,1,1,1,1,1,1]
["PCO-Hum-5-7","PCO","Human vaccines",5,"Now that your country is free from human and animal rabies, have modified protocols for PEP administration for rabies-free areas been implemented?",1,1,1,1,1,1,1,1,1,1,1,1,1]
["PCO-Dog-3-12","PCO","Dog vaccines",3,"Are post-vaccination surveys* in dogs being carried out to evaluate vaccination coverage?",1,1,1,1,1,1,1,1,1,1,1,1,1]
["PCO-Dog-5-14","PCO","Dog vaccines",5,"Even though you are rabies free based on successful mass vaccination campaigns, are strategic dog vaccination campaigns maintained where justifiable?",1,1,1,1,1,1,1,1,1,1,1,1,1]
["PCO-Out-2-20","PCO","Outbreak response and other rabies control activities",2,"Have facilities been established for the observation of rabies-suspected dogs?",1,1,1,1,1,1,1,1,1,1,1,1,1]
["PCO-Out-3-21","PCO","Outbreak response and other rabies control activities",3,"Is there capacity to conduct field investigations and planned outbreak responses for human rabies cases in the entire country?",1,1,1,1,1,1,1,1,1,1,1,1,1]
["PCO-Out-3-22","PCO","Outbreak response and other rabies control activities",3,"Have potential rabies-free zones been identified where animal rabies cases caused by the canine rabies variant have been absent for at least a 2 year period?",1,1,1,1,1,1,1,1,1,1,1,1,1]
["PCO-Out-4-25","PCO","Outbreak response and other rabies control activities",4,"Now that there are very few animal rabies cases in your country, has an emergency response/contingency plan been developed to address any reintroduced case of animal rabies involving a canine variant in rabies-free zones?",1,1,1,1,1,1,1,1,1,1,1,1,1]
["PCO-Out-5-26","PCO","Outbreak response and other rabies control activities",5,"Even though you are rabies free based on successful mass vaccination campaigns, has the capacity for outbreak and re-introduction response been maintained?",1,1,1,1,1,1,1,1,1,1,1,1,1]
["","","","","","","","","","","","","","","","","",""]
["","","","","","","","","","","","","","","","","",""]
["","","","","","","","","","","","","","","","","",""]
["","","","","","","","","","","","","","","","","",""]
["","","","","","","","","","","","","","","","","",""]
["","","","","","","","","","","","","","","","","",""]
["","","","","","","","","","","","","","","","","",""]
["","","","","","","","","","","","","","","","","",""]
["","","","","","","","","","","","","","","","","",""]
["","","","","","","","","","","","","","","","","",""]
["","","","","","","","","","","","","","","","","",""]
["","","","","","","","","","","","","","","","","",""]
["","","","","","","","","","","","","","","","","",""]
["","","","","","","","","","","","","","","","","",""]
["","","","","","","","","","","","","","","","","",""]
["","","","","","","","","","","","","","","","","",""]
["","","","","","","","","","","","","","","","","",""]
["","","","","","","","","","","","","","","","","",""]
["","","","","","","","","","","","","","","","","",""]
["","","","","","","","","","","","","","","","","",""]
["","","","","","","","","","","","","","","","","",""]
["","","","","","","","","","","","","","","","","",""]
["","","","","","","","","","","","","","","","","",""]
["","","","","","","","","","","","","","","","","",""]
["","","","","","","","","","","","","","","","","",""]
["","","","","","","","","","","","","","","","","",""]
["","","","","","","","","","","","","","","","","",""]
["","","","","","","","","","","","","","","","","",""]
["","","","","","","","","","","","","","","","","",""]
["","","","","","","","","","","","","","","","","",""]
["","","","","","","","","","","","","","","","","",""]
["","","","","","","","","","","","","","","","","",""]
["","","","","","","","","","","","","","","","","",""]
["","","","","","","","","","","","","","","","","",""]
["","","","","","","","","","","","","","","","","",""]
["","","","","","","","","","","","","","","","","",""]
["","","","","","","","","","","","","","","","","",""]
["","","","","","","","","","","","","","","","","",""]
["","","","","","","","","","","","","","","","","",""]
["","","","","","","","","","","","","","","","","",""]
["","","","","","","","","","","","","","","","","",""]
["","","","","","","","","","","","","","","","","",""]
["","","","","","","","","","","","","","","","","",""]
["","","","","","","","","","","","","","","","","",""]
["","","","","","","","","","","","","","","","","",""]
["","","","","","","","","","","","","","","","","",""]
["","","","","","","","","","","","","","","","","",""]
["","","","","","","","","","","","","","","","","",""]
["","","","","","","","","","","","","","","","","",""]
["","","","","","","","","","","","","","","","","",""]
["","","","","","","","","","","","","","","","","",""]
["","","","","","","","","","","","","","","","","",""]
["","","","","","","","","","","","","","","","","",""]
["","","","","","","","","","","","","","","","","",""]
["","","","","","","","","","","","","","","","","",""]
["","","","","","","","","","","","","","","","","",""]
["","","","","","","","","","","","","","","","","",""]
["","","","","","","","","","","","","","","","","",""]
["","","","","","","","","","","","","","","","","",""]
["","","","","","","","","","","","","","","","","",""]
["","","","","","","","","","","","","","","","","",""]
["","","","","","","","","","","","","","","","","",""]
["","","","","","","","","","","","","","","","","",""]
["","","","","","","","","","","","","","","","","",""]
["","","","","","","","","","","","","","","","","",""]
["","","","","","","","","","","","","","","","","",""]
["","","","","","","","","","","","","","","","","",""]
["","","","","","","","","","","","","","","","","",""]
["","","","","","","","","","","","","","","","","",""]
["","","","","","","","","","","","","","","","","",""]
["","","","","","","","","","","","","","","","","",""]
["","","","","","","","","","","","","","","","","",""]
["","","","","","","","","","","","","","","","","",""]
["","","","","","","","","","","","","","","","","",""]
["","","","","","","","","","","","","","","","","",""]
["","","","","","","","","","","","","","","","","",""]
["","","","","","","","","","","","","","","","","",""]
["","","","","","","","","","","","","","","","","",""]
["","","","","","","","","","","","","","","","","",""]
["","","","","","","","","","","","","","","","","",""]
["","","","","","","","","","","","","","","","","",""]
["","","","","","","","","","","","","","","","","",""]
["","","","","","","","","","","","","","","","","",""]
["","","","","","","","","","","","","","","","","",""]
["","","","","","","","","","","","","","","","","",""]
["","","","","","","","","","","","","","","","","",""]
["","","","","","","","","","","","","","","","","",""]
["","","","","","","","","","","","","","","","","",""]
["","","","","","","","","","","","","","","","","",""]
["","","","","","","","","","","","","","","","","",""]
["","","","","","","","","","","","","","","","","",""]
["","","","","","","","","","","","","","","","","",""]
["","","","","","","","","","","","","","","","","",""]
["","","","","","","","","","","","","","","","","",""]
["","","","","","","","","","","","","","","","","",""]
["","","","","","","","","","","","","","","","","",""]
["","","","","","","","","","","","","","","","","",""]
["","","","","","","","","","","","","","","","","",""]
["","","","","","","","","","","","","","","","","",""]
["","","","","","","","","","","","","","","","","",""]
["","","","","","","","","","","","","","","","","",""]
["","","","","","","","","","","","","","","","","",""]
["","","","","","","","","","","","","","","","","",""]
["","","","","","","","","","","","","","","","","",""]
["","","","","","","","","","","","","","","","","",""]
["","","","","","","","","","","","","","","","","",""]
["","","","","","","","","","","","","","","","","",""]
["","","","","","","","","","","","","","","","","",""]
["","","","","","","","","","","","","","","","","",""]
["","","","","","","","","","","","","","","","","",""]
["","","","","","","","","","","","","","","","","",""]
["","","","","","","","","","","","","","","","","",""]
["","","","","","","","","","","","","","","","","",""]
["","","","","","","","","","","","","","","","","",""]
["","","","","","","","","","","","","","","","","",""]
["","","","","","","","","","","","","","","","","",""]
["","","","","","","","","","","","","","","","","",""]
["","","","","","","","","","","","","","","","","",""]
["","","","","","","","","","","","","","","","","",""]
["","","","","","","","","","","","","","","","","",""]
["","","","","","","","","","","","","","","","","",""]
["","","","","","","","","","","","","","","","","",""]
["","","","","","","","","","","","","","","","","",""]
["","","","","","","","","","","","","","","","","",""]
["","","","","","","","","","","","","","","","","",""]
["","","","","","","","","","","","","","","","","",""]
["","","","","","","","","","","","","","","","","",""]
["","","","","","","","","","","","","","","","","",""]
["","","","","","","","","","","","","","","","","",""]
["","","","","","","","","","","","","","","","","",""]
["","","","","","","","","","","","","","","","","",""]
["","","","","","","","","","","","","","","","","",""]
["","","","","","","","","","","","","","","","","",""]
["","","","","","","","","","","","","","","","","",""]
["","","","","","","","","","","","","","","","","",""]
["","","","","","","","","","","","","","","","","",""]
["","","","","","","","","","","","","","","","","",""]
["","","","","","","","","","","","","","","","","",""]
["","","","","","","","","","","","","","","","","",""]
["","","","","","","","","","","","","","","","","",""]
["","","","","","","","","","","","","","","","","",""]
["","","","","","","","","","","","","","","","","",""]
["","","","","","","","","","","","","","","","","",""]
["","","","","","","","","","","","","","","","","",""]
["","","","","","","","","","","","","","","","","",""]
["","","","","","","","","","","","","","","","","",""]
["","","","","","","","","","","","","","","","","",""]
["","","","","","","","","","","","","","","","","",""]
["","","","","","","","","","","","","","","","","",""]

{"sheet":"Distribution graph","index":46,"n_rows":3,"n_cols":2,"rows_kept":3,"cut":false,"hidden":false,"merged":[[0,1,0,17],[1,1,1,7],[2,1,2,17]]}
[null,"Practical Workplan towards Achieving Rabies Elimination"]
[]
[null,"Distribution of target activities per year"]

{"sheet":"Budget","index":47,"n_rows":4,"n_cols":1,"rows_kept":4,"cut":false,"hidden":true,"merged":[[1,0,1,9],[2,0,2,6],[3,0,3,9]]}
[]
["Practical Workplan towards Achieving Rabies Elimination"]
[]
[{"$f":"\"BUDGET\"&IF(ISBLANK('Country profile'!E3),\"\",\"   -  \")&'Country profile'!E3&IF(ISBLANK('Country profile'!K8),IF(ISBLANK('Country profile'!K13),\"\",\" - \"&'Country profile'!K13),\" - \"&'Country profile'!K8)","v":"BUDGET   -  Swaziland - 2018"}]